{"text_format":"1","workbook":"xlsx","n_sheets":17,"sheets":["New Prices","Release Notes","Instructions","Settings and Views","DropDowns","Bill of Materials","Project Management Report","Design Review Report","Standard Materials","Non Standard Materials","PR Verification","Current X-Mark Kits","Discontinued X-Mark Kits","Homoco Relay Racks","X-Mark Misc Boxes","Addresses","Material Groups"],"not_rendered":{"charts":0,"images":14,"macros":1,"external_links":3,"defined_names":487,"comments":2,"pivot_tables":0},"unopened":[],"bounds":{"document_bytes":16777216,"sheet_cells":100000,"rows_first":2000,"rows_last":500,"rows_between":2000,"halvings":0,"cell_chars":16384,"cell_head_chars":4096},"cells_cut":0,"cells_raw":0,"read":"whole","date_system":"1900"}

{"sheet":"New Prices","index":0,"n_rows":670,"n_cols":8,"rows_kept":670,"cut":false,"hidden":true,"merged":[]}
[]
[null,null,null,null,null,null,null,"GMB06810"]
[]
["blanket line#","info#","inrf#","old pr","new pr","Hi Copper","comments"]
[]
[7,1120,null,187.18,238.85]
[8,1121,null,53.66,53.66]
[12,1112,null,711.31,852.4]
[20,2001,null,125.34,130]
[21,2002,null,164.84,170]
[22,2003,null,82.75,85]
[23,2004,null,9.4499999999999993,10.62]
[24,2005,null,0.93,1.06]
[25,2006,null,1.92,1.98]
[26,2007,null,1.92,1.98]
[27,2008,null,3.69,3.83]
[28,2009,null,6.2,6.42]
[29,2010,null,12.56,13]
[30,2011,null,13.48,14.28]
[31,2012,null,2.98,2.98]
[32,2013,null,0.48,0.5]
[33,2014,null,6.85,6.89]
[34,2015,null,7.56,7.83]
[35,2016,null,2.0699999999999998,2.13]
[36,2017,null,1.1000000000000001,1.1000000000000001]
[37,2018,null,2.75,2.79]
[38,2019,null,0.56000000000000005,0.63]
[39,2020,null,0.56000000000000005,0.63]
[40,2021,null,1.1000000000000001,1.2]
[41,2022,null,1.05,1.03]
[42,2023,null,3.5,3.43]
[43,2024,null,4.3600000000000003,4.3499999999999996]
[44,2025,null,5,5.09]
[45,2026,null,13.5,14.7]
[46,2027,null,13.5,14.55]
[47,2028,null,1.4,1.45]
[48,2029,null,1.4,1.45]
[49,2030,null,1.75,1.82]
[50,2031,null,1.75,1.82]
[51,2032,null,7.39,7.65]
[52,2033,null,1.65,1.75]
[53,2034,null,3.15,3.3]
[54,2035,null,17.100000000000001,19.12]
[55,2036,null,18.29,20.440000000000001]
[56,2037,null,47.89,53.53]
[57,2038,null,50.25,56.17]
[58,2039,null,3.9,4]
[59,2040,null,0.33,0.35]
[60,2041,null,17.2,17.829999999999998]
[61,2043,null,23.45,30.35]
[62,2044,null,23.45,30.35]
[63,2045,null,16.78,18.75]
[64,2042,null,37.5,34.450000000000003]
[65,2046,null,3.48,3.49]
[66,2047,null,0.85,0.87]
[67,2048,null,1.2,1.24]
[68,2104,null,2.39,2.95]
[69,2114,null,24.7,27.05]
[70,2168,null,26.25,26.25]
[71,2169,null,5.36,6.25]
[73,2173,null,7.8,10]
[74,2171,null,5,5.85]
[75,2172,null,0.79,1.2]
[76,2349,null,0.74,0.74]
[77,2307,null,16.5,16.5]
[78,2341,null,17.75,17.75]
[79,2342,null,15.3,15.3]
[80,2343,null,16.5,16.5]
[81,2365,null,16.5,32.799999999999997]
[82,2362,null,17.75,36.75]
[83,2363,null,15.3,35.75]
[84,2364,null,16.5,44.4]
[85,2310,null,1.34,1.41]
[86,2351,null,5.76,10]
[87,2352,null,9.31,16.149999999999999]
[88,2353,null,17.350000000000001,19.850000000000001]
[89,2354,null,35.68,40.85]
[90,2355,null,9.0399999999999991,15.65]
[91,2356,null,70.86,70.86]
[92,2350,null,79.89,93.45]
[93,2357,null,3.65,3.65]
[94,2358,null,6.25,6.25]
[96,2360,null,25.36,29.35]
[97,2361,null,2.83,3.25]
[99,2473,null,0.73,2.57]
[101,2484,null,2.42,2.5299999999999998]
[102,2485,null,2.42,2.57]
[103,2486,null,2.62,2.72]
[104,2487,null,3.08,3.19]
[105,2488,null,3.65,3.73]
[106,2489,null,5.0999999999999996,5.39]
[107,2490,null,5.75,6.1]
[108,2491,null,8.24,8.5299999999999994]
[116,2475,null,6.13,6.38]
[117,2476,null,6.68,6.92]
[118,2477,null,7,7.55]
[119,2478,null,7.5,8.4499999999999993]
[120,2479,null,8.36,8.65]
[121,2480,null,10.29,10.66]
[122,2481,null,2.42,2.57]
[123,2482,null,2.62,2.72]
[124,2492,null,19.05,21.55]
[125,2493,null,19.899999999999999,22.5]
[126,2494,null,18.899999999999999,21.55]
[127,2495,null,19.75,22.5]
[128,3151,null,145,100.96]
[129,3152,null,125,86.55]
[130,3153,null,24.75,24.05]
[132,3155,null,25.66,25.05]
[133,3109,null,6.15,7.7]
[134,3110,null,4.3,5.15]
[135,3111,null,4.38,5.35]
[136,3112,null,6.25,7.75]
[137,3113,null,916.65,1536.85]
[138,3175,null,875,1098.95]
[139,3177,null,315,376.85]
[140,3178,null,55,56.65]
[141,3158,null,6.99,8.25]
[143,3127,null,5,7]
[145,3179,null,395.13,284.2]
[146,3180,null,29.58,29.25]
[147,3181,null,30.45,29.96]
[149,3148,null,14.13,15.33]
[150,3150,null,13.38,17.55]
[152,3167,null,68.900000000000006,71.650000000000006]
[153,3168,null,19,19]
[154,3169,null,3.25,3.25]
[156,3182,null,16.100000000000001,16.100000000000001]
[157,3176,null,14.67,29.85]
[158,3201,null,13.5,14.45]
[159,3202,null,14.6,15.15]
[160,3203,null,15.13,15.85]
[161,3256,null,13.5,16.3]
[162,3257,null,14.6,16.899999999999999]
[163,3258,null,15.13,17.46]
[164,3259,null,13.5,15.45]
[165,3260,null,15.56,16.149999999999999]
[166,3261,null,15.13,16.87]
[167,3262,null,16.47,17.46]
[168,3263,null,16.93,17.96]
[169,3264,null,17.39,18.46]
[170,3265,null,19,19.95]
[171,3266,null,21,21.91]
[172,3267,null,16.649999999999999,18.45]
[173,3268,null,17.5,19.45]
[174,3269,null,17.649999999999999,19.95]
[175,3270,null,19.18,21.42]
[176,3271,null,21.2,23.4]
[177,3290,null,15.75,18.2]
[178,3291,null,17,18.7]
[179,3292,null,17.649999999999999,19.2]
[180,3293,null,18,20.65]
[181,3294,null,19.25,22.64]
[182,3224,null,25,27.8]
[183,3225,null,25,27.8]
[184,3601,null,79.37,88.2]
[185,3602,null,80.37,89.3]
[186,3603,null,90,100]
[187,3604,null,86.85,96.5]
[188,3605,null,87.85,97.6]
[189,3606,null,90,100]
[190,3298,null,0.28000000000000003,0.65]
[191,3299,null,0.41,0.77]
[192,3302,null,21.9,26.8]
[193,3303,null,32,40.450000000000003]
[194,3304,null,0.85,1.2]
[195,3305,null,158.94999999999999,213.15]
[196,3307,null,0.25,0.36]
[197,3308,null,0.34,0.51]
[198,3311,null,72.98,98.4]
[199,3312,null,142.25,175.8]
[200,3401,null,4550,4855]
[201,3402,null,1850,2048]
[202,3444,null,17040,16971]
[203,3445,null,5024,4711]
[204,3446,null,2210,1285]
[205,3437,null,4100,3785]
[206,3403,null,1780,1807]
[207,3404,null,1350,1301]
[209,3406,null,640,615]
[210,3448,null,3717,3542]
[211,3450,null,4186,4175]
[212,3451,null,8372,8350]
[213,3452,null,8172,7253]
[214,3454,null,12789,11596]
[215,3418,null,3.3,3.3]
[216,3419,null,3.5,3.5]
[217,3434,null,19.75,16.75]
[218,3439,null,49.7,37.06]
[219,3420,null,17.399999999999999,21.45]
[220,3421,null,3.4,3.4]
[221,3422,null,5,5.42]
[222,3423,null,8.75,9.1999999999999993]
[223,3424,null,4.25,4.25]
[224,3425,null,12.8,13.08]
[225,3426,null,108,173.15]
[226,3427,null,28,37.6]
[227,3428,null,3328,3328]
[228,3429,null,19.5,19.5]
[229,3430,null,19.5,19.5]
[230,3438,null,12.8,13.08]
[231,3432,null,230,230]
[232,3433,null,49.75,52.08]
[233,3435,null,42,59.9]
[234,3436,null,74.5,97.75]
[235,3456,null,2.14,2.19]
[236,3457,null,4.12,4.22]
[237,3440,null,148,123.2]
[238,3502,null,0.36,0.64]
[239,3504,null,28.25,36.15]
[240,3541,null,0.49,0.69]
[241,3542,null,1.89,1.66]
[242,3543,null,0.38,0.45]
[243,3519,null,1.82,1.82]
[244,3520,null,0.79,0.79]
[245,3521,null,1.95,1.95]
[246,4101,null,1044.25,1359.75]
[248,4105,null,26.79,32.700000000000003]
[249,4106,null,1032.0999999999999,1461.95]
[250,4109,null,26.17,28.15]
[251,4110,null,19.53,22.15]
[252,4111,null,8.68,8.68]
[253,4227,null,7.65,10.75]
[254,4228,null,27.85,46.05]
[255,4229,null,2.0299999999999998,2.68]
[256,4230,null,31.45,52.08]
[257,4231,null,34.799999999999997,53.6]
[258,4232,null,34.06,54.4]
[259,4233,null,77,88.15]
[260,4234,null,36.17,56.8]
[261,4235,null,37.950000000000003,69.25]
[262,4236,null,50.13,81.650000000000006]
[263,4237,null,57.75,93.76]
[264,4238,null,98.94,155.30000000000001]
[265,4213,null,11.95,36.25]
[266,4214,null,1.75,1.75]
[267,4215,null,0.99,0.99]
[268,4216,null,1126.42,1582]
[270,4218,null,49.85,57.3]
[271,4219,null,25.5,25.5]
[272,4220,null,46.25,103.55]
[273,4221,null,43.24,43.24]
[274,4222,null,70,79.650000000000006]
[279,4301,null,299,322.48]
[280,4302,null,295,359.7]
[281,4305,null,97.83,109.77]
[282,4307,null,50.5,68.22]
[283,4309,null,60,77.319999999999993]
[284,4311,null,5.95,12.38]
[285,4323,null,9.8000000000000007,11.95]
[286,4324,null,5,11.7]
[287,4313,null,7.76,11.25]
[288,4314,null,175.5,227.38]
[289,4315,null,204.25,264.60000000000002]
[292,4321,null,15.43,23.33]
[293,4401,null,29.48,40.75]
[295,4403,null,33.17,40.4]
[297,4405,null,36.32,50.19]
[298,4406,null,50.98,70.41]
[299,4407,null,52.45,57.38]
[301,4409,null,56.95,62.3]
[303,4411,null,56.8,71.78]
[304,4412,null,68.33,83.66]
[305,4461,null,25,31.25]
[306,4462,null,28,40.42]
[311,4437,null,16.309999999999999,17.8]
[312,4438,null,15.48,18.100000000000001]
[313,4439,null,12.55,15.7]
[314,4440,null,15.98,18.38]
[315,4441,null,1.1000000000000001,1.3]
[316,4442,null,1.1000000000000001,1.3]
[317,4443,null,1.1000000000000001,1.3]
[318,4444,null,1.25,1.43]
[319,4445,null,1.35,1.55]
[320,4446,null,1.1000000000000001,1.3]
[321,4447,null,1.1000000000000001,1.3]
[322,4450,null,4.7,4.9000000000000004]
[323,4451,null,3.28,3.41]
[324,4452,null,1.9,2.06]
[325,4453,null,16.5,19.100000000000001]
[327,4455,null,18.2,21.21]
[328,4456,null,20,23.32]
[329,4457,null,22.64,31.76]
[330,4413,null,29.48,40.729999999999997]
[331,4414,null,32.409999999999997,40.4]
[333,4416,null,46.03,63.6]
[334,4417,null,50,62.3]
[336,4419,null,10.92,13.38]
[338,4420,null,15.52,15.81]
[340,4459,null,20.399999999999999,16.38]
[341,4460,null,26.26,18.36]
[342,4463,null,39.549999999999997,37.75]
[343,4464,null,40.5,41.4]
[344,4465,null,43.48,47.95]
[345,4466,null,51.73,57]
[346,4467,null,49.65,54.74]
[347,4468,null,56.66,65.02]
[348,4469,null,68.5,75.45]
[349,4470,null,9.0299999999999994,10.65]
[350,4471,null,95.68,82.8]
[351,4472,null,3.27,3.35]
[352,4473,null,6.84,3.45]
[353,4474,null,13.85,12.3]
[354,4704,null,8.31,4.3099999999999996]
[355,4705,null,9.24,5.62]
[356,4480,null,4.25,3.45]
[357,4481,null,3.85,3.15]
[358,4482,null,5.57,4.96]
[359,4483,null,67.45,72.3]
[360,4486,null,10.31,10]
[361,4487,null,3.2,3.4]
[362,4432,null,9.5,10.41]
[363,4488,null,1.25,1.96]
[364,4489,null,29.5,34.65]
[365,4490,null,3.15,3.3]
[366,4491,null,4.72,4.96]
[367,4492,null,6.3,6]
[368,4493,null,7.9,8.3000000000000007]
[369,4494,null,1.32,2.02]
[370,4495,null,9,4.6500000000000004]
[371,4496,null,10.6,10.08]
[372,4497,null,9.5,9.06]
[373,4498,null,4.0599999999999996,4.2699999999999996]
[374,4499,null,4.75,6.2]
[375,4701,null,5.9,19.75]
[377,4703,null,11,11.56]
[378,4505,null,20.69,25.5]
[379,4504,null,96,101]
[380,4652,null,33.85,36.5]
[381,4655,null,24,27.8]
[382,4602,null,925.9,1082.5]
[383,4604,null,133.80000000000001,162.65]
[384,4605,null,4.8499999999999996,5.38]
[385,4606,null,7.47,7.45]
[386,4607,null,24.8,37.549999999999997]
[387,4608,null,5,7.5]
[388,4609,null,5,7.5]
[389,4653,null,29.9,31.85]
[390,4650,null,96,110.9]
[392,4649,null,25,41]
[394,4616,null,1536.08,1237.5]
[395,4651,null,66.67,72]
[396,4617,null,614.95000000000005,600]
[399,4642,null,1245.3,1245.3]
[401,4644,null,917.65,1085]
[422,5201,null,165.48,176.25]
[423,5202,null,43.25,47.5]
[424,5203,null,366.67,385]
[425,5204,null,2.4500000000000002,2.56]
[426,5205,null,1009,1521.45]
[429,6103,null,0.26319999999999999]
[431,6201,null,7.19,6.03]
[434,6205,null,6.65,8.5500000000000007]
[436,6211,null,5.3,4.45]
[437,2474,null,3.49,2.57]
[438,9004,null,84.53,106.1]
[439,9005,null,31.65,41.99]
[440,6029,null,125.75,125.75]
[441,9006,null,96.85,114.75]
[442,9007,null,305.75,362.95]
[443,9028,null,711,748.25]
[444,9029,null,39.35,46.6]
[445,9030,null,25.35,30.35]
[446,9031,null,23.75,28.15]
[447,9032,null,106.14,128.55000000000001]
[448,9033,null,29.5,34.950000000000003]
[449,9034,null,60.49,73.3]
[450,9035,null,17.600000000000001,22.18]
[451,9036,null,113.5,135.88]
[452,9037,null,23,27.25]
[453,9038,null,53.13,63.65]
[454,9008,null,14.16,15.6]
[458,9013,null,0.55000000000000004,0.68]
[459,9014,null,280.39999999999998,288.35000000000002]
[460,9015,null,3.47,2.5]
[461,9016,null,3.47,2.5]
[462,9017,null,3.47,2.5]
[463,9018,null,3.47,2.5]
[465,9040,null,0.37,0.44]
[466,9041,null,0.88,1.0900000000000001]
[467,9025,null,0.43,0.45]
[468,9026,null,31.05,33]
[469,6203,null,10.95,11.25]
[470,6208,null,13.95,9.15]
[471,"0120","0120",15.75,24.6]
[472,"0104","0104",2.42,2.57]
[473,"0115","0115",3.66,3.83]
[474,"0105","0105",2.72,3.18]
[475,"0106","0106",3.65,3.73]
[476,"0107","0107",5,5.39]
[477,"0059","0059",139.69999999999999,179.15]
[478,"0082","0082",4.42,4.3499999999999996]
[479,"0047","0047",1.92,1.98]
[484,"0098","0098",0.28000000000000003,0.65]
[485,"0099","0099",0.41,0.77]
[486,"0100","0100",0.38,0.45]
[487,"0101","0101",1.46,1.46]
[488,"0103","0103",9,9]
[490,"0048","0048",5,5.08]
[491,"0051","0051",1.5,1.56]
[492,4612,null,1670,1747.05]
[494,8786,null,16.2,16.75]
[495,8787,null,17.45,17.899999999999999]
[496,8788,null,16.5,17.03]
[497,8789,null,17.7,18.190000000000001]
[498,8790,null,18,18.489999999999998]
[499,8792,null,18,18.489999999999998]
[500,8793,null,19.13,19.649999999999999,"removed"]
[501,8662,null,26.45,19.649999999999999]
[502,8661,null,2.72,3.19]
[503,4706,null,160.25,195.4]
[504,4707,null,232.6,283.64999999999998]
[505,3726,null,69.900000000000006,67.3]
[506,3727,null,59.9,57.7]
[507,3730,null,11.44,5.01]
[508,3731,null,5.85,6.12]
[509,3732,null,2.7,3.15]
[510,3733,null,10.19,5.81]
[511,4708,null,114.49,139.6]
[512,4709,null,110.14,134.32]
[514,4711,null,497.05,606.15]
[516,4713,null,157.49]
[517,4714,null,140.94999999999999]
[518,4715,null,268.5,327.45]
[519,4716,null,2.5,7.05]
[520,4718,null,508.35]
[521,4719,null,574.65,700.8]
[522,4721,null,256.10000000000002]
[523,4722,null,420.75,513.1]
[524,4830,null,1256.54,1532.35]
[525,4831,null,1074.79,1310.72]
[526,4833,null,1349.2,1645.36]
[527,4834,null,1155.3399999999999,1408.95]
[528,4723,null,1441.86,1737.18]
[529,4724,null,1216.3599999999999,1465.5]
[530,4726,null,10.06,12.12]
[531,4727,null,11.03,16.399999999999999]
[532,4728,null,1235.8499999999999]
[533,4729,null,1079.3,1300.3599999999999]
[534,4730,null,4.4800000000000004,5.4]
[536,4732,null,27.85,33.53]
[537,4733,null,41.3,50.35]
[538,4734,null,26.2,31.95]
[539,4735,null,10.06,12.26]
[540,4736,null,1388.61]
[541,4299,null,1102.8499999999999,1332.9]
[542,4199,null,61.9,107.45]
[543,2224,null,27.2,28.45]
[544,8657,null,26.8,32.700000000000003]
[545,2225,null,346.4,360.8]
[546,2226,null,98.65,102.9]
[547,2227,null,26.8,27.9]
[548,4518,null,4,4.4800000000000004]
[549,4515,null,48.7,43.6]
[550,4516,null,278.37,171.75]
[551,4511,null,266.18,258.97000000000003]
[552,8659,null,178.8]
[553,2049,null,37.5,39.5]
[554,8648,null,5.45,5.45]
[555,8649,null,6.25,6.25]
[556,8650,null,8.0500000000000007,8.0500000000000007]
[557,8651,null,5.9,5.9]
[558,8652,null,7,7]
[559,8653,null,10.8,10.8]
[560,8654,null,9.35,9.35]
[561,8655,null,10.25,10.25]
[562,8646,null,70.599999999999994,70.599999999999994]
[563,8645,null,976.5,976.5]
[564,4648,null,258.45,258.45]
[565,8647,null,111.99,100.8]
[567,8008,null,324.60000000000002,324.60000000000002]
[568,8009,null,160,160]
[569,2399,null,2.95,2.95]
[570,4656,null,1245,1368]
[571,4654,null,2745,2745]
[572,2228,null,185.7,192.5]
[573,2229,null,167.6,173.8]
[574,2230,null,112.45,124.95]
[575,2331,null,9.75,9.75]
[576,2332,null,1.7,1.7]
[577,2333,null,97.6,97.6]
[578,2334,null,53.55,53.55]
[579,2335,null,838.85,932.05]
[580,2336,null,156.5,173.9]
[581,2337,null,1836.73,2040.8]
[582,3184,null,255.18,179.15]
[583,3057,null,450,304.05]
[584,3058,null,29.55,27.65]
[585,2338,null,2.7,3.3]
[586,4737,null,2053.1799999999998,2503.87]
[587,4738,null,2368.71,2853.85]
[588,4740,null,5178.8599999999997,6315.7]
[589,4741,null,5912.84,7210.8]
[590,4743,null,7469.64,9109.32]
[591,4744,null,8519.15,10389.200000000001]
[594,4749,null,4382.8100000000004,3971.2]
[595,4750,null,4729.41,5767.57]
[597,4752,null,23.83,26.45]
[598,4753,null,128.5,167.82]
[599,4754,null,185.7,167.15]
[600,4755,null,159,185.7]
[602,4757,null,30.98,36.549999999999997]
[603,4758,null,1.89,1.89]
[604,4759,null,0.65,0.65]
[605,4760,null,3.46,3.46]
[606,4761,null,6.9,6.9]
[607,4762,null,114,114]
[608,4763,null,9.0500000000000007,9.0500000000000007]
[609,4764,null,37.229999999999997,50.25]
[611,4766,null,13.43,14.9]
[612,4767,null,81.66,90.68]
[613,4768,null,5.05,6.38]
[614,4769,null,70.25,77.069999999999993]
[615,4770,null,72.599999999999994,79.599999999999994]
[616,4771,null,83.15,91.21]
[617,4772,null,187.55,205.75]
[618,4814,null,89.5,99.05]
[619,4773,null,106.65,114.25]
[620,4774,null,129.85,129.85]
[621,4775,null,152.19999999999999,163.05000000000001]
[622,4776,null,212.66,212.66]
[623,4777,null,13.33,17.850000000000001]
[624,4778,null,2.33,3.1]
[625,4779,null,13.69,18.350000000000001]
[626,4780,null,1482.55,1568.82]
[627,4781,null,100.5,113.42]
[628,4782,null,53.75,59.48]
[629,4783,null,72.05,86.34]
[630,4784,null,30.05,33.25]
[631,4785,null,8.15,19.16]
[632,4788,null,7.68,227.85]
[633,4790,null,440.5,559.04999999999995]
[634,4823,null,1377,1551.25]
[635,4813,null,319.69,385.15]
[636,4816,null,118.52,144.53]
[637,2339,null,71.95,71.95]
[638,6206,null,5192]
[639,6210,null,5192]
[640,6105,null,67.2,32.950000000000003]
[641,6106,null,34.15,17.75]
[642,8801,null,4,3.63]
[643,8802,null,24.5,21.95]
[645,6207,null,1525]
[853,2359,null,4.5,4.5]
[854,3447,null,0.31,0.31]
[855,4792,null,634.30999999999995,773.55]
[856,4793,null,686.31,836.96]
[857,4795,null,2036.21,2483.1999999999998]
[858,4796,null,2263.16,2759.95]
[859,4798,null,5161.8900000000003,6294.98]
[860,4799,null,5797.79,7070.5]
[861,4801,null,7427.6,9058.0499999999993]
[862,4802,null,8290.4500000000007,10110.299999999999]
[863,4804,null,9506.66,11592.25]
[864,4805,null,10724.01,13078.06]
[865,4807,null,11602.17,14148.98]
[866,4808,null,13049.07,15913.5]
[867,4810,null,13699.88,16707.169999999998]
[868,4811,null,15374.13,18748.95]
[869,8791,null,19.13,19.649999999999999]
[872,4828,null,1739,2120.75]
[873,4818,null,772.35,941.9]
[874,4819,null,1705.23,2079.5500000000002]
[875,4820,null,1265.18,1332.9]
[876,4821,null,1126.42,1582.05]
[877,6202,null,1947]
[878,4520,null,48,48]
[879,2231,null,18.5,33.299999999999997]
[880,2232,null,93,113.4]
[882,"0001","0001",16.11,16.11]
[883,"0004","0004",278.3,278.3]
[885,7,7,55.55,56.55]
[886,"0010","0010",124.55,127.35]
[888,"0022","0022",222.22,222.22]
[889,"0037","0037",157.78,157.78]
[890,"0054","0054",2.75,24.6]
[891,"0210","0210",5.65,31.2]
[892,"0211","0211",11,37.25]
[893,"0212","0212",14,41.25]
[894,"0213","0213",22,49.3]
[895,"0087","0087",321.11,321.11]
[896,"0125","0125",7.5,24.6]
[897,"0114","0114",20]
[898,"4839","4839",193.59,236.08]
[899,4847,4847,193.59,236.08]
[900,4843,4843,193.59,236.08]
[901,4851,4851,193.59,236.08]
[902,4837,4837,157.49,192.06]
[904,4841,4841,157.49,192.06]
[906,"0014","0014",55.24]
[907,"0015","0015",43.06,57.4]
[908,7001,null,5.3,5.35]
[909,7002,null,90.45,90.45]
[910,7003,null,0.42,0.48]
[911,7004,null,0.81,0.89]
[912,8716,null,621.4,602.1]
[913,7005,null,45.88,45.88]
[914,7006,null,0.39,0.41]
[915,7007,null,2.98,2.98]
[916,7008,null,2.98,2.98]
[917,7009,null,2.98,2.98]
[918,7010,null,7.3,4.8499999999999996]
[919,7011,null,8.94,7.13]
[920,7012,null,8.49,3.1]
[921,7013,null,3.55,3.56]
[922,7014,null,2.02,2.15]
[923,7015,null,2.7,2.82]
[924,7016,null,1.52,1.21]
[925,7017,null,1.24,1.03]
[926,7018,null,9.4,9.4]
[927,7019,null,142.19999999999999,133.35]
[928,7020,null,142.19999999999999,133.35]
[929,7021,null,156.4,155.9]
[930,7022,null,156.4,155.9]
[931,7023,null,262.39999999999998,250]
[932,7024,null,262.39999999999998,250]
[933,7025,null,0.44,0.46]
[934,7026,null,557.5,595]
[935,7027,null,445.7,468]
[936,7028,null,2.95,4.49]
[937,7029,null,47.75,46.15]
[938,7030,null,7189.41,7189.41]
[939,7031,null,10071.49,10071.49]
[940,7032,null,14364.36,14364.36]
[941,7033,null,3418.54,3418.54]
[942,7034,null,5015.3900000000003,4647.88]
[943,7035,null,297.54000000000002,297.54000000000002]
[944,7036,null,657.77,657.77]
[945,7037,null,112.77,112.77]
[946,7038,null,210.32,210.32]
[947,7039,null,229.02,229.02]
[948,7040,null,23.51,23.51]
[949,7041,null,163.59,163.59]
[950,7042,null,111.7,111.7]
[951,7043,null,140.97,140.97]
[952,7044,null,640.78,640.78]
[953,7045,null,465.04,465.04]
[954,7046,null,719.2,719.2]
[]
[]
[]
["GMB07593",null,"High Copper Content"]
[1,2414,null,138.88,202.13,"X"]
[2,2415,null,138.88,202.13,"X"]
[3,2416,null,138.88,202.13,"X"]
[4,2417,null,57.99,105.88,"X"]
[5,2418,null,59.77,105.88,"X"]
[6,2419,null,59.77,105.88,"X"]
[7,2422,null,308,357,"X"]
[8,5101,null,0.38,0.81,"X"]
[9,5102,null,0.4,0.78,"X"]
[10,5103,null,0.55000000000000004,1.34,"X"]
[11,5104,null,0.98,2.52,"X"]
[12,5105,null,1.67,1.67,"X"]
[13,5106,null,2.4300000000000002,7.2,"X"]
[14,5107,null,4.91,13.65,"X"]
[15,5108,null,7.81,21.08,"X"]
[16,5109,null,9.9499999999999993,27.83,"X"]
[17,5110,null,14.67,40.81,"X"]
[18,5111,null,0.38,0.83,"X"]
[19,5112,null,0.71,1.6,"X"]
[20,5113,null,1.4,3.2,"X"]
[21,5114,null,2.94,6.02,"X"]
[22,5115,null,5.3,9.14,"X"]
[23,5116,null,8.9,16.11,"X"]
[24,6101,null,0.89880000000000004,1.1499999999999999,"X"]
[25,6102,null,0.21149999999999999,0.27500000000000002,"X"]
[26,"0095","0095",138.88,202.13,"X"]
[27,"0096","0096",59.77,105.88,"X"]
["end"]

{"sheet":"Release Notes","index":1,"n_rows":44,"n_cols":10,"rows_kept":44,"cut":false,"hidden":false,"merged":[[14,1,14,4],[9,0,11,9],[14,6,14,9]]}
[]
[]
[]
[]
[]
[]
[]
[]
[]
[{"$f":"\"Bill Of Materials \"&('Settings and Views'!B2)","v":"Bill Of Materials 6.9"}]
[]
[]
[]
[]
[null,"Document Version Control Table",null,null,null,null,"Template Version Control Table"]
[]
[null,"Version","Date","Change Author ","Comments",null,"Version","Date","Change Author ","Comments"]
[null,4.0999999999999996,"2009-02-25","M Daniel","GM NEC BOM Taken over  by Kyle M. Daniel",null,6,"2009-05-29","Kyle M. Daniel"]
[null,4.2,"2009-02-27","B Olley, L Kerber, K Daniel","Clean Up of Pricing, Descriptions, Unit of Measurement, Notes.  Sent to M. Katchever to add his input"]
[null,4.3,"2009-03-05","M Katchever, M Castile","Updated Item Description Names, added NIS Items Per M. Katchever"]
[null,4.4000000000000004,"2009-03-06","K Daniel","Updated X-Mark Kits and Hid the Pages Per Lynn Kerber's request"]
[null,4.5,"2009-03-10","K Daniel","Updated the Unit Cost from .04 Cents to .02 Cents, Changed Column Headers to match the GM Catalog Per Brian Olley's request"]
[null,4.5999999999999996,"2009-03-11","B Olley, L Kerber, K Daniel, M Katchever","Updated the Units of Measure, Manufacturers, Material Groups, and we Re-Catagorized the Material Items, Modified Supplier Group Drop Down"]
[null,4.7,"2009-03-12","K Daniel","Updated Wireless Enclosure Parts to Match Catalog Per Mark Katchever"]
[null,4.8,"2009-03-13","K Daniel","Updated Deletions of items"]
[null,4.9000000000000004,"2009-03-16","L Kerber, K Daniel","Added \"Standard\" and \"Non Standard\" Count Sheets (L Kerber), Added \"INFO\" and \"INFR\" to all applicable Supplier Part Numbers (J Kethe)"]
[null,5,"2009-03-30","K Daniel","NBI's BOM had mistakes, our Standard / Non Standard pages do not work properly. New NIS items didn't had Prices Calculation properly.  Sent Back to NBI"]
[null,5.0999999999999996,"2009-04-01","K Daniel","Made fixes to Standard / Non Standard Address links.  Made Name change on Non Standard Select Button. Added all of the Blanket Order #'s back in for every item.  They were deleted by NBI Solutions. Updated the \"Deliver To\" Drop down list to be in alphabetical order. Fixed a lot of the Electronics that were marked Physical (Something happened from NBI Solutions) Deleted Several more items.  Updated \"Instructions\" Worksheet. Updated Cover Page to reflect Version Changes. Deleted all fields pertaining to Estimator tool for all NIS Items. Updated Labor Duration fields. Updated the Items that need \"INFO\" in front of them."]
[null,5.2,"2009-04-06","K Daniel","BOM Ready for Testing"]
[null,5.3,"2009-04-16","K Daniel","Updated Material Filter Cells for most items"]
[null,5.4,"2009-04-20","K Daniel","Fixed All Material Filters"]
[null,5.5,"2009-05-13","K Daniel","Fixed changes to Instructions Page, Changed Select to Update on Standard Materials Page, Changed Select to Update on Non-Standard Materials Page. Gave INFO #'s to 4 Electronics Items (10104, 10144, 10177, 10178). Removed all of the NIS Items and made them Standard."]
[null,5.6,"2009-05-21","K Daniel","Fixed PM Report and Design Review Report from Horizontal Error"]
[null,5.7,"2009-05-27","C Fulton","Fixed issue regarding adding of NIS items not showing up on DRR or PMR"]
[null,6,"2009-05-29","K Daniel","Ready for Production BOM Uploaded to Estimator"]
[null,6.1,"2009-06-15","K Daniel","Update to Part Numbers"]
[null,6.2,"2010-01-06","K Daniel","Added INFO items 10184-10303. Updated all wireless to say dBi. Added note in Instructions reflecting the Cisco Electronics Bill rate discount. Changed all Wireless Antennas to Electronics with No Blanket Number"]
[null,6.3,"2010-03-15","K Daniel","Fixed Vlookup issue with sorting of Manufacturers. Also fixed item 0844-45KJ to proper part Number."]
[null,6.4,"2010-08-23","K Daniel","Made all DWC Kits part description say the actual Piece Parts for the Product. Added / Deleted Items. Changed ALL PRICES due to new blanket being awarded"]
[null,6.5,"2010-09-17","A Earle","Updated some part numbers, updated pricing on AP's, added an LWAP 1252 AP"]
[null,6.6,"2011-02-03","K Daniel","Changed Pricing on Items INFO-4813 and INFO-4816, Added Note \"need to use the CAB-RPS2300-E for connection to RPS 2300\" to all 3750v2 switches, Added Info 10328-10449.  Re-sorted Physical related Wireless items "]
[null,6.7,"2011-02-22","K Daniel","Fixed break on Standard and Non-Standard Materials Page."]
[null,6.8,"2011-02-24","K Daniel","Fixed break on Standard and Non-Standard Materials Page. Deleted Item 10070, Added Item 10315"]
[null,6.9,"2012-01-06","K Daniel","Added new items 10450 - 10516.  Deleted Items, Added New HP Electronic Sections with HP Electronics"]

{"sheet":"Instructions","index":2,"n_rows":212,"n_cols":5,"rows_kept":212,"cut":false,"hidden":false,"merged":[[213,0,213,1],[200,0,200,4],[202,0,202,1],[206,0,206,1],[210,0,210,1],[211,0,211,1],[176,0,176,4],[178,0,178,4],[182,0,182,4],[186,0,186,4],[198,0,198,4],[196,0,196,4],[190,0,190,4],[192,0,192,4],[194,0,194,4],[188,0,188,4],[180,0,180,4],[153,0,153,4],[155,0,155,4],[163,0,163,4],[157,0,157,4],[159,0,159,4],[161,0,161,4],[172,0,172,4],[183,0,183,4],[184,0,184,4],[170,0,170,4],[168,0,168,4],[166,0,166,4],[165,0,165,4],[174,0,174,4],[103,0,103,4],[113,0,113,4],[140,0,140,4],[150,0,150,4],[152,0,152,4],[102,0,102,4],[55,0,55,4],[58,0,58,4],[62,0,62,4],[63,0,63,4],[65,0,65,4],[66,0,66,4],[68,0,68,4],[95,0,95,4],[97,0,97,4],[99,0,99,4],[100,0,100,4],[54,0,54,4],[52,0,52,4],[0,0,0,4],[1,0,1,4],[5,0,5,4],[6,0,6,4],[7,0,7,4],[8,0,8,4],[23,0,23,4],[45,0,45,4],[47,0,47,4],[48,0,48,4],[50,0,50,4]]}
[{"$f":"\"Bill Of Materials \"&('Settings and Views'!B2)&\" Instructions\"","v":"Bill Of Materials 6.9 Instructions"}]
["The macros in this document are compatible with MS Excel 2000 and newer."]
["Enabling Excel Macros","Selecting Standard Materials","Grouping and Sorting the Bill of Materials","Adding and Selecting Non-Standard Materials","Editing Non-Standard Materials"]
["Importing Materials from another BOM Workbook","Viewing Reports","Standard Materials Purchase Request Form","Non-Standard Materials Purchase Request Form","Support Contacts"]
[]
["Enabling Excel Macros"]
["This instruction page is for online use only and is not to be printed."]
["Welcome to the NEC Bill of Materials and 2207 document generator.  These instructions will tell you all you need to know to correctly use this document.  First of all, in order for the workbook’s macros to run and generate its reports for you, Excel must be set to allow macros."]
["When Excel opens, you may get a message box similar to the one below."]
[]
[]
[]
[]
[]
[]
[]
[]
[]
[]
[]
[]
[]
[]
["If you do, click Enable Macros, which allows all of the workbook’s macros to run.  If you get a message similar to the one displayed below, you will need to follow the message box’s instructions to enable the workbook’s macros."]
[]
[]
[]
[]
[]
[]
[]
[]
[]
[]
[]
[]
[]
[]
[]
[]
[]
[]
[]
[]
[]
["Once macros are enabled, you are ready to start using the document."]
[]
["Selecting Standard Materials"]
["Once you are ready to begin selecting materials for your project, click the “Bill of Materials” tab in the workbook.  This worksheet contains the complete catalog of standard materials for the NEC’s projects.  To find an item you must first select the entire sheet by either pressing Ctrl-A."]
[]
["You will notice that most data columns on the materials page are grey.  These fields are read-only. Writable fields are white.  These fields are Quantity, Spare Quantity, Project Specific Notes, and Deliver To.  Please note that you may not include Spare Quantities without standard Quantities (the application will not recognize these entries).  (Note: If you wish to change the \"Deliver To\",  you may do so by selecting the items \"Deliver To\" cell and use the dropdown list to select the desired location)"]
[]
["Note: For Cisco Electronics the price of an item is just a guideline.  Electronic items still need to have a quote sent out.  The rate that this BOM reflects is currently at 52% discount."]
[]
["Grouping and Sorting the Bill of Materials"]
["By default, the Bill of Materials will look similar to the example below.  It will have sections divided by material group sub headers, followed by the materials that have been designated in their containing category section."]
[]
["Supplier Part Number (INFO)","BO Seq #","Qty.","Spare Qty","Item Description"]
["Copper and Fiber Cabling Test Equipment"]
[1112,"12",null,null,"Optical fiber talk set, MM"]
[1120,"00007",null,null,"Motorola 2 watt 2 channel radio"]
[]
["If you want to remove the section sub headers, you may.  This will also give you the ability to sort the Bill of Materials by ANY column by double clicking the BOM column headers.  If you want to turn off the material groups (sub headers), select the \"Settings and Views\" worksheet, and select \"FALSE\" in the \"Show Items in Categories\" field.  Then, for example, if you want to sort by Supplier Part Number (INFO), double click the word \"Supplier Part Number (INFO)\" at the top of the Part Number column on the Bill of Materials tab."]
["There is also new dropdown on the Settings and Views tab that is used to filter out legacy items. If you select \"True\" Legacy items will appear in the BOM. If you select \"False\" they will be hidden from view. NOTE: Selecting \"False\" will not remove the items from a BoM, and if they are selected they will still appear on a 2207 form."]
[]
["Adding and Selecting Non-Standard Materials"]
["On the “Bill of Materials” worksheet, there are also 2 buttons: “New” and “Import”."]
[]
["The “New” button is used for inserting NON STANDARD material items to your copy of the Bill of Materials.  Clicking the “New” button will display the following form for you to fill out:"]
[]
[]
[]
[]
[]
[]
[]
[]
[]
[]
[]
[]
[]
[]
[]
[]
[]
[]
[]
[]
[]
[]
[]
[]
[]
[]
["Fill out the fields as best as you can.  A few fields are marked as \"required\", Description, Material Category, Material Type, and Deliver To.  Note that while you are allowed to have very little information, leaving too much out will effect how your 2207s are generated.  For example, If you do not include a Supplier Part Number (INFO) in this case it would be NIS, then the Part Number field on the 2207 to be submitted will be blank, thus making it invalid.  Be sure to get all of the information before submitting 2207 PR forms."]
[]
["Once you have finished filling out the form, click “Save” to add the item to your copy of the Bill of Materials, or click Cancel to exit the form. NOTE: If the Manufacturer of the item you are trying to add is not in the list you can add it by selecting the \"Other\" Box and entering the manufacturers name in the textbox below the list."]
[]
["Editing Non-Standard Materials"]
["Once you have added a non-standard entry in the Bill of Materials, you may edit it at any time during the life of the document.  To edit a material item, double-click the item's INFO.  This will display the \"Edit Material Item\" form, which will be populated with all of the data from the item you selected.  Note that you will only be allowed to edit non-standard entries this way. Double-clicking a standard material item's INFO will bring up a password box.  Please close out of this box immediately,  This is for Administrator use ONLY."]
[]
["Importing Materials from another BOM Workbook"]
["On the “Bill of Materials” worksheet, there is also a button labeled, “Import”.  This button will allow you to select another copy of the Bill of Materials document and import all items from that target Bill of Materials document to your own.  Clicking “Import” will display the following form:"]
[]
[]
[]
[]
[]
[]
[]
[]
[]
["Click “Select BOM Source” to bring up another form, a Windows Explorer form:"]
[]
[]
[]
[]
[]
[]
[]
[]
[]
[]
[]
[]
[]
[]
[]
[]
[]
[]
[]
[]
[]
[]
[]
[]
[]
[]
["This form will allow you to browse your computer (as well as network drives, Network Places, etc.) to locate the Bill of Materials document you want to import materials from.  Once you select your source Bill of Materials document, clicking “Open” will return you to the previous form, with the text box populated with the full file path to your selected document:"]
[]
[]
[]
[]
[]
[]
[]
[]
[]
["When you are ready to import the materials from the selected Bill of Materials document, click the “Import Materials” button.  This will do two things.  It will adjust the quantities of existing materials in your Bill of Materials workbook, overwriting the Spare Quantity field with a static number if the source document’s material Spare Quantity field was overwritten (if it was not overwritten in the source document, then the formula will remain unchanged).  It will also add any non-standard materials that exist in the source document, but do not exist in your Bill of Materials workbook, to your document, complete with Quantity and Spare Quantity information.  Items added this way will be permanently retained in your workbook, and will be treated just like any other materials item with the exception that their Material Category field will say “non-standard”."]
[]
["Viewing Reports"]
["There are 4 reports provided with the Bill of Materials document which are contained in the following worksheets: “Design Review Report”, “Project Management Report”, \"Standard Materials\", and \"Non Standard Materials\".  All of your specific Report tabs are highlighted in Yellow.  Each report has a specific purpose / function."]
[]
["Project Management Report Tab: Viewing this report’s worksheet will trigger its population with the newest information provided by the “Bill of Materials” worksheet.  The Project Management report contains no further filtering or display options. It's Primary Function is to give the Project Manager a clear breakdown of the total cost of materials (whether Physical, Electronics, or both) for the entire project."]
[]
["Design Review Report Tab: Contains a drop down list to filter the displayed materials into the groups: Physical Materials, Electronic Materials, and All Materials.  This filtering is to provide Design Reviewers with the ability to only show the materials they care about, therefore reducing printed pages.  To adjust the filtered items, select the desired setting in the “Material Display” drop down list and the worksheet will automatically display the item types that you selected."]
[]
["Standard Materials Report Tab: This tab will be used in place of the previous 2207 process.  This tab will show only \"Physical\" \"Standard Materials\" chosen previously on the \"Bill of Materials\" tab.  This tab will be the breakdown that is necessary for the GM NEC Finance personnel to send downtown.  "]
[]
["NOT APPLICABLE AT THIS TIME: Non Standard Materials Report Tab: This tab will be used in place of the previous 2207 process.  This tab will show only \"Physical\" \"Non Standard Materials\" chosen previously on the \"Bill of Materials\" tab.  This tab will be the breakdown that is necessary for the GM NEC Finance personnel to send downtown.  "]
[]
["To change the values of the Design Type, Design Review Date, Project Number, Project Name, and Shipping Information go to the Settings and Views page.  This will change the values on all of the applicable Reports (only Standard and Non Standard show the Shipping Information.)  The Designer and LAN/CAN values are set only the Design Review page itself."]
[]
["Standard Materials Purchase Request Form"]
["Step 1: Refresh the page by clicking the \"Update\" button"]
[]
["Step 2: Right Click the \"Standard Materials\" tab then select \"Move or Copy\""]
[]
["Step 3: In the First Drop Down box select \"New Book\""]
[]
["Step 4: Put a check mark in the \"Create a Copy\" box "]
[]
["Step 5: Click the \"Ok\" Button"]
[]
["You should see a New Workbook open up.  Save this workbook in your PR folder and name the file R#_S_PRxxx.  Example R02590_S_PR001"]
[]
["The \"S\" stands for Standard.  The xxx's will be the next numeric number, and the R# should be the R# for the Project."]
[]
["This new workbook will be then be sent to Brian Olley for approval.  Please send Brian a separate email for each PR generated"]
[]
["Non-Standard Materials Purchase Request Form"]
["NOT APPLICABLE AT THIS TIME"]
["Step 1: Refresh the page by clicking the \"Update\" button"]
[]
["Step 2: Right Click the \"Non Standard Materials\" tab then select \"Move or Copy\""]
[]
["Step 3: In the First Drop Down box select \"New Book\""]
[]
["Step 4: Put a check mark in the \"Create a Copy\" box "]
[]
["Step 5: Click the \"Ok\" Button"]
[]
["You should see a New Workbook open up.  Save this workbook in your PR folder and name the file R#_N_PRxxx.  Example R02591_N_PR001"]
[]
["The \"N\" stands for Non Standard.  The xxx's will be the next numeric number, and the R# should be the R# for the Project."]
[]
["This new workbook will be then be sent to Brian Olley for approval.  Please send Brian a separate email for each PR generated"]
[]
["Support Contacts"]
[]
["Contact Type",null,"Name","Phone","Email"]
["Bill of Material Issues",null,"Kyle M. Daniel","(248) 577-1641","kyle.daniel@gm.com"]
[]
["Product Specific Issues"]
["Element Owner (Physical)",null,"Neil Norat","(248) 577-1655","neil.norat@eds.com"]
["Element Owner (Physical)",null,"Kyle M. Daniel","(248) 577-1641","kyle.daniel@gm.com"]
["Element Owner (Wireless)",null,"Aaron Earle","(248) 577-1658","aaron.earle@gm.com"]
["Element Owner (Wireless)",null,"Steven Deboutte","(248) 577-1650","steve.deboutte@gm.com"]
["Element Owner (Electronics / EDS)",null,"Michael J. Daniel","(248) 577-1721","michael.j.daniel@gm.com"]
["Element Owner (Electronics / EDS)",null,"Marc Schrenk","(248) 577-1637","marcus.schrenk@gm.com"]

{"sheet":"Settings and Views","index":3,"n_rows":25,"n_cols":4,"rows_kept":25,"cut":false,"hidden":false,"merged":[[0,4,23,4],[0,0,0,3],[3,2,3,3],[11,2,11,3],[19,2,19,3],[16,0,16,3],[1,1,1,3]]}
["Settings and Views"]
["Bill of Materials Version:","6.9"]
["Project Name:","[Project Name]"]
["Project Number:","[Rnum]"]
["Shipping Address1"]
["Shipping Address2"]
["Shipping City"]
["Shipping State"]
["Shipping ZIP"]
["Design Type:","[Design]"]
["Design Review Date:"]
["Show Items in Categories:",true]
["Export Color",null,null,false]
["Delete Color"]
["Default Item Color"]
["Export Error Color"]
[]
[]
[]
[null,null,"Current Settings"]
[null,null,"Group Categories",false]
[null,null,"Current Bill of Materials Sort Column","Supplier Id"]
[null,null,"Current Bill of Materials Sort Order","Ascending"]
[null,null,"Current BOM Item Being Edited",0]
[null,null,null,{"$f":"SUM('Bill of Materials'!AE:AE)","v":0}]

{"sheet":"DropDowns","index":4,"n_rows":99,"n_cols":23,"rows_kept":99,"cut":false,"hidden":true,"merged":[]}
["PR Types","Ship Codes","Olympic Locations","Tax Codes","Tax Code Descriptions","Tax Code Full Name","Unit of Measure Abreviation","Unit of Measure Description","Yes/No","Hazardous Material","Deliver To","Manufacturer ID","Manufacturers","ManufacturerVersion","Supplier ID","Suppliers","SupplierVersion","Internal Control Version","FilterID","Filter","FilterVersion",null,"Blankets"]
["[Select]","[Select]","[Select]","[Select]","[Select]","[Select]","[Select]","[Select]","[Select]","[Select]","DWC",1,"3M","0.0.0.0.0.166.47.128",1,"DWC","0.0.0.0.0.166.47.226",57,0,"<None>","0.0.0.0.0.166.47.93",null,"None"]
["RELEASE","Other","BC - GMPT - Bay City","A"," SUBJECT TO TAX. ADD TO INV.   ",{"$f":"CONCATENATE(D3, \"  \",E3)","v":"A   SUBJECT TO TAX. ADD TO INV.   "},"ASM","ASSEMBLY","Yes","Yes - HMA#/FID# Required","NEC",2,"AFL","0.0.0.0.0.166.47.129",2,"HP","0.0.0.0.0.166.47.227",null,1,"Electronics","0.0.0.0.0.166.47.94",null,7593]
["SPOT BUY","AT1","HW - GMPT - Willow Run","B"," REFER TO NOTES ON PROPOSAL    ",{"$f":"CONCATENATE(D4, \"  \",E4)","v":"B   REFER TO NOTES ON PROPOSAL    "},"BAG","BAGS","No","No","Site",3,"Allen Bradley","0.0.0.0.0.166.47.130",3,null,"0.0.0.0.0.166.47.228",null,2,"Horizontal","0.0.0.0.0.166.47.95",null,6810]
["MBO","AT3","TC - OLIMPIC Site","C","DO NOT BILL.  DIRECT PAY.     ","C  DO NOT BILL.  DIRECT PAY.     ","BOX","BOX",null,null,null,4,"Altech Corp.","0.0.0.0.0.166.47.131",4,null,"0.0.0.0.0.166.47.229",null,3,"Physical","0.0.0.0.0.166.47.96"]
["ALTERATION-SPOT BUY","C78","TK - OLIMPIC Site","D","DO NOT BILL.  PAY ON USAGE    ","D  DO NOT BILL.  PAY ON USAGE    ","CASE","CASE",null,null,null,5,"Altelicon","0.0.0.0.0.166.47.132",5,null,"0.0.0.0.0.166.47.230",null,4,"Video","0.0.0.0.0.166.47.97"]
["ALTERATION-RELEASE","CPM","GM - Detroit GM World HQ Staffs","E","EXEMPT - RESALE.              ","E  EXEMPT - RESALE.              ","EA","EACH",null,null,null,6,"Amer Elec","0.0.0.0.0.166.47.133",6,null,"0.0.0.0.0.166.47.231",null,5,null,"0.0.0.0.0.166.47.98"]
["ALTERATION-OTHER","CWP","OC - Oklahoma City Assembly","F","EXEMPT - INDUSTRIAL PROCESS   ","F  EXEMPT - INDUSTRIAL PROCESS   ","FT","FEET",null,null,null,7,"APC","0.0.0.0.0.166.47.134",7,null,"0.0.0.0.0.166.47.232",null,6,null,"0.0.0.0.0.166.47.99"]
["PR/PO DELETION","CWW","ON - OnStar","G","EXEMPT - INTERSTATE COMMERCE  ","G  EXEMPT - INTERSTATE COMMERCE  ","KIT","KIT",null,null,null,8,"Arnco","0.0.0.0.0.166.47.135",8,null,"0.0.0.0.0.166.47.233",null,7,null,"0.0.0.0.0.166.47.100"]
["PA","D00","OR - Orion Assembly","H","EXEMPT - OTHER                ","H  EXEMPT - OTHER                ","LABOR","LABOR",null,null,null,9,"Belden","0.0.0.0.0.166.47.136",9,null,"0.0.0.0.0.166.47.234",null,8,"Horizontal Bundle","0.0.0.0.0.166.47.101"]
["MBO/PA","D01","OS - Oshawa","J","SUBJECT TO FEDERAL EXCISE TAX.","J  SUBJECT TO FEDERAL EXCISE TAX.","REEL","REEL",null,null,null,10,"Berk-Tek","0.0.0.0.0.166.47.137",10,null,"0.0.0.0.0.166.47.235",null,9,null,"0.0.0.0.0.166.47.102"]
[null,"D02","PB - GMPT - Bedford","N","ARLINGTON TAX CODE","N  ARLINGTON TAX CODE",null,null,null,null,null,11,"Brady","0.0.0.0.0.166.47.138",11,null,"0.0.0.0.0.166.47.236",null,10,null,"0.0.0.0.0.166.47.103"]
[null,"D03","PD - GMPT - Defiance",null,null,null,null,null,null,null,null,12,"Bridgeport","0.0.0.0.0.166.47.139",12,null,"0.0.0.0.0.166.47.237",null,11,null,"0.0.0.0.0.166.47.104"]
[null,"D04","PE - Pontiac Assembly",null,null,null,null,null,null,null,null,13,"Cable Prep","0.0.0.0.0.166.47.140",13,null,"0.0.0.0.0.166.47.238",null,12,null,"0.0.0.0.0.166.47.105"]
[null,"D05","PL - GMPT - TBD",null,null,null,null,null,null,null,null,14,"Cable, Professional ","0.0.0.0.0.166.47.141",14,null,"0.0.0.0.0.166.47.239",null,13,null,"0.0.0.0.0.166.47.106"]
[null,"D06","PV - GMPT - Flint Engine South",null,null,null,null,null,null,null,null,15,"Cablofil","0.0.0.0.0.166.47.142",15,null,"0.0.0.0.0.166.47.240",null,14,null,"0.0.0.0.0.166.47.107"]
[null,"D07","TA - GMPT - Tonawanda",null,null,null,null,null,null,null,null,16,"Carlon","0.0.0.0.0.166.47.143",16,null,"0.0.0.0.0.166.47.241",null,15,null,"0.0.0.0.0.166.47.108"]
[null,"D08","WA - GMPT - Warren Trans",null,null,null,null,null,null,null,null,17,"Circa","0.0.0.0.0.166.47.144",17,null,"0.0.0.0.0.166.47.242",null,16,null,"0.0.0.0.0.166.47.109"]
[null,"D09","WF - World Wide Facilities",null,null,null,null,null,null,null,null,18,"Cisco","0.0.0.0.0.166.47.145",18,null,"0.0.0.0.0.166.47.243",null,17,null,"0.0.0.0.0.166.47.110"]
[null,"D10","WH - Pontiac Metal Fab",null,null,null,null,null,null,null,null,19,"CommScope","0.0.0.0.0.166.47.146",19,null,"0.0.0.0.0.166.47.244",null,18,null,"0.0.0.0.0.166.47.111"]
[null,"D11","YT - GMPT - Ypsi Trans",null,null,null,null,null,null,null,null,20,"Cooper B-Line","0.0.0.0.0.166.47.147",20,null,"0.0.0.0.0.166.47.245",null,19,null,"0.0.0.0.0.166.47.112"]
[null,"D12","01 - SPO HDQ",null,null,null,null,null,null,null,null,21,"CZ Lab","0.0.0.0.0.166.47.148",21,null,"0.0.0.0.0.166.47.246",null,20,null,"0.0.0.0.0.166.47.113"]
[null,"D13","03 - SPO St Louis",null,null,null,null,null,null,null,null,22,"Datatel","0.0.0.0.0.166.47.149",22,null,"0.0.0.0.0.166.47.247",null,21,null,"0.0.0.0.0.166.47.114"]
[null,"D14","04 - SPO Minneap.",null,null,null,null,null,null,null,null,23,"DWC","0.0.0.0.0.166.47.150",23,null,"0.0.0.0.0.166.47.248",null,22,null,"0.0.0.0.0.166.47.115"]
[null,"D15","09 - SPO Cincin.",null,null,null,null,null,null,null,null,24,"Electro-Matic","0.0.0.0.0.166.47.151",null,null,null,null,23,null,"0.0.0.0.0.166.47.116"]
[null,"D16","10 - SPO Denver",null,null,null,null,null,null,null,null,25,"Elmor","0.0.0.0.0.166.47.152",null,null,null,null,24,null,"0.0.0.0.0.166.47.117"]
[null,"D17","19 - SPO Portland",null,null,null,null,null,null,null,null,26,"Endot","0.0.0.0.0.166.47.153",null,null,null,null,25,null,"0.0.0.0.0.166.47.118"]
[null,"D18","20 - SPO LA",null,null,null,null,null,null,null,null,27,"Erico-Caddy","0.0.0.0.0.166.47.154",null,null,null,null,26,null,"0.0.0.0.0.166.47.119"]
[null,"D20","26 - SPO Jacksonville",null,null,null,null,null,null,null,null,28,"FCI-Burndy","0.0.0.0.0.166.47.155",null,null,null,null,27,null,"0.0.0.0.0.166.47.120"]
[null,"D33","32 - SPO Boston",null,null,null,null,null,null,null,null,29,"Fiber Instruments","0.0.0.0.0.166.47.156",null,null,null,null,28,null,"0.0.0.0.0.166.47.121"]
[null,"D45","40 - SPO Philadelphia",null,null,null,null,null,null,null,null,30,"Fluke","0.0.0.0.0.166.47.157",null,null,null,null,29,null,"0.0.0.0.0.166.47.122"]
[null,"D50","42 - SPO Reno",null,null,null,null,null,null,null,null,31,"Garvin","0.0.0.0.0.166.47.158",null,null,null,null,30,null,"0.0.0.0.0.166.47.123"]
[null,"EN1","50 - SPO Martinsburg",null,null,null,null,null,null,null,null,32,"GE","0.0.0.0.0.166.47.159",null,null,null,null,31,null,"0.0.0.0.0.166.47.124"]
[null,"HDQ","75 - SPO Pontiac",null,null,null,null,null,null,null,null,33,"Gilbert","0.0.0.0.0.166.47.160",null,null,null,null,32,null,"0.0.0.0.0.166.47.125"]
[null,"HW1","76 - SPO Lansing",null,null,null,null,null,null,null,null,34,"Hammond","0.0.0.0.0.166.47.161",null,null,null,null,33,null,"0.0.0.0.0.166.47.126"]
[null,"I01","78 - SPO Drayton",null,null,null,null,null,null,null,null,35,"Harger","0.0.0.0.0.166.47.162",null,null,null,null,34,null,"0.0.0.0.0.166.47.127"]
[null,"L01","87 - SPO Willow Run",null,null,null,null,null,null,null,null,36,"Hellermann Tyton","0.0.0.0.0.166.47.163"]
[null,"MPC","89 - SPO FT Worth",null,null,null,null,null,null,null,null,37,"Homaco","0.0.0.0.0.166.47.164"]
[null,"NAC",null,null,null,null,null,null,null,null,null,38,"Honeywell","0.0.0.0.0.166.47.165"]
[null,"NCZ","BC",null,null,null,null,null,null,null,null,82,"HP","0.0.0.0.0.166.47.166"]
[null,"OI","HW",null,null,null,null,null,null,null,null,39,"Hubbell","0.0.0.0.0.166.47.167"]
[null,"OS2","TC",null,null,null,null,null,null,null,null,40,"HyperLink/L-Com","0.0.0.0.0.166.47.168"]
[null,"PRE","TK",null,null,null,null,null,null,null,null,41,"Ilsco","0.0.0.0.0.166.47.169"]
[null,"PG1","GM",null,null,null,null,null,null,null,null,80,"Infinite Cable","0.0.0.0.0.166.47.170"]
[null,"PTW","OC",null,null,null,null,null,null,null,null,42,"ITWLINX Communications Products","0.0.0.0.0.166.47.171"]
[null,"REN","ON",null,null,null,null,null,null,null,null,43,"Leviton","0.0.0.0.0.166.47.172"]
[null,"RES","OR",null,null,null,null,null,null,null,null,44,"Lucent","0.0.0.0.0.166.47.173"]
[null,"S01","OS",null,null,null,null,null,null,null,null,45,"McLean","0.0.0.0.0.166.47.174"]
[null,"S02","PB",null,null,null,null,null,null,null,{"$f":"VLOOKUP(\"Replace\",M2:M97,2,FALSE)","v":{"$error":"#N/A"}},46,"Mid Atlantic","0.0.0.0.0.166.47.175"]
[null,"S06","PD",null,null,null,null,null,null,null,null,47,"Motorola","0.0.0.0.0.166.47.176"]
[null,"S23","PE",null,null,null,null,null,null,null,null,48,"Mulberry","0.0.0.0.0.166.47.177"]
[null,"S34","PL",null,null,null,null,null,null,null,null,49,"Nelson","0.0.0.0.0.166.47.178"]
[null,"S39","PV",null,null,null,null,null,null,null,null,50,"NetBotz","0.0.0.0.0.166.47.179"]
[null,"S41","TA",null,null,null,null,null,null,null,null,51,"Newton","0.0.0.0.0.166.47.180"]
[null,"S48","WA",null,null,null,null,null,null,null,null,52,"Nokia","0.0.0.0.0.166.47.181"]
[null,"S51","WF",null,null,null,null,null,null,null,null,53,"Noyes","0.0.0.0.0.166.47.182"]
[null,"S72","WH",null,null,null,null,null,null,null,null,54,"ONEAC","0.0.0.0.0.166.47.183"]
[null,"S92","YT",null,null,null,null,null,null,null,null,55,"Onepathnet","0.0.0.0.0.166.47.184"]
[null,"S99",1,null,null,null,null,null,null,null,null,79,"Ortronics","0.0.0.0.0.166.47.185"]
[null,"SBO",3,null,null,null,null,null,null,null,null,56,"OZ Gedney","0.0.0.0.0.166.47.186"]
[null,"SRV",4,null,null,null,null,null,null,null,null,57,"Panduit","0.0.0.0.0.166.47.187"]
[null,"TL",9,null,null,null,null,null,null,null,null,58,"Polywater","0.0.0.0.0.166.47.188"]
[null,"WA1",10,null,null,null,null,null,null,null,null,59,"RackBotz","0.0.0.0.0.166.47.189"]
[null,"WX1",19,null,null,null,null,null,null,null,null,60,"Satellite Tracking Systems","0.0.0.0.0.166.47.190"]
[null,"YT1",20,null,null,null,null,null,null,null,null,61,"Senior Industries","0.0.0.0.0.166.47.191"]
[null,null,26,null,null,null,null,null,null,null,null,62,"Shumway Brothers","0.0.0.0.0.166.47.192"]
[null,null,32,null,null,null,null,null,null,null,null,63,"Siecor","0.0.0.0.0.166.47.193"]
[null,null,40,null,null,null,null,null,null,null,null,64,"Siemon","0.0.0.0.0.166.47.194"]
[null,null,42,null,null,null,null,null,null,null,null,65,"Sola / HeviDuty","0.0.0.0.0.166.47.195"]
[null,null,50,null,null,null,null,null,null,null,null,66,"Spiderbox","0.0.0.0.0.166.47.196"]
[null,null,75,null,null,null,null,null,null,null,null,67,"Steel City","0.0.0.0.0.166.47.197"]
[null,null,76,null,null,null,null,null,null,null,null,68,"Sumitomo","0.0.0.0.0.166.47.198"]
[null,null,78,null,null,null,null,null,null,null,null,69,"Superior Essex","0.0.0.0.0.166.47.199"]
[null,null,87,null,null,null,null,null,null,null,null,70,"Superior Modular Products","0.0.0.0.0.166.47.200"]
[null,null,89,null,null,null,null,null,null,null,null,71,"Tech Spray","0.0.0.0.0.166.47.201"]
[null,null,null,null,null,null,null,null,null,null,null,81,"Tessco","0.0.0.0.0.166.47.202"]
[null,"RES","OR",null,null,null,null,null,null,null,null,72,"Thomas & Betts Corp.","0.0.0.0.0.166.47.203"]
[null,"S23","PE",null,null,null,null,null,null,null,null,73,"Transition Networks","0.0.0.0.0.166.47.204"]
[null,null,null,null,null,null,null,null,null,null,null,74,"Tripp-Lite","0.0.0.0.0.166.47.205"]
[null,null,null,null,null,null,null,null,null,null,null,75,"Unity Manufacturing","0.0.0.0.0.166.47.206"]
[null,null,null,null,null,null,null,null,null,null,null,76,"Volex Interconnect","0.0.0.0.0.166.47.207"]
[null,null,null,null,null,null,null,null,null,null,null,77,"Wiremold / Walker","0.0.0.0.0.166.47.208"]
[null,null,null,null,null,null,null,null,null,null,null,78,"X-Mark","0.0.0.0.0.166.47.209"]
[null,null,null,null,null,null,null,null,null,null,null,83,null,"0.0.0.0.0.166.47.210"]
[null,null,null,null,null,null,null,null,null,null,null,84,null,"0.0.0.0.0.166.47.211"]
[null,null,null,null,null,null,null,null,null,null,null,85,null,"0.0.0.0.0.166.47.212"]
[null,null,null,null,null,null,null,null,null,null,null,86,null,"0.0.0.0.0.166.47.213"]
[null,null,null,null,null,null,null,null,null,null,null,87,null,"0.0.0.0.0.166.47.214"]
[null,null,null,null,null,null,null,null,null,null,null,88,null,"0.0.0.0.0.166.47.215"]
[null,null,null,null,null,null,null,null,null,null,null,89,null,"0.0.0.0.0.166.47.216"]
[null,null,null,null,null,null,null,null,null,null,null,90,null,"0.0.0.0.0.166.47.217"]
[null,null,null,null,null,null,null,null,null,null,null,91,null,"0.0.0.0.0.166.47.218"]
[null,null,null,null,null,null,null,null,null,null,null,92,null,"0.0.0.0.0.166.47.219"]
[null,null,null,null,null,null,null,null,null,null,null,93,null,"0.0.0.0.0.166.47.220"]
[null,null,null,null,null,null,null,null,null,null,null,94,null,"0.0.0.0.0.166.47.221"]
[null,null,null,null,null,null,null,null,null,null,null,95,null,"0.0.0.0.0.166.47.222"]
[null,null,null,null,null,null,null,null,null,null,null,96,null,"0.0.0.0.0.166.47.223"]
[null,null,null,null,null,null,null,null,null,null,null,97,null,"0.0.0.0.0.166.47.224"]
[null,null,null,null,null,null,null,null,null,null,null,98,null,"0.0.0.0.0.166.47.225"]

{"sheet":"Bill of Materials","index":5,"n_rows":1287,"n_cols":42,"rows_kept":1287,"cut":false,"hidden":false,"merged":[[1256,2,1256,255],[1286,2,1286,255],[1098,2,1098,255],[1101,2,1101,255],[1117,2,1117,255],[1132,2,1132,255],[1165,2,1165,255],[1188,2,1188,255],[1235,2,1235,255],[1140,2,1140,255],[1062,2,1062,255],[928,2,928,255],[938,2,938,255],[947,2,947,255],[956,2,956,255],[974,2,974,255],[977,2,977,255],[944,2,944,255],[951,2,951,255],[985,2,985,255],[1001,2,1001,255],[1015,2,1015,255],[1047,2,1047,255],[1049,2,1049,255],[810,2,810,255],[466,2,466,255],[475,2,475,255],[514,2,514,255],[592,2,592,255],[605,2,605,255],[642,2,642,255],[683,2,683,255],[727,2,727,255],[757,2,757,255],[223,2,223,255],[3,2,3,255],[839,2,839,255],[920,2,920,255],[1199,2,1199,255],[376,2,376,255],[423,2,423,255],[966,2,966,255],[862,2,862,255],[877,2,877,255],[905,2,905,255],[20,2,20,255],[65,2,65,255],[90,2,90,255],[116,2,116,255],[154,2,154,255]]}
[null,null,{"$f":"\"Bill Of Materials \"&('Settings and Views'!B2)","v":"Bill Of Materials 6.9"}]
[]
["RowType","Material Group","Supplier Part Number (INFO)","BO Seq #","Qty.","Spare Qty","Item Description","Manufacturer Part Number","Project Specific Notes","Material Category","Material Type","Manufacturer","Unit of Measure","Unit Price (USD)","Cost Book","Supplier","Blanket Order #","Ordering Guidelines","Element Owner","SpareCost","Deliver To","Display In Estimator","UoM Id","BOM Row Version","Supplier Id","Manufactorer Id","Element Owner Id","Estimator Id","md5Stored","md5Current","HashCheck fail","Note Id","Note Row Version","Is Standard","Is Electronics","Is Physical","Is Horizontal","Has Components","Filter Id","Labor Duration","IsSwitch","PortCount"]
["Header",2,"Copper and Fiber Cabling Test Equipment"]
["item",2,"INFO-7030","938",null,null,"Fluke Cable Analyzer - Includes DTX-1800 Main and Smart Remote, LinkWare PC Software, 16MB MMC Card Cat 6/Class E Permanent Link Adapters (2), Cat 6/Class E Channel Adapters (2), ACCharges (2), Carrying Case, USB Interface Cable (Mini B), Serial RS-232 Cable (DB9 to IEEE1394) User Manual (Copper test set only)","DTX-1800 ",null,"standard material","physical",{"$f":"VLOOKUP(Z5,rngManufacturerLookup,2,FALSE)","v":"Fluke"},"EA",7747.75,{"$f":"(E5*N5)","v":0},{"$f":"VLOOKUP(Y5,rngSupplierLookup,2,FALSE)","v":"DWC"},6810,null,"Kyle M. Daniel",{"$f":"(F5*N5)","v":0},"DWC",true,4,"0.0.0.0.0.166.47.251",1,30,null,7,null,null,null,27209,"0.0.0.0.0.166.32.91",true,false,true,false,false,3,0,false,0]
["item",2,"INFO-7031","939",null,null,"Fluke DTX-1800 (INFO-7030) with Multimode Fiber Modules (INFO-7033)- Includes DTX 1800 Cable Analyzer and a set of DTX-MFM Multimode Fiber Modules ","DTX-1800-M",null,"standard material","physical","Fluke","EA",11007.5,0,"DWC",6810,null,"Kyle M. Daniel",0,"DWC",true,4,"0.0.0.0.0.166.47.254",1,30,null,8,null,null,null,27210,"0.0.0.0.0.166.32.94",true,false,true,false,false,3,0,false,0]
["item",2,"INFO-7032","940",null,null,"Fluke DTX-1800 (INFO-7030) with Multimode (INFO-7033) and Singlemode (INFO-7034) Fiber Modules - Includes DTX 1800 Cable Analyzer and set of DTX-MFM Multimode Fiber Modules and DTX-SFM Singlemode Fiber Modules","DTX-1800-MS",null,"standard material","physical","Fluke","EA",16222.25,0,"DWC",6810,null,"Kyle M. Daniel",0,"DWC",true,4,"0.0.0.0.0.166.48.2",1,30,null,9,null,null,null,27211,"0.0.0.0.0.166.32.97",true,false,true,false,false,3,0,false,0]
["item",2,"INFO-7033","941",null,null,"Fluke DTX Multimode Fiber Modules ","DTX-MFM",null,"standard material","physical","Fluke","EA",3956.75,0,"DWC",6810,null,"Kyle M. Daniel",0,"DWC",true,4,"0.0.0.0.0.166.48.5",1,30,null,10,null,null,null,27212,"0.0.0.0.0.166.32.100",true,false,true,false,false,3,0,false,0]
["item",2,"INFO-7034","942",null,null,"Fluke DTX Singlemode Fiber Modules","DTX-SFM",null,"standard material","physical","Fluke","EA",5516.5,0,"DWC",6810,null,"Kyle M. Daniel",0,"DWC",true,4,"0.0.0.0.0.166.48.8",1,30,null,11,null,null,null,27213,"0.0.0.0.0.166.32.103",true,false,true,false,false,3,0,false,0]
["item",2,"INFO-7035","943",null,null,"Fluke One Universal Permanent Link Adapter for use with the DTX series cable analyzer","DTX-PLA001",null,"standard material","physical","Fluke","EA",310.25,0,"DWC",6810,null,"Kyle M. Daniel",0,"DWC",true,4,"0.0.0.0.0.166.48.11",1,30,null,12,null,null,null,27214,"0.0.0.0.0.166.32.106",true,false,true,false,false,3,0,false,0]
["item",2,"INFO-7036","944",null,null,"Fluke Universal Permanent Link Adapters (2) with PM06 Personality Module","DTX-PLA001S",null,"standard material","physical","Fluke","EA",675.75,0,"DWC",6810,null,"Kyle M. Daniel",0,"DWC",true,4,"0.0.0.0.0.166.48.14",1,30,null,13,null,null,null,27215,"0.0.0.0.0.166.32.109",true,false,true,false,false,3,0,false,0]
["item",2,"INFO-7037","945",null,null,"Fluke Cat 6/Class E Channel Adapter","DTX-CHA001",null,"standard material","physical","Fluke","EA",110.5,0,"DWC",6810,null,"Kyle M. Daniel",0,"DWC",true,4,"0.0.0.0.0.166.48.17",1,30,null,14,null,null,null,27216,"0.0.0.0.0.166.32.112",true,false,true,false,false,3,0,false,0]
["item",2,"INFO-7038","946",null,null,"Fluke Cat 6/Class E Channel Adapter, set of 2","DTX-CHA001S",null,"standard material","physical","Fluke","EA",216.75,0,"DWC",6810,null,"Kyle M. Daniel",0,"DWC",true,4,"0.0.0.0.0.166.48.20",1,30,null,15,null,null,null,27217,"0.0.0.0.0.166.32.115",true,false,true,false,false,3,0,false,0]
["item",2,"INFO-7039","947",null,null,"Fluke: Lithium Ion Battery Pack","DTX-LION",null,"standard material","physical","Fluke","EA",238,0,"DWC",6810,null,"Kyle M. Daniel",0,"DWC",true,4,"0.0.0.0.0.166.48.23",1,30,null,16,null,null,null,27218,"0.0.0.0.0.166.32.118",true,false,true,false,false,3,0,false,0]
["item",2,"INFO-7040","948",null,null,"Fluke: Serial RS-232 Cable (DB-9 to IEEE1394)","DTX-SER",null,"standard material","physical","Fluke","EA",25.5,0,"DWC",6810,null,"Kyle M. Daniel",0,"DWC",true,4,"0.0.0.0.0.166.48.26",1,30,null,17,null,null,null,27219,"0.0.0.0.0.166.32.121",true,false,true,false,false,3,0,false,0]
["item",2,"INRF-7041","949",null,null,"Fluke: Standard Carrying Case for DTX Series","DTX-CASE",null,"standard material","physical","Fluke","EA",170,0,"DWC",6810,null,"Kyle M. Daniel",0,"DWC",true,4,"0.0.0.0.0.166.48.29",1,30,null,18,null,null,null,27220,"0.0.0.0.0.166.32.124",true,false,true,false,false,3,0,false,0]
["item",2,"INRF-7042","950",null,null,"Fluke Personality Module (Avaya)","DSP-PM10B",null,"standard material","physical","Fluke","EA",140.25,0,"DWC",6810,null,"Kyle M. Daniel",0,"DWC",true,4,"0.0.0.0.0.166.48.32",1,30,null,19,null,null,null,27221,"0.0.0.0.0.166.32.127",true,false,true,false,false,3,0,false,0]
["item",2,"INRF-7043","951",null,null,"Fluke Cat6 Centered Personality Module","DSP-PM06",null,"standard material","physical","Fluke","EA",174.25,0,"DWC",6810,null,"Kyle M. Daniel",0,"DWC",true,4,"0.0.0.0.0.166.48.35",1,30,null,20,null,null,null,27222,"0.0.0.0.0.166.32.130",true,false,true,false,false,3,0,false,0]
["item",2,"INRF-7044","952",null,null,"Covers the DTX (any model) one year, one calibrations (Needed for Cable Analyzer)","GLD-DTX",null,"standard material","physical","Fluke","EA",674.05,0,"DWC",6810,null,"Kyle M. Daniel",0,"DWC",true,4,"0.0.0.0.0.166.48.38",1,30,null,21,null,null,null,27223,"0.0.0.0.0.166.32.133",true,false,true,false,false,3,0,false,0]
["item",2,"INRF-7045","953",null,null,"Covers the DTX Fiber Module (any model) one year (Needed for Fiber Modules) ","GLD-DTX-FIBERMOD",null,"standard material","physical","Fluke","EA",477.7,0,"DWC",6810,null,"Kyle M. Daniel",0,"DWC",true,4,"0.0.0.0.0.166.48.41",1,30,null,22,null,null,null,27224,"0.0.0.0.0.166.32.136",true,false,true,false,false,3,0,false,0]
["Header",3,"Horizontal Wiring Outlets/Faceplates"]
["item",3,"10035",null,null,null,"QuickPort Single Gang, 6 Port Stainless Wallplate","43080-1S6",null,"standard material","horizontal",{"$f":"VLOOKUP(Z22,rngManufacturerLookup,2,FALSE)","v":"Leviton"},"EA",3.58,{"$f":"(E22*N22)","v":0},{"$f":"VLOOKUP(Y22,rngSupplierLookup,2,FALSE)","v":"DWC"},6810,"Use in Plant Floor/Garage Applications where Three (3) or more Jacks are required.","Kyle M. Daniel",{"$f":"(F22*N22)","v":0},"DWC",true,4,"0.0.0.0.0.166.48.44",1,43,null,836,null,null,null,28273,"0.0.0.0.0.166.32.139",true,false,false,true,false,2,0.1,false,0]
["item",3,"10043",null,null,null,"Quickport Cat 5e+ Jack, Orange (For Data 3, Data 4, Data 5 & Data 6)","5G110-RO5",null,"standard material","horizontal","Leviton","EA",3.11,0,"DWC",6810,"Orange Jacks are Typically Used for Additional \"Data Ports\" Beyond Data 1 and Data 2 at an Outlet. Verify with Owner","Kyle M. Daniel",0,"DWC",true,4,"0.0.0.0.0.166.48.47",1,43,null,837,null,null,null,28274,"0.0.0.0.0.166.32.142",true,false,false,true,false,2,0.1,false,0]
["item",3,"10045",null,null,null,"Quickport Cat 5e+ Jack, YELLOW (Vendor Network)","5G110-RY5",null,"standard material","horizontal","Leviton","EA",3.11,0,"DWC",6810,null,"Kyle M. Daniel",0,"DWC",true,4,"0.0.0.0.0.166.48.50",1,43,null,838,null,null,null,28275,"0.0.0.0.0.166.32.145",true,false,false,true,false,2,0.1,false,0]
["item",3,"INFO-2005","24",null,null,"QuickPort 2-port Surface Mount Box, empty, ivory","41089-2IP",null,"standard material","horizontal","Leviton","EA",1.1100000000000001,0,"DWC",6810,null,"Kyle M. Daniel",0,"DWC",true,4,"0.0.0.0.0.166.48.53",1,43,null,23,null,null,null,27225,"0.0.0.0.0.166.32.148",true,false,false,true,false,2,0.12,false,0]
["item",3,"INFO-2006","25",null,null,"QuickPort 4-port Surface Mount Box, empty, ivory","41089-4IP",null,"standard material","horizontal","Leviton","EA",2.06,0,"DWC",6810,null,"Kyle M. Daniel",0,"DWC",true,4,"0.0.0.0.0.166.48.56",1,43,null,24,null,null,null,27226,"0.0.0.0.0.166.32.151",true,false,false,true,false,2,0.12,false,0]
["item",3,"INFO-2007","26",null,null,"QuickPort 4-port Surface Mount Box, empty, black","41089-4EP",null,"standard material","horizontal","Leviton","EA",2.06,0,"DWC",6810,null,"Kyle M. Daniel",0,"DWC",true,4,"0.0.0.0.0.166.48.59",1,43,null,25,null,null,null,27227,"0.0.0.0.0.166.32.154",true,false,false,true,false,2,0.12,false,0]
["item",3,"INFO-2008","27",null,null,"QuickPort 1-port Surface Mount Box Kit (w/Cat 5e-ivory)","G04-5ESM1-1IP",null,"standard material","horizontal","Leviton","EA",3.99,0,"DWC",6810,null,"Kyle M. Daniel",0,"DWC",true,4,"0.0.0.0.0.166.48.62",1,43,null,26,null,null,null,27228,"0.0.0.0.0.166.32.157",true,false,false,true,false,2,0.12,false,0]
["item",3,"INFO-2009","28",null,null,"QuickPort 2-port Surface Mount Box Kit (w/Cat5e-Blue, Gray)","G05-5ESM2-2IP",null,"standard material","horizontal","Leviton","EA",6.69,0,"DWC",6810,null,"Kyle M. Daniel",0,"DWC",true,4,"0.0.0.0.0.166.48.65",1,43,null,27,null,null,null,27229,"0.0.0.0.0.166.32.160",true,false,false,true,false,2,0.12,false,0]
["item",3,"INFO-2010","29",null,null,"QuickPort 4-port Surface Mount Box Kit (w/Cat5e-Blue, red, gray, blank)","G06-5ESM4-4IP",null,"standard material","horizontal","Leviton","EA",13.55,0,"DWC",6810,null,"Kyle M. Daniel",0,"DWC",true,4,"0.0.0.0.0.166.48.68",1,43,null,28,null,null,null,27230,"0.0.0.0.0.166.32.163",true,false,false,true,false,2,0.12,false,0]
["item",3,"INFO-2011","30",null,null,"QuickPort Single Gang Ivory Faceplate w/ (3) Cat 5e jacks (Blue, red, gray, blank)","G09-STDFP-DDV",null,"standard material","horizontal","Leviton","EA",14.88,0,"DWC",6810,null,"Kyle M. Daniel",0,"DWC",true,4,"0.0.0.0.0.166.48.71",1,43,null,29,null,null,null,27231,"0.0.0.0.0.166.32.166",true,false,false,true,false,2,0.12,false,0]
["item",3,"INFO-2012","31",null,null,"QuickPort Cat 5e+ Jack, Ivory","5G109-RI5",null,"standard material","horizontal","Leviton","EA",3.11,0,"DWC",6810,null,"Kyle M. Daniel",0,"DWC",true,4,"0.0.0.0.0.166.48.74",1,43,null,30,null,null,null,27232,"0.0.0.0.0.166.32.169",true,false,false,true,false,2,0.12,false,0]
["item",3,"INFO-2013","32",null,null,"MOS System Blank Module, Ivory, For MOS Boxes and MOS Wallplates","41291-1BI",null,"standard material","horizontal","Leviton","EA",0.53,0,"DWC",6810,"MOS SM Boxes and Wallplates have (3) openings for fittings. This Blank will Cover (1) Opening","Kyle M. Daniel",0,"DWC",true,4,"0.0.0.0.0.166.48.77",1,43,null,31,null,null,null,27233,"0.0.0.0.0.166.32.172",true,false,false,true,false,2,0.12,false,0]
["item",3,"INFO-2014","33",null,null,"QuickPort 1 port Stainless Steel flush mount faceplate w/blue Cat 5e jack","G07-5E1FP-1SS",null,"standard material","horizontal","Leviton","EA",7.18,0,"DWC",6810,null,"Kyle M. Daniel",0,"DWC",true,4,"0.0.0.0.0.166.48.80",1,43,null,32,null,null,null,27234,"0.0.0.0.0.166.32.175",true,false,false,true,false,2,0.12,false,0]
["item",3,"INFO-2015","34",null,null,"QuickPort 2-port Stainless Steel flush mount faceplate w/(2) Cat 5e jacks (blue & gray)","G08-5E2FP-2SS",null,"standard material","horizontal","Leviton","EA",8.16,0,"DWC",6810,"Typically used in Plant Type Area's","Kyle M. Daniel",0,"DWC",true,4,"0.0.0.0.0.166.48.83",1,43,null,33,null,null,null,27235,"0.0.0.0.0.166.32.178",true,false,false,true,false,2,0.12,false,0]
["item",3,"INFO-2016","35",null,null,"QuickPort Dual Gang 4-Port Faceplate, Ivory","42080-4IP",null,"standard material","horizontal","Leviton","EA",2.2200000000000002,0,"DWC",6810,null,"Kyle M. Daniel",0,"DWC",true,4,"0.0.0.0.0.166.48.86",1,43,null,34,null,null,null,27236,"0.0.0.0.0.166.32.181",true,false,false,true,false,2,0.12,false,0]
["item",3,"INFO-2017","36",null,null,"MOS System Single Gang Faceplate, Ivory","41290-SMI",null,"standard material","horizontal","Leviton","EA",1.1499999999999999,0,"DWC",6810,"Use MOS Components Only","Kyle M. Daniel",0,"DWC",true,4,"0.0.0.0.0.166.48.89",1,43,null,35,null,null,null,27237,"0.0.0.0.0.166.32.184",true,false,false,true,false,2,0.12,false,0]
["item",3,"INFO-2018","37",null,null,"MOS System Dual Gang Faceplate, Ivory","41290-DMI",null,"standard material","horizontal","Leviton","EA",2.91,0,"DWC",6810,"Use MOS Components Only","Kyle M. Daniel",0,"DWC",true,4,"0.0.0.0.0.166.48.92",1,43,null,36,null,null,null,27238,"0.0.0.0.0.166.32.187",true,false,false,true,false,2,0.12,false,0]
["item",3,"INFO-2019","38",null,null,"MOS System 2-port Flush Adapter, Ivory","41291-2QI",null,"standard material","horizontal","Leviton","EA",0.65,0,"DWC",6810,"Uses QuickPort Connectors","Kyle M. Daniel",0,"DWC",true,4,"0.0.0.0.0.166.48.95",1,43,null,37,null,null,null,27239,"0.0.0.0.0.166.32.190",true,false,false,true,false,2,0.12,false,0]
["item",3,"INFO-2020","39",null,null,"MOS System 2-port Angled Adapter, Ivory","41294-2QI",null,"standard material","horizontal","Leviton","EA",0.65,0,"DWC",6810,"Uses QuickPort Connectors","Kyle M. Daniel",0,"DWC",true,4,"0.0.0.0.0.166.48.98",1,43,null,38,null,null,null,27240,"0.0.0.0.0.166.32.193",true,false,false,true,false,2,0.12,false,0]
["item",3,"INFO-2021","40",null,null,"QuickPort Blank Insert (comes in pkg of 10 ONLY)","41084-BIB","Actual Quantity=","standard material","horizontal","Leviton","EA",1.25,0,"DWC",6810,"ORDER PER PACKAGE (qty 10 per package)","Kyle M. Daniel",0,"DWC",true,4,"0.0.0.0.0.166.48.101",1,43,null,39,null,null,null,27241,"0.0.0.0.0.166.32.196",true,false,false,true,false,2,0.12,false,0]
["item",3,"INFO-2023","42",null,null,"MT-RJ QuickPort Frame Station Adapter, Ivory, for Frame Station Connector","49889-QFI",null,"standard material","horizontal","Leviton","EA",3.58,0,"DWC",6810,"Used with High Density MT-RJ Frame Station Connectors, Leviton #49888-6SF for 62.5 and #49888-5SF for 50 Micron. or preterminated Fiber Cables. Singlemode Not Available. Verify With Owner Before Use.","Kyle M. Daniel",0,"DWC",true,4,"0.0.0.0.0.166.48.104",1,43,null,40,null,null,null,27242,"0.0.0.0.0.166.32.199",true,false,false,true,false,2,0.12,false,0]
["item",3,"INFO-2024","43",null,null,"ST Fiber Adaptor QuickPort for MM/SM, Bronze Sleeve, White","41084-SWF",null,"standard material","horizontal","Leviton","EA",4.54,0,"DWC",6810,"Multimode/Singlemode ST Fiber adapter for workstation outlet. Order Qnty. 1 for Each Fiber Strand","Kyle M. Daniel",0,"DWC",true,4,"0.0.0.0.0.166.48.107",1,43,null,41,null,null,null,27243,"0.0.0.0.0.166.32.202",true,false,false,true,false,2,0.12,false,0]
["item",3,"INFO-2026","45",null,null,"MOS System SC Duplex Adapter, MM/SM, Angled","41294-PCI",null,"standard material","horizontal","Leviton","EA",15.32,0,"DWC",6810,"Use with MOS Wall Plates Only","Kyle M. Daniel",0,"DWC",true,4,"0.0.0.0.0.166.48.110",1,43,null,42,null,null,null,27244,"0.0.0.0.0.166.32.205",true,false,false,true,false,2,0.12,false,0]
["item",3,"INFO-2027","46",null,null,"MOS System SC Duplex Adapter, MM/SM, Flush","41291-PCI",null,"standard material","horizontal","Leviton","EA",15.16,0,"DWC",6810,"Use with MOS Surface Mount Box","Kyle M. Daniel",0,"DWC",true,4,"0.0.0.0.0.166.48.113",1,43,null,43,null,null,null,27245,"0.0.0.0.0.166.32.208",true,false,false,true,false,2,0.12,false,0]
["item",3,"INFO-2028","47",null,null,"QuickPort 2-port modular furniture faceplate, ivory generic","49910-SI2",null,"standard material","horizontal","Leviton","EA",1.52,0,"DWC",6810,null,"Kyle M. Daniel",0,"DWC",true,4,"0.0.0.0.0.166.48.116",1,43,null,44,null,null,null,27246,"0.0.0.0.0.166.32.211",true,false,false,true,false,2,0.12,false,0]
["item",3,"INFO-2029","48",null,null,"QuickPort 4-port modular furniture faceplate, ivory generic","49910-SI4",null,"standard material","horizontal","Leviton","EA",1.52,0,"DWC",6810,null,"Kyle M. Daniel",0,"DWC",true,4,"0.0.0.0.0.166.48.119",1,43,null,45,null,null,null,27247,"0.0.0.0.0.166.32.214",true,false,false,true,false,2,0.12,false,0]
["item",3,"INFO-2030","49",null,null,"QuickPort 2-port Herman Miller faceplate ivory ","49910-HI2",null,"standard material","horizontal","Leviton","EA",1.89,0,"DWC",6810,null,"Kyle M. Daniel",0,"DWC",true,4,"0.0.0.0.0.166.48.122",1,43,null,46,null,null,null,27248,"0.0.0.0.0.166.32.217",true,false,false,true,false,2,0.12,false,0]
["item",3,"INFO-2031","50",null,null,"QuickPort 4-port Herman Miller faceplate ivory","49910-HI4",null,"standard material","horizontal","Leviton","EA",1.89,0,"DWC",6810,null,"Kyle M. Daniel",0,"DWC",true,4,"0.0.0.0.0.166.48.125",1,43,null,47,null,null,null,27249,"0.0.0.0.0.166.32.220",true,false,false,true,false,2,0.12,false,0]
["item",3,"INFO-2032","51",null,null,"MOS System 6 Port Multimedia Surface Mount Box, Empty, Ivory","41296-MMI",null,"standard material","horizontal","Leviton","EA",7.97,0,"DWC",6810,"Requires MOS Inserts and QuickPort Jacks","Kyle M. Daniel",0,"DWC",true,4,"0.0.0.0.0.166.48.128",1,43,null,48,null,null,null,27250,"0.0.0.0.0.166.32.223",true,false,false,true,false,2,0.12,false,0]
["item",3,"INFO-2033","52",null,null,"Single Gang Backbox, Plastic Surface Mount, 1.89\" Deep, Ivory","42777-1IA",null,"standard material","horizontal","Leviton","EA",1.82,0,"DWC",6810,null,"Kyle M. Daniel",0,"DWC",true,4,"0.0.0.0.0.166.48.131",1,43,null,49,null,null,null,27251,"0.0.0.0.0.166.32.226",true,false,false,true,false,2,0.12,false,0]
["item",3,"INFO-2034","53",null,null,"Dual Gang Backbox, Plastic Surface Mount, 1.89\" Deep, Ivory","42777-2IA",null,"standard material","horizontal","Leviton","EA",3.44,0,"DWC",6810,null,"Kyle M. Daniel",0,"DWC",true,4,"0.0.0.0.0.166.48.134",1,43,null,50,null,null,null,27252,"0.0.0.0.0.166.32.229",true,false,false,true,false,2,0.12,false,0]
["item",3,"INFO-2046","65",null,null,"Type 630 Quick Connect Wall Phone Jack, 6 Pair/4 Conductor, Stainless","40223-S",null,"standard material","horizontal","Leviton","EA",3.64,0,"DWC",6810,null,"Kyle M. Daniel",0,"DWC",true,4,"0.0.0.0.0.166.48.137",1,43,null,51,null,null,null,27253,"0.0.0.0.0.166.32.232",true,false,false,true,false,2,0.25,false,0]
["item",3,"INFO-2047","66",null,null,"Duplex 106 Insert Only (2 Jacks), Ivory","41087-2IP",null,"standard material","horizontal","Leviton","EA",0.91,0,"DWC",6810,"Typically Used in Underfloor Systems. Order QuickPort Jacks Seperately","Kyle M. Daniel",0,"DWC",true,4,"0.0.0.0.0.166.48.140",1,43,null,52,null,null,null,27254,"0.0.0.0.0.166.32.235",true,false,false,true,false,2,0.12,false,0]
["item",3,"INFO-2048","67",null,null,"Quickport Quad 106 Insert Only (4 Jacks), Ivory","41087-QIP",null,"standard material","horizontal","Leviton","EA",1.3,0,"DWC",6810,"Typically Used in Underfloor Systems. Order QuickPort Jacks Seperately","Kyle M. Daniel",0,"DWC",true,4,"0.0.0.0.0.166.48.143",1,43,null,53,null,null,null,27255,"0.0.0.0.0.166.32.238",true,false,false,true,false,2,0.12,false,0]
["item",3,"INFO-2104","68",null,null,"Aluminum 3/4\" Single Gang Box (2.75\" x 4.5\" x 2.0\")  (Plant Floor)","30204",null,"standard material","horizontal","Mulberry","EA",2.92,0,"DWC",6810,"SG Outlet Box for Plant Floor Outlets.  Use with QuickPort Wallplates","Kyle M. Daniel",0,"DWC",true,4,"0.0.0.0.0.166.48.146",1,48,null,54,null,null,null,27256,"0.0.0.0.0.166.32.241",true,false,false,true,false,2,0.5,false,0]
["item",3,"INFO-2114","69",null,null,"Impact punch down tool w/ 110 blade","1690-92",null,"standard material","horizontal","CZ Lab","EA",26.78,0,"DWC",6810,"Order only at site request.  Order 1 per 250 outlets.  Used for site personnel for adds, moves and changes.","Kyle M. Daniel",0,"DWC",true,4,"0.0.0.0.0.166.48.149",1,21,null,55,null,null,null,27257,"0.0.0.0.0.166.32.244",true,false,false,true,false,2,0,false,0]
["item",3,"INFO-2169","71",null,null,"WALKER BLANK PLATE (FOR DOG HOUSE)","500B",null,"standard material","horizontal","Wiremold / Walker","EA",6.19,0,"DWC",6810,null,"Kyle M. Daniel",0,"DWC",true,4,"0.0.0.0.0.166.48.152",1,77,null,56,null,null,null,27258,"0.0.0.0.0.166.32.247",true,false,false,true,false,2,0.1,false,0]
["item",3,"INFO-2171","74",null,null,"SPIDERBOX ADAPTER FACEPLATE","SI-315",null,"standard material","horizontal","Spiderbox","EA",5.79,0,"DWC",6810,null,"Kyle M. Daniel",0,"DWC",true,4,"0.0.0.0.0.166.48.155",1,66,null,57,null,null,null,27259,"0.0.0.0.0.166.32.250",true,false,false,true,false,2,0.1,false,0]
["item",3,"INFO-2173","73",null,null,"WALKER DUPLEX RECEPTACLE FACEPLATE","500DR",null,"standard material","horizontal","Wiremold / Walker","EA",9.9,0,"DWC",6810,null,"Kyle M. Daniel",0,"DWC",true,4,"0.0.0.0.0.166.48.158",1,77,null,58,null,null,null,27260,"0.0.0.0.0.166.32.253",true,false,false,true,false,2,0.1,false,0]
["item",3,"INFO-2174","70",null,null,"WALKER Housing with Base Plate (Dog House)","500HB",null,"standard material","horizontal","Wiremold / Walker","EA",25.99,0,"DWC",6810,null,"Kyle M. Daniel",0,"DWC",true,4,"0.0.0.0.0.166.48.161",1,77,null,59,null,null,null,27261,"0.0.0.0.0.166.33.1",true,false,false,true,false,2,0.12,false,0]
["item",3,"INFO-7007","915",null,null,"Quickport Cat 5e+ jack, RED (Data 2)","5G110-RR5",null,"standard material","physical","Leviton","EA",3.11,0,"DWC",6810,null,"Kyle M. Daniel",0,"DWC",true,4,"0.0.0.0.0.166.48.164",1,43,null,60,null,null,null,27262,"0.0.0.0.0.166.33.4",true,false,true,false,false,3,0.1,false,0]
["item",3,"INFO-7008","916",null,null,"Quickport Cat 5e+ jack, BLUE (Data 1)","5G110-RL5",null,"standard material","physical","Leviton","EA",3.11,0,"DWC",6810,null,"Kyle M. Daniel",0,"DWC",true,4,"0.0.0.0.0.166.48.167",1,43,null,61,null,null,null,27263,"0.0.0.0.0.166.33.7",true,false,true,false,false,3,0.1,false,0]
["item",3,"INFO-7009","917",null,null,"Quickport Cat 5e+ jack, GRAY (Analog Voice)  ","5G110-RG5",null,"standard material","physical","Leviton","EA",3.11,0,"DWC",6810,null,"Kyle M. Daniel",0,"DWC",true,4,"0.0.0.0.0.166.48.170",1,43,null,62,null,null,null,27264,"0.0.0.0.0.166.33.10",true,false,true,false,false,3,0.1,false,0]
["item",3,"INRF-0048","00490",null,null,"SC Simplex Fiber Adaptor QuickPort for MM, Bronze Sleeve, Female Front/Back, White","41085-MWC",null,"standard material","physical","Leviton","EA",5.3,0,"DWC",6810,null,"Kyle M. Daniel",0,"DWC",true,4,"0.0.0.0.0.166.48.173",1,43,null,63,null,null,null,27265,"0.0.0.0.0.166.33.13",true,false,true,false,false,3,0.12,false,0]
["Header",5,"Copper Patch Panels and Punch Down Blocks"]
["item",5,"0406-11V1",1079,null,null,"110 Block X-Connect Cable/Organizer, For Voice Cable Backboard. Replaces Discontinued AT&T 18A Rings","S144",null,"standard material","physical",{"$f":"VLOOKUP(Z67,rngManufacturerLookup,2,FALSE)","v":"Siemon"},"EA",3.17,{"$f":"(E67*N67)","v":0},{"$f":"VLOOKUP(Y67,rngSupplierLookup,2,FALSE)","v":"DWC"},6810,"Order (6) per 110-300 Block and (2) per 110-100 Block mounted on backboards","Kyle M. Daniel",{"$f":"(F67*N67)","v":0},"DWC",true,4,"0.0.0.0.0.166.48.176",1,64,null,64,null,null,null,27266,"0.0.0.0.0.166.33.16",true,false,true,false,false,3,1,false,0]
["item",5,"10031",null,null,null,"50ft. Category 5e, 25 Pair Cable Assembly, Telco Straight to Blunt","25PA/TS-X-E-050",null,"standard material","horizontal","Superior Modular Products","EA",115.55,0,"DWC",6810,null,"Kyle M. Daniel",0,"DWC",true,4,"0.0.0.0.0.166.48.179",1,70,null,839,null,null,null,28276,"0.0.0.0.0.166.33.19",true,false,false,true,false,2,1,false,0]
["item",5,"10037",null,null,null,"Voice Grade Copper Patch Panel, 24 Port, Pre-Connectorized, Telco, 8P4C Jacks (Only 2 Pair Deployed to Individual Ports). Equipped with 49005-CMB – Cable Management Bar - 1RU","49014-J24",null,"standard material","horizontal","Leviton","EA",76.739999999999995,0,"DWC",6810,"Use for new passive rack template when site is deploying VOIP and minimal analog phones will be deployed. Order qnty. (1) for each half of rack. Note: Use 48 Port model 49004-J48 if analog phones will exceed (48) per full rack.","Kyle M. Daniel",0,"DWC",true,4,"0.0.0.0.0.166.48.182",1,43,null,840,null,null,null,28277,"0.0.0.0.0.166.33.22",true,false,false,true,false,2,1,false,0]
["item",5,"10038",null,null,null,"Voice Grade Copper Patch Panel, 48 Port, Pre-Connectorized, Telco, 8P4C Jacks (Only 2 Pair Deployed to Individual Ports). Equipped with 49005-CMB – Cable Management Bar - 2RU","49014-J48",null,"standard material","horizontal","Leviton","EA",159.58000000000001,0,"DWC",6810,"Use for existing passive rack template or if site is deploying VOIP and a high number of analog phones will be deployed. Replaces INFO# 2001 (8 conductor model)","Kyle M. Daniel",0,"DWC",true,4,"0.0.0.0.0.166.48.185",1,43,null,841,null,null,null,28278,"0.0.0.0.0.166.33.25",true,false,false,true,false,2,0.5,false,0]
["item",5,"10046",null,null,null,"12-Port GigaMax 5e Patch Block, Incld's Vertical Mounting Bracket. ","5G596-U89",null,"standard material","horizontal","Leviton","EA",66.37,0,"DWC",6810,"Use only in low density locations; Guard House etc. Panel Mounted/Similar to 66 Type Blocks","Kyle M. Daniel",0,"DWC",true,4,"0.0.0.0.0.166.48.188",1,43,null,842,null,null,null,28279,"0.0.0.0.0.166.33.28",true,false,false,true,false,2,0.5,false,0]
["item",5,"10089",null,null,null,"Add Cat5e or voice patch panel to cabinet or rack -------Labor Only","Copper Patch Panel-L",null,"standard material","physical","DWC","EA",27.9,0,"DWC",6810,null,"Kyle M. Daniel",0,"DWC",true,4,"0.0.0.0.0.166.48.191",1,23,null,843,null,null,null,28280,"0.0.0.0.0.166.33.31",true,false,true,false,false,3,0,false,0]
["item",5,"10093",null,null,null,"Category 5e, 48 Port, 25 Pair Gigabit Ethernet Telco Connector Panel - 2RU","DCC488825/V01",null,"standard material","horizontal","Superior Modular Products","EA",189.75,0,"DWC",6810,null,"Kyle M. Daniel",0,"DWC",true,4,"0.0.0.0.0.166.48.194",1,70,null,844,null,null,null,28281,"0.0.0.0.0.166.33.34",true,false,false,true,false,2,1,false,0]
["item",5,"10126",null,null,null,"110 block Designation Strip Labels, Gray (180/pkg)","LAT-177-124-GY",null,"standard material","horizontal","Brady","EA",37.799999999999997,0,"DWC",6810,"Gray for 2nd Level TC's to TC's Voice Backbone Multipair 110 Block Terminations. ","Kyle M. Daniel",0,"DWC",true,4,"0.0.0.0.0.166.48.197",1,11,null,845,null,null,null,28282,"0.0.0.0.0.166.33.37",true,false,false,true,false,2,0,false,0]
["item",5,"10138",null,null,null,"300pr 110 Block w/o Legs For 110D Frames","P110B300-X",null,"standard material","horizontal","Panduit","EA",24.4,0,"DWC",6810,null,"Kyle M. Daniel",0,"DWC",true,4,"0.0.0.0.0.166.48.200",1,57,null,846,null,null,null,28283,"0.0.0.0.0.166.33.40",true,false,false,true,false,2,3,false,0]
["item",5,"INFO-2001","20",null,null,"Category 3, 48 Port Voice-Grade Patch Panel, w/1 Rear Cable Mgmt. Bar, Pre-Connectorized, 25pr Telco 8P8C (All 4Pair Deployed to Individual Ports)","G01-VGPNL-V48",null,"standard material","horizontal","Leviton","EA",135.47,0,"DWC",6810,"Use in racks when deploying 25 pair telco cables at voice backboard. Verify before using when VOIP as Template is 24 Ports. ","Kyle M. Daniel",0,"DWC",true,4,"0.0.0.0.0.166.48.203",1,43,null,65,null,null,null,27267,"0.0.0.0.0.166.33.43",true,false,false,true,false,2,0.5,false,0]
["item",5,"INFO-2002","21",null,null,"Category 5e, 48 port patch panel w/2 rear cable mgmt bars","G02-5EPNL-U48",null,"standard material","horizontal","Leviton","EA",177.16,0,"DWC",6810,null,"Kyle M. Daniel",0,"DWC",true,4,"0.0.0.0.0.166.48.206",1,43,null,66,null,null,null,27268,"0.0.0.0.0.166.33.46",true,false,false,true,false,2,0.5,false,0]
["item",5,"INFO-2003","22",null,null,"Category 5e, 24 port patch panel w/1 rear cable mgmt bar","G03-5EPNL-U24",null,"standard material","horizontal","Leviton","EA",88.58,0,"DWC",6810,null,"Kyle M. Daniel",0,"DWC",true,4,"0.0.0.0.0.166.48.209",1,43,null,67,null,null,null,27269,"0.0.0.0.0.166.33.49",true,false,false,true,false,2,0.5,false,0]
["item",5,"INFO-2004","23",null,null,"Patch panel cable mgmt bar (towel bar)","49005-CMB",null,"standard material","horizontal","Leviton","EA",11.06,0,"DWC",6810,null,"Kyle M. Daniel",0,"DWC",true,4,"0.0.0.0.0.166.48.212",1,43,null,68,null,null,null,27270,"0.0.0.0.0.166.33.52",true,false,false,true,false,2,0.06,false,0]
["item",5,"INFO-2035","54",null,null,"100pr 110 block kit w/C4 conn and blue designation sheets","G10-110C4-100",null,"standard material","horizontal","Leviton","EA",19.93,0,"DWC",6810,null,"Kyle M. Daniel",0,"DWC",true,4,"0.0.0.0.0.166.48.215",1,43,null,69,null,null,null,27271,"0.0.0.0.0.166.33.55",true,false,false,true,false,2,0.25,false,0]
["item",5,"INFO-2036","55",null,null,"100pr 110 block kit w/C5 conn and white designation sheets","G11-110C5-100",null,"standard material","horizontal","Leviton","EA",21.31,0,"DWC",6810,null,"Kyle M. Daniel",0,"DWC",true,4,"0.0.0.0.0.166.48.218",1,43,null,70,null,null,null,27272,"0.0.0.0.0.166.33.58",true,false,false,true,false,2,0.25,false,0]
["item",5,"INFO-2037","56",null,null,"300pr 110 block kit w/C4 conn and blue designation sheets","G12-110C4-300",null,"standard material","horizontal","Leviton","EA",55.78,0,"DWC",6810,null,"Kyle M. Daniel",0,"DWC",true,4,"0.0.0.0.0.166.48.221",1,43,null,71,null,null,null,27273,"0.0.0.0.0.166.33.61",true,false,false,true,false,2,0.25,false,0]
["item",5,"INFO-2038","57",null,null,"300pr 110 block kit w/C5 conn and white designation sheets","G13-110C5-300",null,"standard material","horizontal","Leviton","EA",58.54,0,"DWC",6810,null,"Kyle M. Daniel",0,"DWC",true,4,"0.0.0.0.0.166.48.224",1,43,null,72,null,null,null,27274,"0.0.0.0.0.166.33.64",true,false,false,true,false,2,0.25,false,0]
["item",5,"INFO-2039","58",null,null,"C-5 Connector Blocks, 110 Multipair Punchdowns (Package of 10)","49105-IDC","Actual Quantity=","standard material","horizontal","Leviton","EA",4.17,0,"DWC",6810,"ORDER PER PACKAGE","Kyle M. Daniel",0,"DWC",true,4,"0.0.0.0.0.166.48.227",1,43,null,73,null,null,null,27275,"0.0.0.0.0.166.33.67",true,false,false,true,false,2,1,false,0]
["item",5,"INFO-2040","59",null,null,"C-4 Connector Blocks, 110 UTP Punchdowns (Package of 10)","49104-IDC",null,"standard material","horizontal","Leviton","EA",0.37,0,"DWC",6810,"ORDER PER PACKAGE Qty of 10","Kyle M. Daniel",0,"DWC",true,4,"0.0.0.0.0.166.48.230",1,43,null,74,null,null,null,27276,"0.0.0.0.0.166.33.70",true,false,false,true,false,2,1,false,0]
["item",5,"INFO-2041","60",null,null,"300pr 110 block with legs (Bare)","41AW2-300",null,"standard material","horizontal","Leviton","EA",18.579999999999998,0,"DWC",6810,null,"Kyle M. Daniel",0,"DWC",true,4,"0.0.0.0.0.166.48.233",1,43,null,75,null,null,null,27277,"0.0.0.0.0.166.33.73",true,false,false,true,false,2,0.25,false,0]
["item",5,"INFO-2042","64",null,null,"4-pos hinged wall mount bracket","49251-W64",null,"standard material","physical","Leviton","EA",35.909999999999997,0,"DWC",6810,null,"Kyle M. Daniel",0,"DWC",true,4,"0.0.0.0.0.166.48.236",1,43,null,76,null,null,null,27278,"0.0.0.0.0.166.33.76",true,false,true,false,false,3,0.25,false,0]
["item",5,"INFO-2043","61",null,null,"110 Block Designation Strip Labels, Blue (180/pkg)","LAT-177-124-BL","Actual Quantity=","standard material","horizontal","Brady","EA",34.79,0,"DWC",6810,"Blue for UTP Voice Station and 25pr. Telco 110 Block Terminations. ","Kyle M. Daniel",0,"DWC",true,4,"0.0.0.0.0.166.48.239",1,11,null,77,null,null,null,27279,"0.0.0.0.0.166.33.79",true,false,false,true,false,2,0.25,false,0]
["item",5,"INFO-2044","62",null,null,"110 Block Designation Strip Labels, White (180/pkg)","LAT-177-124-WT","Actual Quantity=","standard material","horizontal","Brady","EA",34.79,0,"DWC",6810,"White for 1st Level MC to TC's Voice Backbone Multipair 110 Block Terminations. ","Kyle M. Daniel",0,"DWC",true,4,"0.0.0.0.0.166.48.242",1,11,null,78,null,null,null,27280,"0.0.0.0.0.166.33.82",true,false,false,true,false,2,0.25,false,0]
["item",5,"INFO-2360","96",null,null,"188B2 Backboard for X-connect Field/110 Blocks","104405113",null,"standard material","horizontal","Lucent","EA",29.06,0,"DWC",6810,null,"Kyle M. Daniel",0,"DWC",true,4,"0.0.0.0.0.166.48.245",1,44,null,79,null,null,null,27281,"0.0.0.0.0.166.33.85",true,false,false,true,false,2,1,false,0]
["Header",6,"Copper Wire Management"]
["item",6,"0094-49RT",1021,null,null,"2RU 3” Standoff Bracket (Pair)",40710245,null,"standard material","physical",{"$f":"VLOOKUP(Z92,rngManufacturerLookup,2,FALSE)","v":"Newton"},"EA",15.64,{"$f":"(E92*N92)","v":0},{"$f":"VLOOKUP(Y92,rngSupplierLookup,2,FALSE)","v":"DWC"},6810,"Used to prevent Radius Server from shifting on Shelf","Kyle M. Daniel",{"$f":"(F92*N92)","v":0},"DWC",true,4,"0.0.0.0.0.166.48.248",1,51,null,80,null,null,null,27282,"0.0.0.0.0.166.33.88",true,false,true,false,false,3,0.1,false,0]
["item",6,"0288-05FN",1069,null,null,"2RU 19\" Rack Mounted Wire Manager Front Only, With Cover, 3.5\"H x 19\"W x 3.7\"D","WMPF1E",null,"standard material","physical","Panduit","EA",39.35,0,"DWC",6810,"Order only with approvals","Kyle M. Daniel",0,"DWC",true,4,"0.0.0.0.0.166.48.251",1,57,null,81,null,null,null,27283,"0.0.0.0.0.166.33.91",true,false,true,false,false,3,0.1,false,0]
["item",6,"0419-11WJ",955,null,null,"3/4\" Cat.5e J-Hooks","CAT-12",null,"standard material","physical","Erico-Caddy","EA",0.88,0,"DWC",6810,null,"Kyle M. Daniel",0,"DWC",true,4,"0.0.0.0.0.166.48.254",1,27,null,82,null,null,null,27284,"0.0.0.0.0.166.33.94",true,false,true,false,false,3,0.1]
["item",6,"0672-TLLJ",1091,null,null,"5\" Aluminum D Ring, Voice Backboards","DST500",null,"standard material","physical","Garvin","EA",1.56,0,"DWC",6810,null,"Kyle M. Daniel",0,"DWC",true,4,"0.0.0.0.0.166.49.2",1,31,null,83,null,null,null,27285,"0.0.0.0.0.166.33.97",true,false,true,false,false,3,0.25,false,0]
["item",6,"0856-059T",1078,null,null,"Velcro Cable Wrap, Plenum Rated. 3/4\"w Maroon, 15' Roll, Cut to Length","GT.75X180MV2",null,"standard material","physical","Hellermann Tyton","EA",9.26,0,"DWC",6810,"For use in Plenum Rated Spaces. Above Ceiling Space and Below Raised Floor. Not for use in TC Rooms.","Kyle M. Daniel",0,"DWC",true,4,"0.0.0.0.0.166.49.5",1,36,null,84,null,null,null,27286,"0.0.0.0.0.166.33.100",true,false,true,false,false,3,1]
["item",6,"10121",null,null,null,"Mount horizontal wire manager-------Labor Only","Horizontal Wire Manager-L",null,"standard material","physical","DWC","EA",38.700000000000003,0,"DWC",6810,null,"Kyle M. Daniel",0,"DWC",true,4,"0.0.0.0.0.166.49.8",1,23,null,847,null,null,null,28284,"0.0.0.0.0.166.33.103",true,false,true,false,false,3,0,false,0]
["item",6,"INFO-2307","77",null,null,"1RU 19\" Cable Manager w/ D Rings on end - Cabinets","HCM-1DV",null,"standard material","horizontal","Datatel","EA",16.5,0,"DWC",6810,"Template for cabinet installation","Kyle M. Daniel",0,"DWC",true,4,"0.0.0.0.0.166.49.11",1,22,null,85,null,null,null,27287,"0.0.0.0.0.166.33.106",true,false,false,true,false,2,0.12,false,0]
["item",6,"INFO-2310","85",null,null,"2\" CAT 5 J Hook","CAT-32",null,"standard material","horizontal","Erico-Caddy","EA",1.48,0,"DWC",6810,"Typically supplied by UTP installation contractor.","Kyle M. Daniel",0,"DWC",true,4,"0.0.0.0.0.166.49.14",1,27,null,86,null,null,null,27288,"0.0.0.0.0.166.33.109",true,false,false,true,false,2,0.12,false,0]
["item",6,"INFO-2341","78",null,null,"2RU 19\" Cable Manager w/ D Rings on end - Cabinets","HCM-2DV",null,"standard material","horizontal","Datatel","EA",17.75,0,"DWC",6810,"Template for cabinet installation","Kyle M. Daniel",0,"DWC",true,4,"0.0.0.0.0.166.49.17",1,22,null,87,null,null,null,27289,"0.0.0.0.0.166.33.112",true,false,false,true,false,2,0.12,false,0]
["item",6,"INFO-2342","79",null,null,"1RU 19\" Cable Manager w/o D Rings on end - Racks","HCM-1D",null,"standard material","horizontal","Datatel","EA",15.3,0,"DWC",6810,"Template for rack installation","Kyle M. Daniel",0,"DWC",true,4,"0.0.0.0.0.166.49.20",1,22,null,88,null,null,null,27290,"0.0.0.0.0.166.33.115",true,false,false,true,false,2,0.12,false,0]
["item",6,"INFO-2343","80",null,null,"2RU 19\" Cable Manager w/o D Rings on end - Racks","HCM-2D",null,"standard material","horizontal","Datatel","EA",16.5,0,"DWC",6810,"Template for rack installation","Kyle M. Daniel",0,"DWC",true,4,"0.0.0.0.0.166.49.23",1,22,null,89,null,null,null,27291,"0.0.0.0.0.166.33.118",true,false,false,true,false,2,0.12,false,0]
["item",6,"INFO-2349","76",null,null,"2\" Aluminum D Ring, Voice Backboards","DST-200",null,"standard material","horizontal","Garvin","EA",1.1499999999999999,0,"DWC",6810,"Used for routing of small multipair cables along/down voice backboards","Kyle M. Daniel",0,"DWC",true,4,"0.0.0.0.0.166.49.26",1,31,null,90,null,null,null,27292,"0.0.0.0.0.166.33.121",true,false,false,true,false,2,0.08,false,0]
["item",6,"INFO-2350","92",null,null,"Plenum Rated Plastic Cable Tie 15\" Long , Red (package of 50)","T120R2HALK2",null,"standard material","horizontal","Hellermann Tyton","EA",113.96,0,"DWC",6810,"PLASTIC CABLE TIE .31/78 MM wide DO NOT USE WITHOUT GM ELEMENT OWNER ACEPTANCE","Kyle M. Daniel",0,"DWC",true,4,"0.0.0.0.0.166.49.29",1,36,null,91,null,null,null,27293,"0.0.0.0.0.166.33.124",true,false,false,true,false,2,0.1,false,0]
["item",6,"INFO-2351","86",null,null,"Nylon Cable Tie 4\" Long, Gray (package of 1000)","T18ROM4",null,"standard material","horizontal","Hellermann Tyton","EA",12.2,0,"DWC",6810,"GRAY PLASTIC CABLE TIE .10\"/ MM wide DO NOT USE WITHOUT GM ELEMENT OWNER ACEPTANCE. Typically supplied by installation contractor.  Do not use in Plenum areas.","Kyle M. Daniel",0,"DWC",true,4,"0.0.0.0.0.166.49.32",1,36,null,92,null,null,null,27294,"0.0.0.0.0.166.33.127",true,false,false,true,false,2,1,false,0]
["item",6,"INFO-2352","87",null,null,"Nylon Cable Tie 6\" Long, Black (package of 1000)","T30ROM4",null,"standard material","horizontal","Hellermann Tyton","EA",19.5,0,"DWC",6810,"BLACK PLASTIC CABLE TIE .14/3.5 MM wide DO NOT USE WITHOUT GM ELEMENT OWNER ACEPTANCE. Typically supplied by installation contractor.  Do not use in Plenum areas.","Kyle M. Daniel",0,"DWC",true,4,"0.0.0.0.0.166.49.35",1,36,null,93,null,null,null,27295,"0.0.0.0.0.166.33.130",true,false,false,true,false,2,1,false,0]
["item",6,"INFO-2353","88",null,null,"Nylon Cable Tie 8.5\" Long, Black (package of 1000)","T40ROM4",null,"standard material","horizontal","Hellermann Tyton","EA",24.23,0,"DWC",6810,"BLACK PLASTIC CABLE TIE .16/4 MM wide DO NOT USE WITHOUT GM ELEMENT OWNER ACEPTANCE. Typically supplied by installation contractor.  Do not use in Plenum areas.","Kyle M. Daniel",0,"DWC",true,4,"0.0.0.0.0.166.49.38",1,36,null,94,null,null,null,27296,"0.0.0.0.0.166.33.133",true,false,false,true,false,2,1,false,0]
["item",6,"INFO-2354","89",null,null,"Nylon Cable Tie 11.5\" Long, Black (package of 1000)","T40IOM4",null,"standard material","horizontal","Hellermann Tyton","EA",50.01,0,"DWC",6810,"BLACK PLASTIC CABLE TIE .16/4 MM wide DO NOT USE WITHOUT GM ELEMENT OWNER ACEPTANCE. Typically supplied by installation contractor.  Do not use in Plenum areas.","Kyle M. Daniel",0,"DWC",true,4,"0.0.0.0.0.166.49.41",1,36,null,95,null,null,null,27297,"0.0.0.0.0.166.33.136",true,false,false,true,false,2,1,false,0]
["item",6,"INFO-2355","90",null,null,"White Cable tie mount used with #10 Saddle, (package of 100)","CTM310C2",null,"standard material","horizontal","Hellermann Tyton","EA",19.149999999999999,0,"DWC",6810,"Typically supplied by installation contractor.  Do not use in Plenum areas.","Kyle M. Daniel",0,"DWC",true,4,"0.0.0.0.0.166.49.44",1,36,null,96,null,null,null,27298,"0.0.0.0.0.166.33.139",true,false,false,true,false,2,1,false,0]
["item",6,"INFO-2356","91",null,null,"Nylon Cable Tie 14.5\" Long, Black (package of 1000)","T40L0M4",null,"standard material","horizontal","Hellermann Tyton","EA",70.150000000000006,0,"DWC",6810,"Typically supplied by installation contractor.  Do not use in Plenum areas.","Kyle M. Daniel",0,"DWC",true,4,"0.0.0.0.0.166.49.47",1,36,null,97,null,null,null,27299,"0.0.0.0.0.166.33.142",true,false,false,true,false,2,1,false,0]
["item",6,"INFO-2357","93",null,null,"Velcro Cable Tie 6\" Long, Black (Perforated/10 Ties/Pkg.)","GT.50X60P2",null,"standard material","horizontal","Hellermann Tyton","EA",4.13,0,"DWC",6810,"Typically supplied by installation contractor.  For Plenum areas.","Kyle M. Daniel",0,"DWC",true,4,"0.0.0.0.0.166.49.50",1,36,null,98,null,null,null,27300,"0.0.0.0.0.166.33.145",true,false,false,true,false,2,7.0000000000000007E-2,false,0]
["item",6,"INFO-2358","94",null,null,"Velcro Cable Tie - Black (cut to length roll of 15')","GT.75X1800",null,"standard material","horizontal","Hellermann Tyton","EA",6.65,0,"DWC",6810,"Typically supplied by installation contractor.  For Plenum areas.","Kyle M. Daniel",0,"DWC",true,4,"0.0.0.0.0.166.49.53",1,36,null,99,null,null,null,27301,"0.0.0.0.0.166.33.148",true,false,false,true,false,2,7.0000000000000007E-2,false,0]
["item",6,"INFO-2359","853",null,null,"Velcro Cable Tie 11\" Long, Black (Perforated/10 Ties/Pkg.)","GT.50X110P2",null,"standard material","horizontal","Hellermann Tyton","EA",5.34,0,"DWC",6810,"Typically supplied by installation contractor.  For Plenum areas.","Kyle M. Daniel",0,"DWC",true,4,"0.0.0.0.0.166.49.56",1,36,null,100,null,null,null,27302,"0.0.0.0.0.166.33.151",true,false,false,true,false,2,7.0000000000000007E-2,false,0]
["item",6,"INFO-2399","569",null,null,"4\" Cat.5e J-Hooks","CAT-64",null,"standard material","physical","Erico-Caddy","EA",2.92,0,"DWC",6810,null,"Kyle M. Daniel",0,"DWC",true,4,"0.0.0.0.0.166.49.59",1,27,null,101,null,null,null,27303,"0.0.0.0.0.166.33.154",true,false,true,false,false,3,0.1]
["item",6,"INFO-9025","467",null,null,"Small Beam clamp for 3/4\", 2\" and 4\" J-Hooks","500",null,"standard material","physical","Steel City","EA",0.45,0,"DWC",6810,"Order beam clamps for the 2\" J-Hook (INFO-2310) and the 4\" J-Hook (INFO-2399).","Kyle M. Daniel",0,"DWC",true,4,"0.0.0.0.0.166.49.62",1,67,null,102,null,null,null,27304,"0.0.0.0.0.166.33.157",true,false,true,false,false,3,0.1,false,0]
["item",6,"INRF-0103","488",null,null,"Velcro Cable Tie, 15\" Black - 10 pcs per roll","GT.75X150P2",null,"standard material","physical","Hellermann Tyton","EA",10.51,0,"DWC",6810,null,"Kyle M. Daniel",0,"DWC",true,4,"0.0.0.0.0.166.49.65",1,36,null,103,null,null,null,27305,"0.0.0.0.0.166.33.160",true,false,true,false,false,3,0.25,false,0]
["Header",7,"Horizontal Cable and Patch Cords"]
["item",7,"0217-13VG",1095,null,null,"Cat.5e RJ-45 Patch Cord - 3 ft. - Blue Jacket","5G460-03L",null,"standard material","horizontal",{"$f":"VLOOKUP(Z118,rngManufacturerLookup,2,FALSE)","v":"Leviton"},"EA",2.67,{"$f":"(E118*N118)","v":0},{"$f":"VLOOKUP(Y118,rngSupplierLookup,2,FALSE)","v":"DWC"},6810,"DATA1","Kyle M. Daniel",{"$f":"(F118*N118)","v":0},"DWC",true,4,"0.0.0.0.0.166.49.68",1,43,null,104,null,null,null,27306,"0.0.0.0.0.166.33.163",true,false,false,true,false,2,0.1,false,0]
["item",7,"0217-13VH",1096,null,null,"Cat.5e RJ-45 Patch Cord - 5 ft. - Blue Jacket","5G460-05L",null,"standard material","horizontal","Leviton","EA",2.83,0,"DWC",6810,"DATA1","Kyle M. Daniel",0,"DWC",true,4,"0.0.0.0.0.166.49.71",1,43,null,105,null,null,null,27307,"0.0.0.0.0.166.33.166",true,false,false,true,false,2,0.1,false,0]
["item",7,"0217-13VJ",1097,null,null,"Cat.5e RJ-45 Patch Cord - 7 ft. - Blue Jacket","5G460-07L",null,"standard material","horizontal","Leviton","EA",3.33,0,"DWC",6810,"DATA1","Kyle M. Daniel",0,"DWC",true,4,"0.0.0.0.0.166.49.74",1,43,null,106,null,null,null,27308,"0.0.0.0.0.166.33.169",true,false,false,true,false,2,0.1,false,0]
["item",7,"0217-13VK",1098,null,null,"Cat.5e RJ-45 Patch Cord - 10 ft. - Blue Jacket","5G460-10L",null,"standard material","horizontal","Leviton","EA",3.88,0,"DWC",6810,"DATA1","Kyle M. Daniel",0,"DWC",true,4,"0.0.0.0.0.166.49.77",1,43,null,107,null,null,null,27309,"0.0.0.0.0.166.33.172",true,false,false,true,false,2,0.1,false,0]
["item",7,"0217-13VL",1099,null,null,"Cat.5e RJ-45 Patch Cord - 15 ft. - Blue Jacket","5G460-15L",null,"standard material","horizontal","Leviton","EA",5.62,0,"DWC",6810,"DATA1","Kyle M. Daniel",0,"DWC",true,4,"0.0.0.0.0.166.49.80",1,43,null,108,null,null,null,27310,"0.0.0.0.0.166.33.175",true,false,false,true,false,2,0.1,false,0]
["item",7,"0217-13VM",1100,null,null,"Cat.5e RJ-45 Patch Cord - 20 ft. - Blue Jacket","5G460-20L",null,"standard material","horizontal","Leviton","EA",6.36,0,"DWC",6810,"DATA1","Kyle M. Daniel",0,"DWC",true,4,"0.0.0.0.0.166.49.83",1,43,null,109,null,null,null,27311,"0.0.0.0.0.166.33.178",true,false,false,true,false,2,0.1,false,0]
["item",7,"0217-13VN",1101,null,null,"Cat.5e RJ-45 Patch Cord - 3 ft. - Yellow Jacket","5G460-03Y",null,"standard material","horizontal","Leviton","EA",2.67,0,"DWC",6810,"DATA2","Kyle M. Daniel",0,"DWC",true,4,"0.0.0.0.0.166.49.86",1,43,null,110,null,null,null,27312,"0.0.0.0.0.166.33.181",true,false,false,true,false,2,0.1,false,0]
["item",7,"0217-13VP",1102,null,null,"Cat.5e RJ-45 Patch Cord - 5 ft. - Yellow Jacket","5G460-05Y",null,"standard material","horizontal","Leviton","EA",2.83,0,"DWC",6810,"DATA2","Kyle M. Daniel",0,"DWC",true,4,"0.0.0.0.0.166.49.89",1,43,null,111,null,null,null,27313,"0.0.0.0.0.166.33.184",true,false,false,true,false,2,0.1,false,0]
["item",7,"0217-13VR",1103,null,null,"Cat.5e RJ-45 Patch Cord - 7 ft. - Yellow Jacket","5G460-07Y",null,"standard material","horizontal","Leviton","EA",3.33,0,"DWC",6810,"DATA2","Kyle M. Daniel",0,"DWC",true,4,"0.0.0.0.0.166.49.92",1,43,null,112,null,null,null,27314,"0.0.0.0.0.166.33.187",true,false,false,true,false,2,0.1,false,0]
["item",7,"0217-13VT",1104,null,null,"Cat.5e RJ-45 Patch Cord - 10 ft. - Yellow Jacket","5G460-10Y",null,"standard material","horizontal","Leviton","EA",3.88,0,"DWC",6810,"DATA2","Kyle M. Daniel",0,"DWC",true,4,"0.0.0.0.0.166.49.95",1,43,null,113,null,null,null,27315,"0.0.0.0.0.166.33.190",true,false,false,true,false,2,0.1,false,0]
["item",7,"0217-13VV",1105,null,null,"Cat.5e RJ-45 Patch Cord - 15 ft. - Yellow Jacket","5G460-15Y",null,"standard material","horizontal","Leviton","EA",5.62,0,"DWC",6810,"DATA2","Kyle M. Daniel",0,"DWC",true,4,"0.0.0.0.0.166.49.98",1,43,null,114,null,null,null,27316,"0.0.0.0.0.166.33.193",true,false,false,true,false,2,0.1,false,0]
["item",7,"0217-13VW",1106,null,null,"Cat.5e RJ-45 Patch Cord - 20 ft. - Yellow Jacket","5G460-20Y",null,"standard material","horizontal","Leviton","EA",6.36,0,"DWC",6810,"DATA2","Kyle M. Daniel",0,"DWC",true,4,"0.0.0.0.0.166.49.101",1,43,null,115,null,null,null,27317,"0.0.0.0.0.166.33.196",true,false,false,true,false,2,0.1,false,0]
["item",7,"0217-13VX",1107,null,null,"Cat.5e RJ-45 Voice Patch Cord - 7 ft. - Gray Jacket","5G460-07S",null,"standard material","horizontal","Leviton","EA",3.33,0,"DWC",6810,"Usually used for Desktop installations","Kyle M. Daniel",0,"DWC",true,4,"0.0.0.0.0.166.49.104",1,43,null,116,null,null,null,27318,"0.0.0.0.0.166.33.199",true,false,false,true,false,2,0.1,false,0]
["item",7,"0217-13VY",1108,null,null,"Cat.5e RJ-45 Voice Patch Cord - 10 ft. - Gray Jacket","5G460-10S",null,"standard material","horizontal","Leviton","EA",3.88,0,"DWC",6810,"Usually used for Desktop installations","Kyle M. Daniel",0,"DWC",true,4,"0.0.0.0.0.166.49.107",1,43,null,117,null,null,null,27319,"0.0.0.0.0.166.33.202",true,false,false,true,false,2,0.1,false,0]
["item",7,"0217-13W0",1109,null,null,"Cat.5e RJ-45 Voice Patch Cord - 15 ft. - Gray Jacket","5G460-15S",null,"standard material","horizontal","Leviton","EA",5.62,0,"DWC",6810,"Usually used for Desktop installations","Kyle M. Daniel",0,"DWC",true,4,"0.0.0.0.0.166.49.110",1,43,null,118,null,null,null,27320,"0.0.0.0.0.166.33.205",true,false,false,true,false,2,0.1,false,0]
["item",7,"0217-13W1",1110,null,null,"Cat.5e RJ-45 Voice Patch Cord - 20 ft. - Gray Jacket","5G460-20S",null,"standard material","horizontal","Leviton","EA",6.36,0,"DWC",6810,"Usually used for Desktop installations","Kyle M. Daniel",0,"DWC",true,4,"0.0.0.0.0.166.49.113",1,43,null,119,null,null,null,27321,"0.0.0.0.0.166.33.208",true,false,false,true,false,2,0.1,false,0]
["item",7,"10041",null,null,null,"Cat 5e UTP Station Wire, 1000' Plenum in Box 350 MHz Hot Pink (For Data 3, Data 4, Data 5 & Data 6)","5504M-Pink","Actual Footage=","standard material","horizontal","CommScope","BOX",211.2,0,"DWC",7593,"Hot Pink Cable is Typically Used for Additional \"Data Ports\" Beyond Data 1 and Data 2 at an Outlet. Verify with Owner","Kyle M. Daniel",0,"DWC",true,2,"0.0.0.0.0.166.49.116",1,19,null,848,null,null,null,28285,"0.0.0.0.0.166.33.211",true,false,false,true,false,2,3,false,0]
["item",7,"10047",null,null,null,"Cat. 5e UTP Station Wire, 1000' reel, Outdoor Rated 350 MHZ (Black color only)","5NF4","Actual Footage=","standard material","horizontal","CommScope","REEL",195,0,"DWC",7593,"Suitable for above and below ground installations in conduit, Not for Direct Buried INstallations","Kyle M. Daniel",0,"DWC",true,8,"0.0.0.0.0.166.49.119",1,19,null,849,null,null,null,28286,"0.0.0.0.0.166.33.214",true,false,false,true,false,2,3,false,0]
["item",7,"10348",null,null,null,"5M Cat 5e Low Smoke Zero Halogen Patch Cord, Blue","5Z460-BL5",null,"standard material","horizontal","Leviton","EA",4.0999999999999996,0,"DWC",6810,null,"Kyle M. Daniel",0,"DWC",true,4,"0.0.0.0.0.166.49.122",1,43,null,1414,null,null,null,30189,"0.0.0.0.0.166.33.217",true,false,false,true,false,2,0.1,false,0]
["item",7,"INFO-2414","1",null,null,"Cat. 5e UTP station wire, 1000' plenum in box 350 MHz. (Blue for Data 1)","5504M-BLUE","Actual Footage=","standard material","horizontal","CommScope","BOX",211.2,0,"DWC",7593,"Order Per Box","Kyle M. Daniel",0,"DWC",true,2,"0.0.0.0.0.166.49.125",1,19,null,120,null,null,null,27322,"0.0.0.0.0.166.33.220",true,false,false,true,false,2,3,false,0]
["item",7,"INFO-2415","2",null,null,"Cat. 5e UTP station wire, 1000' plenum in box 350 MHz. (Yellow for Data 2)","5504M-YELLOW","Actual Footage=","standard material","horizontal","CommScope","BOX",211.2,0,"DWC",7593,"Order Per Box","Kyle M. Daniel",0,"DWC",true,2,"0.0.0.0.0.166.49.128",1,19,null,121,null,null,null,27323,"0.0.0.0.0.166.33.223",true,false,false,true,false,2,3,false,0]
["item",7,"INFO-2416","3",null,null,"Cat. 5e UTP station wire, 1000' plenum in box 350 MHz. (Gray for Voice )","5504M-GRAY","Actual Footage=","standard material","horizontal","CommScope","BOX",211.2,0,"DWC",7593,"Order Per Box","Kyle M. Daniel",0,"DWC",true,2,"0.0.0.0.0.166.49.131",1,19,null,122,null,null,null,27324,"0.0.0.0.0.166.33.226",true,false,false,true,false,2,3,false,0]
["item",7,"INFO-2417","4",null,null,"Cat. 5e UTP station wire, 1000' non-plenum in box 350 MHz. (Blue for Data 1)","55N4R-BLUE","Actual Footage=","standard material","horizontal","CommScope","BOX",115.8,0,"DWC",7593,"Order Per Box","Kyle M. Daniel",0,"DWC",true,2,"0.0.0.0.0.166.49.134",1,19,null,123,null,null,null,27325,"0.0.0.0.0.166.33.229",true,false,false,true,false,2,0,false,0]
["item",7,"INFO-2418","5",null,null,"Cat. 5e UTP station wire, 1000' non-plenum in box 350 MHz. (Yellow for Data 2)","55N4R-YELLOW","Actual Footage=","standard material","horizontal","CommScope","BOX",115.8,0,"DWC",7593,"Order Per Box","Kyle M. Daniel",0,"DWC",true,2,"0.0.0.0.0.166.49.137",1,19,null,124,null,null,null,27326,"0.0.0.0.0.166.33.232",true,false,false,true,false,2,0,false,0]
["item",7,"INFO-2419","6",null,null,"Cat. 5e UTP station wire, 1000' non-plenum in box 350 MHz. (Gray for Voice)","55N4R-GRAY","Actual Footage=","standard material","horizontal","CommScope","BOX",115.8,0,"DWC",7593,"Order Per Box","Kyle M. Daniel",0,"DWC",true,2,"0.0.0.0.0.166.49.140",1,19,null,125,null,null,null,27327,"0.0.0.0.0.166.33.235",true,false,false,true,false,2,0,false,0]
["item",7,"INFO-2473","99",null,null,"Cat.5e RJ-45 Cross-Over patch cord - 3 ft - Red Jacket","GMC-5EXPC-03R",null,"standard material","horizontal","DWC","EA",2.67,0,"DWC",6810,"Cross-Over Cable","Kyle M. Daniel",0,"DWC",true,4,"0.0.0.0.0.166.49.143",1,23,null,126,null,null,null,27328,"0.0.0.0.0.166.33.238",true,false,false,true,false,2,0.1,false,0]
["item",7,"INFO-2481","122",null,null,"Cat 5e Voice Patch Cord - 3 ft. - Gray Jacket","G38-05EPC-03S",null,"standard material","horizontal","Leviton","EA",2.67,0,"DWC",6810,"Usually used for Template Rack Elevation","Kyle M. Daniel",0,"DWC",true,4,"0.0.0.0.0.166.49.146",1,43,null,127,null,null,null,27329,"0.0.0.0.0.166.33.241",true,false,false,true,false,2,0.1,false,0]
["item",7,"INFO-2482","123",null,null,"Cat 5e Voice Patch Cord - 5 ft. - Gray Jacket","G39-05EPC-05S",null,"standard material","horizontal","Leviton","EA",2.83,0,"DWC",6810,"Usually used for Template Rack Elevation","Kyle M. Daniel",0,"DWC",true,4,"0.0.0.0.0.166.49.149",1,43,null,128,null,null,null,27330,"0.0.0.0.0.166.33.244",true,false,false,true,false,2,0.1,false,0]
["item",7,"INFO-2484","101",null,null,"Cat.5e RJ-45 patch cord - 1 ft.- White Jacket","G14-05EPC-01W",null,"standard material","horizontal","Leviton","EA",2.63,0,"DWC",6810,"USED WHEN??","Kyle M. Daniel",0,"DWC",true,4,"0.0.0.0.0.166.49.152",1,43,null,129,null,null,null,27331,"0.0.0.0.0.166.33.247",true,false,false,true,false,2,0.1,false,0]
["item",7,"INFO-2485","102",null,null,"Cat.5e RJ-45 patch cord - 3 ft.- White Jacket","G15-05EPC-03W",null,"standard material","horizontal","Leviton","EA",2.67,0,"DWC",6810,"USED WHEN??","Kyle M. Daniel",0,"DWC",true,4,"0.0.0.0.0.166.49.155",1,43,null,130,null,null,null,27332,"0.0.0.0.0.166.33.250",true,false,false,true,false,2,0.1,false,0]
["item",7,"INFO-2486","103",null,null,"Cat.5e RJ-45 patch cord - 5 ft. - White Jacket","G16-05EPC-05W",null,"standard material","horizontal","Leviton","EA",2.83,0,"DWC",6810,"USED WHEN??","Kyle M. Daniel",0,"DWC",true,4,"0.0.0.0.0.166.49.158",1,43,null,131,null,null,null,27333,"0.0.0.0.0.166.33.253",true,false,false,true,false,2,0.1,false,0]
["item",7,"INFO-2487","104",null,null,"Cat.5e RJ-45 patch cord - 7 ft. - White Jacket","G17-05EPC-07W",null,"standard material","horizontal","Leviton","EA",3.33,0,"DWC",6810,"USED WHEN??","Kyle M. Daniel",0,"DWC",true,4,"0.0.0.0.0.166.49.161",1,43,null,132,null,null,null,27334,"0.0.0.0.0.166.34.1",true,false,false,true,false,2,0.1,false,0]
["item",7,"INFO-2488","105",null,null,"Cat.5e RJ-45 patch cord - 10 ft. - White Jacket","G18-5GEPC-10W",null,"standard material","horizontal","Leviton","EA",3.88,0,"DWC",6810,"USED WHEN??","Kyle M. Daniel",0,"DWC",true,4,"0.0.0.0.0.166.49.164",1,43,null,133,null,null,null,27335,"0.0.0.0.0.166.34.4",true,false,false,true,false,2,0.1,false,0]
["item",7,"INFO-2489","106",null,null,"Cat.5e RJ-45 patch cord - 15 ft. - White Jacket","G19-05EPC-15W",null,"standard material","horizontal","Leviton","EA",5.62,0,"DWC",6810,"USED WHEN??","Kyle M. Daniel",0,"DWC",true,4,"0.0.0.0.0.166.49.167",1,43,null,134,null,null,null,27336,"0.0.0.0.0.166.34.7",true,false,false,true,false,2,0.1,false,0]
["item",7,"INFO-2490","107",null,null,"Cat.5e RJ-45 patch cord - 20 ft. - White Jacket","G20-05EPC-20W",null,"standard material","horizontal","Leviton","EA",6.36,0,"DWC",6810,"USED WHEN??","Kyle M. Daniel",0,"DWC",true,4,"0.0.0.0.0.166.49.170",1,43,null,135,null,null,null,27337,"0.0.0.0.0.166.34.10",true,false,false,true,false,2,0.1,false,0]
["item",7,"INFO-2491","108",null,null,"Cat.5e RJ-45 patch cord - 25 ft. - White Jacket","G21-05EPC-25W",null,"standard material","horizontal","Leviton","EA",8.8800000000000008,0,"DWC",6810,"USED WHEN??","Kyle M. Daniel",0,"DWC",true,4,"0.0.0.0.0.166.49.173",1,43,null,136,null,null,null,27338,"0.0.0.0.0.166.34.13",true,false,false,true,false,2,0.1,false,0]
["item",7,"INFO-8661","502",null,null,"Cat.5e RJ-45 Cross-Over patch cord - 6 ft - Red Jacket","GMC-5EXPC-06R",null,"standard material","horizontal","DWC","EA",3.33,0,"DWC",6810,"Cross-Over Cable","Kyle M. Daniel",0,"DWC",true,4,"0.0.0.0.0.166.49.176",1,23,null,137,null,null,null,27339,"0.0.0.0.0.166.34.16",true,false,false,true,false,2,0.1,false,0]
["Header",9,"Fiber Termination"]
["item",9,"0009-CP16",1006,null,null,"Blue SC SM Duplex Flangeless Bulkhead coupler for Polimods Only","CS000475",null,"standard material","physical",{"$f":"VLOOKUP(Z156,rngManufacturerLookup,2,FALSE)","v":"AFL"},"EA",6.53,{"$f":"(E156*N156)","v":0},{"$f":"VLOOKUP(Y156,rngSupplierLookup,2,FALSE)","v":"DWC"},6810,"Order only when replacing green couplers on APC Polimods for SC/USC Terminations","Kyle M. Daniel",{"$f":"(F156*N156)","v":0},"DWC",true,4,"0.0.0.0.0.166.49.179",1,2,null,138,null,null,null,27340,"0.0.0.0.0.166.34.19",true,false,true,false,false,3,0.1]
["item",9,"0119-C4FM","01112",null,null,"SC/Blunt, SM, Fiber Pigtail, 900um, Simplex, 2 Meter (Polimod Spares)","C146507-0002",null,"standard material","physical","AFL","EA",5.89,0,"DWC",6810,"Order 1 Spare for each polymod ordered","Kyle M. Daniel",0,"DWC",true,4,"0.0.0.0.0.166.49.182",1,2,null,139,null,null,null,27341,"0.0.0.0.0.166.34.22",true,false,true,false,false,3,0.1]
["item",9,"0119-C4FN","01113",null,null,"SC/Blunt, MM, Fiber Pigtail, 900um, Simplex, 2 Meter (Polimod Spares)","C016381-0002",null,"standard material","physical","AFL","EA",5.89,0,"DWC",6810,"Order 1 Spare for each polymod ordered","Kyle M. Daniel",0,"DWC",true,4,"0.0.0.0.0.166.49.185",1,2,null,140,null,null,null,27342,"0.0.0.0.0.166.34.25",true,false,true,false,false,3,0.1]
["item",9,"0456-0XFW",1001,null,null,"Fusion Splice Holder Chip Kit (Single Fiber Splices)","91745-02",null,"standard material","physical","AFL","EA",5.54,0,"DWC",6810,"(1) For single fiber fusion splices in exiting panels","Kyle M. Daniel",0,"DWC",true,4,"0.0.0.0.0.166.49.188",1,2,null,141,null,null,null,27343,"0.0.0.0.0.166.34.28",true,false,true,false,false,3,0.1]
["item",9,"0528-5K2H",1093,null,null,"(6) LC SM Blue Duplex Bulkhead Coupler PoliMod Patch & Splice Module for 12 fiber splices and terminations, includes (12) 40mm splice protectors","FM000699",null,"standard material","physical","AFL","EA",188,0,"DWC",6810,null,"Kyle M. Daniel",0,"DWC",true,4,"0.0.0.0.0.166.49.191",1,2,null,145,null,null,null,27347,"0.0.0.0.0.166.34.31",true,false,true,false,false,3,0.1]
["item",9,"0607-DF8H",1076,null,null,"Twelve Fiber (6 duplex) SC MM/SM Adapter Plate, Telco White, 4RU Panels","C219604",null,"standard material","physical","AFL","EA",45.34,0,"DWC",6810,null,"Kyle M. Daniel",0,"DWC",true,4,"0.0.0.0.0.166.49.194",1,2,null,147,null,null,null,27349,"0.0.0.0.0.166.34.34",true,false,true,false,false,3,0.1]
["item",9,"0607-DF8J",1092,null,null,"24 Fiber Position, LC SM Adapter Plate\r\n(12 Duplex) Telco White, 170 (5RU panel)","FM000129",null,"standard material","physical","AFL","EA",90.93,0,"DWC",6810,"Used in High-Density MC Applications (NOTE: Can only be used in conjunction with AFL 5 RU White Fiber Panel Part# FM000374-WE)","Kyle M. Daniel",0,"DWC",true,4,"0.0.0.0.0.166.49.197",1,2,null,148,null,null,null,27350,"0.0.0.0.0.166.34.37",true,false,true,false,false,3,0.1]
["item",9,"10065",null,null,null,"OEE-720/1440 LightLink Optical Splice Entrance Enclosure (Large 30\"W x 40\"H)","911275-00-05",null,"standard material","physical","AFL","EA",1968,0,"DWC",6810,"Holds up to 1440 Single Fusion Splices; Full = (30) 24/48 Position Splice Drawers INFO #3058","Kyle M. Daniel",0,"DWC",true,4,"0.0.0.0.0.166.49.200",1,2,null,850,null,null,null,28287,"0.0.0.0.0.166.34.40",true,false,true,false,false,3,1,false,0]
["item",9,"10066",null,null,null,"OEE-288/576 LightLink Optical Splice Entrance Enclosure (Small 30\"W x 22\"H)","911309-00-05",null,"standard material","physical","AFL","EA",1197,0,"DWC",6810,"Holds up to 576 Single Fusion Splices; Full = (12) 24/48 Position Splice Drawers INFO #3058","Kyle M. Daniel",0,"DWC",true,4,"0.0.0.0.0.166.49.203",1,2,null,851,null,null,null,28288,"0.0.0.0.0.166.34.43",true,false,true,false,false,3,1,false,0]
["item",9,"10081",null,null,null,"Add optical fiber patch panel, bulk heads, blanks, splice panel to cabinet or rack-------Labor Only","C195941-L",null,"standard material","physical","DWC","EA",54,0,"DWC",6810,null,"Kyle M. Daniel",0,"DWC",true,4,"0.0.0.0.0.166.49.206",1,23,null,852,null,null,null,28289,"0.0.0.0.0.166.34.46",true,false,true,false,false,3,0,false,0]
["item",9,"10107",null,null,null,"24 Fiber Position, LC SM Adapter Plate\r\n(12 Duplex) Black, 170 (5RU panel)","FM000130",null,"standard material","physical","AFL","EA",92.8,0,"DWC",6810,"Used in High-Density MC Applications (NOTE: Can only be used in conjunction with AFL 5 RU Black Fiber Panel Part# FM000374-BE)","Kyle M. Daniel",0,"DWC",true,4,"0.0.0.0.0.166.49.209",1,2,null,853,null,null,null,28290,"0.0.0.0.0.166.34.49",true,false,true,false,false,3,0.1,false,0]
["item",9,"10108",null,null,null,"24 Fiber Position, LC MM Adapter Plate\r\n(12 Duplex) Telco White, 170 (5RU panel)","FM000131",null,"standard material","physical","AFL","EA",92.8,0,"DWC",6810,"Used in High-Density MC Applications (NOTE: Can only be used in conjunction with AFL 5 RU White Fiber Panel Part# FM000374-WE)","Kyle M. Daniel",0,"DWC",true,4,"0.0.0.0.0.166.49.212",1,2,null,854,null,null,null,28291,"0.0.0.0.0.166.34.52",true,false,true,false,false,3,0.1,false,0]
["item",9,"10109",null,null,null,"24 Fiber Position, LC MM Adapter Plate\r\n(12 Duplex) Black, 170 (5RU panel)","FM000132",null,"standard material","physical","AFL","EA",92.8,0,"DWC",6810,"Used in High-Density MC Applications (NOTE: Can only be used in conjunction with AFL 5 RU Black Fiber Panel Part# FM000374-BE) ","Kyle M. Daniel",0,"DWC",true,4,"0.0.0.0.0.166.49.215",1,2,null,855,null,null,null,28292,"0.0.0.0.0.166.34.55",true,false,true,false,false,3,0.1,false,0]
["item",9,"10110",null,null,null,"5 RU High-Density Fiber Patch Panel (Black)","FM000374-BE",null,"standard material","physical","AFL","EA",191.35,0,"DWC",6810,"Used in High-Density MC Applications","Kyle M. Daniel",0,"DWC",true,4,"0.0.0.0.0.166.49.218",1,2,null,856,null,null,null,28293,"0.0.0.0.0.166.34.58",true,false,true,false,false,3,0.1,false,0]
["item",9,"10120",null,null,null,"LC Fiber Optic Connector Removal Tool, Order for High Density FPP","HDCRT",null,"standard material","physical","Panduit","EA",199.9,0,"DWC",6810,"Used in High-Density MC Applications (Order 1 for Technician Use)","Kyle M. Daniel",0,"DWC",true,4,"0.0.0.0.0.166.49.221",1,57,null,859,null,null,null,28296,"0.0.0.0.0.166.34.61",true,false,true,false,false,3,0,false,0]
["item",9,"10285",null,null,null,"24/48 Port AFL Patch and Splice Panel 2RU with Splice Trays, Telco White","FM001421-WE","See Ordering Guidelines","standard material","physical","AFL","EA",157.26,0,"DWC",6810,"This AFL Fiber Panel is the replacement for discontinued #FM000416-WE","Kyle M. Daniel",0,"DWC",true,4,"0.0.0.0.0.166.49.224",1,2,null,1273,null,null,null,29316,"0.0.0.0.0.166.34.64",true,false,true,false,false,3,1,false,0]
["item",9,"10440",null,null,null,"XFM HD High Density Fiber Panel, 144 Port Capacity, 1RU, Rack Mounted, 23\" or 19\", Black","XFMHD-1U-B",null,"standard material","physical","AFL","EA",369.2,0,"DWC",6810,null,"Kyle M. Daniel",0,"DWC",true,4,"0.0.0.0.0.166.49.227",1,2,null,1415,null,null,null,30190,"0.0.0.0.0.166.34.67",true,false,true,false,false,3,0.1,false,0]
["item",9,"10441",null,null,null,"XFM HD High Density Fiber Panel, 288 Port Capacity, 2RU, Rack Mounted, 23\" or 19\", Black","XFMHD-2U-B",null,"standard material","physical","AFL","EA",469.4,0,"DWC",6810,null,"Kyle M. Daniel",0,"DWC",true,4,"0.0.0.0.0.166.49.230",1,2,null,1416,null,null,null,30191,"0.0.0.0.0.166.34.70",true,false,true,false,false,3,0.1,false,0]
["item",9,"10442",null,null,null,"XFM HD High Density Fiber Panel, 586 Port Capacity, 4RU, Rack Mounted, 23\" or 19\", Black","XFMHD-4U-B",null,"standard material","physical","AFL","EA",569.6,0,"DWC",6810,null,"Kyle M. Daniel",0,"DWC",true,4,"0.0.0.0.0.166.49.233",1,2,null,1417,null,null,null,30192,"0.0.0.0.0.166.34.73",true,false,true,false,false,3,0.1,false,0]
["item",9,"10443",null,null,null,"XFM HD Optical Module, 12 Fiber SingleMode (OS-1), LC/UPC Connectors, Blue, MTP/Rear Connection\t","HDOC-SM-ULC",null,"standard material","physical","AFL","EA",380.6,0,"DWC",6810,null,"Kyle M. Daniel",0,"DWC",true,4,"0.0.0.0.0.166.49.236",1,2,null,1418,null,null,null,30193,"0.0.0.0.0.166.34.76",true,false,true,false,false,3,0.1,false,0]
["item",9,"10444",null,null,null,"XFM HD Optical Module, 12 Fiber MultiMode (50 µm OM3), LC/UPC Connectors, Aqua, MTP/Rear Connection","HDOC-50-PLC",null,"standard material","physical","AFL","EA",305.10000000000002,0,"DWC",6810,null,"Kyle M. Daniel",0,"DWC",true,4,"0.0.0.0.0.166.49.239",1,2,null,1419,null,null,null,30194,"0.0.0.0.0.166.34.79",true,false,true,false,false,3,0.1,false,0]
["item",9,"10445",null,null,null,"MTP/MPO Connector Cleaning Tool, Cleans up to 500 Connector Ends","CS000710",null,"standard material","physical","AFL","EA",78.8,0,"DWC",6810,null,"Kyle M. Daniel",0,"DWC",true,4,"0.0.0.0.0.166.49.242",1,2,null,1420,null,null,null,30195,"0.0.0.0.0.166.34.82",true,false,true,false,false,3,0,false,0]
["item",9,"10446",null,null,null,"One Click Cleaner (LC, MU), 500+ Cleanings","8500-05-0002MZ",null,"standard material","physical","AFL","EA",60.95,0,"DWC",6810,null,"Kyle M. Daniel",0,"DWC",true,4,"0.0.0.0.0.166.49.245",1,2,null,1421,null,null,null,30196,"0.0.0.0.0.166.34.85",true,false,true,false,false,3,0,false,0]
["item",9,"10447",null,null,null,"OEE Splice Enclosure Cable Retention Kit and Sealing Kit-Small (Accepts 0.236\"-0.473\" O.D. Cable)","911310-00-00",null,"standard material","physical","AFL","EA",33.200000000000003,0,"DWC",6810,null,"Kyle M. Daniel",0,"DWC",true,4,"0.0.0.0.0.166.49.248",1,2,null,1422,null,null,null,30197,"0.0.0.0.0.166.34.88",true,false,true,false,false,3,0,false,0]
["item",9,"10448",null,null,null,"OEE Splice Enclosure Cable Retention Kit and Sealing Kit-Large (Accepts 0.708\"-0.988\" O.D. Cable)","911310-02-00",null,"standard material","physical","AFL","EA",33.200000000000003,0,"DWC",6810,null,"Kyle M. Daniel",0,"DWC",true,4,"0.0.0.0.0.166.49.251",1,2,null,1423,null,null,null,30198,"0.0.0.0.0.166.34.91",true,false,true,false,false,3,0,false,0]
["item",9,"10449",null,null,null,"12 Postion APC/SC (6) Duplex, Green Bulkhead for Video in 3RU Panels, White, LGX118","FM000079",null,"standard material","physical","AFL","EA",51.4,0,"DWC",6810,null,"Kyle M. Daniel",0,"DWC",true,4,"0.0.0.0.0.166.49.254",1,2,null,1424,null,null,null,30199,"0.0.0.0.0.166.34.94",true,false,true,false,false,3,0.1,false,0]
["item",9,"10462",null,null,null,"Cletop Cassette Cleaner, 400+ Cleanings","8500-10-0029MZ",null,"standard material","physical","AFL","EA",93.8,0,"DWC",6810,null,"Kyle M. Daniel",0,"DWC",true,4,"0.0.0.0.0.166.50.2",1,2,null,1550,null,null,null,31061,"0.0.0.0.0.166.34.97",true,false,true,false,false,3,0.1,false,0]
["item",9,"10463",null,null,null,"One Click Cleaner (SC, ST, FC), 500+ Cleanings","8500-05-0001MZ",null,"standard material","physical","AFL","EA",60.95,0,"DWC",6810,null,"Kyle M. Daniel",0,"DWC",true,4,"0.0.0.0.0.166.50.5",1,2,null,1551,null,null,null,31062,"0.0.0.0.0.166.34.100",true,false,true,false,false,3,0.1,false,0]
["item",9,"10518",null,null,null,"24-POS Wall Mount LIU, Holds 2 Adapter Plates","WME02E",null,"standard material","physical","AFL","EA",97.55,0,"DWC",6810,null,"Kyle M. Daniel",0,"DWC",true,4,"0.0.0.0.0.166.50.7",1,2,null,1606,null,null,null,31117,"0.0.0.0.0.166.50.6",true,false,true,false,false,3,0,false,0]
["item",9,"10519",null,null,null,"48-POS Wall Mount LIU, Holds 4 Adapter Plates","WME04E",null,"standard material","physical","AFL","EA",134.19999999999999,0,"DWC",6810,null,"Kyle M. Daniel",0,"DWC",true,4,"0.0.0.0.0.166.50.9",1,2,null,1607,null,null,null,31118,"0.0.0.0.0.166.50.8",true,false,true,false,false,3,0,false,0]
["item",9,"INFO-3057","583",null,null,"72 PORT RACK MOUNT PATCH AND SPLICE, 7RU EMPTY WHITE","FM000058",null,"standard material","physical","AFL","EA",301.01,0,"DWC",6810,"Do not order without approval.","Kyle M. Daniel",0,"DWC",true,4,"0.0.0.0.0.166.50.12",1,2,null,150,null,null,null,27352,"0.0.0.0.0.166.34.103",true,false,true,false,false,3,0.5]
["item",9,"INFO-3058","584",null,null,"SPLICE DRAWERS 24 POSITION-(3 PER info 3057)","911442-00-00",null,"standard material","physical","AFL","EA",27.37,0,"DWC",6810,"Part number change old was C210863","Kyle M. Daniel",0,"DWC",true,4,"0.0.0.0.0.166.50.15",1,2,null,151,null,null,null,27353,"0.0.0.0.0.166.34.106",true,false,true,false,false,3,0.1]
["item",9,"INFO-3109","133",null,null,"Connector Hot Melt SC SM connector","8300",null,"standard material","physical",{"$f":"VLOOKUP(Z188,rngManufacturerLookup,2,FALSE)","v":"3M"},"EA",7.62,{"$f":"(E188*N188)","v":0},{"$f":"VLOOKUP(Y188,rngSupplierLookup,2,FALSE)","v":"DWC"},6810,"Do not order without approval.","Kyle M. Daniel",{"$f":"(F188*N188)","v":0},"DWC",true,4,"0.0.0.0.0.166.50.18",1,1,null,152,null,null,null,27354,"0.0.0.0.0.166.34.109",true,false,true,false,false,3,0.5]
["item",9,"INFO-3110","134",null,null,"Connector Hot Melt SC MM connector","6300",null,"standard material","physical","3M","EA",5.0999999999999996,0,"DWC",6810,"Do not order without approval.","Kyle M. Daniel",0,"DWC",true,4,"0.0.0.0.0.166.50.21",1,1,null,153,null,null,null,27355,"0.0.0.0.0.166.34.112",true,false,true,false,false,3,0.5]
["item",9,"INFO-3111","135",null,null,"Connector Hot Melt ST MM","6100",null,"standard material","physical","3M","EA",5.3,0,"DWC",6810,"Do not order without approval.","Kyle M. Daniel",0,"DWC",true,4,"0.0.0.0.0.166.50.24",1,1,null,154,null,null,null,27356,"0.0.0.0.0.166.34.115",true,false,true,false,false,3,0.5]
["item",9,"INFO-3112","136",null,null,"Connector Hot Melt ST SM","8100YS",null,"standard material","physical","3M","EA",7.67,0,"DWC",6810,"Do not order without approval.","Kyle M. Daniel",0,"DWC",true,4,"0.0.0.0.0.166.50.27",1,1,null,155,null,null,null,27357,"0.0.0.0.0.166.34.118",true,false,true,false,false,3,0.5]
["item",9,"INFO-3127","143",null,null,"Air (canned - 10 oz.)","TX-3507",null,"standard material","physical","Tech Spray","EA",6.93,0,"DWC",6810,"Required if UAW terminates otherwise do not order. Provided by non-UAW installers.Order 1 can for every 20 connectors.","Neil Norat",0,"DWC",true,4,"0.0.0.0.0.166.50.30",1,71,null,157,null,null,null,27359,"0.0.0.0.0.166.34.121",true,false,true,false,false,3,0,false,0]
["item",9,"INFO-3148","149",null,null,"Buffer tube fan out for 6 fibers, 2.4mm buffer tube size","C189826",null,"standard material","physical","AFL","EA",15.18,0,"DWC",6810,"For use with loose tube AFL cable only.","Kyle M. Daniel",0,"DWC",true,4,"0.0.0.0.0.166.50.33",1,2,null,158,null,null,null,27360,"0.0.0.0.0.166.34.124",true,false,true,false,false,3,0.09]
["item",9,"INFO-3150","150",null,null,"Buffer tube fan out for 12 fibers, 3.0mm buffer tube size","C189818",null,"standard material","physical","AFL","EA",17.37,0,"DWC",6810,"For use with loose tube AFL cable only.","Kyle M. Daniel",0,"DWC",true,4,"0.0.0.0.0.166.50.36",1,2,null,159,null,null,null,27361,"0.0.0.0.0.166.34.127",true,false,true,false,false,3,0.04]
["item",9,"INFO-3153","130",null,null,"Six Fiber ST MM/SM Adapter Plate, Telco White, 4RU Panels","C215962",null,"standard material","physical","AFL","EA",23.81,0,"DWC",6810,null,"Kyle M. Daniel",0,"DWC",true,4,"0.0.0.0.0.166.50.43",1,2,null,162,null,null,null,27364,"0.0.0.0.0.166.34.136",true,false,true,false,false,3,7.0000000000000007E-2]
["item",9,"INFO-3155","132",null,null,"Six Fiber (3 duplex) SC MM/SM Adapter Plate, Telco White, 4RU Panels","C215512",null,"standard material","physical","AFL","EA",24.8,0,"DWC",6810,null,"Kyle M. Daniel",0,"DWC",true,4,"0.0.0.0.0.166.50.46",1,2,null,163,null,null,null,27365,"0.0.0.0.0.166.34.139",true,false,true,false,false,3,7.0000000000000007E-2]
["item",9,"INFO-3158","141",null,null,"Pink polishing film (1 micron diamond) SM (10/pack)","C078700",null,"standard material","physical","AFL","EA",8.17,0,"DWC",6810,"Required if UAW terminates otherwise do not order. Provided by non-UAW installers. otherwise do not order. Order one pkg for every 10 SM 3M hot melt connectors. Not required for AFL pigtails","Neil Norat",0,"DWC",true,4,"0.0.0.0.0.166.50.49",1,2,null,164,null,null,null,27366,"0.0.0.0.0.166.34.142",true,false,true,false,false,3,0]
["item",9,"INFO-3167","152",null,null,"Prep Ferrule Cleaner","C036692",null,"standard material","physical","AFL","EA",70.930000000000007,0,"DWC",6810,"Required if UAW terminates otherwise do not order. Provided by non-UAW installers.Order 10 per site.","Neil Norat",0,"DWC",true,4,"0.0.0.0.0.166.50.52",1,2,null,165,null,null,null,27367,"0.0.0.0.0.166.34.145",true,false,true,false,false,3,0]
["item",9,"INFO-3168","153",null,null,"Prep Ferrule Replacement Cartridge","C143729",null,"standard material","physical","AFL","EA",18.809999999999999,0,"DWC",6810,"Required if UAW terminates otherwise do not order. Provided by non-UAW installers. Order 10 per site.","Neil Norat",0,"DWC",true,4,"0.0.0.0.0.166.50.55",1,2,null,166,null,null,null,27368,"0.0.0.0.0.166.34.148",true,false,true,false,false,3,0]
["item",9,"INFO-3169","154",null,null,"Adapter Cleaner Tips (5/pack)","C008812",null,"standard material","physical","AFL","EA",3.22,0,"DWC",6810,"Required if UAW terminates otherwise do not order. Provided by non-UAW installers.Order 10 per site.","Neil Norat",0,"DWC",true,4,"0.0.0.0.0.166.50.58",1,2,null,167,null,null,null,27369,"0.0.0.0.0.166.34.151",true,false,true,false,false,3,0]
["item",9,"INFO-3175","138",null,null,"SC/ST 3M hot melt combo Kit","6355",null,"standard material","physical","3M","EA",1087.96,0,"DWC",6810,null,"Neil Norat",0,"DWC",true,4,"0.0.0.0.0.166.50.61",1,1,null,168,null,null,null,27370,"0.0.0.0.0.166.34.154",true,false,true,false,false,3,0]
["item",9,"INFO-3177","139",null,null,"200 X Microscope with universal adapter for SM fiber","OFS300-200C",null,"standard material","physical","Noyes","EA",373.08,0,"DWC",6810,null,"Neil Norat",0,"DWC",true,4,"0.0.0.0.0.166.50.64",1,53,null,169,null,null,null,27371,"0.0.0.0.0.166.34.157",true,false,true,false,false,3,0,false,0]
["item",9,"INFO-3178","140",null,null,"Hard Case for 200X Microscope","OFS1-00-0100",null,"standard material","physical","Noyes","EA",56.08,0,"DWC",6810,null,"Neil Norat",0,"DWC",true,4,"0.0.0.0.0.166.50.67",1,53,null,170,null,null,null,27372,"0.0.0.0.0.166.34.160",true,false,true,false,false,3,0,false,0]
["item",9,"INFO-3180","146",null,null,"SM Fiber Pigtail, (6) Strands Preterminated SC/Blunt, 5 meters, Riser Rated","USC-XXX-RC-006-Q-0005",null,"standard material","physical","AFL","EA",28.96,0,"DWC",6810,null,"Kyle M. Daniel",0,"DWC",true,4,"0.0.0.0.0.166.50.70",1,2,null,171,null,null,null,27373,"0.0.0.0.0.166.34.163",true,false,true,false,false,3,1]
["item",9,"INFO-3181","147",null,null,"MM Fiber Pigtail, (6) Strands Preterminated SC/Blunt, 5 meters, Riser Rated","PSC-XXX-RC-006-2-0005",null,"standard material","physical","AFL","EA",29.66,0,"DWC",6810,null,"Kyle M. Daniel",0,"DWC",true,4,"0.0.0.0.0.166.50.73",1,2,null,172,null,null,null,27374,"0.0.0.0.0.166.34.166",true,false,true,false,false,3,1]
["item",9,"INFO-3184","582",null,null,"72/144  Fiber Rack Mount Patch Panel 4 RU  Empty white; Plexiglass front door with Warning Label (INFO# 3184)","FM000002",null,"standard material","physical","AFL","EA",177.36,0,"DWC",6810,"Maximum 144 ports with Polimods","Kyle M. Daniel",0,"DWC",true,4,"0.0.0.0.0.166.50.76",1,2,null,173,null,null,null,27375,"0.0.0.0.0.166.34.169",true,false,true,false,false,3,0.5]
["item",9,"INFO-3726","505",null,null,"SM Fiber Pigtail, (12) Strands Preterminated SC/Blunt, 3 meters, Riser Rated","USC-XXX-RC-012-Q-0003",null,"standard material","physical","AFL","EA",66.63,0,"DWC",6810,null,"Kyle M. Daniel",0,"DWC",true,4,"0.0.0.0.0.166.50.79",1,2,null,174,null,null,null,27376,"0.0.0.0.0.166.34.172",true,false,true,false,false,3,6]
["item",9,"INFO-3727","506",null,null,"MM Fiber Pigtail, (12) Strands Preterminated SC/Blunt, 3 meters, Riser Rated","PSC-XXX-RC-012-2-0003",null,"standard material","physical","AFL","EA",57.12,0,"DWC",6810,null,"Kyle M. Daniel",0,"DWC",true,4,"0.0.0.0.0.166.50.82",1,2,null,175,null,null,null,27377,"0.0.0.0.0.166.34.175",true,false,true,false,false,3,6]
["item",9,"INFO-4511","551",null,null,"288 4RU Fiber Splice Only Panel, telco white, Full = (6) 24/48 Position Splice Drawers INFO# 3058","C211795-WE",null,"standard material","physical","AFL","EA",256.38,0,"DWC",6810,null,"Kyle M. Daniel",0,"DWC",true,4,"0.0.0.0.0.166.50.85",1,2,null,176,null,null,null,27378,"0.0.0.0.0.166.34.178",true,false,true,false,false,3,1]
["item",9,"INFO-4515","549",null,null,"12 Fiber, (6) Duplex Adaptors, SC ceramic, Telco White, 170 (5 RU panel)","FM000145",null,"standard material","physical","AFL","EA",43.16,0,"DWC",6810,"Order with approval EO only","Kyle M. Daniel",0,"DWC",true,4,"0.0.0.0.0.166.50.88",1,2,null,177,null,null,null,27379,"0.0.0.0.0.166.34.181",true,false,true,false,false,3,6]
["item",9,"INFO-4516","550",null,null,"144 5RU Fiber Panel, telco white (MC/Data Center Use)","FM000374-WE",null,"standard material","physical","AFL","EA",170.03,0,"DWC",6810,"Order with approval EO only","Kyle M. Daniel",0,"DWC",true,4,"0.0.0.0.0.166.50.91",1,2,null,178,null,null,null,27380,"0.0.0.0.0.166.34.184",true,false,true,false,false,3,1]
["item",9,"INFO-4518","548",null,null,"Blank Coupler Plate for 170 5RU Fiber Panel, Telco White","C216394",null,"standard material","physical","AFL","EA",4.4400000000000004,0,"DWC",6810,"Order with approval EO only","Kyle M. Daniel",0,"DWC",true,4,"0.0.0.0.0.166.50.94",1,2,null,179,null,null,null,27381,"0.0.0.0.0.166.34.187",true,false,true,false,false,3,0.1]
["item",9,"INFO-7003","910",null,null,"Spiral Wrap 1/4 inch natural color (Sold in rolls of 100ft)","2N9C","Actual Footage=","standard material","physical","Hellermann Tyton","EA",59,0,"DWC",6810,"Order 5 feet for each 12MM/24SM cable termination at the fiber panel. ","Kyle M. Daniel",0,"DWC",true,4,"0.0.0.0.0.166.50.97",1,36,null,180,null,null,null,27382,"0.0.0.0.0.166.34.190",true,false,true,false,false,3,0,false,0]
["item",9,"INFO-7004","911",null,null,"Spiral Wrap 3/8 inch natural color (Sold in rolls of 100ft)","2.5N9C","Actual Footage=","standard material","physical","Hellermann Tyton","EA",107,0,"DWC",6810,"Order 5 feet for each 36MM/72SM cable termination at the fiber panel","Kyle M. Daniel",0,"DWC",true,4,"0.0.0.0.0.166.50.100",1,36,null,181,null,null,null,27383,"0.0.0.0.0.166.34.193",true,false,true,false,false,3,0,false,0]
["item",9,"INFO-7006","914",null,null,"Fusion Splice Protectors, 60mm (Non Magnetic)","FP-3",null,"standard material","physical","AFL","EA",0.41,0,"DWC",6810,"For all splicing except Polimod","n/a",0,"DWC",true,4,"0.0.0.0.0.166.50.103",1,2,null,182,null,null,null,27384,"0.0.0.0.0.166.34.196",true,false,true,false,false,3,0]
["item",9,"INFO-7019","927",null,null,"(3) SC SM Blue Duplex Bulkhead Coupler PoliMod Patch & Splice Module for 6 fiber splices and terminations, includes (6) 40mm splice protectors","FM000705",null,"standard material","physical","AFL","EA",132.02000000000001,0,"DWC",6810,null,"Kyle M. Daniel",0,"DWC",true,4,"0.0.0.0.0.166.50.106",1,2,null,183,null,null,null,27385,"0.0.0.0.0.166.34.199",true,false,true,false,false,3,3]
["item",9,"INFO-7020","928",null,null,"(3) SC MM Beige Duplex Bulkhead Coupler PoliMod Patch & Splice Module for 6 fiber splices and terminations, includes (6) 40mm splice protectors","FM000706",null,"standard material","physical","AFL","EA",132.02000000000001,0,"DWC",6810,null,"Kyle M. Daniel",0,"DWC",true,4,"0.0.0.0.0.166.50.109",1,2,null,184,null,null,null,27386,"0.0.0.0.0.166.34.202",true,false,true,false,false,3,3]
["item",9,"INFO-7021","929",null,null,"(6) SC SM Blue Duplex Bulkhead Coupler PoliMod Patch & Splice Module for 12 fiber splices and terminations, includes (12) 40mm splice protectors","FM000631",null,"standard material","physical","AFL","EA",154.34,0,"DWC",6810,null,"Kyle M. Daniel",0,"DWC",true,4,"0.0.0.0.0.166.50.112",1,2,null,185,null,null,null,27387,"0.0.0.0.0.166.34.205",true,false,true,false,false,3,6]
["item",9,"INFO-7022","930",null,null,"(6) SC MM Beige Duplex Bulkhead Coupler PoliMod Patch & Splice Module for 12 fiber splices and terminations, includes (12) 40mm splice protectors","FM000700",null,"standard material","physical","AFL","EA",154.34,0,"DWC",6810,null,"Kyle M. Daniel",0,"DWC",true,4,"0.0.0.0.0.166.50.115",1,2,null,186,null,null,null,27388,"0.0.0.0.0.166.34.208",true,false,true,false,false,3,6]
["item",9,"INFO-7023","931",null,null,"(9) SC SM Blue Duplex Bulkhead Coupler Double-Wide PoliMod Patch & Splice Module for 18 fiber splices and terminations, includes (18) splice protectors","FM000666",null,"standard material","physical","AFL","EA",247.5,{"$f":"(E220*N220)","v":0},"DWC",6810,null,"Kyle M. Daniel",0,"DWC",true,4,"0.0.0.0.0.166.50.118",1,2,null,187,null,null,null,27389,"0.0.0.0.0.166.34.211",true,false,true,false,false,3,9]
["item",9,"INFO-7024","932",null,null,"(9) SC MM Beige Duplex Bulkhead Coupler Double-Wide PoliMod Patch & Splice Module for 18 fiber splices and terminations, includes (18) 40mm splice protectors","FM000701",null,"standard material","physical","AFL","EA",247.5,{"$f":"(E221*N221)","v":0},"DWC",6810,null,"Kyle M. Daniel",0,"DWC",true,4,"0.0.0.0.0.166.50.121",1,2,null,188,null,null,null,27390,"0.0.0.0.0.166.34.214",true,false,true,false,false,3,9]
["item",9,"INFO-7025","933",null,null,"Fusion Splice Protectors, 40mm (Polimods spares only)","FP-03(40)",null,"standard material","physical","AFL","EA",0.46,{"$f":"(E222*N222)","v":0},"DWC",6810,"Order (1) Spare for each Polimod, [alter BOM to allow spares without qty]","n/a",0,"DWC",true,4,"0.0.0.0.0.166.50.124",1,2,null,189,null,null,null,27391,"0.0.0.0.0.166.34.217",true,false,true,false,false,3,0]
["item",9,"INFO-7028","936",null,null,"Blank Coupler Plate for 4RU or 2RU Fiber Panel, Telco White","C215503",null,"standard material","physical","AFL","EA",4.45,{"$f":"(E223*N223)","v":0},"DWC",6810,null,"Kyle M. Daniel",0,"DWC",true,4,"0.0.0.0.0.166.50.127",1,2,null,190,null,null,null,27392,"0.0.0.0.0.166.34.220",true,false,true,false,false,3,0.1]
["Header",10,"Fiber Patch Cords"]
["item",10,"0119-C4FP","01114",null,null,"LC/LC, SM Fiber Patch Cord, Duplex, 1 Meter, Riser","ULC-ULC-R20Z-002-Q-0001",null,"standard material","physical",{"$f":"VLOOKUP(Z225,rngManufacturerLookup,2,FALSE)","v":"AFL"},"EA",23.36,{"$f":"(E225*N225)","v":0},{"$f":"VLOOKUP(Y225,rngSupplierLookup,2,FALSE)","v":"DWC"},"6810",null,"Kyle M. Daniel",{"$f":"(F225*N225)","v":0},"DWC",true,4,"0.0.0.0.0.166.50.130",1,2,null,191,null,null,null,27393,"0.0.0.0.0.166.34.223",true,false,true,false,false,3,0.1,false,0]
["item",10,"0119-C4FR","01115",null,null,"LC/LC, SM Fiber Patch Cord, Duplex, 2 Meter, Riser","ULC-ULC-R20Z-002-Q-0002",null,"standard material","physical","AFL","EA",21.98,0,"DWC","6810",null,"Kyle M. Daniel",0,"DWC",true,4,"0.0.0.0.0.166.50.133",1,2,null,192,null,null,null,27394,"0.0.0.0.0.166.34.226",true,false,true,false,false,3,0.1,false,0]
["item",10,"0119-C4FT","01116",null,null,"LC/ST, SM Fiber Patch Cord, Duplex, 2 Meter, Riser ","ULC-UST-R20Z-Q-0002",null,"standard material","physical","AFL","EA",22.82,0,"DWC","6810",null,"Kyle M. Daniel",0,"DWC",true,4,"0.0.0.0.0.166.50.136",1,2,null,193,null,null,null,27395,"0.0.0.0.0.166.34.229",true,false,true,false,false,3,0.1,false,0]
["item",10,"0119-C4FV","01117",null,null,"LC/ST, MM Fiber Patch Cord, Duplex, 1 Meter","PLC-PST-R20Z-2-0001",null,"standard material","physical","AFL","EA",16.579999999999998,0,"DWC","6810",null,"Kyle M. Daniel",0,"DWC",true,4,"0.0.0.0.0.166.50.139",1,2,null,194,null,null,null,27396,"0.0.0.0.0.166.34.232",true,false,true,false,false,3,0.1,false,0]
["item",10,"0119-C4FW","01118",null,null,"LC/ST, MM Fiber Patch Cord, Duplex, 2 Meter, 2.0mm Riser Zipcord","PLC-PST-R20Z-2-02",null,"standard material","physical","AFL","EA",20.100000000000001,0,"DWC","6810",null,"Kyle M. Daniel",0,"DWC",true,4,"0.0.0.0.0.166.50.142",1,2,null,195,null,null,null,27397,"0.0.0.0.0.166.34.235",true,false,true,false,false,3,0.1,false,0]
["item",10,"0119-C4FX","01119",null,null,"LC/ST, MM Fiber Patch Cord, Duplex, 3 Meter","PLC-PST-R20Z-2-0003",null,"standard material","physical","AFL","EA",17.72,0,"DWC","6810",null,"Kyle M. Daniel",0,"DWC",true,4,"0.0.0.0.0.166.50.145",1,2,null,196,null,null,null,27398,"0.0.0.0.0.166.34.238",true,false,true,false,false,3,0.1,false,0]
["item",10,"0119-C4YY",956,null,null,"LC/SC, SM Fiber Patch Cord, Duplex, 2 Meter, Riser, No Clips","ULC-USC-R20Z-Q-0002",null,"standard material","physical","AFL","EA",21.93,0,"DWC","6810",null,"Kyle M. Daniel",0,"DWC",true,4,"0.0.0.0.0.166.50.148",1,2,null,197,null,null,null,27399,"0.0.0.0.0.166.34.241",true,false,true,false,false,3,0.1,false,0]
["item",10,"0119-C500",957,null,null,"LC/SC, SM Fiber Patch Cord, Duplex, 6 Meter, Riser, No Clips","ULC-USC-R20Z-Q-0006",null,"standard material","physical","AFL","EA",23.86,0,"DWC","6810",null,"Kyle M. Daniel",0,"DWC",true,4,"0.0.0.0.0.166.50.151",1,2,null,198,null,null,null,27400,"0.0.0.0.0.166.34.244",true,false,true,false,false,3,0.1,false,0]
["item",10,"0119-C501",958,null,null,"LC/LC, MM Fiber Patch Cord, 62.5/125um, Duplex, 3 Meter, Riser, No Clips","PLC-PLC-R20Z-2-0003",null,"standard material","physical","AFL","EA",22.77,0,"DWC","6810",null,"Kyle M. Daniel",0,"DWC",true,4,"0.0.0.0.0.166.50.154",1,2,null,199,null,null,null,27401,"0.0.0.0.0.166.34.247",true,false,true,false,false,3,0.1,false,0]
["item",10,"0119-C502",1053,null,null,"LC/SC, SM Fiber Patch Cord, Duplex, 10 Meter, Riser, No Clips","ULC-USC-R20Z-Q-0010",null,"standard material","physical","AFL","EA",25.29,0,"DWC","6810",null,"Kyle M. Daniel",0,"DWC",true,4,"0.0.0.0.0.166.50.157",1,2,null,200,null,null,null,27402,"0.0.0.0.0.166.34.250",true,false,true,false,false,3,0.1,false,0]
["item",10,"0119-C503",1054,null,null,"LC/LC, SM Fiber Patch Cord, Duplex, 3 Meter, Riser, No Clips","ULC-ULC-R20Z-Q-0003",null,"standard material","physical","AFL","EA",24.06,0,"DWC","6810",null,"Kyle M. Daniel",0,"DWC",true,4,"0.0.0.0.0.166.50.160",1,2,null,201,null,null,null,27403,"0.0.0.0.0.166.34.253",true,false,true,false,false,3,0.1,false,0]
["item",10,"0119-C504",1055,null,null,"LC/LC, SM Fiber Patch Cord, Duplex, 6 Meter, Riser, No Clips","ULC-ULC-R20Z-Q-0006",null,"standard material","physical","AFL","EA",25.54,0,"DWC","6810",null,"Kyle M. Daniel",0,"DWC",true,4,"0.0.0.0.0.166.50.163",1,2,null,202,null,null,null,27404,"0.0.0.0.0.166.35.1",true,false,true,false,false,3,0.1,false,0]
["item",10,"0119-C505",1056,null,null,"LC/LC, SM Fiber Patch Cord, Duplex, 10 Meter, Riser, No Clips","ULC-ULC-R20Z-Q-0010",null,"standard material","physical","AFL","EA",26.68,0,"DWC","6810",null,"Kyle M. Daniel",0,"DWC",true,4,"0.0.0.0.0.166.50.166",1,2,null,203,null,null,null,27405,"0.0.0.0.0.166.35.4",true,false,true,false,false,3,0.1,false,0]
["item",10,"0119-C506",1057,null,null,"LC/ST, SM Fiber Patch Cord, Duplex, 6 Meter, Riser, No Clips","ULC-UST-R20Z-Q-0006",null,"standard material","physical","AFL","EA",26.43,0,"DWC","6810",null,"Kyle M. Daniel",0,"DWC",true,4,"0.0.0.0.0.166.50.169",1,2,null,204,null,null,null,27406,"0.0.0.0.0.166.35.7",true,false,true,false,false,3,0.1,false,0]
["item",10,"0119-C507",1058,null,null,"LC/ST, SM Fiber Patch Cord, Duplex, 10 Meter, Riser, No Clips","ULC-UST-R20Z-Q-0010",null,"standard material","physical","AFL","EA",27.62,0,"DWC","6810",null,"Kyle M. Daniel",0,"DWC",true,4,"0.0.0.0.0.166.50.172",1,2,null,205,null,null,null,27407,"0.0.0.0.0.166.35.10",true,false,true,false,false,3,0.1,false,0]
["item",10,"0119-C508",1059,null,null,"LC/ST, MM Fiber Patch Cord, 62.5/125um, Duplex, 6 Meter, Riser, No Clips","PLC-PST-R20Z-2-0006",null,"standard material","physical","AFL","EA",23.61,0,"DWC","6810",null,"Kyle M. Daniel",0,"DWC",true,4,"0.0.0.0.0.166.50.175",1,2,null,206,null,null,null,27408,"0.0.0.0.0.166.35.13",true,false,true,false,false,3,0.1,false,0]
["item",10,"0119-C509",1060,null,null,"LC/ST, MM Fiber Patch Cord, 62.5/125um, Duplex, 10 Meter, Riser, No Clips","PLC-PST-R20Z-2-0010",null,"standard material","physical","AFL","EA",26.19,0,"DWC","6810",null,"Kyle M. Daniel",0,"DWC",true,4,"0.0.0.0.0.166.50.178",1,2,null,207,null,null,null,27409,"0.0.0.0.0.166.35.16",true,false,true,false,false,3,0.1,false,0]
["item",10,"0119-C5M4",1061,null,null,"MTRJ/SC, MM Fiber Patch Cord, 62.5/125um, Duplex, 1 Meter, Riser ","FMTRJ-SC-1M",null,"standard material","physical","Cable, Professional ","EA",18.809999999999999,0,"DWC","6810",null,"Kyle M. Daniel",0,"DWC",true,4,"0.0.0.0.0.166.50.181",1,14,null,208,null,null,null,27410,"0.0.0.0.0.166.35.19",true,false,true,false,false,3,0.1,false,0]
["item",10,"0119-C5M5",1063,null,null,"MTRJ/SC, MM Fiber Patch Cord, 62.5/125um, Duplex, 10 Meter, Riser ","FMTRJ-SC-10M",null,"standard material","physical","Cable, Professional ","EA",26.93,0,"DWC","6810",null,"Kyle M. Daniel",0,"DWC",true,4,"0.0.0.0.0.166.50.184",1,14,null,209,null,null,null,27411,"0.0.0.0.0.166.35.22",true,false,true,false,false,3,0.1,false,0]
["item",10,"0119-C5M6",1062,null,null,"MTRJ/SC, MM Fiber Patch Cord, 62.5/125um, Duplex, 6 Meter, Riser ","FMTRJ-SC-6M",null,"standard material","physical","Cable, Professional ","EA",24.85,0,"DWC","6810",null,"Kyle M. Daniel",0,"DWC",true,4,"0.0.0.0.0.166.50.187",1,14,null,210,null,null,null,27412,"0.0.0.0.0.166.35.25",true,false,true,false,false,3,0.1,false,0]
["item",10,"0119-C5M7",1064,null,null,"MTRJ/SC, SM Fiber Patch Cord, Duplex, 1 Meter, Riser ","FMTRJ-SC-SM-1M",null,"standard material","physical","Cable, Professional ","EA",19.850000000000001,0,"DWC","6810",null,"Kyle M. Daniel",0,"DWC",true,4,"0.0.0.0.0.166.50.190",1,14,null,211,null,null,null,27413,"0.0.0.0.0.166.35.28",true,false,true,false,false,3,0.1,false,0]
["item",10,"0119-C5M8",1066,null,null,"MTRJ/SC, SM Fiber Patch Cord, Duplex, 10 Meter, Riser ","FMTRJ-SC-SM-10M",null,"standard material","physical","Cable, Professional ","EA",27.23,0,"DWC","6810",null,"Kyle M. Daniel",0,"DWC",true,4,"0.0.0.0.0.166.50.193",1,14,null,212,null,null,null,27414,"0.0.0.0.0.166.35.31",true,false,true,false,false,3,0.1,false,0]
["item",10,"0119-C5M9",1065,null,null,"MTRJ/SC, SM Fiber Patch Cord, Duplex, 6 Meter, Riser ","FMTRJ-SC-SM-6M",null,"standard material","physical","Cable, Professional ","EA",25.49,0,"DWC","6810",null,"Kyle M. Daniel",0,"DWC",true,4,"0.0.0.0.0.166.50.196",1,14,null,213,null,null,null,27415,"0.0.0.0.0.166.35.34",true,false,true,false,false,3,0.1,false,0]
["item",10,"10129",null,null,null,"MTRJ/ST, MM Fiber Patch Cord, 62.5/125um, Duplex, 6 Meter, Riser ","M40369006M",null,"standard material","physical","DWC","EA",28.4,0,"DWC",6810,null,"Kyle M. Daniel",0,"DWC",true,4,"0.0.0.0.0.166.50.199",1,23,null,860,null,null,null,28297,"0.0.0.0.0.166.35.37",true,false,true,false,false,3,0.1,false,0]
["item",10,"10171",null,null,null,"LC/SC, SM Fiber Patch Cord, Duplex, 5 Meter, Riser, No Clips","ULC-USC-R20Z-002-Q-0005",null,"standard material","physical","DWC","EA",25.95,0,"DWC",6810,null,"Kyle M. Daniel",0,"DWC",true,4,"0.0.0.0.0.166.50.202",1,23,null,861,null,null,null,28298,"0.0.0.0.0.166.35.40",true,false,true,false,false,3,0.1,false,0]
["item",10,"10318",null,null,null,"Label Core, Yellow, Cable Identification Sleeve for 2mm Simplex Fiber Patch Cord, 100/Package","NWSLC-2Y",null,"standard material","physical","Panduit","EA",6.1,0,"DWC",6810,null,"Kyle M. Daniel",0,"DWC",true,4,"0.0.0.0.0.166.50.205",1,57,null,1391,null,null,null,29947,"0.0.0.0.0.166.35.43",true,false,true,false,false,3,0.05,false,0]
["item",10,"10319",null,null,null,"Label Core, Orange, Cable Identification Sleeve for 3mm Simplex Fiber Patch Cord, 100/Package","NWSLC-3Y",null,"standard material","physical","Panduit","EA",6.1,0,"DWC",6810,null,"Kyle M. Daniel",0,"DWC",true,4,"0.0.0.0.0.166.50.208",1,57,null,1392,null,null,null,29948,"0.0.0.0.0.166.35.46",true,false,true,false,false,3,0.05,false,0]
["item",10,"10320",null,null,null,"Label Core, White, Cable Identification Sleeve for 3mm Duplex Fiber Patch Cord, 100/Package","NWSLC-7Y",null,"standard material","physical","Panduit","EA",10.55,0,"DWC",6810,null,"Kyle M. Daniel",0,"DWC",true,4,"0.0.0.0.0.166.50.211",1,57,null,1393,null,null,null,29949,"0.0.0.0.0.166.35.49",true,false,true,false,false,3,0.05,false,0]
["item",10,"10350",null,null,null,"LC/LC, MM (50 µm OM3), HD Fiber Patch Cord-LC Uniboots-Polarity Reversable, Corning Ultra Bend, (2) Fiber-2.0/2.4 dia. Round, Plenum, Aqua, Length/Meters 001","DWF-C263231-001M",null,"standard material","physical","DWC","EA",39.450000000000003,0,"DWC",6810,null,"Kyle M. Daniel",0,"DWC",true,4,"0.0.0.0.0.166.50.214",1,23,null,1425,null,null,null,30200,"0.0.0.0.0.166.35.52",true,false,true,false,false,3,0.1,false,0]
["item",10,"10351",null,null,null,"LC/LC, MM (50 µm OM3), HD Fiber Patch Cord-LC Uniboots-Polarity Reversable, Corning Ultra Bend, (2) Fiber-2.0/2.4 dia. Round, Plenum, Aqua, Length/Meters 002","DWF-C263231-002M",null,"standard material","physical","DWC","EA",40.1,0,"DWC",6810,null,"Kyle M. Daniel",0,"DWC",true,4,"0.0.0.0.0.166.50.217",1,23,null,1426,null,null,null,30201,"0.0.0.0.0.166.35.55",true,false,true,false,false,3,0.1,false,0]
["item",10,"10352",null,null,null,"LC/LC, MM (50 µm OM3), HD Fiber Patch Cord-LC Uniboots-Polarity Reversable, Corning Ultra Bend, (2) Fiber-2.0/2.4 dia. Round, Plenum, Aqua, Length/Meters 003","DWF-C263231-003M",null,"standard material","physical","DWC","EA",40.799999999999997,0,"DWC",6810,null,"Kyle M. Daniel",0,"DWC",true,4,"0.0.0.0.0.166.50.220",1,23,null,1427,null,null,null,30202,"0.0.0.0.0.166.35.58",true,false,true,false,false,3,0.1,false,0]
["item",10,"10353",null,null,null,"LC/LC, MM (50 µm OM3), HD Fiber Patch Cord-LC Uniboots-Polarity Reversable, Corning Ultra Bend, (2) Fiber-2.0/2.4 dia. Round, Plenum, Aqua, Length/Meters 004","DWF-C263231-004M",null,"standard material","physical","DWC","EA",41.85,0,"DWC",6810,null,"Kyle M. Daniel",0,"DWC",true,4,"0.0.0.0.0.166.50.223",1,23,null,1428,null,null,null,30203,"0.0.0.0.0.166.35.61",true,false,true,false,false,3,0.1,false,0]
["item",10,"10354",null,null,null,"LC/LC, MM (50 µm OM3), HD Fiber Patch Cord-LC Uniboots-Polarity Reversable, Corning Ultra Bend, (2) Fiber-2.0/2.4 dia. Round, Plenum, Aqua, Length/Meters 005","DWF-C263231-005M",null,"standard material","physical",{"$f":"VLOOKUP(Z257,rngManufacturerLookup,2,FALSE)","v":"DWC"},"EA",43.1,{"$f":"(E257*N257)","v":0},{"$f":"VLOOKUP(Y257,rngSupplierLookup,2,FALSE)","v":"DWC"},6810,null,"Kyle M. Daniel",{"$f":"(F257*N257)","v":0},"DWC",true,4,"0.0.0.0.0.166.50.226",1,23,null,1429,null,null,null,30204,"0.0.0.0.0.166.35.64",true,false,true,false,false,3,0.1,false,0]
["item",10,"10355",null,null,null,"LC/LC, MM (50 µm OM3), HD Fiber Patch Cord-LC Uniboots-Polarity Reversable, Corning Ultra Bend, (2) Fiber-2.0/2.4 dia. Round, Plenum, Aqua, Length/Meters 006","DWF-C263231-006M",null,"standard material","physical","DWC","EA",45.55,0,"DWC",6810,null,"Kyle M. Daniel",0,"DWC",true,4,"0.0.0.0.0.166.50.229",1,23,null,1430,null,null,null,30205,"0.0.0.0.0.166.35.67",true,false,true,false,false,3,0.1,false,0]
["item",10,"10356",null,null,null,"LC/LC, MM (50 µm OM3), HD Fiber Patch Cord-LC Uniboots-Polarity Reversable, Corning Ultra Bend, (2) Fiber-2.0/2.4 dia. Round, Plenum, Aqua, Length/Meters 007","DWF-C263231-007M",null,"standard material","physical","DWC","EA",47.95,0,"DWC",6810,null,"Kyle M. Daniel",0,"DWC",true,4,"0.0.0.0.0.166.50.232",1,23,null,1431,null,null,null,30206,"0.0.0.0.0.166.35.70",true,false,true,false,false,3,0.1,false,0]
["item",10,"10357",null,null,null,"LC/LC, MM (50 µm OM3), HD Fiber Patch Cord-LC Uniboots-Polarity Reversable, Corning Ultra Bend, (2) Fiber-2.0/2.4 dia. Round, Plenum, Aqua, Length/Meters 008","DWF-C263231-008M",null,"standard material","physical","DWC","EA",50.4,0,"DWC",6810,null,"Kyle M. Daniel",0,"DWC",true,4,"0.0.0.0.0.166.50.235",1,23,null,1432,null,null,null,30207,"0.0.0.0.0.166.35.73",true,false,true,false,false,3,0.1,false,0]
["item",10,"10358",null,null,null,"LC/LC, MM (50 µm OM3), HD Fiber Patch Cord-LC Uniboots-Polarity Reversable, Corning Ultra Bend, (2) Fiber-2.0/2.4 dia. Round, Plenum, Aqua, Length/Meters 009","DWF-C263231-009M",null,"standard material","physical","DWC","EA",52.8,0,"DWC",6810,null,"Kyle M. Daniel",0,"DWC",true,4,"0.0.0.0.0.166.50.238",1,23,null,1433,null,null,null,30208,"0.0.0.0.0.166.35.76",true,false,true,false,false,3,0.1,false,0]
["item",10,"10359",null,null,null,"LC/LC, MM (50 µm OM3), HD Fiber Patch Cord-LC Uniboots-Polarity Reversable, Corning Ultra Bend, (2) Fiber-2.0/2.4 dia. Round, Plenum, Aqua, Length/Meters 010","DWF-C263231-010M",null,"standard material","physical","DWC","EA",55.2,0,"DWC",6810,null,"Kyle M. Daniel",0,"DWC",true,4,"0.0.0.0.0.166.50.241",1,23,null,1434,null,null,null,30209,"0.0.0.0.0.166.35.79",true,false,true,false,false,3,0.1,false,0]
["item",10,"10360",null,null,null,"LC/LC, MM (50 µm OM3), HD Fiber Patch Cord-LC Uniboots-Polarity Reversable, Corning Ultra Bend, (2) Fiber-2.0/2.4 dia. Round, Plenum, Aqua, Length/Meters 011","DWF-C263231-011M",null,"standard material","physical","DWC","EA",57.62,0,"DWC",6810,null,"Kyle M. Daniel",0,"DWC",true,4,"0.0.0.0.0.166.50.244",1,23,null,1435,null,null,null,30210,"0.0.0.0.0.166.35.82",true,false,true,false,false,3,0.1,false,0]
["item",10,"10361",null,null,null,"LC/LC, MM (50 µm OM3), HD Fiber Patch Cord-LC Uniboots-Polarity Reversable, Corning Ultra Bend, (2) Fiber-2.0/2.4 dia. Round, Plenum, Aqua, Length/Meters 012","DWF-C263231-012M",null,"standard material","physical","DWC","EA",60.05,0,"DWC",6810,null,"Kyle M. Daniel",0,"DWC",true,4,"0.0.0.0.0.166.50.247",1,23,null,1436,null,null,null,30211,"0.0.0.0.0.166.35.85",true,false,true,false,false,3,0.1,false,0]
["item",10,"10362",null,null,null,"LC/LC, MM (50 µm OM3), HD Fiber Patch Cord-LC Uniboots-Polarity Reversable, Corning Ultra Bend, (2) Fiber-2.0/2.4 dia. Round, Plenum, Aqua, Length/Meters 013","DWF-C263231-013M",null,"standard material","physical","DWC","EA",62.5,0,"DWC",6810,null,"Kyle M. Daniel",0,"DWC",true,4,"0.0.0.0.0.166.50.250",1,23,null,1437,null,null,null,30212,"0.0.0.0.0.166.35.88",true,false,true,false,false,3,0.1,false,0]
["item",10,"10363",null,null,null,"LC/LC, MM (50 µm OM3), HD Fiber Patch Cord-LC Uniboots-Polarity Reversable, Corning Ultra Bend, (2) Fiber-2.0/2.4 dia. Round, Plenum, Aqua, Length/Meters 014","DWF-C263231-014M",null,"standard material","physical","DWC","EA",64.900000000000006,0,"DWC",6810,null,"Kyle M. Daniel",0,"DWC",true,4,"0.0.0.0.0.166.50.253",1,23,null,1438,null,null,null,30213,"0.0.0.0.0.166.35.91",true,false,true,false,false,3,0.1,false,0]
["item",10,"10364",null,null,null,"LC/LC, MM (50 µm OM3), HD Fiber Patch Cord-LC Uniboots-Polarity Reversable, Corning Ultra Bend, (2) Fiber-2.0/2.4 dia. Round, Plenum, Aqua, Length/Meters 015","DWF-C263231-015M",null,"standard material","physical","DWC","EA",67.3,0,"DWC",6810,null,"Kyle M. Daniel",0,"DWC",true,4,"0.0.0.0.0.166.51.1",1,23,null,1439,null,null,null,30214,"0.0.0.0.0.166.35.94",true,false,true,false,false,3,0.1,false,0]
["item",10,"10365",null,null,null,"LC/LC, MM (50 µm OM3), HD Fiber Patch Cord-LC Uniboots-Polarity Reversable, Corning Ultra Bend, (2) Fiber-2.0/2.4 dia. Round, Plenum, Aqua, Length/Meters 016","DWF-C263231-016M",null,"standard material","physical","DWC","EA",69.75,0,"DWC",6810,null,"Kyle M. Daniel",0,"DWC",true,4,"0.0.0.0.0.166.51.4",1,23,null,1440,null,null,null,30215,"0.0.0.0.0.166.35.97",true,false,true,false,false,3,0.1,false,0]
["item",10,"10366",null,null,null,"LC/LC, MM (50 µm OM3), HD Fiber Patch Cord-LC Uniboots-Polarity Reversable, Corning Ultra Bend, (2) Fiber-2.0/2.4 dia. Round, Plenum, Aqua, Length/Meters 017","DWF-C263231-017M",null,"standard material","physical","DWC","EA",72.150000000000006,0,"DWC",6810,null,"Kyle M. Daniel",0,"DWC",true,4,"0.0.0.0.0.166.51.7",1,23,null,1441,null,null,null,30216,"0.0.0.0.0.166.35.100",true,false,true,false,false,3,0.1,false,0]
["item",10,"10367",null,null,null,"LC/LC, MM (50 µm OM3), HD Fiber Patch Cord-LC Uniboots-Polarity Reversable, Corning Ultra Bend, (2) Fiber-2.0/2.4 dia. Round, Plenum, Aqua, Length/Meters 018","DWF-C263231-018M",null,"standard material","physical","DWC","EA",74.599999999999994,0,"DWC",6810,null,"Kyle M. Daniel",0,"DWC",true,4,"0.0.0.0.0.166.51.10",1,23,null,1442,null,null,null,30217,"0.0.0.0.0.166.35.103",true,false,true,false,false,3,0.1,false,0]
["item",10,"10368",null,null,null,"LC/LC, MM (50 µm OM3), HD Fiber Patch Cord-LC Uniboots-Polarity Reversable, Corning Ultra Bend, (2) Fiber-2.0/2.4 dia. Round, Plenum, Aqua, Length/Meters 019","DWF-C263231-019M",null,"standard material","physical","DWC","EA",77,0,"DWC",6810,null,"Kyle M. Daniel",0,"DWC",true,4,"0.0.0.0.0.166.51.13",1,23,null,1443,null,null,null,30218,"0.0.0.0.0.166.35.106",true,false,true,false,false,3,0.1,false,0]
["item",10,"10369",null,null,null,"LC/LC, MM (50 µm OM3), HD Fiber Patch Cord-LC Uniboots-Polarity Reversable, Corning Ultra Bend, (2) Fiber-2.0/2.4 dia. Round, Plenum, Aqua, Length/Meters 020","DWF-C263231-020M",null,"standard material","physical","DWC","EA",79.400000000000006,0,"DWC",6810,null,"Kyle M. Daniel",0,"DWC",true,4,"0.0.0.0.0.166.51.16",1,23,null,1444,null,null,null,30219,"0.0.0.0.0.166.35.109",true,false,true,false,false,3,0.1,false,0]
["item",10,"10370",null,null,null,"LC/SC, MM (50 µm OM3), HD Fiber Patch Cord-LC Uniboot-Polarity Reversable, SC Uniboot-Polarity Fixed, Corning Ultra Bend, (2) Fiber-2.0/2.4 dia. Round, Plenum, Aqua, Length/Meters 001","DWF-C263232-001M",null,"standard material","physical","DWC","EA",45.55,0,"DWC",6810,null,"Kyle M. Daniel",0,"DWC",true,4,"0.0.0.0.0.166.51.19",1,23,null,1445,null,null,null,30220,"0.0.0.0.0.166.35.112",true,false,true,false,false,3,0.1,false,0]
["item",10,"10371",null,null,null,"LC/SC, MM (50 µm OM3), HD Fiber Patch Cord-LC Uniboot-Polarity Reversable, SC Uniboot-Polarity Fixed, Corning Ultra Bend, (2) Fiber-2.0/2.4 dia. Round, Plenum, Aqua, Length/Meters 002","DWF-C263232-002M",null,"standard material","physical","DWC","EA",46.25,0,"DWC",6810,null,"Kyle M. Daniel",0,"DWC",true,4,"0.0.0.0.0.166.51.22",1,23,null,1446,null,null,null,30221,"0.0.0.0.0.166.35.115",true,false,true,false,false,3,0.1,false,0]
["item",10,"10372",null,null,null,"LC/SC, MM (50 µm OM3), HD Fiber Patch Cord-LC Uniboot-Polarity Reversable, SC Uniboot-Polarity Fixed, Corning Ultra Bend, (2) Fiber-2.0/2.4 dia. Round, Plenum, Aqua, Length/Meters 003","DWF-C263232-003M",null,"standard material","physical","DWC","EA",46.9,0,"DWC",6810,null,"Kyle M. Daniel",0,"DWC",true,4,"0.0.0.0.0.166.51.25",1,23,null,1447,null,null,null,30222,"0.0.0.0.0.166.35.118",true,false,true,false,false,3,0.1,false,0]
["item",10,"10373",null,null,null,"LC/SC, MM (50 µm OM3), HD Fiber Patch Cord-LC Uniboot-Polarity Reversable, SC Uniboot-Polarity Fixed, Corning Ultra Bend, (2) Fiber-2.0/2.4 dia. Round, Plenum, Aqua, Length/Meters 004","DWF-C263232-004M",null,"standard material","physical","DWC","EA",47.6,0,"DWC",6810,null,"Kyle M. Daniel",0,"DWC",true,4,"0.0.0.0.0.166.51.28",1,23,null,1448,null,null,null,30223,"0.0.0.0.0.166.35.121",true,false,true,false,false,3,0.1,false,0]
["item",10,"10374",null,null,null,"LC/SC, MM (50 µm OM3), HD Fiber Patch Cord-LC Uniboot-Polarity Reversable, SC Uniboot-Polarity Fixed, Corning Ultra Bend, (2) Fiber-2.0/2.4 dia. Round, Plenum, Aqua, Length/Meters 005","DWF-C263232-005M",null,"standard material","physical","DWC","EA",48,0,"DWC",6810,null,"Kyle M. Daniel",0,"DWC",true,4,"0.0.0.0.0.166.51.31",1,23,null,1449,null,null,null,30224,"0.0.0.0.0.166.35.124",true,false,true,false,false,3,0.1,false,0]
["item",10,"10375",null,null,null,"LC/SC, MM (50 µm OM3), HD Fiber Patch Cord-LC Uniboot-Polarity Reversable, SC Uniboot-Polarity Fixed, Corning Ultra Bend, (2) Fiber-2.0/2.4 dia. Round, Plenum, Aqua, Length/Meters 006","DWF-C263232-006M",null,"standard material","physical","DWC","EA",50.45,0,"DWC",6810,null,"Kyle M. Daniel",0,"DWC",true,4,"0.0.0.0.0.166.51.34",1,23,null,1450,null,null,null,30225,"0.0.0.0.0.166.35.127",true,false,true,false,false,3,0.1,false,0]
["item",10,"10376",null,null,null,"LC/SC, MM (50 µm OM3), HD Fiber Patch Cord-LC Uniboot-Polarity Reversable, SC Uniboot-Polarity Fixed, Corning Ultra Bend, (2) Fiber-2.0/2.4 dia. Round, Plenum, Aqua, Length/Meters 007","DWF-C263232-007M",null,"standard material","physical","DWC","EA",52.85,0,"DWC",6810,null,"Kyle M. Daniel",0,"DWC",true,4,"0.0.0.0.0.166.51.37",1,23,null,1451,null,null,null,30226,"0.0.0.0.0.166.35.130",true,false,true,false,false,3,0.1,false,0]
["item",10,"10377",null,null,null,"LC/SC, MM (50 µm OM3), HD Fiber Patch Cord-LC Uniboot-Polarity Reversable, SC Uniboot-Polarity Fixed, Corning Ultra Bend, (2) Fiber-2.0/2.4 dia. Round, Plenum, Aqua, Length/Meters 008","DWF-C263232-008M",null,"standard material","physical","DWC","EA",55.3,0,"DWC",6810,null,"Kyle M. Daniel",0,"DWC",true,4,"0.0.0.0.0.166.51.40",1,23,null,1452,null,null,null,30227,"0.0.0.0.0.166.35.133",true,false,true,false,false,3,0.1,false,0]
["item",10,"10378",null,null,null,"LC/SC, MM (50 µm OM3), HD Fiber Patch Cord-LC Uniboot-Polarity Reversable, SC Uniboot-Polarity Fixed, Corning Ultra Bend, (2) Fiber-2.0/2.4 dia. Round, Plenum, Aqua, Length/Meters 009","DWF-C263232-009M",null,"standard material","physical","DWC","EA",57.7,0,"DWC",6810,null,"Kyle M. Daniel",0,"DWC",true,4,"0.0.0.0.0.166.51.43",1,23,null,1453,null,null,null,30228,"0.0.0.0.0.166.35.136",true,false,true,false,false,3,0.1,false,0]
["item",10,"10379",null,null,null,"LC/SC, MM (50 µm OM3), HD Fiber Patch Cord-LC Uniboot-Polarity Reversable, SC Uniboot-Polarity Fixed, Corning Ultra Bend, (2) Fiber-2.0/2.4 dia. Round, Plenum, Aqua, Length/Meters 010","DWF-C263232-010M",null,"standard material","physical","DWC","EA",60.1,0,"DWC",6810,null,"Kyle M. Daniel",0,"DWC",true,4,"0.0.0.0.0.166.51.46",1,23,null,1454,null,null,null,30229,"0.0.0.0.0.166.35.139",true,false,true,false,false,3,0.1,false,0]
["item",10,"10380",null,null,null,"LC/SC, MM (50 µm OM3), HD Fiber Patch Cord-LC Uniboot-Polarity Reversable, SC Uniboot-Polarity Fixed, Corning Ultra Bend, (2) Fiber-2.0/2.4 dia. Round, Plenum, Aqua, Length/Meters 011","DWF-C263232-011M",null,"standard material","physical","DWC","EA",62.55,0,"DWC",6810,null,"Kyle M. Daniel",0,"DWC",true,4,"0.0.0.0.0.166.51.49",1,23,null,1455,null,null,null,30230,"0.0.0.0.0.166.35.142",true,false,true,false,false,3,0.1,false,0]
["item",10,"10381",null,null,null,"LC/SC, MM (50 µm OM3), HD Fiber Patch Cord-LC Uniboot-Polarity Reversable, SC Uniboot-Polarity Fixed, Corning Ultra Bend, (2) Fiber-2.0/2.4 dia. Round, Plenum, Aqua, Length/Meters 012","DWF-C263232-012M",null,"standard material","physical","DWC","EA",64.95,0,"DWC",6810,null,"Kyle M. Daniel",0,"DWC",true,4,"0.0.0.0.0.166.51.52",1,23,null,1456,null,null,null,30231,"0.0.0.0.0.166.35.145",true,false,true,false,false,3,0.1,false,0]
["item",10,"10382",null,null,null,"LC/SC, MM (50 µm OM3), HD Fiber Patch Cord-LC Uniboot-Polarity Reversable, SC Uniboot-Polarity Fixed, Corning Ultra Bend, (2) Fiber-2.0/2.4 dia. Round, Plenum, Aqua, Length/Meters 013","DWF-C263232-013M",null,"standard material","physical","DWC","EA",67.400000000000006,0,"DWC",6810,null,"Kyle M. Daniel",0,"DWC",true,4,"0.0.0.0.0.166.51.55",1,23,null,1457,null,null,null,30232,"0.0.0.0.0.166.35.148",true,false,true,false,false,3,0.1,false,0]
["item",10,"10383",null,null,null,"LC/SC, MM (50 µm OM3), HD Fiber Patch Cord-LC Uniboot-Polarity Reversable, SC Uniboot-Polarity Fixed, Corning Ultra Bend, (2) Fiber-2.0/2.4 dia. Round, Plenum, Aqua, Length/Meters 014","DWF-C263232-014M",null,"standard material","physical","DWC","EA",69.8,0,"DWC",6810,null,"Kyle M. Daniel",0,"DWC",true,4,"0.0.0.0.0.166.51.58",1,23,null,1458,null,null,null,30233,"0.0.0.0.0.166.35.151",true,false,true,false,false,3,0.1,false,0]
["item",10,"10384",null,null,null,"LC/SC, MM (50 µm OM3), HD Fiber Patch Cord-LC Uniboot-Polarity Reversable, SC Uniboot-Polarity Fixed, Corning Ultra Bend, (2) Fiber-2.0/2.4 dia. Round, Plenum, Aqua, Length/Meters 015","DWF-C263232-015M",null,"standard material","physical","DWC","EA",72.2,0,"DWC",6810,null,"Kyle M. Daniel",0,"DWC",true,4,"0.0.0.0.0.166.51.61",1,23,null,1459,null,null,null,30234,"0.0.0.0.0.166.35.154",true,false,true,false,false,3,0.1,false,0]
["item",10,"10385",null,null,null,"LC/SC, MM (50 µm OM3), HD Fiber Patch Cord-LC Uniboot-Polarity Reversable, SC Uniboot-Polarity Fixed, Corning Ultra Bend, (2) Fiber-2.0/2.4 dia. Round, Plenum, Aqua, Length/Meters 016","DWF-C263232-016M",null,"standard material","physical","DWC","EA",74.650000000000006,0,"DWC",6810,null,"Kyle M. Daniel",0,"DWC",true,4,"0.0.0.0.0.166.51.64",1,23,null,1460,null,null,null,30235,"0.0.0.0.0.166.35.157",true,false,true,false,false,3,0.1,false,0]
["item",10,"10386",null,null,null,"LC/SC, MM (50 µm OM3), HD Fiber Patch Cord-LC Uniboot-Polarity Reversable, SC Uniboot-Polarity Fixed, Corning Ultra Bend, (2) Fiber-2.0/2.4 dia. Round, Plenum, Aqua, Length/Meters 017","DWF-C263232-017M",null,"standard material","physical",{"$f":"VLOOKUP(Z289,rngManufacturerLookup,2,FALSE)","v":"DWC"},"EA",77.05,{"$f":"(E289*N289)","v":0},{"$f":"VLOOKUP(Y289,rngSupplierLookup,2,FALSE)","v":"DWC"},6810,null,"Kyle M. Daniel",{"$f":"(F289*N289)","v":0},"DWC",true,4,"0.0.0.0.0.166.51.67",1,23,null,1461,null,null,null,30236,"0.0.0.0.0.166.35.160",true,false,true,false,false,3,0.1,false,0]
["item",10,"10387",null,null,null,"LC/SC, MM (50 µm OM3), HD Fiber Patch Cord-LC Uniboot-Polarity Reversable, SC Uniboot-Polarity Fixed, Corning Ultra Bend, (2) Fiber-2.0/2.4 dia. Round, Plenum, Aqua, Length/Meters 018","DWF-C263232-018M",null,"standard material","physical","DWC","EA",79.5,0,"DWC",6810,null,"Kyle M. Daniel",0,"DWC",true,4,"0.0.0.0.0.166.51.70",1,23,null,1462,null,null,null,30237,"0.0.0.0.0.166.35.163",true,false,true,false,false,3,0.1,false,0]
["item",10,"10388",null,null,null,"LC/SC, MM (50 µm OM3), HD Fiber Patch Cord-LC Uniboot-Polarity Reversable, SC Uniboot-Polarity Fixed, Corning Ultra Bend, (2) Fiber-2.0/2.4 dia. Round, Plenum, Aqua, Length/Meters 019","DWF-C263232-019M",null,"standard material","physical","DWC","EA",81.900000000000006,0,"DWC",6810,null,"Kyle M. Daniel",0,"DWC",true,4,"0.0.0.0.0.166.51.73",1,23,null,1463,null,null,null,30238,"0.0.0.0.0.166.35.166",true,false,true,false,false,3,0.1,false,0]
["item",10,"10389",null,null,null,"LC/SC, MM (50 µm OM3), HD Fiber Patch Cord-LC Uniboot-Polarity Reversable, SC Uniboot-Polarity Fixed, Corning Ultra Bend, (2) Fiber-2.0/2.4 dia. Round, Plenum, Aqua, Length/Meters 020","DWF-C263232-020M",null,"standard material","physical","DWC","EA",84.3,0,"DWC",6810,null,"Kyle M. Daniel",0,"DWC",true,4,"0.0.0.0.0.166.51.76",1,23,null,1464,null,null,null,30239,"0.0.0.0.0.166.35.169",true,false,true,false,false,3,0.1,false,0]
["item",10,"10390",null,null,null,"LC/LC, Singlemode (9/125), HD Fiber Patch Cord-LC Uniboots-Polarity Reversable, Corning Ultra Bend, (2) Fiber-2.0/2.4 dia. Round, Plenum, Yellow, Length/Meters 001","DWF-C263234-001M",null,"standard material","physical","DWC","EA",40.75,0,"DWC",6810,null,"Kyle M. Daniel",0,"DWC",true,4,"0.0.0.0.0.166.51.79",1,23,null,1465,null,null,null,30240,"0.0.0.0.0.166.35.172",true,false,true,false,false,3,0.1,false,0]
["item",10,"10391",null,null,null,"LC/LC, Singlemode (9/125), HD Fiber Patch Cord-LC Uniboots-Polarity Reversable, Corning Ultra Bend, (2) Fiber-2.0/2.4 dia. Round, Plenum, Yellow, Length/Meters 002","DWF-C263234-002M",null,"standard material","physical","DWC","EA",41.1,0,"DWC",6810,null,"Kyle M. Daniel",0,"DWC",true,4,"0.0.0.0.0.166.51.82",1,23,null,1466,null,null,null,30241,"0.0.0.0.0.166.35.175",true,false,true,false,false,3,0.1,false,0]
["item",10,"10392",null,null,null,"LC/LC, Singlemode (9/125), HD Fiber Patch Cord-LC Uniboots-Polarity Reversable, Corning Ultra Bend, (2) Fiber-2.0/2.4 dia. Round, Plenum, Yellow, Length/Meters 003","DWF-C263234-003M",null,"standard material","physical","DWC","EA",41.85,0,"DWC",6810,null,"Kyle M. Daniel",0,"DWC",true,4,"0.0.0.0.0.166.51.85",1,23,null,1467,null,null,null,30242,"0.0.0.0.0.166.35.178",true,false,true,false,false,3,0.1,false,0]
["item",10,"10393",null,null,null,"LC/LC, Singlemode (9/125), HD Fiber Patch Cord-LC Uniboots-Polarity Reversable, Corning Ultra Bend, (2) Fiber-2.0/2.4 dia. Round, Plenum, Yellow, Length/Meters 004","DWF-C263234-004M",null,"standard material","physical","DWC","EA",42.05,0,"DWC",6810,null,"Kyle M. Daniel",0,"DWC",true,4,"0.0.0.0.0.166.51.88",1,23,null,1468,null,null,null,30243,"0.0.0.0.0.166.35.181",true,false,true,false,false,3,0.1,false,0]
["item",10,"10394",null,null,null,"LC/LC, Singlemode (9/125), HD Fiber Patch Cord-LC Uniboots-Polarity Reversable, Corning Ultra Bend, (2) Fiber-2.0/2.4 dia. Round, Plenum, Yellow, Length/Meters 005","DWF-C263234-005M",null,"standard material","physical","DWC","EA",42.6,0,"DWC",6810,null,"Kyle M. Daniel",0,"DWC",true,4,"0.0.0.0.0.166.51.91",1,23,null,1469,null,null,null,30244,"0.0.0.0.0.166.35.184",true,false,true,false,false,3,0.1,false,0]
["item",10,"10395",null,null,null,"LC/LC, Singlemode (9/125), HD Fiber Patch Cord-LC Uniboots-Polarity Reversable, Corning Ultra Bend, (2) Fiber-2.0/2.4 dia. Round, Plenum, Yellow, Length/Meters 006","DWF-C263234-006M",null,"standard material","physical","DWC","EA",44.3,0,"DWC",6810,null,"Kyle M. Daniel",0,"DWC",true,4,"0.0.0.0.0.166.51.94",1,23,null,1470,null,null,null,30245,"0.0.0.0.0.166.35.187",true,false,true,false,false,3,0.1,false,0]
["item",10,"10396",null,null,null,"LC/LC, Singlemode (9/125), HD Fiber Patch Cord-LC Uniboots-Polarity Reversable, Corning Ultra Bend, (2) Fiber-2.0/2.4 dia. Round, Plenum, Yellow, Length/Meters 007","DWF-C263234-007M",null,"standard material","physical","DWC","EA",46,0,"DWC",6810,null,"Kyle M. Daniel",0,"DWC",true,4,"0.0.0.0.0.166.51.97",1,23,null,1471,null,null,null,30246,"0.0.0.0.0.166.35.190",true,false,true,false,false,3,0.1,false,0]
["item",10,"10397",null,null,null,"LC/LC, Singlemode (9/125), HD Fiber Patch Cord-LC Uniboots-Polarity Reversable, Corning Ultra Bend, (2) Fiber-2.0/2.4 dia. Round, Plenum, Yellow, Length/Meters 008","DWF-C263234-008M",null,"standard material","physical","DWC","EA",47.75,0,"DWC",6810,null,"Kyle M. Daniel",0,"DWC",true,4,"0.0.0.0.0.166.51.100",1,23,null,1472,null,null,null,30247,"0.0.0.0.0.166.35.193",true,false,true,false,false,3,0.1,false,0]
["item",10,"10398",null,null,null,"LC/LC, Singlemode (9/125), HD Fiber Patch Cord-LC Uniboots-Polarity Reversable, Corning Ultra Bend, (2) Fiber-2.0/2.4 dia. Round, Plenum, Yellow, Length/Meters 009","DWF-C263234-009M",null,"standard material","physical","DWC","EA",49.45,0,"DWC",6810,null,"Kyle M. Daniel",0,"DWC",true,4,"0.0.0.0.0.166.51.103",1,23,null,1473,null,null,null,30248,"0.0.0.0.0.166.35.196",true,false,true,false,false,3,0.1,false,0]
["item",10,"10399",null,null,null,"LC/LC, Singlemode (9/125), HD Fiber Patch Cord-LC Uniboots-Polarity Reversable, Corning Ultra Bend, (2) Fiber-2.0/2.4 dia. Round, Plenum, Yellow, Length/Meters 010","DWF-C263234-010M",null,"standard material","physical","DWC","EA",51.2,0,"DWC",6810,null,"Kyle M. Daniel",0,"DWC",true,4,"0.0.0.0.0.166.51.106",1,23,null,1474,null,null,null,30249,"0.0.0.0.0.166.35.199",true,false,true,false,false,3,0.1,false,0]
["item",10,"10400",null,null,null,"LC/LC, Singlemode (9/125), HD Fiber Patch Cord-LC Uniboots-Polarity Reversable, Corning Ultra Bend, (2) Fiber-2.0/2.4 dia. Round, Plenum, Yellow, Length/Meters 011","DWF-C263234-011M",null,"standard material","physical","DWC","EA",52.9,0,"DWC",6810,null,"Kyle M. Daniel",0,"DWC",true,4,"0.0.0.0.0.166.51.109",1,23,null,1475,null,null,null,30250,"0.0.0.0.0.166.35.202",true,false,true,false,false,3,0.1,false,0]
["item",10,"10401",null,null,null,"LC/LC, Singlemode (9/125), HD Fiber Patch Cord-LC Uniboots-Polarity Reversable, Corning Ultra Bend, (2) Fiber-2.0/2.4 dia. Round, Plenum, Yellow, Length/Meters 012","DWF-C263234-012M",null,"standard material","physical","DWC","EA",54.6,0,"DWC",6810,null,"Kyle M. Daniel",0,"DWC",true,4,"0.0.0.0.0.166.51.112",1,23,null,1476,null,null,null,30251,"0.0.0.0.0.166.35.205",true,false,true,false,false,3,0.1,false,0]
["item",10,"10402",null,null,null,"LC/LC, Singlemode (9/125), HD Fiber Patch Cord-LC Uniboots-Polarity Reversable, Corning Ultra Bend, (2) Fiber-2.0/2.4 dia. Round, Plenum, Yellow, Length/Meters 013","DWF-C263234-013M",null,"standard material","physical","DWC","EA",56.35,0,"DWC",6810,null,"Kyle M. Daniel",0,"DWC",true,4,"0.0.0.0.0.166.51.115",1,23,null,1477,null,null,null,30252,"0.0.0.0.0.166.35.208",true,false,true,false,false,3,0.1,false,0]
["item",10,"10403",null,null,null,"LC/LC, Singlemode (9/125), HD Fiber Patch Cord-LC Uniboots-Polarity Reversable, Corning Ultra Bend, (2) Fiber-2.0/2.4 dia. Round, Plenum, Yellow, Length/Meters 014","DWF-C263234-014M",null,"standard material","physical","DWC","EA",58.05,0,"DWC",6810,null,"Kyle M. Daniel",0,"DWC",true,4,"0.0.0.0.0.166.51.118",1,23,null,1478,null,null,null,30253,"0.0.0.0.0.166.35.211",true,false,true,false,false,3,0.1,false,0]
["item",10,"10404",null,null,null,"LC/LC, Singlemode (9/125), HD Fiber Patch Cord-LC Uniboots-Polarity Reversable, Corning Ultra Bend, (2) Fiber-2.0/2.4 dia. Round, Plenum, Yellow, Length/Meters 015","DWF-C263234-015M",null,"standard material","physical","DWC","EA",59.8,0,"DWC",6810,null,"Kyle M. Daniel",0,"DWC",true,4,"0.0.0.0.0.166.51.121",1,23,null,1479,null,null,null,30254,"0.0.0.0.0.166.35.214",true,false,true,false,false,3,0.1,false,0]
["item",10,"10405",null,null,null,"LC/LC, Singlemode (9/125), HD Fiber Patch Cord-LC Uniboots-Polarity Reversable, Corning Ultra Bend, (2) Fiber-2.0/2.4 dia. Round, Plenum, Yellow, Length/Meters 016","DWF-C263234-016M",null,"standard material","physical","DWC","EA",61.5,0,"DWC",6810,null,"Kyle M. Daniel",0,"DWC",true,4,"0.0.0.0.0.166.51.124",1,23,null,1480,null,null,null,30255,"0.0.0.0.0.166.35.217",true,false,true,false,false,3,0.1,false,0]
["item",10,"10406",null,null,null,"LC/LC, Singlemode (9/125), HD Fiber Patch Cord-LC Uniboots-Polarity Reversable, Corning Ultra Bend, (2) Fiber-2.0/2.4 dia. Round, Plenum, Yellow, Length/Meters 017","DWF-C263234-017M",null,"standard material","physical","DWC","EA",63.2,0,"DWC",6810,null,"Kyle M. Daniel",0,"DWC",true,4,"0.0.0.0.0.166.51.127",1,23,null,1481,null,null,null,30256,"0.0.0.0.0.166.35.220",true,false,true,false,false,3,0.1,false,0]
["item",10,"10407",null,null,null,"LC/LC, Singlemode (9/125), HD Fiber Patch Cord-LC Uniboots-Polarity Reversable, Corning Ultra Bend, (2) Fiber-2.0/2.4 dia. Round, Plenum, Yellow, Length/Meters 018","DWF-C263234-018M",null,"standard material","physical","DWC","EA",64.95,0,"DWC",6810,null,"Kyle M. Daniel",0,"DWC",true,4,"0.0.0.0.0.166.51.130",1,23,null,1482,null,null,null,30257,"0.0.0.0.0.166.35.223",true,false,true,false,false,3,0.1,false,0]
["item",10,"10408",null,null,null,"LC/LC, Singlemode (9/125), HD Fiber Patch Cord-LC Uniboots-Polarity Reversable, Corning Ultra Bend, (2) Fiber-2.0/2.4 dia. Round, Plenum, Yellow, Length/Meters 019","DWF-C263234-019M",null,"standard material","physical","DWC","EA",66.650000000000006,0,"DWC",6810,null,"Kyle M. Daniel",0,"DWC",true,4,"0.0.0.0.0.166.51.133",1,23,null,1483,null,null,null,30258,"0.0.0.0.0.166.35.226",true,false,true,false,false,3,0.1,false,0]
["item",10,"10409",null,null,null,"LC/LC, Singlemode (9/125), HD Fiber Patch Cord-LC Uniboots-Polarity Reversable, Corning Ultra Bend, (2) Fiber-2.0/2.4 dia. Round, Plenum, Yellow, Length/Meters 020","DWF-C263234-020M",null,"standard material","physical","DWC","EA",68.400000000000006,0,"DWC",6810,null,"Kyle M. Daniel",0,"DWC",true,4,"0.0.0.0.0.166.51.136",1,23,null,1484,null,null,null,30259,"0.0.0.0.0.166.35.229",true,false,true,false,false,3,0.1,false,0]
["item",10,"10410",null,null,null,"LC/SC, Singlemode (9/125), HD Fiber Patch Cord-LC Uniboot-Polarity Reversable, SC Uniboot-Polarity Fixed, Corning Ultra Bend, (2) Fiber-2.0/2.4 dia. Round, Plenum, Yellow, Length/Meters 001","DWF-C263235-001M",null,"standard material","physical","DWC","EA",45.2,0,"DWC",6810,null,"Kyle M. Daniel",0,"DWC",true,4,"0.0.0.0.0.166.51.139",1,23,null,1485,null,null,null,30260,"0.0.0.0.0.166.35.232",true,false,true,false,false,3,0.1,false,0]
["item",10,"10411",null,null,null,"LC/SC, Singlemode (9/125), HD Fiber Patch Cord-LC Uniboot-Polarity Reversable, SC Uniboot-Polarity Fixed, Corning Ultra Bend, (2) Fiber-2.0/2.4 dia. Round, Plenum, Yellow, Length/Meters 002","DWF-C263235-002M",null,"standard material","physical","DWC","EA",45.95,0,"DWC",6810,null,"Kyle M. Daniel",0,"DWC",true,4,"0.0.0.0.0.166.51.142",1,23,null,1486,null,null,null,30261,"0.0.0.0.0.166.35.235",true,false,true,false,false,3,0.1,false,0]
["item",10,"10412",null,null,null,"LC/SC, Singlemode (9/125), HD Fiber Patch Cord-LC Uniboot-Polarity Reversable, SC Uniboot-Polarity Fixed, Corning Ultra Bend, (2) Fiber-2.0/2.4 dia. Round, Plenum, Yellow, Length/Meters 003","DWF-C263235-003M",null,"standard material","physical","DWC","EA",46.6,0,"DWC",6810,null,"Kyle M. Daniel",0,"DWC",true,4,"0.0.0.0.0.166.51.145",1,23,null,1487,null,null,null,30262,"0.0.0.0.0.166.35.238",true,false,true,false,false,3,0.1,false,0]
["item",10,"10413",null,null,null,"LC/SC, Singlemode (9/125), HD Fiber Patch Cord-LC Uniboot-Polarity Reversable, SC Uniboot-Polarity Fixed, Corning Ultra Bend, (2) Fiber-2.0/2.4 dia. Round, Plenum, Yellow, Length/Meters 004","DWF-C263235-004M",null,"standard material","physical","DWC","EA",47.35,0,"DWC",6810,null,"Kyle M. Daniel",0,"DWC",true,4,"0.0.0.0.0.166.51.148",1,23,null,1488,null,null,null,30263,"0.0.0.0.0.166.35.241",true,false,true,false,false,3,0.1,false,0]
["item",10,"10414",null,null,null,"LC/SC, Singlemode (9/125), HD Fiber Patch Cord-LC Uniboot-Polarity Reversable, SC Uniboot-Polarity Fixed, Corning Ultra Bend, (2) Fiber-2.0/2.4 dia. Round, Plenum, Yellow, Length/Meters 005","DWF-C263235-005M",null,"standard material","physical","DWC","EA",48,0,"DWC",6810,null,"Kyle M. Daniel",0,"DWC",true,4,"0.0.0.0.0.166.51.151",1,23,null,1489,null,null,null,30264,"0.0.0.0.0.166.35.244",true,false,true,false,false,3,0.1,false,0]
["item",10,"10415",null,null,null,"LC/SC, Singlemode (9/125), HD Fiber Patch Cord-LC Uniboot-Polarity Reversable, SC Uniboot-Polarity Fixed, Corning Ultra Bend, (2) Fiber-2.0/2.4 dia. Round, Plenum, Yellow, Length/Meters 006\t","DWF-C263235-006M",null,"standard material","physical","DWC","EA",49.7,0,"DWC",6810,null,"Kyle M. Daniel",0,"DWC",true,4,"0.0.0.0.0.166.51.154",1,23,null,1490,null,null,null,30265,"0.0.0.0.0.166.35.247",true,false,true,false,false,3,0.1,false,0]
["item",10,"10416",null,null,null,"LC/SC, Singlemode (9/125), HD Fiber Patch Cord-LC Uniboot-Polarity Reversable, SC Uniboot-Polarity Fixed, Corning Ultra Bend, (2) Fiber-2.0/2.4 dia. Round, Plenum, Yellow, Length/Meters 007","DWF-C263235-007M",null,"standard material","physical","DWC","EA",51.45,0,"DWC",6810,null,"Kyle M. Daniel",0,"DWC",true,4,"0.0.0.0.0.166.51.157",1,23,null,1491,null,null,null,30266,"0.0.0.0.0.166.35.250",true,false,true,false,false,3,0.1,false,0]
["item",10,"10417",null,null,null,"LC/SC, Singlemode (9/125), HD Fiber Patch Cord-LC Uniboot-Polarity Reversable, SC Uniboot-Polarity Fixed, Corning Ultra Bend, (2) Fiber-2.0/2.4 dia. Round, Plenum, Yellow, Length/Meters 008","DWF-C263235-008M",null,"standard material","physical","DWC","EA",53.15,0,"DWC",6810,null,"Kyle M. Daniel",0,"DWC",true,4,"0.0.0.0.0.166.51.160",1,23,null,1492,null,null,null,30267,"0.0.0.0.0.166.35.253",true,false,true,false,false,3,0.1,false,0]
["item",10,"10418",null,null,null,"LC/SC, Singlemode (9/125), HD Fiber Patch Cord-LC Uniboot-Polarity Reversable, SC Uniboot-Polarity Fixed, Corning Ultra Bend, (2) Fiber-2.0/2.4 dia. Round, Plenum, Yellow, Length/Meters 009","DWF-C263235-009M",null,"standard material","physical",{"$f":"VLOOKUP(Z321,rngManufacturerLookup,2,FALSE)","v":"DWC"},"EA",54.9,{"$f":"(E321*N321)","v":0},{"$f":"VLOOKUP(Y321,rngSupplierLookup,2,FALSE)","v":"DWC"},6810,null,"Kyle M.Daniel",{"$f":"(F321*N321)","v":0},"DWC",true,4,"0.0.0.0.0.166.51.163",1,23,null,1493,null,null,null,30268,"0.0.0.0.0.166.36.1",true,false,true,false,false,3,0.1,false,0]
["item",10,"10419",null,null,null,"LC/SC, Singlemode (9/125), HD Fiber Patch Cord-LC Uniboot-Polarity Reversable, SC Uniboot-Polarity Fixed, Corning Ultra Bend, (2) Fiber-2.0/2.4 dia. Round, Plenum, Yellow, Length/Meters 010","DWF-C263235-010M",null,"standard material","physical","DWC","EA",56.6,0,"DWC",6810,null,"Kyle M. Daniel",0,"DWC",true,4,"0.0.0.0.0.166.51.166",1,23,null,1494,null,null,null,30269,"0.0.0.0.0.166.36.4",true,false,true,false,false,3,0.1,false,0]
["item",10,"10420",null,null,null,"LC/SC, Singlemode (9/125), HD Fiber Patch Cord-LC Uniboot-Polarity Reversable, SC Uniboot-Polarity Fixed, Corning Ultra Bend, (2) Fiber-2.0/2.4 dia. Round, Plenum, Yellow, Length/Meters 011","DWF-C263235-011M",null,"standard material","physical","DWC","EA",58.3,0,"DWC",6810,null,"Kyle M. Daniel",0,"DWC",true,4,"0.0.0.0.0.166.51.169",1,23,null,1495,null,null,null,30270,"0.0.0.0.0.166.36.7",true,false,true,false,false,3,0.1,false,0]
["item",10,"10421",null,null,null,"LC/SC, Singlemode (9/125), HD Fiber Patch Cord-LC Uniboot-Polarity Reversable, SC Uniboot-Polarity Fixed, Corning Ultra Bend, (2) Fiber-2.0/2.4 dia. Round, Plenum, Yellow, Length/Meters 012","DWF-C263235-012M",null,"standard material","physical","DWC","EA",60.05,0,"DWC",6810,null,"Kyle M. Daniel",0,"DWC",true,4,"0.0.0.0.0.166.51.172",1,23,null,1496,null,null,null,30271,"0.0.0.0.0.166.36.10",true,false,true,false,false,3,0.1,false,0]
["item",10,"10422",null,null,null,"LC/SC, Singlemode (9/125), HD Fiber Patch Cord-LC Uniboot-Polarity Reversable, SC Uniboot-Polarity Fixed, Corning Ultra Bend, (2) Fiber-2.0/2.4 dia. Round, Plenum, Yellow, Length/Meters 013","DWF-C263235-013M",null,"standard material","physical","DWC","EA",61.75,0,"DWC",6810,null,"Kyle M. Daniel",0,"DWC",true,4,"0.0.0.0.0.166.51.175",1,23,null,1497,null,null,null,30272,"0.0.0.0.0.166.36.13",true,false,true,false,false,3,0.1,false,0]
["item",10,"10423",null,null,null,"LC/SC, Singlemode (9/125), HD Fiber Patch Cord-LC Uniboot-Polarity Reversable, SC Uniboot-Polarity Fixed, Corning Ultra Bend, (2) Fiber-2.0/2.4 dia. Round, Plenum, Yellow, Length/Meters 014","DWF-C263235-014M",null,"standard material","physical","DWC","EA",63.5,0,"DWC",6810,null,"Kyle M. Daniel",0,"DWC",true,4,"0.0.0.0.0.166.51.178",1,23,null,1498,null,null,null,30273,"0.0.0.0.0.166.36.16",true,false,true,false,false,3,0.1,false,0]
["item",10,"10424",null,null,null,"LC/SC, Singlemode (9/125), HD Fiber Patch Cord-LC Uniboot-Polarity Reversable, SC Uniboot-Polarity Fixed, Corning Ultra Bend, (2) Fiber-2.0/2.4 dia. Round, Plenum, Yellow, Length/Meters 015","DWF-C263235-015M",null,"standard material","physical","DWC","EA",65.2,0,"DWC",6810,null,"Kyle M. Daniel",0,"DWC",true,4,"0.0.0.0.0.166.51.181",1,23,null,1499,null,null,null,30274,"0.0.0.0.0.166.36.19",true,false,true,false,false,3,0.1,false,0]
["item",10,"10425",null,null,null,"LC/SC, Singlemode (9/125), HD Fiber Patch Cord-LC Uniboot-Polarity Reversable, SC Uniboot-Polarity Fixed, Corning Ultra Bend, (2) Fiber-2.0/2.4 dia. Round, Plenum, Yellow, Length/Meters 016","DWF-C263235-016M",null,"standard material","physical","DWC","EA",66.900000000000006,0,"DWC",6810,null,"Kyle M. Daniel",0,"DWC",true,4,"0.0.0.0.0.166.51.184",1,23,null,1500,null,null,null,30275,"0.0.0.0.0.166.36.22",true,false,true,false,false,3,0.1,false,0]
["item",10,"10426",null,null,null,"LC/SC, Singlemode (9/125), HD Fiber Patch Cord-LC Uniboot-Polarity Reversable, SC Uniboot-Polarity Fixed, Corning Ultra Bend, (2) Fiber-2.0/2.4 dia. Round, Plenum, Yellow, Length/Meters 017","DWF-C263235-017M",null,"standard material","physical","DWC","EA",68.650000000000006,0,"DWC",6810,null,"Kyle M. Daniel",0,"DWC",true,4,"0.0.0.0.0.166.51.187",1,23,null,1501,null,null,null,30276,"0.0.0.0.0.166.36.25",true,false,true,false,false,3,0.1,false,0]
["item",10,"10427",null,null,null,"LC/SC, Singlemode (9/125), HD Fiber Patch Cord-LC Uniboot-Polarity Reversable, SC Uniboot-Polarity Fixed, Corning Ultra Bend, (2) Fiber-2.0/2.4 dia. Round, Plenum, Yellow, Length/Meters 018","DWF-C263235-018M",null,"standard material","physical","DWC","EA",70.349999999999994,0,"DWC",6810,null,"Kyle M. Daniel",0,"DWC",true,4,"0.0.0.0.0.166.51.190",1,23,null,1502,null,null,null,30277,"0.0.0.0.0.166.36.28",true,false,true,false,false,3,0.1,false,0]
["item",10,"10428",null,null,null,"LC/SC, Singlemode (9/125), HD Fiber Patch Cord-LC Uniboot-Polarity Reversable, SC Uniboot-Polarity Fixed, Corning Ultra Bend, (2) Fiber-2.0/2.4 dia. Round, Plenum, Yellow, Length/Meters 019","DWF-C263235-019M",null,"standard material","physical","DWC","EA",72.099999999999994,0,"DWC",6810,null,"Kyle M. Daniel",0,"DWC",true,4,"0.0.0.0.0.166.51.193",1,23,null,1503,null,null,null,30278,"0.0.0.0.0.166.36.31",true,false,true,false,false,3,0.1,false,0]
["item",10,"10429",null,null,null,"LC/SC, Singlemode (9/125), HD Fiber Patch Cord-LC Uniboot-Polarity Reversable, SC Uniboot-Polarity Fixed, Corning Ultra Bend, (2) Fiber-2.0/2.4 dia. Round, Plenum, Yellow, Length/Meters 020","DWF-C263235-020M",null,"standard material","physical","DWC","EA",73.8,0,"DWC",6810,null,"Kyle M. Daniel",0,"DWC",true,4,"0.0.0.0.0.166.51.196",1,23,null,1504,null,null,null,30279,"0.0.0.0.0.166.36.34",true,false,true,false,false,3,0.1,false,0]
["item",10,"INFO-2492","124",null,null,"MTRJ/SC, MM Fiber Patch Cord, 62.5/125um. Duplex, 2 Meter","M46988002M",null,"standard material","physical","DWC","EA",21.33,0,"DWC","6810",null,"Kyle M. Daniel",0,"DWC",true,4,"0.0.0.0.0.166.51.199",1,23,null,214,null,null,null,27416,"0.0.0.0.0.166.36.37",true,false,true,false,false,3,0.1,false,0]
["item",10,"INFO-2493","125",null,null,"MTRJ/SC, MM Fiber Patch Cord, 62.5/125um. Duplex, 3 Meter","M46988003M",null,"standard material","physical","DWC","EA",22.28,0,"DWC","6810",null,"Kyle M. Daniel",0,"DWC",true,4,"0.0.0.0.0.166.51.202",1,23,null,215,null,null,null,27417,"0.0.0.0.0.166.36.40",true,false,true,false,false,3,0.1,false,0]
["item",10,"INFO-2494","126",null,null,"MTRJ/ST, MM Fiber Patch Cord, 62.5/125um. Duplex, 2 Meter","M40369002M",null,"standard material","physical","DWC","EA",21.33,0,"DWC","6810",null,"Kyle M. Daniel",0,"DWC",true,4,"0.0.0.0.0.166.51.205",1,23,null,216,null,null,null,27418,"0.0.0.0.0.166.36.43",true,false,true,false,false,3,0.1,false,0]
["item",10,"INFO-2495","127",null,null,"MTRJ/ST, MM Fiber Patch Cord, 62.5/125um. Duplex, 3 Meter","M40369003M",null,"standard material","physical","DWC","EA",22.28,0,"DWC","6810",null,"Kyle M. Daniel",0,"DWC",true,4,"0.0.0.0.0.166.51.208",1,23,null,217,null,null,null,27419,"0.0.0.0.0.166.36.46",true,false,true,false,false,3,0.1,false,0]
["item",10,"INFO-3201","158",null,null,"ST/ST, MM Fiber Patch Cord, 62.5/125um, Duplex, 1 Meter","C141076-0001",null,"standard material","physical","AFL","EA",14.31,0,"DWC","6810",null,"Kyle M. Daniel",0,"DWC",true,4,"0.0.0.0.0.166.51.211",1,2,null,218,null,null,null,27420,"0.0.0.0.0.166.36.49",true,false,true,false,false,3,0.01,false,0]
["item",10,"INFO-3202","159",null,null,"ST/ST, MM Fiber Patch Cord, 62.5/125um, Duplex, 2 Meter","C141076-0002",null,"standard material","physical","AFL","EA",15,0,"DWC","6810",null,"Kyle M. Daniel",0,"DWC",true,4,"0.0.0.0.0.166.51.214",1,2,null,219,null,null,null,27421,"0.0.0.0.0.166.36.52",true,false,true,false,false,3,0.01,false,0]
["item",10,"INFO-3203","160",null,null,"ST/ST, MM Fiber Patch Cord, 62.5/125um, Duplex, 3 Meter","C141076-0003",null,"standard material","physical","AFL","EA",15.69,0,"DWC","6810",null,"Kyle M. Daniel",0,"DWC",true,4,"0.0.0.0.0.166.51.217",1,2,null,220,null,null,null,27422,"0.0.0.0.0.166.36.55",true,false,true,false,false,3,0.01,false,0]
["item",10,"INFO-3224","182",null,null,"SC, SM Buildout Attenuator - 2 dB. (-53dB RL)","C092738",null,"standard material","physical","AFL","EA",27.52,0,"DWC","6810",null,"Kyle M. Daniel",0,"DWC",true,4,"0.0.0.0.0.166.51.220",1,2,null,221,null,null,null,27423,"0.0.0.0.0.166.36.58",true,false,true,false,false,3,0.5,false,0]
["item",10,"INFO-3225","183",null,null,"SC, SM Buildout Attenuator - 5 dB. (-53dB RL)","C092754",null,"standard material","physical","AFL","EA",27.52,0,"DWC","6810",null,"Kyle M. Daniel",0,"DWC",true,4,"0.0.0.0.0.166.51.223",1,2,null,222,null,null,null,27424,"0.0.0.0.0.166.36.61",true,false,true,false,false,3,0.5,false,0]
["item",10,"INFO-3256","161",null,null,"SC/SC, MM Fiber Patch Cord, 62.5/125um, 1 Meter,  w/duplex SC clip","C196301-0001",null,"standard material","physical","AFL","EA",16.14,0,"DWC","6810",null,"Kyle M. Daniel",0,"DWC",true,4,"0.0.0.0.0.166.51.226",1,2,null,223,null,null,null,27425,"0.0.0.0.0.166.36.64",true,false,true,false,false,3,0.1,false,0]
["item",10,"INFO-3257","162",null,null,"SC/SC, MM Fiber Patch Cord, 62.5/125um, 2 Meter,  w/duplex SC clip","C196301-0002",null,"standard material","physical","AFL","EA",16.73,0,"DWC","6810",null,"Kyle M. Daniel",0,"DWC",true,4,"0.0.0.0.0.166.51.229",1,2,null,224,null,null,null,27426,"0.0.0.0.0.166.36.67",true,false,true,false,false,3,0.1,false,0]
["item",10,"INFO-3258","163",null,null,"SC/SC, MM Fiber Patch Cord, 62.5/125um, 3 Meter,  w/duplex SC clip","C196301-0003",null,"standard material","physical","AFL","EA",17.29,0,"DWC","6810",null,"Kyle M. Daniel",0,"DWC",true,4,"0.0.0.0.0.166.51.232",1,2,null,225,null,null,null,27427,"0.0.0.0.0.166.36.70",true,false,true,false,false,3,0.1,false,0]
["item",10,"INFO-3259","164",null,null,"ST/SC, MM Fiber Patch Cord, 62.5/125um, 1 Meter,  w/duplex SC clip","C196306-0001",null,"standard material","physical","AFL","EA",15.3,0,"DWC","6810",null,"Kyle M. Daniel",0,"DWC",true,4,"0.0.0.0.0.166.51.235",1,2,null,226,null,null,null,27428,"0.0.0.0.0.166.36.73",true,false,true,false,false,3,0.1,false,0]
["item",10,"INFO-3260","165",null,null,"ST/SC, MM Fiber Patch Cord, 62.5/125um, 2 Meter,  w/duplex SC clip","C196306-0002",null,"standard material","physical","AFL","EA",15.4,0,"DWC","6810",null,"Kyle M. Daniel",0,"DWC",true,4,"0.0.0.0.0.166.51.238",1,2,null,227,null,null,null,27429,"0.0.0.0.0.166.36.76",true,false,true,false,false,3,0.1,false,0]
["item",10,"INFO-3261","166",null,null,"ST/SC, MM Fiber Patch Cord, 62.5/125um, 3 Meter,  w/duplex SC clip","C196306-0003",null,"standard material","physical","AFL","EA",16.7,0,"DWC","6810",null,"Kyle M. Daniel",0,"DWC",true,4,"0.0.0.0.0.166.51.241",1,2,null,228,null,null,null,27430,"0.0.0.0.0.166.36.79",true,false,true,false,false,3,0.1,false,0]
["item",10,"INFO-3262","167",null,null,"ST/ST, SM Fiber Patch Cord, Duplex, 1 Meter  ","C196312-0001",null,"standard material","physical","AFL","EA",17.29,0,"DWC","6810",null,"Kyle M. Daniel",0,"DWC",true,4,"0.0.0.0.0.166.51.244",1,2,null,229,null,null,null,27431,"0.0.0.0.0.166.36.82",true,false,true,false,false,3,0.1,false,0]
["item",10,"INFO-3263","168",null,null,"ST/ST, SM Fiber Patch Cord, Duplex, 2 Meter  ","C196312-0002",null,"standard material","physical","AFL","EA",16.760000000000002,0,"DWC","6810",null,"Kyle M. Daniel",0,"DWC",true,4,"0.0.0.0.0.166.51.247",1,2,null,230,null,null,null,27432,"0.0.0.0.0.166.36.85",true,false,true,false,false,3,0.1,false,0]
["item",10,"INFO-3264","169",null,null,"ST/ST, SM Fiber Patch Cord, Duplex, 3 Meter  ","C196312-0003",null,"standard material","physical","AFL","EA",18.28,0,"DWC","6810",null,"Kyle M. Daniel",0,"DWC",true,4,"0.0.0.0.0.166.51.250",1,2,null,231,null,null,null,27433,"0.0.0.0.0.166.36.88",true,false,true,false,false,3,0.1,false,0]
["item",10,"INFO-3265","170",null,null,"ST/ST, SM Fiber Patch Cord, Duplex, 6 Meter  ","C196312-0006",null,"standard material","physical","AFL","EA",19.75,0,"DWC","6810",null,"Kyle M. Daniel",0,"DWC",true,4,"0.0.0.0.0.166.51.253",1,2,null,232,null,null,null,27434,"0.0.0.0.0.166.36.91",true,false,true,false,false,3,0.1,false,0]
["item",10,"INFO-3266","171",null,null,"ST/ST, SM Fiber Patch Cord, Duplex, 10 Meter  ","C196312-0010",null,"standard material","physical","AFL","EA",21.69,0,"DWC","6810",null,"Kyle M. Daniel",0,"DWC",true,4,"0.0.0.0.0.166.52.1",1,2,null,233,null,null,null,27435,"0.0.0.0.0.166.36.94",true,false,true,false,false,3,0.1,false,0]
["item",10,"INFO-3267","172",null,null,"SC/SC, SM Fiber Patch Cord, Duplex, 1 Meter  ","C196081-0001",null,"standard material","physical",{"$f":"VLOOKUP(Z353,rngManufacturerLookup,2,FALSE)","v":"AFL"},"EA",18.27,{"$f":"(E353*N353)","v":0},{"$f":"VLOOKUP(Y353,rngSupplierLookup,2,FALSE)","v":"DWC"},"6810",null,"Kyle M. Daniel",{"$f":"(F353*N353)","v":0},"DWC",true,4,"0.0.0.0.0.166.52.4",1,2,null,234,null,null,null,27436,"0.0.0.0.0.166.36.97",true,false,true,false,false,3,0.1,false,0]
["item",10,"INFO-3268","173",null,null,"SC/SC, SM Fiber Patch Cord, Duplex, 2 Meter  ","C196081-0002",null,"standard material","physical","AFL","EA",19.260000000000002,0,"DWC","6810",null,"Kyle M. Daniel",0,"DWC",true,4,"0.0.0.0.0.166.52.7",1,2,null,235,null,null,null,27437,"0.0.0.0.0.166.36.100",true,false,true,false,false,3,0.1,false,0]
["item",10,"INFO-3269","174",null,null,"SC/SC, SM Fiber Patch Cord, Duplex, 3 Meter  ","C196081-0003",null,"standard material","physical","AFL","EA",19.75,0,"DWC","6810",null,"Kyle M. Daniel",0,"DWC",true,4,"0.0.0.0.0.166.52.10",1,2,null,236,null,null,null,27438,"0.0.0.0.0.166.36.103",true,false,true,false,false,3,0.1,false,0]
["item",10,"INFO-3270","175",null,null,"SC/SC, SM Fiber Patch Cord, Duplex, 6 Meter  ","C196081-0006",null,"standard material","physical","AFL","EA",21.21,0,"DWC","6810",null,"Kyle M. Daniel",0,"DWC",true,4,"0.0.0.0.0.166.52.13",1,2,null,237,null,null,null,27439,"0.0.0.0.0.166.36.106",true,false,true,false,false,3,0.1,false,0]
["item",10,"INFO-3271","176",null,null,"SC/SC, SM Fiber Patch Cord, Duplex, 10 Meter  ","C196081-0010",null,"standard material","physical","AFL","EA",23.17,0,"DWC","6810",null,"Kyle M. Daniel",0,"DWC",true,4,"0.0.0.0.0.166.52.16",1,2,null,238,null,null,null,27440,"0.0.0.0.0.166.36.109",true,false,true,false,false,3,0.1,false,0]
["item",10,"INFO-3290","177",null,null,"SC/ST, SM Fiber Patch Cord, Duplex, 1 Meter  ","C196630-0001",null,"standard material","physical","AFL","EA",18.02,0,"DWC","6810",null,"Kyle M. Daniel",0,"DWC",true,4,"0.0.0.0.0.166.52.19",1,2,null,239,null,null,null,27441,"0.0.0.0.0.166.36.112",true,false,true,false,false,3,0.1,false,0]
["item",10,"INFO-3291","178",null,null,"SC/ST, SM Fiber Patch Cord, Duplex, 2 Meter  ","C196630-0002",null,"standard material","physical","AFL","EA",16.829999999999998,0,"DWC","6810",null,"Kyle M. Daniel",0,"DWC",true,4,"0.0.0.0.0.166.52.22",1,2,null,240,null,null,null,27442,"0.0.0.0.0.166.36.115",true,false,true,false,false,3,0.1,false,0]
["item",10,"INFO-3292","179",null,null,"SC/ST, SM Fiber Patch Cord, Duplex, 3 Meter  ","C196630-0003",null,"standard material","physical","AFL","EA",19.010000000000002,0,"DWC","6810",null,"Kyle M. Daniel",0,"DWC",true,4,"0.0.0.0.0.166.52.25",1,2,null,241,null,null,null,27443,"0.0.0.0.0.166.36.118",true,false,true,false,false,3,0.1,false,0]
["item",10,"INFO-3293","180",null,null,"SC/ST, SM Fiber Patch Cord, Duplex, 6 Meter  ","C196630-0006",null,"standard material","physical","AFL","EA",20.440000000000001,0,"DWC","6810",null,"Kyle M. Daniel",0,"DWC",true,4,"0.0.0.0.0.166.52.28",1,2,null,242,null,null,null,27444,"0.0.0.0.0.166.36.121",true,false,true,false,false,3,0.1,false,0]
["item",10,"INFO-3294","181",null,null,"SC/ST, SM Fiber Patch Cord, Duplex, 10 Meter  ","C196630-0010",null,"standard material","physical","AFL","EA",22.41,0,"DWC","6810",null,"Kyle M. Daniel",0,"DWC",true,4,"0.0.0.0.0.166.52.31",1,2,null,243,null,null,null,27445,"0.0.0.0.0.166.36.124",true,false,true,false,false,3,0.1,false,0]
["item",10,"INFO-3601","184",null,null,"SC/SC, MM - Mode Conditioning Patch Cord for Gigabit E'net LX/LH GBIC to 62.5/125um, 2 Meter","MODESCSC002M",null,"standard material","physical","DWC","EA",87.32,0,"DWC","6810","Order when LX/LH Gigabit Ethernet GBIC is used on 62.5 uM MM cable.  Cable Distances 10-900","Kyle M. Daniel",0,"DWC",true,4,"0.0.0.0.0.166.52.34",1,23,null,244,null,null,null,27446,"0.0.0.0.0.166.36.127",true,false,true,false,false,3,0.1,false,0]
["item",10,"INFO-3602","185",null,null,"SC/SC, MM - Mode Conditioning Patch Cord for Gigabit E'net LX/LH GBIC to 62.5/125um, 3 Meter","MODESCSC003M",null,"standard material","physical","DWC","EA",88.41,0,"DWC","6810","Order when LX/LH Gigabit Ethernet GBIC is used on 62.5 uM MM cable","Kyle M. Daniel",0,"DWC",true,4,"0.0.0.0.0.166.52.37",1,23,null,245,null,null,null,27447,"0.0.0.0.0.166.36.130",true,false,true,false,false,3,0.1,false,0]
["item",10,"INFO-3603","186",null,null,"SC/SC, MM - Mode Conditioning Patch Cord for Gigabit E'net LX/LH GBIC to 62.5/125um, 5 Meter","MODESCSC005M",null,"standard material","physical","DWC","EA",99,0,"DWC","6810","Order when LX/LH Gigabit Ethernet GBIC is used on 62.5 uM MM cable","Kyle M. Daniel",0,"DWC",true,4,"0.0.0.0.0.166.52.40",1,23,null,246,null,null,null,27448,"0.0.0.0.0.166.36.133",true,false,true,false,false,3,0.1,false,0]
["item",10,"INFO-3604","187",null,null,"SC/ST, MM - Mode Conditioning Patch Cord for Gigabit E'net LX/LH GBIC to 62.5/125um, 2 Meter","MODESCST002M",null,"standard material","physical","DWC","EA",95.54,0,"DWC","6810","Order when LX/LH Gigabit Ethernet GBIC is used on 62.5 uM MM cable between 10M and 900M","Kyle M. Daniel",0,"DWC",true,4,"0.0.0.0.0.166.52.43",1,23,null,247,null,null,null,27449,"0.0.0.0.0.166.36.136",true,false,true,false,false,3,0.1,false,0]
["item",10,"INFO-3605","188",null,null,"SC/ST, MM - Mode Conditioning Patch Cord for Gigabit E'net LX/LH GBIC to 62.5/125um, 3 Meter","MODESCST003M",null,"standard material","physical","DWC","EA",96.62,0,"DWC","6810","Order when LX/LH Gigabit Ethernet GBIC is used on 62.5 uM MM cable between 10M and 900M","Kyle M. Daniel",0,"DWC",true,4,"0.0.0.0.0.166.52.46",1,23,null,248,null,null,null,27450,"0.0.0.0.0.166.36.139",true,false,true,false,false,3,0.1,false,0]
["item",10,"INFO-3606","189",null,null,"SC/ST, MM - Mode Conditioning Patch Cord for Gigabit E'net LX/LH GBIC to 62.5/125um, 5 Meter","MODESCST005M",null,"standard material","physical","DWC","EA",99,0,"DWC","6810","Order when LX/LH Gigabit Ethernet GBIC is used on 62.5 uM MM cable between 10M and 900M","Kyle M. Daniel",0,"DWC",true,4,"0.0.0.0.0.166.52.49",1,23,null,249,null,null,null,27451,"0.0.0.0.0.166.36.142",true,false,true,false,false,3,0.1,false,0]
["item",10,"INFO-8662","501",null,null,"LC/SC, SM Fiber Patch Cord, Duplex, 3 Meter, Riser, No Clips","ULC-USC-R20Z-Q-0003",null,"standard material","physical","DWC","EA",19.45,0,"DWC","6810",null,"Kyle M. Daniel",0,"DWC",true,4,"0.0.0.0.0.166.52.52",1,23,null,250,null,null,null,27452,"0.0.0.0.0.166.36.145",true,false,true,false,false,3,0.1,false,0]
["item",10,"INFO-8786","494",null,null,"LC/ ST, MM Fiber Patch Cord, Duplex, 1 Meter, Riser, No Clips","PLC-PST-R20Z-002-2-0001",null,"standard material","physical","DWC","EA",16.579999999999998,0,"DWC","6810",null,"Kyle M. Daniel",0,"DWC",true,4,"0.0.0.0.0.166.52.55",1,23,null,251,null,null,null,27453,"0.0.0.0.0.166.36.148",true,false,true,false,false,3,0.1,false,0]
["item",10,"INFO-8787","495",null,null,"LC/ST, MM Fiber Patch Cord, Duplex, 3 Meter, Riser, No Clips","PLC-PST-R20Z-002-2-0003",null,"standard material","physical","DWC","EA",17.72,0,"DWC","6810",null,"Kyle M. Daniel",0,"DWC",true,4,"0.0.0.0.0.166.52.58",1,23,null,252,null,null,null,27454,"0.0.0.0.0.166.36.151",true,false,true,false,false,3,0.1,false,0]
["item",10,"INFO-8788","496",null,null,"LC/SC, MM Fiber Patch Cord, 62.5/125um, Duplex, 1 Meter, Riser, No Clips","PLC-PSC-R20Z-002-2-0001",null,"standard material","physical","DWC","EA",16.86,0,"DWC","6810",null,"Kyle M. Daniel",0,"DWC",true,4,"0.0.0.0.0.166.52.61",1,23,null,253,null,null,null,27455,"0.0.0.0.0.166.36.154",true,false,true,false,false,3,0.1,false,0]
["item",10,"INFO-8789","497",null,null,"LC/SC, MM Fiber Patch Cord, 62.5/125um, Duplex, 3 Meter, Riser, No Clips","PLC-PSC-R20Z-002-2-0003",null,"standard material","physical","DWC","EA",18.010000000000002,0,"DWC","6810",null,"Kyle M. Daniel",0,"DWC",true,4,"0.0.0.0.0.166.52.64",1,23,null,254,null,null,null,27456,"0.0.0.0.0.166.36.157",true,false,true,false,false,3,0.1,false,0]
["item",10,"INFO-8790","498",null,null,"LC/ST, SM Fiber Patch Cord, Duplex, 1 Meter, Riser, No Clips","ULC-UST-R20Z-002-Q-0001",null,"standard material","physical","DWC","EA",18.309999999999999,0,"DWC","6810",null,"Kyle M. Daniel",0,"DWC",true,4,"0.0.0.0.0.166.52.67",1,23,null,255,null,null,null,27457,"0.0.0.0.0.166.36.160",true,false,true,false,false,3,0.1,false,0]
["item",10,"INFO-8791","869",null,null,"LC/ST, SM Fiber Patch Cord, Duplex, 3 Meter, Riser, No Clips","ULC-UST-R20Z-002-Q-0003",null,"standard material","physical","DWC","EA",19.45,0,"DWC","6810",null,"Kyle M. Daniel",0,"DWC",true,4,"0.0.0.0.0.166.52.70",1,23,null,256,null,null,null,27458,"0.0.0.0.0.166.36.163",true,false,true,false,false,3,0.1,false,0]
["item",10,"INFO-8792","499",null,null,"LC/SC, SM Fiber Patch Cord, Duplex, 1 Meter, Riser, No Clips","ULC-USC-R20Z-002-Q-0001",null,"standard material","physical","DWC","EA",18.309999999999999,0,"DWC","6810",null,"Kyle M. Daniel",0,"DWC",true,4,"0.0.0.0.0.166.52.73",1,23,null,257,null,null,null,27459,"0.0.0.0.0.166.36.166",true,false,true,false,false,3,0.1,false,0]
["Header",11,"Air Blown Fiber and Accessories"]
["item",11,"10261",null,null,null,"1\" Cord Connector for 1\" Innerducts and SSU/Box Connections","SHC1049",null,"standard material","physical",{"$f":"VLOOKUP(Z378,rngManufacturerLookup,2,FALSE)","v":"Hubbell"},"EA",19.399999999999999,{"$f":"(E378*N378)","v":0},{"$f":"VLOOKUP(Y378,rngSupplierLookup,2,FALSE)","v":"DWC"},6810,null,"Kyle M. Daniel",{"$f":"(F378*N378)","v":0},"DWC",true,4,"0.0.0.0.0.166.52.76",1,39,null,1274,null,null,null,29317,"0.0.0.0.0.166.36.169",true,false,true,false,false,3,0.05,false,0]
["item",11,"10262",null,null,null,"1\" Locknut for Cord Connector","103-S",null,"standard material","physical","Bridgeport","EA",0.35,0,"DWC",6810,null,"Kyle M. Daniel",0,"DWC",true,4,"0.0.0.0.0.166.52.79",1,12,null,1275,null,null,null,29318,"0.0.0.0.0.166.36.172",true,false,true,false,false,3,0.05,false,0]
["item",11,"10324",null,null,null,"24X20X8 Type 4x Enclosure (Outdoor Enclosure)","EN4SD24208GY",null,"standard material","physical","Hammond","EA",205.29,0,"DWC",6810,null,"Kyle M. Daniel",0,"DWC",true,4,"0.0.0.0.0.166.52.82",1,34,null,1394,null,null,null,29950,"0.0.0.0.0.166.36.175",true,false,true,false,false,3,3,false,0]
["item",11,"INFO-3302","192",null,null,"1.5\" Cord Connector to fit 1.3\" O.D. Cable ","SHC-1061",null,"standard material","physical","Hubbell","EA",29.99,0,"DWC",6810,null,"Kyle M. Daniel",0,"DWC",true,4,"0.0.0.0.0.166.52.85",1,39,null,258,null,null,null,27460,"0.0.0.0.0.166.36.178",true,false,true,false,false,3,0.1,false,0]
["item",11,"INFO-3303","193",null,null,"2\" Cord Connector to fit 1.75 to 2\" O.D. Cable ","SHC-1072",null,"standard material","physical","Hubbell","EA",44.38,0,"DWC",6810,null,"Kyle M. Daniel",0,"DWC",true,4,"0.0.0.0.0.166.52.88",1,39,null,259,null,null,null,27461,"0.0.0.0.0.166.36.181",true,false,true,false,false,3,0.1,false,0]
["item",11,"INFO-3304","194",null,null,"1.5\" Insulating Bushing","BB150",null,"standard material","physical","OZ Gedney","EA",1.19,0,"DWC",6810,null,"Kyle M. Daniel",0,"DWC",true,4,"0.0.0.0.0.166.52.91",1,56,null,260,null,null,null,27462,"0.0.0.0.0.166.36.184",true,false,true,false,false,3,0.1,false,0]
["item",11,"INFO-3307","196",null,null,"1-1/2\" Lock Nut for Cord Connector ","105",null,"standard material","physical","Bridgeport","EA",0.36,0,"DWC",6810,null,"Kyle M. Daniel",0,"DWC",true,4,"0.0.0.0.0.166.52.94",1,12,null,262,null,null,null,27464,"0.0.0.0.0.166.36.187",true,false,true,false,false,3,0.1]
["item",11,"INFO-3308","197",null,null,"2\" Lock Nut for Cord Connector","106",null,"standard material","physical","Bridgeport","EA",0.5,0,"DWC",6810,null,"Kyle M. Daniel",0,"DWC",true,4,"0.0.0.0.0.166.52.97",1,12,null,263,null,null,null,27465,"0.0.0.0.0.166.36.190",true,false,true,false,false,3,0.1]
["item",11,"INFO-3311","198",null,null,"NEMA 1 wall mount cabinet (16x16x7).14 ga steel spot welded construction with flat 14ga steel sub panel, two fixed butt hinges, slotted cam fastener, and standard powder coat finish. (ABF TC TDU)","N1A16167",null,"standard material","physical","Hammond","EA",117.51,0,"DWC",6810,null,"Kyle M. Daniel",0,"DWC",true,4,"0.0.0.0.0.166.52.100",1,34,null,264,null,null,null,27466,"0.0.0.0.0.166.36.193",true,false,true,false,false,3,1,false,0]
["item",11,"INFO-3312","199",null,null,"NEMA 1 wall mount cabinet (30x24x7). 14 ga steel spot welded construction with flat 12 ga steel sub panel, three fixed butt hinges, slotted cam fastener, and standard powder coat finish. (ABF MC/IC TDU)","N1A30247",null,"standard material","physical","Hammond","EA",210.37,0,"DWC",6810,null,"Kyle M. Daniel",0,"DWC",true,4,"0.0.0.0.0.166.52.103",1,34,null,265,null,null,null,27467,"0.0.0.0.0.166.36.196",true,false,true,false,false,3,1,false,0]
["item",11,"INFO-3401","200",null,null,"Nineteen tube cable, inside plant, riser (Orange), \r\n1000 FT Reel","TC19TRX","Actual Footage=","standard material","physical","Sumitomo","REEL",4806.45,0,"DWC",6810,null,"Kyle M. Daniel",0,"DWC",true,8,"0.0.0.0.0.166.52.106",1,68,null,266,null,null,null,27468,"0.0.0.0.0.166.36.199",true,false,true,false,false,3,100,false,0]
["item",11,"INFO-3402","201",null,null,"Seven tube cable, inside plant, riser (Orange),\r\n1000 FT Reel","TC07TRX","Actual Footage=","standard material","physical","Sumitomo","REEL",2027.52,0,"DWC",6810,null,"Kyle M. Daniel",0,"DWC",true,8,"0.0.0.0.0.166.52.109",1,68,null,267,null,null,null,27469,"0.0.0.0.0.166.36.202",true,false,true,false,false,3,80,false,0]
["item",11,"INFO-3403","206",null,null,"Seven tube cable, outside plant, 1000 FT Reel ","TC07TOX","Actual Footage=","standard material","physical","Sumitomo","REEL",1788.93,0,"DWC",6810,null,"Kyle M. Daniel",0,"DWC",true,8,"0.0.0.0.0.166.52.112",1,68,null,268,null,null,null,27470,"0.0.0.0.0.166.36.205",true,false,true,false,false,3,80,false,0]
["item",11,"INFO-3404","207",null,null,"Four tube cable, outside plant, 1000 FT Reel ","TC04TOD","Actual Footage=","standard material","physical","Sumitomo","REEL",1287.99,0,"DWC",6810,null,"Kyle M. Daniel",0,"DWC",true,8,"0.0.0.0.0.166.52.115",1,68,null,269,null,null,null,27471,"0.0.0.0.0.166.36.208",true,false,true,false,false,3,50,false,0]
["item",11,"INFO-3406","209",null,null,"1 Tube/Plenum Rated/OFNP-UL910, 1000 FT Reel","TC01TPX","Actual Footage=","standard material","physical","Sumitomo","REEL",608.85,0,"DWC",6810,null,"Kyle M. Daniel",0,"DWC",true,8,"0.0.0.0.0.166.52.118",1,68,null,270,null,null,null,27472,"0.0.0.0.0.166.36.211",true,false,true,false,false,3,40,false,0]
["item",11,"INFO-3418","215",null,null,"Optical Fiber Bushing for 6 Fiber Bundle. Plugs occupied tube","FT2MFB",null,"standard material","physical","Sumitomo","EA",3.27,0,"DWC",6810,null,"Kyle M. Daniel",0,"DWC",true,4,"0.0.0.0.0.166.52.121",1,68,null,271,null,null,null,27473,"0.0.0.0.0.166.36.214",true,false,true,false,false,3,1E-3,false,0]
["item",11,"INFO-3419","216",null,null,"Optical Fiber Bushing for 18 Fiber bundle. Plugs occupied tube","FT3MFB",null,"standard material","physical","Sumitomo","EA",3.47,0,"DWC",6810,null,"Kyle M. Daniel",0,"DWC",true,4,"0.0.0.0.0.166.52.124",1,68,null,272,null,null,null,27474,"0.0.0.0.0.166.36.217",true,false,true,false,false,3,1E-3,false,0]
["item",11,"INFO-3420","219",null,null,"Tube Coupling. 8mm push fit coupling to connect tubes together.  (10 Pieces/Package)","DE08MC2","Actual Quantity=","standard material","physical","Sumitomo","EA",21.24,0,"DWC",6810,null,"Neil Norat",0,"DWC",true,4,"0.0.0.0.0.166.52.127",1,68,null,273,null,null,null,27475,"0.0.0.0.0.166.36.220",true,false,true,false,false,3,0,false,0]
["item",11,"INFO-3421","220",null,null,"Tee Fitting . Used to connect air source to distribution tubing. Push fit.","DE08MT",null,"standard material","physical","Sumitomo","EA",3.37,0,"DWC",6810,null,"Kyle M. Daniel",0,"DWC",true,4,"0.0.0.0.0.166.52.130",1,68,null,274,null,null,null,27476,"0.0.0.0.0.166.36.223",true,false,true,false,false,3,1E-3,false,0]
["item",11,"INFO-3422","221",null,null,"ABF tube plugs, 6mm. Used to fill ends of tube cable when not in use.  (10 Pieces/Package)","DE06MP","Actual Quantity=","standard material","physical","Sumitomo","EA",5.37,0,"DWC",6810,null,"Kyle M. Daniel",0,"DWC",true,4,"0.0.0.0.0.166.52.133",1,68,null,275,null,null,null,27477,"0.0.0.0.0.166.36.226",true,false,true,false,false,3,1E-3,false,0]
["item",11,"INFO-3423","222",null,null,"Tube cutter","BETC001",null,"standard material","physical","Sumitomo","EA",9.11,0,"DWC",6810,null,"Neil Norat",0,"DWC",true,4,"0.0.0.0.0.166.52.136",1,68,null,276,null,null,null,27478,"0.0.0.0.0.166.36.229",true,false,true,false,false,3,0,false,0]
["item",11,"INFO-3424","223",null,null,"Replacement blade for tube cutter","BETC00B",null,"standard material","physical","Sumitomo","EA",4.21,0,"DWC",6810,null,"Neil Norat",0,"DWC",true,4,"0.0.0.0.0.166.52.139",1,68,null,277,null,null,null,27479,"0.0.0.0.0.166.36.232",true,false,true,false,false,3,0,false,0]
["item",11,"INFO-3425","224",null,null,"2mm blowing tip used on lead end of fiber bundle during installation.","BE2MFT",null,"standard material","physical","Sumitomo","EA",12.95,0,"DWC",6810,null,"Kyle M. Daniel",0,"DWC",true,4,"0.0.0.0.0.166.52.142",1,68,null,278,null,null,null,27480,"0.0.0.0.0.166.36.235",true,false,true,false,false,3,1E-3,false,0]
["item",11,"INFO-3426","225",null,null,"Tube cable cutter up to 2\" diameter","BETL01",null,"standard material","physical","Sumitomo","EA",171.42,0,"DWC",6810,null,"Neil Norat",0,"DWC",true,4,"0.0.0.0.0.166.52.145",1,68,null,279,null,null,null,27481,"0.0.0.0.0.166.36.238",true,false,true,false,false,3,0,false,0]
["item",11,"INFO-3427","226",null,null,"Replacement blade for tube cable cutter #BETL01","BETL02",null,"standard material","physical","Sumitomo","EA",37.22,0,"DWC",6810,null,"Neil Norat",0,"DWC",true,4,"0.0.0.0.0.166.52.148",1,68,null,280,null,null,null,27482,"0.0.0.0.0.166.36.241",true,false,true,false,false,3,0,false,0]
["item",11,"INFO-3428","227",null,null,"Blowing head lease (One year lease)","BE200RY",null,"standard material","physical","Sumitomo","EA",3294.72,0,"DWC",6810,null,"Neil Norat",0,"DWC",true,4,"0.0.0.0.0.166.52.151",1,68,null,281,null,null,null,27483,"0.0.0.0.0.166.36.244",true,false,true,false,false,3,0,false,0]
["item",11,"INFO-3429","228",null,null,"Blowing head air seal for 2-6 fiber bundle","BE02SL",null,"standard material","physical","Sumitomo","EA",19.309999999999999,0,"DWC",6810,null,"Neil Norat",0,"DWC",true,4,"0.0.0.0.0.166.52.154",1,68,null,282,null,null,null,27484,"0.0.0.0.0.166.36.247",true,false,true,false,false,3,0,false,0]
["item",11,"INFO-3430","229",null,null,"Blowing head air seal for 12-18 fiber bundle","BE03SL",null,"standard material","physical","Sumitomo","EA",19.309999999999999,0,"DWC",6810,null,"Neil Norat",0,"DWC",true,4,"0.0.0.0.0.166.52.157",1,68,null,283,null,null,null,27485,"0.0.0.0.0.166.36.250",true,false,true,false,false,3,0,false,0]
["item",11,"INFO-3432","231",null,null,"2 Stage Regulator Kit/200 psi.","BEREG01",null,"standard material","physical","Sumitomo","EA",227.7,0,"DWC",6810,null,"Neil Norat",0,"DWC",true,4,"0.0.0.0.0.166.52.160",1,68,null,284,null,null,null,27486,"0.0.0.0.0.166.36.253",true,false,true,false,false,3,0,false,0]
["item",11,"INFO-3433","232",null,null,"Tube test kit","BEPT001",null,"standard material","physical","Sumitomo","EA",51.56,0,"DWC",6810,null,"Neil Norat",0,"DWC",true,4,"0.0.0.0.0.166.52.163",1,68,null,285,null,null,null,27487,"0.0.0.0.0.166.37.1",true,false,true,false,false,3,0,false,0]
["item",11,"INFO-3434","217",null,null,"Breakout kit for termination of 6 fibers","FTFLD06",null,"standard material","physical","Sumitomo","EA",16.579999999999998,0,"DWC",6810,"1 Kit for Each 6 Strand.  Use to Connectorize ABF fiber. (Not required for Polimods)","Kyle M. Daniel",0,"DWC",true,4,"0.0.0.0.0.166.52.166",1,68,null,286,null,null,null,27488,"0.0.0.0.0.166.37.4",true,false,true,false,false,3,0.1,false,0]
["item",11,"INFO-3435","233",null,null,"7 tube cable straight through splice case","DE01SPL",null,"standard material","physical","Sumitomo","EA",59.3,0,"DWC",6810,null,"Kyle M. Daniel",0,"DWC",true,4,"0.0.0.0.0.166.52.169",1,68,null,287,null,null,null,27489,"0.0.0.0.0.166.37.7",true,false,true,false,false,3,0.25,false,0]
["item",11,"INFO-3436","234",null,null,"19 tube cable straight through splice case","DE02SPL",null,"standard material","physical","Sumitomo","EA",96.77,0,"DWC",6810,null,"Kyle M. Daniel",0,"DWC",true,4,"0.0.0.0.0.166.52.172",1,68,null,288,null,null,null,27490,"0.0.0.0.0.166.37.10",true,false,true,false,false,3,0.25,false,0]
["item",11,"INFO-3437","205",null,null,"Nineteen tube cable, outside plant, 1000 FT Reel","TC19TOX","Actual Footage=","standard material","physical","Sumitomo","REEL",3747.15,0,"DWC",6810,null,"Kyle M. Daniel",0,"DWC",true,8,"0.0.0.0.0.166.52.175",1,68,null,289,null,null,null,27491,"0.0.0.0.0.166.37.13",true,false,true,false,false,3,100,false,0]
["item",11,"INFO-3438","230",null,null,"3mm blowing tip used on lead end of fiber bundle during installation.","BE3MFT",null,"standard material","physical","Sumitomo","EA",12.95,0,"DWC",6810,null,"Kyle M. Daniel",0,"DWC",true,4,"0.0.0.0.0.166.52.178",1,68,null,290,null,null,null,27492,"0.0.0.0.0.166.37.16",true,false,true,false,false,3,1E-3,false,0]
["item",11,"INFO-3439","218",null,null,"Breakout kit for termination of 18 fibers","FTFLD18",null,"standard material","physical","Sumitomo","EA",36.69,0,"DWC",6810,"1 Kit for Each 18 Strand.  Use to Connectorize ABF fiber. (Not required for Polimods)","Kyle M. Daniel",0,"DWC",true,4,"0.0.0.0.0.166.52.181",1,68,null,291,null,null,null,27493,"0.0.0.0.0.166.37.19",true,false,true,false,false,3,0.25,false,0]
["item",11,"INFO-3440","237",null,null,"Tube cable termination panel set. Rack mount. Holds up to six 19 tube cables.","DEDTTP2",null,"standard material","physical","Sumitomo","EA",121.97,0,"DWC",6810,null,"Kyle M. Daniel",0,"DWC",true,4,"0.0.0.0.0.166.52.184",1,68,null,292,null,null,null,27494,"0.0.0.0.0.166.37.22",true,false,true,false,false,3,2,false,0]
["item",11,"INFO-3444","202",null,null,"Nineteen tube plenum cable with kevlar wrap","TC19TPX","Actual Footage=","standard material","physical","Sumitomo","REEL",16801.29,0,"DWC",6810,null,"Kyle M. Daniel",0,"DWC",true,8,"0.0.0.0.0.166.52.187",1,68,null,293,null,null,null,27495,"0.0.0.0.0.166.37.25",true,false,true,false,false,3,100,false,0]
["item",11,"INFO-3445","203",null,null,"Seven tube plenum cable with kevlar wrap","TC07TPX","Actual Footage=","standard material","physical","Sumitomo","REEL",4663.8900000000003,0,"DWC",6810,null,"Kyle M. Daniel",0,"DWC",true,8,"0.0.0.0.0.166.52.190",1,68,null,294,null,null,null,27496,"0.0.0.0.0.166.37.28",true,false,true,false,false,3,80,false,0]
["item",11,"INFO-3447","854",null,null,"Single tube cable, for couplings, clear","TC01TXX","Actual Footage=","standard material","physical","Sumitomo","FT",0.31,0,"DWC",6810,null,"Kyle M. Daniel",0,"DWC",true,5,"0.0.0.0.0.166.52.193",1,68,null,296,null,null,null,27498,"0.0.0.0.0.166.37.31",true,false,true,false,false,3,0,false,0]
["item",11,"INFO-3448","210",null,null,"Six strand fiber optic bundle, SM., 2MM OD, \r\n7000 FT Reel","FB06SX","Actual Footage=","standard material","physical","Sumitomo","REEL",3506.58,0,"DWC",6810,"cut to order reels from 7000' or 14000' spool.  This is available in 7000' and 14000' lengths @ 2x cost","Kyle M. Daniel",0,"DWC",true,8,"0.0.0.0.0.166.52.196",1,68,null,297,null,null,null,27499,"0.0.0.0.0.166.37.34",true,false,true,false,false,3,35,false,0]
["item",11,"INFO-3451","212",null,null,"Eighteen strand fiber optic bundle, SM., 3MM OD,\r\n7000 FT Reel","FB18SX","Actual Footage=","standard material","physical","Sumitomo","REEL",8266.5,0,"DWC",6810,null,"Kyle M. Daniel",0,"DWC",true,8,"0.0.0.0.0.166.52.199",1,68,null,298,null,null,null,27500,"0.0.0.0.0.166.37.37",true,false,true,false,false,3,35,false,0]
["item",11,"INFO-3452","213",null,null,"Six strand fiber optic bundle, MM., 2MM OD, \r\n7000 FT Reel","FB06M6","Actual Footage=","standard material","physical","Sumitomo","REEL",7180.47,0,"DWC",6810,"cut to order reels from 7000' spool.  This is available in 7000' and 14000' lengths @ 2x cost","Kyle M. Daniel",0,"DWC",true,8,"0.0.0.0.0.166.52.202",1,68,null,299,null,null,null,27501,"0.0.0.0.0.166.37.40",true,false,true,false,false,3,35,false,0]
["item",11,"INFO-3456","235",null,null,"Aerial 7 tube cable","TC07MSO","Actual Footage=","standard material","physical","Sumitomo","FT",2.17,0,"DWC",6810,null,"Kyle M. Daniel",0,"DWC",true,5,"0.0.0.0.0.166.52.205",1,68,null,300,null,null,null,27502,"0.0.0.0.0.166.37.43",true,false,true,false,false,3,0.08,false,0]
["item",11,"INFO-3457","236",null,null,"Aerial 19 tube cable","TC19MSO","Actual Footage=","standard material","physical","Sumitomo","FT",4.18,0,"DWC",6810,null,"Kyle M. Daniel",0,"DWC",true,5,"0.0.0.0.0.166.52.208",1,68,null,301,null,null,null,27503,"0.0.0.0.0.166.37.46",true,false,true,false,false,3,0.1,false,0]
["item",11,"INFO-4707","504",null,null,"NEMA 1 wall mount cabinet (30x24x7). Includes 14 ga steel spot welded construction with 12 ga steel sub panel, three fixed butt hinges, slotted cam fastener, and standard powder coat finish. (REF panel enclosure)","XGN1-30247-0001","KEEP ON BOM UNTIL QNTY. (25) ARE GONE","standard material","physical","X-Mark","EA",283.64999999999998,0,"DWC",6810,"Typically used for ABF IC TDU. Qnty. (25) in Inventory. Use these for TC SSU's Conventional Fiber Slack Storage boxes where possible. Just order (4) J-hooks and build labor","Kyle M. Daniel",0,"DWC",true,4,"0.0.0.0.0.166.52.211",1,78,null,302,null,null,null,27504,"0.0.0.0.0.166.37.49",true,false,true,false,false,3,10,false,0]
["Header",12,"Conventional Fiber Cable"]
["item",12,"0119-C50L",959,null,null,"(24) SM Multi-Unit Circular Premise Fiber Cable, RISER, (6) Fiber Subunits, Tight Buffered","CR0249441001",null,"standard material","physical",{"$f":"VLOOKUP(Z425,rngManufacturerLookup,2,FALSE)","v":"AFL"},"FT",1.22,{"$f":"(E425*N425)","v":0},{"$f":"VLOOKUP(Y425,rngSupplierLookup,2,FALSE)","v":"DWC"},6810,null,"Kyle M. Daniel",{"$f":"(F425*N425)","v":0},"DWC",true,5,"0.0.0.0.0.166.52.214",1,2,null,303,null,null,null,27505,"0.0.0.0.0.166.37.52",true,false,true,false,false,3,0]
["item",12,"0119-C50M",960,null,null,"(36) SM Multi-Unit Circular Premise Fiber Cable, RISER, (12) Fiber Subunits, Tight Buffered\r\n(3280' Minimum Order)","CR0369551001",null,"standard material","physical","AFL","FT",1.74,0,"DWC",6810,null,"Kyle M. Daniel",0,"DWC",true,5,"0.0.0.0.0.166.52.217",1,2,null,304,null,null,null,27506,"0.0.0.0.0.166.37.55",true,false,true,false,false,3,0]
["item",12,"0119-C50N",961,null,null,"(72) SM Multi-Unit Circular Premise Fiber Cable, RISER, (12) Fiber Subunits, Tight Buffered\r\n(3280' Minimum Order)","CR0729551001",null,"standard material","physical","AFL","FT",2.4300000000000002,0,"DWC",6810,null,"Kyle M. Daniel",0,"DWC",true,5,"0.0.0.0.0.166.52.220",1,2,null,305,null,null,null,27507,"0.0.0.0.0.166.37.58",true,false,true,false,false,3,0]
["item",12,"0119-C50P",1046,null,null,"(12) SM Multi-Unit Circular Premise Fiber Cable, PLENUM, (6) Fiber Subunits, Tight Buffered","CP0129551001",null,"standard material","physical","AFL","FT",0.4,0,"DWC",6810,null,"Kyle M. Daniel",0,"DWC",true,5,"0.0.0.0.0.166.52.223",1,2,null,306,null,null,null,27508,"0.0.0.0.0.166.37.61",true,false,true,false,false,3,0]
["item",12,"0119-C50R",1048,null,null,"(18) SM Multi-Unit Circular Premise Fiber Cable, RISER, (6) Fiber Subunits, Tight Buffered\r\n(3280' Minimum Order)","CR0189801001",null,"standard material","physical","AFL","FT",1.1399999999999999,0,"DWC",6810,null,"Kyle M. Daniel",0,"DWC",true,5,"0.0.0.0.0.166.52.226",1,2,null,307,null,null,null,27509,"0.0.0.0.0.166.37.64",true,false,true,false,false,3,0]
["item",12,"0119-C50T",1049,null,null,"(18) SM Multi-Unit Circular Premise Fiber Cable, PLENUM, (6) Fiber Subunits, Tight Buffered\r\n(3280' Minimum Order)","CP0189761001",null,"standard material","physical","AFL","FT",1.29,0,"DWC",6810,null,"Kyle M. Daniel",0,"DWC",true,5,"0.0.0.0.0.166.52.229",1,2,null,308,null,null,null,27510,"0.0.0.0.0.166.37.67",true,false,true,false,false,3,0]
["item",12,"0119-C50V",1050,null,null,"(24) SM Single-Unit Circular Premise Fiber Cable, RISER, Tight Buffered (3280' Minimum Order)","CR0249891001",null,"standard material","physical","AFL","FT",1.43,0,"DWC",6810,null,"Kyle M. Daniel",0,"DWC",true,5,"0.0.0.0.0.166.52.232",1,2,null,309,null,null,null,27511,"0.0.0.0.0.166.37.70",true,false,true,false,false,3,0]
["item",12,"0119-C50W",1051,null,null,"(24) SM Single-Unit Circular Premise Fiber Cable, PLENUM, Tight Buffered ","CP0249841001",null,"standard material","physical","AFL","FT",1.49,0,"DWC",6810,null,"Kyle M. Daniel",0,"DWC",true,5,"0.0.0.0.0.166.52.235",1,2,null,310,null,null,null,27512,"0.0.0.0.0.166.37.73",true,false,true,false,false,3,0]
["item",12,"0119-C50X",1052,null,null,"(24) SM Single-Unit Indoor/Outdoor Fiber Cable, OFNR, Tight Buffered ","KR0249891001",null,"standard material","physical","AFL","FT",1.39,0,"DWC",6810,null,"Kyle M. Daniel",0,"DWC",true,5,"0.0.0.0.0.166.52.238",1,2,null,311,null,null,null,27513,"0.0.0.0.0.166.37.76",true,false,true,false,false,3,0]
["item",12,"0119-C50Y",962,null,null,"(24) SM Multi-Unit Circular Premise Fiber Cable, PLENUM, (6) Fiber Subunits, Tight Buffered","CP0249441001",null,"standard material","physical","AFL","FT",2.31,0,"DWC",6810,null,"Kyle M. Daniel",0,"DWC",true,5,"0.0.0.0.0.166.52.241",1,2,null,312,null,null,null,27514,"0.0.0.0.0.166.37.79",true,false,true,false,false,3,0]
["item",12,"0119-C510",963,null,null,"(36) SM Multi-Unit Circular Premise Fiber Cable, PLENUM, (12) Fiber Subunits, Tight Buffered\r\n(3280' Minimum Order)","CP0369551001",null,"standard material","physical","AFL","FT",3.19,0,"DWC",6810,null,"Kyle M. Daniel",0,"DWC",true,5,"0.0.0.0.0.166.52.244",1,2,null,313,null,null,null,27515,"0.0.0.0.0.166.37.82",true,false,true,false,false,3,0]
["item",12,"0119-C511",964,null,null,"(72) SM Multi-Unit Circular Premise Fiber Cable, PLENUM, (12) Fiber Subunits, Tight Buffered\r\n(3280' Minimum Order)","CP0729551001",null,"standard material","physical","AFL","FT",3.95,0,"DWC",6810,null,"Kyle M. Daniel",0,"DWC",true,5,"0.0.0.0.0.166.52.247",1,2,null,314,null,null,null,27516,"0.0.0.0.0.166.37.85",true,false,true,false,false,3,0.03]
["item",12,"0119-C512",1047,null,null,"(12) SM Single-Unit Circular Premise Fiber Cable, RISER, Tight Buffered","CR0129551001",null,"standard material","physical","AFL","FT",0.35,0,"DWC",6810,null,"Kyle M. Daniel",0,"DWC",true,5,"0.0.0.0.0.166.52.250",1,2,null,315,null,null,null,27517,"0.0.0.0.0.166.37.88",true,false,true,false,false,3,0]
["item",12,"0511-73GT",965,null,null,"Black/Orange, Vinyl Adhesive \"Fiber Optic\" Voltage Marker, 9\"Wx2.25\"H (Order in Multiples of 5)","PCV-FOAY",null,"standard material","physical","Panduit","EA",1.91,0,"DWC",6810,"Apply Stickers to Conduits Containing Fiber or Directly to Cable/Innerduct Every 10 ft. Also Apply To SSU and Pull Boxes","Kyle M. Daniel",0,"DWC",true,4,"0.0.0.0.0.166.52.253",1,57,null,316,null,null,null,27518,"0.0.0.0.0.166.37.91",true,false,true,false,false,3,0.1,false,0]
["item",12,"10034",null,null,null,"1.25\" Cord Connector for 1.25\" Innerducts and SSU/Box Connections","412-DC2",null,"standard material","physical","Bridgeport","EA",6.8,0,"DWC",6810,"For 1.25\" innerducts Plenum/Riser Only","Kyle M. Daniel",0,"DWC",true,4,"0.0.0.0.0.166.53.1",1,12,null,862,null,null,null,28299,"0.0.0.0.0.166.37.94",true,false,true,false,false,3,0.1,false,0]
["item",12,"10134",null,null,null,"Large NEMA 1 MC/IC SSU Fiber Slack Storage Unit (48X36X12)- Labor Only","N1MCICSSU-L",null,"standard material","physical","DWC","EA",112.5,0,"DWC",6810,null,"Kyle M. Daniel",0,"DWC",true,4,"0.0.0.0.0.166.53.4",1,23,null,863,null,null,null,28300,"0.0.0.0.0.166.37.97",true,false,true,false,false,3,4,false,0]
["item",12,"10135",null,null,null,"Medium NEMA 1 TC/TR SSU Fiber Slack Storage Unit (36X30X09) - Labor Only","N1TCTRSSU-L",null,"standard material","physical","DWC","EA",90,0,"DWC",6810,null,"Kyle M. Daniel",0,"DWC",true,4,"0.0.0.0.0.166.53.7",1,23,null,864,null,null,null,28301,"0.0.0.0.0.166.37.100",true,false,true,false,false,3,4,false,0]
["item",12,"10161",null,null,null,"Cord Grip Connector for 1.5\" Innerduct","SC150",null,"standard material","physical","OZ Gedney","EA",7.05,0,"DWC",6810,null,"Kyle M. Daniel",0,"DWC",true,4,"0.0.0.0.0.166.53.10",1,56,null,865,null,null,null,28302,"0.0.0.0.0.166.37.103",true,false,true,false,false,3,0.1,false,0]
["item",12,"INFO-3502","238",null,null,"Innerduct 1.5\" orange w/ pull rope outdoor UV Rated","1500","Actual Footage=","standard material","physical","Endot","FT",0.64,0,"DWC",6810,null,"Kyle M. Daniel",0,"DWC",true,5,"0.0.0.0.0.166.53.13",1,26,null,319,null,null,null,27521,"0.0.0.0.0.166.37.106",true,false,true,false,false,3,0.03]
["item",12,"INFO-3504","239",null,null,"Plastic innerduct coupling (50 Pieces/Package)","E94OH","Actual Quantity=","standard material","physical","Carlon","FT",35.79,0,"DWC",6810,null,"Kyle M. Daniel",0,"DWC",true,5,"0.0.0.0.0.166.53.16",1,16,null,320,null,null,null,27522,"0.0.0.0.0.166.37.109",true,false,true,false,false,3,0.1]
["item",12,"INFO-3541","240",null,null,"Innerduct 1.5\" orange w/ pull rope indoor non-plenum (Riser rated)","DH4X1C","Actual Footage=","standard material","physical","Carlon","FT",0.79,0,"DWC",6810,null,"Kyle M. Daniel",0,"DWC",true,5,"0.0.0.0.0.166.53.19",1,16,null,321,null,null,null,27523,"0.0.0.0.0.166.37.112",true,false,true,false,false,3,0.03,false,0]
["item",12,"INFO-3542","241",null,null,"Innerduct 1.5\" orange w/ pull rope indoor (Plenum rated)","CH4X1C","Actual Footage=","standard material","physical","Carlon","FT",1.98,0,"DWC",6810,null,"Kyle M. Daniel",0,"DWC",true,5,"0.0.0.0.0.166.53.22",1,16,null,322,null,null,null,27524,"0.0.0.0.0.166.37.115",true,false,true,false,false,3,0.03,false,0]
["item",12,"INFO-3543","242",null,null,"1\" PVC Innerduct w/pull rope","DF4X1C","Actual Footage=","standard material","physical","Carlon","FT",0.52,0,"DWC",6810,null,"Kyle M. Daniel",0,"DWC",true,5,"0.0.0.0.0.166.53.25",1,16,null,323,null,null,null,27525,"0.0.0.0.0.166.37.118",true,false,true,false,false,3,0.03,false,0]
["item",12,"INFO-3730","507",null,null,"Composite (36) 62.5/125um MM and (36) SM, Multi-Unit Circular Premise Fiber Cable, PLENUM, (12) Fiber Subunits, Tight Buffered\r\n","CP072X551001-36MM8/36SM","Actual Footage=","standard material","physical","AFL","EA",4.96,0,"DWC",6810,null,"Kyle M. Daniel",0,"DWC",true,4,"0.0.0.0.0.166.53.28",1,2,null,324,null,null,null,27526,"0.0.0.0.0.166.37.121",true,false,true,false,false,3,0.03]
["item",12,"INFO-3731","508",null,null,"(144) SM, Multi-Unit Circular Premise Fiber Cable, PLENUM, (12) Fiber Subunits, Tight Buffered\r\n","CP1449551001","Actual Footage=","standard material","physical","AFL","EA",6.06,0,"DWC",6810,null,"Kyle M. Daniel",0,"DWC",true,4,"0.0.0.0.0.166.53.31",1,2,null,325,null,null,null,27527,"0.0.0.0.0.166.37.124",true,false,true,false,false,3,0.03]
["item",12,"INFO-4716","519",null,null,"1.5\" Cord Connector for InnerDuct and SSU","414-DC2",null,"standard material","physical","Bridgeport","EA",6.98,0,"DWC",6810,"Required for additional innerducts","Kyle M. Daniel",0,"DWC",true,4,"0.0.0.0.0.166.53.34",1,12,null,326,null,null,null,27528,"0.0.0.0.0.166.37.127",true,false,true,false,false,3,0.1]
["item",12,"INFO-4718","520",null,null,"Large NEMA 1 MC/IC SSU Fiber Slack Storage Unit (48X36X12) - Material Only - Hammond (Incld's (8) J-Hooks)","N1MCICSSU-H",null,"standard material","physical","DWC","EA",680.2,0,"DWC",6810,null,"Kyle M. Daniel",0,"DWC",true,4,"0.0.0.0.0.166.53.37",1,23,null,327,null,null,null,27529,"0.0.0.0.0.166.37.130",true,false,true,false,false,3,4,false,0]
["item",12,"INFO-4721","522",null,null,"Medium NEMA 1 TC/TR SSU Fiber Slack Storage Unit (36X30X09) - Material Only - Hammond (Incld's (4) J-Hooks) SEE ORDERING GUIDELINES","N1TCTRSSU-H",null,"standard material","physical","DWC","EA",320.2,0,"DWC",6810,"USE BOM item #XGN1-30247-0001 Till Gone From Stock","Kyle M. Daniel",0,"DWC",true,4,"0.0.0.0.0.166.53.40",1,23,null,328,null,null,null,27530,"0.0.0.0.0.166.37.133",true,false,true,false,false,3,4,false,0]
["item",12,"INFO-7010","918",null,null,"Composite (36) 62.5/125um MM and (96) SM, Multi-Unit Circular Premise Fiber Cable, RISER, (12) Fiber Subunits, Tight Buffered\r\n","CR132X551001-36MM6/96SM","Actual Footage=","standard material","physical","AFL","EA",4.8,0,"DWC",6810,null,"Kyle M. Daniel",0,"DWC",true,4,"0.0.0.0.0.166.53.43",1,2,null,329,null,null,null,27531,"0.0.0.0.0.166.37.136",true,false,true,false,false,3,0.03]
["item",12,"INFO-7011","919",null,null,"Composite (36) 62.5/125um MM and (96) SM, Multi-Unit Circular Premise Fiber Cable, PLENUM, (12) Fiber Subunits, Tight Buffered\r\n","CP132X551001-36MM6/96SM","Actual Footage=","standard material","physical","AFL","EA",7.06,0,"DWC",6810,null,"Kyle M. Daniel",0,"DWC",true,4,"0.0.0.0.0.166.53.46",1,2,null,330,null,null,null,27532,"0.0.0.0.0.166.37.139",true,false,true,false,false,3,0.03]
["item",12,"INFO-7012","920",null,null,"Composite (36) 62.5/125um MM and (96) SM, Multi-Unit Circular Premise Fiber Cable, ADSS Outside Plant, (12) Fiber Subunits, Gel Filled Loose Tube\r\n","AE132X551001-36MM6/96SM","Actual Footage=","standard material","physical","AFL","EA",3.07,0,"DWC",6810,"Requires Breakout Kits ","Kyle M. Daniel",0,"DWC",true,4,"0.0.0.0.0.166.53.49",1,2,null,331,null,null,null,27533,"0.0.0.0.0.166.37.142",true,false,true,false,false,3,0.03]
["item",12,"INFO-7013","921",null,null,"Composite (36) 62.5/125um MM and (96) SM, Multi-Unit Circular Premise Fiber Cable, Indoor/Outdoor, (12) Fiber Subunits, Loose Tube\r\n","LV132XC5101N1-36MM6/96SM","Actual Footage=","standard material","physical","AFL","EA",3.52,0,"DWC",6810,"Requires Breakout Kits ","Kyle M. Daniel",0,"DWC",true,4,"0.0.0.0.0.166.53.52",1,2,null,332,null,null,null,27534,"0.0.0.0.0.166.37.145",true,false,true,false,false,3,0.03]
["item",12,"INFO-7014","922",null,null,"Composite (12) 62.5/125um MM and (24) SM, Multi-Unit Circular Premise Fiber Cable, RISER, (12) Fiber Subunits, Tight Buffered\r\n","CR036X551001-12MM8/24SM","Actual Footage=","standard material","physical","AFL","EA",2.13,0,"DWC",6810,null,"Kyle M. Daniel",0,"DWC",true,4,"0.0.0.0.0.166.53.55",1,2,null,333,null,null,null,27535,"0.0.0.0.0.166.37.148",true,false,true,false,false,3,0.03]
["item",12,"INFO-7015","923",null,null,"Composite (12) 62.5/125um MM and (24) SM, Multi-Unit Circular Premise Fiber Cable, PLENUM, (12) Fiber Subunits, Tight Buffered\r\n","CP036X551001-12MM8/24SM","Actual Footage=","standard material","physical","AFL","EA",2.79,0,"DWC",6810,null,"Kyle M. Daniel",0,"DWC",true,4,"0.0.0.0.0.166.53.58",1,2,null,334,null,null,null,27536,"0.0.0.0.0.166.37.151",true,false,true,false,false,3,0.03]
["item",12,"INFO-7016","924",null,null,"Composite (12) 62.5/125um MM and (24) SM, Multi-Unit Circular Premise Fiber Cable, Indoor/Outdoor, (12) Fiber Subunits, Loose Tube\r\n","LV036XC5101N1-12MM8/24SM","Actual Footage=","standard material","physical","AFL","EA",1.2,0,"DWC",6810,null,"Kyle M. Daniel",0,"DWC",true,4,"0.0.0.0.0.166.53.61",1,2,null,335,null,null,null,27537,"0.0.0.0.0.166.37.154",true,false,true,false,false,3,0.03]
["item",12,"INFO-7017","925",null,null,"Composite (12) 62.5/125um MM and (24) SM, Multi-Unit Circular Premise Fiber Cable, ADSS Outside Plant, (12) Fiber Subunits, Gel Filled Loose Tube\r\n","AE036X551001-12MM8/24SM","Actual Footage=","standard material","physical","AFL","EA",1.02,0,"DWC",6810,null,"Kyle M. Daniel",0,"DWC",true,4,"0.0.0.0.0.166.53.64",1,2,null,336,null,null,null,27538,"0.0.0.0.0.166.37.157",true,false,true,false,false,3,0.03]
["item",12,"INRF-0051","491",null,null,"1\" Non-Metallic Innerduct, THREADED ADAPTER","A343F",null,"standard material","physical","Carlon","EA",1.54,0,"DWC",6810,null,"Kyle M. Daniel",0,"DWC",true,4,"0.0.0.0.0.166.53.67",1,16,null,337,null,null,null,27539,"0.0.0.0.0.166.37.160",true,false,true,false,false,3,0.01]
["item",12,"INRF-0100","486",null,null,"1\" Innerduct, Orange w/Pull Rope, Riser Rated","DF4XIC","Actual Footage=","standard material","physical","Carlon","FT",0.52,0,"DWC",6810,null,"Kyle M. Daniel",0,"DWC",true,5,"0.0.0.0.0.166.53.70",1,16,null,338,null,null,null,27540,"0.0.0.0.0.166.37.163",true,false,true,false,false,3,0,false,0]
["item",12,"INRF-0101","487",null,null,"1\" Innerduct, Orange w/Pull Rope, Plenum Rated","CF4XIC","Actual Footage=","standard material","physical","Carlon","FT",1.57,0,"DWC",6810,null,"Kyle M. Daniel",0,"DWC",true,5,"0.0.0.0.0.166.53.73",1,16,null,339,null,null,null,27541,"0.0.0.0.0.166.37.166",true,false,true,false,false,3,3.5000000000000003E-2,false,0]
["item",12,"NIS",null,null,null,"1.25\" Corrugated High Density Polyethylene Innerduct (Outside Plant) - Orange","A6D2S1JNNBXXXX",null,"non-standard material","physical","Carlon","FT",0,0,"DWC",null,"Installed in Outdoor/Underground Conduit Environments","Kyle M. Daniel",0,"DWC",null,null,null,null,null,null,null,null,null,null,null,null,null,null,null,null,null,null,3.5000000000000003E-2]
["item",12,"NIS",null,null,null,"1.25\" Corrugated High Density Polyethylene Innerduct (Outside Plant) - Green","A6D2S1FNNBXXXX",null,"non-standard material","physical","Carlon","FT",0,{"$f":"E465*N465","v":0},"DWC",null,"Installed in Outdoor/Underground Conduit Environments","Kyle M. Daniel",{"$f":"F465*N465","v":0},"DWC",null,null,null,null,null,null,null,null,null,null,null,null,null,null,null,null,null,null,3.5000000000000003E-2]
["item",12,"NIS",null,null,null,"1.25\" Corrugated High Density Polyethylene Innerduct (Outside Plant) - Blue","A6D2S1BNNBXXXX",null,"non-standard material","physical","Carlon","FT",0,{"$f":"E466*N466","v":0},"DWC",null,"Installed in Outdoor/Underground Conduit Environments","Kyle M. Daniel",{"$f":"F466*N466","v":0},"DWC",null,null,null,null,null,null,null,null,null,null,null,null,null,null,null,null,null,null,3.5000000000000003E-2]
["Header",13,"Shelving Units For Racks and Cabinets"]
["item",13,"10102",null,null,null,"Mount equipment shelf---------Labor Only","Equipment Shelf-L",null,"standard material","physical",{"$f":"VLOOKUP(Z468,rngManufacturerLookup,2,FALSE)","v":"DWC"},"EA",38.700000000000003,{"$f":"(E468*N468)","v":0},{"$f":"VLOOKUP(Y468,rngSupplierLookup,2,FALSE)","v":"DWC"},6810,null,"Kyle M. Daniel",{"$f":"(F468*N468)","v":0},"DWC",true,4,"0.0.0.0.0.166.53.76",1,23,null,866,null,null,null,28303,"0.0.0.0.0.166.37.169",true,false,true,false,false,3,0,false,0]
["item",13,"10263",null,null,null,"2RU Sliding Work Shelf . Fits 21\" - 32\" Adjustable Rack.","ESV-19-FST2732",null,"standard material","physical","Homaco","EA",365.71,0,"DWC",6810,null,"Kyle M. Daniel",0,"DWC",true,4,"0.0.0.0.0.166.53.79",1,37,null,1276,null,null,null,29319,"0.0.0.0.0.166.37.172",true,false,true,false,false,3,0.15,false,0]
["item",13,"1031-0076",1020,null,null,"1RU Fixed Vented Shelf, 19”w x 18”d, Black, Attached to Front and Rear Rails","RFVS1918BK1",null,"standard material","physical","Hammond","EA",27.8,0,"DWC",6810,"Radius Server to be placed on top of this shelf","Kyle M. Daniel",0,"DWC",true,4,"0.0.0.0.0.166.53.82",1,34,null,340,null,null,null,27542,"0.0.0.0.0.166.37.175",true,false,true,false,false,3,0.5,false,0]
["item",13,"1031-0077",1040,null,null,"2RU Fixed Vented Shelf, (19\"w x 15\"d ), Black, Cantilever Style, 200lb. Load","RASV190315BK1",null,"standard material","physical","Hammond","EA",43.31,0,"DWC",6810,null,"Kyle M. Daniel",0,"DWC",true,4,"0.0.0.0.0.166.53.85",1,34,null,341,null,null,null,27543,"0.0.0.0.0.166.37.178",true,false,true,false,false,3,0.5,false,0]
["item",13,"1031-007A",1077,null,null,"1RU Sliding Work Shelf, Vented, 19\"w x 18\"d, Black 120lb. Load","9013-1918-S0005",null,"standard material","physical","Belden","EA",112.17,0,"DWC",6810,"Template Sliding Shelf. Can be mounted on Dual and Single Rail Racks. Install (1) In switch electronics cabinets and racks for technician laptop support.","Kyle M. Daniel",0,"DWC",true,4,"0.0.0.0.0.166.53.88",1,9,null,342,null,null,null,27544,"0.0.0.0.0.166.37.181",true,false,true,false,false,3,0.5,false,0]
["item",13,"10313",null,null,null,"1 RU. Adjustable Depth - Fixed Shelf  Fits 25\" to 35\" Adjustable Rack, Black","RMASU1925BK1",null,"standard material","physical","Hammond","EA",69.75,0,"DWC",6810,null,"Kyle M. Daniel",0,"DWC",true,4,"0.0.0.0.0.166.53.91",1,34,null,1395,null,null,null,29951,"0.0.0.0.0.166.37.184",true,false,true,false,false,3,0.05,false,0]
["item",13,"INFO-2339","637",null,null,"3RU Sliding Work Shelf, Vented, 19\"w x 18\"d, Black 120lb. Load","RSVS1918BK1",null,"standard material","physical","Hammond","EA",79.8,0,"DWC",6810,"Not template. See 1RU X-Mark","Kyle M. Daniel",0,"DWC",true,4,"0.0.0.0.0.166.53.94",1,34,null,423,null,null,null,27625,"0.0.0.0.0.166.37.187",true,false,true,false,false,3,0.1,false,0]
["item",13,"INFO-4221","273",null,null,"3RU Vented Shelf, (19\"w x 15\"d ), Black, Cantilever Style, 200lb. Load","RASV190515BK1",null,"standard material","physical","Hammond","EA",50.51,0,"DWC",6810,null,"Kyle M. Daniel",0,"DWC",true,4,"0.0.0.0.0.166.53.97",1,34,null,343,null,null,null,27545,"0.0.0.0.0.166.37.190",true,false,true,false,false,3,0.5,false,0]
["Header",16,"Computer Room Cabinets"]
["item",16,"0700-HGHW",1072,null,null,"Cabinet Rail Mounting Screws 10/32 x 5/8\"L, (25/PKG)","1421A25B",null,"standard material","physical",{"$f":"VLOOKUP(Z477,rngManufacturerLookup,2,FALSE)","v":"Hammond"},"EA",3.47,{"$f":"(E477*N477)","v":0},{"$f":"VLOOKUP(Y477,rngSupplierLookup,2,FALSE)","v":"DWC"},6810,"Order Washers to match","Neil Norat",{"$f":"(F477*N477)","v":0},"DWC",true,4,"0.0.0.0.0.166.53.100",1,34,null,344,null,null,null,27546,"0.0.0.0.0.166.37.193",true,false,true,false,false,3,0,false,0]
["item",16,"0866-03VP",1070,null,null,"40RU Cabinet Vertical Cable Organizer w/Door and Strut Mounting Hardware. Single Unit","VCMDS70BK1",null,"standard material","physical","Hammond","EA",88.9,0,"DWC",6810,"Order Qnty. (2) if required for both sides","Neil Norat",0,"DWC",true,4,"0.0.0.0.0.166.53.103",1,34,null,345,null,null,null,27547,"0.0.0.0.0.166.37.196",true,false,true,false,false,3,0]
["item",16,"0900-CG6J",1071,null,null,"Washers for Cabinet Rail Mounting Screws, (25/PKG)","1421E25W",null,"standard material","physical","Hammond","EA",2.44,0,"DWC",6810,null,"Neil Norat",0,"DWC",true,4,"0.0.0.0.0.166.53.106",1,34,null,346,null,null,null,27548,"0.0.0.0.0.166.37.199",true,false,true,false,false,3,0,false,0]
["item",16,"10039",null,null,null,"Cut hole up to 4\" NPT---------Labor Only","4IN-NPT-L",null,"standard material","physical","DWC","EA",27.9,0,"DWC",6810,"Required for all conduits openings installed as part of cabinet build","Kyle M. Daniel",0,"DWC",true,4,"0.0.0.0.0.166.53.109",1,23,null,867,null,null,null,28304,"0.0.0.0.0.166.37.202",true,false,true,false,false,3,0,false,0]
["item",16,"10062",null,null,null,"78  Inch NEMA 1 Enclosure Clean Room Cabinet Assembly w/Two Fans - Labor Only","78N1CRC2F-L",null,"standard material","physical","DWC","EA",279,0,"DWC",6810,null,"Kyle M. Daniel",0,"DWC",true,4,"0.0.0.0.0.166.53.112",1,23,null,868,null,null,null,28305,"0.0.0.0.0.166.37.205",true,false,true,false,false,3,0,false,0]
["item",16,"10063",null,null,null,"78 Inch NEMA 1 Enclosure Clean Room Cabinet Assembly w/Four Fans - Labor Only","78N1CRC4F-L",null,"standard material","physical","DWC","EA",337.5,0,"DWC",6810,null,"Kyle M. Daniel",0,"DWC",true,4,"0.0.0.0.0.166.53.115",1,23,null,869,null,null,null,28306,"0.0.0.0.0.166.37.208",true,false,true,false,false,3,0,false,0]
["item",16,"10064",null,null,null,"78 Inch NEMA 1 Enclosure Clean Room Cabinet Assembly No Fans - Labor Only","78N1CRCNF-L",null,"standard material","physical","DWC","EA",279,0,"DWC",6810,null,"Kyle M. Daniel",0,"DWC",true,4,"0.0.0.0.0.166.53.118",1,23,null,870,null,null,null,28307,"0.0.0.0.0.166.37.211",true,false,true,false,false,3,0,false,0]
["item",16,"10078",null,null,null,"Brushed Grommet Panel for Cable Entry Into Tops of Nema 1 Cabinets 19\" x 2RU","BR2",null,"standard material","physical","Mid Atlantic","EA",37.549999999999997,0,"DWC",6810,"Installed on Tops of Nema 1 Cabinets for Cable Entry. Note: For Large Openings Approx. 19\"w x 3.5\"d 2RU\r\nSee Build Labor item BR2-L","Kyle M. Daniel",0,"DWC",true,4,"0.0.0.0.0.166.53.121",1,46,null,871,null,null,null,28308,"0.0.0.0.0.166.37.214",true,false,true,false,false,3,0,false,0]
["item",16,"10080",null,null,null,"Brushed Grommet on Nema 1 Cabinets (Labor ONLY)","BR2-L",null,"standard material","physical","DWC","EA",56.7,0,"DWC",6810,"Pre Build at DWC. Requires approx. top cabinet panel rectangle cut of 19\" x 3.5\" and 4 mounting holes","Kyle M. Daniel",0,"DWC",true,4,"0.0.0.0.0.166.53.124",1,23,null,872,null,null,null,28309,"0.0.0.0.0.166.37.217",true,false,true,false,false,3,0,false,0]
["item",16,"10130",null,null,null,"Blank 1RU 19\" Non Vented Flanged Filler Panel Black","MA-EB1",null,"standard material","physical","Mid Atlantic","EA",5.55,0,"DWC",6810,"May be used for seperation/dividing of UTP panels in VOIP Template Passive Racks in Lieu of Horizontal WM","Kyle M. Daniel",0,"DWC",true,4,"0.0.0.0.0.166.53.127",1,46,null,873,null,null,null,28310,"0.0.0.0.0.166.37.220",true,false,true,false,false,3,0.1,false,0]
["item",16,"10179",null,null,null,"78\"H X 29\"W X 34\"D Network Cabinet w/2 Sets of Rails, Removable 10\" Fan Top, Plexiglass Front Door w/Lock, Solid Rear Door w/Lock, and Locking Side Panels (Black)","XDP78-3-122120",null,"standard material","physical","Belden","EA",1762.75,0,"DWC",6810,"Data Center Network Cabinets","Kyle M. Daniel",0,"DWC",true,4,"0.0.0.0.0.166.53.130",1,9,null,874,null,null,null,28311,"0.0.0.0.0.166.37.223",true,false,true,false,false,3,10,false,0]
["item",16,"10180",null,null,null,"78\" Network Cabinet Cable Management D-Rings","XGCM-DR2535",null,"standard material","physical","Belden","EA",7.35,0,"DWC",6810,"Thirty-Two (32) required for each 78\" Network Cabinet","Kyle M. Daniel",0,"DWC",true,4,"0.0.0.0.0.166.53.133",1,9,null,875,null,null,null,28312,"0.0.0.0.0.166.37.226",true,false,true,false,false,3,0.1,false,0]
["item",16,"10181",null,null,null,"78\" Network Cabinet Adjustable Horizontal Cable Manager","XGCM-HCT1428",null,"standard material","physical","Belden","EA",28.3,0,"DWC",6810,"Six (6) required for each 78\" Network Cabinet","Kyle M. Daniel",0,"DWC",true,4,"0.0.0.0.0.166.53.136",1,9,null,876,null,null,null,28313,"0.0.0.0.0.166.37.229",true,false,true,false,false,3,0.1,false,0]
["item",16,"10182",null,null,null,"78\" Network Cabinet Vertical Rail for Cable Management","XGCM-VR78",null,"standard material","physical","Belden","EA",33.299999999999997,0,"DWC",6810,"Four (4) required for each 78\" Network Cabinet","Kyle M. Daniel",0,"DWC",true,4,"0.0.0.0.0.166.53.139",1,9,null,877,null,null,null,28314,"0.0.0.0.0.166.37.232",true,false,true,false,false,3,0.1,false,0]
["item",16,"10249",null,null,null,"DWC Assembly Kit, X-MARK ULTRA SERVER Enclosure-Cabinet, 78\"h x 24\"w x 36\"d, 42RU-19\" Mounting, (3) Pair Adjustable Mounting Rails/(50) #M6 Cage Nuts and Screws, (4)-4\" Muffin Fan Top, Perforated Front Door and Perforated Split Rear Doors, (2) Solid Side Panels, Frame/Door Ground Straps, EGB Ground Bar. Manf. Model #XUS78-3-135520.","782436US-X","See Ordering Guidelines","standard material","physical","DWC","KIT",2261.8000000000002,0,"DWC",6810,"OPTION 3 For Equipment that is no deeper than 32\".  24\" Wide Use only if space is problem.  Will NOT accept Manf. Cabinet WM. (1) 19\" EGB Ground Bar (#GB316-7520DWC) and (6) Frame/Door Ground Straps (#GM-HP14.5) are added items by DWC. Must order as separate item, (2) additional 50/bags M6 cage nuts and screws. DWC KIT, Also Pick Nema 1 Enclosure Labor Item #78N1CRCNF-L. ","Kyle M. Daniel",0,"DWC",true,6,"0.0.0.0.0.166.53.142",1,23,null,1277,null,null,null,29320,"0.0.0.0.0.166.37.235",true,false,true,false,false,3,10,false,0]
["item",16,"10251",null,null,null,"14.5\" Ground Strap, For  X-Mark Cabinet Doors, Side Panels, etc.","GM-HP14.5","See Ordering Guidelines\r\n","standard material","physical","Belden","EA",5.25,0,"DWC",6810,"Order Qnty. (6) for X-Mark \"Network\" Cabinet or when not order Cabinet Kits.\r\n","Kyle M. Daniel",0,"DWC",true,4,"0.0.0.0.0.166.53.145",1,9,null,1278,null,null,null,29321,"0.0.0.0.0.166.37.238",true,false,true,false,false,3,1,false,0]
["item",16,"10252",null,null,null,"DWC Assembly Kit, X-MARK ULTRA DEEP SERVER Enclosure-Cabinet-Black,  84\"h x 24\"w x 42\"d, 45RU-19\" Mounting, (3) Pair Adjustable Mounting Rails/(50) #M6 Cage Nuts and Screws, (4)-4\" Muffin Fan Top, Perforated Front Door and Perforated Split Rear Doors, (2) Solid Side Panels, Frame/Door Ground Straps, EGB Ground Bar. Manf. Model #XUSD84-3-132220.","842442UDS-X","See Ordering Guidelines\r\n","standard material","physical","DWC","KIT",2515.1,0,"DWC",6810,"OPTION 2 For Cisco Nexus 7010 Switches. 24\" Wide Use only if space is problem.  Cabinet Manf. WM Must be Ordered Seperate. See BOM for the WM items available. (1) 19\" EGB Ground Bar (#GB316-7520DWC) and (6) Frame/Door Ground Straps (#GM-HP14.5) are added items by DWC.  Must order as separate item, (2) additional 50/bags M6 cage nuts and screws. DWC KIT, Also Pick Nema 1 Enclosure Labor Item #78N1CRCNF-L. ","Kyle M. Daniel",0,"DWC",true,6,"0.0.0.0.0.166.53.148",1,23,null,1279,null,null,null,29322,"0.0.0.0.0.166.37.241",true,false,true,false,false,3,10,false,0]
["item",16,"10253",null,null,null,"X-Mark Optional Cabinet Steel Horiz. Cable Trough, FRONT","433-5115-F","See Ordering Guidelines","standard material","physical","Belden","EA",30.6,0,"DWC",6810,"Installed at Top of ULTRA DEEP Cabinet in Front for Horizontal Cabling Across Cabinet. For ULTR DEEP Cabinet ONLY","Kyle M. Daniel",0,"DWC",true,4,"0.0.0.0.0.166.53.151",1,9,null,1280,null,null,null,29323,"0.0.0.0.0.166.37.244",true,false,true,false,false,3,0.15,false,0]
["item",16,"10254",null,null,null,"X-Mark Optional Cabinet Steel Horiz. Cable Trough, REAR","433-5115-R","See Ordering Guidelines","standard material","physical","Belden","EA",41.35,0,"DWC",6810,"Installed at Top of ULTRA DEEP Cabinet in Rear for Horizontal Cabling Across Cabinet. For ULTR DEEP Cabinet ONLY","Kyle M. Daniel",0,"DWC",true,4,"0.0.0.0.0.166.53.154",1,9,null,1281,null,null,null,29324,"0.0.0.0.0.166.37.247",true,false,true,false,false,3,0.15,false,0]
["item",16,"10255",null,null,null,"X-Mark Optional Cabinet Steel Vertical Cable Trough 76.5\"H, SIDES","433-5114","See Ordering Guidelines","standard material","physical","Belden","EA",67.849999999999994,0,"DWC",6810,"ULTRA DEEP Cabinet, Order (1) for Each Side, Front and Rear if Needed. For ULTR DEEP Cabinet ","Kyle M. Daniel",0,"DWC",true,4,"0.0.0.0.0.166.53.157",1,9,null,1282,null,null,null,29325,"0.0.0.0.0.166.37.250",true,false,true,false,false,3,0.15,false,0]
["item",16,"10257",null,null,null,"DWC Assembly Kit, X-MARK GIGA SERVER Enclosure-Cabinet-Black,  84\"h x 26\"w x 42\"d, 45RU-19\" Mounting, (3) Pair Adjustable Mounting Rails/(50) #M6 Cage Nuts and Screws, Perforated Front Door and Split Perforated Rear Doors w/(4) Fans each door, Frame Integrated Top Horiz. and Vert. WM, Bottom Cable Entry Panel, (2) Solid Side Panels, Frame/Door Ground Straps, EGB Ground Bar. Manf. Model #XGS-3-112320","842642GS-X","See Ordering Guidelines","standard material","physical","DWC","KIT",3460.7,0,"DWC",6810,"Option 1 For Cisco Nexus 7010 Switches. (1) 19\" EGB Ground Bar (#GB316-7520DWC) and (6) Frame/Door Ground Straps (#GM-HP14.5) are added items by DWC.  Must order as separate item, (2) additional 50/bags M6 cage nuts and screws. DWC KIT, Also Pick Nema 1 Enclosure Labor Item #78N1CRCNF-L. ","Kyle M. Daniel",0,"DWC",true,6,"0.0.0.0.0.166.53.160",1,23,null,1283,null,null,null,29326,"0.0.0.0.0.166.37.253",true,false,true,false,false,3,10,false,0]
["item",16,"10258",null,null,null,"X-Mark Server Cabinets M6 Cage Nuts for Mounting Rails, 50/Bag","8913-0100","See Ordering Guidelines","standard material","physical","Belden","EA",22.3,0,"DWC",6810,"Order (2) additional bags for every X-Mark server cabinet","Kyle M. Daniel",0,"DWC",true,4,"0.0.0.0.0.166.53.163",1,9,null,1284,null,null,null,29327,"0.0.0.0.0.166.38.1",true,false,true,false,false,3,1,false,0]
["item",16,"10259",null,null,null,"X-Mark Server Cabinets M6 Screws for Cage Nuts/Mounting Rails, 50/Bag","8914-0100","See Ordering Guidelines","standard material","physical","Belden","EA",10.75,0,"DWC",6810,"Order (2) additional bags for every X-Mark server cabinet","Kyle M. Daniel",0,"DWC",true,4,"0.0.0.0.0.166.53.166",1,9,null,1285,null,null,null,29328,"0.0.0.0.0.166.38.4",true,false,true,false,false,3,1,false,0]
["item",16,"10264",null,null,null,"Cool Boot Raised Floor Air Sealing Grommet 10\" x 8\" Surface Mount","RFG10X8SMY",null,"standard material","physical","Panduit","EA",74.099999999999994,0,"DWC",6810,null,"Kyle M. Daniel",0,"DWC",true,4,"0.0.0.0.0.166.53.169",1,57,null,1286,null,null,null,29329,"0.0.0.0.0.166.38.7",true,false,true,false,false,3,0.15,false,0]
["item",16,"10265",null,null,null,"Cool Boot Raised Floor Air Sealing Grommet 4.8\" x 4.8\" Surface Mount","RFG3DSMY",null,"standard material","physical","Panduit","EA",33.950000000000003,0,"DWC",6810,null,"Kyle M. Daniel",0,"DWC",true,4,"0.0.0.0.0.166.53.172",1,57,null,1287,null,null,null,29330,"0.0.0.0.0.166.38.10",true,false,true,false,false,3,0.15,false,0]
["item",16,"10344",null,null,null,"Solid Bottom Cover for X-Mark Giga Server Cabinet #842642GS-X","433-8297-3","\"For Cisco Nexus 7010 Cabinets. See Ordering Guidelines\"","standard material","physical","X-Mark","EA",95.1,0,"DWC",6810,"\"This item does not come from factory with cabinet and is required to cover large opening in bottom of cabinet to install additional brushed gland plate at front of cabinet.\r\nNOTE: IF CABINET IS PLACED ON RAISED FLOOR AND IN ROW COOLING (HOT/COLD AISLES) DOES NOT EXIST THIS PANEL MUST BE FIELD CUT TO ALLOW SUFFICIENT AIRFLOW FROM RAISED FLOOR COOLING.\"","Kyle M. Daniel",0,"DWC",true,4,"0.0.0.0.0.166.53.175",1,78,null,1505,null,null,null,30280,"0.0.0.0.0.166.38.13",true,false,true,false,false,3,1,false,0]
["item",16,"10345",null,null,null,"X-MARK ULTRA DEEP SERVER Enclosure-Cabinet for Cisco Nexus 7010- Labor Only","842642GS-X-L","\"For Cisco Nexus 7010 Cabinets See Ordering Guidelines\"","standard material","physical","DWC","EA",504,0,"DWC",6810,"\r\n\"Labor for this includes additions to the base cabinet to accommodate the Cisco Nexus 7010 switch. Unless noted here Items not specified in Cabinet Kit must be ordered separately.\r\nSpecified items only as noted will be installed or modified as follows;\r\nAdjust cabinet mounting rails for Nexus 7010 and install 7010 shelf supplied by others.\r\nMove front door to rear and rear fan doors to front,.\r\nInstall (1) X-Mark solid bottom cover, (1) X-Mark bottom brushed gland plate, (1) EGB cabinet ground bar, (6) Belden frame/door ground straps, (8) B-Line rail mounted vertical finger brackets.\r\nProvide and install protective grommet material around (6) cabinet cable openings.\r\nInstall cage nuts for all equipment installed as part of build.\"","Kyle M. Daniel",0,"DWC",true,4,"0.0.0.0.0.166.53.178",1,23,null,1506,null,null,null,30281,"0.0.0.0.0.166.38.16",true,false,true,false,false,3,0,false,0]
["item",16,"10346",null,null,null,"Bottom Brushed Gland Plate for Giga Server Cabinet XG84-3-112320","XUSDBBKK001","\"For Cisco Nexus 7010 Cabinets See Ordering Guidelines\"","standard material","physical","X-Mark","EA",44.65,0,"DWC",6810,"Iinstalling Nexus 7010 add qnty. (1) to cabinet bottom panel for power cords or cabling existing bottom of cabinet. This item will fit for other applications as well. Opening of gland plate is 10\" x 3.88\".","Kyle M. Daniel",0,"DWC",true,4,"0.0.0.0.0.166.53.181",1,78,null,1507,null,null,null,30282,"0.0.0.0.0.166.38.19",true,false,true,false,false,3,1,false,0]
["item",16,"10347",null,null,null,"19\" 1RU, Blanking Panel, Black, Cabinet Rail Mounted","FEB1","\"For Cisco Nexus 7010 Cabinets See Ordering Guidelines\"","standard material","physical","Mid Atlantic","EA",5.83,0,"DWC",6810,"\"Installed in all unused rack spaces from top to bottom in cabinet to improve airflow management.\r\nAdd Quantity to Horizontal WM Labor Line item.\"","Kyle M. Daniel",0,"DWC",true,4,"0.0.0.0.0.166.53.184",1,46,null,1508,null,null,null,30283,"0.0.0.0.0.166.38.22",true,false,true,false,false,3,0.1,false,0]
["item",16,"INFO-4105","248",null,null,"Joining kit for NEMA 1 Computer Room/Clean Room 77\" Cabinets","CGH01",null,"standard material","physical","Hammond","EA",39.6,0,"DWC",6810,"Order Qnty.1 for each pair of NEMA-1 cabinets to be joined.","Kyle M. Daniel",0,"DWC",true,4,"0.0.0.0.0.166.53.187",1,34,null,347,null,null,null,27549,"0.0.0.0.0.166.38.25",true,false,true,false,false,3,1,false,0]
["item",16,"INFO-4106","249",null,null,"78 inch NEMA 1 Enclosure Clean Room Cabinet Assembly Kit (78\"X28\"X32\"). Package includes 1 frame with door and sides (INFO-4102), 2 pair rails (INFO-4108), 2 sets rail reducers (INFO-4107), 2 power bars (INFO-4601), Louvered Top No Fans - Material Only","S88834",null,"standard material","physical","Hammond","EA",1482.3,0,"DWC",6810,"TEMPLATE PACKAGE FOR NO FANS. Matches DWC Build Dwg. #78N1CRC-H.  DO NOT Order This Package With Changes.","Kyle M. Daniel",0,"DWC",true,4,"0.0.0.0.0.166.53.190",1,34,null,348,null,null,null,27550,"0.0.0.0.0.166.38.28",true,false,true,false,false,3,10,false,0]
["item",16,"INFO-4109","250",null,null,"4\" Muffin Fan Kit.  Includes: (1) 4\" Muffin Fan, P/N DNMF100AC115; (1) Fan Cord, P/N DNMFC; (2) Fan Guards, P/N DNFG","S88840",null,"standard material","physical","Hammond","EA",27.87,0,"DWC",6810,"Only order for existing NEMA 1 cabinets or new wall mount cabinets.","Kyle M. Daniel",0,"DWC",true,4,"0.0.0.0.0.166.53.193",1,34,null,349,null,null,null,27551,"0.0.0.0.0.166.38.31",true,false,true,false,false,3,0.5]
["item",16,"INFO-4110","251",null,null,"Solid Top Panel for NEMA-1 Cabinet to accept fan assemblies or if top exit holes are larger than 4\".","C2T2431SCG1",null,"standard material","physical","Hammond","EA",27.14,0,"DWC",6810,"Only order for existing NEMA 1 cabinets to replace louvered top.","Kyle M. Daniel",0,"DWC",true,4,"0.0.0.0.0.166.53.196",1,34,null,350,null,null,null,27552,"0.0.0.0.0.166.38.34",true,false,true,false,false,3,0.25,false,0]
["item",16,"INFO-4111","252",null,null,"NEMA-1 4\" muffin fan harness. Daisy chain two fan harness with molded 5-15P plug.","GM-DCFC90-3",null,"standard material","physical","Elmor","EA",8.59,0,"DWC",6810,"Only order for existing NEMA 1 cabinets or new wall mount cabinets.","Kyle M. Daniel",0,"DWC",true,4,"0.0.0.0.0.166.53.199",1,25,null,351,null,null,null,27553,"0.0.0.0.0.166.38.37",true,false,true,false,false,3,0.1]
["item",16,"INFO-4724","529",null,null,"78  Inch NEMA 1 Enclosure Clean Room Cabinet Assembly w/Four Fans, includes Hammond Cabinet (Same as INFO-4106) & Accessories - Material Only","78N1CRC4F-H",null,"standard material","physical","DWC","EA",1611.8,0,"DWC",6810,"TEMPLATE PACKAGE FOR (4) FANS. Matches DWC Build Dwg. #78N1CRC-H.  DO NOT Order This Package With Changes.","Kyle M. Daniel",0,"DWC",true,4,"0.0.0.0.0.166.53.202",1,23,null,352,null,null,null,27554,"0.0.0.0.0.166.38.40",true,false,true,false,false,3,10,false,0]
["item",16,"INFO-4728","532",null,null,"NEMA-1 computer room cabinet package (78\"X28\"X32\"). Package includes 14 ga steel welded frame, levelers, ground studs, (4) ground straps, two pair of EIA rails tapped 10-32 plated zinc/clear, bag of (100) oval head Phillips screws and finish washers, welded steel EIA rail spacers & hardware for 19” mounting, bag of EIA rail hardware for 24” mounting, open bottom with solid cover, open top with solid cover (top cover includes four fan knockouts), glass front door, louvered rear door (doors include X-MARK standard slam latch keyed 1333), two solid side panels (sides include tamper proof screw attachment), two power strips (72” x 10 outlet x 20 amp)","XGN1-782832-0001","KEEP ON BOM UNTIL QNTY. (3) ARE GONE","standard material","physical","X-Mark","EA",1223.49,0,"DWC",6810,"Standard Kit without fans.  If fans are required, they must be ordered separately.","Kyle M. Daniel",0,"DWC",true,4,"0.0.0.0.0.166.53.205",1,78,null,353,null,null,null,27555,"0.0.0.0.0.166.38.43",true,false,true,false,false,3,4,false,0]
["item",16,"INFO-4831","525",null,null,"78  Inch NEMA 1 Enclosure Clean Room Cabinet Assembly No Fans, includes Hammond Cabinet (INFO-4106) & Accessories - Material Only","78N1CRCNF-H",null,"standard material","physical","DWC","EA",1461.51,0,"DWC",6810,null,"Kyle M. Daniel",0,"DWC",true,4,"0.0.0.0.0.166.53.208",1,23,null,354,null,null,null,27556,"0.0.0.0.0.166.38.46",true,false,true,false,false,3,10,false,0]
["item",16,"INFO-4834","527",null,null,"78  Inch NEMA 1 Enclosure Clean Room Cabinet Assembly w/Two Fans, includes Hammond Cabinet (INFO-4106) & Accessories - Material Only","78N1CRC2F-H",null,"standard material","physical","DWC","EA",1550.22,0,"DWC",6810,"TEMPLATE PACKAGE FOR (2) FANS. Matches DWC Build Dwg. #78N1CRC-H.  DO NOT Order This Package With Changes.","Kyle M. Daniel",0,"DWC",true,4,"0.0.0.0.0.166.53.211",1,23,null,355,null,null,null,27557,"0.0.0.0.0.166.38.49",true,false,true,false,false,3,10,false,0]
["Header",17,"Plant Floor Cabinets"]
["item",17,"0054-0118",967,null,null,"End Barriers for EA & ED 300-600v Type Terminal Blocks ","EB1",null,"standard material","physical",{"$f":"VLOOKUP(Z516,rngManufacturerLookup,2,FALSE)","v":"Electro-Matic"},"EA",2.23,{"$f":"(E516*N516)","v":0},{"$f":"VLOOKUP(Y516,rngSupplierLookup,2,FALSE)","v":"DWC"},6810,"Used in Terminal Box Kit (INFO-4818) and EJB Box Kit (INFO-4819)","Neil Norat",{"$f":"(F516*N516)","v":0},"DWC",true,4,"0.0.0.0.0.166.53.214",1,24,null,356,null,{"$f":"(md5Hash(CONCATENATE(Z516,B516,K516,Q516,D516,S516,C516,H516,md5Hash(G516))))","v":"703088c9c01168e0b2d2000cf8746944"},{"$f":"IF(AD516<>AC516,0,0)","v":0},27558,"0.0.0.0.0.166.38.52",true,false,true,false,false,3,0]
["item",17,"0092-1AX5",1084,null,null,"Nema 1, Junction Box w/ Screw Cover, 12\" X 12\" X 6\"","12126SC",null,"standard material","physical","Unity Manufacturing","EA",38.61,0,"DWC",6810,null,"Kyle M. Daniel",0,"DWC",true,4,"0.0.0.0.0.166.53.217",1,75,null,357,null,null,null,27559,"0.0.0.0.0.166.38.55",true,false,true,false,false,3,1,false,0]
["item",17,"0092-1AX6",1085,null,null,"Nema 1, Junction Box w/ Screw Cover, 24\" X 24\" X 8\"","24248SC",null,"standard material","physical","Unity Manufacturing","EA",77.12,0,"DWC",6810,null,"Kyle M. Daniel",0,"DWC",true,4,"0.0.0.0.0.166.53.220",1,75,null,358,null,null,null,27560,"0.0.0.0.0.166.38.58",true,false,true,false,false,3,1,false,0]
["item",17,"0155-039F",969,null,null,"Terminal Block Mounting Rail, plated steel, scored every 13/64 inches, 36 IN LG.","ET1",null,"standard material","physical","Electro-Matic","EA",9.31,0,"DWC",6810,"Used in Terminal Box Kit (INFO-4818) and EJB Box Kit (INFO-4819)","Kyle M. Daniel",0,"DWC",true,4,"0.0.0.0.0.166.53.223",1,24,null,359,null,null,null,27561,"0.0.0.0.0.166.38.61",true,false,true,false,false,3,1]
["item",17,"0405-3712",1034,null,null,"HANDLE, LOCKING DOOR, FOR NEMA 12 ENCLOSURE","SR0400103",null,"standard material","physical","Hammond","EA",68.61,0,"DWC",6810,null,"Kyle M. Daniel",0,"DWC",true,4,"0.0.0.0.0.166.53.226",1,34,null,360,null,null,null,27562,"0.0.0.0.0.166.38.64",true,false,true,false,false,3,0.5]
["item",17,"0417-9853",968,null,null,"Termninal Block End Anchor for 300 & 600v Blocks","EC2",null,"standard material","physical","Hammond","EA",3.37,0,"DWC",6810,"Used in Terminal Box Kit (INFO-4818) and EJB Box Kit (INFO-4819)","Kyle M. Daniel",0,"DWC",true,4,"0.0.0.0.0.166.53.229",1,34,null,361,null,null,null,27563,"0.0.0.0.0.166.38.67",true,false,true,false,false,3,0.25]
["item",17,"0451-01CY",970,null,null,"Plug-in Two Pole Jumper for EA1 Terminal Blocks ","EJ1",null,"standard material","physical","Electro-Matic","EA",0.79,0,"DWC",6810,"Used in Terminal Box Kit (INFO-4818) and EJB Box Kit (INFO-4819)","Kyle M. Daniel",0,"DWC",true,4,"0.0.0.0.0.166.53.232",1,24,null,362,null,null,null,27564,"0.0.0.0.0.166.38.70",true,false,true,false,false,3,0.25]
["item",17,"0456-0XFT",1032,null,null,"Gasket Kit for Nema 12 78\" Cabinet Doors","1481DJ10",null,"standard material","physical","Hammond","EA",7.16,0,"DWC",6810,"Order to replace NEMA 12 enclosure gaskets","Kyle M. Daniel",0,"DWC",true,4,"0.0.0.0.0.166.53.235",1,34,null,363,null,null,null,27565,"0.0.0.0.0.166.38.73",true,false,true,false,false,3,0.5,false,0]
["item",17,"0466-3097",1033,null,null,"T10-24\" Flourescent Lamp, 20 Watt, Straight Tube, LAMP ONLY","F20T12-CW",null,"standard material","physical","GE","EA",3.22,0,"DWC",6810,"For missing cabinet lights in magnetic fixtures found in Nema 12 cabinets","Kyle M. Daniel",0,"DWC",true,4,"0.0.0.0.0.166.53.238",1,32,null,364,null,null,null,27566,"0.0.0.0.0.166.38.76",true,false,true,false,false,3,0.1]
["item",17,"0576-01CG",1035,null,null,"Drip Pan for inside Nema 12 cabinet with existing Top Mount A/C Units","HB11PLENUM/PAN",null,"standard material","physical","DWC","EA",194.14,0,"DWC",6810,"Add to cabinets when condensation from top mounted A/C units is apparent","Kyle M. Daniel",0,"DWC",true,4,"0.0.0.0.0.166.53.241",1,23,null,365,null,null,null,27567,"0.0.0.0.0.166.38.79",true,false,true,false,false,3,0.5]
["item",17,"0641-0DVA",973,null,null,"DIN RAIL TS 35 X 7.5MM SLOTTED 2M LENGTH ZINC PLATING ","TS3575SL",null,"standard material","physical","Amer Elec","EA",17.37,0,"DWC",6810,"Typically Used in Terminal Box Kit (INFO-4818) and EJB Box Kit (INFO-4819)","Kyle M. Daniel",0,"DWC",true,4,"0.0.0.0.0.166.53.244",1,6,null,366,null,null,null,27568,"0.0.0.0.0.166.38.82",true,false,true,false,false,3,0.1]
["item",17,"0641-0DVF",1083,null,null,"Rack Mounting Rails, Half High, For 78\" Hammond Cabinets","SR0500002",null,"standard material","physical","Hammond","EA",81.69,0,"DWC",6810,"Verify Use/Purpose Before Ordering","Kyle M. Daniel",0,"DWC",true,4,"0.0.0.0.0.166.53.247",1,34,null,367,null,null,null,27569,"0.0.0.0.0.166.38.85",true,false,true,false,false,3,0.1,false,0]
["item",17,"0658-69T6",972,null,null,"RELAY, CONTACTOR, 4 POLE, 120v, 35A, (DOORS, FANS, LIGHTS)","A9-22-00-84",null,"standard material","physical","Allen Bradley","EA",242.55,0,"DWC",6810,"Used EJB Box Kit (INFO-4819) for Door Open Functions to lights, fans and A/C","Kyle M. Daniel",0,"DWC",true,4,"0.0.0.0.0.166.53.250",1,3,null,368,null,null,null,27570,"0.0.0.0.0.166.38.88",true,false,true,false,false,3,0.1]
["item",17,"10048",null,null,null,"60 Inch NEMA 12 Enclosure Common Cabinet Assembly - Labor Only","60N12CC-L",null,"standard material","physical","DWC","EA",1102.5,0,"DWC",6810,null,"Kyle M. Daniel",0,"DWC",true,4,"0.0.0.0.0.166.53.253",1,23,null,878,null,null,null,28315,"0.0.0.0.0.166.38.91",true,false,true,false,false,3,0,false,0]
["item",17,"10049",null,null,null,"60 Inch NEMA 12 Enclosure Type 1 Cabinet Assembly - Labor Only","60N12T1-L",null,"standard material","physical","DWC","EA",1102.5,0,"DWC",6810,null,"Kyle M. Daniel",0,"DWC",true,4,"0.0.0.0.0.166.54.1",1,23,null,879,null,null,null,28316,"0.0.0.0.0.166.38.94",true,false,true,false,false,3,0,false,0]
["item",17,"10050",null,null,null,"60 Inch NEMA 12 Enclosure Type 2 Cabinet Assembly - Labor Only","60N12T2-L",null,"standard material","physical","DWC","EA",1597.5,0,"DWC",6810,null,"Kyle M. Daniel",0,"DWC",true,4,"0.0.0.0.0.166.54.4",1,23,null,880,null,null,null,28317,"0.0.0.0.0.166.38.97",true,false,true,false,false,3,0,false,0]
["item",17,"10051",null,null,null,"60 Inch NEMA 12 Enclosure Type 3 Cabinet Assembly - Labor Only","60N12T3-L",null,"standard material","physical","DWC","EA",1941.57,0,"DWC",6810,null,"Kyle M. Daniel",0,"DWC",true,4,"0.0.0.0.0.166.54.7",1,23,null,881,null,null,null,28318,"0.0.0.0.0.166.38.100",true,false,true,false,false,3,0,false,0]
["item",17,"10052",null,null,null,"60 Inch NEMA 12 Enclosure Type 4 Cabinet Assembly - Labor Only","60N12T4-L",null,"standard material","physical","DWC","EA",2782.8,0,"DWC",6810,null,"Kyle M. Daniel",0,"DWC",true,4,"0.0.0.0.0.166.54.10",1,23,null,882,null,null,null,28319,"0.0.0.0.0.166.38.103",true,false,true,false,false,3,0,false,0]
["item",17,"10053",null,null,null,"60 Inch NEMA 12 Enclosure Type 5 Cabinet Assembly - Labor Only","60N12T5-L",null,"standard material","physical","DWC","EA",3496.5,0,"DWC",6810,null,"Kyle M. Daniel",0,"DWC",true,4,"0.0.0.0.0.166.54.13",1,23,null,883,null,null,null,28320,"0.0.0.0.0.166.38.106",true,false,true,false,false,3,0,false,0]
["item",17,"10058",null,null,null,"78 Inch NEMA 12 Enclosure Common Cabinet Assembly - Labor Only","78N12CC-L",null,"standard material","physical","DWC","EA",1098,0,"DWC",6810,null,"Kyle M. Daniel",0,"DWC",true,4,"0.0.0.0.0.166.54.16",1,23,null,884,null,null,null,28321,"0.0.0.0.0.166.38.109",true,false,true,false,false,3,0,false,0]
["item",17,"10059",null,null,null,"78  Inch NEMA 12 Enclosure SPO Warehouse Assembly - Labor Only","78N12SPO-L",null,"standard material","physical","DWC","EA",405,0,"DWC",6810,null,"Kyle M. Daniel",0,"DWC",true,4,"0.0.0.0.0.166.54.19",1,23,null,885,null,null,null,28322,"0.0.0.0.0.166.38.112",true,false,true,false,false,3,0,false,0]
["item",17,"10060",null,null,null,"78 Inch NEMA 12 Enclosure Type 1 Cabinet Assembly - Labor Only","78N12T1-L",null,"standard material","physical","DWC","EA",1098,0,"DWC",6810,null,"Kyle M. Daniel",0,"DWC",true,4,"0.0.0.0.0.166.54.22",1,23,null,886,null,null,null,28323,"0.0.0.0.0.166.38.115",true,false,true,false,false,3,0,false,0]
["item",17,"10061",null,null,null,"78 Inch NEMA 12 Enclosure Type 2 Cabinet Assembly - Labor Only","78N12T2-L",null,"standard material","physical","DWC","EA",1597.5,0,"DWC",6810,null,"Kyle M. Daniel",0,"DWC",true,4,"0.0.0.0.0.166.54.25",1,23,null,887,null,null,null,28324,"0.0.0.0.0.166.38.118",true,false,true,false,false,3,0,false,0]
["item",17,"10133",null,null,null,"NEMA 12 VTC Voice Termination Cabinet - Labor Only","N12VTC-L",null,"standard material","physical","DWC","EA",135,0,"DWC",6810,null,"Kyle M. Daniel",0,"DWC",true,4,"0.0.0.0.0.166.54.28",1,23,null,888,null,null,null,28325,"0.0.0.0.0.166.38.121",true,false,true,false,false,3,0,false,0]
["item",17,"10147",null,null,null,"78  Inch NEMA 12 Legacy Enclosure - Labor Only","S87973-L",null,"standard material","physical","DWC","EA",585,0,"DWC",6810,null,"Kyle M. Daniel",0,"DWC",true,4,"0.0.0.0.0.166.54.31",1,23,null,889,null,null,null,28326,"0.0.0.0.0.166.38.124",true,false,true,false,false,3,0,false,0]
["item",17,"INFO-2225","545",null,null,"Eclipse Series NEMA 4/12 Single Door Enclosure 48”X36”X12” (does not include back plate)","EN4SD483612GY",null,"standard material","physical","Hammond","EA",447.61,0,"DWC",6810,"Order (1) each INFO's 2225, 2226, 2227 for complete enclosure kit. This is the same cabinet used for VTC","Kyle M. Daniel",0,"DWC",true,4,"0.0.0.0.0.166.54.34",1,34,null,369,null,null,null,27571,"0.0.0.0.0.166.38.127",true,false,true,false,false,3,10,false,0]
["item",17,"INFO-2226","546",null,null,"Inner Panel for EclipseSeries Enclosure, 48x36, White Finish (back plate)","EP4836",null,"standard material","physical","Hammond","EA",127.66,0,"DWC",6810,null,"Kyle M. Daniel",0,"DWC",true,4,"0.0.0.0.0.166.54.37",1,34,null,370,null,null,null,27572,"0.0.0.0.0.166.38.130",true,false,true,false,false,3,0.1,false,0]
["item",17,"INFO-2227","547",null,null,"Locking T Handle","EHTL",null,"standard material","physical","Hammond","EA",35.51,0,"DWC",6810,"Fits ALL Eclipse Series Cabinets","Kyle M. Daniel",0,"DWC",true,4,"0.0.0.0.0.166.54.40",1,34,null,371,null,null,null,27573,"0.0.0.0.0.166.38.133",true,false,true,false,false,3,0.1,false,0]
["item",17,"INFO-2229","573",null,null,"19\" 20A Fan Panel w/Thermostat - Upper Cabinet And Lower cabinet","SR0400046",null,"standard material","physical","Hammond","EA",163.80000000000001,0,"DWC",6810,"Mounts inside of cabinet, Eitherside, Between front and rear rails. Typically not required. ","Kyle M. Daniel",0,"DWC",true,4,"0.0.0.0.0.166.54.43",1,34,null,372,null,null,null,27574,"0.0.0.0.0.166.38.136",true,false,true,false,false,3,0.25,false,0]
["item",17,"INFO-2230","574",null,null,"Brownfield Door Switch Kit - Includes 1 ea BZE6-2RN, 1 ea Door Switch Bracket, 1 ea Door Switch Square, 1 ea Half Inch Cord Grip Connector, 1 ea Twenty Five Foot Dry Contact Cable","GM- BDSK - 01",null,"standard material","physical","DWC","EA",123.7,0,"DWC",6810,null,"Kyle M. Daniel",0,"DWC",true,4,"0.0.0.0.0.166.54.46",1,23,null,373,null,null,null,27575,"0.0.0.0.0.166.38.139",true,false,true,false,false,3,1]
["item",17,"INFO-2231","879",null,null,"NEMA 12 HOLE PLUG-4\"","HP400",null,"standard material","physical","DWC","EA",32.97,0,"DWC",6810,null,"Kyle M. Daniel",0,"DWC",true,4,"0.0.0.0.0.166.54.49",1,23,null,374,null,null,null,27576,"0.0.0.0.0.166.38.142",true,false,true,false,false,3,0.1]
["item",17,"INFO-2331","575",null,null,"12\" x 12\" x 2.5\" Print Pocket w/Studs","PKT1212",null,"standard material","physical","Hammond","EA",10.46,0,"DWC",6810,null,"Kyle M. Daniel",0,"DWC",true,4,"0.0.0.0.0.166.54.52",1,34,null,375,null,null,null,27577,"0.0.0.0.0.166.38.145",true,false,true,false,false,3,0.1,false,0]
["item",17,"INFO-2332","576",null,null,"3\" Grommets for Cabling Pathway between sides of joined Nema 1 cabinets","G3319",null,"standard material","physical",{"$f":"VLOOKUP(Z548,rngManufacturerLookup,2,FALSE)","v":"DWC"},"EA",1.68,{"$f":"(E548*N548)","v":0},{"$f":"VLOOKUP(Y548,rngSupplierLookup,2,FALSE)","v":"DWC"},6810,"For pathway between #2 and #3 cabinets of a type 3 kit.","Kyle M. Daniel",{"$f":"(F548*N548)","v":0},"DWC",true,4,"0.0.0.0.0.166.54.55",1,23,null,376,null,null,null,27578,"0.0.0.0.0.166.38.148",true,false,true,false,false,3,0.1]
["item",17,"INFO-2333","577",null,null,"Micro Limit Switch-Greenfield","DTE6-2RN",null,"standard material","physical","Honeywell","EA",96.62,0,"DWC",6810,null,"Neil Norat",0,"DWC",true,4,"0.0.0.0.0.166.54.58",1,38,null,377,null,null,null,27579,"0.0.0.0.0.166.38.151",true,false,true,false,false,3,0]
["item",17,"INFO-2334","578",null,null,"Micro Limit Switch-Brownfield","BZF6-2RN",null,"standard material","physical","Honeywell","EA",53.01,0,"DWC",6810,null,"Neil Norat",0,"DWC",true,4,"0.0.0.0.0.166.54.61",1,38,null,378,null,null,null,27580,"0.0.0.0.0.166.38.154",true,false,true,false,false,3,0]
["item",17,"INFO-2336","580",null,null,"Greenfield Door Switch Kit - Includes 1 ea DTE6-2RN, 1 ea Door Switch Bracket, 1 ea Door Switch Square, 1 ea Half Inch Cord Grip Connector, 1 ea Twenty Five Foot Dry Contact Cable","GM- GDSK - 01",null,"standard material","physical","DWC","EA",172.16,0,"DWC",6810,"Included with Type 1 Cabinets","Kyle M. Daniel",0,"DWC",true,4,"0.0.0.0.0.166.54.64",1,23,null,379,null,null,null,27581,"0.0.0.0.0.166.38.157",true,false,true,false,false,3,1]
["item",17,"INFO-4199","542",null,null,"Joining kit for NEMA 12 Plant Floor 60\" Cabinets","SR0300244",null,"standard material","physical","Hammond","EA",106.38,0,"DWC",6810,"Order Qnty. 1 for between each cabinet to be joined","Kyle M. Daniel",0,"DWC",true,4,"0.0.0.0.0.166.54.67",1,34,null,380,null,null,null,27582,"0.0.0.0.0.166.38.160",true,false,true,false,false,3,0.5]
["item",17,"INFO-4213","265",null,null,"4\" Bushed Chase Nipple","1111",null,"standard material","physical","Bridgeport","EA",35.89,0,"DWC",6810,"For 4\" opening without conduit requirement","Kyle M. Daniel",0,"DWC",true,4,"0.0.0.0.0.166.54.70",1,12,null,381,null,null,null,27583,"0.0.0.0.0.166.38.163",true,false,true,false,false,3,0.2]
["item",17,"INFO-4214","266",null,null,"4\" Locknut for Bushed Chase Nipple","110",null,"standard material","physical","Bridgeport","EA",1.73,0,"DWC",6810,"For 4\" bushed nipple","Kyle M. Daniel",0,"DWC",true,4,"0.0.0.0.0.166.54.73",1,12,null,382,null,null,null,27584,"0.0.0.0.0.166.38.166",true,false,true,false,false,3,0.1]
["item",17,"INFO-4215","267",null,null,"4\" Plastic Insulating Bushing for Bushed Chase Nipple","330",null,"standard material","physical","Bridgeport","EA",0.98,0,"DWC",6810,"For 4\" bushed nipple","Kyle M. Daniel",0,"DWC",true,4,"0.0.0.0.0.166.54.76",1,12,null,383,null,null,null,27585,"0.0.0.0.0.166.38.169",true,false,true,false,false,3,0.1]
["item",17,"INFO-4218","270",null,null,"One pair of EIA full height rails (40RU) tapped 10-32 plated zinc/clear, for 78\" Hammond N1 and N12 cabinets ","CCR70TZPL",null,"standard material","physical","Hammond","EA",71.89,0,"DWC",6810,"Includes hardware for mounting in 24\"W cabinets. Requires rail reducer kit for 28\"W cabinets. Individual component of package INFO-4216.","Kyle M. Daniel",0,"DWC",true,4,"0.0.0.0.0.166.54.79",1,34,null,384,null,null,null,27586,"0.0.0.0.0.166.38.172",true,false,true,false,false,3,10,false,0]
["item",17,"INFO-4219","271",null,null,"Hammond Rail reducers 24\"-19\" installation kit ","CAK1924",null,"standard material","physical","Hammond","EA",29.3,0,"DWC",6810,"Individual component of package INFO-4216.","Kyle M. Daniel",0,"DWC",true,4,"0.0.0.0.0.166.54.82",1,34,null,385,null,null,null,27587,"0.0.0.0.0.166.38.175",true,false,true,false,false,3,0.1,false,0]
["item",17,"INFO-4220","272",null,null,"Hammond Light Kit includes FLK24 Light and FLKMM Magnet Mount","FLK24-24MM ",null,"standard material","physical","Hammond","EA",119.02,0,"DWC",6810,"Individual component of package INFO-4216.","Kyle M. Daniel",0,"DWC",true,4,"0.0.0.0.0.166.54.85",1,34,null,386,null,null,null,27588,"0.0.0.0.0.166.38.178",true,false,true,false,false,3,0.1,false,0]
["item",17,"INFO-4222","274",null,null,"Joining kit for NEMA 12 Plant Floor 77\" Cabinets","C3JK7031",null,"standard material","physical","Hammond","EA",100.43,0,"DWC",6810,"Order 1 for each pair of NEMA-12 cabinet to be joined.","Kyle M. Daniel",0,"DWC",true,4,"0.0.0.0.0.166.54.88",1,34,null,387,null,null,null,27589,"0.0.0.0.0.166.38.181",true,false,true,false,false,3,0.2,false,0]
["item",17,"INFO-4227","253",null,null,"4\" x 4\" Wireway Box connector","1487CK",null,"standard material","physical","Hammond","EA",14.1,0,"DWC",6810,"Used to join NEMA-12 wireway to cabinet.","Kyle M. Daniel",0,"DWC",true,4,"0.0.0.0.0.166.54.91",1,34,null,388,null,null,null,27590,"0.0.0.0.0.166.38.184",true,false,true,false,false,3,0.1,false,0]
["item",17,"INFO-4228","254",null,null,"Feed through wireway 4x4 hinged top (1 Foot section)","1487C12",null,"standard material","physical","Hammond","EA",58.33,0,"DWC",6810,null,"Kyle M. Daniel",0,"DWC",true,4,"0.0.0.0.0.166.54.94",1,34,null,389,null,null,null,27591,"0.0.0.0.0.166.38.187",true,false,true,false,false,3,0.25,false,0]
["item",17,"INFO-4229","255",null,null,"Gasket and screws for installation of 4x4 wireway","1487CS",null,"standard material","physical","Hammond","EA",3.53,0,"DWC",6810,null,"Kyle M. Daniel",0,"DWC",true,4,"0.0.0.0.0.166.54.97",1,34,null,390,null,null,null,27592,"0.0.0.0.0.166.38.190",true,false,true,false,false,3,0.1,false,0]
["item",17,"INFO-4230","256",null,null,"Feed through wireway 4x4 90 degree elbow","1487C9P",null,"standard material","physical","Hammond","EA",65.91,0,"DWC",6810,null,"Kyle M. Daniel",0,"DWC",true,4,"0.0.0.0.0.166.54.100",1,34,null,391,null,null,null,27593,"0.0.0.0.0.166.38.193",true,false,true,false,false,3,0.25,false,0]
["item",17,"INFO-4231","257",null,null,"Feed through wireway 4x4 45 degree elbowTelescope fitting","1487C4P",null,"standard material","physical","Hammond","EA",67.89,0,"DWC",6810,null,"Kyle M. Daniel",0,"DWC",true,4,"0.0.0.0.0.166.54.103",1,34,null,392,null,null,null,27594,"0.0.0.0.0.166.38.196",true,false,true,false,false,3,0.25,false,0]
["item",17,"INFO-4232","258",null,null,"Feed through wireway 4x4 Telescope fitting","1487CX",null,"standard material","physical","Hammond","EA",71.400000000000006,0,"DWC",6810,"Use to accommodate cabinet installation variables.","Kyle M. Daniel",0,"DWC",true,4,"0.0.0.0.0.166.54.106",1,34,null,393,null,null,null,27595,"0.0.0.0.0.166.38.199",true,false,true,false,false,3,0.25,false,0]
["item",17,"INFO-4233","259",null,null,"Feed through wireway 4x4 flexible fitting","1485CFF",null,"standard material","physical","Hammond","EA",115.64,0,"DWC",6810,"Use to accommodate cabinet installation variables.","Kyle M. Daniel",0,"DWC",true,4,"0.0.0.0.0.166.54.109",1,34,null,394,null,null,null,27596,"0.0.0.0.0.166.38.202",true,false,true,false,false,3,0.25,false,0]
["item",17,"INFO-4234","260",null,null,"Feed through wireway 4x4 hinged top (2 Foot section)","1487C24",null,"standard material","physical","Hammond","EA",74.540000000000006,0,"DWC",6810,null,"Kyle M. Daniel",0,"DWC",true,4,"0.0.0.0.0.166.54.112",1,34,null,395,null,null,null,27597,"0.0.0.0.0.166.38.205",true,false,true,false,false,3,0.25,false,0]
["item",17,"INFO-4235","261",null,null,"Feed through wireway 4x4 hinged top (3 Foot section)","1487C36",null,"standard material","physical","Hammond","EA",90.79,0,"DWC",6810,null,"Kyle M. Daniel",0,"DWC",true,4,"0.0.0.0.0.166.54.115",1,34,null,396,null,null,null,27598,"0.0.0.0.0.166.38.208",true,false,true,false,false,3,0.25,false,0]
["item",17,"INFO-4236","262",null,null,"Feed through wireway 4x4 hinged top (4 Foot section)","1487C48",null,"standard material","physical","Hammond","EA",107.1,0,"DWC",6810,null,"Kyle M. Daniel",0,"DWC",true,4,"0.0.0.0.0.166.54.118",1,34,null,397,null,null,null,27599,"0.0.0.0.0.166.38.211",true,false,true,false,false,3,0.25,false,0]
["item",17,"INFO-4237","263",null,null,"Feed through wireway 4x4 hinged top (5 Foot section)","1487C60",null,"standard material","physical","Hammond","EA",122.99,0,"DWC",6810,null,"Kyle M. Daniel",0,"DWC",true,4,"0.0.0.0.0.166.54.121",1,34,null,398,null,null,null,27600,"0.0.0.0.0.166.38.214",true,false,true,false,false,3,0.25,false,0]
["item",17,"INFO-4238","264",null,null,"Feed through wireway 4x4 hinged top (10 Foot section)","1487C120",null,"standard material","physical","Hammond","EA",203.62,0,"DWC",6810,null,"Kyle M. Daniel",0,"DWC",true,4,"0.0.0.0.0.166.54.124",1,34,null,399,null,null,null,27601,"0.0.0.0.0.166.38.217",true,false,true,false,false,3,0.25,false,0]
["item",17,"INFO-4737","586",null,null,"78  Inch NEMA 12 Enclosure Common Cabinet Assembly, includes Hammond Cabinet (INFO-4821 Less Vert. Powerbars), Gnd. Bar (INFO-4505), Terminal Box Kit (INFO-4818) and accessories - Material Only(MUST ORDER GND. BAR INFO-4505 SEPARATELY)","78N12CC-H",null,"standard material","physical","DWC","EA",2478.83,0,"DWC",6810,"This is the Base Cabinet (INFO-4821) plus additional components as described. See Kit Tab for full list of components","Kyle M. Daniel",0,"DWC",true,4,"0.0.0.0.0.166.54.127",1,23,null,400,null,null,null,27602,"0.0.0.0.0.166.38.220",true,false,true,false,false,3,10]
["item",17,"INFO-4740","588",null,null,"78  Inch NEMA 12 Enclosure Type 1 Cabinet Assembly, includes Hammond Cabinet (INFO-4821 Less Vert. Powerbars), Gnd. Bar (INFO-4505), (1) Horiz. Powerbar (INFO-2224), Terminal box Kit (INFO-4818), Elec Junction Box Kit (INFO-4819), A/C Unit (INFO-4656) & Accessories (10Kva PDU must be ordered separately) - Material Only","78N12T1-H",null,"standard material","physical","DWC","EA",6252.54,0,"DWC",6810,"This is the Base Cabinet (INFO-4821) plus additional components as described. See Kit Tab for full list of components","Kyle M. Daniel",0,"DWC",true,4,"0.0.0.0.0.166.54.130",1,23,null,401,null,null,null,27603,"0.0.0.0.0.166.38.223",true,false,true,false,false,3,10]
["item",17,"INFO-4743","590",null,null,"78  Inch NEMA 12 Enclosure Type 2 Cabinet Assembly, includes (2) Hammond Cabinets (INFO-4821 Less Vert. Powerbars), Gnd. Bar (INFO-4505), (1) Horiz. Powerbar (INFO-2224), Terminal box Kit (INFO-4818), Elec Junction Box Kit (INFO-4819), A/C Unit (INFO-4656) & Accessories (10Kva PDU must be ordered separately) - Material Only","78N12T2-H",null,"standard material","physical","DWC","EA",9018.23,0,"DWC",6810,"This is the Base Cabinet (INFO-4821) plus additional components as described. See Kit Tab for full list of components","Kyle M. Daniel",0,"DWC",true,4,"0.0.0.0.0.166.54.133",1,23,null,402,null,null,null,27604,"0.0.0.0.0.166.38.226",true,false,true,false,false,3,15]
["item",17,"INFO-4749","594",null,null,"78 Inch NEMA 12 Enclosure SPO Warehouse Assembly, includes Hammond Cabinet (INFO-4821 Less Vert. Powerbars), Gnd. Bar (INFO-4505), (1) Horiz. Powerbar (INFO-2224), 10KVA PDU, Filter Fan and accessories - Material Only","78N12SPO-H",null,"standard material","physical","DWC","EA",3971.2,0,"DWC",6810,"This is the Base Cabinet (INFO-4821) plus additional components as described. See Kit Tab for full list of components","Kyle M. Daniel",0,"DWC",true,4,"0.0.0.0.0.166.54.136",1,23,null,403,null,null,null,27605,"0.0.0.0.0.166.38.229",true,false,true,false,false,3,10]
["item",17,"INFO-4752","597",null,null,"Terminal Box Enclosure and Back Plate for INFO-4818","1414PHC",null,"standard material","physical","Hammond","EA",34.03,0,"DWC",6810,"Box only. No internal components","Kyle M. Daniel",0,"DWC",true,4,"0.0.0.0.0.166.54.139",1,34,null,404,null,null,null,27606,"0.0.0.0.0.166.38.232",true,false,true,false,false,3,1,false,0]
["item",17,"INFO-4753","598",null,null,"Electrical Junction Box Enclosure and Back Plate for INFO-4819, 32\"x10\"x8\"","SE0400102",null,"standard material","physical","Hammond","EA",177.08,0,"DWC",6810,"Box only. No internal components","Kyle M. Daniel",0,"DWC",true,4,"0.0.0.0.0.166.54.142",1,34,null,405,null,null,null,27607,"0.0.0.0.0.166.38.235",true,false,true,false,false,3,1,false,0]
["item",17,"INFO-4757","602",null,null,"60\" Cabinet Vertical 7 plug power strip, 15 Amp,  Includes mounting clips, 48\"T, No ON/OFF Switch","1585T8A1",null,"standard material","physical","Hammond","EA",43.17,0,"DWC",6810,"Consider 20 Amp Horizontal Powerbar First","Kyle M. Daniel",0,"DWC",true,4,"0.0.0.0.0.166.54.145",1,34,null,406,null,null,null,27608,"0.0.0.0.0.166.38.238",true,false,true,false,false,3,0.5,false,0]
["item",17,"INFO-4761","606",null,null,"Terminal Blocks Mounting Rail, Ridged, 36\"L (EJB and Terminal box)","1492-N22",null,"standard material","physical","Allen Bradley","EA",6.83,0,"DWC",6810,"Used in Terminal Box Kit (INFO-4818) and EJB Box Kit (INFO-4819)","Kyle M. Daniel",0,"DWC",true,4,"0.0.0.0.0.166.54.148",1,3,null,407,null,null,null,27609,"0.0.0.0.0.166.38.241",true,false,true,false,false,3,0.1]
["item",17,"INFO-4785","631",null,null,"NEMA-12 cabinet ganging kit, 78\" HE C3JK7031","XGN12-782832-CGK","KEEP ON BOM UNTIL QNTY. (2) ARE GONE","standard material","physical",{"$f":"VLOOKUP(Z580,rngManufacturerLookup,2,FALSE)","v":"X-Mark"},"EA",18.97,{"$f":"(E580*N580)","v":0},{"$f":"VLOOKUP(Y580,rngSupplierLookup,2,FALSE)","v":"DWC"},6810,null,"Kyle M. Daniel",{"$f":"(F580*N580)","v":0},"DWC",true,4,"0.0.0.0.0.166.54.151",1,78,null,408,null,null,null,27610,"0.0.0.0.0.166.38.244",true,false,true,false,false,3,0.1,false,0]
["item",17,"INFO-4792","855",null,null,"48x36x12 NEMA 12 VTC Voice Termination Cabinet Hammond (Kit includes (2) 300pr blocks, (1) 188B1 WM and (12 S144 Rings) (Additional 100pr blocks & management must be ordered separately) - Material Only","N12VTC-H",null,"standard material","physical","DWC","EA",765.81,0,"DWC",6810,"This is the Base Cabinet items (INFO-2225, 2226, 2227) plus additional components as described. See Kit Tab for full list of components","Kyle M. Daniel",0,"DWC",true,4,"0.0.0.0.0.166.54.154",1,23,null,409,null,null,null,27611,"0.0.0.0.0.166.38.247",true,false,true,false,false,3,10]
["item",17,"INFO-4795","857",null,null,"60 Inch NEMA 12 Enclosure Common Cabinet Assembly, includes Hammond Cabinet (INFO-4820), Gnd. Bar (INFO-4505), (1) Horiz. Powerbar (INFO-2224), Terminal Box Kit (INFO-4818) and accessories - Material Only","60N12CC-H",null,"standard material","physical","DWC","EA",2458.37,0,"DWC",6810,"This is the Base Cabinet (INFO-4820) plus additional components as described. NO Powerbars. See Kit Tab for full list of components","Kyle M. Daniel",0,"DWC",true,4,"0.0.0.0.0.166.54.157",1,23,null,410,null,null,null,27612,"0.0.0.0.0.166.38.250",true,false,true,false,false,3,10]
["item",17,"INFO-4798","859",null,null,"60 Inch NEMA 12 Enclosure Type 1 Cabinet Assembly, includes Hammond Cabinet (INFO-4820), Gnd. Bar (INFO-4505), (1) Horiz. Powerbar (INFO-2224), Terminal Box Kit (INFO-4818), Electrical Junction Box Kit (INFO-4819), A/C Unit (INFO-4656) & Accessories (10Kva PDU must be ordered separately) - Material Only","60N12T1-H",null,"standard material","physical","DWC","EA",6232.03,0,"DWC",6810,"This is the Base Cabinet (INFO-4820) plus additional components as described. WITH Powerbars. See Kit Tab for full list of components","Kyle M. Daniel",0,"DWC",true,4,"0.0.0.0.0.166.54.160",1,23,null,411,null,null,null,27613,"0.0.0.0.0.166.38.253",true,false,true,false,false,3,10]
["item",17,"INFO-4801","861",null,null,"60 Inch NEMA 12 Enclosure Type 2 Cabinet Assembly, includes (2) Hammond Cabinets (INFO-4820), Gnd. Bars (INFO-4505), (1) Horiz. Powerbar (INFO-2224), (2) Terminal Box Kits (INFO-4818), Electrical Junction Box Kit (INFO-4819), A/C Unit (INFO-4656) & Accessories (10Kva PDU must be ordered separately) - Material Only","60N12T2-H",null,"standard material","physical","DWC","EA",8967.4699999999993,0,"DWC",6810,"This is the Base Cabinet (INFO-4820) plus additional components as described. WITH Powerbars. See Kit Tab for full list of components","Kyle M. Daniel",0,"DWC",true,4,"0.0.0.0.0.166.54.163",1,23,null,412,null,null,null,27614,"0.0.0.0.0.166.39.1",true,false,true,false,false,3,15]
["item",17,"INFO-4804","863",null,null,"60 Inch NEMA 12 Enclosure Type 3 Cabinet Assembly, includes (3) Hammond Cabinets (INFO-4820), Gnd. Bars (INFO-4505), (2) Horiz. Powerbar (INFO-2224), (3) Terminal Box Kits (INFO-4818), Elec Junction Box Kit (INFO-4819), A/C Unit (INFO-4656) & Accessories (10Kva PDU must be ordered separately) - Material Only","60N12T3-H",null,"standard material","physical","DWC","EA",11476.33,0,"DWC",6810,"This is the Base Cabinet (INFO-4820) plus additional components as described. WITH Powerbars. See Kit Tab for full list of components","Kyle M. Daniel",0,"DWC",true,4,"0.0.0.0.0.166.54.166",1,23,null,413,null,null,null,27615,"0.0.0.0.0.166.39.4",true,false,true,false,false,3,20]
["item",17,"INFO-4807","865",null,null,"60 Inch NEMA 12 Enclosure Type 4 Cabinet Assembly, includes (4) Hammond Cabinets (INFO-4820), Gnd. Bars (INFO-4505), (2) Horiz. Powerbar (INFO-2224), (4) Terminal Box Kits (INFO-4818), Elec Junction Box Kit (INFO-4819), A/C Unit (INFO-4656) & Accessories (10Kva PDU must be ordered separately) - Material Only","60N12T4-H",null,"standard material","physical","DWC","EA",14007.49,0,"DWC",6810,"This is the Base Cabinet (INFO-4820) plus additional components as described. WITH Powerbars. See Kit Tab for full list of components","Kyle M. Daniel",0,"DWC",true,4,"0.0.0.0.0.166.54.169",1,23,null,414,null,null,null,27616,"0.0.0.0.0.166.39.7",true,false,true,false,false,3,25]
["item",17,"INFO-4810","867",null,null,"60 Inch NEMA 12 Enclosure Type 5 Cabinet Assembly, includes (5) Hammond Cabinets (INFO-4820), Gnd. Bars (INFO-4505), (2) Horiz. Powerbars (INFO-2224), (5) Terminal Box Kits (INFO-4818), Elec Junction Box Kit (INFO-4819), A/C Unit (INFO-4656) & Accessories (10Kva PDU must be ordered separately) - Material Only","60N12T5-H",null,"standard material","physical","DWC","EA",16540.099999999999,0,"DWC",6810,"This is the Base Cabinet (INFO-4820) plus additional components as described. WITH Powerbars. See Kit Tab for full list of components","Kyle M. Daniel",0,"DWC",true,4,"0.0.0.0.0.166.54.172",1,23,null,415,null,null,null,27617,"0.0.0.0.0.166.39.10",true,false,true,false,false,3,30]
["item",17,"INFO-4818","873",null,null,"CPTA Terminal Box Kit- Material Only","Term-T12-H",null,"standard material","physical","DWC","EA",932.48,0,"DWC",6810,"Complete with all internal components except wiring. See Kit Tab for full list of components","Neil Norat",0,"DWC",true,4,"0.0.0.0.0.166.54.175",1,23,null,416,null,null,null,27618,"0.0.0.0.0.166.39.13",true,false,true,false,false,3,0]
["item",17,"INFO-4819","874",null,null,"CPTA Electrical Junction Box Kit - Material Only","EJB-1-H",null,"standard material","physical","DWC","EA",2058.75,0,"DWC",6810,"Complete with all internal components except wiring. See Kit Tab for full list of components","Neil Norat",0,"DWC",true,4,"0.0.0.0.0.166.54.178",1,23,null,417,null,null,null,27619,"0.0.0.0.0.166.39.16",true,false,true,false,false,3,0]
["item",17,"INFO-4820","875",null,null,"60 Inch NEMA-12 30RU BASE plant floor cabinet assembly (60\"X28\"X32\"). Includes floor levelers, ground studs/straps, two pair of EIA rails (30RU), two sets rail reducers (INFO-4219) for 19” mounting, bag of EIA rack rail hardware for 24” mounting, bag of (100) 10x32 oval head Phillips screws and finish washers, solid bottom, solid top, solid front door, solid rear door (doors include Dirak lift & turn handle and three point latch keyed 1333), two solid side panels, (1) 24” fluorescent light kit/magnetic (INFO-4220)\r\n(MUST ORDER GND. BAR INFO-4505 SEPARATELY)","SR0200391",null,"standard material","physical","Hammond","EA",1458.62,0,"DWC",6810,"Base 60\" Cabinet Assembly. NO Powerbars. Choose this if you do not need all the components of a Common or Type 1, 2, 3, 4, 5 Cabinet. See Kit Tab for full list of components ","Kyle M. Daniel",0,"DWC",true,4,"0.0.0.0.0.166.54.181",1,34,null,418,null,null,null,27620,"0.0.0.0.0.166.39.19",true,false,true,false,false,3,4,false,0]
["item",17,"INFO-4821","876",null,null,"78 Inch NEMA-12 40RU BASE plant floor cabinet assembly (78\"X28\"X32\"). Includes floor levelers, ground studs/straps, one pair of EIA rails (INFO-4218), rail reducers (INFO-4219) for 19” mounting, bag of EIA rack rail hardware for 24” mounting, bag of (100) 10x32 oval head Phillips screws and finish washers, (2) vertical powerbars (INFO-4652), solid bottom, solid top, solid front door, solid rear door (doors include Dirak lift & turn handle and three point latch keyed 1333), two solid side panels, (1) 24” fluorescent light kit/magnetic (INFO-4220)\r\n(MUST ORDER GND. BAR INFO-4505 SEPARATELY)","S87973",null,"standard material","physical","Hammond","EA",1708.55,0,"DWC",6810,"Base 78\" Cabinet Assembly. Must add extra rails etc. if you need for rear. Choose this if you do not need all the components of a Common or Type 1, 2 Cabinet. See Kit Tab for full list of components ","Kyle M. Daniel",0,"DWC",true,4,"0.0.0.0.0.166.54.184",1,34,null,419,null,null,null,27621,"0.0.0.0.0.166.39.22",true,false,true,false,false,3,10,false,0]
["item",17,"INFO-4836","540",null,null,"78  Inch NEMA 12 Legacy Enclosure includes Hammond Cabinet (INFO-4821), and internal plumbing for outlets/on-off switch  - Material Only  (Does not include the 10kVA PDU or the 4000 BTU Air Conditioner)\r\n(MUST ORDER GND. BAR INFO-4505 SEPARATELY)","S87973-LE-H",null,"standard material","physical","DWC","EA",1596.1,0,"DWC",6810,"Special Order Only.","Kyle M. Daniel",0,"DWC",true,4,"0.0.0.0.0.166.54.187",1,23,null,420,null,null,null,27622,"0.0.0.0.0.166.39.25",true,false,true,false,false,3,10,false,0]
["Header",17.100000000000001,"Wall Mount Cabinets"]
["item",17.100000000000001,"10083",null,null,null,"13RU (1) Pair 10-32 Tapped Rails w/Hardware. Matches SWC Series 26.00\" Wall Mount Cabinet","CCR22TZPL",null,"standard material","physical",{"$f":"VLOOKUP(Z594,rngManufacturerLookup,2,FALSE)","v":"Hammond"},"EA",51.4,{"$f":"(E594*N594)","v":0},{"$f":"VLOOKUP(Y594,rngSupplierLookup,2,FALSE)","v":"DWC"},6810,"Add to 26.00\" Tall Wall Mount Cabinet for Rear Equipment Support","Kyle M. Daniel",{"$f":"(F594*N594)","v":0},"DWC",true,4,"0.0.0.0.0.166.54.190",1,34,null,890,null,null,null,28327,"0.0.0.0.0.166.39.28",true,false,true,false,false,3,0.1,false,0]
["item",17.100000000000001,"10084",null,null,null,"20RU (1) Pair 10-32 Tapped Rails w/Hardware. Matches SWC Series 35.25\" Wall Mount Cabinet","CCR35TZPL",null,"standard material","physical","Hammond","EA",62.4,0,"DWC",6810,"Add To 35.25\" Tall Wall Mount Cabinet for Rear Equipment Support","Kyle M. Daniel",0,"DWC",true,4,"0.0.0.0.0.166.54.193",1,34,null,891,null,null,null,28328,"0.0.0.0.0.166.39.31",true,false,true,false,false,3,0.1,false,0]
["item",17.100000000000001,"10085",null,null,null,"28RU (1) Pair 10-32 Tapped Rails w/Hardware. Matches SWC Series 52.25\" Wall Mount Cabinet","CCR49TZPL",null,"standard material","physical","Hammond","EA",66,0,"DWC",6810,"Add to 52.25\" Tall Wall Mount Cabinet for Rear Equipment Support","Kyle M. Daniel",0,"DWC",true,4,"0.0.0.0.0.166.54.196",1,34,null,892,null,null,null,28329,"0.0.0.0.0.166.39.34",true,false,true,false,false,3,0.1,false,0]
["item",17.100000000000001,"10094",null,null,null,"Daisy Chain for Fans, 24\" with (2) 45 degree plugs for Hammond Wall Mount Cabinet","DNFCDC2P",null,"standard material","physical","Hammond","EA",6.55,0,"DWC",6810,null,"Kyle M. Daniel",0,"DWC",true,4,"0.0.0.0.0.166.54.199",1,34,null,893,null,null,null,28330,"0.0.0.0.0.166.39.37",true,false,true,false,false,3,0.1,false,0]
["item",17.100000000000001,"10095",null,null,null,"4.7\" Metal Fan Grille for Hammond Wall Mount Cabinet","DNFG",null,"standard material","physical","Hammond","EA",2.7,0,"DWC",6810,"One (1) Per 4.7\" Fan","Kyle M. Daniel",0,"DWC",true,4,"0.0.0.0.0.166.54.202",1,34,null,894,null,null,null,28331,"0.0.0.0.0.166.39.40",true,false,true,false,false,3,0.1,false,0]
["item",17.100000000000001,"10096",null,null,null,"4.7\" Diameter Fan 100 CFM ","DNMF100AC115",null,"standard material","physical","Hammond","EA",28.35,0,"DWC",6810,"For Hammond Wall Mount Cabinet","Kyle M. Daniel",0,"DWC",true,4,"0.0.0.0.0.166.54.205",1,34,null,895,null,null,null,28332,"0.0.0.0.0.166.39.43",true,false,true,false,false,3,0.5,false,0]
["item",17.100000000000001,"10100",null,null,null,"Nema 4 Rated Enclosure (Steel/Gray) 36\"h x 30\"w x 10\"d","EN4SD363010GY",null,"standard material","physical","Hammond","EA",389,0,"DWC",6810,"Suitable for outdoor installations. Requires Back Mounting plate #EP3630","Kyle M. Daniel",0,"DWC",true,4,"0.0.0.0.0.166.54.208",1,34,null,896,null,null,null,28333,"0.0.0.0.0.166.39.46",true,false,true,false,false,3,10,false,0]
["item",17.100000000000001,"10101",null,null,null,"Nema 4 Rated Enclosure Back Mounting Plate","EP3630",null,"standard material","physical","Hammond","EA",97.95,0,"DWC",6810,"For #EN4SD363010GY Nema 4 Enclosure","Kyle M. Daniel",0,"DWC",true,4,"0.0.0.0.0.166.54.211",1,34,null,897,null,null,null,28334,"0.0.0.0.0.166.39.49",true,false,true,false,false,3,0.1,false,0]
["item",17.100000000000001,"10167",null,null,null,"SWC Series 26.00\" Tall, 13RU, Swing Out Nema 1 Wall Mounted Cabinet Black w/(3) Hinged Sections. 26.625\" Depth w/Locking Plexi Glass Door, 1 Pair of 10-32 Tapped Rails","SWC192220BK1",null,"standard material","physical","Hammond","EA",549.9,0,"DWC",6810,"100 Pound Weight Load Capacity. Order Additional Rail Set for Rear #CCR22TZPL. DO NOT Use if UPS unit will be installed in cabinet. Order NIS Middle Atlantic equal instead.","Kyle M. Daniel",0,"DWC",true,4,"0.0.0.0.0.166.54.214",1,34,null,898,null,null,null,28335,"0.0.0.0.0.166.39.52",true,false,true,false,false,3,5,false,0]
["item",17.100000000000001,"10168",null,null,null,"SWC Series 35.25\" Tall, 20RU, Swing Out Nema 1 Wall Mounted Cabinet Black w/(3) Hinged Sections. 26.625\" Depth w/Locking Plexi Glass Door, 1 Pair of 10-32 Tapped Rails","SWC193520BK1",null,"standard material","physical","Hammond","EA",553.5,0,"DWC",6810,"100 Pound Weight Load Capacity. Order Additional Rail Set for Rear #CCR35TZPL. DO NOT Use if UPS unit will be installed in cabinet. Order NIS Middle Atlantic equal instead.","Kyle M. Daniel",0,"DWC",true,4,"0.0.0.0.0.166.54.217",1,34,null,899,null,null,null,28336,"0.0.0.0.0.166.39.55",true,false,true,false,false,3,5,false,0]
["item",17.100000000000001,"10169",null,null,null,"SWC Series 52.25\" Tall, 28RU, Swing Out Nema 1 Wall Mounted Cabinet Black w/(3) Hinged Sections. 26.625\" Depth w/Locking Plexi Glass Door, 1 Pair of 10-32 Tapped Rails","SWC194920BK1",null,"standard material","physical","Hammond","EA",812.35,0,"DWC",6810,"100 Pound Weight Load Capacity. Order Additional Rail Set for Rear #CCR49TZPL. DO NOT Use if UPS unit will be installed in cabinet. Order NIS Middle Atlantic equal instead.","Kyle M. Daniel",0,"DWC",true,4,"0.0.0.0.0.166.54.220",1,34,null,900,null,null,null,28337,"0.0.0.0.0.166.39.58",true,false,true,false,false,3,5,false,0]
["item",17.100000000000001,"NIS",null,null,null,"Wall Mount Cabinet (Labor ONLY)","Variable-L",null,"non-standard material","physical","DWC","EA",0,0,"DWC",null,"Multiple configurations do not allow or specific Part#. Verify with Diversified for Final Pricing etc.",null,0,"DWC",null,null,null,null,null,null,null,null,null,null,null,null,null,null,null,null,null,null,0]
["Header",18,"Relay Racks and Accessories"]
["item",18,"0094-49RM",1019,null,null,"Radius Server Monitor, Cabinet Rails Angle Bracket","RSMAB",null,"standard material","physical",{"$f":"VLOOKUP(Z607,rngManufacturerLookup,2,FALSE)","v":"DWC"},"EA",16.829999999999998,{"$f":"(E607*N607)","v":0},{"$f":"VLOOKUP(Y607,rngSupplierLookup,2,FALSE)","v":"DWC"},6810,"Used to modify monitor mounting rails to fit into cabinet","Kyle M. Daniel",{"$f":"(F607*N607)","v":0},"DWC",true,4,"0.0.0.0.0.166.54.223",1,23,null,421,null,null,null,27623,"0.0.0.0.0.166.39.61",true,false,true,false,false,3,0.1]
["item",18,"0456-0XRH",1008,null,null,"Rear Rack Cable/Powercord Management Mounting Kit (includes 10 mounting clips and velcro ties)","RRCM",null,"standard material","physical","DWC","EA",10.199999999999999,0,"DWC",6810,"Order for existing racks only. Install along both sides of rear rails on existing rack for power cord & cable support. (5) pcs. per side.","Kyle M. Daniel",0,"DWC",true,4,"0.0.0.0.0.166.54.226",1,23,null,422,null,null,null,27624,"0.0.0.0.0.166.39.64",true,false,true,false,false,3,0.1,false,0]
["item",18,"10012",null,null,null,"Relay Rack Rail Mounting Screws 12/24 x 5/8\"L, (50/PKG)","60400533",null,"standard material","physical","Homaco","EA",8.75,0,"DWC",6810,"Washers not required with these type of screws","Kyle M. Daniel",0,"DWC",true,4,"0.0.0.0.0.166.54.229",1,37,null,901,null,null,null,28338,"0.0.0.0.0.166.39.67",true,false,true,false,false,3,0,false,0]
["item",18,"10022",null,null,null,"84 Inch Dual Rail Equipment Rack, 19\" EIA Spacing, 45RU - Labor Only","1984DER-L",null,"standard material","physical","DWC","EA",85.5,0,"DWC",6810,null,"Kyle M. Daniel",0,"DWC",true,4,"0.0.0.0.0.166.54.232",1,23,null,902,null,null,null,28339,"0.0.0.0.0.166.39.70",true,false,true,false,false,3,0,false,0]
["item",18,"10023",null,null,null,"84 Inch Single Rail Equipment Rack, 19\" EIA Spacing, 45RU - Labor Only","1984SER-L",null,"standard material","physical","DWC","EA",79.2,0,"DWC",6810,null,"Kyle M. Daniel",0,"DWC",true,4,"0.0.0.0.0.166.54.235",1,23,null,903,null,null,null,28340,"0.0.0.0.0.166.39.73",true,false,true,false,false,3,0,false,0]
["item",18,"10088",null,null,null,"Top of Rack Mount Fiber Management Trough, Both FMT and CMUT19 Models - Labor Only","CMUT19-L",null,"standard material","physical","DWC","EA",38.700000000000003,0,"DWC",6810,null,"Kyle M. Daniel",0,"DWC",true,4,"0.0.0.0.0.166.54.238",1,23,null,904,null,null,null,28341,"0.0.0.0.0.166.39.76",true,false,true,false,false,3,0,false,0]
["item",18,"10113",null,null,null,"Fiber Trough, Replaces Top Angle Bracket on Dual and Single Relay Rack Frames. Utilizes Zero RU","FMT",null,"standard material","physical","Belden","EA",90.45,0,"DWC",6810,"Template for all New Racks. Optional for Existing Racks","Kyle M. Daniel",0,"DWC",true,4,"0.0.0.0.0.166.54.241",1,9,null,905,null,null,null,28342,"0.0.0.0.0.166.39.79",true,false,true,false,false,3,0.1,false,0]
["item",18,"10148",null,null,null,"10\" Wide Single-Sided High-Density Vertical Cable Manager w/Door (Flat Black) Requires Separate Back Panel","SB-860-810S-084FB",null,"standard material","physical","Cooper B-Line","EA",363.75,0,"DWC",6810,"Use the single sided VWM as the TEMPLATE for new racks and closets or if replacing old models in existing closets.","Kyle M. Daniel",0,"DWC",true,4,"0.0.0.0.0.166.54.244",1,20,null,906,null,null,null,28343,"0.0.0.0.0.166.39.82",true,false,true,false,false,3,0.1,false,0]
["item",18,"10149",null,null,null,"12\" Wide Single-Sided High-Density Vertical Cable Manager w/Door (Flat Black) Requires Separate Back Cover","SB-860-812S-084FB",null,"standard material","physical","Cooper B-Line","EA",617.25,0,"DWC",6810,"Use the single sided VWM as the TEMPLATE for new racks and closets or if replacing old models in existing closets.","Kyle M. Daniel",0,"DWC",true,4,"0.0.0.0.0.166.54.247",1,20,null,907,null,null,null,28344,"0.0.0.0.0.166.39.85",true,false,true,false,false,3,0.1,false,0]
["item",18,"10150",null,null,null,"3\" Wide Single-Sided High-Density Vertical Cable Manager w/Door (Flat Black) Requires Separate Back Cover","SB-860-83S-084FB",null,"standard material","physical","Cooper B-Line","EA",289.64999999999998,0,"DWC",6810,"Use the single sided VWM as the TEMPLATE for new racks and closets or if replacing old models in existing closets.","Kyle M. Daniel",0,"DWC",true,4,"0.0.0.0.0.166.54.250",1,20,null,908,null,null,null,28345,"0.0.0.0.0.166.39.88",true,false,true,false,false,3,0.1,false,0]
["item",18,"10151",null,null,null,"6\" Wide Single-Sided High-Density Vertical Cable Manager w/Door (Flat Black) Requires Separate Back Cover","SB-860-86S-084FB",null,"standard material","physical","Cooper B-Line","EA",310.7,0,"DWC",6810,"Use the single sided VWM as the TEMPLATE for new racks and closets or if replacing old models in existing closets.","Kyle M. Daniel",0,"DWC",true,4,"0.0.0.0.0.166.54.253",1,20,null,909,null,null,null,28346,"0.0.0.0.0.166.39.91",true,false,true,false,false,3,0.1,false,0]
["item",18,"10152",null,null,null,"Back Cover for 10\" Single and Double-Sided High-Density Vertical Cable Manager","SB-862-BRC-10-084FB",null,"standard material","physical","Cooper B-Line","EA",57.2,0,"DWC",6810,"Installed on rear of single VWM and/or between front and rear halves of double sided VWM for cable support","Kyle M. Daniel",0,"DWC",true,4,"0.0.0.0.0.166.55.1",1,20,null,910,null,null,null,28347,"0.0.0.0.0.166.39.94",true,false,true,false,false,3,0.1,false,0]
["item",18,"10153",null,null,null,"Back Cover for 12\" Single and Double-Sided High-Density Vertical Cable Manager","SB-862-BRC-12-084FB",null,"standard material","physical","Cooper B-Line","EA",62.6,0,"DWC",6810,"Installed on rear of single VWM and/or between front and rear halves of double sided VWM for cable support","Kyle M. Daniel",0,"DWC",true,4,"0.0.0.0.0.166.55.4",1,20,null,911,null,null,null,28348,"0.0.0.0.0.166.39.97",true,false,true,false,false,3,0.1,false,0]
["item",18,"10154",null,null,null,"Back Cover for 3\" Single and Double-Sided High-Density Vertical Cable Manager","SB-862-BRC-3-084FB",null,"standard material","physical","Cooper B-Line","EA",32.1,0,"DWC",6810,"Installed on rear of single VWM and/or between front and rear halves of double sided VWM for cable support","Kyle M. Daniel",0,"DWC",true,4,"0.0.0.0.0.166.55.7",1,20,null,912,null,null,null,28349,"0.0.0.0.0.166.39.100",true,false,true,false,false,3,0.1,false,0]
["item",18,"10155",null,null,null,"Back Cover for 6\" Single and Double-Sided High-Density Vertical Cable Manager","SB-862-BRC-6-084FB",null,"standard material","physical","Cooper B-Line","EA",42.2,0,"DWC",6810,"Installed on rear of single VWM and/or between front and rear halves of double sided VWM for cable support","Kyle M. Daniel",0,"DWC",true,4,"0.0.0.0.0.166.55.10",1,20,null,913,null,null,null,28350,"0.0.0.0.0.166.39.103",true,false,true,false,false,3,0.1,false,0]
["item",18,"10156",null,null,null,"10\" Double-Sided High-Density Vertical Cable Manager, w/Doors (Flat Black) Requires Separate Back Cover","SB-864-810D-084FB",null,"standard material","physical","Cooper B-Line","EA",392.05,0,"DWC",6810,"Do Not Order double sided VWM without Approval","Kyle M. Daniel",0,"DWC",true,4,"0.0.0.0.0.166.55.13",1,20,null,914,null,null,null,28351,"0.0.0.0.0.166.39.106",true,false,true,false,false,3,0.1,false,0]
["item",18,"10157",null,null,null,"12\" Double-Sided High-Density Vertical Cable Manager, w/Doors (Flat Black) Requires Separate Back Cover","SB-864-812D-084FB",null,"standard material","physical","Cooper B-Line","EA",511.6,0,"DWC",6810,"Do not order without approval","Kyle M. Daniel",0,"DWC",true,4,"0.0.0.0.0.166.55.16",1,20,null,915,null,null,null,28352,"0.0.0.0.0.166.39.109",true,false,true,false,false,3,0.1,false,0]
["item",18,"10158",null,null,null,"3\" Double-Sided High-Density Vertical Cable Manager, w/Doors (Flat Black) Requires Separate Back Cover","SB-864-83D-084FB",null,"standard material","physical","Cooper B-Line","EA",312.45,0,"DWC",6810,"Do not order without approval","Kyle M. Daniel",0,"DWC",true,4,"0.0.0.0.0.166.55.19",1,20,null,916,null,null,null,28353,"0.0.0.0.0.166.39.112",true,false,true,false,false,3,0.1,false,0]
["item",18,"10159",null,null,null,"6\" Double-Sided High-Density Vertical Cable Manager, w/Doors (Flat Black) Requires Separate Back Cover","SB-864-86D-084FB",null,"standard material","physical","Cooper B-Line","EA",334.2,0,"DWC",6810,"Do not order double sided VWM without approval","Kyle M. Daniel",0,"DWC",true,4,"0.0.0.0.0.166.55.22",1,20,null,917,null,null,null,28354,"0.0.0.0.0.166.39.115",true,false,true,false,false,3,0.1,false,0]
["item",18,"10173",null,null,null,"Mount vertical wire manager--------Labor Only","Vertical Wire Manager-L",null,"standard material","physical","DWC","EA",38.700000000000003,0,"DWC",6810,null,"Kyle M. Daniel",0,"DWC",true,4,"0.0.0.0.0.166.55.25",1,23,null,918,null,null,null,28355,"0.0.0.0.0.166.39.118",true,false,true,false,false,3,0,false,0]
["item",18,"10250",null,null,null,"84'' Dual Rail Equipment Rack, 19\" EIA Spacing, 21\"-32\" Expandable, 45RU, Assembly Includes EGB Ground Bar and (2) RRCM Kits for Front and Rear Rails. Manf. Model #19-84-T4SDA2132","1984XDER",null,"standard material","physical","DWC","KIT",440.2,0,"DWC",6810,"(1) 19\" EGB Ground Bar (#GB316-7520DWC) and (2) RRCM Kits Rear Rack Cable/Powercord Management Mounting Kit (includes 10 mounting clips and velcro tie #RRCM) are added items by DWC. Replaces 21-26\" expandable and adds EGB and (2) RRCM kits for one complete part.","Kyle M. Daniel",0,"DWC",true,6,"0.0.0.0.0.166.55.28",1,23,null,1288,null,null,null,29331,"0.0.0.0.0.166.39.121",true,false,true,false,false,3,10,false,0]
["item",18,"10273",null,null,null,"84'' Dual Rail Equipment Rack, 19\" EIA Spacing, 21\"-32\" Expandable, 45RU, Rack Only","19-84-T4SDA2132",null,"standard material","physical","Ortronics","EA",432.83,0,"DWC",6810,null,"Kyle M. Daniel",0,"DWC",true,4,"0.0.0.0.0.166.55.31",1,79,null,1289,null,null,null,29332,"0.0.0.0.0.166.39.124",true,false,true,false,false,3,10,false,0]
["item",18,"10312",null,null,null,"RCM+ Vertical Cable Management Finger Bracket, Rack-Rail Mounted, 11 RU Sections","SB860FSFB",null,"standard material","physical","Cooper B-Line","EA",18.899999999999999,0,"DWC",6810,null,"Kyle M. Daniel",0,"DWC",true,4,"0.0.0.0.0.166.55.34",1,20,null,1396,null,null,null,29952,"0.0.0.0.0.166.39.127",true,false,true,false,false,3,0.1,false,0]
["item",18,"10317",null,null,null,"Relay Rack BRACKET, Adjustable Dual Equipment, 21-32 Depth, (4) Pcs. Per Pack (1) Pack Req. Per Relay Rack","OR-604045811",null,"standard material","physical","Ortronics","EA",149.19999999999999,0,"DWC",6810,null,"Kyle M. Daniel",0,"DWC",true,4,"0.0.0.0.0.166.55.37",1,79,null,1397,null,null,null,29953,"0.0.0.0.0.166.39.130",true,false,true,false,false,3,0.3,false,0]
["item",18,"INFO-4301","279",null,null,"45 RU Dual Upright Relay Rack - Adjustable from 15' to 20\" w/o Ground Bar","19-84-T4SD-A1520",null,"standard material","physical","Homaco","EA",347.02,0,"DWC",6810,"Do not order without approval.","Kyle M. Daniel",0,"DWC",true,4,"0.0.0.0.0.166.55.40",1,37,null,424,null,null,null,27626,"0.0.0.0.0.166.39.133",true,false,true,false,false,3,10,false,0]
["item",18,"INFO-4305","281",null,null,"45 RU Single Relay Rack w/o Ground Bar","19-84-T2SD*B",null,"standard material","physical","Homaco","EA",118.12,0,"DWC",6810,"This is the template rack.","Kyle M. Daniel",0,"DWC",true,4,"0.0.0.0.0.166.55.43",1,37,null,426,null,null,null,27628,"0.0.0.0.0.166.39.136",true,false,true,false,false,3,10,false,0]
["item",18,"INFO-4307","282",null,null,"Vertical Wire Organizer - 3\" depth with feed through holes","VO-84-T3FTE",null,"standard material","physical","Homaco","EA",73.41,0,"DWC",6810,"Not template. Use if required to match existing. Consider B-line Products. Contact element owner if perceived need.","Kyle M. Daniel",0,"DWC",true,4,"0.0.0.0.0.166.55.46",1,37,null,427,null,null,null,27629,"0.0.0.0.0.166.39.139",true,false,true,false,false,3,0.2,false,0]
["item",18,"INFO-4309","283",null,null,"Vertical Wire Organizer - 6\" depth with feed through holes","VO-84-T6FTE",null,"standard material","physical","Homaco","EA",83.21,0,"DWC",6810,"Not template. Use if required to match existing. Consider B-line Products. Contact element owner if perceived need.","Kyle M. Daniel",0,"DWC",true,4,"0.0.0.0.0.166.55.49",1,37,null,428,null,null,null,27630,"0.0.0.0.0.166.39.142",true,false,true,false,false,3,0.2,false,0]
["item",18,"INFO-4311","284",null,null,"6 Inch Vertical Control Bracket (Middle Rack) 3 per INFO 4309","VCB-93-6H",null,"standard material","physical","Homaco","EA",13.33,0,"DWC",6810,"Order 3 with each 6\" vertical wire organizer (middle rack).  Holds 720 cables.","Kyle M. Daniel",0,"DWC",true,4,"0.0.0.0.0.166.55.52",1,37,null,429,null,null,null,27631,"0.0.0.0.0.166.39.145",true,false,true,false,false,3,0.1,false,0]
["item",18,"INFO-4314","288",null,null,"Heavy Duty Swing-EZ Wall Rack - 11 Rack Spaces","19-21-T25DHYDT",null,"standard material","physical","Homaco","EA",244.68,0,"DWC",6810,null,"Kyle M. Daniel",0,"DWC",true,4,"0.0.0.0.0.166.55.55",1,37,null,431,null,null,null,27633,"0.0.0.0.0.166.39.148",true,false,true,false,false,3,3,false,0]
["item",18,"INFO-4315","289",null,null,"Heavy Duty Swing-EZ Wall Rack - 19 Rack Spaces","19-35-T25DHYDT",null,"standard material","physical","Homaco","EA",28.62,0,"DWC",6810,null,"Kyle M. Daniel",0,"DWC",true,4,"0.0.0.0.0.166.55.58",1,37,null,432,null,null,null,27634,"0.0.0.0.0.166.39.151",true,false,true,false,false,3,3,false,0]
["item",18,"INFO-4321","292",null,null,"Relay Rack Bracing Kit (Must order 5/8\" threaded rod separately)","Z4-RR/WC",null,"standard material","physical","Homaco","EA",25.11,0,"DWC",6810,"Order 1 for each single frame rack. 5/8-11 threaded rod typically by contractor due to length requirements.","Kyle M. Daniel",0,"DWC",true,4,"0.0.0.0.0.166.55.61",1,37,null,433,null,null,null,27635,"0.0.0.0.0.166.39.154",true,false,true,false,false,3,0.25,false,0]
["item",18,"INFO-4323","285",null,null,"6 Inch Vertical Control Bracket (End Rack) 3 per INFO 4309","VCB-93-6UH",null,"standard material","physical","Homaco","EA",12.86,0,"DWC",6810,"Order 3 with each 6\" vertical wire organizer (end rack).  Holds 720 cables.","Kyle M. Daniel",0,"DWC",true,4,"0.0.0.0.0.166.55.64",1,37,null,434,null,null,null,27636,"0.0.0.0.0.166.39.157",true,false,true,false,false,3,0.1,false,0]
["item",18,"INFO-4813","635",null,null,"84 Inch Dual Rail Equipment Rack, 19\" EIA Spacing, 15\"-20\" Expandable, 45RU, Assembly Includes Gnd. Bar (INFO 4505 ), RRCM Kit (INFO-0456-0XRH) - Material Only ","1984DER",null,"standard material","physical","DWC","EA",418.65,0,"DWC",6810,"Template","Kyle M. Daniel",0,"DWC",true,4,"0.0.0.0.0.166.55.67",1,23,null,436,null,null,null,27638,"0.0.0.0.0.166.39.160",true,false,true,false,false,3,10,false,0]
["item",18,"INFO-4816","636",null,null,"84 Inch Single Rail Equipment Rack, 19\" EIA Spacing, 45RU, Assembly Includes Gnd. Bar (INFO 4505 ), RRCM Kit (INFO-0456-0XRH) - Material Only ","1984SER",null,"standard material","physical","DWC","EA",157.1,0,"DWC",6810,"Template","Kyle M. Daniel",0,"DWC",true,4,"0.0.0.0.0.166.55.70",1,23,null,437,null,null,null,27639,"0.0.0.0.0.166.39.163",true,false,true,false,false,3,10,false,0]
["item",18,"INFO-7002","909",null,null,"Rack Mount Wire management Trough Mounts in First 2RU at top of Rack For Fiber Management 2 RU (See Ordering Guidelines)","CMUT19",null,"standard material","physical","Panduit","EA",89.55,0,"DWC",6810,"Order FMT for top of rack unless - Use this unit only when matching existing. ","Kyle M. Daniel",0,"DWC",true,4,"0.0.0.0.0.166.55.73",1,57,null,438,null,null,null,27640,"0.0.0.0.0.166.39.166",true,false,true,false,false,3,0.1,false,0]
["Header",19,"Runway / Ladder Rack and Accessories"]
["item",19,"0816-17NV",975,null,null,"6\" Tall Cable Fence For TRC Style Runway (10 Per Pkg.) (Bolt On Stringers)\r\n(TRC = Channeled slats between Stringers) ","CFTRC-6",null,"standard material","physical",{"$f":"VLOOKUP(Z644,rngManufacturerLookup,2,FALSE)","v":"Homaco"},"EA",57.14,{"$f":"(E644*N644)","v":0},{"$f":"VLOOKUP(Y644,rngSupplierLookup,2,FALSE)","v":"DWC"},6810,"See INFO-4461 for TR Style Runway Fence. Typically Installed at every 1 ft. intervals on both sides of runway","Kyle M. Daniel",{"$f":"(F644*N644)","v":0},"DWC",true,4,"0.0.0.0.0.166.55.76",1,37,null,439,null,null,null,27641,"0.0.0.0.0.166.39.169",true,false,true,false,false,3,0.1,false,0]
["item",19,"10256",null,null,null,"Straight Splice Clamp Kit for Ladder Tray, (2) Straight Clamps","P820367H",null,"standard material","physical","Homaco","EA",8.91,0,"DWC",6810,null,"Kyle M. Daniel",0,"DWC",true,4,"0.0.0.0.0.166.55.79",1,37,null,1290,null,null,null,29333,"0.0.0.0.0.166.39.172",true,false,true,false,false,3,0.15,false,0]
["item",19,"INFO-4401","293",null,null,"Tubular Runway - 6', 6\" Width (Section)","TR6-6","Actual Footage=","standard material","physical","Homaco","EA",43.85,0,"DWC",6810,"6\" width (Order Quantity per 6 foot section)","Kyle M. Daniel",0,"DWC",true,4,"0.0.0.0.0.166.55.82",1,37,null,440,null,null,null,27642,"0.0.0.0.0.166.39.175",true,false,true,false,false,3,0.12,false,0]
["item",19,"INFO-4403","295",null,null,"Tubular Runway - 6', 12\" Width (Section)","TR6-12","Actual Footage=","standard material","physical","Homaco","EA",43.48,0,"DWC",6810,"12\" width (Order Quantity per 6 foot section)","Kyle M. Daniel",0,"DWC",true,4,"0.0.0.0.0.166.55.85",1,37,null,441,null,null,null,27643,"0.0.0.0.0.166.39.178",true,false,true,false,false,3,0.12,false,0]
["item",19,"INFO-4405","297",null,null,"Tubular Runway - 6', 18\" Width (Section)","TR6-18","Actual Footage=","standard material","physical","Homaco","EA",54.01,0,"DWC",6810,"18\" width (Order Quantity per 6 foot section)","Kyle M. Daniel",0,"DWC",true,4,"0.0.0.0.0.166.55.88",1,37,null,442,null,null,null,27644,"0.0.0.0.0.166.39.181",true,false,true,false,false,3,0.12,false,0]
["item",19,"INFO-4406","298",null,null,"Tubular Runway - 6', 24\" Width (Section)","TR6-24","Actual Footage=","standard material","physical","Homaco","EA",75.77,0,"DWC",6810,"24\" width (Order Quantity per 6 foot section)","Kyle M. Daniel",0,"DWC",true,4,"0.0.0.0.0.166.55.91",1,37,null,443,null,null,null,27645,"0.0.0.0.0.166.39.184",true,false,true,false,false,3,0.12,false,0]
["item",19,"INFO-4407","299",null,null,"Tubular Runway - 10', 6\" Width (Section)","TR10-6","Actual Footage=","standard material","physical","Homaco","EA",61.75,0,"DWC",6810,"6\" width (Order Quantity per 10 foot section)","Kyle M. Daniel",0,"DWC",true,4,"0.0.0.0.0.166.55.94",1,37,null,444,null,null,null,27646,"0.0.0.0.0.166.39.187",true,false,true,false,false,3,0.12,false,0]
["item",19,"INFO-4409","301",null,null,"Tubular Runway - 10', 12\" Width (Section)","TR10-12","Actual Footage=","standard material","physical","Homaco","EA",67.040000000000006,0,"DWC",6810,"12\" width (Order Quantity per 10 foot section)","Kyle M. Daniel",0,"DWC",true,4,"0.0.0.0.0.166.55.97",1,37,null,445,null,null,null,27647,"0.0.0.0.0.166.39.190",true,false,true,false,false,3,0.12,false,0]
["item",19,"INFO-4411","303",null,null,"Tubular Runway - 10', 18\" Width (Section)","TR10-18","Actual Footage=","standard material","physical","Homaco","EA",77.239999999999995,0,"DWC",6810,"18\" width (Order Quantity per 10 foot section)","Kyle M. Daniel",0,"DWC",true,4,"0.0.0.0.0.166.55.100",1,37,null,446,null,null,null,27648,"0.0.0.0.0.166.39.193",true,false,true,false,false,3,0.12,false,0]
["item",19,"INFO-4412","304",null,null,"Tubular Runway - 10', 24\" Width (Section)","TR10-24","Actual Footage=","standard material","physical","Homaco","EA",90.02,0,"DWC",6810,"24\" width (Order Quantity per 10 foot section)","Kyle M. Daniel",0,"DWC",true,4,"0.0.0.0.0.166.55.103",1,37,null,447,null,null,null,27649,"0.0.0.0.0.166.39.196",true,false,true,false,false,3,0.12,false,0]
["item",19,"INFO-4413","330",null,null,"Tubular Runway with Channels - 5'-6\" Width (Section)","TRC5-6","Actual Footage=","standard material","physical","Homaco","EA",43.83,0,"DWC",6810,"6\" width (Order Quantity per 5 foot section)","Kyle M. Daniel",0,"DWC",true,4,"0.0.0.0.0.166.55.106",1,37,null,448,null,null,null,27650,"0.0.0.0.0.166.39.199",true,false,true,false,false,3,0.12,false,0]
["item",19,"INFO-4414","331",null,null,"Tubular Runway with Channels - 5'-12\" Width (Section)","TRC5-12","Actual Footage=","standard material","physical","Homaco","EA",43.48,0,"DWC",6810,"12\" width (Order Quantity per 5 foot section)","Kyle M. Daniel",0,"DWC",true,4,"0.0.0.0.0.166.55.109",1,37,null,449,null,null,null,27651,"0.0.0.0.0.166.39.202",true,false,true,false,false,3,0.12,false,0]
["item",19,"INFO-4416","333",null,null,"Tubular Runway with Channels - 9'-6\" Width (Section)","TRC9-6","Actual Footage=","standard material","physical","Homaco","EA",68.430000000000007,0,"DWC",6810,"6\" width (Order Quantity per 9 foot section)","Kyle M. Daniel",0,"DWC",true,4,"0.0.0.0.0.166.55.112",1,37,null,450,null,null,null,27652,"0.0.0.0.0.166.39.205",true,false,true,false,false,3,0.12,false,0]
["item",19,"INFO-4417","334",null,null,"Tubular Runway with Channels - 9'-12\" Width (Section)","TRC9-12","Actual Footage=","standard material","physical","Homaco","EA",67.040000000000006,0,"DWC",6810,"12\" width (Order Quantity per 9 foot section)","Kyle M. Daniel",0,"DWC",true,4,"0.0.0.0.0.166.55.115",1,37,null,451,null,null,null,27653,"0.0.0.0.0.166.39.208",true,false,true,false,false,3,0.12,false,0]
["item",19,"INFO-4419","336",null,null,"Wall Angle Assembly - 6\"","P128040H",null,"standard material","physical","Homaco","EA",14.4,0,"DWC",6810,null,"Kyle M. Daniel",0,"DWC",true,4,"0.0.0.0.0.166.55.118",1,37,null,452,null,null,null,27654,"0.0.0.0.0.166.39.211",true,false,true,false,false,3,0.1,false,0]
["item",19,"INFO-4420","338",null,null,"Wall Angle Assembly -12\"","P128240H",null,"standard material","physical","Homaco","EA",17.010000000000002,0,"DWC",6810,null,"Kyle M. Daniel",0,"DWC",true,4,"0.0.0.0.0.166.55.121",1,37,null,453,null,null,null,27655,"0.0.0.0.0.166.39.214",true,false,true,false,false,3,0.1,false,0]
["item",19,"INFO-4432","362",null,null,"Threaded Rod Protective Sleeve 10' for 5/8 x 11 threaded rod","2-E2-TRPC",null,"standard material","physical","Homaco","EA",11.21,0,"DWC",6810,null,"Kyle M. Daniel",0,"DWC",true,4,"0.0.0.0.0.166.55.124",1,37,null,454,null,null,null,27656,"0.0.0.0.0.166.39.217",true,false,true,false,false,3,0.1,false,0]
["item",19,"INFO-4437","311",null,null,"Adjustable Angle Splice Kit (2 Adjustable Angles)","P820127HA",null,"standard material","physical","Homaco","EA",19.149999999999999,0,"DWC",6810,"For Horizontal to Vertical Transitions","Kyle M. Daniel",0,"DWC",true,4,"0.0.0.0.0.166.55.127",1,37,null,455,null,null,null,27657,"0.0.0.0.0.166.39.220",true,false,true,false,false,3,0.01,false,0]
["item",19,"INFO-4438","312",null,null,"Transition Pan - 8\" Width","TRP8-CM",null,"standard material","physical","Homaco","EA",19.48,0,"DWC",6810,"Mounts on runway cross member","Kyle M. Daniel",0,"DWC",true,4,"0.0.0.0.0.166.55.130",1,37,null,456,null,null,null,27658,"0.0.0.0.0.166.39.223",true,false,true,false,false,3,0.2,false,0]
["item",19,"INFO-4439","313",null,null,"Transition Pan - 5\" Width","TRP5-CM",null,"standard material","physical","Homaco","EA",16.89,0,"DWC",6810,"Mounts on runway cross member","Kyle M. Daniel",0,"DWC",true,4,"0.0.0.0.0.166.55.133",1,37,null,457,null,null,null,27659,"0.0.0.0.0.166.39.226",true,false,true,false,false,3,0.2,false,0]
["item",19,"INFO-4440","314",null,null,"Transition Pan - 7.5\" Width","TRP8-S",null,"standard material","physical","Homaco","EA",19.78,0,"DWC",6810,"Mounts on runway stringer","Kyle M. Daniel",0,"DWC",true,4,"0.0.0.0.0.166.55.136",1,37,null,458,null,null,null,27660,"0.0.0.0.0.166.39.229",true,false,true,false,false,3,0.2,false,0]
["item",19,"INFO-4441","315",null,null,"J-Bolt Assembly - 1.75 x .250 x .50 x .75 thread 1/4 - 20","P987529H",null,"standard material","physical","Homaco","EA",1.4,0,"DWC",6810,"Order only if attaching runway to the top of relay rack frame.","Kyle M. Daniel",0,"DWC",true,4,"0.0.0.0.0.166.55.139",1,37,null,459,null,null,null,27661,"0.0.0.0.0.166.39.232",true,false,true,false,false,3,0.01,false,0]
["item",19,"INFO-4442","316",null,null,"J-Bolt Assembly - 3.25 x .438 x 1.75 x 1.50 thread 1/4 - 20","P987528H",null,"standard material","physical","Homaco","EA",1.4,0,"DWC",6810,"Order only if attaching runway to the top of relay rack frame.","Kyle M. Daniel",0,"DWC",true,4,"0.0.0.0.0.166.55.142",1,37,null,460,null,null,null,27662,"0.0.0.0.0.166.39.235",true,false,true,false,false,3,0.01,false,0]
["item",19,"INFO-4443","317",null,null,"J-Bolt Assembly - 2.25 x 4.38 x .75 x 1.0 thread 1/4 - 20","P987527H",null,"standard material","physical","Homaco","EA",1.4,0,"DWC",6810,"Order only if attaching runway to the top of relay rack frame.","Kyle M. Daniel",0,"DWC",true,4,"0.0.0.0.0.166.55.145",1,37,null,461,null,null,null,27663,"0.0.0.0.0.166.39.238",true,false,true,false,false,3,0.01,false,0]
["item",19,"INFO-4444","318",null,null,"J-Bolt Assembly - 3.75 x .313 x .75 x 1.25 thread 5/16 - 18","P987526H",null,"standard material","physical","Homaco","EA",1.54,0,"DWC",6810,"Order only if attaching runway to the top of relay rack frame.","Kyle M. Daniel",0,"DWC",true,4,"0.0.0.0.0.166.55.148",1,37,null,462,null,null,null,27664,"0.0.0.0.0.166.39.241",true,false,true,false,false,3,0.01,false,0]
["item",19,"INFO-4445","319",null,null,"J-Bolt Assembly - 3.25 x .313 x .75 x .75 thread 5/16 - 18","P987525H",null,"standard material","physical","Homaco","EA",1.66,0,"DWC",6810,"Order only if attaching runway to the top of relay rack frame.","Kyle M. Daniel",0,"DWC",true,4,"0.0.0.0.0.166.55.151",1,37,null,463,null,null,null,27665,"0.0.0.0.0.166.39.244",true,false,true,false,false,3,0.01,false,0]
["item",19,"INFO-4446","320",null,null,"J-Bolt Assembly - 3.25 x .438 x .75 x 1.50 thread 5/16 - 18","P987524H",null,"standard material","physical","Homaco","EA",1.4,0,"DWC",6810,"Order only if attaching runway to the top of relay rack frame.","Kyle M. Daniel",0,"DWC",true,4,"0.0.0.0.0.166.55.154",1,37,null,464,null,null,null,27666,"0.0.0.0.0.166.39.247",true,false,true,false,false,3,0.01,false,0]
["item",19,"INFO-4447","321",null,null,"J-Bolt Assembly - 2.25 x .438 x .75 x 1.0 thread 5/16 - 18","P987523H",null,"standard material","physical","Homaco","EA",1.4,0,"DWC",6810,"Order only if attaching runway to the top of relay rack frame.","Kyle M. Daniel",0,"DWC",true,4,"0.0.0.0.0.166.55.157",1,37,null,465,null,null,null,27667,"0.0.0.0.0.166.39.250",true,false,true,false,false,3,0.01,false,0]
["item",19,"INFO-4450","322",null,null,"Ceiling Hanger Bracket - 1 bracket open or closed used w/threaded rod, gray or black made from 1/4\" x 1/2\" steel bar","P400298H",null,"standard material","physical","Homaco","EA",5.27,0,"DWC",6810,null,"Kyle M. Daniel",0,"DWC",true,4,"0.0.0.0.0.166.55.160",1,37,null,466,null,null,null,27668,"0.0.0.0.0.166.39.253",true,false,true,false,false,3,0.01,false,0]
["item",19,"INFO-4451","323",null,null,"Open Clip for 1-1/2\"w Runway Stringers-Threaded Rod Suspension (Part # is one piece. Order in twos)","P406395H",null,"standard material","physical","Homaco","EA",3.67,0,"DWC",6810,"If needed can be ordered in pairs. Use Non-standard - #P820547H","Kyle M. Daniel",0,"DWC",true,4,"0.0.0.0.0.166.55.163",1,37,null,467,null,null,null,27669,"0.0.0.0.0.166.40.1",true,false,true,false,false,3,0.01,false,0]
["item",19,"INFO-4452","324",null,null,"Closed Clip for 1-1/2\"w Runway Stringers-Threaded Rod Suspension (Part # is one piece. Order in twos)","P429503H",null,"standard material","physical","Homaco","EA",2.2200000000000002,0,"DWC",6810,"If needed can be ordered in pairs. Use Non-standard - P820477H","Kyle M. Daniel",0,"DWC",true,4,"0.0.0.0.0.166.55.166",1,37,null,468,null,null,null,27670,"0.0.0.0.0.166.40.4",true,false,true,false,false,3,0.01,false,0]
["item",19,"INFO-4453","325",null,null,"Wall Attachment Shelf Bracket - h 8.13\" runway width 6\"","P139240H",null,"standard material","physical","Homaco","EA",20.55,0,"DWC",6810,"For use with TR6-6 tray.  To Mount Cable Runway to Wall","Kyle M. Daniel",0,"DWC",true,4,"0.0.0.0.0.166.55.169",1,37,null,469,null,null,null,27671,"0.0.0.0.0.166.40.7",true,false,true,false,false,3,0.1,false,0]
["item",19,"INFO-4455","327",null,null,"Wall Attachment Shelf Bracket - h 14.13\" runway width 12\"","P139340H",null,"standard material","physical","Homaco","EA",22.83,0,"DWC",6810,"For use with TR6-12 tray.  To Mount Cable Runway to Wall","Kyle M. Daniel",0,"DWC",true,4,"0.0.0.0.0.166.55.172",1,37,null,470,null,null,null,27672,"0.0.0.0.0.166.40.10",true,false,true,false,false,3,0.1,false,0]
["item",19,"INFO-4456","328",null,null,"Wall Attachment Shelf Bracket - h 20.13\" runway width 18\"","P139540H",null,"standard material","physical","Homaco","EA",25.1,0,"DWC",6810,"For use with TR6-18 tray.  To Mount Cable Runway to Wall","Kyle M. Daniel",0,"DWC",true,4,"0.0.0.0.0.166.55.175",1,37,null,471,null,null,null,27673,"0.0.0.0.0.166.40.13",true,false,true,false,false,3,0.1,false,0]
["item",19,"INFO-4457","329",null,null,"Wall Attachment Shelf Bracket - h 26.13 runway width 24\"","P139740H",null,"standard material","physical","Homaco","EA",34.17,0,"DWC",6810,"For use with TR6-24 tray.  To Mount Cable Runway to Wall","Kyle M. Daniel",0,"DWC",true,4,"0.0.0.0.0.166.55.178",1,37,null,472,null,null,null,27674,"0.0.0.0.0.166.40.16",true,false,true,false,false,3,0.1,false,0]
["item",19,"INFO-4459","340",null,null,"Runway End Wall Angle Assembly - 18\"","P128440H",null,"standard material","physical","Homaco","EA",17.63,0,"DWC",6810,null,"Kyle M. Daniel",0,"DWC",true,4,"0.0.0.0.0.166.55.181",1,37,null,473,null,null,null,27675,"0.0.0.0.0.166.40.19",true,false,true,false,false,3,0.1,false,0]
["item",19,"INFO-4460","341",null,null,"Runway End Wall Angle Assembly - 24\"","P128640H",null,"standard material","physical","Homaco","EA",19.760000000000002,0,"DWC",6810,null,"Kyle M. Daniel",0,"DWC",true,4,"0.0.0.0.0.166.55.184",1,37,null,474,null,null,null,27676,"0.0.0.0.0.166.40.22",true,false,true,false,false,3,0.1,false,0]
["item",19,"INFO-4461","305",null,null,"6\"h Cable Fence For TR Style Runway (10 Per Pkg.)\r\n(TR = Tubular slats on TOP of Stringers)","CF-6",null,"standard material","physical","Homaco","EA",33.630000000000003,0,"DWC",6810,"See INFO-0816-17NV for TRC Style Runway Fence. Typically Installed at every 1 ft. intervals on both sides of runway","Kyle M. Daniel",0,"DWC",true,4,"0.0.0.0.0.166.55.187",1,37,null,475,null,null,null,27677,"0.0.0.0.0.166.40.25",true,false,true,false,false,3,0.1,false,0]
["item",19,"INFO-4462","306",null,null,"12\"h Cable Fence For TR Style Runway (10 Per Pkg.)\r\n(TR = Tubular slats on TOP of Stringers)","CF-12",null,"standard material","physical","Homaco","EA",43.5,0,"DWC",6810,"Note: Chose 6\"h First. Typically Installed at every 1 ft. intervals on both sides of runway","Kyle M. Daniel",0,"DWC",true,4,"0.0.0.0.0.166.55.190",1,37,null,476,null,null,null,27678,"0.0.0.0.0.166.40.28",true,false,true,false,false,3,0.1,false,0]
["item",19,"INFO-7001","908",null,null,"Corner Clamps (2 per kit) for Runways Attachment at Right Angles","P820147H",null,"standard material","physical","Homaco","EA",5.76,0,"DWC",6810,"Order per pkg.","Kyle M. Daniel",0,"DWC",true,4,"0.0.0.0.0.166.55.193",1,37,null,477,null,null,null,27679,"0.0.0.0.0.166.40.31",true,false,true,false,false,3,0.1,false,0]
["Header",19.100000000000001,"Basket Cable Tray and Accessories"]
["item",19.100000000000001,"0399-140A",1094,null,null,"2\" Cable Guard for use as Waterfalls on Cablofil Cable Tray.  6 Ft Lengths, Black in color.","CABLEGUARD2",null,"standard material","physical",{"$f":"VLOOKUP(Z685,rngManufacturerLookup,2,FALSE)","v":"DWC"},"EA",5.69,{"$f":"(E685*N685)","v":0},{"$f":"VLOOKUP(Y685,rngSupplierLookup,2,FALSE)","v":"DWC"},6810,"Used as cable dropout in place of manufacturer \"Waterfalls\"","Kyle M. Daniel",{"$f":"(F685*N685)","v":0},"DWC",true,4,"0.0.0.0.0.166.55.196",1,23,null,478,null,null,null,27680,"0.0.0.0.0.166.40.34",true,false,true,false,false,3,0.1]
["item",19.100000000000001,"10077",null,null,null,"AS Trapeze Hanging Clip, Cablofil Tray Side/Threaded Rod Support","ASPG",null,"standard material","physical","Cablofil","EA",72.099999999999994,0,"DWC",6810,"For Use at MC & TC'S Closets Along Trays Installed Perpenducular Over Racks and Cabinets to Avoid Interference With Comm PDU's.","Kyle M. Daniel",0,"DWC",true,4,"0.0.0.0.0.166.55.199",1,15,null,919,null,null,null,28356,"0.0.0.0.0.166.40.37",true,false,true,false,false,3,0.1,false,0]
["item",19.100000000000001,"10086",null,null,null,"2\" deep straight cable tray 10' x 18\" x 2\" (Section)","CF 54/450 EZ",null,"standard material","physical","Cablofil","EA",74.099999999999994,0,"DWC",6810,"Template for parallel run over racks/cabinets in room with many users","Kyle M. Daniel",0,"DWC",true,4,"0.0.0.0.0.166.55.202",1,15,null,920,null,null,null,28357,"0.0.0.0.0.166.40.40",true,false,true,false,false,3,0.25,false,0]
["item",19.100000000000001,"10090",null,null,null,"Cablofil 4\" Deep Cable Tray Divider Strip 10' L x 4\" H","COT 105",null,"standard material","physical","Cablofil","EA",24.8,0,"DWC",6810,"Installed In Cable Trays for Seperation of Fiber and Copper Cables. Requires Separate Parts (COT J, EZ BN1/4 and CE 25) For Attachment and Joining","Kyle M. Daniel",0,"DWC",true,4,"0.0.0.0.0.166.55.205",1,15,null,921,null,null,null,28358,"0.0.0.0.0.166.40.43",true,false,true,false,false,3,0.1,false,0]
["item",19.100000000000001,"10091",null,null,null,"Cable Tray Divider Strip Coupler (25) Per Package","COT J",null,"standard material","physical","Cablofil","EA",34.299999999999997,0,"DWC",6810,"Install on Cable Tray Divider Strips at Joint/Splice Keeps Edges Aligned","Kyle M. Daniel",0,"DWC",true,4,"0.0.0.0.0.166.55.208",1,15,null,922,null,null,null,28359,"0.0.0.0.0.166.40.46",true,false,true,false,false,3,0.1,false,0]
["item",19.100000000000001,"10105",null,null,null,"FAS PROFILE - 22\"","FASP 550",null,"standard material","physical","Cablofil","EA",10.15,0,"DWC",6810,"Template Part For Trapeze Support of All 18\" Cable Trays and Vertical 18\" Tray Supports on Walls in Telco Closets","Kyle M. Daniel",0,"DWC",true,4,"0.0.0.0.0.166.55.211",1,15,null,923,null,null,null,28360,"0.0.0.0.0.166.40.49",true,false,true,false,false,3,0.1,false,0]
["item",19.100000000000001,"10106",null,null,null,"FAS UNIVERSAL BRACKET - 16\"","FASU 400",null,"standard material","physical","Cablofil","EA",18.600000000000001,0,"DWC",6810,"Template Part For Mounting 12\" Cable Trays Running Perpendicular Along Wall","Kyle M. Daniel",0,"DWC",true,4,"0.0.0.0.0.166.55.214",1,15,null,924,null,null,null,28361,"0.0.0.0.0.166.40.52",true,false,true,false,false,3,0.1,false,0]
["item",19.100000000000001,"10266",null,null,null,"FAS UNIVERSAL BRACKET - 20\"","FAS U500PG",null,"standard material","physical","Cablofil","EA",27.25,0,"DWC",6810,"Used for Trapeze Support of 18\" Wide Cablofil Cable Trays","Kyle M. Daniel",0,"DWC",true,4,"0.0.0.0.0.166.55.217",1,15,null,1291,null,null,null,29334,"0.0.0.0.0.166.40.55",true,false,true,false,false,3,0.2,false,0]
["item",19.100000000000001,"10267",null,null,null,"18\" Wall or Under Floor Bracket, L-Shape","FAS L450PG","Actual Quantity=  ","standard material","physical","Cablofil","EA",13.05,0,"DWC",6810,"Used to Support 18\" Wide Cablofil Cable Tray.","Kyle M. Daniel",0,"DWC",true,4,"0.0.0.0.0.166.55.220",1,15,null,1292,null,null,null,29335,"0.0.0.0.0.166.40.58",true,false,true,false,false,3,0.1,false,0]
["item",19.100000000000001,"10268",null,null,null,"Wall/Tray Mount Attachment for Electrical Box Support","C 50PG","Actual Quantity= ","standard material","physical","Cablofil","EA",2.25,0,"DWC",6810,"Used to Mount Electrical Outlet Boxes on Cablofil Cable Tray. ","Kyle M. Daniel",0,"DWC",true,4,"0.0.0.0.0.166.55.223",1,15,null,1293,null,null,null,29336,"0.0.0.0.0.166.40.61",true,false,true,false,false,3,0.15,false,0]
["item",19.100000000000001,"10316",null,null,null,"Signal Reference Grid Wire Clamp","RGC",null,"standard material","physical","Erico-Caddy","EA",0.92,0,"DWC",6810,null,"Kyle M. Daniel",0,"DWC",true,4,"0.0.0.0.0.166.55.226",1,27,null,1398,null,null,null,29954,"0.0.0.0.0.166.40.64",true,false,true,false,false,3,0.2,false,0]
["item",19.100000000000001,"INFO-4463","342",null,null,"2\" deep straight cable tray 10' x 4\" x 2\" (Section)","CF 54/100 EZ","Actual Footage=","standard material","physical","Cablofil","EA",37.369999999999997,0,"DWC",6810,"Order Quantity per 10 foot section","Kyle M. Daniel",0,"DWC",true,4,"0.0.0.0.0.166.55.229",1,15,null,479,null,null,null,27681,"0.0.0.0.0.166.40.67",true,false,true,false,false,3,0.12]
["item",19.100000000000001,"INFO-4464","343",null,null,"2\" deep straight cable tray 10' x 6\" x 2\" (Section)","CF 54/150 EZ","Actual Footage=","standard material","physical","Cablofil","EA",40.99,0,"DWC",6810,"Order Quantity per 10 foot section","Kyle M. Daniel",0,"DWC",true,4,"0.0.0.0.0.166.55.232",1,15,null,480,null,null,null,27682,"0.0.0.0.0.166.40.70",true,false,true,false,false,3,0.12]
["item",19.100000000000001,"INFO-4465","344",null,null,"2\" deep straight cable tray 10' x 12\" x 2\" (Section)","CF 54/300 EZ","Actual Footage=","standard material","physical","Cablofil","EA",47.47,0,"DWC",6810,"Template for parallel run over racks/cabinets in room with few users and along walls. Order Quantity per 10 foot section","Kyle M. Daniel",0,"DWC",true,4,"0.0.0.0.0.166.55.235",1,15,null,481,null,null,null,27683,"0.0.0.0.0.166.40.73",true,false,true,false,false,3,0.12]
["item",19.100000000000001,"INFO-4466","345",null,null,"2\" deep straight cable tray 10' x 24\" x 2\" (Section)","CF 54/600 EZ","Actual Footage=","standard material","physical","Cablofil","EA",56.43,0,"DWC",6810,"Order Quantity per 10 foot section","Kyle M. Daniel",0,"DWC",true,4,"0.0.0.0.0.166.55.238",1,15,null,482,null,null,null,27684,"0.0.0.0.0.166.40.76",true,false,true,false,false,3,0.12]
["item",19.100000000000001,"INFO-4467","346",null,null,"4\" deep straight cable tray 10' x 12\" x 4\" (Section)","CF 105/300 EZ","Actual Footage=","standard material","physical","Cablofil","EA",54.19,0,"DWC",6810,"Order Quantity per 10 foot section","Kyle M. Daniel",0,"DWC",true,4,"0.0.0.0.0.166.55.241",1,15,null,483,null,null,null,27685,"0.0.0.0.0.166.40.79",true,false,true,false,false,3,0.12]
["item",19.100000000000001,"INFO-4468","347",null,null,"4\" deep straight cable tray 10' x 18\" x 4\" (Section)","CF 105/450 EZ","Actual Footage=","standard material","physical","Cablofil","EA",64.37,0,"DWC",6810,"Order Quantity per 10 foot section","Kyle M. Daniel",0,"DWC",true,4,"0.0.0.0.0.166.55.244",1,15,null,484,null,null,null,27686,"0.0.0.0.0.166.40.82",true,false,true,false,false,3,0.12]
["item",19.100000000000001,"INFO-4469","348",null,null,"4\" deep straight cable tray 10' x 24\" x 4\" (Section)","CF 105/600 EZ","Actual Footage=","standard material","physical","Cablofil","EA",74.7,0,"DWC",6810,"Order Quantity per 10 foot section","Kyle M. Daniel",0,"DWC",true,4,"0.0.0.0.0.166.55.247",1,15,null,485,null,null,null,27687,"0.0.0.0.0.166.40.85",true,false,true,false,false,3,0.12]
["item",19.100000000000001,"INFO-4470","349",null,null,"Kit for two 90's or one \"T\"","EZ T90",null,"standard material","physical","Cablofil","EA",10.54,0,"DWC",6810,"Splice bars in kit to be used on inside of tray","Kyle M. Daniel",0,"DWC",true,4,"0.0.0.0.0.166.55.250",1,15,null,486,null,null,null,27688,"0.0.0.0.0.166.40.88",true,false,true,false,false,3,0.25]
["item",19.100000000000001,"INFO-4471","350",null,null,"Bag of 50 universal splice bars","ED 275 EZ B","Actual Quantity=","standard material","physical","Cablofil","EA",81.97,0,"DWC",6810,"For making sweeps and changing from one size tray to another Order per pkg.","Kyle M. Daniel",0,"DWC",true,4,"0.0.0.0.0.166.55.253",1,15,null,487,null,null,null,27689,"0.0.0.0.0.166.40.91",true,false,true,false,false,3,0.5]
["item",19.100000000000001,"INFO-4472","351",null,null,"1/4\" round head nut, bolt, clamp assy. Bag of 50","EZ BN 1/4\"","Actual Quantity=","standard material","physical","Cablofil","EA",3.32,0,"DWC",6810,"Order per pkg.","Kyle M. Daniel",0,"DWC",true,4,"0.0.0.0.0.166.56.1",1,15,null,488,null,null,null,27690,"0.0.0.0.0.166.40.94",true,false,true,false,false,3,0.5]
["item",19.100000000000001,"INFO-4474","353",null,null,"Trapeze hanger 39\" in Length","PRO CS 1000",null,"standard material","physical","Cablofil","EA",12.18,0,"DWC",6810,"3/8\" diameter threaded rod maximum size","Kyle M. Daniel",0,"DWC",true,4,"0.0.0.0.0.166.56.6",1,15,null,490,null,null,null,27692,"0.0.0.0.0.166.40.100",true,false,true,false,false,3,0.1]
["item",19.100000000000001,"INFO-4480","356",null,null,"Under floor support clamp","UFC",null,"standard material","physical","Cablofil","EA",3.42,0,"DWC",6810,"Use with FASL brackets","Kyle M. Daniel",0,"DWC",true,4,"0.0.0.0.0.166.56.9",1,15,null,491,null,null,null,27693,"0.0.0.0.0.166.40.103",true,false,true,false,false,3,0.1]
["item",19.100000000000001,"INFO-4481","357",null,null,"Mounts tray to rack. Bag of two \"J\" anchor bolts with nuts","EZ JB 5/16 B",null,"standard material","physical","Cablofil","EA",3.12,0,"DWC",6810,"Order per pkg.","Kyle M. Daniel",0,"DWC",true,4,"0.0.0.0.0.166.56.12",1,15,null,492,null,null,null,27694,"0.0.0.0.0.166.40.106",true,false,true,false,false,3,7.0000000000000007E-2]
["item",19.100000000000001,"INFO-4483","359",null,null,"Splicing hardware. Bag of 50 with tool","EDRN","Actual Quantity=","standard material","physical","Cablofil","EA",71.58,0,"DWC",6810,"Use one splice on each side and one on bottom. Use two on bottom for 18\" and larger tray.","Kyle M. Daniel",0,"DWC",true,4,"0.0.0.0.0.166.56.15",1,15,null,494,null,null,null,27696,"0.0.0.0.0.166.40.109",true,false,true,false,false,3,0.5]
["item",19.100000000000001,"INFO-4486","360",null,null,"Cable label clip. Bag of 50","EZ CLPK","Actual Quantity=","standard material","physical","Cablofil","EA",9.9,0,"DWC",6810,null,"Kyle M. Daniel",0,"DWC",true,4,"0.0.0.0.0.166.56.18",1,15,null,495,null,null,null,27697,"0.0.0.0.0.166.40.112",true,false,true,false,false,3,0.25]
["item",19.100000000000001,"INFO-4487","361",null,null,"Side cable exit waterfall 4\" Width","CABLEXIT KIT",null,"standard material","physical","Cablofil","EA",3.37,0,"DWC",6810,"Choose \"Cableguard2\" first. Do not order without approval.","Kyle M. Daniel",0,"DWC",true,4,"0.0.0.0.0.166.56.21",1,15,null,496,null,null,null,27698,"0.0.0.0.0.166.40.115",true,false,true,false,false,3,0.1]
["item",19.100000000000001,"INFO-4488","363",null,null,"WALL TERMINATION BRACKET","GM HB2",null,"standard material","physical","Cablofil","EA",1.94,0,"DWC",6810,null,"Kyle M. Daniel",0,"DWC",true,4,"0.0.0.0.0.166.56.24",1,15,null,497,null,null,null,27699,"0.0.0.0.0.166.40.118",true,false,true,false,false,3,0.25]
["item",19.100000000000001,"INFO-4489","364",null,null,"NUT/BOLT/CLAMPS  PKG OF 50","GM SWK B","Actual Quantity=","standard material","physical","Cablofil","EA",34.299999999999997,0,"DWC",6810,null,"Kyle M. Daniel",0,"DWC",true,4,"0.0.0.0.0.166.56.27",1,15,null,498,null,null,null,27700,"0.0.0.0.0.166.40.121",true,false,true,false,false,3,0.5]
["item",19.100000000000001,"INFO-4490","365",null,null,"FAS PROFILE - 8\"","FASP200",null,"standard material","physical","Cablofil","EA",3.27,0,"DWC",6810,"Use for 4\" Cable tray ONLY","Kyle M. Daniel",0,"DWC",true,4,"0.0.0.0.0.166.56.30",1,15,null,499,null,null,null,27701,"0.0.0.0.0.166.40.124",true,false,true,false,false,3,0.2,false,0]
["item",19.100000000000001,"INFO-4491","366",null,null,"FAS PROFILE - 12\"","FASP300",null,"standard material","physical","Cablofil","EA",4.91,0,"DWC",6810,null,"Kyle M. Daniel",0,"DWC",true,4,"0.0.0.0.0.166.56.33",1,15,null,500,null,null,null,27702,"0.0.0.0.0.166.40.127",true,false,true,false,false,3,0.2]
["item",19.100000000000001,"INFO-4492","367",null,null,"FAS PROFILE - 16\"","FASP400",null,"standard material","physical","Cablofil","EA",5.94,0,"DWC",6810,null,"Kyle M. Daniel",0,"DWC",true,4,"0.0.0.0.0.166.56.36",1,15,null,501,null,null,null,27703,"0.0.0.0.0.166.40.130",true,false,true,false,false,3,0.2]
["item",19.100000000000001,"INFO-4493","368",null,null,"FAS PROFILE - 20\"","FASP500",null,"standard material","physical","Cablofil","EA",8.2200000000000006,0,"DWC",6810,null,"Kyle M. Daniel",0,"DWC",true,4,"0.0.0.0.0.166.56.39",1,15,null,502,null,null,null,27704,"0.0.0.0.0.166.40.133",true,false,true,false,false,3,0.2]
["item",19.100000000000001,"INFO-4494","369",null,null,"SBD DIVERSION BOX","SBD",null,"standard material","physical","Cablofil","EA",2,0,"DWC",6810,null,"Kyle M. Daniel",0,"DWC",true,4,"0.0.0.0.0.166.56.42",1,15,null,503,null,null,null,27705,"0.0.0.0.0.166.40.136",true,false,true,false,false,3,0.2]
["item",19.100000000000001,"INFO-4495","370",null,null,"UNDER FLOOR SUPPORT CLAMP AND 12 INCH PROFILE","UFCN300",null,"standard material","physical","Cablofil","EA",4.5999999999999996,0,"DWC",6810,null,"Kyle M. Daniel",0,"DWC",true,4,"0.0.0.0.0.166.56.45",1,15,null,504,null,null,null,27706,"0.0.0.0.0.166.40.139",true,false,true,false,false,3,0.1]
["item",19.100000000000001,"INFO-4496","371",null,null,"CABLE DROP OUT - 12\" Width","GM12 DROPOUT",null,"standard material","physical","Cablofil","EA",9.98,0,"DWC",6810,"Choose \"Cableguard2\" first. Do not order without approval.","Kyle M. Daniel",0,"DWC",true,4,"0.0.0.0.0.166.56.48",1,15,null,505,null,null,null,27707,"0.0.0.0.0.166.40.142",true,false,true,false,false,3,0.25]
["item",19.100000000000001,"INFO-4497","372",null,null,"CABLE DROP OUT - 06\" Width","GM6 DROPOUT",null,"standard material","physical","Cablofil","EA",8.9700000000000006,0,"DWC",6810,"Choose \"Cableguard2\" first. Do not order without approval.","Kyle M. Daniel",0,"DWC",true,4,"0.0.0.0.0.166.56.51",1,15,null,506,null,null,null,27708,"0.0.0.0.0.166.40.145",true,false,true,false,false,3,0.25]
["item",19.100000000000001,"INFO-4498","373",null,null,"FAS UNIVERSAL BRACKET - 6\"","FAS U150",null,"standard material","physical","Cablofil","EA",4.2300000000000004,0,"DWC",6810,null,"Kyle M. Daniel",0,"DWC",true,4,"0.0.0.0.0.166.56.54",1,15,null,507,null,null,null,27709,"0.0.0.0.0.166.40.148",true,false,true,false,false,3,0.2]
["item",19.100000000000001,"INFO-4499","374",null,null,"FAS UNIVERSAL BRACKET - 12\"","FAS U300",null,"standard material","physical","Cablofil","EA",6.14,0,"DWC",6810,null,"Kyle M. Daniel",0,"DWC",true,4,"0.0.0.0.0.166.56.57",1,15,null,508,null,null,null,27710,"0.0.0.0.0.166.40.151",true,false,true,false,false,3,0.2]
["item",19.100000000000001,"INFO-4701","375",null,null,"FAS UNIVERSAL BRACKET - 24\"","FAS U600",null,"standard material","physical","Cablofil","EA",19.55,0,"DWC",6810,null,"Kyle M. Daniel",0,"DWC",true,4,"0.0.0.0.0.166.56.60",1,15,null,509,null,null,null,27711,"0.0.0.0.0.166.40.154",true,false,true,false,false,3,0.2]
["item",19.100000000000001,"INFO-4703","377",null,null,"FAS PROFILE - 28\"","FASP700",null,"standard material","physical","Cablofil","EA",11.44,0,"DWC",6810,null,"Kyle M. Daniel",0,"DWC",true,4,"0.0.0.0.0.166.56.63",1,15,null,510,null,null,null,27712,"0.0.0.0.0.166.40.157",true,false,true,false,false,3,0.1,false,0]
["item",19.100000000000001,"INFO-4704","354",null,null,"8\" wall or under floor bracket","FAS L200",null,"standard material","physical","Cablofil","EA",4.2699999999999996,0,"DWC",6810,null,"Kyle M. Daniel",0,"DWC",true,4,"0.0.0.0.0.166.56.66",1,15,null,511,null,null,null,27713,"0.0.0.0.0.166.40.160",true,false,true,false,false,3,0.1]
["item",19.100000000000001,"INFO-4705","355",null,null,"12\" wall or under floor bracket","FAS L300",null,"standard material","physical","Cablofil","EA",5.56,0,"DWC",6810,null,"Kyle M. Daniel",0,"DWC",true,4,"0.0.0.0.0.166.56.69",1,15,null,512,null,null,null,27714,"0.0.0.0.0.166.40.163",true,false,true,false,false,3,0.1]
["Header",20,"Grounding and Bonding Material"]
["item",20,"0076-6541",966,null,null,"TERMINAL BLOCK, EA & ED 300-600v Tubular Screw Type with Pressure Plate (EJB and Terminal box)","EA1",null,"standard material","physical",{"$f":"VLOOKUP(Z729,rngManufacturerLookup,2,FALSE)","v":"Electro-Matic"},"EA",2.0299999999999998,{"$f":"(E729*N729)","v":0},{"$f":"VLOOKUP(Y729,rngSupplierLookup,2,FALSE)","v":"DWC"},6810,"Used in Terminal Box Kit (INFO-4818) and EJB Box Kit (INFO-4819)","Kyle M. Daniel",{"$f":"(F729*N729)","v":0},"DWC",true,4,"0.0.0.0.0.166.56.72",1,24,null,513,null,null,null,27715,"0.0.0.0.0.166.40.166",true,false,true,false,false,3,0.1]
["item",20,"0174-9C5F",1089,null,null,"Beam/Purlin Flange Bonding Clamp. Up to 1\" Thick Beam Flange. Accommodates #2awg thru #6awg Copper, UL Approved","LPC557",null,"standard material","physical","Erico-Caddy","EA",38.25,0,"DWC",6810,"Use if Exothermic weld method is not practical","Kyle M. Daniel",0,"DWC",true,4,"0.0.0.0.0.166.56.75",1,27,null,514,null,null,null,27716,"0.0.0.0.0.166.40.169",true,false,true,false,false,3,0.1,false,0]
["item",20,"0174-9C61",1038,null,null,"Gnd./Bonding Clamp, wire type cable tray section-section, 2ga/6ga bonding conductor size, UL Approved  ",2174,null,"standard material","physical","Senior Industries","EA",3.27,0,"DWC",6810,"Attach to outside of wire type cable tray for section to section bonds of 2ga./6ga. bonding conductor. Support between section bonds provided by tywraps. ","Kyle M. Daniel",0,"DWC",true,4,"0.0.0.0.0.166.56.78",1,61,null,515,null,null,null,27717,"0.0.0.0.0.166.40.172",true,false,true,false,false,3,0.1,false,0]
["item",20,"0456-0XFL",1086,null,null,"H-TAP, 3/0 awg to 3/0 awg, Crimp type ","YH2929WC",null,"standard material","physical","FCI-Burndy","EA",24.26,0,"DWC",6810,null,"Kyle M. Daniel",0,"DWC",true,4,"0.0.0.0.0.166.56.81",1,28,null,516,null,null,null,27718,"0.0.0.0.0.166.40.175",true,false,true,false,false,3,0.1]
["item",20,"0456-0XFM",1087,null,null,"H-TAP, 2/0 thru #2 awg to 2/0 thru #2 awg, Crimp type ","YH292CWC",null,"standard material","physical","FCI-Burndy","EA",28.12,0,"DWC",6810,null,"Kyle M. Daniel",0,"DWC",true,4,"0.0.0.0.0.166.56.84",1,28,null,517,null,null,null,27719,"0.0.0.0.0.166.40.178",true,false,true,false,false,3,0.1]
["item",20,"0456-0XFN",977,null,null,"Telecom Grounding and Bonding Conductor Label Ground Attachment Warning Kit (10 per pak)","LTYK",null,"standard material","physical","Panduit","EA",8.66,0,"DWC",6810,"Installed at all ground/bond connections","Kyle M. Daniel",0,"DWC",true,4,"0.0.0.0.0.166.56.87",1,57,null,518,null,null,null,27720,"0.0.0.0.0.166.40.181",true,false,true,false,false,3,0.1,false,0]
["item",20,"0456-0XFR",976,null,null,"Ground Strap with lugs and hardware, Runway Type Cable Tray Section Bonding","GS-8",null,"standard material","physical","Homaco","EA",14.79,0,"DWC",6810,null,"Kyle M. Daniel",0,"DWC",true,4,"0.0.0.0.0.166.56.90",1,37,null,519,null,null,null,27721,"0.0.0.0.0.166.40.184",true,false,true,false,false,3,0.1,false,0]
["item",20,"0456-0XRJ",978,null,null,"Cabinet/Rack Grounding Kit, Includes; H-TAP #2awg to #6awg, Pre-connectorized 10ft. #6awg THHN green, lugs and attachment hardware. ","EBC-KIT",null,"standard material","physical","DWC","EA",27.13,0,"DWC",6810,"Order (1) for each rack or cabinet attached to tray bonding conductor ","Kyle M. Daniel",0,"DWC",true,4,"0.0.0.0.0.166.56.93",1,23,null,520,null,null,null,27722,"0.0.0.0.0.166.40.187",true,false,true,false,false,3,0.25]
["item",20,"0844-44DW",979,null,null,"Crimp Lug Connector, 3/0awg, (2) Holes, Long Barrel","YA272TC38",null,"standard material","physical","FCI-Burndy","EA",9.31,0,"DWC",6810,null,"Kyle M. Daniel",0,"DWC",true,4,"0.0.0.0.0.166.56.96",1,28,null,521,null,null,null,27723,"0.0.0.0.0.166.40.190",true,false,true,false,false,3,0.1]
["item",20,"0844-45KJ","1120",null,null,"Crimp Lug Connector, #6awg, (2) Hole, Long Barrel","YA6C2TC14",null,"standard material","physical",{"$f":"VLOOKUP(Z738,rngManufacturerLookup,2)","v":"FCI-Burndy"},"EA",5.84,0,{"$f":"VLOOKUP(Y738,rngSupplierLookup,2)","v":"DWC"},6810,null,"Kyle M. Daniel",0,"DWC",true,4,"0.0.0.0.0.166.56.99",1,28,null,522,null,null,null,27724,"0.0.0.0.0.166.40.193",true,false,true,false,false,3,0.1,false,0]
["item",20,"0844-45KK","01121",null,null,"Crimp Lug Connector, #2awg, (2) Holes, Long Barrel","YA2C2TC38",null,"standard material","physical",{"$f":"VLOOKUP(Z739,rngManufacturerLookup,2,FALSE)","v":"FCI-Burndy"},"EA",7.77,0,{"$f":"VLOOKUP(Y739,rngSupplierLookup,2,FALSE)","v":"DWC"},6810,null,"Kyle M. Daniel",0,"DWC",true,4,"0.0.0.0.0.166.56.102",1,28,null,523,null,null,null,27725,"0.0.0.0.0.166.40.196",true,false,true,false,false,3,0.1]
["item",20,"0844-45KR",1088,null,null,"Crimp Lug Connector, #6awg, (1) Hole, Long Barrel","YA6C",null,"standard material","physical","FCI-Burndy","EA",2.13,0,"DWC",6810,null,"Kyle M. Daniel",0,"DWC",true,4,"0.0.0.0.0.166.56.105",1,28,null,524,null,null,null,27726,"0.0.0.0.0.166.40.199",true,false,true,false,false,3,0.1]
["item",20,"10024",null,null,null,"#2awg, Bare Stranded Ground Cable - Cable is sold in FT","1A-0201","Actual Footage=","standard material","horizontal","DWC","FT",1.2,0,"DWC",6810,"Used for Bonding Conductor (BC) within Telecomm Room under raised Floor, Use for signal reference grid below raised floors and all plenum spaces inside of trays outside of closets.","Kyle M. Daniel",0,"DWC",true,5,"0.0.0.0.0.166.56.108",1,23,null,925,null,null,null,28362,"0.0.0.0.0.166.40.202",true,false,false,true,false,2,0.02,false,0]
["item",20,"10025",null,null,null,"2/0awg, Bare Stranded Ground Cable - Cable is sold in FT","1A-2021","Actual Footage=","standard material","horizontal","DWC","FT",1.91,0,"DWC",6810,"Use for signal reference grid below raised floors and all plenum spaces","Kyle M. Daniel",0,"DWC",true,5,"0.0.0.0.0.166.56.111",1,23,null,926,null,null,null,28363,"0.0.0.0.0.166.40.205",true,false,false,true,false,2,0.02,false,0]
["item",20,"10026",null,null,null,"3/0awg, Bare Stranded Ground Cable - Cable is sold in FT","1A-3031","Actual Footage=","standard material","horizontal","DWC","FT",3.35,0,"DWC",6810,"Use for TBB Bonding Backbone to TMGB Main Building Ground Bar for NEW Plenum installations. (Office Centers, Risers, etc.)","Kyle M. Daniel",0,"DWC",true,5,"0.0.0.0.0.166.56.114",1,23,null,927,null,null,null,28364,"0.0.0.0.0.166.40.208",true,false,false,true,false,2,0.05,false,0]
["item",20,"10027",null,null,null,"#2awg THHN, Green Jacketed Stranded Ground Cable - Cable is sold in FT","1E-0201-05","Actual Footage=","standard material","horizontal","DWC","FT",1.55,0,"DWC",6810,"Use for equipment bonding conductor along cable tray pathways within closets.","Kyle M. Daniel",0,"DWC",true,5,"0.0.0.0.0.166.56.117",1,23,null,928,null,null,null,28365,"0.0.0.0.0.166.40.211",true,false,false,true,false,2,0.01,false,0]
["item",20,"10028",null,null,null,"#6awg THHN, Green Jacketed Stranded Ground Cable - Cable is sold in FT","1E-0601-05","Actual Footage=","standard material","horizontal","DWC","FT",0.8,0,"DWC",6810,"Use for equipment connections to TGB and Rack Cabinet EGB","Kyle M. Daniel",0,"DWC",true,5,"0.0.0.0.0.166.56.120",1,23,null,929,null,null,null,28366,"0.0.0.0.0.166.40.214",true,false,false,true,false,2,0.01,false,0]
["item",20,"10029",null,null,null,"2/0awg THHN, Green Jacketed Stranded Ground Cable - Cable is sold in FT","1E-2021-05","Actual Footage=","standard material","horizontal","DWC","FT",2.4500000000000002,0,"DWC",6810,"Use for TBB Bonding Backbone to TMGB Main Building Ground Bar to match/extend EXISTING 2/0awg installations","Kyle M. Daniel",0,"DWC",true,5,"0.0.0.0.0.166.56.123",1,23,null,930,null,null,null,28367,"0.0.0.0.0.166.40.217",true,false,false,true,false,2,0.02,false,0]
["item",20,"10030",null,null,null,"3/0awg THHN, Green Jacketed Stranded Ground Cable - Cable is sold in FT","1E-3031-05","Actual Footage=","standard material","horizontal","DWC","FT",3.85,0,"DWC",6810,"Use for TBB Bonding Backbone to TMGB Main Building Ground Bar for NEW non-plenum installations. (Plants, Warehouses, etc.)","Kyle M. Daniel",0,"DWC",true,5,"0.0.0.0.0.166.56.126",1,23,null,931,null,null,null,28368,"0.0.0.0.0.166.40.220",true,false,false,true,false,2,0.05,false,0]
["item",20,"10092",null,null,null,"D167 Small Panel Mounted Ground Bar (12) Position for Panel Enclosures","D167-12",null,"standard material","physical","Ilsco","EA",35.9,0,"DWC",6810,"Installed in panel type enclosures for multiple ground attachements","Kyle M. Daniel",0,"DWC",true,4,"0.0.0.0.0.166.56.129",1,41,null,932,null,null,null,28369,"0.0.0.0.0.166.40.223",true,false,true,false,false,3,0.1,false,0]
["item",20,"10114",null,null,null,"EGB – Equipment Ground Bar, Rack/Cabinet 19”","GB316-7520DWC",null,"standard material","physical","Harger","EA",25.5,0,"DWC",6810,"Order for new Non-Standard racks/cabinets and existing racks/cabinets not already equipped","Kyle M. Daniel",0,"DWC",true,4,"0.0.0.0.0.166.56.132",1,35,null,933,null,null,null,28370,"0.0.0.0.0.166.40.226",true,false,true,false,false,3,0.1,false,0]
["item",20,"10119",null,null,null,"Antioxidant Compound for Ground Connections, 8 oz. Bottle, Copper Color","HCAJC8",null,"standard material","physical","Harger","EA",15.8,0,"DWC",6810,"Order min. (1) for each project.","Kyle M. Daniel",0,"DWC",true,4,"0.0.0.0.0.166.56.135",1,35,null,934,null,null,null,28371,"0.0.0.0.0.166.40.229",true,false,true,false,false,3,0,false,0]
["item",20,"10260",null,null,null,"Labor to install EGB Bar in NIS Racks/Cabinets","EGB-L",null,"standard material","physical","DWC","EA",38.700000000000003,0,"DWC",6810,"Required for Non Standard Racks or Cabinets or those that are not Kits on the standard BOM","Kyle M. Daniel",0,"DWC",true,4,"0.0.0.0.0.166.56.138",1,23,null,1294,null,null,null,29337,"0.0.0.0.0.166.40.232",true,false,true,false,false,3,0,false,0]
["item",20,"INFO-2338","585",null,null,"DataLogger Grounding Kit - Includes 12 Inches of # 6 AWG Coated Ground Wire w/Green Jacket, and Terminal Connector on One End","GM-DLOG-KIT",null,"standard material","physical","DWC","EA",3.27,0,"DWC",6810,null,"Kyle M. Daniel",0,"DWC",true,4,"0.0.0.0.0.166.56.141",1,23,null,525,null,null,null,27727,"0.0.0.0.0.166.40.235",true,false,true,false,false,3,0.25]
["item",20,"INFO-4504","379",null,null,"Insulated Ground Bar 1/4\" X 4\" X 20\" (Copper)","FIGURE 3056",null,"standard material","physical","Newton","EA",142.4,0,"DWC",6810,"Order one per MC, IC and TC","Kyle M. Daniel",0,"DWC",true,4,"0.0.0.0.0.166.56.144",1,51,null,526,null,null,null,27728,"0.0.0.0.0.166.40.238",true,false,true,false,false,3,0.1,false,0]
["item",20,"INFO-4764","609",null,null,"Braided Ground Strap w/eyelets (25'/roll)","25T-BBE6",null,"standard material","physical","3M","EA",49.75,0,"DWC",6810,null,"Kyle M. Daniel",0,"DWC",true,4,"0.0.0.0.0.166.56.147",1,1,null,527,null,null,null,27729,"0.0.0.0.0.166.40.241",true,false,true,false,false,3,0.1]
["item",20,"INFO-7018","926",null,null,"Beam/Purlin/Tray Flange Bonding Clamp. Up to 1/2\" Thick Beam Flange. Accommodates #2awg thru #6awg Copper, UL Approved","CTGC-6-25A",null,"standard material","physical","OZ Gedney","EA",9.31,0,"DWC",6810,"Do not order without approval. Use if Exothermic weld method is not practical","Kyle M. Daniel",0,"DWC",true,4,"0.0.0.0.0.166.56.150",1,56,null,528,null,null,null,27730,"0.0.0.0.0.166.40.244",true,false,true,false,false,3,0.1,false,0]
["item",20,"INFO-8657","544",null,null,"Required ground Kit for Cisco 65XX, 45XX series chassis. Includes two hole crimp-on chassis ground lug, 10 feet of #6 green stranded cable, one hole copper mechanical connector, two M4 stainless screws, one stainless bolt, nut, washer, tie wraps, label, instructions. Crimp-on chassis ground lug comes  factory assembled to the #6 stranded cable.","CISCO/GRND-KIT",null,"standard material","physical","DWC","EA",36.200000000000003,0,"DWC",6810,null,"Kyle M. Daniel",0,"DWC",true,4,"0.0.0.0.0.166.56.153",1,23,null,529,null,null,null,27731,"0.0.0.0.0.166.40.247",true,false,true,false,false,3,0.25,false,0]
["item",20,"INFO-8658","552",null,null,"Manual Crimp Tool - Crimps PANDUIT® #8 - #2 AWG non-insulated tubular terminals (S series), #8 - #1 AWG copper lugs and splices, #6 - #4 AWG aluminum lugs and splices, and CTAPF copper taps for #14 - #3 AWG. Includes 5 position, color coded rotating die. ","CT-1700",null,"standard material","physical","OZ Gedney","EA",177.01,0,"DWC",6810,null,"Neil Norat",0,"DWC",true,4,"0.0.0.0.0.166.56.156",1,56,null,530,null,null,null,27732,"0.0.0.0.0.166.40.250",true,false,true,false,false,3,0]
["Header",21,"Environment Control and Powering"]
["item",21,"0098-26G0",972,null,null,"CIRCUIT BREAKER, 20AMP, 120V, 1 POLE","1GU20",null,"standard material","physical",{"$f":"VLOOKUP(Z759,rngManufacturerLookup,2,FALSE)","v":"Altech Corp."},"EA",35.44,{"$f":"(E759*N759)","v":0},{"$f":"VLOOKUP(Y759,rngSupplierLookup,2,FALSE)","v":"DWC"},6810,"Typically installed in EJB box for Type 1 Cabinets","Kyle M. Daniel",{"$f":"(F759*N759)","v":0},"DWC",true,4,"0.0.0.0.0.166.56.159",1,4,null,531,null,null,null,27733,"0.0.0.0.0.166.40.253",true,false,true,false,false,3,0.1]
["item",21,"0119-C5M0",974,null,null,"QUICK DISCONNECT SWITCH, (FOR EJB BOX)","H28421",null,"standard material","physical","DWC","EA",151.37,0,"DWC",6810,"Can be  installed on EJB box for Type 1 Cabinets. Used as Main disconnect when EJB box is NOT wired to 10kva PDU.","Kyle M. Daniel",0,"DWC",true,4,"0.0.0.0.0.166.56.162",1,23,null,532,null,null,null,27734,"0.0.0.0.0.166.41.1",true,false,true,false,false,3,0.1]
["item",21,"0628-092M",1039,null,null,"1RU Rack-Mounted 20A, 125VAC Breaker Horiz. Power Strip, Six (6) Rear Facing Receptacles, WITH On/Off Switch, 15' Power Cord-Straight Plug","1589H6G1BKRR",null,"standard material","physical","Hammond","EA",39.380000000000003,0,"DWC",6810,"Unit does not provide surge suppression. Typically used in Manf. Nema 12 cabinets. Do not specify for Product Dev. Sites. ","Kyle M. Daniel",0,"DWC",true,4,"0.0.0.0.0.166.56.165",1,34,null,533,null,null,null,27735,"0.0.0.0.0.166.41.4",true,false,true,false,false,3,0.1,false,0]
["item",21,"0886-02N6",980,null,null,"UCE Comm. Power Distribution Unit (PDU) Version 1","UCE-PDU-V1",null,"standard material","physical","DWC","EA",661.44,0,"DWC",6810,"Configurable with up to (6) different outlet types plus (1) Utility Only Duplex Outlet","Kyle M. Daniel",0,"DWC",true,4,"0.0.0.0.0.166.56.168",1,23,null,534,null,null,null,27736,"0.0.0.0.0.166.41.7",true,false,true,false,false,3,2,false,0]
["item",21,"10013",null,null,null,"Wall/Panel-Mounted 20A, 125VAC Breaker Horiz. Power Strip, Six (6) Right Angled Outlets, WITHOUT On/Off Switch, 6' Power Cord","1584T6A1RA",null,"standard material","physical","Hammond","EA",31.6,0,"DWC",6810,"Unit does not provide surge suppression. Can be mounted in boxes, Right angled outlets allow space for power pack/transformers","Kyle M. Daniel",0,"DWC",true,4,"0.0.0.0.0.166.56.171",1,34,null,935,null,null,null,28372,"0.0.0.0.0.166.41.10",true,false,true,false,false,3,0.2,false,0]
["item",21,"10014",null,null,null,"Wall/Panel-Mounted 20A, 125VAC Breaker Horiz. Power Strip, Six (6) Standard Position Outlets, WITHOUT On/Off Switch, 6' Power Cord","1589T6F1",null,"standard material","physical","Hammond","EA",43.4,0,"DWC",6810,"Unit does not provide surge suppression. Typically used for wireless AP Power Injectors when mounting those on wall","Kyle M. Daniel",0,"DWC",true,4,"0.0.0.0.0.166.56.174",1,34,null,936,null,null,null,28373,"0.0.0.0.0.166.41.13",true,false,true,false,false,3,0.2,false,0]
["item",21,"10015",null,null,null,"1RU Rack-Mounted 20A, 125VAC Breaker Horiz. Power Strip, Six (6) Front Facing Receptacles, WITHOUT On/Off Switch, 6' Power Cord-Straight Plug","1589T6F1BKRF",null,"standard material","physical","Hammond","EA",41.1,0,"DWC",6810,"Unit does not provide surge suppression.","Kyle M. Daniel",0,"DWC",true,4,"0.0.0.0.0.166.56.177",1,34,null,937,null,null,null,28374,"0.0.0.0.0.166.41.16",true,false,true,false,false,3,0.2,false,0]
["item",21,"10016",null,null,null,"1RU Rack-Mounted 20A, 125VAC Breaker Horiz. Power Strip, Six (6) Rear Facing Receptacles, WITHOUT On/Off Switch, 6' Power Cord-Straight Plug","1589T6F1BKRR",null,"standard material","physical","Hammond","EA",41.1,0,"DWC",6810,"Unit does not provide surge suppression","Kyle M. Daniel",0,"DWC",true,4,"0.0.0.0.0.166.56.180",1,34,null,938,null,null,null,28375,"0.0.0.0.0.166.41.19",true,false,true,false,false,3,0.2,false,0]
["item",21,"10017",null,null,null,"1RU Rack-Mounted 20A, 125VAC Breaker Horiz. Power Strip, Six (6) Front Facing Receptacles, WITHOUT On/Off Switch, 15' Power Cord-Straight Plug","1589T6G1BKRF",null,"standard material","physical","Hammond","EA",45.68,0,"DWC",6810,"Unit does not provide surge suppression","Kyle M. Daniel",0,"DWC",true,4,"0.0.0.0.0.166.56.183",1,34,null,939,null,null,null,28376,"0.0.0.0.0.166.41.22",true,false,true,false,false,3,0.2,false,0]
["item",21,"10018",null,null,null,"1RU Rack-Mounted 20A, 125VAC Breaker Horiz. Power Strip, Six (6) Rear Facing Receptacles, WITHOUT On/Off Switch, 15' Power Cord-Straight Plug","1589T6G1BKRR",null,"standard material","physical","Hammond","EA",45.68,0,"DWC",6810,"Unit does not provide surge suppression","Kyle M. Daniel",0,"DWC",true,4,"0.0.0.0.0.166.56.186",1,34,null,940,null,null,null,28377,"0.0.0.0.0.166.41.25",true,false,true,false,false,3,0.2,false,0]
["item",21,"10054",null,null,null,"6-20P 20AMP 250V Single Plug","6-20P",null,"standard material","physical","DWC","EA",33.9,0,"DWC",6810,null,"Kyle M. Daniel",0,"DWC",true,4,"0.0.0.0.0.166.56.189",1,23,null,941,null,null,null,28378,"0.0.0.0.0.166.41.28",true,false,true,false,false,3,0.2,false,0]
["item",21,"10055",null,null,null,"6-20R 20AMP 250V Simplex Receptacle","6-20R",null,"standard material","physical","DWC","EA",16.05,0,"DWC",6810,null,"Kyle M. Daniel",0,"DWC",true,4,"0.0.0.0.0.166.56.192",1,23,null,942,null,null,null,28379,"0.0.0.0.0.166.41.31",true,false,true,false,false,3,0.2,false,0]
["item",21,"10056",null,null,null,"6-30P 30AMP 250V Single Plug","6-30P",null,"standard material","physical","DWC","EA",39.299999999999997,0,"DWC",6810,null,"Kyle M. Daniel",0,"DWC",true,4,"0.0.0.0.0.166.56.195",1,23,null,943,null,null,null,28380,"0.0.0.0.0.166.41.34",true,false,true,false,false,3,0.2,false,0]
["item",21,"10057",null,null,null,"6-30R 30AMP 250V Simplex Receptacle","6-30R",null,"standard material","physical","DWC","EA",20.6,0,"DWC",6810,null,"Kyle M. Daniel",0,"DWC",true,4,"0.0.0.0.0.166.56.198",1,23,null,944,null,null,null,28381,"0.0.0.0.0.166.41.37",true,false,true,false,false,3,0.2,false,0]
["item",21,"10067",null,null,null,"Mount and connect  air conditioner---------Labor Only","AC-L",null,"standard material","physical","DWC","EA",106.2,0,"DWC",6810,"For one off cabinets only (Already included in kit build)","Kyle M. Daniel",0,"DWC",true,4,"0.0.0.0.0.166.56.201",1,23,null,945,null,null,null,28382,"0.0.0.0.0.166.41.40",true,false,true,false,false,3,0,false,0]
["item",21,"10079",null,null,null,"BR20 20AMP Duplex Receptacle (Brown)","BR20",null,"standard material","physical","DWC","EA",3.95,0,"DWC",6810,null,"Kyle M. Daniel",0,"DWC",true,4,"0.0.0.0.0.166.56.204",1,23,null,946,null,null,null,28383,"0.0.0.0.0.166.41.43",true,false,true,false,false,3,0.2,false,0]
["item",21,"10082",null,null,null,"Mount and connect PDU - 10 KVA-------Labor Only","CCI-PP-480-10K-0K-L",null,"standard material","physical","DWC","EA",335.7,0,"DWC",6810,"For one off cabinets only and SPO sites only","Kyle M. Daniel",0,"DWC",true,4,"0.0.0.0.0.166.56.207",1,23,null,947,null,null,null,28384,"0.0.0.0.0.166.41.46",true,false,true,false,false,3,0,false,0]
["item",21,"10122",null,null,null,"L6-20P 20AMP Twist Lock Single Plug","L6-20P",null,"standard material","physical","DWC","EA",13.75,0,"DWC",6810,null,"Kyle M. Daniel",0,"DWC",true,4,"0.0.0.0.0.166.56.210",1,23,null,948,null,null,null,28385,"0.0.0.0.0.166.41.49",true,false,true,false,false,3,0.2,false,0]
["item",21,"10123",null,null,null,"L6-20R 20AMP Twist Lock Simplex Receptacle","L6-20R",null,"standard material","physical","DWC","EA",16.2,0,"DWC",6810,null,"Kyle M. Daniel",0,"DWC",true,4,"0.0.0.0.0.166.56.213",1,23,null,949,null,null,null,28386,"0.0.0.0.0.166.41.52",true,false,true,false,false,3,0.2,false,0]
["item",21,"10124",null,null,null,"L6-30P 30AMP Twist Lock Single Plug","L6-30P",null,"standard material","physical","DWC","EA",20.8,0,"DWC",6810,null,"Kyle M. Daniel",0,"DWC",true,4,"0.0.0.0.0.166.56.216",1,23,null,950,null,null,null,28387,"0.0.0.0.0.166.41.55",true,false,true,false,false,3,0.2,false,0]
["item",21,"10125",null,null,null,"L6-30R 30AMP Twist Lock Simplex Receptacle","L6-30R",null,"standard material","physical","DWC","EA",26.5,0,"DWC",6810,null,"Kyle M. Daniel",0,"DWC",true,4,"0.0.0.0.0.166.56.219",1,23,null,951,null,null,null,28388,"0.0.0.0.0.166.41.58",true,false,true,false,false,3,0.2,false,0]
["item",21,"10127",null,null,null,"Label Print Labor (Each project will need 1 L-P-L Labor for Power Cords)","L-P-L",null,"standard material","physical","DWC","EA",28.35,0,"DWC",6810,"Labor item for part numbers \"TAG63L-105\" and \"TAG1L-105\"","Kyle M. Daniel",0,"DWC",true,4,"0.0.0.0.0.166.56.222",1,23,null,952,null,null,null,28389,"0.0.0.0.0.166.41.61",true,false,true,false,false,3,0,false,0]
["item",21,"10136",null,null,null,"Mount and connect NetBotz in CPTA cabinet--------Labor Only","NBRK0400e-L",null,"standard material","physical","DWC","EA",56.7,0,"DWC",6810,"Configuration is seperate. For new cabinets only","Kyle M. Daniel",0,"DWC",true,4,"0.0.0.0.0.166.56.225",1,23,null,953,null,null,null,28390,"0.0.0.0.0.166.41.64",true,false,true,false,false,3,0,false,0]
["item",21,"10137",null,null,null,"Configure NetBotz - Labor Only","NETBOTZ-C-L",null,"standard material","physical","DWC","EA",90,0,"DWC",6810,"Must order with INFO-7046","Kyle M. Daniel",0,"DWC",true,4,"0.0.0.0.0.166.56.228",1,23,null,954,null,null,null,28391,"0.0.0.0.0.166.41.67",true,false,true,false,false,3,0,false,0]
["item",21,"10141",null,null,null,"Mount and connect power strip----------Labor Only","Power Strip-L",null,"standard material","physical","DWC","EA",38.700000000000003,0,"DWC",6810,"For one off cabinets only (Already included in kit build)","Kyle M. Daniel",0,"DWC",true,4,"0.0.0.0.0.166.56.231",1,23,null,955,null,null,null,28392,"0.0.0.0.0.166.41.70",true,false,true,false,false,3,0,false,0]
["item",21,"10269",null,null,null,"6-15R 15AMP 250V Simplex Receptacle","6-15R",null,"standard material","physical","DWC","EA",16,0,"DWC",6810,null,"Kyle M. Daniel",0,"DWC",true,4,"0.0.0.0.0.166.56.234",1,23,null,1295,null,null,null,29338,"0.0.0.0.0.166.41.73",true,false,true,false,false,3,0.2,false,0]
["item",21,"10270",null,null,null,"6-15P 15AMP 250V Single Plug","6-15P",null,"standard material","physical","DWC","EA",15,0,"DWC",6810,null,"Kyle M. Daniel",0,"DWC",true,4,"0.0.0.0.0.166.56.237",1,23,null,1296,null,null,null,29339,"0.0.0.0.0.166.41.76",true,false,true,false,false,3,0.2,false,0]
["item",21,"10271",null,null,null,"Rack Mounted Powerbar 1RU, 120V/15A, (2) Front and (4) Rear Outlets, Straight 15ft. Cord, With On/Off Switch","1583H6B1BKX","See Ordering Guidelines","standard material","physical","Hammond","EA",49.2,0,"DWC",6810,"For Utility Use Only When Electrical Outlets are Under Raised Floors. Installed above sliding work shelves. Plug into utility outlet under raised floors.","Kyle M. Daniel",0,"DWC",true,4,"0.0.0.0.0.166.56.240",1,34,null,1297,null,null,null,29340,"0.0.0.0.0.166.41.79",true,false,true,false,false,3,0.15,false,0]
["item",21,"10287",null,null,null,"Power Splitter/Y Cord, 5-15P to 2x 5-15R, 10A-125V, 12\" Long","PW-210B-01","See Ordering Guidelines","standard material","physical","Infinite Cable","EA",28.2,0,"DWC",6810,"Order this for a Stack of (5) 3750's when connecting to UPS with only four outputs.","Kyle M. Daniel",0,"DWC",true,4,"0.0.0.0.0.166.56.243",1,80,null,1298,null,null,null,29341,"0.0.0.0.0.166.41.82",true,false,true,false,false,3,0.05,false,0]
["item",21,"INFO-2224","543",null,null,"1RU Rack-Mounted 20A, 125VAC Breaker Horiz. Power Strip, Six (6) Rear Facing Receptacles, WITH On/Off Switch, 6' Power Cord-Straight Plug","1589H6F1BKRR",null,"standard material","physical","Hammond","EA",35.44,0,"DWC",6810,"Unit does not provide surge suppression. Typically used in Manf. Nema 12 cabinets. Do not specify for Product Dev. Sites. ","Kyle M. Daniel",0,"DWC",true,4,"0.0.0.0.0.166.56.246",1,34,null,535,null,null,null,27737,"0.0.0.0.0.166.41.85",true,false,true,false,false,3,0.1,false,0]
["item",21,"INFO-2228","572",null,null,"Receptacle panel with 3 (20 Amp) Twist Locks and 1 (20 Amp) Duplex, Front to Rear Rail Mounted ","SR0400041",null,"standard material","physical","Hammond","EA",195.97,0,"DWC",6810,"Chose \"CMPP\" Panel First. Order for cabinets/sites with locking receptacle requirements only.  Do not order without approval","Kyle M. Daniel",0,"DWC",true,4,"0.0.0.0.0.166.56.249",1,34,null,536,null,null,null,27738,"0.0.0.0.0.166.41.88",true,false,true,false,false,3,1,false,0]
["item",21,"INFO-4604","383",null,null,"Filter Fan, NEMA 12, 94.2CFM Free Flow, 115V ","PF3000",null,"standard material","physical","Hammond","EA",166.18,0,"DWC",6810,"Order with one 4607 and one 4605","Kyle M. Daniel",0,"DWC",true,4,"0.0.0.0.0.166.56.252",1,34,null,538,null,null,null,27740,"0.0.0.0.0.166.41.91",true,false,true,false,false,3,5,false,0]
["item",21,"INFO-4605","384",null,null,"Sealing gasket for PF3000 filter fan","PFG3000",null,"standard material","physical",{"$f":"VLOOKUP(Z791,rngManufacturerLookup,2,FALSE)","v":"Hammond"},"EA",5.49,{"$f":"(E791*N791)","v":0},{"$f":"VLOOKUP(Y791,rngSupplierLookup,2,FALSE)","v":"DWC"},6810,null,"Kyle M. Daniel",{"$f":"(F791*N791)","v":0},"DWC",true,4,"0.0.0.0.0.166.56.255",1,34,null,539,null,null,null,27741,"0.0.0.0.0.166.41.94",true,false,true,false,false,3,0.1,false,0]
["item",21,"INFO-4606","385",null,null,"Standard replacement filter for PF3000 outlet filter, 5/Pkg.","PFF3000","Actual Quantity=","standard material","physical","Hammond","EA",9.1,0,"DWC",6810,null,"Kyle M. Daniel",0,"DWC",true,4,"0.0.0.0.0.166.57.3",1,34,null,540,null,null,null,27742,"0.0.0.0.0.166.41.97",true,false,true,false,false,3,1,false,0]
["item",21,"INFO-4607","386",null,null,"Outlet filter","PFA3000",null,"standard material","physical","Hammond","EA",40.29,0,"DWC",6810,null,"Kyle M. Daniel",0,"DWC",true,4,"0.0.0.0.0.166.57.6",1,34,null,541,null,null,null,27743,"0.0.0.0.0.166.41.100",true,false,true,false,false,3,0.1,false,0]
["item",21,"INFO-4608","387",null,null,"Disposable filter for top mount 2600 BTU air conditioner","10-1000-21",null,"standard material","physical","McLean","EA",7.43,0,"DWC",6810,null,"Kyle M. Daniel",0,"DWC",true,4,"0.0.0.0.0.166.57.9",1,45,null,542,null,null,null,27744,"0.0.0.0.0.166.41.103",true,false,true,false,false,3,0.1,false,0]
["item",21,"INFO-4609","388",null,null,"Disposable filter for side mount 3000 BTU (INFO-4602) or 1000 BTU (INFO-4610) air conditioners","10-1000-17",null,"standard material","physical","McLean","EA",7.43,0,"DWC",6810,null,"Kyle M. Daniel",0,"DWC",true,4,"0.0.0.0.0.166.57.12",1,45,null,543,null,null,null,27745,"0.0.0.0.0.166.41.106",true,false,true,false,false,3,0.1,false,0]
["item",21,"INFO-4644","401",null,null,"Side Mount Cabinet Air Conditioner - 1000 BTU, NEMA 12 silicon and CFC free Factory installed thermostat inside unit","M13-0116-G1014",null,"standard material","physical","McLean","EA",1342.7,0,"DWC",6810,null,"Kyle M. Daniel",0,"DWC",true,4,"0.0.0.0.0.166.57.15",1,45,null,544,null,null,null,27746,"0.0.0.0.0.166.41.109",true,false,true,false,false,3,10,false,0]
["item",21,"INFO-4649","392",null,null,"Surge Suppression NEMA 5-20 Duplex Receptacle","5380-I",null,"standard material","physical","Leviton","EA",40.590000000000003,0,"DWC",6810,null,"Kyle M. Daniel",0,"DWC",true,4,"0.0.0.0.0.166.57.18",1,43,null,545,null,null,null,27747,"0.0.0.0.0.166.41.112",true,false,true,false,false,3,0.1,false,0]
["item",21,"INFO-4650","390",null,null,"Surge Suppression, 1RU Rack-Mounted 20A, 125VAC Breaker Horiz. Power Strip, (2) N5-15R (front) & (10) N5-20R (rear), WITH Guarded On/Off Switch, 15' Power Cord-Straight Plug","IBAR 12-20 ULTRA",null,"standard material","physical","Tripp-Lite","EA",124.8,0,"DWC",6810,null,"Kyle M. Daniel",0,"DWC",true,4,"0.0.0.0.0.166.57.21",1,74,null,546,null,null,null,27748,"0.0.0.0.0.166.41.115",true,false,true,false,false,3,0.1,false,0]
["item",21,"INFO-4652","380",null,null,"Plant floor cabinet vertical 10 plug power strip with 6' cord.  Includes mounting clips.  No on/off switch.","1587T10A1",null,"standard material","physical","Hammond","EA",47.7,0,"DWC",6810,null,"Kyle M. Daniel",0,"DWC",true,4,"0.0.0.0.0.166.57.24",1,34,null,547,null,null,null,27749,"0.0.0.0.0.166.41.118",true,false,true,false,false,3,0.1,false,0]
["item",21,"INFO-4654","571",null,null,"Power Distribution Box 480VAC to 120VAC,10.0 KVA clean power transformer (includes fuses and circuit breakers).  Bus Plug NOT included. (INFO# 4654)  ","CCI-PP-480-10K-0K",null,"standard material","physical","ONEAC","EA",4348.8500000000004,0,"DWC",6810,null,"Kyle M. Daniel",0,"DWC",true,4,"0.0.0.0.0.166.57.27",1,54,null,548,null,null,null,27750,"0.0.0.0.0.166.41.121",true,false,true,false,false,3,30,false,0]
["item",21,"INFO-4655","381",null,null,"1RU Rack-Mounted 15A, 125VAC Breaker Horiz. Power Strip, Six (6) Rear Facing Receptacles, WITH On/Off Switch, 6' Power Cord-Straight Plug","1583H6A1BK",null,"standard material","physical","Hammond","EA",36.340000000000003,0,"DWC",6810,"Before Ordering Verify Amp Requirements. Unit does not provide surge suppression.","Kyle M. Daniel",0,"DWC",true,4,"0.0.0.0.0.166.57.30",1,34,null,549,null,null,null,27751,"0.0.0.0.0.166.41.124",true,false,true,false,false,3,0.1,false,0]
["item",21,"INFO-4656","570",null,null,"4000 BTU Air Conditioning Unit with Active Evaporator (78\" Nema 12 Cabinets)","M33-0416-G010E",null,"standard material","physical","McLean","EA",1531.2,0,"DWC",6810,"Template","Kyle M. Daniel",0,"DWC",true,4,"0.0.0.0.0.166.57.33",1,45,null,550,null,null,null,27752,"0.0.0.0.0.166.41.127",true,false,true,false,false,3,10,false,0]
["item",21,"INFO-8648","554",null,null,"5-15R 15AMP Simplex Receptacle","5-15R",null,"standard material","physical","DWC","EA",5.4,0,"DWC",6810,null,"Kyle M. Daniel",0,"DWC",true,4,"0.0.0.0.0.166.57.36",1,23,null,554,null,null,null,27756,"0.0.0.0.0.166.41.130",true,false,true,false,false,3,0.2]
["item",21,"INFO-8649","555",null,null,"5-15P 15AMP Single Plug","5-15P",null,"standard material","physical","DWC","EA",6.19,0,"DWC",6810,null,"Kyle M. Daniel",0,"DWC",true,4,"0.0.0.0.0.166.57.39",1,23,null,555,null,null,null,27757,"0.0.0.0.0.166.41.133",true,false,true,false,false,3,0.2]
["item",21,"INFO-8650","556",null,null,"L5-15R 15AMP Twist Lock Simplex Receptacle","L5-15R",null,"standard material","physical","DWC","EA",7.97,0,"DWC",6810,null,"Kyle M. Daniel",0,"DWC",true,4,"0.0.0.0.0.166.57.42",1,23,null,556,null,null,null,27758,"0.0.0.0.0.166.41.136",true,false,true,false,false,3,0.2]
["item",21,"INFO-8651","557",null,null,"L5-15P 15AMP Twist Lock Single Plug","L5-15P",null,"standard material","physical","DWC","EA",5.84,0,"DWC",6810,null,"Kyle M. Daniel",0,"DWC",true,4,"0.0.0.0.0.166.57.45",1,23,null,557,null,null,null,27759,"0.0.0.0.0.166.41.139",true,false,true,false,false,3,0.2]
["item",21,"INFO-8652","558",null,null,"5-20R 20AMP Simplex Receptacle","5-20R",null,"standard material","physical","DWC","EA",6.93,0,"DWC",6810,null,"Kyle M. Daniel",0,"DWC",true,4,"0.0.0.0.0.166.57.48",1,23,null,558,null,null,null,27760,"0.0.0.0.0.166.41.142",true,false,true,false,false,3,0.2]
["item",21,"INFO-8653","559",null,null,"5-20P 20AMP Single Plug","5-20P",null,"standard material","physical","DWC","EA",10.69,0,"DWC",6810,null,"Kyle M. Daniel",0,"DWC",true,4,"0.0.0.0.0.166.57.51",1,23,null,559,null,null,null,27761,"0.0.0.0.0.166.41.145",true,false,true,false,false,3,0.2]
["item",21,"INFO-8654","560",null,null,"L5-20R 20AMP Twist Lock Simplex Receptacle","L5-20R",null,"standard material","physical","DWC","EA",9.26,0,"DWC",6810,null,"Kyle M. Daniel",0,"DWC",true,4,"0.0.0.0.0.166.57.54",1,23,null,560,null,null,null,27762,"0.0.0.0.0.166.41.148",true,false,true,false,false,3,0.2]
["item",21,"INFO-8655","561",null,null,"L5-20P 20AMP Twist Lock Single Plug","L5-20P",null,"standard material","physical","DWC","EA",10.15,0,"DWC",6810,null,"Kyle M. Daniel",0,"DWC",true,4,"0.0.0.0.0.166.57.57",1,23,null,561,null,null,null,27763,"0.0.0.0.0.166.41.151",true,false,true,false,false,3,0.2]
["Header",21.1,"UPSs"]
["item",21.1,"0094-49R3",982,null,null,"UPS Unit Rear of Chassis Support Bracket w/Leveling Feet","UPS-SUPP-BRKT",null,"standard material","physical",{"$f":"VLOOKUP(Z812,rngManufacturerLookup,2,FALSE)","v":"DWC"},"EA",123.75,{"$f":"(E812*N812)","v":0},{"$f":"VLOOKUP(Y812,rngSupplierLookup,2,FALSE)","v":"DWC"},6810,"Order (1) for each UPS. Use when placing UPS unit at bottom of single frame rack for rear support. Works with all UPS units.","Kyle M. Daniel",{"$f":"(F812*N812)","v":0},"DWC",true,4,"0.0.0.0.0.166.57.60",1,23,null,562,null,null,null,27764,"0.0.0.0.0.166.41.154",true,false,true,false,false,3,0.2]
["item",21.1,"10071",null,null,null,"APC Rack Automatic Transfer Switch , Input: 100V/120V, Input Connections: (2) 5-15P , Cord Length: 8 feet, Output: 100V/120V , Output Connections: (8) 5-15R, 1RU\r\n","AP7750",null,"standard material","physical","APC","EA",568.65,0,"DWC",6810,"HELP When to USE???","Kyle M. Daniel",0,"DWC",true,4,"0.0.0.0.0.166.57.63",1,7,null,956,null,null,null,28393,"0.0.0.0.0.166.41.157",true,false,true,false,false,3,1,false,0]
["item",21.1,"10072",null,null,null,"Rack Automatic Transfer Switch ATS, 120V, 20A, L5-20 IN, (10) 5-20R OUT, 1RU","AP7752",null,"standard material","physical","APC","EA",737.95,0,"DWC",6810,"INPUT: (2) NEMA L5-20P, OUTPUT: (10) NEMA 5-20R","Kyle M. Daniel",0,"DWC",true,4,"0.0.0.0.0.166.57.66",1,7,null,957,null,null,null,28394,"0.0.0.0.0.166.41.160",true,false,true,false,false,3,1,false,0]
["item",21.1,"10073",null,null,null,"APC Smart-UPS RT 208-120V Step-Down Transformer, 2RU","AP9626",null,"standard material","physical","APC","EA",536.4,0,"DWC",6810,"APC Step-Down Transformer\r\nINPUT: 208V - (1)NEMA L6-30P\r\nCord Length: 3 feet\r\nOUTPUT 120V: (12) NEMA 5-20R  ","Kyle M. Daniel",0,"DWC",true,4,"0.0.0.0.0.166.57.69",1,7,null,958,null,null,null,28395,"0.0.0.0.0.166.41.163",true,false,true,false,false,3,1,false,0]
["item",21.1,"10163",null,null,null,"APC Backplate kit with (1) L5-30R and (6) 5-15R for SUA 2200 and 3000VA 3U/5U Models ","SUA027RM",null,"standard material","physical","APC","EA",82.1,0,"DWC",6810,"OUTPUT: (6) NEMA 5-15R, (1) NEMA L5-30R","Kyle M. Daniel",0,"DWC",true,4,"0.0.0.0.0.166.57.72",1,7,null,959,null,null,null,28396,"0.0.0.0.0.166.41.166",true,false,true,false,false,3,1,false,0]
["item",21.1,"10165",null,null,null,"APC Smart-UPS RT 48V RM Battery Pack for SUA2200RMXL3U, 3RU","SUA48RMXLBP3U",null,"standard material","physical","APC","EA",669.75,0,"DWC",6810,"Extended Runtime Battery Pack","Kyle M. Daniel",0,"DWC",true,4,"0.0.0.0.0.166.57.77",1,7,null,961,null,null,null,28398,"0.0.0.0.0.166.41.172",true,false,true,false,false,3,1,false,0]
["item",21.1,"10166",null,null,null,"APC Smart-UPS RT 48V RM Battery Pack for SURTA1500RMXL2U, 2RU","SURTA48RMXLBP2U",null,"standard material","physical","APC","EA",584.4,0,"DWC",6810,"Extended Runtime Battery Pack","Kyle M. Daniel",0,"DWC",true,4,"0.0.0.0.0.166.57.80",1,7,null,962,null,null,null,28399,"0.0.0.0.0.166.41.175",true,false,true,false,false,3,1,false,0]
["item",21.1,"10172",null,null,null,"Configure 1500-5000 UPS Units - Labor Only","UPS-C-L","Anything greater than 5000 kva will be configured on site","standard material","physical","DWC","EA",101.25,0,"DWC",6810,"Order (1) for each UPS Unit","Kyle M. Daniel",0,"DWC",true,4,"0.0.0.0.0.166.57.83",1,23,null,963,null,null,null,28400,"0.0.0.0.0.166.41.178",true,false,true,false,false,3,0,false,0]
["item",21.1,"10174",null,null,null,"1 year Extended Warranty (for concurrent sales) SUA1500RM2U (Brings total warranty to 3 years)","WBEXTWAR1YR-SP-03",null,"standard material","physical","APC","EA",75.8,0,"DWC",6810,"Order 1 for each SUA1500RM2U UPS (INFO-8716)","Kyle M. Daniel",0,"DWC",true,4,"0.0.0.0.0.166.57.86",1,7,null,964,null,null,null,28401,"0.0.0.0.0.166.41.181",true,false,true,false,false,3,0,false,0]
["item",21.1,"10175",null,null,null,"1 year Extended Warranty (for concurrent sales) SUA2200RMXL3U (Brings total warranty to 3 years)","WBEXTWAR1YR-SP-04",null,"standard material","physical","APC","EA",145.19999999999999,0,"DWC",6810,"Order 1 for each SUA2200RMXL3U UPS","Kyle M. Daniel",0,"DWC",true,4,"0.0.0.0.0.166.57.89",1,7,null,965,null,null,null,28402,"0.0.0.0.0.166.41.184",true,false,true,false,false,3,0,false,0]
["item",21.1,"10176",null,null,null,"1 Year Extended Warranty (for concurrent sales) SURTA1500RMXL2U or SURTD5000RMXLT (Brings total warranty to 3 years)","WBEXTWAR1YR-SP-05",null,"standard material","physical","APC","EA",284.10000000000002,0,"DWC",6810,"Order 1 for each SURTA1500RMXL2U or SURTD5000RMXLT UPS","Kyle M. Daniel",0,"DWC",true,4,"0.0.0.0.0.166.57.92",1,7,null,966,null,null,null,28403,"0.0.0.0.0.166.41.187",true,false,true,false,false,3,0,false,0]
["item",21.1,"1018-1CLW","983",null,null,"APC smart -UPS RT, 5000VA/3500W, Input 208V, Interface port DB-25 RS-232, Smart Slot, Extended runtime model, 3 RU.","SURTD5000RMXLT",null,"standard material","physical","APC","EA",3064.05,0,"DWC",6810,"3500 Watts / 5000 VA, Input 208V / Output 208V, Extended runtime model\r\nINPUT: NEMA L6-30P\r\nOUTPUT: (2) NEMA L6-20R, (2) NEMA L6-30R ","Kyle M. Daniel",0,"DWC",true,4,"0.0.0.0.0.166.57.95",1,7,null,563,null,null,null,27765,"0.0.0.0.0.166.41.190",true,false,true,false,false,3,1]
["item",21.1,"1018-1CLX",985,null,null,"APC Smart-UPS RT, 1050 Watts / 1500 VA, Input 120V / Output 120V, Interface Port DB-9 RS-232, Smart-Slot, USB, Extended runtime model, Rack Height 2RU","SURTA1500RMXL2U",null,"standard material","physical","APC","EA",900.9,0,"DWC",6810,"1050 Watts / 1500 VA, Input 120V / Output 120V\r\nExtended runtime model\r\nINPUT: NEMA 5-15P, OUTPUT: (6) NEMA 5-15R ","Kyle M. Daniel",0,"DWC",true,4,"0.0.0.0.0.166.57.98",1,7,null,564,null,null,null,27766,"0.0.0.0.0.166.41.193",true,false,true,false,false,3,1]
["item",21.1,"10274",null,null,null,"APC Smart-UPS RT, 2100 Watts/3000VA, Rack Mount/Tower Mount, Input 120V, L5-30P/Output 120V, (6) 5-15R, (2) 5-20R, Smart Slot-NO Card, Order WEB/SNMP Card #AP9630, Rack Height 3RU","SURTA3000RMXL3U","See Ordering Guidelines","standard material","physical","APC","EA",1980,0,"DWC",6810,"Order Extended Warranty #WBEXTWAR1YR-SP-05\r\nOrder Extended Run Batteries #SURTA48RMXLBP if required. Determine Qnty.\r\nUnit replacement batteries (1) #RBC44\r\nUnit ONLY Runtime; 1/2 Load (1050W) 33.9 min/Full Load (2100W) 14.1 min.\r\n","Kyle M. Daniel",0,"DWC",true,4,"0.0.0.0.0.166.57.101",1,7,null,1299,null,null,null,29342,"0.0.0.0.0.166.41.196",true,false,true,false,false,3,1,false,0]
["item",21.1,"10275",null,null,null,"APC Smart-UPS RT, 4000 Watts/5000VA, Rack Mount/Tower Mount, Input 208V, L14-30P/Output 120V, (4) 5-15R, (1) L14-30R, (1) L6-30, Smart Slot-Inclds Card WEB/SNMP Card #AP9619, Rack Height 3RU","SURTD5000RMXLP3U","See Ordering Guidelines","standard material","physical","APC","EA",3690,0,"DWC",6810,"Order Extended Warranty #WBEXTWAR1YR-SP-06\r\nOrder Extended Run Batteries #SURTA192RMXLBP3U if required. Determine Qnty.\r\nUnit replacement batteries (1) #RBC44\r\nUnit ONLY Runtime; 1/2 Load (2000W) 15.1 min/Full Load (4000W) 4.8 min.\r\n","Kyle M. Daniel",0,"DWC",true,4,"0.0.0.0.0.166.57.104",1,7,null,1300,null,null,null,29343,"0.0.0.0.0.166.41.199",true,false,true,false,false,3,1,false,0]
["item",21.1,"10276",null,null,null,"APC Smart-UPS RT, 2100 Watts/3000VA, Rack Mount/Tower Mount, Input 208V, L6-30P/Output 208V, (2) L6-20R, (2) L6-30R,Smart Slot-No Card, Order WEB/SNMP Card #AP9630, Rack Height 3RU","SURTD3000RMXLT3U","See Ordering Guidelines","standard material","physical","APC","EA",1980,0,"DWC",6810,"Order Extended Warranty #WBEXTWAR1YR-SP-05\r\nOrder Extended Run Batteries #SURTA192RMXLBP3U if required. Determine Qnty.\r\nUnit replacement batteries (1) #RBC44\r\nUnit ONLY Runtime; 1/2 Load (1050W) 33.9 min/Full Load (2100W) 14.1 min.\r\n","Kyle M. Daniel",0,"DWC",true,4,"0.0.0.0.0.166.57.107",1,7,null,1301,null,null,null,29344,"0.0.0.0.0.166.41.202",true,false,true,false,false,3,1,false,0]
["item",21.1,"10277",null,null,null,"APC Smart-UPS RT, 4000 Watts/5000VA, Rack Mount/Tower Mount, Input 208V, L6-30P/Output 208V, (2) L6-20R, (2) L6-30R, Smart Slot-Inclds Card WEB/SNMP Card #AP9619, Rack Height 3RU","SURTD5000RMXLT3U","See Ordering Guidelines","standard material","physical","APC","EA",3195,0,"DWC",6810,"Order Extended Warranty #WBEXTWAR1YR-SP-06\r\nOrder Extended Run Batteries #SURTA192RMXLBP3U if required. Determine Qnty.\r\nUnit replacement batteries (1) #RBC44\r\nUnit ONLY Runtime; 1/2 Load (1750W) 18.0 min/Full Load (3500W) 6.3 min.\r\n","Kyle M. Daniel",0,"DWC",true,4,"0.0.0.0.0.166.57.110",1,7,null,1302,null,null,null,29345,"0.0.0.0.0.166.41.205",true,false,true,false,false,3,1,false,0]
["item",21.1,"10278",null,null,null,"APC Smart-UPS RT, 4200 Watts/6000VA, Rack Mount/Tower Mount, Input 208V, L6-30P/Output 208V, (2) L6-20R, (2) L6-30R, Smart Slot-Inclds Card WEB/SNMP Card #AP9619, Rack Height 3RU","SURT6000RMXLT3U","See Ordering Guidelines","standard material","physical","APC","EA",3510,0,"DWC",6810,"Order Extended Warranty #WBEXTWAR1YR-SP-05\r\nOrder Extended Run Batteries #SURTA192RMXLBP3U if required. Determine Qnty.\r\nUnit replacement batteries (1) #RBC44\r\nUnit ONLY Runtime; 1/2 Load (2100W) 15.8 min/Full Load (4200W) 5.3 min.\r\n","Kyle M. Daniel",0,"DWC",true,4,"0.0.0.0.0.166.57.113",1,7,null,1303,null,null,null,29346,"0.0.0.0.0.166.41.208",true,false,true,false,false,3,1,false,0]
["item",21.1,"10279",null,null,null,"APC Smart-UPS RT, 6400 Watts/8000VA, Rack Mount/Tower Mount, Input 208V-240V, Hard Wire, 3 Wire-2PH + G/Output 208V, (1) Hard Wire, 3 Wire-2PH + G, (2) L6-20R, (2) L6-30R, Smart Slot-Inclds Card WEB/SNMP Card #AP9619, Rack Height 6RU","SURT8000RMXLT6U","See Ordering Guidelines","standard material","physical","APC","EA",4455,0,"DWC",6810,"Order Extended Warranty #WBEXTWAR1YR-SP-06\r\nOrder Extended Run Batteries #SURTA192RMXLBP3U if required. Determine Qnty.\r\nUnit replacement batteries (2) #RBC44\r\nUnit ONLY Runtime; 1/2 Load (3200W) 20.0 min/Full Load (6400W) 7.3 min.\r\n","Kyle M. Daniel",0,"DWC",true,4,"0.0.0.0.0.166.57.116",1,7,null,1304,null,null,null,29347,"0.0.0.0.0.166.41.211",true,false,true,false,false,3,1,false,0]
["item",21.1,"10280",null,null,null,"APC Smart-UPS RT, 8000 Watts/10000VA, Rack Mount/Tower Mount, Input 208V-240V, Hard Wire, 3 Wire-2PH + G/Output 208V, (1) Hard Wire, 3 Wire-2PH + G, (2) L6-20R, (2) L6-30R, Smart Slot-Inclds Card WEB/SNMP Card #AP9619, Rack Height 6RU","SURT10000RMXLT6U","See Ordering Guidelines","standard material","physical","APC","EA",5265,0,"DWC",6810,"Order Extended Warranty #WBEXTWAR1YR-SP-06\r\nOrder Extended Run Batteries #SURTA192RMXLBP3U if required. Determine Qnty.\r\nUnit replacement batteries (2) #RBC44\r\nUnit ONLY Runtime; 1/2 Load (4000W) 14.9 min/Full Load (8000W) 4.8 min.\r\n","Kyle M. Daniel",0,"DWC",true,4,"0.0.0.0.0.166.57.119",1,7,null,1305,null,null,null,29348,"0.0.0.0.0.166.41.214",true,false,true,false,false,3,1,false,0]
["item",21.1,"10281",null,null,null,"APC Smart-UPS RT, 12kW/15kVA, Rack Mount, Input 208V-240V, Hard Wire, 3 Wire-2PH + G/Output 208V, (1) Hard Wire, 3 Wire-2PH + G, (4) L6-20R, (2) L6-30R, Smart Slot-Inclds Card WEB/SNMP Card #AP9631, Rack Height 12RU","SURT15KRMXLT","See Ordering Guidelines","standard material","physical","APC","EA",9180,0,"DWC",6810,"Order Extended Warranty #WBEXTWAR1YR-SP-07\r\nOrder Extended Run Batteries #SURTA192RMXLBP3U if required. Determine Qnty.\r\nUnit replacement batteries; Total (4) #RBC44\r\nUnit ONLY Runtime; 1/2 Load (6000W) 22.4 min/Full Load (12000W) 8.3 min.\r\n","Kyle M. Daniel",0,"DWC",true,4,"0.0.0.0.0.166.57.122",1,7,null,1306,null,null,null,29349,"0.0.0.0.0.166.41.217",true,false,true,false,false,3,1,false,0]
["item",21.1,"10282",null,null,null,"APC Smart-UPS RT, 16kW/20kVA, Rack Mount, Input 208V-240V, Hard Wire, 3 Wire-2PH + G/Output 208V, (1) Hard Wire, 3 Wire-2PH + G, (4) L6-20R, (2) L6-30R, Smart Slot-Inclds Card WEB/SNMP Card #AP9631, Rack Height 12RU","SURT20KRMXLT","See Ordering Guidelines","standard material","physical","APC","EA",10350,0,"DWC",6810,"Order Extended Warranty #WBEXTWAR1YR-SP-07\r\nOrder Extended Run Batteries #SURTA192RMXLBP3U if required. Determine Qnty.\r\nUnit replacement batteries; Total (4) #RBC44\r\nUnit ONLY Runtime; 1/2 Load (8000W) 15.3 min/Full Load (16000W) 4.9 min.\r\n","Kyle M. Daniel",0,"DWC",true,4,"0.0.0.0.0.166.57.125",1,7,null,1307,null,null,null,29350,"0.0.0.0.0.166.41.220",true,false,true,false,false,3,1,false,0]
["item",21.1,"10283",null,null,null,"Service Pack 1 Year Warranty Extension (for new product purchases)","WBEXTWAR1YR-SP-06",null,"standard material","physical","APC","EA",593.1,0,"DWC",6810,null,"Kyle M. Daniel",0,"DWC",true,4,"0.0.0.0.0.166.57.128",1,7,null,1308,null,null,null,29351,"0.0.0.0.0.166.41.223",true,false,true,false,false,3,0,false,0]
["item",21.1,"10284",null,null,null,"Service Pack 1 Year Warranty Extension (for new product purchases)","WBEXTWAR1YR-SP-07",null,"standard material","physical","APC","EA",990,0,"DWC",6810,null,"Kyle M. Daniel",0,"DWC",true,4,"0.0.0.0.0.166.57.131",1,7,null,1309,null,null,null,29352,"0.0.0.0.0.166.41.226",true,false,true,false,false,3,0,false,0]
["item",21.1,"10286",null,null,null,"UPS APC WEB/SNMP Management Card","AP9630","See Ordering Guidelines","standard material","physical","APC","EA",255.87,0,"DWC",6810,"This Card is the replacement for discontinued #AP9617","Kyle M. Daniel",0,"DWC",true,4,"0.0.0.0.0.166.57.134",1,7,null,1310,null,null,null,29353,"0.0.0.0.0.166.41.229",true,false,true,false,false,3,0.1,false,0]
["item",21.1,"10517",null,null,null,"APC Smart-UPS X 2000VA Rack/Tower LCD 100-127V","SMX2000RMLV2U",null,"standard material","physical","APC","EA",1242.5,0,"DWC",6810,null,"Kyle M. Daniel",0,"DWC",true,4,"0.0.0.0.0.166.57.136",1,7,null,1608,null,null,null,31119,"0.0.0.0.0.166.57.135",true,false,true,false,false,3,0,false,0]
["item",21.1,"1063-0197",1042,null,null,"Extended Run Time Battery Pack, APC Smart-UPS RT 192V Rack Mounted 3RU","SURT192RMXLBP3U",null,"standard material","physical","APC","EA",930.6,0,"DWC",6810,"Extended Run Time Battery Pack for SURTD5000RMXLT, Equipped With Mounting Rails, 200 lbs.","Kyle M. Daniel",0,"DWC",true,4,"0.0.0.0.0.166.57.139",1,7,null,565,null,null,null,27767,"0.0.0.0.0.166.41.232",true,false,true,false,false,3,1]
["item",21.1,"INFO-8716","912",null,null,"APC Smart- UPS 1500VA, 2RU Rack Mounted, 120V (6) NEMA 5-15 outlets for use with Cisco 3750","SUA1500RM2U",null,"standard material","physical","APC","EA",596.08000000000004,0,"DWC",6810,"Template for Cisco 3750's.\r\n980 Watts / 1440 VA, Input 120V / Output 120V\r\nINPUT: NEMA 5-15P, OUTPUT: (6) NEMA 5-15R\r\nNote: This unit does not have an option for additional battery packs. If you require extended runtime for a 1500VA unit. Order APC # SURTA1500RMXL2U","Kyle M. Daniel",0,"DWC",true,4,"0.0.0.0.0.166.57.142",1,7,null,567,null,null,null,27769,"0.0.0.0.0.166.41.235",true,false,true,false,false,3,1]
["Header",23,"Multi Pair Cables"]
["item",23,"10036",null,null,null,"Multipair Cable Shield Bond Connector (Alligator Type)","4460-S",null,"standard material","physical",{"$f":"VLOOKUP(Z841,rngManufacturerLookup,2,FALSE)","v":"3M"},"EA",1.45,{"$f":"(E841*N841)","v":0},{"$f":"VLOOKUP(Y841,rngSupplierLookup,2,FALSE)","v":"DWC"},6810,"For Bonding and Grounding of metallic cable sheath in NON Plenum Multipair cables. Use only one at each end of the cable.","Kyle M. Daniel",{"$f":"(F841*N841)","v":0},"DWC",true,4,"0.0.0.0.0.166.57.145",1,1,null,967,null,null,null,28404,"0.0.0.0.0.166.41.238",true,false,true,false,false,3,0.2,false,0]
["item",23,"10098",null,null,null,"40ft. Cat 3 25 Pair Telco Cable, 180 male/dead end","DWT-25CAT3M/B-40",null,"standard material","horizontal","DWC","EA",59.2,0,"DWC",6810,"Typically used between pre-connectorized Cat.3 voice grade panels in racks and 110 blocks on voice backboard for analog phone connectivity.","Kyle M. Daniel",0,"DWC",true,4,"0.0.0.0.0.166.57.148",1,23,null,968,null,null,null,28405,"0.0.0.0.0.166.41.241",true,false,false,true,false,2,2,false,0]
["item",23,"10099",null,null,null,"50ft. Cat 3 25 Pair Telco Cable, 180 male/dead end","DWT-25CAT3M/B-50",null,"standard material","horizontal","DWC","EA",67.7,0,"DWC",6810,"Typically used between pre-connectorized Cat.3 voice grade panels in racks and 110 blocks on voice backboard for analog phone connectivity.","Kyle M. Daniel",0,"DWC",true,4,"0.0.0.0.0.166.57.151",1,23,null,969,null,null,null,28406,"0.0.0.0.0.166.41.244",true,false,false,true,false,2,2,false,0]
["item",23,"INFO-2478","119",null,null,"20ft Cat 3 25 pair Cable, 180 male/dead end","G32-V25PR-20G",null,"standard material","physical","Leviton","EA",8.81,0,"DWC",6810,"Typically used between pre-connectorized Cat.3 voice grade panels in racks and 110 blocks on voice backboard for analog phone connectivity.","Kyle M. Daniel",0,"DWC",true,4,"0.0.0.0.0.166.57.154",1,43,null,568,null,null,null,27770,"0.0.0.0.0.166.41.247",true,false,true,false,false,3,0.25,false,0]
["item",23,"INFO-2479","120",null,null,"25ft Cat 3 25 pair Cable, 180 male/dead end","G33-V25PR-25G",null,"standard material","physical","Leviton","EA",9.01,0,"DWC",6810,"Typically used between pre-connectorized Cat.3 voice grade panels in racks and 110 blocks on voice backboard for analog phone connectivity.","Kyle M. Daniel",0,"DWC",true,4,"0.0.0.0.0.166.57.157",1,43,null,569,null,null,null,27771,"0.0.0.0.0.166.41.250",true,false,true,false,false,3,0.25,false,0]
["item",23,"INFO-2480","121",null,null,"30ft Cat 3 25 pair Cable, 180 male/dead end","G34-V25PR-30G",null,"standard material","physical","Leviton","EA",11.1,0,"DWC",6810,"Typically used between pre-connectorized Cat.3 voice grade panels in racks and 110 blocks on voice backboard for analog phone connectivity.","Kyle M. Daniel",0,"DWC",true,4,"0.0.0.0.0.166.57.160",1,43,null,570,null,null,null,27772,"0.0.0.0.0.166.41.253",true,false,true,false,false,3,0.25,false,0]
["item",23,"INFO-5101","8",null,null,"24 AWG ANMW-25 PAIR OUTDOOR RATED CABLE","22-097-83","Actual Footage=","standard material","physical","Superior Essex","FT",0.8,0,"DWC",7593,"Suitable for installation into UG conduit or aerial lashed to messenger cable. Not for direct buried. ","Kyle M. Daniel",0,"DWC",true,5,"0.0.0.0.0.166.57.163",1,69,null,571,null,null,null,27773,"0.0.0.0.0.166.42.1",true,false,true,false,false,3,0.03,false,0]
["item",23,"INFO-5102","9",null,null,"24 AWG ARMM-25 PAIR RISER RATED CABLE","02-097-03","Actual Footage=","standard material","physical","Superior Essex","FT",0.77,0,"DWC",7593,null,"Kyle M. Daniel",0,"DWC",true,5,"0.0.0.0.0.166.57.166",1,69,null,572,null,null,null,27774,"0.0.0.0.0.166.42.4",true,false,true,false,false,3,0.04,false,0]
["item",23,"INFO-5103","10",null,null,"24 AWG ARMM-50 PAIR RISER RATED CABLE","02-100-03","Actual Footage=","standard material","physical","Superior Essex","FT",1.33,0,"DWC",7593,null,"Kyle M. Daniel",0,"DWC",true,5,"0.0.0.0.0.166.57.169",1,69,null,573,null,null,null,27775,"0.0.0.0.0.166.42.7",true,false,true,false,false,3,0.04,false,0]
["item",23,"INFO-5104","11",null,null,"24 AWG ARMM-100 PAIR RISER RATED CABLE","02-104-03","Actual Footage=","standard material","physical","Superior Essex","FT",2.4900000000000002,0,"DWC",7593,null,"Kyle M. Daniel",0,"DWC",true,5,"0.0.0.0.0.166.57.172",1,69,null,574,null,null,null,27776,"0.0.0.0.0.166.42.10",true,false,true,false,false,3,0.05,false,0]
["item",23,"INFO-5105","12",null,null,"24 AWG ARMM-200 PAIR RISER RATED CABLE","02-108-03","Actual Footage=","standard material","physical","Superior Essex","FT",4.8499999999999996,0,"DWC",7593,null,"Kyle M. Daniel",0,"DWC",true,5,"0.0.0.0.0.166.57.175",1,69,null,575,null,null,null,27777,"0.0.0.0.0.166.42.13",true,false,true,false,false,3,0.06,false,0]
["item",23,"INFO-5106","13",null,null,"24 AWG ARMM-300 PAIR RISER RATED CABLE","02-110-03","Actual Footage=","standard material","physical","Superior Essex","FT",7.13,0,"DWC",7593,null,"Kyle M. Daniel",0,"DWC",true,5,"0.0.0.0.0.166.57.178",1,69,null,576,null,null,null,27778,"0.0.0.0.0.166.42.16",true,false,true,false,false,3,0.06,false,0]
["item",23,"INFO-5107","14",null,null,"24 AWG ARMM-600 PAIR RISER RATED CABLE","02-116-03","Actual Footage=","standard material","physical","Superior Essex","FT",13.51,0,"DWC",7593,null,"Kyle M. Daniel",0,"DWC",true,5,"0.0.0.0.0.166.57.181",1,69,null,577,null,null,null,27779,"0.0.0.0.0.166.42.19",true,false,true,false,false,3,7.0000000000000007E-2,false,0]
["item",23,"INFO-5108","15",null,null,"24 AWG ARMM-900 PAIR RISER RATED CABLE","02-118-03","Actual Footage=","standard material","physical","Superior Essex","FT",20.87,0,"DWC",7593,null,"Kyle M. Daniel",0,"DWC",true,5,"0.0.0.0.0.166.57.184",1,69,null,578,null,null,null,27780,"0.0.0.0.0.166.42.22",true,false,true,false,false,3,0.08,false,0]
["item",23,"INFO-5109","16",null,null,"24 AWG ARMM-1200 PAIR RISER RATED CABLE","02-120-03","Actual Footage=","standard material","physical","Superior Essex","FT",27.55,0,"DWC",7593,null,"Kyle M. Daniel",0,"DWC",true,5,"0.0.0.0.0.166.57.187",1,69,null,579,null,null,null,27781,"0.0.0.0.0.166.42.25",true,false,true,false,false,3,0.08,false,0]
["item",23,"INFO-5110","17",null,null,"24 AWG ARMM-1800 PAIR RISER RATED CABLE","02-124-03","Actual Footage=","standard material","physical","Superior Essex","FT",40.4,0,"DWC",7593,null,"Kyle M. Daniel",0,"DWC",true,5,"0.0.0.0.0.166.57.190",1,69,null,580,null,null,null,27782,"0.0.0.0.0.166.42.28",true,false,true,false,false,3,0.1,false,0]
["item",23,"INFO-5111","18",null,null,"24 AWG PLENUM 25PR VOICE CABLE","18-475-36","Actual Footage=","standard material","physical","Superior Essex","FT",0.82,0,"DWC",7593,null,"Kyle M. Daniel",0,"DWC",true,5,"0.0.0.0.0.166.57.193",1,69,null,581,null,null,null,27783,"0.0.0.0.0.166.42.31",true,false,true,false,false,3,0.03,false,0]
["item",23,"INFO-5112","19",null,null,"24 AWG PLENUM 50PR VOICE CABLE","18-599-86","Actual Footage=","standard material","physical","Superior Essex","FT",1.58,0,"DWC",7593,null,"Kyle M. Daniel",0,"DWC",true,5,"0.0.0.0.0.166.57.196",1,69,null,582,null,null,null,27784,"0.0.0.0.0.166.42.34",true,false,true,false,false,3,0.04,false,0]
["item",23,"INFO-5113","20",null,null,"24 AWG PLENUM 100PR VOICE CABLE","18-799-86","Actual Footage=","standard material","physical","Superior Essex","FT",3.17,0,"DWC",7593,null,"Kyle M. Daniel",0,"DWC",true,5,"0.0.0.0.0.166.57.199",1,69,null,583,null,null,null,27785,"0.0.0.0.0.166.42.37",true,false,true,false,false,3,0.04,false,0]
["item",23,"INFO-5114","21",null,null,"24 AWG PLENUM 200PR VOICE CABLE","18-A99-86","Actual Footage=","standard material","physical","Superior Essex","FT",5.96,0,"DWC",7593,null,"Kyle M. Daniel",0,"DWC",true,5,"0.0.0.0.0.166.57.202",1,69,null,584,null,null,null,27786,"0.0.0.0.0.166.42.40",true,false,true,false,false,3,0.05,false,0]
["item",23,"INFO-5115","22",null,null,"24 AWG PLENUM 300PR VOICE CABLE","18-B99-86","Actual Footage=","standard material","physical","Superior Essex","FT",9.0500000000000007,0,"DWC",7593,null,"Kyle M. Daniel",0,"DWC",true,5,"0.0.0.0.0.166.57.205",1,69,null,585,null,null,null,27787,"0.0.0.0.0.166.42.43",true,false,true,false,false,3,0.05,false,0]
["item",23,"INFO-5116","23",null,null,"24 AWG PLENUM 400PR VOICE CABLE","230806","Actual Footage=","standard material","physical","Berk-Tek","FT",15.95,0,"DWC",7593,null,"Kyle M. Daniel",0,"DWC",true,5,"0.0.0.0.0.166.57.208",1,10,null,586,null,null,null,27788,"0.0.0.0.0.166.42.46",true,false,true,false,false,3,0.06]
["Header",24,"Protectors and Accessories"]
["item",24,"10019",null,null,null,"Building Entrance Protected Terminal, 100 Pair/110in/110out","1880ENA1/NSC-100",null,"standard material","horizontal",{"$f":"VLOOKUP(Z864,rngManufacturerLookup,2,FALSE)","v":"Circa"},"EA",355.3,{"$f":"(E864*N864)","v":0},{"$f":"VLOOKUP(Y864,rngSupplierLookup,2,FALSE)","v":"DWC"},6810,"Typically used on 110D floor frames or in panel type enclosures. Multipair Input/Multiple 4Pair Cables Output","Kyle M. Daniel",{"$f":"(F864*N864)","v":0},"DWC",true,4,"0.0.0.0.0.166.57.211",1,17,null,970,null,null,null,28407,"0.0.0.0.0.166.42.49",true,false,false,true,false,2,8,false,0]
["item",24,"10020",null,null,null,"Building Entrance Terminal, 25 Pair/110in/110out","1880ENA1/NSC-25",null,"standard material","horizontal","Circa","EA",103.6,0,"DWC",6810,null,"Kyle M. Daniel",0,"DWC",true,4,"0.0.0.0.0.166.57.214",1,17,null,971,null,null,null,28408,"0.0.0.0.0.166.42.52",true,false,false,true,false,2,2,false,0]
["item",24,"10021",null,null,null,"Building Entrance Terminal, 50 Pair/110in/110out","1880ENA1/NSC-50",null,"standard material","horizontal","Circa","EA",257.95,0,"DWC",6810,null,"Kyle M. Daniel",0,"DWC",true,4,"0.0.0.0.0.166.57.217",1,17,null,972,null,null,null,28409,"0.0.0.0.0.166.42.55",true,false,false,true,false,2,4,false,0]
["item",24,"10032",null,null,null,"Nema 4 (6) pair OSP 4000 Series Multipair Service Entrance Protector 110 Style. 110in/110out","4006-110",null,"standard material","horizontal","Circa","EA",175.1,0,"DWC",6810,"For outside plant applications","Kyle M. Daniel",0,"DWC",true,4,"0.0.0.0.0.166.57.220",1,17,null,973,null,null,null,28410,"0.0.0.0.0.166.42.58",true,false,false,true,false,2,0.05,false,0]
["item",24,"10033",null,null,null,"Nema 4 (25) pair OSP 4000 Series Multipair Service Entrance Protector 110 Style. 110in/110out","4025-110",null,"standard material","horizontal","Circa","EA",225.2,0,"DWC",6810,"For outside plant applications","Kyle M. Daniel",0,"DWC",true,4,"0.0.0.0.0.166.57.223",1,17,null,974,null,null,null,28411,"0.0.0.0.0.166.42.61",true,false,false,true,false,2,2,false,0]
["item",24,"10069",null,null,null,"4-Pair Cat5e Building Entrance Surge/Lightning Protector","AL-CAT5EW",null,"standard material","horizontal","Altelicon","EA",68.5,0,"DWC",6810,"Comes with Integrated Protector Cards, no fuses req'd. Use only in low density locations; Guard House etc.","Kyle M. Daniel",0,"DWC",true,4,"0.0.0.0.0.166.57.226",1,5,null,975,null,null,null,28412,"0.0.0.0.0.166.42.64",true,false,false,true,false,2,0.05,false,0]
["item",24,"10087",null,null,null,"Surge Protection Modules Solid State Low Voltage Series Data Applications (Red)","CIR-3B3S-30",null,"standard material","horizontal","Circa","EA",9.0500000000000007,0,"DWC",6810,"May be used for Cat5e cabling where data will be transmitted over cable. Not for voice applications","Kyle M. Daniel",0,"DWC",true,4,"0.0.0.0.0.166.57.229",1,17,null,976,null,null,null,28413,"0.0.0.0.0.166.42.67",true,false,false,true,false,2,0.05,false,0]
["item",24,"10097",null,null,null,"20ft. CAT 3 24awg 25 Pair Telco Cable, 90 Female/Blunt (Only for Shumway)","DWT-25CAT3F/B-20",null,"standard material","horizontal","DWC","EA",29.4,0,"DWC",6810,"Order (1) for each TC to Terminate on \"SHUMWAY\" Telephone Power Panel","Kyle M. Daniel",0,"DWC",true,4,"0.0.0.0.0.166.57.232",1,23,null,977,null,null,null,28414,"0.0.0.0.0.166.42.70",true,false,false,true,false,2,2,false,0]
["item",24,"10132",null,null,null,"25 Pair, Category 5e Building Entrance Surge/Lightning Protector ","ML25-CAT5-LAN",null,"standard material","horizontal","ITWLINX Communications Products","EA",444.7,0,"DWC",6810,"Comes with Intergrated Protector Cards, no fuses required","Kyle M. Daniel",0,"DWC",true,4,"0.0.0.0.0.166.57.235",1,42,null,978,null,null,null,28415,"0.0.0.0.0.166.42.73",true,false,false,true,false,2,2,false,0]
["item",24,"10160",null,null,null,"\"Shumway\" Telephone Fuse and Power Panel 24VDC 25 Outputs - via 50 pin male telco connector.","SBI 176-25-24",null,"standard material","horizontal","Shumway Brothers","EA",525,0,"DWC",6810,"ORDER (1) PER TC. FOR POWERING DIGITAL TELEPHONE SETS. 8FT 120VAC 3 PRONG POWER CORD. REQUIRES 25 PAIR TELCO 90 FEMALE CONNECTOR/CAT3 CABLE.","Kyle M. Daniel",0,"DWC",true,4,"0.0.0.0.0.166.57.238",1,62,null,979,null,null,null,28416,"0.0.0.0.0.166.42.76",true,false,false,true,false,2,2,false,0]
["item",24,"INFO-5201","422",null,null,"Building Entrance Protected Terminal, 25 Pair/110  25FT. STUB","1880B1-25",null,"standard material","physical","Circa","EA",174.49,0,"DWC",6810,"Must Order One Each INFO 5204 for Each Copper Pair Being Protected","Kyle M. Daniel",0,"DWC",true,4,"0.0.0.0.0.166.57.241",1,17,null,587,null,null,null,27789,"0.0.0.0.0.166.42.79",true,false,true,false,false,3,2]
["item",24,"INFO-5202","423",null,null,"Building Entrance Protected Terminal, 6 Pair/110 In 110 Out","1880110US-6",null,"standard material","physical","Circa","EA",47.03,0,"DWC",6810,"Must Order One Each INFO 5204 for Each Copper Pair Being Protected","Kyle M. Daniel",0,"DWC",true,4,"0.0.0.0.0.166.57.244",1,17,null,588,null,null,null,27790,"0.0.0.0.0.166.42.82",true,false,true,false,false,3,0.5]
["item",24,"INFO-5203","424",null,null,"Building Entrance Protected Terminal, 100 Pair/110  25FT. STUB","1880B1-100",null,"standard material","physical","Circa","EA",381.15,0,"DWC",6810,"Must Order One Each INFO 5204 for Each Copper Pair Being Protected","Kyle M. Daniel",0,"DWC",true,4,"0.0.0.0.0.166.57.247",1,17,null,589,null,null,null,27791,"0.0.0.0.0.166.42.85",true,false,true,false,false,3,8]
["item",24,"INFO-5204","425",null,null,"3 Stage Gas Tube Surge Protector Unit","CT4B1E-BAL/PTC",null,"standard material","physical","Circa","EA",2.5299999999999998,0,"DWC",6810,"Used with CIRCA Building Entrance Terminals","Kyle M. Daniel",0,"DWC",true,4,"0.0.0.0.0.166.57.250",1,17,null,590,null,null,null,27792,"0.0.0.0.0.166.42.88",true,false,true,false,false,3,0.05]
["Header",25,"Video Cabling and Connectors"]
["item",25,"0119-C50F",986,null,null,"Non Plenum, RG-6, 3GHz, 75Ohm Coaxial Cable Series 1, 18 awg, Sheilded, PVC, Cable comes in 1000' reel ",5730,"Actual Footage=","standard material","physical",{"$f":"VLOOKUP(Z879,rngManufacturerLookup,2,FALSE)","v":"CommScope"},"EA",74.25,{"$f":"(E879*N879)","v":0},{"$f":"VLOOKUP(Y879,rngSupplierLookup,2,FALSE)","v":"DWC"},6810,"Use Thomas&Betts/LRC F56CS Connector.","Kyle M. Daniel",{"$f":"(F879*N879)","v":0},"DWC",true,4,"0.0.0.0.0.166.57.253",1,19,null,591,null,null,null,27793,"0.0.0.0.0.166.42.91",true,false,true,false,false,4,0.01]
["item",25,"0119-C50G",987,null,null,"Non-Plenum, RG-11 Satellite 75 Ohm Coaxial Cable, 14 awg, Sheilded, PVC, Cable comes in 1000' reel ",5916,"Actual Footage=","standard material","physical","CommScope","EA",207.9,0,"DWC",6810,"Use Thomas&Betts/LRC F11QS Connector.","Kyle M. Daniel",0,"DWC",true,4,"0.0.0.0.0.166.58.1",1,19,null,592,null,null,null,27794,"0.0.0.0.0.166.42.94",true,false,true,false,false,4,0.01]
["item",25,"0119-C50H",988,null,null,"Plenum, RG-11 Satellite 75 Ohm Coaxial Cable, 14 awg, Sheilded, CMP, Cable comes in 1000' reel ","2285K","Actual Footage=","standard material","physical","CommScope","EA",1128.5999999999999,0,"DWC",6810,"Use Thomas&Betts/LRC PL11CS Connector.","Kyle M. Daniel",0,"DWC",true,4,"0.0.0.0.0.166.58.4",1,19,null,593,null,null,null,27795,"0.0.0.0.0.166.42.97",true,false,true,false,false,4,0.01]
["item",25,"0119-C50J",999,null,null,"Plenum, RG6, 3Ghz, 75Ohm Coaxial Cable, 18 awg, Sheilded, CMP, Cable comes in 1000' reel ","2275V","Actual Footage=","standard material","physical","CommScope","EA",358.38,0,"DWC",6810,"Use Thomas&Betts/LRC PL56CS Connector.","Kyle M. Daniel",0,"DWC",true,4,"0.0.0.0.0.166.58.7",1,19,null,594,null,null,null,27796,"0.0.0.0.0.166.42.100",true,false,true,false,false,4,0.01]
["item",25,"0119-C50K",1007,null,null,"Angle Polished ASC, SM, Video Fiber Pigtail, 900 um, 2Meter, Simplex","C203278-002",null,"standard material","physical","AFL","EA",9.31,0,"DWC",6810,"For all CATV Video Fiber Terminations in Polimod Housings","Kyle M. Daniel",0,"DWC",true,4,"0.0.0.0.0.166.58.10",1,2,null,595,null,null,null,27797,"0.0.0.0.0.166.42.103",true,false,true,false,false,4,0.5]
["item",25,"0139-439Y",994,null,null,"RG-6 & RG-59 Replacement Blades for SCPT-6591PL Cable Stripping Tool, 10/PKG, used for  Plenum Cable ONLY","RBC-6590PL",null,"standard material","physical","Cable Prep","EA",5.35,0,"DWC",6810,"Use to strip Commscope All RG-6 and RG-59 Cables (SCPT-6591PL Strip Tool)","Kyle M. Daniel",0,"DWC",true,4,"0.0.0.0.0.166.58.13",1,13,null,596,null,null,null,27798,"0.0.0.0.0.166.42.106",true,false,true,false,false,4,0]
["item",25,"0139-43A0",995,null,null,"RG-11 Replacement Blades for SCPT-6591PL Cable Stripping Tool, 10/PKG, Plenum Cable ONLY","RBC-1100PL",null,"standard material","physical","Cable Prep","EA",6.02,0,"DWC",6810,"Use to strip Commscope 2285K RG-11 Plenum cable (SCPT-6591PL Strip Tool)","Kyle M. Daniel",0,"DWC",true,4,"0.0.0.0.0.166.58.16",1,13,null,597,null,null,null,27799,"0.0.0.0.0.166.42.109",true,false,true,false,false,4,0]
["item",25,"0139-43A1",996,null,null,"RG-11 Replacement Blades for SCPT-6591PL Cable Stripping Tool, 10/PKG, Non-Plenum Cable ONLY","RBC-1100",null,"standard material","physical","Cable Prep","EA",55.69,0,"DWC",6810,"Use to strip Commscope 5916 RG-11 Non Plenum cable (SCPT-6591PL Strip Tool)","Kyle M. Daniel",0,"DWC",true,4,"0.0.0.0.0.166.58.19",1,13,null,598,null,null,null,27800,"0.0.0.0.0.166.42.112",true,false,true,false,false,4,0]
["item",25,"0207-GD29",989,null,null,"RG-6 Connector, 1-piece male crimp-on, for Commscope 2275V RG-6 Plenum cable","PL56CS",null,"standard material","physical","Thomas & Betts Corp.","EA",0.39,0,"DWC",6810,"Thomas&Betts/LRC connector-use CablePrep SCPT-6591PL Strip Tool and CablePrep HCT-659 Crimp Tool (.260 hex)","Kyle M. Daniel",0,"DWC",true,4,"0.0.0.0.0.166.58.22",1,72,null,599,null,null,null,27801,"0.0.0.0.0.166.42.115",true,false,true,false,false,4,0.2,false,0]
["item",25,"0207-GD2A",990,null,null,"Multi-Fit \"F\" type connectors are designed to fit a wide range of manufacturers RG-6 and RG-59 coax cables.","AMF6",null,"standard material","physical","Thomas & Betts Corp.","EA",0.24,0,"DWC",6810,"Order for RG-59 2020K Cable Only. Installation requires .324\" - .360\" (Series 59 and 6) hex crimp tools.","Kyle M. Daniel",0,"DWC",true,4,"0.0.0.0.0.166.58.25",1,72,null,600,null,null,null,27802,"0.0.0.0.0.166.42.118",true,false,true,false,false,4,0.2,false,0]
["item",25,"0207-GD2F",991,null,null,"RG-11 Connector, 1-piece male crimp-on, for Commscope 2285K RG-11 Plenum cable","PL11CS",null,"standard material","physical","Thomas & Betts Corp.","EA",2.0299999999999998,0,"DWC",6810,"Thomas&Betts/LRC Connector-use CablePrep SCPT-6591PL Cable Strip Tool and HCT-211 Hex Crimp Tool","Kyle M. Daniel",0,"DWC",true,4,"0.0.0.0.0.166.58.28",1,72,null,601,null,null,null,27803,"0.0.0.0.0.166.42.121",true,false,true,false,false,4,0.2,false,0]
["item",25,"0207-GD2G",992,null,null,"RG-11 Connector, 1-piece male crimp-on. for Commscope 5916 RG-11 Non-Plenum cable","F11QS",null,"standard material","physical","Thomas & Betts Corp.","EA",1.63,0,"DWC",6810,"Thomas&Betts/LRC Connector-use CablePrep SCPT-6591PL Strip Tool and HCT-211 Crimp Tool","Kyle M. Daniel",0,"DWC",true,4,"0.0.0.0.0.166.58.31",1,72,null,602,null,null,null,27804,"0.0.0.0.0.166.42.124",true,false,true,false,false,4,0.2,false,0]
["item",25,"0236-027K",997,null,null,"RG-6/RG-59, Hex Crimp Tool for Thomas&Betts/LRC PL56CS & F56CH connectors","HCT-659",null,"standard material","physical","Cable Prep","EA",25.59,0,"DWC",6810,"For 0.324\" (RG-6) and 0.262\" (RG-59) hex crimps","Kyle M. Daniel",0,"DWC",true,4,"0.0.0.0.0.166.58.34",1,13,null,603,null,null,null,27805,"0.0.0.0.0.166.42.127",true,false,true,false,false,4,0]
["item",25,"0236-027L",998,null,null,"RG-11, Hex Crimp Tool for Thomas&Betts/LRC PL11CS & PL11QS RG-11 connectors","HCT-211",null,"standard material","physical","Cable Prep","EA",29.81,0,"DWC",6810,"For 0.475\" hex cable crimp and 0.096\" hex contact crimp. (Note: \"contact crimp\" for 2 pc. Connectors)","Kyle M. Daniel",0,"DWC",true,4,"0.0.0.0.0.166.58.37",1,13,null,604,null,null,null,27806,"0.0.0.0.0.166.42.130",true,false,true,false,false,4,0]
["item",25,"0528-5K2A",1003,null,null,"Module, Cassette Splice, (3) APC/SC SM Green Duplex Bulkhead Coupler PoliMod Patch & Splice Module for 6 fiber splices and terminations, includes (6) 40mm splice protectors","FM000711",null,"standard material","physical","AFL","EA",139.59,0,"DWC",6810,"Complete Polimod Kit for Angle Polished Video Terminations (Broadcast CATV)","Kyle M. Daniel",0,"DWC",true,4,"0.0.0.0.0.166.58.40",1,2,null,142,null,null,null,27344,"0.0.0.0.0.166.42.133",true,false,true,false,false,3,0.1,false,0]
["item",25,"0528-5K2F",1004,null,null,"Module, Cassette Splice, (6) APC/SC SM Green Duplex Bulkhead Coupler PoliMod Patch & Splice Module for 12 fiber splices and terminations, includes (12) 40mm splice protectors","FM000712",null,"standard material","physical","AFL","EA",177.31,0,"DWC",6810,"Complete Polimod Kit for Angle Polished Video Terminations (Broadcast CATV)","Kyle M. Daniel",0,"DWC",true,4,"0.0.0.0.0.166.58.43",1,2,null,143,null,null,null,27345,"0.0.0.0.0.166.42.136",true,false,true,false,false,3,0.1,false,0]
["item",25,"0528-5K2G",1005,null,null,"Module, Cassette Splice, (9) APC/SC SM Green Duplex Bulkhead Coupler Double-Wide PoliMod Patch & Splice Module for 18 fiber splices and terminations, includes (18) splice protectors","FM000713",null,"standard material","physical","AFL","EA",291.26,0,"DWC",6810,"Complete Polimod Kit for Angle Polished Video Terminations (Broadcast CATV)","Kyle M. Daniel",0,"DWC",true,4,"0.0.0.0.0.166.58.46",1,2,null,144,null,null,null,27346,"0.0.0.0.0.166.42.139",true,false,true,false,false,3,0.1,false,0]
["item",25,"0811-085X",993,null,null,"Strip Tool for RG-6 and RG-11 Plenum coaxial cable","SCPT-6591PL",null,"standard material","physical","Cable Prep","EA",39.94,0,"DWC",6810,"Cable stripping tool for Commscope 2275V RG-6 plenum cable and Commscope 2285K RG-11 plenum cable","Kyle M. Daniel",0,"DWC",true,4,"0.0.0.0.0.166.58.49",1,13,null,605,null,null,null,27807,"0.0.0.0.0.166.42.142",true,false,true,false,false,4,0]
["item",25,"10040",null,null,null,"Cat. 5e UTP Station Wire, 1000' reel plenum in box 350 MHz. (Green for Video)","5504M-GREEN","Actual Footage=","standard material","horizontal","CommScope","BOX",187.75,0,"DWC",7593,"Plenum Space, Use for all Video drops when also installing RF Coax for Broadcast CATV","Kyle M. Daniel",0,"DWC",true,2,"0.0.0.0.0.166.58.52",1,19,null,980,null,null,null,28417,"0.0.0.0.0.166.42.145",true,false,false,true,false,4,3,false,0]
["item",25,"10042",null,null,null,"Cat. 5e UTP Station Wire, 1000' reel non-plenum in box 350 MHz. (Green for Video)","55N4R-GREEN","Actual Footage=","standard material","horizontal","CommScope","BOX",98.14,0,"DWC",7593,"NON Plenum Space. Use for all Video Drops when also installing RF Coax for broadcast CATV","Kyle M. Daniel",0,"DWC",true,2,"0.0.0.0.0.166.58.55",1,19,null,981,null,null,null,28418,"0.0.0.0.0.166.42.148",true,false,false,true,false,4,3,false,0]
["item",25,"10044",null,null,null,"Quickport Cat 5e+ Jack, GREEN (Video)","5G110-RV5",null,"standard material","horizontal","Leviton","EA",3.11,0,"DWC",6810,"All video outlets must have a Cat.5e cable terminated as well as the RF port.","Kyle M. Daniel",0,"DWC",true,4,"0.0.0.0.0.166.58.58",1,43,null,982,null,null,null,28419,"0.0.0.0.0.166.42.151",true,false,false,true,false,4,0.1,false,0]
["item",25,"10321",null,null,null,"\"Fuse Connect\", Fusion Spliced Field Terminated Connector, ASC, SM, 900um, Green","CS004517",null,"standard material","physical","AFL","EA",16.8,0,"DWC",6810,null,"Kyle M. Daniel",0,"DWC",true,4,"0.0.0.0.0.166.58.61",1,2,null,1399,null,null,null,29955,"0.0.0.0.0.166.42.154",true,false,true,false,false,4,0.1,false,0]
["item",25,"10322",null,null,null,"ASC Coupler Panel 12 Position 12 Simplex, LGX 170, - Green Angle Polish for 5RU, Fiber Panel, White","C215854",null,"standard material","physical","AFL","EA",46.95,0,"DWC",6810,null,"Kyle M. Daniel",0,"DWC",true,4,"0.0.0.0.0.166.58.64",1,2,null,1400,null,null,null,29956,"0.0.0.0.0.166.42.157",true,false,true,false,false,4,0.1,false,0]
["item",25,"10323",null,null,null,"ASC Coupler Panel 12 Position 6 Duplex, LGX 118, - Green Angle Polish for 3RU, Fiber Panel, White","FM002634",null,"standard material","physical","AFL","EA",47.9,0,"DWC",6810,null,"Kyle M. Daniel",0,"DWC",true,4,"0.0.0.0.0.166.58.67",1,2,null,1401,null,null,null,29957,"0.0.0.0.0.166.42.160",true,false,true,false,false,4,0.1,false,0]
["item",25,"10326",null,null,null,"Adapter Plate, 6-position (3-duplex), ASC, angle polished, green (Video) (Non Polimod Coupler Panels)","FM000115",null,"standard material","physical","AFL","EA",21.73,0,"DWC",6810,null,"Kyle M. Daniel",0,"DWC",true,4,"0.0.0.0.0.166.58.70",1,2,null,1402,null,null,null,29958,"0.0.0.0.0.166.42.163",true,false,true,false,false,4,0.1,false,0]
["item",25,"1317-000W",1000,null,null,"Green Angle Polished APC/SC Duplex Flangeless Bulkhead for Polimod\r\n(Replaces Blue Duplex Bulkhead for CATV Use)","CS000470",null,"standard material","physical","AFL","EA",6.53,0,"DWC",6810,"Accomodates (2) fiber strands. Used for Video Applications and Only on Polimods. Not for regular coupler panels.","Kyle M. Daniel",0,"DWC",true,4,"0.0.0.0.0.166.58.73",1,2,null,149,null,null,null,27351,"0.0.0.0.0.166.42.166",true,false,true,false,false,3,0.1,false,0]
["item",25,"INFO-6103","429",null,null,"RG-59 Plenum Coaxial Cable","2020K","Actual Footage=","standard material","physical","CommScope","FT",0.26,0,"DWC",6810,"Do Not use for CATV Video Drops","Kyle M. Daniel",0,"DWC",true,5,"0.0.0.0.0.166.58.76",1,19,null,606,null,null,null,27808,"0.0.0.0.0.166.42.169",true,false,true,false,false,4,0.01]
["Header",27,"Video Electronics and Accessories"]
["item",27,"0978-006T",1002,null,null,"APC/SC Laser Optic Port Terminator","C148828",null,"standard material","physical",{"$f":"VLOOKUP(Z907,rngManufacturerLookup,2,FALSE)","v":"AFL"},"EA",12.08,{"$f":"(E907*N907)","v":0},{"$f":"VLOOKUP(Y907,rngSupplierLookup,2,FALSE)","v":"DWC"},6810,"Laser Optic Port Termination for 5504 Broadcast Video Transmitter. Order (1) for All Unused Optic Ports ","Kyle M. Daniel",{"$f":"(F907*N907)","v":0},"DWC",true,4,"0.0.0.0.0.166.58.79",1,2,null,607,null,null,null,27809,"0.0.0.0.0.166.42.172",true,false,true,false,false,4,0.5]
["item",27,"10103",null,null,null,"Clip-On Variable Fiber Optic Attenuator, Adjustable Attenuation of 0 to >47dB at 1550nm","F10045",null,"standard material","physical","Fiber Instruments","EA",61.2,0,"DWC",6810,"Order (1) for each CATV PFC-24 Fiber Receiver","Kyle M. Daniel",0,"DWC",true,4,"0.0.0.0.0.166.58.82",1,29,null,983,null,null,null,28420,"0.0.0.0.0.166.42.175",true,false,true,false,false,4,0.5,false,0]
["item",27,"INFO-4520","878",null,null,"LightLink LANSystem CON0144P 12 pack 6 duplex APC green adapters SM ceramic White Panel/Video","FM000153",null,"standard material","physical","AFL","EA",47.52,0,"DWC",6810,"Used at MC or Video HE for ALL congregated APC CATV Fiber Terminations","Kyle M. Daniel",0,"DWC",true,4,"0.0.0.0.0.166.58.85",1,2,null,608,null,null,null,27810,"0.0.0.0.0.166.42.178",true,false,true,false,false,4,6]
["item",27,"INFO-6105","640",null,null,"6 Strand, SM Fiber Pigtail, Circular Premise Cable, Riser, APC/SC-Blunt, 3Meter","ASC-XXX-RC-006-Q-0003",null,"standard material","physical","AFL","EA",32.619999999999997,0,"DWC",6810,null,"Kyle M. Daniel",0,"DWC",true,4,"0.0.0.0.0.166.58.88",1,2,null,609,null,null,null,27811,"0.0.0.0.0.166.42.181",true,false,true,false,false,4,0.01]
["item",27,"INFO-6106","641",null,null,"2 Strand SM, Duplex Fiber Pigtail 3.0mm Plenum zipcord, APC/SC-Blunt, 3Meter, ","ASC-XXX-PZ-002-Q-0003",null,"standard material","physical","AFL","EA",17.57,0,"DWC",6810,null,"Kyle M. Daniel",0,"DWC",true,4,"0.0.0.0.0.166.58.91",1,2,null,610,null,null,null,27812,"0.0.0.0.0.166.42.184",true,false,true,false,false,4,0.01]
["item",27,"INFO-6202","877",null,null,"L-Band Fiber Receiver 1550nm Trunk System, 1RU","DN1R",null,"standard material","physical","Onepathnet","EA",1927.53,0,"DWC",6810,"Input Signal Level Range is +1.5 to +3 dBm. Generally installed in Campus type environments","Kyle M. Daniel",0,"DWC",true,4,"0.0.0.0.0.166.58.94",1,55,null,611,null,null,null,27813,"0.0.0.0.0.166.42.187",true,false,true,false,false,4,1,false,0]
["item",27,"INFO-6203","469",null,null,"SM Simplex Video Fiber Patch Cord, 3.0mm Plenum, ASC/ASC, Angle Polished, 5 Meters ","ASC-ASC-PS-001-Q-0005",null,"standard material","physical","AFL","EA",11.14,0,"DWC",6810,"For connections to (4) and (8) Port 5508 CATV Fiber Transmitters","Kyle M. Daniel",0,"DWC",true,4,"0.0.0.0.0.166.58.97",1,2,null,612,null,null,null,27814,"0.0.0.0.0.166.42.190",true,false,true,false,false,4,0.1]
["item",27,"INFO-6205","434",null,null,"Terminator, FC/APC for Old Model 5508-X (CATV Optical Fiber Transmitters)","C082562",null,"standard material","physical","AFL","EA",8.4600000000000009,0,"DWC",6810,"Used for early installations of 5508-8 (8) Port Fiber CATV Transmitters","Kyle M. Daniel",0,"DWC",true,4,"0.0.0.0.0.166.58.100",1,2,null,613,null,null,null,27815,"0.0.0.0.0.166.42.193",true,false,true,false,false,4,0.05]
["item",27,"INFO-6206","638",null,null,"4 Port CATV Optical Fiber Transmitter, 2.4 Ghz - High Power Singlemode SC/APC, 2RU","5508-4HP",null,"standard material","physical","Onepathnet","EA",5140.08,0,"DWC",6810,"Typical Template Use. Fiber Loss Budget for this unit = 4.5db +/- .05db","Kyle M. Daniel",0,"DWC",true,4,"0.0.0.0.0.166.58.103",1,55,null,614,null,null,null,27816,"0.0.0.0.0.166.42.196",true,false,true,false,false,4,2,false,0]
["item",27,"INFO-6207","645",null,null,"24-Port Video Receiver, SM, APC/FC, 24 port fiber to coax cable distribution hub, 3RU","PFC24",null,"standard material","physical","Satellite Tracking Systems","EA",1509.75,0,"DWC",6810,"Typical Template Use. APC/FC Fiber input/Coax output, (8) coax ports 0-150ft, (16) coax ports 150-330ft.","Kyle M. Daniel",0,"DWC",true,4,"0.0.0.0.0.166.58.106",1,60,null,615,null,null,null,27817,"0.0.0.0.0.166.42.199",true,false,true,false,false,4,5,false,0]
["item",27,"INFO-6208","470",null,null,"SM Simplex Video Fiber Pigtail, 3.0mm Plenum, ASC/Blunt, Angle Polished, 10 Meters ","AFC-XXX-PS-001-Q-0010",null,"standard material","physical","AFL","EA",9.06,0,"DWC",6810,null,"Kyle M. Daniel",0,"DWC",true,4,"0.0.0.0.0.166.58.109",1,2,null,616,null,null,null,27818,"0.0.0.0.0.166.42.202",true,false,true,false,false,4,0.1]
["item",27,"INFO-6210","639",null,null,"8 Port CATV Optical Fiber Transmitter, 2.4 Ghz - Low Power Singlemode SC/APC, 2RU","5508-8",null,"standard material","physical","Onepathnet","EA",5140.08,0,"DWC",6810,"Only order for very short fiber distances i.e. tower risers more than 4 closets","Kyle M. Daniel",0,"DWC",true,4,"0.0.0.0.0.166.58.112",1,55,null,617,null,null,null,27819,"0.0.0.0.0.166.42.205",true,false,true,false,false,4,2,false,0]
["item",27,"INFO-6211","436",null,null,"Self-Terminating QuickPort \"F\" Connector adapter, ivory","G37-FCNTR-FIP",null,"standard material","physical","Leviton","EA",4.6399999999999997,0,"DWC",6810,"Template use for all CATV video outlets","Kyle M. Daniel",0,"DWC",true,4,"0.0.0.0.0.166.58.115",1,43,null,618,null,null,null,27820,"0.0.0.0.0.166.42.208",true,false,true,false,false,4,0.1,false,0]
["item",27,"INFO-8801","642",null,null,"ASC Duplex bulkhead couplers, angle polished, green (Video) (Non Polimod Coupler Panels)","CS000099",null,"standard material","physical","AFL","EA",3.59,0,"DWC",6810,"For replacement of individual \"Blue\" Duplex Couplers on Non Polimod Panels","Kyle M. Daniel",0,"DWC",true,4,"0.0.0.0.0.166.58.118",1,2,null,619,null,null,null,27821,"0.0.0.0.0.166.42.211",true,false,true,false,false,4,0.5]
["Header",28,"HP 5500 Series"]
["item",28,"10466",null,null,null,"HP A5800-24G-PoE Switch","JC099A",null,"standard material","electronic",{"$f":"VLOOKUP(Z922,rngManufacturerLookup,2,FALSE)","v":"HP"},"EA",3070,{"$f":"(E922*N922)","v":0},{"$f":"VLOOKUP(Y922,rngSupplierLookup,2,FALSE)","v":"HP"},0,null,"Michael J. Daniel",{"$f":"(F922*N922)","v":0},"NEC",true,4,"0.0.0.0.0.166.58.121",2,82,null,1552,null,null,null,31063,"0.0.0.0.0.166.42.214",true,true,false,false,false,1,0,true,24]
["item",28,"10467",null,null,null,"HP 5800-48G-PoE Switch","JC104A",null,"standard material","electronic","HP","EA",5758,0,"HP",0,null,"Michael J. Daniel",0,"NEC",true,4,"0.0.0.0.0.166.58.126",2,82,null,1553,null,null,null,31064,"0.0.0.0.0.166.42.219",true,true,false,false,false,1,0,true,48]
["item",28,"10468",null,null,null,"HP RPS1600 Redundant Power System","JG136A",null,"standard material","electronic","HP","EA",795,0,"HP",0,null,"Micheal J. Daniel",0,"NEC",true,4,"0.0.0.0.0.166.58.131",2,82,null,1554,null,null,null,31065,"0.0.0.0.0.166.42.224",true,true,false,false,false,1,0,false,0]
["item",28,"10469",null,null,null,"HP RPS1600 1600W AC Power Supply","JG137A",null,"standard material","electronic","HP","EA",604,0,"HP",0,null,"Michael J. Daniel",0,"NEC",true,4,"0.0.0.0.0.166.58.134",2,82,null,1555,null,null,null,31066,"0.0.0.0.0.166.42.227",true,true,false,false,false,1,0,false,0]
["item",28,"10470",null,null,null,"HP X290 1000 A JD5 2m RPS Cable","JD187A",null,"standard material","electronic","HP","EA",11,0,"HP",0,null,"Michael J. Daniel",0,"NEC",true,4,"0.0.0.0.0.166.58.137",2,82,null,1556,null,null,null,31067,"0.0.0.0.0.166.42.230",true,true,false,false,false,1,0,false,0]
["item",28,"10503",null,null,null,"HP 5500 150WAC Power Supply","JD362A",null,"standard material","electronic","HP","EA",172,0,"HP",0,null,"Michael J. Daniel",0,"NEC",true,4,"0.0.0.0.0.166.58.140",2,82,null,1557,null,null,null,31068,"0.0.0.0.0.166.42.233",true,true,false,false,false,1,0,false,0]
["item",28,"10504",null,null,null,"HP 5800-24G-SFP Switch","JC103A",null,"standard material","electronic","HP","EA",4989,0,"HP",0,null,"Michael J. Daniel",0,"NEC",true,4,"0.0.0.0.0.166.58.143",2,82,null,1558,null,null,null,31069,"0.0.0.0.0.166.42.236",true,true,false,false,false,1,0,true,24]
["Header",28.1,"HP 7500 Series"]
["item",28.1,"10505",null,null,null,"HP A7500 2800W AC Power Supply","JD219A",null,"standard material","electronic",{"$f":"VLOOKUP(Z930,rngManufacturerLookup,2,FALSE)","v":"HP"},"EA",1150,{"$f":"(E930*N930)","v":0},{"$f":"VLOOKUP(Y930,rngSupplierLookup,2,FALSE)","v":"HP"},0,null,"Michael J. Daniel",{"$f":"(F930*N930)","v":0},"NEC",true,4,"0.0.0.0.0.166.58.148",2,82,null,1559,null,null,null,31070,"0.0.0.0.0.166.42.241",true,true,false,false,false,1,0,false,0]
["item",28.1,"10506",null,null,null,"HP A7500 48-Port GbE SFP Module","JD211B",null,"standard material","electronic","HP","EA",4989,0,"HP",0,null,"Michael J. Daniel",0,"NEC",true,4,"0.0.0.0.0.166.58.151",2,82,null,1560,null,null,null,31071,"0.0.0.0.0.166.42.244",true,true,false,false,false,1,0,false,0]
["item",28.1,"10507",null,null,null,"HP 7500 1400W AC Power Supply","JD218A",null,"standard material","electronic","HP","EA",764,0,"HP",0,null,"Michael J. Daniel",0,"NEC",true,4,"0.0.0.0.0.166.58.154",2,82,null,1561,null,null,null,31072,"0.0.0.0.0.166.42.247",true,true,false,false,false,1,0,false,0]
["item",28.1,"10508",null,null,null,"HP 7500 8-port 10G SFP+ Module","JF290A",null,"standard material","electronic","HP","EA",6526,0,"HP",0,null,"Michael J. Daniel",0,"NEC",true,4,"0.0.0.0.0.166.58.157",2,82,null,1562,null,null,null,31073,"0.0.0.0.0.166.42.250",true,true,false,false,false,1,0,false,0]
["item",28.1,"10509",null,null,null,"HP 7500 768Gbps Fabric Module","JD220A",null,"standard material","electronic","HP","EA",6144,0,"HP",0,null,"Michael J. Daniel",0,"NEC",true,4,"0.0.0.0.0.166.58.160",2,82,null,1563,null,null,null,31074,"0.0.0.0.0.166.42.253",true,true,false,false,false,1,0,false,0]
["item",28.1,"10510",null,null,null,"HP 7500 24-port GbE SFP Module","JD203B",null,"standard material","electronic","HP","EA",2877,0,"HP",0,null,"Michael J. Daniel",0,"NEC",true,4,"0.0.0.0.0.166.58.163",2,82,null,1564,null,null,null,31075,"0.0.0.0.0.166.43.1",true,true,false,false,false,1,0,false,0]
["item",28.1,"10511",null,null,null,"HP 7500 48-port Gig-T Module","JD210A",null,"standard material","electronic","HP","EA",3687,0,"HP",0,null,"Michael J. Daniel",0,"NEC",true,4,"0.0.0.0.0.166.58.166",2,82,null,1565,null,null,null,31076,"0.0.0.0.0.166.43.4",true,true,false,false,false,1,0,false,0]
["item",28.1,"10512",null,null,null,"HP A7506 Switch Chassis","JD239B",null,"standard material","electronic","HP","EA",2688,0,"HP",0,null,"Michael J. Daniel",0,"NEC",true,4,"0.0.0.0.0.166.58.169",2,82,null,1566,null,null,null,31077,"0.0.0.0.0.166.43.7",true,true,false,false,false,1,0,false,0]
["item",28.1,"10513",null,null,null,"HP 7510 Switch Chassis","JD238B",null,"standard material","electronic","HP","EA",3456,0,"HP",0,null,"Michael J. Daniel",0,"NEC",true,4,"0.0.0.0.0.166.58.172",2,82,null,1567,null,null,null,31078,"0.0.0.0.0.166.43.10",true,true,false,false,false,1,0,false,0]
["Header",28.2,"HP GBIC's"]
["item",28.2,"10471",null,null,null,"HP X120 1G SFP LC LX Transceiver","JD119B",null,"standard material","electronic",{"$f":"VLOOKUP(Z940,rngManufacturerLookup,2,FALSE)","v":"HP"},"EA",323,{"$f":"(E940*N940)","v":0},{"$f":"VLOOKUP(Y940,rngSupplierLookup,2,FALSE)","v":"HP"},0,null,"Michael J. Daniel",{"$f":"(F940*N940)","v":0},"NEC",true,4,"0.0.0.0.0.166.58.175",2,82,null,1568,null,null,null,31079,"0.0.0.0.0.166.43.13",true,true,false,false,false,1,0,false,0]
["item",28.2,"10472",null,null,null,"HP X240 10G SFP+ to SFP+ 0.65m Direct Attach Copper Cable","JD095B",null,"standard material","electronic",{"$f":"VLOOKUP(Z941,rngManufacturerLookup,2,FALSE)","v":"HP"},"EA",71,{"$f":"(E941*N941)","v":0},{"$f":"VLOOKUP(Y941,rngSupplierLookup,2,FALSE)","v":"HP"},0,null,"Michael J. Daniel",{"$f":"(F941*N941)","v":0},"NEC",true,4,"0.0.0.0.0.166.58.178",2,82,null,1569,null,null,null,31080,"0.0.0.0.0.166.43.16",true,true,false,false,false,1,0,false,0]
["item",28.2,"10500",null,null,null,"HP X120 1G SFP LC SX Transceiver","JD118B",null,"standard material","electronic",{"$f":"VLOOKUP(Z942,rngManufacturerLookup,2,FALSE)","v":"HP"},"EA",163,{"$f":"(E942*N942)","v":0},{"$f":"VLOOKUP(Y942,rngSupplierLookup,2,FALSE)","v":"HP"},0,null,"Michael J. Daniel",{"$f":"(F942*N942)","v":0},"NEC",true,4,"0.0.0.0.0.166.58.181",2,82,null,1570,null,null,null,31081,"0.0.0.0.0.166.43.19",true,true,false,false,false,1,null,false,0]
["item",28.2,"10501",null,null,null,"HP X130 10G SFP+ LC SR Transceiver","JD092B",null,"standard material","electronic",{"$f":"VLOOKUP(Z943,rngManufacturerLookup,2,FALSE)","v":"HP"},"EA",726,{"$f":"(E943*N943)","v":0},{"$f":"VLOOKUP(Y943,rngSupplierLookup,2,FALSE)","v":"HP"},0,null,"Michael J. Daniel",{"$f":"(F943*N943)","v":0},"NEC",true,4,"0.0.0.0.0.166.58.184",2,82,null,1571,null,null,null,31082,"0.0.0.0.0.166.43.22",true,true,false,false,false,1,0,false,0]
["item",28.2,"10502",null,null,null,"HP X240 10G SFP+ to SFP+ 1.2m Direct Attach Copper Cable","JD096B",null,"standard material","electronic",{"$f":"VLOOKUP(Z944,rngManufacturerLookup,2,FALSE)","v":"HP"},"EA",79,{"$f":"(E944*N944)","v":0},{"$f":"VLOOKUP(Y944,rngSupplierLookup,2,FALSE)","v":"HP"},0,null,"Michael J. Daniel",{"$f":"(F944*N944)","v":0},"NEC",true,4,"0.0.0.0.0.166.58.187",2,82,null,1572,null,null,null,31083,"0.0.0.0.0.166.43.25",true,true,false,false,false,1,0,false,0]
["Header",28.3,"HP Miscellaneous"]
["item",28.3,"10498",null,null,null,"HP 1G Compact Flash","JD276A",null,"standard material","electronic",{"$f":"VLOOKUP(Z946,rngManufacturerLookup,2,FALSE)","v":"HP"},"EA",126,{"$f":"(E946*N946)","v":0},{"$f":"VLOOKUP(Y946,rngSupplierLookup,2,FALSE)","v":"HP"},0,null,"Michael J. Daniel",{"$f":"(F946*N946)","v":0},"NEC",true,4,"0.0.0.0.0.166.58.190",2,82,null,1573,null,null,null,31084,"0.0.0.0.0.166.43.28",true,true,false,false,false,1,0,false,0]
["item",28.3,"10499",null,null,null,"HP S200 512M Compact Flash","JD277A",null,"standard material","electronic",{"$f":"VLOOKUP(Z947,rngManufacturerLookup,2,FALSE)","v":"HP"},"EA",67,{"$f":"(E947*N947)","v":0},{"$f":"VLOOKUP(Y947,rngSupplierLookup,2,FALSE)","v":"HP"},0,null,"Michael J. Daniel",{"$f":"(F947*N947)","v":0},"NEC",true,4,"0.0.0.0.0.166.58.193",2,82,null,1574,null,null,null,31085,"0.0.0.0.0.166.43.31",true,true,false,false,false,1,0,false,0]
["Header",29,"Cisco Systems Enterprise Electronics"]
["item",29,"10183",null,null,null,"2Units ACE 4710 Hardware-1Gbps-1K SSL-100MbpsComp-5VC- 50App","ACE-4710-BAS-2PAK","Content Swich","standard material","electronic",{"$f":"VLOOKUP(Z949,rngManufacturerLookup,2,FALSE)","v":"Cisco"},"EA",23997.599999999999,{"$f":"(E949*N949)","v":0},{"$f":"VLOOKUP(Y949,rngSupplierLookup,2,FALSE)","v":"HP"},0,null,"Michael J. Daniel",{"$f":"(F949*N949)","v":0},"NEC",true,4,"0.0.0.0.0.166.58.196",2,18,null,1311,null,null,null,29354,"0.0.0.0.0.166.43.34",true,true,false,false,false,1,0,false,0]
["item",29,"10214",null,null,null,"Cisco NAM 2204 Appliance, 4x1GbE, RJ45","NAM2204-RJ45",null,"standard material","electronic",{"$f":"VLOOKUP(Z950,rngManufacturerLookup,2,FALSE)","v":"Cisco"},"EA",12147.75,{"$f":"(E950*N950)","v":0},{"$f":"VLOOKUP(Y950,rngSupplierLookup,2,FALSE)","v":"HP"},0,null,"Michael J. Daniel",{"$f":"(F950*N950)","v":0},"NEC",true,4,"0.0.0.0.0.166.58.199",2,18,null,1312,null,null,null,29355,"0.0.0.0.0.166.43.37",true,true,false,false,false,1,0,false,0]
["item",29,"10496",null,null,null,"CISCO 2 units of ACE 4710 Hardware-1Gbps-7500SSL-1GComp-20VC","ACE-4710-2PAK",null,"standard material","electronic",{"$f":"VLOOKUP(Z951,rngManufacturerLookup,2,FALSE)","v":"Cisco"},"EA",22497.75,{"$f":"(E951*N951)","v":0},{"$f":"VLOOKUP(Y951,rngSupplierLookup,2,FALSE)","v":"HP"},0,null,"Michael J. Daniel",{"$f":"(F951*N951)","v":0},"NEC",true,4,"0.0.0.0.0.166.58.202",2,18,null,1575,null,null,null,31086,"0.0.0.0.0.166.43.40",true,true,false,false,false,1,0,false,0]
["Header",30,"Cisco Firewalls"]
["item",30,"10210",null,null,null,"ASA 5540 Appliance with SW, HA, 4GE+1FE, 3DES/AES","ASA5540-BUN-K9",null,"standard material","electronic",{"$f":"VLOOKUP(Z953,rngManufacturerLookup,2,FALSE)","v":"Cisco"},"EA",6798,{"$f":"(E953*N953)","v":0},{"$f":"VLOOKUP(Y953,rngSupplierLookup,2,FALSE)","v":"HP"},0,null,"Michael J. Daniel",{"$f":"(F953*N953)","v":0},"NEC",true,4,"0.0.0.0.0.166.58.205",2,18,null,1313,null,null,null,29356,"0.0.0.0.0.166.43.43",true,true,false,false,false,1,0,false,0]
["item",30,"10211",null,null,null,"ASA 5500 Advanced Endpoint Assessment License for SSL VPN","ASA-ADV-END-SEC",null,"standard material","electronic",{"$f":"VLOOKUP(Z954,rngManufacturerLookup,2,FALSE)","v":"Cisco"},"EA",398,{"$f":"(E954*N954)","v":0},{"$f":"VLOOKUP(Y954,rngSupplierLookup,2,FALSE)","v":"HP"},0,null,"Michael J. Daniel",{"$f":"(F954*N954)","v":0},"NEC",true,4,"0.0.0.0.0.166.58.208",2,18,null,1314,null,null,null,29357,"0.0.0.0.0.166.43.46",true,true,false,false,false,1,0,false,0]
["item",30,"10212",null,null,null,"ASA 5500 5 Security Contexts License","ASA5500-SC-5",null,"standard material","electronic",{"$f":"VLOOKUP(Z955,rngManufacturerLookup,2,FALSE)","v":"Cisco"},"EA",1500,{"$f":"(E955*N955)","v":0},{"$f":"VLOOKUP(Y955,rngSupplierLookup,2,FALSE)","v":"HP"},0,null,"Michael J. Daniel",{"$f":"(F955*N955)","v":0},"NEC",true,4,"0.0.0.0.0.166.58.211",2,18,null,1315,null,null,null,29358,"0.0.0.0.0.166.43.49",true,true,false,false,false,1,0,false,0]
["item",30,"10213",null,null,null,"ASA 5500 4-Port Gigabit Ethernet SSM (RJ-45+SFP)","SSM-4GE",null,"standard material","electronic",{"$f":"VLOOKUP(Z956,rngManufacturerLookup,2,FALSE)","v":"Cisco"},"EA",2000,{"$f":"(E956*N956)","v":0},{"$f":"VLOOKUP(Y956,rngSupplierLookup,2,FALSE)","v":"HP"},0,null,"Michael J. Daniel",{"$f":"(F956*N956)","v":0},"NEC",true,4,"0.0.0.0.0.166.58.214",2,18,null,1316,null,null,null,29359,"0.0.0.0.0.166.43.52",true,true,false,false,false,1,0,false,0]
["Header",30.1,"Cisco IE 3000 Series Switches"]
["item",30.1,"10288",null,null,null,"Cisco IE 3000 Switch, 8 10/100 + 2 T/SFP","IE-3000-8TC",null,"standard material","electronic",{"$f":"VLOOKUP(Z958,rngManufacturerLookup,2,FALSE)","v":"Cisco"},"EA",798,{"$f":"(E958*N958)","v":0},{"$f":"VLOOKUP(Y958,rngSupplierLookup,2,FALSE)","v":"HP"},0,null,"Michael J. Daniel",{"$f":"(F958*N958)","v":0},"NEC",true,4,"0.0.0.0.0.166.58.217",2,18,null,1317,null,null,null,29360,"0.0.0.0.0.166.43.55",true,true,false,false,false,1,0,false,0]
["item",30.1,"10289",null,null,null,"Cisco IE 3000 LAN BASE W/O CRYPTO WITH WEB BASED DEV MGR","SIESLBT-12255SE",null,"standard material","electronic","Cisco","EA",0,0,"HP",0,null,"Michael J. Daniel",0,"NEC",true,4,"0.0.0.0.0.166.58.220",2,18,null,1318,null,null,null,29361,"0.0.0.0.0.166.43.58",true,true,false,false,false,1,0,false,0]
["item",30.1,"10290",null,null,null,"Cisco IE 3000 8-Port Base Switch w/ Layer 3","IE-3000-8TC-E",null,"standard material","electronic","Cisco","EA",3436,0,"HP",0,null,"Michael J. Daniel",0,"NEC",true,4,"0.0.0.0.0.166.58.223",2,18,null,1319,null,null,null,29362,"0.0.0.0.0.166.43.61",true,true,false,false,false,1,0,false,0]
["item",30.1,"10291",null,null,null,"Cisco IE 3000 IP SERVICES W/O CRYPTO WITH WEB BASED DEV MGR","SIESSPST-12255SE",null,"standard material","electronic","Cisco","EA",0,0,"HP",0,null,"Michael J. Daniel",0,"NEC",true,4,"0.0.0.0.0.166.58.226",2,18,null,1320,null,null,null,29363,"0.0.0.0.0.166.43.64",true,true,false,false,false,1,0,false,0]
["item",30.1,"10292",null,null,null,"Cisco IE 3000 Expansion Module, 8 10/100","IEM-3000-8TM=",null,"standard material","electronic","Cisco","EA",478,0,"HP",0,null,"Michael J. Daniel",0,"NEC",true,4,"0.0.0.0.0.166.58.229",2,18,null,1321,null,null,null,29364,"0.0.0.0.0.166.43.67",true,true,false,false,false,1,0,false,0]
["item",30.1,"10293",null,null,null,"Cisco IE 3000 Expansion Module, 8 100FX","IEM-3000-8FM=",null,"standard material","electronic","Cisco","EA",998,0,"HP",0,null,"Michael J. Daniel",0,"NEC",true,4,"0.0.0.0.0.166.58.232",2,18,null,1322,null,null,null,29365,"0.0.0.0.0.166.43.70",true,true,false,false,false,1,0,false,0]
["item",30.1,"10294",null,null,null,"Cisco IE 3000 Power transformer","PWR-IE3000-AC=",null,"standard material","electronic","Cisco","EA",158,0,"HP",0,null,"Michael J. Daniel",0,"NEC",true,4,"0.0.0.0.0.166.58.235",2,18,null,1323,null,null,null,29366,"0.0.0.0.0.166.43.73",true,true,false,false,false,1,0,false,0]
["item",30.1,"10295",null,null,null,"Cisco IE 3000 Spare Connector Power Transformer","PWR-IE3000-CLP=\t",null,"standard material","electronic","Cisco","EA",6,0,"HP",0,null,"Michael J. Daniel",0,"NEC",true,4,"0.0.0.0.0.166.58.238",2,18,null,1324,null,null,null,29367,"0.0.0.0.0.166.43.76",true,true,false,false,false,1,0,false,0]
["item",30.1,"10296",null,null,null,"Cisco IE 3000 Spare Power Connector","PWR-IE3000-CNCT=",null,"standard material","electronic","Cisco","EA",10,0,"HP",0,null,"Michael J. Daniel",0,"NEC",true,4,"0.0.0.0.0.166.58.241",2,18,null,1325,null,null,null,29368,"0.0.0.0.0.166.43.79",true,true,false,false,false,1,0,false,0]
["Header",31,"Cisco Nexus Miscellaneous Electronics"]
["item",31,"10197",null,null,null,"10GBASE-SR SFP Module","SFP-10G-SR",null,"standard material","electronic",{"$f":"VLOOKUP(Z968,rngManufacturerLookup,2,FALSE)","v":"Cisco"},"EA",672.75,{"$f":"(E968*N968)","v":0},{"$f":"VLOOKUP(Y968,rngSupplierLookup,2,FALSE)","v":"HP"},0,null,"Michael J. Daniel",{"$f":"(F968*N968)","v":0},"NEC",true,4,"0.0.0.0.0.166.58.244",2,18,null,1326,null,null,null,29369,"0.0.0.0.0.166.43.82",true,true,false,false,false,1,0,false,0]
["item",31,"10237",null,null,null,"10GBASE-LR SFP Module","SFP-10G-LR",null,"standard material","electronic","Cisco","EA",1598,0,"HP",0,null,"Michael J. Daniel",0,"NEC",true,4,"0.0.0.0.0.166.58.247",2,18,null,1327,null,null,null,29370,"0.0.0.0.0.166.43.85",true,true,false,false,false,1,0,false,0]
["item",31,"10241",null,null,null,"10GBASE-CU SFP+ Cable 1 Meter","SFP-H10GB-CU1M",null,"standard material","electronic","Cisco","EA",60,0,"HP",0,null,"Michael J. Daniel",0,"NEC",true,4,"0.0.0.0.0.166.58.250",2,18,null,1328,null,null,null,29371,"0.0.0.0.0.166.43.88",true,true,false,false,false,1,0,false,0]
["item",31,"10242",null,null,null,"10GBASE-CU SFP+ Cable 3 Meter","SFP-H10GB-CU3M",null,"standard material","electronic","Cisco","EA",84,0,"HP",0,null,"Michael J. Daniel",0,"NEC",true,4,"0.0.0.0.0.166.58.253",2,18,null,1329,null,null,null,29372,"0.0.0.0.0.166.43.91",true,true,false,false,false,1,0,false,0]
["item",31,"10243",null,null,null,"10GBASE-CU SFP+ Cable 5 Meter","SFP-H10GB-CU5M",null,"standard material","electronic","Cisco","EA",104,0,"HP",0,null,"Michael J. Daniel",0,"NEC",true,4,"0.0.0.0.0.166.59.1",2,18,null,1330,null,null,null,29373,"0.0.0.0.0.166.43.94",true,true,false,false,false,1,0,false,0]
["item",31,"10343",null,null,null,"10GBASE-LRM SFP Module","SFP-10G-LRM=",null,"standard material","electronic","Cisco","EA",518,0,"HP",0,null,"Michael J. Daniel",0,"NEC",true,4,"0.0.0.0.0.166.59.4",2,18,null,1509,null,null,null,30284,"0.0.0.0.0.166.43.97",true,true,false,false,false,1,0,false,0]
["item",31,"10474",null,null,null,"CISCO 10G Line Extender for FEX","FET-10G",null,"standard material","electronic","Cisco","EA",672.75,0,"HP",0,null,"Michael J. Daniel",0,"NEC",true,4,"0.0.0.0.0.166.59.7",2,18,null,1576,null,null,null,31087,"0.0.0.0.0.166.43.100",true,true,false,false,false,1,0,false,0]
["Header",32,"Cisco Nexus 20XX Electronics"]
["item",32,"10473",null,null,null,"CISCO Nexus 2248TP with 8 FET (2 AC PS, 1 Fan (Std Airflow))","N2K-C2248TF-1GE",null,"standard material","electronic",{"$f":"VLOOKUP(Z976,rngManufacturerLookup,2,FALSE)","v":"Cisco"},"EA",4950,{"$f":"(E976*N976)","v":0},{"$f":"VLOOKUP(Y976,rngSupplierLookup,2,FALSE)","v":"HP"},0,null,"Michaeil J. Daniel",{"$f":"(F976*N976)","v":0},"NEC",true,4,"0.0.0.0.0.166.59.10",2,18,null,1577,null,null,null,31088,"0.0.0.0.0.166.43.103",true,true,false,false,false,1,0,false,0]
["item",32,"10475",null,null,null,"CISCO N2K GE, 2 AC PS, 1 Fan (Std Air), 24x100/1000-T+2x10GE","N2K-C2224TP-1GE",null,"standard material","electronic",{"$f":"VLOOKUP(Z977,rngManufacturerLookup,2,FALSE)","v":"Cisco"},"EA",3150,{"$f":"(E977*N977)","v":0},{"$f":"VLOOKUP(Y977,rngSupplierLookup,2,FALSE)","v":"HP"},0,null,"Michael J. Daniel",{"$f":"(F977*N977)","v":0},"NEC",true,4,"0.0.0.0.0.166.59.13",2,18,null,1578,null,null,null,31089,"0.0.0.0.0.166.43.106",true,true,false,false,false,1,0,false,0]
["Header",33,"Cisco Nexus 50XX Electronics"]
["item",33,"10217",null,null,null,"Power Cord, 250V 6A North America, NEMA 6-15\r\n","CAB-N5K6A-NA",null,"standard material","electronic",{"$f":"VLOOKUP(Z979,rngManufacturerLookup,2,FALSE)","v":"Cisco"},"EA",24,{"$f":"(E979*N979)","v":0},{"$f":"VLOOKUP(Y979,rngSupplierLookup,2,FALSE)","v":"HP"},0,null,"Michael J. Daniel",{"$f":"(F979*N979)","v":0},"NEC",true,4,"0.0.0.0.0.166.59.16",2,18,null,1339,null,null,null,29382,"0.0.0.0.0.166.43.109",true,true,false,false,false,1,0,false,0]
["item",33,"10219",null,null,null,"Power Cord, 125VAC 13A North America,  NEMA 5-15 \r\n","CAB-9K12A-NA",null,"standard material","electronic","Cisco","EA",12,0,"HP",0,null,"Michael J. Daniel",0,"NEC",true,4,"0.0.0.0.0.166.59.19",2,18,null,1341,null,null,null,29384,"0.0.0.0.0.166.43.112",true,true,false,false,false,1,0,false,0]
["item",33,"10477",null,null,null,"CISCO Nexus 5500 Platform Layer 3 License","N55-LAN1K9",null,"standard material","electronic","Cisco","EA",4500,0,"HP",0,null,"Michael J. Daniel",0,"NEC",true,4,"0.0.0.0.0.166.59.22",2,18,null,1579,null,null,null,31090,"0.0.0.0.0.166.43.115",true,true,false,false,false,1,0,false,0]
["item",33,"10478",null,null,null,"CISCO Nexus 5500 Unified Mod 16p 10GE Eth/FCoE OR 16p 8/4/2/1GFC","N55-M16UP",null,"standard material","electronic","Cisco","EA",5040,0,"HP",0,null,"Michael J. Daniel",0,"NEC",true,4,"0.0.0.0.0.166.59.25",2,18,null,1580,null,null,null,31091,"0.0.0.0.0.166.43.118",true,true,false,false,false,1,0,false,0]
["item",33,"10479",null,null,null,"CISCO Nexus 5548 UP Chassis, 32 10GbE Ports, 2 PS, 2 Fans","N5K-C5548UP-FA",null,"standard material","electronic","Cisco","EA",11520,0,"HP",0,null,"Michael J. Daniel",0,"NEC",true,4,"0.0.0.0.0.166.59.28",2,18,null,1581,null,null,null,31092,"0.0.0.0.0.166.43.121",true,true,false,false,false,1,0,true,32]
["item",33,"10480",null,null,null,"CISCO Nexus 5596UP 2RU Chassis, 2PS, 4 Fans, 48 Fixed 10GE Ports","N5K-C5596UP-FA",null,"standard material","electronic","Cisco","EA",16560,0,"HP",0,null,"Michael J. Daniel",0,"NEC",true,4,"0.0.0.0.0.166.59.33",2,18,null,1582,null,null,null,31093,"0.0.0.0.0.166.43.126",true,true,false,false,false,1,0,true,48]
["item",33,"10481",null,null,null,"CISCO Nexus 5596 Layer 3 Expansion Module","N55-M160L3",null,"standard material","electronic","Cisco","EA",2250,0,"HP",0,null,"Michael J. Daniel",0,"NEC",true,4,"0.0.0.0.0.166.59.38",2,18,null,1583,null,null,null,31094,"0.0.0.0.0.166.43.131",true,true,false,false,false,1,0,false,0]
["Header",34,"Cisco Nexus 70XX Electronics"]
["item",34,"10187",null,null,null,"Nexus 7000 Advanced LAN Enterprise License (VDC, CTS ONLY)","N7K-ADV1K9",null,"standard material","electronic",{"$f":"VLOOKUP(Z987,rngManufacturerLookup,2,FALSE)","v":"Cisco"},"EA",9000,{"$f":"(E987*N987)","v":0},{"$f":"VLOOKUP(Y987,rngSupplierLookup,2,FALSE)","v":"HP"},0,null,"Michael J. Daniel",{"$f":"(F987*N987)","v":0},"NEC",true,4,"0.0.0.0.0.166.59.41",2,18,null,1350,null,null,null,29393,"0.0.0.0.0.166.43.134",true,true,false,false,false,1,0,false,0]
["item",34,"10188",null,null,null,"Nexus 7010 Air Filter","N7K-C7010-AFLT",null,"standard material","electronic","Cisco","EA",225,0,"HP",0,null,"Michael J. Daniel",0,"NEC",true,4,"0.0.0.0.0.166.59.44",2,18,null,1351,null,null,null,29394,"0.0.0.0.0.166.43.137",true,true,false,false,false,1,0,false,0]
["item",34,"10189",null,null,null,"Nexus 7010 Bundle (Chassis, SUP1, (3) FAB1, (2) AC-6KW PSU)","N7K-C7010-BUN",null,"standard material","electronic","Cisco","EA",21600,0,"HP",0,null,"Michael J. Daniel",0,"NEC",true,4,"0.0.0.0.0.166.59.47",2,18,null,1352,null,null,null,29395,"0.0.0.0.0.166.43.140",true,true,false,false,false,1,0,false,0]
["item",34,"10190",null,null,null,"Nexus 7010 Front Door Kit","N7K-C7010-FD-MB",null,"standard material","electronic","Cisco","EA",675,0,"HP",0,null,"Michael J. Daniel",0,"NEC",true,4,"0.0.0.0.0.166.59.50",2,18,null,1353,null,null,null,29396,"0.0.0.0.0.166.43.143",true,true,false,false,false,1,0,false,0]
["item",34,"10191",null,null,null,"Nexus 7000 Compact Flash Memory 2GB (Expansion Flash - Slot 0)","N7K-CPF-2GB",null,"standard material","electronic","Cisco","EA",540,0,"HP",0,null,"Michael J. Daniel",0,"NEC",true,4,"0.0.0.0.0.166.59.53",2,18,null,1354,null,null,null,29397,"0.0.0.0.0.166.43.146",true,true,false,false,false,1,0,false,0]
["item",34,"10192",null,null,null,"Nexus 7000 LAN Enterprise License (L3 Protocols)","N7K-LAN1K9",null,"standard material","electronic","Cisco","EA",6750,0,"HP",0,null,"Michael J. Daniel",0,"NEC",true,4,"0.0.0.0.0.166.59.56",2,18,null,1355,null,null,null,29398,"0.0.0.0.0.166.43.149",true,true,false,false,false,1,0,false,0]
["item",34,"10193",null,null,null,"Nexus 7000 32 Port, 10GbE, 80G Fabric (req SFP+)","N7K-M132XP-12L",null,"standard material","electronic","Cisco","EA",31500,0,"HP",0,null,"Michael J. Daniel",0,"NEC",true,4,"0.0.0.0.0.166.59.59",2,18,null,1356,null,null,null,29399,"0.0.0.0.0.166.43.152",true,true,false,false,false,1,0,false,0]
["item",34,"10194",null,null,null,"Nexus 7000 48 Port, 1G, SFP","N7K-M148GS-11L",null,"standard material","electronic","Cisco","EA",12150,0,"HP",0,null,"Michael J. Daniel",0,"NEC",true,4,"0.0.0.0.0.166.59.62",2,18,null,1357,null,null,null,29400,"0.0.0.0.0.166.43.155",true,true,false,false,false,1,0,false,0]
["item",34,"10195",null,null,null,"Nexus 7000 48 Port, 10/100/1000, RJ-45","N7K-M148GT-11L",null,"standard material","electronic","Cisco","EA",6750,0,"HP",0,null,"Michael J. Daniel",0,"NEC",true,4,"0.0.0.0.0.166.59.65",2,18,null,1358,null,null,null,29401,"0.0.0.0.0.166.43.158",true,true,false,false,false,1,0,false,0]
["item",34,"10196",null,null,null,"Nexus 7000 Supervisor, Includes External 8GB Log Flash","N7K-SUP1",null,"standard material","electronic","Cisco","EA",11250,0,"HP",0,null,"Michael J. Daniel",0,"NEC",true,4,"0.0.0.0.0.166.59.68",2,18,null,1359,null,null,null,29402,"0.0.0.0.0.166.43.161",true,true,false,false,false,1,0,false,0]
["item",34,"10215",null,null,null,"Nexus 7000 7.5kW AC Power Supply Module US (Cable Included)","N7K-AC-7.5KW-US",null,"standard material","electronic","Cisco","EA",3375,0,"HP",0,null,"Michael J. Daniel",0,"NEC",true,4,"0.0.0.0.0.166.59.71",2,18,null,1360,null,null,null,29403,"0.0.0.0.0.166.43.164",true,true,false,false,false,1,0,false,0]
["item",34,"10216",null,null,null,"Nexus 7000 6.0kW AC Power Supply Module","N7K-AC-6.0KW",null,"standard material","electronic","Cisco","EA",2880,0,"HP",0,"Uses Power cords CAB-AC-2500W-US1 (located under 6500 section), CAB-AC-C6K-TWLK (located under 6500 section), , or CAB-7513AC (located under legacy section) \r\n\r\n\r\n","Michael J. Daniel",0,"NEC",true,4,"0.0.0.0.0.166.59.74",2,18,null,1361,null,null,null,29404,"0.0.0.0.0.166.43.167",true,true,false,false,false,1,0,false,0]
["item",34,"10238",null,null,null,"Nexus 7010 Base Chassis (No Power Supplies), Fans included","N7K-C7010",null,"standard material","electronic","Cisco","EA",9000,0,"HP",0,null,"Michael J. Daniel",0,"NEC",true,4,"0.0.0.0.0.166.59.77",2,18,null,1362,null,null,null,29405,"0.0.0.0.0.166.43.170",true,true,false,false,false,1,0,false,0]
["item",34,"10239",null,null,null,"Nexus 7000 NX-OS Release 4.2","N7KS1K9-42",null,"standard material","electronic","Cisco","EA",0,0,"HP",0,null,"Michael J. Daniel",0,"NEC",true,4,"0.0.0.0.0.166.59.80",2,18,null,1363,null,null,null,29406,"0.0.0.0.0.166.43.173",true,true,false,false,false,1,0,false,0]
["item",34,"10240",null,null,null,"Nexus 7010 46Gbps / Slot Fabric Module","N7k-C7010-FAB-1",null,"standard material","electronic","Cisco","EA",2700,0,"HP",0,null,"Michael J. Daniel",0,"NEC",true,4,"0.0.0.0.0.166.59.83",2,18,null,1364,null,null,null,29407,"0.0.0.0.0.166.43.176",true,true,false,false,false,1,0,false,0]
["Header",35,"Cisco GBIC's"]
["item",35,"10004",null,null,null,"1000 Mbps SM, Rugged SFP ","GLC-LX-SM-RGD=",null,"standard material","electronic",{"$f":"VLOOKUP(Z1003,rngManufacturerLookup,2,FALSE)","v":"Cisco"},"EA",438,{"$f":"(E1003*N1003)","v":0},{"$f":"VLOOKUP(Y1003,rngSupplierLookup,2,FALSE)","v":"HP"},0,null,"Kyle M. Daniel",{"$f":"(F1003*N1003)","v":0},"NEC",true,4,"0.0.0.0.0.166.59.86",2,18,null,621,null,null,null,27823,"0.0.0.0.0.166.43.179",true,true,false,false,false,1,0,false,0]
["item",35,"10297",null,null,null,"1000 Mbps MM, Rugged SFP","GLC-SX-MM-RGD=",null,"standard material","electronic","Cisco","EA",220,0,"HP",0,null,"Michael J. Daniel",0,"NEC",true,4,"0.0.0.0.0.166.59.89",2,18,null,1365,null,null,null,29408,"0.0.0.0.0.166.43.182",true,true,false,false,false,1,0,false,0]
["item",35,"10298",null,null,null,"100Base-FX MM, Rugged SFP","GLC-FE-100FX-RGD=",null,"standard material","electronic","Cisco","EA",110,0,"HP",0,null,"Michael J. Daniel",0,"NEC",true,4,"0.0.0.0.0.166.59.92",2,18,null,1366,null,null,null,29409,"0.0.0.0.0.166.43.185",true,true,false,false,false,1,0,false,0]
["item",35,"10299",null,null,null,"100 Mbps SM,Rugged SFP","GLC-FE-100LX-RGD=",null,"standard material","electronic","Cisco","EA",176,0,"HP",0,null,"Michael J. Daniel",0,"NEC",true,4,"0.0.0.0.0.166.59.95",2,18,null,1367,null,null,null,29410,"0.0.0.0.0.166.43.188",true,true,false,false,false,1,0,false,0]
["item",35,"8140",null,null,null,"1000Base LX/LH GBIC for GE Module Single or Multimode Fiber","WS-G5486=",null,"standard material","electronic","Cisco","EA",447.75,0,"HP",0,null,"Kyle M. Daniel",0,"NEC",true,4,"0.0.0.0.0.166.59.98",2,18,null,622,null,null,null,27824,"0.0.0.0.0.166.43.191",true,true,false,false,false,1,0,false,0]
["item",35,"8141",null,null,null,"1000Base SX GBIC for GE Module Multimode Fiber","WS-G5484=",null,"standard material","electronic","Cisco","EA",225,0,"HP",0,null,"Kyle M. Daniel",0,"NEC",true,4,"0.0.0.0.0.166.59.101",2,18,null,623,null,null,null,27825,"0.0.0.0.0.166.43.194",true,true,false,false,false,1,0,false,0]
["item",35,"8407",null,null,null,"1000Base ZX GBIC extended reach ( Single mode)","WS-G5487=",null,"standard material","electronic","Cisco","EA",1797.75,0,"HP",0,null,"Kyle M. Daniel",0,"NEC",true,4,"0.0.0.0.0.166.59.104",2,18,null,624,null,null,null,27826,"0.0.0.0.0.166.43.197",true,true,false,false,false,1,0,false,0]
["item",35,"8766",null,null,null,"GE SFP, LC connector SX transceiver","GLC-SX-MM=",null,"standard material","electronic","Cisco","EA",200,0,"HP",0,null,"Kyle M. Daniel",0,"NEC",true,4,"0.0.0.0.0.166.59.107",2,18,null,625,null,null,null,27827,"0.0.0.0.0.166.43.200",true,true,false,false,false,1,0,false,0]
["item",35,"8771",null,null,null,"GE SFP, LC connector LX/LH transceiver","GLC-LH-SM=",null,"standard material","electronic","Cisco","EA",398,0,"HP",0,null,"Kyle M. Daniel",0,"NEC",true,4,"0.0.0.0.0.166.59.110",2,18,null,626,null,null,null,27828,"0.0.0.0.0.166.43.203",true,true,false,false,false,1,0,false,0]
["item",35,"8813",null,null,null,"1000BASE ZX SFP GLC-ZX-SM","GLC-ZX-SM=",null,"standard material","electronic","Cisco","EA",1598,0,"HP",0,null,"Kyle M. Daniel",0,"NEC",true,4,"0.0.0.0.0.166.59.113",2,18,null,627,null,null,null,27829,"0.0.0.0.0.166.43.206",true,true,false,false,false,1,0,false,0]
["item",35,"8822",null,null,null,"100FX SFP on GE SFP ports on Catalyst 3750","GLC-GE-100FX=",null,"standard material","electronic","Cisco","EA",100,0,"HP",0,null,"Kyle M. Daniel",0,"NEC",true,4,"0.0.0.0.0.166.59.116",2,18,null,628,null,null,null,27830,"0.0.0.0.0.166.43.209",true,true,false,false,false,1,0,false,0]
["item",35,"8895",null,null,null,"10GBASE-ER Xenpak module with DOM Support","XENPAK-10GB-ER+=",null,"standard material","electronic","Cisco","EA",4000,0,"HP",0,"Gold Build Template item","Kyle M. Daniel",0,"NEC",true,4,"0.0.0.0.0.166.59.119",2,18,null,629,null,null,null,27831,"0.0.0.0.0.166.43.212",true,true,false,false,false,1,0,false,0]
["item",35,"8896",null,null,null,"10GBASE-LR Xenpak module with DOM Support","XENPAK-10GB-LR+=",null,"standard material","electronic","Cisco","EA",1600,0,"HP",0,"Gold build Template item","Kyle M. Daniel",0,"NEC",true,4,"0.0.0.0.0.166.59.122",2,18,null,630,null,null,null,27832,"0.0.0.0.0.166.43.215",true,true,false,false,false,1,0,false,0]
["Header",36,"Cisco Catalyst 65XX"]
["item",36,"10104",null,null,null,"Catalyst 6504-E High-Speed Fan module","FAN-MOD-4HS=",null,"standard material","electronic",{"$f":"VLOOKUP(Z1017,rngManufacturerLookup,2,FALSE)","v":"Cisco"},"EA",200,{"$f":"(E1017*N1017)","v":0},{"$f":"VLOOKUP(Y1017,rngSupplierLookup,2,FALSE)","v":"HP"},0,"49K","Kyle M. Daniel",{"$f":"(F1017*N1017)","v":0},"NEC",true,4,"0.0.0.0.0.166.59.125",2,18,null,984,null,null,null,28421,"0.0.0.0.0.166.43.218",true,true,false,false,false,1,0,false,0]
["item",36,"10144",null,null,null,"Catalyst 6504-E  AC Power Supply 2700W","PWR-2700-AC/4",null,"standard material","electronic","Cisco","EA",1200,0,"HP",0,"GM Gold Build Template item","Kyle M. Daniel",0,"NEC",true,4,"0.0.0.0.0.166.59.128",2,18,null,985,null,null,null,28422,"0.0.0.0.0.166.43.221",true,true,false,false,false,1,0,false,0]
["item",36,"10170",null,null,null,"Change Plug on Power Cord - LABOR ONLY","TLPC-L",null,"standard material","physical","DWC","EA",28.35,0,"DWC",6810,null,"Kyle M. Daniel",0,"NEC",true,4,"0.0.0.0.0.166.59.131",1,23,null,986,null,null,null,28423,"0.0.0.0.0.166.43.224",true,false,true,false,false,3,0,false,0]
["item",36,"10177",null,null,null,"Catalyst 6500 Enhanced A/C Power Supply 8700W ","WS-CAC-8700W-E",null,"standard material","electronic","Cisco","EA",2800,0,"HP",0,null,"Kyle M. Daniel",0,"NEC",true,4,"0.0.0.0.0.166.59.134",2,18,null,987,null,null,null,28424,"0.0.0.0.0.166.43.227",true,true,false,false,false,1,0,false,0]
["item",36,"10178",null,null,null,"Catalyst 6500 Dist Fwd Card, 256k+Routes for WS-x67xx","WS-F6700-DFC38=",null,"standard material","electronic","Cisco","EA",3000,0,"HP",0,"Gold Build Template Unit","Kyle M. Daniel",0,"NEC",true,4,"0.0.0.0.0.166.59.137",2,18,null,988,null,null,null,28425,"0.0.0.0.0.166.43.230",true,true,false,false,false,1,0,false,0]
["item",36,"10236",null,null,null,"Catalyst 6500 Compact Flash Memory 1GB","MEM-C6K-CPTFL1GB",null,"standard material","electronic","Cisco","EA",438,0,"HP",0,null,"Michael J. Daniel",0,"NEC",true,4,"0.0.0.0.0.166.59.140",2,18,null,1368,null,null,null,29411,"0.0.0.0.0.166.43.233",true,true,false,false,false,1,0,false,0]
["item",36,"10311",null,null,null,"Cisco CAT6000-SUP720 IOS IP SERVICES SSH","S733ISK9-12233SXI",null,"standard material","electronic","Cisco","EA",0,0,"HP",0,null,"Michael J. Daniel",0,"NEC",false,4,"0.0.0.0.0.166.59.143",2,18,null,1403,null,null,null,29959,"0.0.0.0.0.166.43.236",true,true,false,false,false,1,0,false,0]
["item",36,"8005","",null,null,"Catalyst 6500 48-port GigE module; Fabric enabled (Req. SFP)","WS-X6748-SFP",null,"standard material","electronic","Cisco","EA",10000,0,"HP",0,null,"Kyle M. Daniel",0,"NEC",true,4,"0.0.0.0.0.166.59.146",2,18,null,632,null,null,null,27834,"0.0.0.0.0.166.43.239",true,true,false,false,false,1,0,true,48]
["item",36,"8014",null,null,null,"Catalyst 6504-E 4-slot chassis 5RU's","WS-C6504-E",null,"standard material","electronic","Cisco","EA",1200,0,"HP",0,null,"Kyle M. Daniel",0,"NEC",true,4,"0.0.0.0.0.166.59.151",2,18,null,633,null,null,null,27835,"0.0.0.0.0.166.43.244",true,true,false,false,false,1,0,false,0]
["item",36,"8211",null,null,null,"Catalyst 6500 Firewall blade","WS-SVC-FWM-1-K9",null,"standard material","electronic","Cisco","EA",13998,0,"HP",0,null,"Kyle M. Daniel",0,"NEC",true,4,"0.0.0.0.0.166.59.154",2,18,null,636,null,null,null,27838,"0.0.0.0.0.166.43.247",true,true,false,false,false,1,0,false,0]
["item",36,"8459",null,null,null,"Catalyst 6513 Chassis","WS-C6513",null,"standard material","electronic","Cisco","EA",6100,0,"HP",0,null,"Kyle M. Daniel",0,"NEC",true,4,"0.0.0.0.0.166.59.157",2,18,null,637,null,null,null,27839,"0.0.0.0.0.166.43.250",true,true,false,false,false,1,0,false,0]
["item",36,"8471",null,null,null,"Catalyst 6500 AC power supply 4000W ","WS-CAC-4000W-US",null,"standard material","electronic","Cisco","EA",2000,0,"HP",0,"Contact NEC before ordering.","Kyle M. Daniel",0,"NEC",true,4,"0.0.0.0.0.166.59.160",2,18,null,638,null,null,null,27840,"0.0.0.0.0.166.43.253",true,true,false,false,false,1,0,false,0]
["item",36,"8777",null,null,null,"Catalyst 6500 16-port GigE Mod, fabric-enabled (Req. GBICs)","WS-X6516A-GBIC",null,"standard material","electronic","Cisco","EA",6000,0,"HP",0,null,"Kyle M. Daniel",0,"NEC",true,4,"0.0.0.0.0.166.59.163",2,18,null,639,null,null,null,27841,"0.0.0.0.0.166.44.1",true,true,false,false,false,1,0,true,16]
["item",36,"8804",null,null,null,"Catalyst 6500 Supervisor 720 Fabric MSFC3 PFC3B","WS-SUP720-3B",null,"standard material","electronic","Cisco","EA",11200,0,"HP",0,null,"Kyle M. Daniel",0,"NEC",true,4,"0.0.0.0.0.166.59.168",2,18,null,640,null,null,null,27842,"0.0.0.0.0.166.44.6",true,true,false,false,false,1,0,false,0]
["item",36,"8806",null,null,null,"Catalyst 6513 High Speed Fan Tray","WS-C6K-13SLT-FAN2",null,"standard material","electronic","Cisco","EA",298,0,"HP",0,null,"Kyle M. Daniel",0,"NEC",true,4,"0.0.0.0.0.166.59.171",2,18,null,641,null,null,null,27843,"0.0.0.0.0.166.44.9",true,true,false,false,false,1,0,false,0]
["item",36,"8807",null,null,null,"Catalyst 6500 AC power supply 3000W ","WS-CAC-3000-W",null,"standard material","electronic","Cisco","EA",1200,0,"HP",0,null,"Kyle M. Daniel",0,"NEC",true,4,"0.0.0.0.0.166.59.174",2,18,null,642,null,null,null,27844,"0.0.0.0.0.166.44.12",true,true,false,false,false,1,0,false,0]
["item",36,"8809",null,null,null,"Catalyst 6509 High Speed Fan Tray","WS-C6509-E-FAN",null,"standard material","electronic","Cisco","EA",198,0,"HP",0,null,"Kyle M. Daniel",0,"NEC",true,4,"0.0.0.0.0.166.59.177",2,18,null,643,null,null,null,27845,"0.0.0.0.0.166.44.15",true,true,false,false,false,1,0,false,0]
["item",36,"8810",null,null,null,"Catalyst 6509-E CHASSIS 9 SLOT 15 RU NO POWER SUPPLY NO FAN","WS-C6509-E",null,"standard material","electronic","Cisco","EA",3800,0,"HP",0,null,"Michael J. Daniel",0,"NEC",true,4,"0.0.0.0.0.166.59.180",2,18,null,644,null,null,null,27846,"0.0.0.0.0.166.44.18",true,true,false,false,false,1,0,false,0]
["item",36,"8811",null,null,null,"Catalyst 6500 256mb ddr,xcef720 mem-xcef720","WS-X6748-GE-TX",null,"standard material","electronic","Cisco","EA",6000,0,"HP",0,"Does not support POE","Kyle M. Daniel",0,"NEC",true,4,"0.0.0.0.0.166.59.183",2,18,null,645,null,null,null,27847,"0.0.0.0.0.166.44.21",true,true,false,false,false,1,0,false,0]
["item",36,"8812",null,null,null,"Catalyst 6500 24-port GigE Mod: fabric-enabled (Req. SFPs)","WS-X6724-SFP=",null,"standard material","electronic","Cisco","EA",6000,0,"HP",0,null,"Kyle M. Daniel",0,"NEC",true,4,"0.0.0.0.0.166.59.186",2,18,null,646,null,null,null,27848,"0.0.0.0.0.166.44.24",true,true,false,false,false,1,0,true,24]
["item",36,"8818",null,null,null,"Catalyst 6506-E CHASSIS 6 SLOT 12 RU NO POWER SUPPLY NO FAN TRAY","WS-C6506-E",null,"standard material","electronic","Cisco","EA",2200,0,"HP",0,null,"Michael J. Daniel",0,"NEC",true,4,"0.0.0.0.0.166.59.191",2,18,null,647,null,null,null,27849,"0.0.0.0.0.166.44.29",true,true,false,false,false,1,0,false,0]
["item",36,"8821",null,null,null,"Catalyst 6506-E CHASSIS FAN TRAY","WS-C6506-E-FAN",null,"standard material","electronic","Cisco","EA",198,0,"HP",0,null,"Kyle M. Daniel",0,"NEC",true,4,"0.0.0.0.0.166.59.194",2,18,null,648,null,null,null,27850,"0.0.0.0.0.166.44.32",true,true,false,false,false,1,0,false,0]
["item",36,"8828",null,null,null,"U.S. Power Cord, Non-Twist Lock, NEMA 6-20 Plug","CAB-AC-2500W-US1",null,"standard material","electronic","Cisco","EA",0,0,"HP",0,null,"Kyle M. Daniel",0,"NEC",true,4,"0.0.0.0.0.166.59.197",2,18,null,649,null,null,null,27851,"0.0.0.0.0.166.44.35",true,true,false,false,false,1,0,false,0]
["item",36,"8832",null,null,null,"Catalyst 6000-SUP720 IOS ENT W/IPV6/SSH/3DES","S733ESK9-12218SXF","do not select without talking to project element owner first","standard material","electronic","Cisco","EA",3840,0,"HP",0,"xx (in part number) = BlockPoint Version Number.  do not select without talking to project element owner first","Kyle M. Daniel",0,"NEC",true,4,"0.0.0.0.0.166.59.200",2,18,null,650,null,null,null,27852,"0.0.0.0.0.166.44.38",true,true,false,false,false,1,0,false,0]
["item",36,"8834",null,null,null,"Catalyst 6500 Sup720 Compact Flash Mem 512mb","MEM-C6K-CPTFL512M",null,"standard material","electronic","Cisco","EA",398,0,"HP",0,null,"Kyle M. Daniel",0,"NEC",true,4,"0.0.0.0.0.166.59.203",2,18,null,651,null,null,null,27853,"0.0.0.0.0.166.44.41",true,true,false,false,false,1,0,false,0]
["item",36,"8870",null,null,null,"Catalyst 6500 AC power supply 6000W ","WS-CAC-6000W",null,"standard material","electronic","Cisco","EA",2000,0,"HP",0,"Gold Build Template item","Kyle M. Daniel",0,"NEC",true,4,"0.0.0.0.0.166.59.206",2,18,null,652,null,null,null,27854,"0.0.0.0.0.166.44.44",true,true,false,false,false,1,0,false,0]
["item",36,"8874",null,null,null,"Catalyst 6500 PoE 802.3af 10/100/1000 48-port(RJ45)CEF256 card","WS-X6548-GE-45AF",null,"standard material","electronic","Cisco","EA",5600,0,"HP",0,"13+ millwatts for AP's","Kyle M. Daniel",0,"NEC",true,4,"0.0.0.0.0.166.59.209",2,18,null,653,null,null,null,27855,"0.0.0.0.0.166.44.47",true,true,false,false,false,1,0,true,48]
["item",36,"8891",null,null,null,"Catalyst 6500 48-Port PoE 802.3af 10/100 card w/ TDR","WS-X6148A-45AF",null,"standard material","electronic","Cisco","EA",3200,0,"HP",0,"Gold build template item","Kyle M. Daniel",0,"NEC",true,4,"0.0.0.0.0.166.59.214",2,18,null,655,null,null,null,27857,"0.0.0.0.0.166.44.52",true,true,false,false,false,1,0,true,48]
["item",36,"8892",null,null,null,"Catalyst 6500 4-port 10 Gigabit Ethernet Module (req xenpaks)","WS-X6704-10GE",null,"standard material","electronic","Cisco","EA",8000,0,"HP",0,"Gold Build Template item","Kyle M. Daniel",0,"NEC",true,4,"0.0.0.0.0.166.59.219",2,18,null,656,null,null,null,27858,"0.0.0.0.0.166.44.57",true,true,false,false,false,1,0,true,4]
["item",36,"8893",null,null,null,"Catalyst 6500 8 port 10 Gigabit Ethernet module with DFC3C (req.x2) ","WS-X6708-10G-3C",null,"standard material","electronic","Cisco","EA",15000,0,"HP",0,"Gold Build Template item","Kyle M. Daniel",0,"NEC",true,4,"0.0.0.0.0.166.59.224",2,18,null,657,null,null,null,27859,"0.0.0.0.0.166.44.62",true,true,false,false,false,1,0,true,8]
["item",36,"8894",null,null,null,"Power cord, 250vac 16A,twist lock NEMA L6-20 plug, US","CAB-AC-C6K-TWLK",null,"standard material","electronic","Cisco","EA",21.6,0,"HP","0",null,"Kyle M. Daniel",0,"NEC",true,4,"0.0.0.0.0.166.59.229",2,18,null,658,null,null,null,27860,"0.0.0.0.0.166.44.67",true,true,false,false,false,1,0]
["Header",37,"Power Cords"]
["item",37,"10476",null,null,null,"CISCO Power Cord Jumper, C13-C14 Connectors, 2 Meter Length\t","CAB-C13-C14-2M",null,"standard material","electronic",{"$f":"VLOOKUP(Z1049,rngManufacturerLookup,2,FALSE)","v":"Cisco"},"EA",22.5,{"$f":"(E1049*N1049)","v":0},{"$f":"VLOOKUP(Y1049,rngSupplierLookup,2,FALSE)","v":"HP"},0,null,"Michael J. Daniel",{"$f":"(F1049*N1049)","v":0},"NEC",true,4,"0.0.0.0.0.166.59.232",2,18,null,1584,null,null,null,31095,"0.0.0.0.0.166.44.70",true,true,false,false,false,1,0,false,0]
["Header",38,"Cisco Catalyst 29XX Series Switches"]
["item",38,"0094-49HK",1073,null,null,"BRACKET, DIN RAIL, 3 IN RECESSED","SR0600375",null,"standard material","physical",{"$f":"VLOOKUP(Z1051,rngManufacturerLookup,2,FALSE)","v":"Hammond"},"EA",63.64,{"$f":"(E1051*N1051)","v":0},{"$f":"VLOOKUP(Y1051,rngSupplierLookup,2,FALSE)","v":"DWC"},6810,null,"Kyle M. Daniel",{"$f":"(F1051*N1051)","v":0},"DWC",true,4,"0.0.0.0.0.166.59.235",1,34,null,659,null,null,null,27861,"0.0.0.0.0.166.44.73",true,false,true,false,false,3,0,false,0]
["item",38,"0094-49HL",1082,null,null,"BRACKET, DIN RAIL, 5 IN RECESSED","SR0700191",null,"standard material","physical","Hammond","EA",57.12,0,"DWC",6810,null,"Kyle M. Daniel",0,"DWC",true,4,"0.0.0.0.0.166.59.238",1,34,null,660,null,null,null,27862,"0.0.0.0.0.166.44.76",true,false,true,false,false,3,0]
["item",38,"0094-49R1",1074,null,null,"BRACKET, DIN RAIL, 5 IN DEEP","DDRB5",null,"standard material","physical","DWC","EA",60.89,0,"DWC",6810,null,"Kyle M. Daniel",0,"DWC",true,4,"0.0.0.0.0.166.59.241",1,23,null,661,null,null,null,27863,"0.0.0.0.0.166.44.79",true,false,true,false,false,3,0]
["item",38,"0119-0932",1045,null,null,"Catalyst 2955 Sola Power Supply Cable (2) Conductor, 18 AWG, 19 X 30 Strand, Sheilded, PVC, Twisted Pair Power Cable (UL,CSA)",9318,null,"standard material","physical","Belden","EA",1.19,0,"DWC",6810,"Order Typically Three Feet if 2955 and Sola PS are mounted on same din rail. Electrical wire required when using SOLA PS and Cisco 2955","Kyle M. Daniel",0,"NEC",true,4,"0.0.0.0.0.166.59.244",1,9,null,662,null,null,null,27864,"0.0.0.0.0.166.44.82",true,false,true,false,false,3,0]
["item",38,"0217-1387",1043,null,null,"Sola Power Supply Cord with molded three prong plug on one end and stripped on the other end, (UL) SJT 16 AWG, 3 conductor 15A/120V, UL CSA approved, 6 ft long.",17255,null,"standard material","physical","Volex Interconnect","EA",14.6,0,"DWC",6810,"Power cable for the SDN 2.5-24-100P. Order one per SDN 2.5-24-100P","Kyle M. Daniel",0,"NEC",true,4,"0.0.0.0.0.166.59.247",1,76,null,663,null,null,null,27865,"0.0.0.0.0.166.44.85",true,false,true,false,false,3,0,false,0]
["item",38,"10162",null,null,null,"Catalyst 2955 and Sola Power Supply DIN Rail Adapter Kit for 19\" Rack Mounted ","STK-RACKMNT-2955=",null,"standard material","physical","Cisco","EA",56.25,0,"DWC",6810,"Order (1) per rack mount Cisco 2955 switch","Kyle M. Daniel",0,"NEC",true,4,"0.0.0.0.0.166.59.250",1,18,null,989,null,null,null,28426,"0.0.0.0.0.166.44.88",true,false,true,false,false,3,0,false,0]
["item",38,"1018-1AJX",1044,null,null,"Catalyst 2955 and Sola Power Supply- Input voltage -115/230 AC, Max Output - 24V DC","SDN 2.5-24-100P",null,"standard material","physical","Sola / HeviDuty","EA",162.16,0,"DWC",6810,"Also Order Power Cord INFO# 0217-1387 and (1) Pair, 18awg Cable for Connection to 2955 INFO# 0119-0932","Kyle M. Daniel",0,"NEC",true,4,"0.0.0.0.0.166.59.253",1,65,null,664,null,null,null,27866,"0.0.0.0.0.166.44.91",true,false,true,false,false,3,0,false,0]
["item",38,"8013",null,null,null,"Catalyst 2960 10/100 + 2 T/SFP LAN Base image","WS-C2960-48TC-L",null,"standard material","electronic","Cisco","EA",998,0,"HP","0",null,"Kyle M. Daniel",0,"NEC",true,4,"0.0.0.0.0.166.60.1",2,18,null,668,null,null,null,27870,"0.0.0.0.0.166.44.94",true,true,false,false,false,1,0,false,0]
["item",38,"8016",null,null,null,"Catalyst 2960 48 10/100/1000, 4 T/SFP LAN Base image","WS-C2960G-48TC-L",null,"standard material","electronic","Cisco","EA",2398,0,"HP","0",null,"Kyle M. Daniel",0,"NEC",true,4,"0.0.0.0.0.166.60.4",2,18,null,669,null,null,null,27871,"0.0.0.0.0.166.44.97",true,true,false,false,false,1,0,false,0]
["item",38,"8713","738",null,null,"Catalyst 2955 12 port 10/100 TX w/ (2) copper uplinks","WS-C2955T-12",null,"standard material","electronic","Cisco","EA",672.75,0,"HP",0,null,"Kyle M. Daniel",0,"NEC",true,4,"0.0.0.0.0.166.60.7",2,18,null,665,null,null,null,27867,"0.0.0.0.0.166.44.100",true,true,false,false,false,1,0,true,12]
["item",38,"8877",null,null,null,"Catalyst 2955 12 port 10/100 TX w/ (2) Fixed MMF UPLINK interfaces. (MTRJ)","WS-C2955C-12",null,"standard material","electronic","Cisco","EA",897.75,0,"HP","0","Requires   SDN 2.5-24-100P, STK-RACKMNT-2955=,  323-023-1801-B, and 5141.072","Kyle M. Daniel",0,"NEC",true,4,"0.0.0.0.0.166.60.12",2,18,null,666,null,null,null,27868,"0.0.0.0.0.166.44.105",true,true,false,false,false,1,0,true,12]
["item",38,"8878",null,null,null,"Catalyst 2955 12 port 10/100 TX w/ (2) Fixed SMF UPLINK Interfaces (LC)","WS-C2955S-12",null,"standard material","electronic","Cisco","EA",1101.5999999999999,0,"HP",0,"Requires   SDN 2.5-24-100P, STK-RACKMNT-2955=,  323-023-1801-B, and 5141.072","Kyle M. Daniel",0,"NEC",true,4,"0.0.0.0.0.166.60.17",2,18,null,667,null,null,null,27869,"0.0.0.0.0.166.44.110",true,true,false,false,false,1,0,true,12]
["Header",40,"Cisco Catalyst 3750 Workgroup Switches"]
["item",40,"10307\t",null,null,null,"Catalyst 3750V2 24 10/100 PoE + 2 SFP Enhanced Image","WS-C3750V2-24PS-E",null,"standard material","electronic",{"$f":"VLOOKUP(Z1064,rngManufacturerLookup,2,FALSE)","v":"Cisco"},"EA",2716,{"$f":"(E1064*N1064)","v":0},{"$f":"VLOOKUP(Y1064,rngSupplierLookup,2,FALSE)","v":"HP"},0,"need to use the CAB-RPS2300-E for connection to RPS 2300\r\n","Michael J. Daniel",{"$f":"(F1064*N1064)","v":0},"NEC",true,4,"0.0.0.0.0.166.60.22",2,18,null,1404,null,null,null,29960,"0.0.0.0.0.166.44.115",true,true,false,false,false,1,0,true,24]
["item",40,"10308",null,null,null,"Catalyst 3750V2 24 10/100 + 2 SFP Enhanced Image","WS-C3750V2-24TS-E",null,"standard material","electronic","Cisco","EA",2396,0,"HP",0,"need to use the CAB-RPS2300-E for connection to RPS 2300","Michael J. Daniel",0,"NEC",true,4,"0.0.0.0.0.166.60.27",2,18,null,1405,null,null,null,29961,"0.0.0.0.0.166.44.120",true,true,false,false,false,1,0,true,24]
["item",40,"10309",null,null,null,"Catalyst 3750V2 48 10/100 PoE + 4 SFP Enhanced Image","WS-C3750V2-48PS-E",null,"standard material","electronic","Cisco","EA",4196,0,"HP",0,"need to use the CAB-RPS2300-E for connection to RPS 2300","Michael J. Daniel",0,"NEC",true,4,"0.0.0.0.0.166.60.32",2,18,null,1406,null,null,null,29962,"0.0.0.0.0.166.44.125",true,true,false,false,false,1,0,true,48]
["item",40,"10310",null,null,null,"Catalyst 3750V2 48 10/100 + 4 SFP Enhanced Image","WS-C3750V2-48TS-E",null,"standard material","electronic","Cisco","EA",3596,0,"HP",0,"need to use the CAB-RPS2300-E for connection to RPS 2300","Michael J. Daniel",0,"NEC",true,4,"0.0.0.0.0.166.60.37",2,18,null,1407,null,null,null,29963,"0.0.0.0.0.166.44.130",true,true,false,false,false,1,0,true,48]
["item",40,"10328",null,null,null,"Catalyst 3750X 24 Port PoE IP Base","WS-C3750X-24P-S",null,"standard material","electronic","Cisco","EA",2920,0,"HP",0,null,"Michael J. Daniel",0,"NEC",true,4,"0.0.0.0.0.166.60.42",2,18,null,1510,null,null,null,30285,"0.0.0.0.0.166.44.135",true,true,false,false,false,1,0,true,24]
["item",40,"10329",null,null,null,"C3750X-24 IP Base to IP Services factory IOS Upgrade","C3750X-24-IOS-S-E",null,"standard material","electronic","Cisco","EA",1400,0,"HP",0,null,"Michael J. Daniel",0,"NEC",true,4,"0.0.0.0.0.166.60.47",2,18,null,1511,null,null,null,30286,"0.0.0.0.0.166.44.140",true,true,false,false,false,1,0,false,0]
["item",40,"10330",null,null,null,"Catalyst 3750X 48 Port PoE IP Base","WS-C3750X-48P-S\t","715 watt power supply","standard material","electronic","Cisco","EA",6240,0,"HP",0,null,"Michael J. Daniel",0,"NEC",true,4,"0.0.0.0.0.166.60.50",2,18,null,1512,null,null,null,30287,"0.0.0.0.0.166.44.143",true,true,false,false,false,1,0,true,48]
["item",40,"10331",null,null,null,"C3750X-48 IP Base to IP Services factory IOS Upgrade","C3750X-48-IOS-S-E",null,"standard material","electronic","Cisco","EA",3840,0,"HP",0,null,"Michael J. Daniel",0,"NEC",true,4,"0.0.0.0.0.166.60.55",2,18,null,1513,null,null,null,30288,"0.0.0.0.0.166.44.148",true,true,false,false,false,1,0,false,0]
["item",40,"10332",null,null,null,"Catalyst 3750X 48 Port Full PoE IP Base","WS-C3750X-48PF-S","1100 watt power supply","standard material","electronic","Cisco","EA",5600,0,"HP",0,null,"Michael J. Daniel",0,"NEC",true,4,"0.0.0.0.0.166.60.58",2,18,null,1514,null,null,null,30289,"0.0.0.0.0.166.44.151",true,true,false,false,false,1,0,true,48]
["item",40,"10333",null,null,null,"Catalyst 3K-X 1G Network Module\t","C3KX-NM-1G=",null,"standard material","electronic","Cisco","EA",200,0,"HP",0,null,"Michael J. Daniel",0,"NEC",true,4,"0.0.0.0.0.166.60.63",2,18,null,1515,null,null,null,30290,"0.0.0.0.0.166.44.156",true,true,false,false,false,1,0,false,0]
["item",40,"10334",null,null,null,"Catalyst 3K-X 10G Network Module","C3KX-NM-10G=",null,"standard material","electronic","Cisco","EA",1000,0,"HP",0,null,"Michael J. Daniel",0,"NEC",true,4,"0.0.0.0.0.166.60.66",2,18,null,1516,null,null,null,30291,"0.0.0.0.0.166.44.159",true,true,false,false,false,1,0,false,0]
["item",40,"10335",null,null,null,"Catalyst 3K-X 715W AC Power Supply","C3KX-PWR-715WAC=","redundant power","standard material","electronic","Cisco","EA",400,0,"HP",0,null,"Michael J. Daniel",0,"NEC",true,4,"0.0.0.0.0.166.60.69",2,18,null,1517,null,null,null,30292,"0.0.0.0.0.166.44.162",true,true,false,false,false,1,0,false,0]
["item",40,"10336",null,null,null,"Catalyst 3K-X 1100W AC Power Supply","C3KX-PWR-1100WAC=","redundant power","standard material","electronic","Cisco","EA",600,0,"HP",0,null,"Michael J. Daniel",0,"NEC",true,4,"0.0.0.0.0.166.60.72",2,18,null,1518,null,null,null,30293,"0.0.0.0.0.166.44.165",true,true,false,false,false,1,0,false,0]
["item",40,"10337",null,null,null,"Catalyst 3K-X Fan Module Spare","C3KX-FAN-23CFM=",null,"standard material","electronic","Cisco","EA",118,0,"HP",0,null,"Michael J. Daniel",0,"NEC",true,4,"0.0.0.0.0.166.60.75",2,18,null,1519,null,null,null,30294,"0.0.0.0.0.166.44.168",true,true,false,false,false,1,0,false,0]
["item",40,"10338",null,null,null,"Cisco StackWise 50CM Non-Halogen Lead Free Stacking Cable","CAB-STACK-50CM-NH=",null,"standard material","electronic","Cisco","EA",60,0,"HP",0,null,"Michael J. Daniel",0,"NEC",true,4,"0.0.0.0.0.166.60.78",2,18,null,1520,null,null,null,30295,"0.0.0.0.0.166.44.171",true,true,false,false,false,1,0,false,0]
["item",40,"10339",null,null,null,"Cisco StackWise 1M Non-Halogen Lead Free Stacking Cable\t","CAB-STACK-1M-NH=",null,"standard material","electronic","Cisco","EA",100,0,"HP",0,null,"Michael J. Daniel",0,"NEC",true,4,"0.0.0.0.0.166.60.81",2,18,null,1521,null,null,null,30296,"0.0.0.0.0.166.44.174",true,true,false,false,false,1,0,false,0]
["item",40,"10340",null,null,null,"Cisco StackWise 3M Non-Halogen Lead Free Stacking Cable","CAB-STACK-3M-NH=",null,"standard material","electronic","Cisco","EA",140,0,"HP",0,null,"Michael J. Daniel",0,"NEC",true,4,"0.0.0.0.0.166.60.84",2,18,null,1522,null,null,null,30297,"0.0.0.0.0.166.44.177",true,true,false,false,false,1,0,false,0]
["item",40,"10341",null,null,null,"Catalyst 3750X Stack Power Cable 30 CM Spare","CAB-SPWR-30CM=","See Ordering Guidelines","standard material","electronic","Cisco","EA",38,0,"HP",0,"(1) Comes with Each Switch, if additional is needed please get Logical EO's approval first","Michael J. Daniel",0,"NEC",true,4,"0.0.0.0.0.166.60.87",2,18,null,1523,null,null,null,30298,"0.0.0.0.0.166.44.180",true,true,false,false,false,1,0,false,0]
["item",40,"10342",null,null,null,"Catalyst 3750X Stack Power Cable 150 CM Spare","CAB-SPWR-150CM=","For use with stack of (3) or greater","standard material","electronic","Cisco","EA",78,0,"HP",0,null,"Michael J. Daniel",0,"NEC",true,4,"0.0.0.0.0.166.60.90",2,18,null,1524,null,null,null,30299,"0.0.0.0.0.166.44.183",true,true,false,false,false,1,0,false,0]
["item",40,"10465",null,null,null,"Catalyst 3750X 12 Port Stackable GE SFP Ethernet ports, IP Services feature set","WS-C3750X-12S-E",null,"standard material","electronic","Cisco","EA",5600,0,"HP",0,null,"Michael J. Daniel",0,"NEC",true,4,"0.0.0.0.0.166.60.93",2,18,null,1585,null,null,null,31096,"0.0.0.0.0.166.44.186",true,true,false,false,false,1,0,true,12]
["item",40,"10516",null,null,null,"CISCO Catalyst 3750X 24 Port Stackable GE SFP Ethernet ports, IP Services feature set","WS-C3750X-24S-E  ",null,"standard material","electronic","Cisco","EA",12000,0,"HP",0,null,"Michael J. Daniel",0,"NEC",true,4,"0.0.0.0.0.166.60.98",2,18,null,1586,null,null,null,31097,"0.0.0.0.0.166.44.191",true,true,false,false,false,1,0,true,24]
["item",40,"8199",null,null,null,"Cisco AC Power Cord (North America),110V Nema 5-15 amp","CAB-AC",null,"standard material","electronic","Cisco","EA",20,0,"HP",0,null,"Kyle M. Daniel",0,"NEC",true,4,"0.0.0.0.0.166.60.103",2,18,null,670,null,null,null,27872,"0.0.0.0.0.166.44.196",true,true,false,false,false,1,0,false,0]
["item",40,"8660",null,null,null,"Cisco StackWise 3M Stacking Cable","CAB-STACK-3M",null,"standard material","electronic","Cisco","EA",120,0,"HP",0,null,"Kyle M. Daniel",0,"NEC",true,4,"0.0.0.0.0.166.60.106",2,18,null,671,null,null,null,27873,"0.0.0.0.0.166.44.199",true,true,false,false,false,1,0,false,0]
["item",40,"8730",null,null,null,"Catalyst 3750 24 10/100 PoE + 2 SFP ","WS-C3750-24PS-E",null,"standard material","electronic","Cisco","EA",2920,0,"HP","0","See Element Owner for ordering instructions","Kyle M. Daniel",0,"NEC",true,4,"0.0.0.0.0.166.60.109",2,18,null,672,null,null,null,27874,"0.0.0.0.0.166.44.202",true,true,false,false,false,1,0,true,24]
["item",40,"8776",null,null,null,"Cisco StackWise 50CM Stacking Cable","CAB-STACK-50CM",null,"standard material","electronic","Cisco","EA",0,0,"HP",0,null,"Kyle M. Daniel",0,"NEC",true,4,"0.0.0.0.0.166.60.114",2,18,null,673,null,null,null,27875,"0.0.0.0.0.166.44.207",true,true,false,false,false,1,0,false,0]
["item",40,"8799",null,null,null,"Catalyst 3750 48 10/100 PoE + 4 SFP Enhanced Image","WS-C3750-48PS-E",null,"standard material","electronic","Cisco","EA",5035.2,0,"HP",0,null,"Kyle M. Daniel",0,"NEC",true,4,"0.0.0.0.0.166.60.117",2,18,null,674,null,null,null,27876,"0.0.0.0.0.166.44.210",true,true,false,false,false,1,0,true,48]
["item",40,"8803",null,null,null,"Catalyst 3750 12 SFP Enhanced Multilayer Image ","WS-C3750G-12S-E",null,"standard material","electronic","Cisco","EA",4796,0,"HP",0,null,"Kyle M. Daniel",0,"NEC",true,4,"0.0.0.0.0.166.60.122",2,18,null,675,null,null,null,27877,"0.0.0.0.0.166.44.215",true,true,false,false,false,1,0,true,12]
["item",40,"8819",null,null,null,"Catalyst 3750 48 10/100/1000T PoE + 4 SFP Enhanced Image","WS-C3750G-48PS-E",null,"standard material","electronic","Cisco","EA",9396,0,"HP",0,null,"Kyle M. Daniel",0,"NEC",true,4,"0.0.0.0.0.166.60.127",2,18,null,676,null,null,null,27878,"0.0.0.0.0.166.44.220",true,true,false,false,false,1,0,true,48]
["item",40,"8823",null,null,null,"Redundant Power System 2300 and Blower, No Power Supply","PWR-RPS2300",null,"standard material","electronic","Cisco","EA",480,0,"HP",0,null,"Kyle M. Daniel",0,"NEC",true,4,"0.0.0.0.0.166.60.132",2,18,null,677,null,null,null,27879,"0.0.0.0.0.166.44.225",true,true,false,false,false,1,0,false,0]
["item",40,"8824",null,null,null,"Cisco StackWise 1M Stacking Cable","CAB-STACK-1M",null,"standard material","electronic","Cisco","EA",40,0,"HP",0,null,"Kyle M. Daniel",0,"NEC",true,4,"0.0.0.0.0.166.60.135",2,18,null,678,null,null,null,27880,"0.0.0.0.0.166.44.228",true,true,false,false,false,1,0,false,0]
["item",40,"8825",null,null,null,"Redundant Power System 2300 750WAC power supply","C3K-PWR-750WAC",null,"standard material","electronic","Cisco","EA",398,0,"HP",0,null,"Kyle M. Daniel",0,"NEC",true,4,"0.0.0.0.0.166.60.138",2,18,null,679,null,null,null,27881,"0.0.0.0.0.166.44.231",true,true,false,false,false,1,0,false,0]
["item",40,"8826",null,null,null,"Redundant Power System 2300 Spare Cable for Devices other than E-Series Switches","CAB-RPS2300=",null,"standard material","electronic","Cisco","EA",72,0,"HP",0,"order 1 additional cable per switch per stack","Kyle M. Daniel",0,"NEC",true,4,"0.0.0.0.0.166.60.141",2,18,null,680,null,null,null,27882,"0.0.0.0.0.166.44.234",true,true,false,false,false,1,0]
["item",40,"8827",null,null,null,"Catalyst 3750 24 10/100/1000T PoE + 4 SFP Enhanced Image","WS-C3750G-24PS-E",null,"standard material","electronic","Cisco","EA",4716,0,"HP",0,null,"Kyle M. Daniel",0,"NEC",true,4,"0.0.0.0.0.166.60.144",2,18,null,681,null,null,null,27883,"0.0.0.0.0.166.44.237",true,true,false,false,false,1,0,true,24]
["item",40,"8886",null,null,null,"Catalyst 3750 24 10/100 + 2 SFP Enhanced Image","WS-C3750-24TS-E",null,"standard material","electronic","Cisco","EA",2875.2,0,"HP",0,null,"Kyle M. Daniel",0,"NEC",true,4,"0.0.0.0.0.166.60.149",2,18,null,682,null,null,null,27884,"0.0.0.0.0.166.44.242",true,true,false,false,false,1,0,true,24]
["item",40,"8897",null,null,null,"Catalyst 3750 24 10/100/1000 + 4 SFP","WS-C3750G-24TS-E",null,"standard material","electronic","Cisco","EA",4396,0,"HP","0","Gold Build Template item","Kyle M. Daniel",0,"NEC",true,4,"0.0.0.0.0.166.60.154",2,18,null,683,null,null,null,27885,"0.0.0.0.0.166.44.247",true,true,false,false,false,1,0,true,24]
["Header",41,"Cisco Routers"]
["item",41,"10497",null,null,null,"CISCO 7200 Network Processing Engine with 3 GE/FE/E ports","NPE-G1",null,"standard material","electronic",{"$f":"VLOOKUP(Z1100,rngManufacturerLookup,2,FALSE)","v":"Cisco"},"EA",6750,{"$f":"(E1100*N1100)","v":0},{"$f":"VLOOKUP(Y1100,rngSupplierLookup,2,FALSE)","v":"HP"},0,null,"Michael J. Daniel",{"$f":"(F1100*N1100)","v":0},"NEC",true,4,"0.0.0.0.0.166.60.159",2,18,null,1587,null,null,null,31098,"0.0.0.0.0.166.44.252",true,true,false,false,false,1,0,false,0]
["item",41,"8419",null,null,null,"Cisco7204: Cisco 7200 4-slot Modular Router-AC with IP Software","CISCO7204VXR",null,"standard material","electronic",{"$f":"VLOOKUP(Z1101,rngManufacturerLookup,2,FALSE)","v":"Cisco"},"EA",2700,{"$f":"(E1101*N1101)","v":0},{"$f":"VLOOKUP(Y1101,rngSupplierLookup,2,FALSE)","v":"HP"},0,null,"Kyle M. Daniel",{"$f":"(F1101*N1101)","v":0},"DWC",true,4,"0.0.0.0.0.166.60.162",2,18,null,779,null,null,null,27981,"0.0.0.0.0.166.44.255",true,true,false,false,false,1,0,true,4]
["Header",42,"Cisco Catalyst 4500 Series Switches"]
["item",42,"10484",null,null,null,"CISCO Catalyst 4500 6000W AC dual input Power Supply (Data + PoE)","PWR-C45-6000ACV\t",null,"standard material","electronic",{"$f":"VLOOKUP(Z1103,rngManufacturerLookup,2,FALSE)","v":"Cisco"},"EA",1797.75,{"$f":"(E1103*N1103)","v":0},{"$f":"VLOOKUP(Y1103,rngSupplierLookup,2,FALSE)","v":"HP"},0,null,"Michael J. Daniel",{"$f":"(F1103*N1103)","v":0},"NEC",true,4,"0.0.0.0.0.166.60.167",2,18,null,1588,null,null,null,31099,"0.0.0.0.0.166.45.5",true,true,false,false,false,1,0,false,0]
["item",42,"10485",null,null,null,"CISCO Catalyst 4500 2GB SD Memory Card for Sup7-E","SD-X45-2GB-E",null,"standard material","electronic","Cisco","EA",225,0,"HP",0,null,"Michael J. Daniel",0,"NEC",true,4,"0.0.0.0.0.166.60.170",2,18,null,1589,null,null,null,31100,"0.0.0.0.0.166.45.8",true,true,false,false,false,1,0,false,0]
["item",42,"10486",null,null,null,"CISCO Catalyst 4500 40 SFP/80 C-SFP ports 1000BaseX(SFPs Optional)","WS-X4640-CSFP-E",null,"standard material","electronic","Cisco","EA",8977.5,0,"HP",0,null,"Michael J. Daniel",0,"NEC",true,4,"0.0.0.0.0.166.60.173",2,18,null,1590,null,null,null,31101,"0.0.0.0.0.166.45.11",true,true,false,false,false,1,0,false,0]
["item",42,"10487",null,null,null,"CISCO Catalyst 4500E Supervisor LE, 520Gbps","WS-X45-SUP7L-E",null,"standard material","electronic","Cisco","EA",5397.75,0,"HP",0,null,"Michael J. Daniel",0,"NEC",true,4,"0.0.0.0.0.166.60.176",2,18,null,1591,null,null,null,31102,"0.0.0.0.0.166.45.14",true,true,false,false,false,1,0,false,0]
["item",42,"10488",null,null,null,"CISCO Catalyst 4500E 48-Port PoE 802.3at 10/100/1000(RJ45)","WS-X4748-RJ45V+E",null,"standard material","electronic","Cisco","EA",4047.75,0,"HP",0,null,"Michael J. Daniel",0,"NEC",true,4,"0.0.0.0.0.166.60.179",2,18,null,1592,null,null,null,31103,"0.0.0.0.0.166.45.17",true,true,false,false,false,1,0,false,0]
["item",42,"10489",null,null,null,"CISCO Catalyst 4500E Paper IP to Ent Services License","C4500E-IP-ES",null,"standard material","electronic","Cisco","EA",4497.75,0,"HP",0,null,"Michael J. Daniel",0,"NEC",true,4,"0.0.0.0.0.166.60.182",2,18,null,1593,null,null,null,31104,"0.0.0.0.0.166.45.20",true,true,false,false,false,1,0,false,0]
["item",42,"10490",null,null,null,"CISCO Catalyst 4500E 48-Port UPOE 10/100/1000(RJ45)","WS-X4748-UPOE+E\t",null,"standard material","electronic","Cisco","EA",4047.75,0,"HP",0,null,"Michael J. Daniel",0,"NEC",true,4,"0.0.0.0.0.166.60.185",2,18,null,1594,null,null,null,31105,"0.0.0.0.0.166.45.23",true,true,false,false,false,1,0,false,0]
["item",42,"10491",null,null,null,"CISCO Catalyst 4500E 12-Port GE (SFP)","WS-X4612-SFP-E",null,"standard material","electronic","Cisco","EA",2697.75,0,"HP",0,null,"Michael J. Daniel",0,"NEC",true,4,"0.0.0.0.0.166.60.188",2,18,null,1595,null,null,null,31106,"0.0.0.0.0.166.45.26",true,true,false,false,false,1,0,false,0]
["item",42,"10492",null,null,null,"CISCO Catalyst 4500E 24-Port GE (SFP)","WS-X4624-SFP-E",null,"standard material","electronic","Cisco","EA",9000,0,"HP",0,null,"Michael J. Daniel",0,"NEC",true,4,"0.0.0.0.0.166.60.191",2,18,null,1596,null,null,null,31107,"0.0.0.0.0.166.45.29",true,true,false,false,false,1,0,false,0]
["item",42,"10493",null,null,null,"CISCO Catalyst 4500E 48-Port 10/100/1000","WS-X4748-RJ45-E",null,"standard material","electronic","Cisco","EA",3147.75,0,"HP",0,null,"Michael J. Daniel",0,"NEC",true,4,"0.0.0.0.0.166.60.194",2,18,null,1597,null,null,null,31108,"0.0.0.0.0.166.45.32",true,true,false,false,false,1,0,false,0]
["item",42,"10494",null,null,null,"CISCO Catalyst 4500E 10 slot chassis for 48Gbps/slot\t","WS-C4510R+E",null,"standard material","electronic","Cisco","EA",4497.75,0,"HP",0,null,"Michael J. Daniel",0,"NEC",true,4,"0.0.0.0.0.166.60.197",2,18,null,1598,null,null,null,31109,"0.0.0.0.0.166.45.35",true,true,false,false,false,1,0,true,48]
["item",42,"10495",null,null,null,"CISCO Catalyst 4500 E-Series Supervisor, 848Gbps\t","WS-X45-SUP7-E",null,"standard material","electronic","Cisco","EA",8997.75,0,"HP",0,null,"Michael J. Daniel",0,"NEC",true,4,"0.0.0.0.0.166.60.202",2,18,null,1599,null,null,null,31110,"0.0.0.0.0.166.45.40",true,true,false,false,false,1,0,false,0]
["item",42,"10514",null,null,null,"CISCO Catalyst WS-C4507R+E Chassis, two WS-X4648-RJ45V+E, Sup7L-E, LAN Base\t","WS-C4507RE+96V+",null,"standard material","electronic","Cisco","EA",12147.75,0,"HP",0,null,"Michael J. Daniel",0,"NEC",true,4,"0.0.0.0.0.166.60.205",2,18,null,1600,null,null,null,31111,"0.0.0.0.0.166.45.43",true,true,false,false,false,1,0,false,0]
["item",42,"10515",null,null,null,"CISCO Catalyst 4510R+E Chassis, Two WS-X4748-RJ45V+E, Sup7-E","WS-C4510RE-S7+96V+",null,"standard material","electronic","Cisco","EA",24745.5,0,"HP",0,null,"Michael J. Daniel",0,"NEC",true,4,"0.0.0.0.0.166.60.208",2,18,null,1601,null,null,null,31112,"0.0.0.0.0.166.45.46",true,true,false,false,false,1,0,false,0]
["item",42,"8619",null,null,null,"Catalyst 4500 Chassis (7-Slot), fan, No p/s,Red Sup Capable","WS-C4507R",null,"standard material","electronic","Cisco","EA",3147.75,0,"HP",0,"Includes Sup II ","Kyle M. Daniel",0,"DWC",true,4,"0.0.0.0.0.166.60.211",2,18,null,803,null,null,null,28005,"0.0.0.0.0.166.45.49",true,true,false,false,false,1,0,false,0]
["Header",45,"Cisco Wireless Controllers and Wism Blades"]
["item",45,"10450",null,null,null,"Cisco 5508 Series Wireless Controller for up to 12 APs","AIR-CT5508-12-K9",null,"standard material","electronic",{"$f":"VLOOKUP(Z1119,rngManufacturerLookup,2,FALSE)","v":"Cisco"},"EA",4398,{"$f":"(E1119*N1119)","v":0},{"$f":"VLOOKUP(Y1119,rngSupplierLookup,2,FALSE)","v":"HP"},0,null,"Brian Olley",{"$f":"(F1119*N1119)","v":0},"NEC",true,4,"0.0.0.0.0.166.60.214",2,18,null,1538,null,null,null,30494,"0.0.0.0.0.166.45.52",true,true,false,false,false,1,0,false,0]
["item",45,"10451",null,null,null,"Cisco 5508 Series Wireless Controller for up to 25 APs","AIR-CT5508-25-K9",null,"standard material","electronic","Cisco","EA",6398,0,"HP",0,null,"Brian Olley",0,"NEC",true,4,"0.0.0.0.0.166.60.217",2,18,null,1539,null,null,null,30495,"0.0.0.0.0.166.45.55",true,true,false,false,false,1,0,false,0]
["item",45,"10452",null,null,null,"Cisco 5508 Series Wireless Controller for up to 50 APs","AIR-CT5508-50-K9",null,"standard material","electronic","Cisco","EA",8998,0,"HP",0,null,"Brian Olley",0,"NEC",true,4,"0.0.0.0.0.166.60.220",2,18,null,1540,null,null,null,30496,"0.0.0.0.0.166.45.58",true,true,false,false,false,1,0,false,0]
["item",45,"10453",null,null,null,"Cisco 5508 Series Wireless Controller for up to 100 APs","AIR-CT5508-100-K9",null,"standard material","electronic","Cisco","EA",15998,0,"HP",0,null,"Brian Olley",0,"NEC",true,4,"0.0.0.0.0.166.60.223",2,18,null,1541,null,null,null,30497,"0.0.0.0.0.166.45.61",true,true,false,false,false,1,0,false,0]
["item",45,"10454",null,null,null,"Cisco 5508 Series Wireless Controller for up to 250 APs","AIR-CT5508-250-K9",null,"standard material","electronic","Cisco","EA",25998,0,"HP",0,null,"Brian Olley",0,"NEC",true,4,"0.0.0.0.0.166.60.226",2,18,null,1542,null,null,null,30498,"0.0.0.0.0.166.45.64",true,true,false,false,false,1,0,false,0]
["item",45,"10455",null,null,null,"Cisco 5508 Series Wireless Controller for up to 500 APs","AIR-CT5508-500-K9",null,"standard material","electronic","Cisco","EA",41998,0,"HP",0,null,"Brian Olley",0,"NEC",true,4,"0.0.0.0.0.166.60.229",2,18,null,1543,null,null,null,30499,"0.0.0.0.0.166.45.67",true,true,false,false,false,1,0,false,0]
["item",45,"10456",null,null,null,"Cisco 5500 Series Wireless Controller Redundant Power Supply","AIR-PWR-5500-AC",null,"standard material","electronic","Cisco","EA",598,0,"HP",0,null,"Brian Olley",0,"NEC",true,4,"0.0.0.0.0.166.60.232",2,18,null,1544,null,null,null,30500,"0.0.0.0.0.166.45.70",true,true,false,false,false,1,0,false,0]
["item",45,"10457",null,null,null,"Cisco 5500 Series Field Replaceable Fan Tray","AIR-FAN-5500=",null,"standard material","electronic","Cisco","EA",118,0,"HP",0,null,"Brian Olley",0,"NEC",true,4,"0.0.0.0.0.166.60.235",2,18,null,1545,null,null,null,30501,"0.0.0.0.0.166.45.73",true,true,false,false,false,1,0,false,0]
["item",45,"10458",null,null,null,"Cisco 5508 Series Wireless Controller 25 AP Adder License","LIC-CT5508-25A",null,"standard material","electronic","Cisco","EA",5997.6,0,"HP",0,null,"Brian Olley",0,"NEC",true,4,"0.0.0.0.0.166.60.238",2,18,null,1546,null,null,null,30502,"0.0.0.0.0.166.45.76",true,true,false,false,false,1,0,false,0]
["item",45,"10459",null,null,null,"Cisco 5508 Series Wireless Controller 50 AP Adder License","LIC-CT5508-50A",null,"standard material","electronic","Cisco","EA",10317.6,0,"HP",0,null,"Brian Olley",0,"NEC",true,4,"0.0.0.0.0.166.60.241",2,18,null,1547,null,null,null,30503,"0.0.0.0.0.166.45.79",true,true,false,false,false,1,0,false,0]
["item",45,"10460",null,null,null,"Cisco 5508 Series Wireless Controller 100 AP Adder License","LIC-CT5508-100A",null,"standard material","electronic","Cisco","EA",15597.6,0,"HP",0,null,"Brian Olley",0,"NEC",true,4,"0.0.0.0.0.166.60.244",2,18,null,1548,null,null,null,30504,"0.0.0.0.0.166.45.82",true,true,false,false,false,1,0,false,0]
["item",45,"10461",null,null,null,"Cisco 5508 Series Wireless Controller 250 AP Adder License","LIC-CT5508-250A",null,"standard material","electronic","Cisco","EA",28077.599999999999,0,"HP",0,null,"Brian Olley",0,"NEC",true,4,"0.0.0.0.0.166.60.247",2,18,null,1549,null,null,null,30505,"0.0.0.0.0.166.45.85",true,true,false,false,false,1,0,false,0]
["item",45,"10482",null,null,null,"CISCO Wireless Services Module: WiSM-2","WS-SVC-WISM2-K9",null,"standard material","electronic","Cisco","EA",11998,0,"HP",0,null,"Michael J. Daniel",0,"NEC",true,4,"0.0.0.0.0.166.60.250",2,18,null,1603,null,null,null,31114,"0.0.0.0.0.166.45.88",true,true,false,false,false,1,0,false,0]
["item",45,"8006",null,null,null,"CISCO WIRELESS SERVICES MODULE (WISM)","WS-SVC-WISM-1-K9=",null,"standard material","electronic","Cisco","EA",18398,0,"HP",0,null,"Kyle M. Daniel",0,"NEC",true,4,"0.0.0.0.0.166.60.253",2,18,null,729,null,null,null,27931,"0.0.0.0.0.166.45.91",true,true,false,false,false,1,0,false,0]
["Header",46,"Cisco Catalyst 4900 Series Switches"]
["item",46,"10199",null,null,null,"Catalyst 4900M Base system with 8 X2 ports and 2 half slots","WS-C4900M",null,"standard material","electronic",{"$f":"VLOOKUP(Z1134,rngManufacturerLookup,2,FALSE)","v":"Cisco"},"EA",7200,{"$f":"(E1134*N1134)","v":0},{"$f":"VLOOKUP(Y1134,rngSupplierLookup,2,FALSE)","v":"HP"},0,null,"Michael J. Daniel",{"$f":"(F1134*N1134)","v":0},"NEC",true,4,"0.0.0.0.0.166.61.1",2,18,null,1369,null,null,null,29412,"0.0.0.0.0.166.45.94",true,true,false,false,false,1,0,false,0]
["item",46,"10200",null,null,null,"Catalyst 4900M IOS ENTERPRISE SERVICES SSH","S49MESK9-12254SG",null,"standard material","electronic","Cisco","EA",5400,0,"HP",0,null,"Michael J. Daniel",0,"NEC",true,4,"0.0.0.0.0.166.61.4",2,18,null,1370,null,null,null,29413,"0.0.0.0.0.166.45.97",true,true,false,false,false,1,0,false,0]
["item",46,"10201",null,null,null,"10GBASE-SR X2 Module","X2-10GB-SR",null,"standard material","electronic","Cisco","EA",897.75,0,"HP",0,null,"Michael J. Daniel",0,"NEC",true,4,"0.0.0.0.0.166.61.7",2,18,null,1371,null,null,null,29414,"0.0.0.0.0.166.45.100",true,true,false,false,false,1,0,false,0]
["item",46,"10202",null,null,null,"Catalyst 4900M 20 port, 10/100/1000 RJ45","WS-X4920-GB-RJ45",null,"standard material","electronic","Cisco","EA",1575,0,"HP",0,null,"Michael J. Daniel",0,"NEC",true,4,"0.0.0.0.0.166.61.10",2,18,null,1372,null,null,null,29415,"0.0.0.0.0.166.45.103",true,true,false,false,false,1,0,false,0]
["item",46,"10203",null,null,null,"Catalyst 4900M AC power supply, 1000 watts","PWR-C49M-1000AC",null,"standard material","electronic","Cisco","EA",450,0,"HP",0,null,"Michael J. Daniel",0,"NEC",true,4,"0.0.0.0.0.166.61.13",2,18,null,1373,null,null,null,29416,"0.0.0.0.0.166.45.106",true,true,false,false,false,1,0,false,0]
["item",46,"10204",null,null,null,"Catalyst 4900M Redundant AC PS","PWR-C49M-1000AC/2",null,"standard material","electronic","Cisco","EA",450,0,"HP",0,null,"Michael J. Daniel",0,"NEC",true,4,"0.0.0.0.0.166.61.16",2,18,null,1374,null,null,null,29417,"0.0.0.0.0.166.45.109",true,true,false,false,false,1,0,false,0]
["item",46,"10205",null,null,null,"Catalyst 4900M Compact Flash, 128MB Option","MEM-C4K-FLD128M",null,"standard material","electronic","Cisco","EA",315,0,"HP",0,null,"Michael J. Daniel",0,"NEC",true,4,"0.0.0.0.0.166.61.19",2,18,null,1375,null,null,null,29418,"0.0.0.0.0.166.45.112",true,true,false,false,false,1,0,false,0]
["Header",47,"Miscellaneous"]
["item",47,"0463-088M",1009,null,null,"LABEL, LASER, WHITE, 1.900 IN WIDE, 0.750 IN LG, SELF ADHESIVE, 12/SHEET 84 SHEETS/PKG","TAG1L-105","Contact Brian Olley before ordering these.","standard material","physical",{"$f":"VLOOKUP(Z1142,rngManufacturerLookup,2,FALSE)","v":"Hellermann Tyton"},"EA",158.19999999999999,{"$f":"(E1142*N1142)","v":0},{"$f":"VLOOKUP(Y1142,rngSupplierLookup,2,FALSE)","v":"DWC"},6810,"Contact Brian Olley before ordering these.","Kyle M. Daniel",{"$f":"(F1142*N1142)","v":0},"DWC",true,4,"0.0.0.0.0.166.61.22",1,36,null,684,null,null,null,27886,"0.0.0.0.0.166.45.115",true,false,true,false,false,3,0,false,0]
["item",47,"10325",null,null,null,"Label-printing Software","556-00022",null,"standard material","physical","Hellermann Tyton","EA",298.88,0,"DWC",6810,null,"Kyle M. Daniel",0,"DWC",true,4,"0.0.0.0.0.166.61.25",1,36,null,1408,null,null,null,29964,"0.0.0.0.0.166.45.118",true,false,true,false,false,3,0,false,0]
["item",47,"INFO-3176","157",null,null,"Cable Lube F-100/ 5 Gallon Pail","1-400058",null,"standard material","physical","Arnco","EA",29.55,0,"DWC",6810,"Required if UAW terminates otherwise do not order. Provided by non-UAW installers.Order cable lube only when installing conventional fiber.","Kyle M. Daniel",0,"DWC",true,4,"0.0.0.0.0.166.61.28",1,8,null,685,null,null,null,27887,"0.0.0.0.0.166.45.121",true,false,true,false,false,3,0]
["item",47,"INFO-3182","156",null,null,"Cable Lube F-128 / 1 Gallon Pail","F-128",null,"standard material","physical","Polywater","EA",15.94,0,"DWC",6810,"Required if UAW terminates otherwise do not order. Provided by non-UAW installers.Order cable lube only when installing conventional fiber.","Kyle M. Daniel",0,"DWC",true,4,"0.0.0.0.0.166.61.31",1,58,null,686,null,null,null,27888,"0.0.0.0.0.166.45.124",true,false,true,false,false,3,0,false,0]
["item",47,"INFO-9004","438",null,null,"Tyton Labels for wire and patch cords 1.5\"x.38\" - 2500 /pack","TAG63L-105","Actual Quantity=","standard material","physical","Hellermann Tyton","EA",123.52,0,"DWC",6810,"Include 1 labor item (part number \"L-P-L\") per project","Kyle M. Daniel",0,"DWC",true,4,"0.0.0.0.0.166.61.34",1,36,null,687,null,null,null,27889,"0.0.0.0.0.166.45.127",true,false,true,false,false,3,1,false,0]
["item",47,"INFO-9005","439",null,null,"Tyton Labels for equipment - 1000 /pack (xx width)","TAG62L-788","Actual Quantity=","standard material","physical","Hellermann Tyton","EA",46.02,0,"DWC",6810,null,"Kyle M. Daniel",0,"DWC",true,4,"0.0.0.0.0.166.61.37",1,36,null,688,null,null,null,27890,"0.0.0.0.0.166.45.130",true,false,true,false,false,3,1,false,0]
["item",47,"INFO-9006","441",null,null,"3M 1 x 1.5 Lettering Kit","5005",null,"standard material","physical","3M","EA",113.6,0,"DWC",6810,null,"Kyle M. Daniel",0,"DWC",true,4,"0.0.0.0.0.166.61.40",1,1,null,689,null,null,null,27891,"0.0.0.0.0.166.45.133",true,false,true,false,false,3,0.5,false,0]
["item",47,"INFO-9007","442",null,null,"3M 1 x 3 Lettering Kit","5025",null,"standard material","physical","3M","EA",359.32,0,"DWC",6810,null,"Kyle M. Daniel",0,"DWC",true,4,"0.0.0.0.0.166.61.43",1,1,null,690,null,null,null,27892,"0.0.0.0.0.166.45.136",true,false,true,false,false,3,0.5,false,0]
["item",47,"INFO-9008","454",null,null,"Firestop Putty - 1 bar","AA445",null,"standard material","physical","Nelson","EA",18.66,0,"DWC",6810,null,"Kyle M. Daniel",0,"DWC",true,4,"0.0.0.0.0.166.61.46",1,49,null,691,null,null,null,27893,"0.0.0.0.0.166.45.139",true,false,true,false,false,3,0.5,false,0]
["item",47,"INFO-9013","458",null,null,"Strap cable marker","CM4S-L2",null,"standard material","physical","Panduit","EA",0.67,0,"DWC",6810,null,"Kyle M. Daniel",0,"DWC",true,4,"0.0.0.0.0.166.61.49",1,57,null,692,null,null,null,27894,"0.0.0.0.0.166.45.142",true,false,true,false,false,3,0,false,0]
["item",47,"INFO-9027","440",null,null,"Tyton Labels for equipment - 1000 /pack (xx width)","TAG57L-788","Actual Quantity=","standard material","physical","Hellermann Tyton","EA",184.76,0,"DWC",6810,null,"Kyle M. Daniel",0,"DWC",true,4,"0.0.0.0.0.166.61.52",1,36,null,694,null,null,null,27896,"0.0.0.0.0.166.45.145",true,false,true,false,false,3,1,false,0]
["item",47,"INFO-9028","443",null,null,"Brady stand alone label maker","TLS 2200",null,"standard material","physical","Brady","EA",776.72,0,"DWC",6810,null,"Kyle M. Daniel",0,"DWC",true,4,"0.0.0.0.0.166.61.55",1,11,null,695,null,null,null,27897,"0.0.0.0.0.166.45.148",true,false,true,false,false,3,0,false,0]
["item",47,"INFO-9029","444",null,null,"Brady labels MAX/CT Facep;late for TLS2200","PTL-40-412",null,"standard material","physical","Brady","EA",52.47,0,"DWC",6810,null,"Kyle M. Daniel",0,"DWC",true,4,"0.0.0.0.0.166.61.58",1,11,null,696,null,null,null,27898,"0.0.0.0.0.166.45.151",true,false,true,false,false,3,0.1,false,0]
["item",47,"INFO-9030","445",null,null,"Brady labels MAX/CT Facep;late for laser printer","LAT-176-124",null,"standard material","physical","Brady","EA",34.79,0,"DWC",6810,null,"Kyle M. Daniel",0,"DWC",true,4,"0.0.0.0.0.166.61.61",1,11,null,697,null,null,null,27899,"0.0.0.0.0.166.45.154",true,false,true,false,false,3,0.1,false,0]
["item",47,"INFO-9031","446",null,null,"Brady label for HD-5 patch panel for TLS2200","PTL-44-422",null,"standard material","physical","Brady","EA",31.67,0,"DWC",6810,null,"Kyle M. Daniel",0,"DWC",true,4,"0.0.0.0.0.166.61.64",1,11,null,698,null,null,null,27900,"0.0.0.0.0.166.45.157",true,false,true,false,false,3,0.1,false,0]
["item",47,"INFO-9032","447",null,null,"Brady label for HD-5 patch panel for laser printer","LAT-45-707",null,"standard material","physical","Brady","EA",147.4,0,"DWC",6810,null,"Kyle M. Daniel",0,"DWC",true,4,"0.0.0.0.0.166.61.67",1,11,null,699,null,null,null,27901,"0.0.0.0.0.166.45.160",true,false,true,false,false,3,0.1,false,0]
["item",47,"INFO-9033","448",null,null,"Brady label for Cat-5e cable for TLS2200","PTL-31-427",null,"standard material","physical","Brady","EA",39.32,0,"DWC",6810,null,"Kyle M. Daniel",0,"DWC",true,4,"0.0.0.0.0.166.61.70",1,11,null,700,null,null,null,27902,"0.0.0.0.0.166.45.163",true,false,true,false,false,3,0.1,false,0]
["item",47,"INFO-9034","449",null,null,"Brady label for Cat-5e cable for laser printer","LAT-18-361",null,"standard material","physical","Brady","EA",84.08,0,"DWC",6810,null,"Kyle M. Daniel",0,"DWC",true,4,"0.0.0.0.0.166.61.73",1,11,null,701,null,null,null,27903,"0.0.0.0.0.166.45.166",true,false,true,false,false,3,0.1,false,0]
["item",47,"INFO-9035","450",null,null,"Brady label for 25 pair copper for TLS2200","PTL-21-427",null,"standard material","physical","Brady","EA",23.48,0,"DWC",6810,null,"Kyle M. Daniel",0,"DWC",true,4,"0.0.0.0.0.166.61.76",1,11,null,702,null,null,null,27904,"0.0.0.0.0.166.45.169",true,false,true,false,false,3,0.1,false,0]
["item",47,"INFO-9036","451",null,null,"Brady label for 25 pair copper for laser printer","LAT-19-361",null,"standard material","physical","Brady","EA",155.83000000000001,0,"DWC",6810,null,"Kyle M. Daniel",0,"DWC",true,4,"0.0.0.0.0.166.61.79",1,11,null,703,null,null,null,27905,"0.0.0.0.0.166.45.172",true,false,true,false,false,3,0.1,false,0]
["item",47,"INFO-9037","452",null,null,"Brady label for 2 pair fiber for TLS2200","PTL-19-427",null,"standard material","physical","Brady","EA",30.68,0,"DWC",6810,null,"Kyle M. Daniel",0,"DWC",true,4,"0.0.0.0.0.166.61.82",1,11,null,704,null,null,null,27906,"0.0.0.0.0.166.45.175",true,false,true,false,false,3,0.1,false,0]
["item",47,"INFO-9038","453",null,null,"Brady label for 2 pair fiber for  laser printer","LAT-17-361",null,"standard material","physical","Brady","EA",72.95,0,"DWC",6810,null,"Kyle M. Daniel",0,"DWC",true,4,"0.0.0.0.0.166.61.85",1,11,null,705,null,null,null,27907,"0.0.0.0.0.166.45.178",true,false,true,false,false,3,0.1,false,0]
["item",47,"INFO-9040","465",null,null,"2\" Bridle Ring","BR-200",null,"standard material","physical","Garvin","EA",0.52,0,"DWC",6810,"Do not order without approval.","Kyle M. Daniel",0,"DWC",true,4,"0.0.0.0.0.166.61.88",1,31,null,706,null,null,null,27908,"0.0.0.0.0.166.45.181",true,false,true,false,false,3,0.05,false,0]
["item",47,"INFO-9041","466",null,null,"4\" Bridle Ring","BR-400",null,"standard material","physical","Garvin","EA",1.08,0,"DWC",6810,"Do not order without approval.","Kyle M. Daniel",0,"DWC",true,4,"0.0.0.0.0.166.61.91",1,31,null,707,null,null,null,27909,"0.0.0.0.0.166.45.184",true,false,true,false,false,3,0.05]
["Header",48,"Wireless Antennas + Accessories"]
["item",48,"10225",null,null,null,"2.4 GHz 802.11b/g/n 3.0 dBi Omnidirectional Ceiling Mount, 3 coax connection leads 3 integrated antennas in one unit)","AIR-ANT2430V-R","Ceiling Mount Antennas for Office Environment","standard material","electronic",{"$f":"VLOOKUP(Z1167,rngManufacturerLookup,2,FALSE)","v":"Cisco"},"EA",99.6,{"$f":"(E1167*N1167)","v":0},{"$f":"VLOOKUP(Y1167,rngSupplierLookup,2,FALSE)","v":"HP"},0,"Order one per freq for the Cisco 1252 AP.  This antenna has (3) intergrated antennas in it.","Steve Deboutte",{"$f":"(F1167*N1167)","v":0},"NEC",true,4,"0.0.0.0.0.166.61.94",2,18,null,1376,null,null,null,29419,"0.0.0.0.0.166.45.187",true,true,false,false,false,1,0.2,false,0]
["item",48,"10226",null,null,null,"5.0 GHz 802.11a/n 4.0 dBi Omnidirectional Ceiling Mount, 3 coax connection leads (3 integrated antennas in one unit)","AIR-ANT5140V-R","Ceiling Mount Antenna for Office Environment","standard material","electronic","Cisco","EA",99.6,0,"HP",0,"Order (1) per freq for the Cisco 1252 AP. This Antenna has (3) intergrated antennas in it.","Steve Deboutte",0,"NEC",true,4,"0.0.0.0.0.166.61.97",2,18,null,1377,null,null,null,29420,"0.0.0.0.0.166.45.190",true,true,false,false,false,1,0.2,false,0]
["item",48,"10227",null,null,null,"2.4 GHz 5.2 dBi Mast Mount Omnidirectional RP-TNC connectors","AIR-ANT2506",null,"standard material","electronic","Cisco","EA",63.6,0,"HP",0,null,"Steve Deboutte",0,"NEC",true,4,"0.0.0.0.0.166.61.100",2,18,null,1378,null,null,null,29421,"0.0.0.0.0.166.45.193",true,true,false,false,false,1,0.2,false,0]
["item",48,"10228",null,null,null,"2.4 GHz 5.2 dBi Dipole Ceiling mount Omnidirectional","AIR-ANT1728",null,"standard material","electronic","Cisco","EA",63.6,0,"HP",0,null,"Steve Deboutte",0,"NEC",true,4,"0.0.0.0.0.166.61.103",2,18,null,1379,null,null,null,29422,"0.0.0.0.0.166.45.196",true,true,false,false,false,1,0.2,false,0]
["item",48,"10229",null,null,null,"5.0 GHz 9.0 dBi Single Non-Diversity Patch antenna (one coax lead)","AIR-ANT5195P-R",null,"standard material","electronic","Cisco","EA",95.6,0,"HP",0,null,"Steve Deboutte",0,"NEC",true,4,"0.0.0.0.0.166.61.106",2,18,null,1409,null,null,null,29965,"0.0.0.0.0.166.45.199",true,true,false,false,false,1,0.2,false,0]
["item",48,"10230",null,null,null,"2.4 GHz 6.0 dBi Single Non-Diversity Patch antenna (one coax lead)","AIR-ANT2460P-R",null,"standard material","electronic","Cisco","EA",87.6,0,"HP",0,null,"Steve Deboutte",0,"NEC",true,4,"0.0.0.0.0.166.61.109",2,18,null,1380,null,null,null,29423,"0.0.0.0.0.166.45.202",true,true,false,false,false,1,0.2,false,0]
["item",48,"10300",null,null,null,"2.4 GHz 6.0 dBi MIMO 802.11n directional antenna","AIR-ANT2460NP-R",null,"standard material","electronic","Cisco","EA",140,0,"HP",0,null,"Steve Deboutte",0,"NEC",true,4,"0.0.0.0.0.166.61.112",2,18,null,1381,null,null,null,29424,"0.0.0.0.0.166.45.205",true,true,false,false,false,1,0.2,false,0]
["item",48,"10301",null,null,null,"5.0 GHz 6.0 dBi MIMO 802.11n directional antenna","AIR-ANT5160NP-R",null,"standard material","electronic","Cisco","EA",140,0,"HP",0,null,"Steve Deboutte",0,"NEC",true,4,"0.0.0.0.0.166.61.115",2,18,null,1382,null,null,null,29425,"0.0.0.0.0.166.45.208",true,true,false,false,false,1,0.2,false,0]
["item",48,"10304",null,null,null,"2.4GHz Ceiling-Mount Diversity Indoor Antenna with RP-TNC Connectors 2dBI OMNIDIRECTIONAL. Antenna comes with a clip that permits it to be mounted to a drop-ceiling cross member.","AIR-ANT24020V-R=",null,"standard material","electronic","Cisco","EA",111.6,0,"HP",0,null,"Kyle M. Daniel",0,"NEC",true,4,"0.0.0.0.0.166.61.118",2,18,null,1410,null,null,null,29966,"0.0.0.0.0.166.45.211",true,true,false,false,false,1,0.2,false,0]
["item",48,"1102-009G",1011,null,null,"5 GHz Indoor or outdoor use omnidirectional Antenna, 6dBi (Pipe Bombs). For Use with the 1200 Series. Can be Mast or Ceiling Mounted.","AIR-ANT5160V-R",null,"standard material","electronic","Cisco","EA",83.6,0,"HP",0,null,"Kyle M. Daniel",0,"NEC",true,4,"0.0.0.0.0.166.61.121",2,18,null,713,null,null,null,27915,"0.0.0.0.0.166.45.214",true,true,false,false,false,1,0.2,false,0]
["item",48,"1102-009H",1013,null,null,"5 GHz Indoor-only Diversity Omnidirectional Ceiling Mount 4.5 dBi Antenna. For use with the 1200 Series","AIR-ANT5145V-R",null,"standard material","electronic","Cisco","EA",111.6,0,"HP",0,null,"Kyle M. Daniel",0,"NEC",true,4,"0.0.0.0.0.166.61.124",2,18,null,714,null,null,null,27916,"0.0.0.0.0.166.45.217",true,true,false,false,false,1,0.2,false,0]
["item",48,"1102-009J",1010,null,null,"5 GHz Single Black 3.5 dBi Dipole Antenna (Rubber Duck) with an RP-TNC Connector. Provides Indoor Omindirectional Area of Coverage.","AIR-ANT5135D-R",null,"standard material","electronic","Cisco","EA",7.6,0,"HP",0,"(1) Per Box Must Order in Pairs","Kyle M. Daniel",0,"NEC",true,4,"0.0.0.0.0.166.61.127",2,18,null,715,null,null,null,27917,"0.0.0.0.0.166.45.220",true,true,false,false,false,1,0.2,false,0]
["item",48,"1102-009K",1012,null,null,"5 GHz Wall Mount Diversity Patch Antenna with RP-TNC Connectors-Designed for use in both Indoor and Outdoor Applications. Antenna Comes with Wall Mount Hardware, and has a Gain of 7 dBi. Plenum Rated Pigtail Cable of 36\"","AIR-ANT5170P-R",null,"standard material","electronic","Cisco","EA",159.6,0,"HP",0,null,"Kyle M. Daniel",0,"NEC",true,4,"0.0.0.0.0.166.61.130",2,18,null,716,null,null,null,27918,"0.0.0.0.0.166.45.223",true,true,false,false,false,1,0.2,false,0]
["item",48,"1102-009L",1075,null,null,"2.4 GHz Wall-mount Diversity Patch Antenna with RP-TNC connectors. Designed for Use in Both Indoor and Outdoor Applications. Antenna Comes with Wall Mount Hardware, and has a Gain of 6.5 dBi. Plenum Rated Pigtail Cable of 36\".","AIR-ANT2465P-R",null,"standard material","electronic","Cisco","EA",159.6,0,"HP",0,null,"Kyle M. Daniel",0,"NEC",true,4,"0.0.0.0.0.166.61.133",2,18,null,717,null,null,null,27919,"0.0.0.0.0.166.45.226",true,true,false,false,false,1,0.2,false,0]
["item",48,"INRF-0001","882",null,null,"2.4 GHz Single Black 2.2 dBi Dipole Antenna (Rubber Duck) with an RP-TNC Connector. Provides Indoor Omindirectional Area of Coverage.","AIR-ANT4941",null,"standard material","electronic","Cisco","EA",7.6,0,"HP",0,"(1) Per Box Must Order in Pairs","Kyle M. Daniel",0,"NEC",true,4,"0.0.0.0.0.166.61.136",2,18,null,718,null,null,null,27920,"0.0.0.0.0.166.45.229",true,true,false,false,false,1,0.2,false,0]
["item",48,"INRF-0004","883",null,null,"2.4 GHz 13.5 dBi YAGI Mast Mount Antenna. High-gain outdoor directional antenna with a RP-TNC connector-antenna is a completely enclosed 16-element yagi. ","AIR-ANT1949",null,"standard material","electronic","Cisco","EA",147.6,0,"HP",0,"Order with articulating mount.  OK for indoor or outdoor. Designed to be Used as a Bridge Antenna Between Two Points or for Point-to-Point Applications.","Michael J. Daniel",0,"NEC",true,4,"0.0.0.0.0.166.61.139",2,18,null,719,null,null,null,27921,"0.0.0.0.0.166.45.232",true,true,false,false,false,1,0.2,false,0]
["item",48,"INRF-0007","885",null,null,"YAGI Antenna Articulating Mount. ","AIR-ACC2662",null,"standard material","physical","Cisco","EA",27.6,0,"DWC",6810,"This Mount Permits the YAGI Antenna to be Mounted to a Flat Surface or a Mast, Adjustable in Both Horizontal and Vertical Angles.","Michael J. Daniel",0,"DWC",true,4,"0.0.0.0.0.166.61.142",1,18,null,720,null,null,null,27922,"0.0.0.0.0.166.45.235",true,false,true,false,false,3,0.2,false,0]
["item",48,"INRF-0037","889",null,null,"2.4GHz Indoor Pillar-mount Omni Directional 5.2 dBi antenna with two RP-TNC connectors.","AIR-ANT2452V-R=",null,"standard material","electronic","Cisco","EA",83.6,0,"HP",0,null,"Kyle M. Daniel",0,"NEC",true,4,"0.0.0.0.0.166.61.145",2,18,null,722,null,null,null,27924,"0.0.0.0.0.166.45.238",true,true,false,false,false,1,0.2,false,0]
["item",48,"INRF-0210","891",null,null,"2' ANTENNA EXTENSION CABLE","DWC-121603-002",null,"standard material","physical","DWC","EA",30.89,0,"DWC",6810,"0.37dB @ 2.4Ghz    0.54dB @ 5.0Ghz","Kyle M. Daniel",0,"DWC",true,4,"0.0.0.0.0.166.61.148",1,23,null,724,null,null,null,27926,"0.0.0.0.0.166.45.241",true,false,true,false,false,3,0.2]
["item",48,"INRF-0211","892",null,null,"5' ANTENNA EXTENSION CABLE - Low Loss","DWC-121602-005",null,"standard material","physical","DWC","EA",36.880000000000003,0,"DWC",6810,"0.93dB @ 2.4Ghz    1.35dB @ 5.0Ghz","Kyle M. Daniel",0,"DWC",true,4,"0.0.0.0.0.166.61.151",1,23,null,725,null,null,null,27927,"0.0.0.0.0.166.45.244",true,false,true,false,false,3,0.2]
["item",48,"INRF-0212","893",null,null,"10' ANTENNA EXTENSION CABLE - Low Loss","DWC-121602-010",null,"standard material","physical","DWC","EA",40.840000000000003,0,"DWC",6810,"1.86dB @ 2.4Ghz    2.70dB @ 5.0Ghz","Kyle M. Daniel",0,"DWC",true,4,"0.0.0.0.0.166.61.154",1,23,null,726,null,null,null,27928,"0.0.0.0.0.166.45.247",true,false,true,false,false,3,0.2]
["item",48,"INRF-0213","894",null,null,"20' ANTENNA EXTENSION CABLE - Low Loss","DWC-121602-020",null,"standard material","physical","DWC","EA",48.81,0,"DWC",6810,"3.72dB @ 2.4Ghz    5.41dB @ 5.0Ghz","Kyle M. Daniel",0,"DWC",true,4,"0.0.0.0.0.166.61.157",1,23,null,727,null,null,null,27929,"0.0.0.0.0.166.45.250",true,false,true,false,false,3,0.1]
["Header",49,"Wireless Bridges and Access Points"]
["item",49,"10068",null,null,null,"Cisco Media Convertor/Power Injector for 1200 Series Access Points.","AIR-PWRINJ-FIB",null,"standard material","physical",{"$f":"VLOOKUP(Z1190,rngManufacturerLookup,2,FALSE)","v":"Cisco"},"EA",119.6,{"$f":"(E1190*N1190)","v":0},{"$f":"VLOOKUP(Y1190,rngSupplierLookup,2,FALSE)","v":"DWC"},6810,null,"Kyle M. Daniel",{"$f":"(F1190*N1190)","v":0},"DWC",true,4,"0.0.0.0.0.166.61.160",1,18,null,996,null,null,null,28433,"0.0.0.0.0.166.45.253",true,false,true,false,false,3,1,false,0]
["item",49,"10231",null,null,null,"Power Injector for 1140 and 1250 Series","AIR-PWRINJ4",null,"standard material","electronic","Cisco","EA",59.6,0,"HP",0,null,"Steve Deboutte",0,"NEC",true,4,"0.0.0.0.0.166.61.163",2,18,null,1383,null,null,null,29426,"0.0.0.0.0.166.46.1",true,true,false,false,false,1,0.25,false,0]
["item",49,"10232",null,null,null,"Cisco 1140 - 802.11a/g/n Fixed Unified AP; Int Ant; A Reg Domain","AIR-LAP1142N-A-K9",null,"standard material","electronic","Cisco","EA",398,0,"HP",0,null,"Steve Deboutte",0,"NEC",true,4,"0.0.0.0.0.166.61.166",2,18,null,1384,null,null,null,29427,"0.0.0.0.0.166.46.4",true,true,false,false,false,1,0,false,0]
["item",49,"10233",null,null,null,"Cisco 1252 - 802.11a/g/n-d2.0 2.4/5-GHz Mod Auto AP; 6 RP-TNC; FCC","AIR-AP1252AG-A-K9","This AP requires ePOE, or a Power supply will be needed","standard material","electronic","Cisco","EA",519.6,0,"HP",0,"Cisco 1252 AP (LWAPP) will require antenna's to function. May require a Power supply if switch is not ePOE.","Steve Deboutte",0,"NEC",true,4,"0.0.0.0.0.166.61.169",2,18,null,1385,null,null,null,29428,"0.0.0.0.0.166.46.7",true,true,false,false,false,1,0,false,0]
["item",49,"10234",null,null,null,"Cisco 1140 Series IOS Wireless LAN LWAPP Recovery","S114RK9W-12418JA","Software - No Cost order when ordering an Cisco 1140 LWAP AP","standard material","electronic","Cisco","EA",0,0,"HP",0,"Order with Cisco 1140 AP. There is non cost for it.  It's LWAPP recovery software","Steve Deboutte",0,"NEC",true,4,"0.0.0.0.0.166.61.172",2,18,null,1386,null,null,null,29429,"0.0.0.0.0.166.46.10",true,true,false,false,false,1,0,false,0]
["item",49,"10235",null,null,null,"Cisco 1250 Series IOS Wireless LAN LWAPP Recovery","S125W7K9-12410JA","Software - No Cost order when ordering a Cisco 1252 LWAP AP","standard material","electronic","Cisco","EA",0,0,"HP",0,"Order with the Cisco 1252 AP. There is no cost for it. It's LWAPP recovery software","Steve Deboutte",0,"NEC",true,4,"0.0.0.0.0.166.61.175",2,18,null,1387,null,null,null,29430,"0.0.0.0.0.166.46.13",true,true,false,false,false,1,0,false,0]
["item",49,"10327",null,null,null,"Cisco 1252 - 802.11a/g/n-d2.0 2.4/5-GHz Unified AP; 6 RP-TNC; FCC","AIR-LAP1252AG-A-K9",null,"standard material","electronic","Cisco","EA",519.6,0,"HP",0,null,"Aaron Earle",0,"NEC",true,4,"0.0.0.0.0.166.61.178",2,18,null,1525,null,null,null,30300,"0.0.0.0.0.166.46.16",true,true,false,false,false,1,0,false,0]
["item",49,"10464",null,null,null,"Cisco 1262 - 802.11a/g/n-d2.0 2.4/5-GHz Unified AP; 6 RP-TNC; FCC","AIR-LAP1262N-A-K9",null,"standard material","electronic","Cisco","EA",478,0,"HP",0,null,"Steve Deboutte",0,"NEC",true,4,"0.0.0.0.0.166.61.181",2,18,null,1604,null,null,null,31115,"0.0.0.0.0.166.46.19",true,true,false,false,false,1,null,false,0]
["item",49,"10483",null,null,null,"CISCO CAP 3502I 802.11a/g/n Ctrlr-based AP w/CleanAir; Int Ant; A Reg Domain","AIR-CAP3502I-A-K9",null,"standard material","electronic","Cisco","EA",518,0,"HP",0,null,"Michael J. Daniel",0,"NEC",true,4,"0.0.0.0.0.166.61.184",2,18,null,1605,null,null,null,31116,"0.0.0.0.0.166.46.22",true,true,false,false,false,1,0,false,0]
["item",49,"8835",null,null,null,"802.11a/g Non-modular IOS AP; RP-TNC; FCC Cnfg (Cisco 1242 Ap)","AIR-AP1242AG-A-K9",null,"standard material","electronic","Cisco","EA",359.6,0,"HP",0,"HELP??","Kyle M. Daniel",0,"DWC",true,4,"0.0.0.0.0.166.61.187",2,18,null,730,null,null,null,27932,"0.0.0.0.0.166.46.25",true,true,false,false,false,1,1,false,0]
["Header",50,"Wireless Physical Infrastructure"]
["item",50,"0094-49R2",1018,null,null,"BRACKET, ANTENNA, A, B, G, OMNI, INCLUDES 2 BEAM CLAMPS","DWC-ANT-BRKT",null,"standard material","physical",{"$f":"VLOOKUP(Z1201,rngManufacturerLookup,2,FALSE)","v":"DWC"},"EA",23.76,{"$f":"(E1201*N1201)","v":0},{"$f":"VLOOKUP(Y1201,rngSupplierLookup,2,FALSE)","v":"DWC"},6810,null,"Kyle M. Daniel",{"$f":"(F1201*N1201)","v":0},"DWC",true,4,"0.0.0.0.0.166.61.190",1,23,null,708,null,null,null,27910,"0.0.0.0.0.166.46.28",true,false,true,false,false,3,0.2,false,0]
["item",50,"0119-C5L7",1014,null,null,"CABLE, ASSEMBLY, ANTENNA, 50 FT LG, EXTENSION, BELDEN 9913F NON-PLENUM, 1XM RP-TNC, 1XF RP-TNC CONNECTORS, 50 OHM RG8/U COAX","DWC-121602-050",null,"standard material","physical","DWC","EA",102.86,0,"DWC",6810,"Used in conjucntion with AP enclosures that are mounted at 8ft A.F.F. or for antenna's outside of building  when AP enclosure remains inside.","Kyle M. Daniel",0,"DWC",true,4,"0.0.0.0.0.166.61.193",1,23,null,709,null,null,null,27911,"0.0.0.0.0.166.46.31",true,false,true,false,false,3,0.2,false,0]
["item",50,"0119-C5L8",1015,null,null,"CABLE, ASSEMBLY, ANTENNA, 75 FT LG, EXTENSION, BELDEN 9913F NON-PLENUM, 1XM RP-TNC, 1XF RP-TNC CONNECTORS, 50 OHM RG8/U COAX","DWC-121602-075",null,"standard material","physical","DWC","EA",123.35,0,"DWC",6810,null,"Kyle M. Daniel",0,"DWC",true,4,"0.0.0.0.0.166.61.196",1,23,null,710,null,null,null,27912,"0.0.0.0.0.166.46.34",true,false,true,false,false,3,0.2,false,0]
["item",50,"0119-C5L9",1016,null,null,"CABLE, ASSEMBLY, ANTENNA, 100 FT LG, EXTENSION, BELDEN 9913F NON-PLENUM, 1XM RP-TNC, 1XF RP-TNC CONNECTORS, 50 OHM RG8/U COAX","DWC-121602-100",null,"standard material","physical","DWC","EA",146.62,0,"DWC",6810,null,"Kyle M. Daniel",0,"DWC",true,4,"0.0.0.0.0.166.61.199",1,23,null,711,null,null,null,27913,"0.0.0.0.0.166.46.37",true,false,true,false,false,3,0.2,false,0]
["item",50,"0456-0XT0",1017,null,null,"Typical Administration or Office Space AP Installation Kit for Dipole or Clip on Ceiling Mounted Antennas. For Cisco 1242 and 1252 AP's. Kit includes Threaded Rod, J-Hooks, Beam Clamps, Mulberry Box, Face Plate w/(2) RJ-45 Jacks, 3 Foot Violet Patch Cord, Nuts and Bolts. NEC to Provide Cisco 1242 Mounting Bracket. ","AP-OFF-TH",null,"standard material","physical","DWC","EA",84.94,0,"DWC",6810,"Above Drop Ceiling Applications Where an Enclosure is Not Required Utilizing Dipole or Drop Ceiling Mounted Antennas. Add Labor to Assemble","Kyle M. Daniel",0,"DWC",true,4,"0.0.0.0.0.166.61.202",1,23,null,728,null,null,null,27930,"0.0.0.0.0.166.46.40",true,false,true,false,false,3,3,false,0]
["item",50,"0456-0XT1",1080,null,null,"Typical Administration or Office Space Installation Kit for 2.4 and 5 GHz Patch Antennas. Threaded Rod, J-Hooks, Beam Clamps, Mulberry Box, Face Plate w/(2) RJ-45 Jacks, 3 Foot Violet Patch Cord, Patch2 Bracket, Nuts and Bolts. NEC to Provide Cisco 1242 Mounting Bracket.","PATCH2-KIT",null,"standard material","physical","DWC","EA",92,0,"DWC",6810,"Above Drop Ceiling Applications Where an Enclosure is Not Required Utilizing Dipole or Drop Ceiling Mounted Antennas.  Add Labor to Assemble","Kyle M. Daniel",0,"DWC",true,4,"0.0.0.0.0.166.61.205",1,23,null,712,null,null,null,27914,"0.0.0.0.0.166.46.43",true,false,true,false,false,3,0.2,false,0]
["item",50,"10074",null,null,null,"Inside/Outside 2.4 & 5.0 GHz Patch Antenna Articulating Mount Kit.  Kit Includes Cisco Articulating Mount (AIR-ACC2662), Patch2 Bracket, and Beam Clamps","APAB",null,"standard material","physical","DWC","EA",92,0,"DWC",6810,"Inside/Outside Mounted With in Building Steel, on Columns, or Walls Utilizing 2.4 and 5.0 GHz Patch Antennas. Add Labor to Assemble. ","Kyle M. Daniel",0,"DWC",true,4,"0.0.0.0.0.166.61.208",1,23,null,990,null,null,null,28427,"0.0.0.0.0.166.46.46",true,false,true,false,false,3,0.2,false,0]
["item",50,"10075",null,null,null,"Articulating Mount AP Antenna Bracket- Build Labor","APAB-L",null,"standard material","physical","DWC","EA",40.5,0,"DWC",6810,"Assembly of various components to complete unit. Antenna's: Yagi, Patch, Omni. Bracket/Artic. Mnt. Beam Clamps etc.","Kyle M. Daniel",0,"DWC",true,4,"0.0.0.0.0.166.61.211",1,23,null,991,null,null,null,28428,"0.0.0.0.0.166.46.49",true,false,true,false,false,3,0,false,0]
["item",50,"10076",null,null,null,"Labor to Assemble AP-OFF-TH Kit","AP-OFF-TH-L",null,"standard material","physical","DWC","EA",14.2,0,"DWC",6810,"Order (1) Labor Unit per AP-OFF-TH Kit","Kyle M. Daniel",0,"DWC",true,4,"0.0.0.0.0.166.61.214",1,23,null,997,null,null,null,28434,"0.0.0.0.0.166.46.52",true,false,true,false,false,3,0,false,0]
["item",50,"10139",null,null,null,"Patch Antenna Mounting Bracket (1\" x 1\" x 21\") Predrilled and Tapped for 2.4 and 5.0 GHz Patch Antennas.","PATCH-2-BRKT",null,"standard material","physical","DWC","EA",26.2,0,"DWC",6810,"Bracket Only, May be Utilitized in other Access Point Applications","Kyle M. Daniel",0,"DWC",true,4,"0.0.0.0.0.166.61.217",1,23,null,992,null,null,null,28429,"0.0.0.0.0.166.46.55",true,false,true,false,false,3,0.2,false,0]
["item",50,"10140",null,null,null,"Labor to Assemble PATCH2-KIT","PATCH2-KIT-L",null,"standard material","physical","DWC","EA",17.010000000000002,0,"DWC",6810,"Order (1) per PATCH2-KIT","Kyle M. Daniel",0,"DWC",true,4,"0.0.0.0.0.166.61.220",1,23,null,993,null,null,null,28430,"0.0.0.0.0.166.46.58",true,false,true,false,false,3,0,false,0]
["item",50,"10145",null,null,null,"Inside Plant/Administration/Office Space Cisco 1242 2RU Power Shelf With Terminal blocks. Kit Includes 2RU Shelf, Terminal Blocks, End Barrier, Mounting Channel, End Anchor and Cover Plate.","RFPW-SHELF",null,"standard material","physical","DWC","EA",240.2,0,"DWC",6810,"2RU Shelf is Required When Utilizing PW24208-ISP-CF & PW24208-ISP-C-CF Enclosures.  Shelf May Hold upto (7) AP Locations Only. Add Labor to Assemble. ","Kyle M. Daniel",0,"DWC",true,4,"0.0.0.0.0.166.61.223",1,23,null,994,null,null,null,28431,"0.0.0.0.0.166.46.61",true,false,true,false,false,3,0.5,false,0]
["item",50,"10146",null,null,null,"Inside Plant/Administration/Office Space Cisco 1242 2RU Power Shelf With Terminal blocks - Labor Only","RFPW-SHELF-L",null,"standard material","physical","DWC","EA",99,0,"DWC",6810,null,"Kyle M. Daniel",0,"DWC",true,4,"0.0.0.0.0.166.61.226",1,23,null,995,null,null,null,28432,"0.0.0.0.0.166.46.64",true,false,true,false,false,3,0,false,0]
["item",50,"10302",null,null,null,"1242 / 1252 Access Point mounting plate. Kit includes (1)  G04-5ESM1-1IP – 1-port Surface Mount Box, (1)  3’ Violet Cat 5e Patch Cable, (1) Mount Plate with drilled holes for AP, (1) 14” Unistrut, 7/8”x1 5/8” Galvanized, (2) Unistrut Clamps, (2) 3/8” Spring Nuts.","NPAPP",null,"standard material","physical","DWC","EA",55.75,0,"DWC",6810,null,"Steve Deboutte",0,"DWC",true,4,"0.0.0.0.0.166.61.229",1,23,null,1389,null,null,null,29432,"0.0.0.0.0.166.46.67",true,false,true,false,false,3,0,false,0]
["item",50,"10303",null,null,null,"1242 / 1252 Access Point mounting plate - LABOR ONLY","NPAPP-L",null,"standard material","physical","DWC","EA",58.5,0,"DWC",6810,null,"Steve Deboutte",0,"DWC",true,4,"0.0.0.0.0.166.61.232",1,23,null,1390,null,null,null,29433,"0.0.0.0.0.166.46.70",true,false,true,false,false,3,0,false,0]
["item",50,"10305",null,null,null,"AP Flange Mount Kit (For 1142's)","AP-FM-KIT",null,"standard material","physical","DWC","EA",41.2,0,"DWC",6810,"Kit Includes (1) Mulbury Box, (1) Patch Cable, (1) Safety Drop Cable, (1) Ceiling Mount Clip","Steve Deboutte",0,"NEC",true,4,"0.0.0.0.0.166.61.235",1,23,null,1411,null,null,null,29967,"0.0.0.0.0.166.46.73",true,false,true,false,false,3,0,false,0]
["item",50,"10306",null,null,null,"AP Flange Mount Kit (For 1142's) - LABOR ONLY","AP-FM-KIT-L",null,"standard material","physical","DWC","EA",15.75,0,"DWC",6810,null,"Steve Deboutte",0,"NEC",true,4,"0.0.0.0.0.166.61.238",1,23,null,1412,null,null,null,29968,"0.0.0.0.0.166.46.76",true,false,true,false,false,3,0,false,0]
["item",50,"10349",null,null,null,"1142 T-Rail Channel Adapter for Mounting","AIR-CHNL-ADAPTER ","This item is for Mounting an 1142 AP to a T-Rail Channel Ceiling Grid.  Need 2x per AP","standard material","electronic","Cisco","EA",2,0,"HP",0,null,"Kyle M. Daniel",0,"NEC",true,4,"0.0.0.0.0.166.61.241",2,18,null,1526,null,null,null,30301,"0.0.0.0.0.166.46.79",true,true,false,false,false,3,0.2,false,0]
["item",50,"10430",null,null,null,"Typical Administration or Office Space AP Installation Kit for Non T-Grid Drop Ceiling. For Cisco 1142 AP's. Kit includes Threaded Rod, J-Hooks, Beam Clamps, Mulberry Box, Face Plate w/(1) RJ-45 Jack, 3 Foot Violet Patch Cord, Steel Plates, 90 Degree Bracket, Coupler, Safety Cable, Nuts and Bolts. NEC to Provide Cisco 1142 Mounting Bracket.","AP-UNIKIT-TH","Provide (1) Labor Line Item Per Kit","standard material","physical","DWC","EA",99.1,0,"DWC",6810,"For Non T-Grid Drop Ceilings, Pan Ceilings, Locking Angle, Silhouette etc.","Kyle M. Daniel",0,"DWC",true,4,"0.0.0.0.0.166.61.244",1,23,null,1527,null,null,null,30302,"0.0.0.0.0.166.46.82",true,false,true,false,false,3,3,false,0]
["item",50,"10431",null,null,null,"Labor to Assemble AP-UNIKIT-TH Kit","AP-UNIKIT-TH-L","Order (1) Per AP-UNIKIT-TH Kit","standard material","physical","DWC","EA",47.2,0,"DWC",6810,null,"Kyle M. Daniel",0,"DWC",true,4,"0.0.0.0.0.166.61.247",1,23,null,1528,null,null,null,30303,"0.0.0.0.0.166.46.85",true,false,true,false,false,3,0,false,0]
["item",50,"10432",null,null,null,"Typical Administration or Office Space AP Installation Kit for Mounting Cisco 1142 AP's on Wall or Column. Kit includes Steel Plates, 90 Degree Bracket, Quickport Surface Mount SM1 Box, Safety Cable, 3 Foot Violet Patch Cord, Nuts and Bolts. NEC to Provide Cisco 1142 Mounting Bracket.","AP-UNIKIT-WB","Provide (1) Labor Line Item Per Kit. Order Panduit Raceway with Cover and End Fitting if Required to Hide Cables and L-Bracket on Wall.","standard material","physical","DWC","EA",85.5,0,"DWC",6810,"For Installing Cisco 1142 Access Points on Walls or Columns. For Admin Space Order Panduit Raceway, Cover and End Fitting.","Kyle M. Daniel",0,"DWC",true,4,"0.0.0.0.0.166.61.250",1,23,null,1529,null,null,null,30304,"0.0.0.0.0.166.46.88",true,false,true,false,false,3,3,false,0]
["item",50,"10433",null,null,null,"Labor to Assemble AP-UNIKIT-WB","AP-UNIKIT-WB-L","Order (1) Per AP-UNIKIT-WB Kit","standard material","physical","DWC","EA",31.5,0,"DWC",6810,null,"Kyle M. Daniel",0,"DWC",true,4,"0.0.0.0.0.166.61.253",1,23,null,1530,null,null,null,30305,"0.0.0.0.0.166.46.91",true,false,true,false,false,3,0,false,0]
["item",50,"10434",null,null,null,"Panduit Base Raceway, Off White, 10' Stick","T45BIW10-A","Order Panduit Raceway with Cover and End Fitting if Required to Hide Cables and L-Bracket on Wall. Actual Quantitiy =","standard material","physical","Panduit","EA",25.7,0,"DWC",6810,null,"Kyle M. Daniel",0,"DWC",true,4,"0.0.0.0.0.166.62.1",1,57,null,1531,null,null,null,30306,"0.0.0.0.0.166.46.94",true,false,true,false,false,3,0.1,false,0]
["item",50,"10435",null,null,null,"Panduit Cover Raceway, Off White, 10' Stick","T45CIW10","Order Panduit Raceway with Cover and End Fitting if Required to Hide Cables and L-Bracket on Wall. Actual Quantitiy =","standard material","physical","Panduit","EA",11.4,0,"DWC",6810,null,"Kyle M. Daniel",0,"DWC",true,4,"0.0.0.0.0.166.62.4",1,57,null,1532,null,null,null,30307,"0.0.0.0.0.166.46.97",true,false,true,false,false,3,0.1,false,0]
["item",50,"10436",null,null,null,"Panduit Entrance End Fitting, Off White, For UTP Cable Bend Radius Transition from Ceiling to Wall.","T45EEIW\t","Order Panduit Raceway with Cover and End Fitting if Required to Hide Cables and L-Bracket on Wall. Actual Quantitiy =","standard material","physical","Panduit","EA",10.35,0,"DWC",6810,null,"Kyle M. Daniel",0,"DWC",true,4,"0.0.0.0.0.166.62.7",1,57,null,1533,null,null,null,30308,"0.0.0.0.0.166.46.100",true,false,true,false,false,3,0.1,false,0]
["item",50,"10437",null,null,null,"Typical Administration or Office Space AP Installation Kit for 1142 AP's Where an Existing Cisco 1252 AP-OFF-TH Kit Resides. Kit includes Steel Plates, 90 degree Bracket Threaded Rod Coupler, Safety Cable, Nuts and Bolts. NEC to Provide Cisco 1142 Mounting Bracket.","AP-UNIKIT-EXOFF","Provide (1) Labor Item Per Kit","standard material","physical","DWC","EA",85.8,0,"DWC",6810,"Can be Utilized for Installing New Cisco 1142 Access Point in the Same Location as an Existing Cisco 1252 Access Point, Contractor to Provide Additional Threaded Rod to Connect AP-UNIKIT-EXOFF Kit to Existing AP-OFF-TH Kit.","Kyle M. Daniele",0,"DWC",true,4,"0.0.0.0.0.166.62.10",1,23,null,1534,null,null,null,30309,"0.0.0.0.0.166.46.103",true,false,true,false,false,3,3,false,0]
["item",50,"10438",null,null,null,"Labor to Assemble AP-UNIKIT-EXOFF Kit","AP-UNIKIT-EXOFF-L","Order (1) Per AP-UNIKIT-EXOFF Kit","standard material","physical","DWC","EA",47.2,0,"DWC",6810,null,"Kyle M. Daniel",0,"DWC",true,4,"0.0.0.0.0.166.62.13",1,23,null,1535,null,null,null,30310,"0.0.0.0.0.166.46.106",true,false,true,false,false,3,0,false,0]
["item",50,"10439",null,null,null,"Speed Link Safety Cable, 2mm Wire Size, 5 Meters, with ring terminal","16GASUPPORT","Order only if not part of AP Mounting Kit","standard material","physical","DWC","EA",10.1,0,"DWC",6810,null,"Kyle M. Daniel",0,"DWC",true,4,"0.0.0.0.0.166.62.16",1,23,null,1536,null,null,null,30311,"0.0.0.0.0.166.46.109",true,false,true,false,false,3,0.2,false,0]
["item",50,"INRF-0054","890",null,null,"2.4GHz Indoor Pillar-mount Omni Directional 5.2 dBi antenna (AIR-ANT2452V-R=) Mounting Hardware Kit. Kit Includes W Bracket, Tubing, 6\" Eye Bolt, Washer, Hex Head Nut, Beam Clamps, and Sheet Metal Screws.","TC-MNT-3213",null,"standard material","physical","DWC","EA",28.24,0,"DWC",6810,"Order (1) Kit Per (AIR-ANT2452V-R=). ","Kyle M. Daniel",0,"DWC",true,4,"0.0.0.0.0.166.62.19",1,23,null,723,null,null,null,27925,"0.0.0.0.0.166.46.112",true,false,true,false,false,3,0.2,false,0]
["item",50,"INRF-0095","26",null,null,"Cat 5e UTP Station wire, 1000'  plenum in box 350 megahertz (Violet for RF)","5504M-VIOLET","Actual Footage=","standard material","horizontal","CommScope","BOX",211.2,0,"DWC",7593,"Order Per Box","Kyle M. Daniel",0,"DWC",true,2,"0.0.0.0.0.166.62.22",1,19,null,741,null,null,null,27943,"0.0.0.0.0.166.46.115",true,false,false,true,false,2,3,false,0]
["item",50,"INRF-0096","27",null,null,"Cat.5e UTP station wire, 1000' non-plenum in box 350 MHz. (Violet for RF)","55N4R-VIOLET","Actual Footage=","standard material","horizontal","CommScope","BOX",115.8,0,"DWC",7593,"Order Per Box","Kyle M. Daniel",0,"DWC",true,2,"0.0.0.0.0.166.62.25",1,19,null,742,null,null,null,27944,"0.0.0.0.0.166.46.118",true,false,false,true,false,2,3,false,0]
["item",50,"INRF-0104","472",null,null,"Cat.5e RJ-45 Patch Cord - 3 ft. - Violet Jacket","G22-05EPC-03V",null,"standard material","horizontal","Leviton","EA",2.67,0,"DWC",6810,"Order (1) Per Access Point Location for Telecom Closet Patching Only. Accesss Point Location Not Required If Using Installation Kits.","Kyle M. Daniel",0,"DWC",true,4,"0.0.0.0.0.166.62.28",1,43,null,743,null,null,null,27945,"0.0.0.0.0.166.46.121",true,false,false,true,false,2,0.1,false,0]
["item",50,"INRF-0105","474",null,null,"Cat.5e RJ-45 Patch Cord - 6 ft. - Violet Jacket","G23-05EPC-06V",null,"standard material","horizontal","Leviton","EA",3.32,0,"DWC",6810,"Order (1) Per Access Point Location for Telecom Closet Patching Only","Kyle M. Daniel",0,"DWC",true,4,"0.0.0.0.0.166.62.31",1,43,null,744,null,null,null,27946,"0.0.0.0.0.166.46.124",true,false,false,true,false,2,0.1,false,0]
["item",50,"INRF-0106","475",null,null,"Cat.5e RJ-45 Patch Cord - 10 ft. - Violet Jacket","G24-05EPC-10V",null,"standard material","horizontal","Leviton","EA",4.34,0,"DWC",6810,"Order (1) Per Access Point Location for Telecom Closet Patching Only","Kyle M. Daniel",0,"DWC",true,4,"0.0.0.0.0.166.62.34",1,43,null,745,null,null,null,27947,"0.0.0.0.0.166.46.127",true,false,false,true,false,2,0.1,false,0]
["item",50,"INRF-0107","476",null,null,"Cat.5e RJ-45 Patch Cord - 15 ft. - Violet Jacket","G25-05EPC-15V",null,"standard material","horizontal","Leviton","EA",6.28,0,"DWC",6810,"Order (1) Per Access Point Location for Telecom Closet Patching Only","Kyle M. Daniel",0,"DWC",true,4,"0.0.0.0.0.166.62.37",1,43,null,746,null,null,null,27948,"0.0.0.0.0.166.46.130",true,false,false,true,false,2,0.1,false,0]
["Header",52,"Wireless Enclosures"]
["item",52,"0092-1AWT",1031,null,null,"Typical Inside Plant NON-POWERED Cisco 1242 AP Policarbonate Wireless Enclosure Kit (14\"h x 12\"w x 6\"d) See Ordering Guidelines. Kit Includes Box, Back Plate, 1 Port Surface Mount Box, Machine Screws, Cord Grip Connectors with Seal Rings and Lock Nut, Lamicoid Tags, (1) 3 Foot Violet Patch Cable, 2.4 and 5.0 GHz Bulkhead Extension and Velcro Straps","NPW14126-ISP",null,"standard material","physical",{"$f":"VLOOKUP(Z1237,rngManufacturerLookup,2,FALSE)","v":"DWC"},"EA",187.21,{"$f":"(E1237*N1237)","v":0},{"$f":"VLOOKUP(Y1237,rngSupplierLookup,2,FALSE)","v":"DWC"},6810,"Inside Plant With In Building Steel, or Mounted on Columns or Walls Where Conduit is Not Required. See Drawing GM-NPW14126-ISP for Additional Information. Add Labor to Assemble for Each Enclosure.","Kyle M. Daniel",{"$f":"(F1237*N1237)","v":0},"DWC",true,4,"0.0.0.0.0.166.62.40",1,23,null,747,null,null,null,27949,"0.0.0.0.0.166.46.133",true,false,true,false,false,0,5,false,0]
["item",52,"0092-1AWW",1024,null,null,"Inside Plant NON-POWERED Cisco 1242 AP Policarbonate Wireless Enclosure Kit (20\"h x 16\"w x 8\"d) See Ordering Guidelines. Kit Includes Box, Back Plate, 1 Port Surface Mount Box, Machine Screws, Lamicoid Tags, (1) 3 Foot Violet Patch Cable, and Velcro Straps. Knock Outs are Field Located by Contractor. Contractor Shall Provide 3/4\" and 2\" Insulated Grounding Bushing.","NPW20168-ISP-C",null,"standard material","physical","DWC","EA",228.39,0,"DWC",6810,"Inside Plant With In Building Steel, or Mounted on Columns or Walls Where Conduit is Required.  See Drawing GM-NPW20168-ISP-C for Additional Information. Add Labor to Assemble for Each Enclosure. Order Extension Cables Seperate (Based on Length Required).","Kyle M. Daniel",0,"DWC",false,4,"0.0.0.0.0.166.62.43",1,23,null,748,null,null,null,27950,"0.0.0.0.0.166.46.136",true,false,true,false,false,3,5,false,0]
["item",52,"0092-1AWX",1023,null,null,"Outside Plant NON-POWERED Cisco 1242 AP Policarbonate Wireless Enclosure Kit (20\"h x 16\"w x 8\"d) See Ordering Guidelines. Kit Includes Box, Back Plate, 1 Port Surface Mount Box, Machine Screws, Cord Grip Connectors with Seal Rings and Lock Nut, Lamicoid Tags, (1) 3 Foot Violet Patch Cable, 2.4 and 5.0 GHz Extension Cables, Lighting Surge Arrester, Velcro Straps, Ground straps and Ground Strip. ","NPW20168-OSP",null,"standard material","physical","DWC","EA",419.56,0,"DWC",6810,"For Outside Plant Applications Where Grounding is Required and Conduit is Not Required. Antennas Installed Outside, Enclosure Installed Inside. See Drawing GM-NPW20168-OSP for Additional Information. Add Labor to Assemble for Each Enclosure.","Kyle M. Daniel",0,"DWC",true,4,"0.0.0.0.0.166.62.46",1,23,null,749,null,null,null,27951,"0.0.0.0.0.166.46.139",true,false,true,false,false,3,8,false,0]
["item",52,"0092-1AWY",1026,null,null,"BEP Outside Plant NON-POWERED Cisco 1242 AP Policarbonate Wireless Enclosure Kit (20\"h x 16\"w x 8\"d) See Ordering Guidelines. Kit Includes Box, Back Plate, 1 Port Surface Mount Box, Machine Screws, Cord Grip Connectors with Seal Rings and Lock Nut, Lamicoid Tags, (1) 3 Foot Violet Patch Cable, 2.4 and 5.0 GHz Extension Cables, Lighting Surge Arrester, BLDG. Entrance Protector 65V, Velcro Straps, Ground straps and Ground Strip. ","NPW20168-OSP-BEP",null,"standard material","physical","DWC","EA",497.92,0,"DWC",6810,"For Outside Applications When Enclosure is Installed Outside. See Drawing GM-NPW20168-OSP-BEP for Additional Information. Add Labor to Assemble for Each Enclosure.","Kyle M. Daniel",0,"DWC",true,4,"0.0.0.0.0.166.62.49",1,23,null,750,null,null,null,27952,"0.0.0.0.0.166.46.142",true,false,true,false,false,3,8,false,0]
["item",52,"0092-1AX0",1025,null,null,"Outside Plant NON-POWERED Cisco 1242 AP Policarbonate Wireless Enclosure (20\"h x 16\"w x 8\"d) See Ordering Guidelines. Kit Includes Box, Back Plate, 1 Port Surface Mount Box, Machine Screws, Lamicoid Tags, (1) 3 Foot Violet Patch Cable, 2.4 and 5.0 GHz Extension Cables, Lighting Surge Arrester, Velcro Straps, Ground straps and Ground Strip. Knock Outs are Field Located by Contractor. Contractor Shall Provide 3/4\" and 2\" Insulated Grounding Bushing. ","NPW20168-OSP-C",null,"standard material","physical","DWC","EA",437.78,0,"DWC",6810,"For Outside Plant Applications Where Grounding and Conduit is Required. Antennas Installed Outside, Enclosure Installed Inside. Enclosure Installed Inside. See Drawing GM-NPW20168-OSP-C for Additional Information. Add Labor to Assemble for Each Enclosure. Order Extension Cables Seperate (Based on Length Required)","Kyle M. Daniel",0,"DWC",true,4,"0.0.0.0.0.166.62.52",1,23,null,751,null,null,null,27953,"0.0.0.0.0.166.46.145",true,false,true,false,false,3,8,false,0]
["item",52,"0092-1AX1",1027,null,null,"Inside Plant POWERED Cisco 1242 AP Policarbonate Fiber Optic Wireless Enclosure kit (24\"h x 20\"w x 8\"d) See Ordering Guidelines. Kit Includes Box, Back Plate, 4 Port Surface Mount Box, ST Fiber Adapters, Machine Screws, Cord Grip Connectors with Seal Rings and Lock Nut, Single Gang Box with 120VAC Duplex Recep., Lamicoid Tags, (1) 3 Foot Violet Patch Cable, 2.4 and 5.0 GHz Bulkhead Extension, Velcro Straps, Velcro Mounting Bracket, and 1 Meter ST to St Pacth Cable. ","PW24208-ISP",null,"standard material","physical","DWC","EA",451.39,0,"DWC",6810,"Inside Plant With In Building Steel, or Mounted on Columns or Walls Where Fiber Optic Cable is Required. See Drawing GM-PW24208-ISP for Additional Information. Add Labor to Assemble for Each Enclosure. Designer to Add Media Convertor.","Kyle M. Daniel",0,"DWC",true,4,"0.0.0.0.0.166.62.55",1,23,null,752,null,null,null,27954,"0.0.0.0.0.166.46.148",true,false,true,false,false,3,10,false,0]
["item",52,"0092-1AX2",1029,null,null,"Inside Plant POWERED Cisco 1242 AP Policarbonate Fiber Optic Wireless Enclosure (24\"h x 20\"w x 8\"d) See Ordering Guidelines. Kit Includes Box, Back Plate, 4 Port Surface Mount Box, ST Fiber Adapters, Machine Screws, Single Gang Box with 120VAC Duplex Recep., Lamicoid Tags, (1) 3 Foot Violet Patch Cable, Velcro Straps, Velcro Mounting Bracket, and 1 Meter ST to St Pacth Cable. Knock Outs are Field Located by Contractor. Contractor Shall Provide 3/4\" and 2\" Insulated Grounding Bushing. ","PW24208-ISP-C",null,"standard material","physical","DWC","EA",411.64,0,"DWC",6810,"Inside Plant With In Building Steel, or Mounted on Columns or Walls Where Fiber Optic Cable and Conduit is Required. See Drawing GM-PW24208-ISP-C for Additional Information. Add Labor to Assemble for Each Enclosure. Designer to Add Media Convertor.","Kyle M. Daniel",0,"DWC",true,4,"0.0.0.0.0.166.62.58",1,23,null,753,null,null,null,27955,"0.0.0.0.0.166.46.151",true,false,true,false,false,3,10,false,0]
["item",52,"0092-1AX3",1028,null,null,"Inside/Outside Plant POWERED Cisco 1242 AP Policarbonate Fiber Optic Wireless Enclosure (24\"h x 20w x 8\"d) See Ordering Guidelines. Kit Includes Box, Back Plate, 4 Port Surface Mount Box, ST Fiber Adapters,  Machine Screws, Cord Grip Connectors with Seal Rings and Lock Nut, Lamicoid Tags, Single Gang Box with 120VAC Duplex Recep., (1) 3 Foot Violet Patch Cable, 1 Meter ST to St Pacth Cable, 2.4 and 5.0 GHz Extension Cables, Lighting Surge Arrester, Velcro Straps, Ground straps and Ground Strip. ","PW24208-OSP",null,"standard material","physical","DWC","EA",574.99,0,"DWC",6810,"For Outside Plant Applications Where Grounding is Required and Conduit is Not Required. Antennas Installed Outside, Enclosure Installed Inside. See Drawing GM-PW24208-OSP for Additional Information. Add Labor to Assemble Each Enclosure. Designer to Add Media Convertor.","Kyle M. Daniel",0,"DWC",true,4,"0.0.0.0.0.166.62.61",1,23,null,754,null,null,null,27956,"0.0.0.0.0.166.46.154",true,false,true,false,false,3,10,false,0]
["item",52,"0092-1AX4","1030",null,null,"Inside/Outside Plant POWERED Cisco 1242 AP Policarbonate Fiber Optic Wireless Enclosure (24\"h x 20\"w x 8\"d) See Ordering Guidelines. Kit Includes Box, Back Plate, 4 Port Surface Mount Box, ST Fiber Adapters,  Machine Screws, Single Gang Box with 120VAC Duplex Recep., (1) 3 Foot Violet Patch Cable, 1 Meter ST to St Pacth Cable, 2.4 and 5.0 GHz Extension Cables, Lighting Surge Arrester, Velcro Straps, Ground straps and Ground Strip. Knock Outs are Field Located by Contractor. Contractor Shall Provide 3/4\" and 2\" Insulated Grounding Bushing. ","PW24208-OSP-C",null,"standard material","physical","DWC","EA",622.41,0,"DWC",6810,"For Outside Plant Applications Where Grounding and Conduit is Required. Antennas Installed Outside, Enclosure Installed Inside. See Drawing GM-PW24208-OSP-C for Additional Information. Add Labor to Assemble Each Enclosure. Designer to Add Media Convertor.","Kyle M. Daniel",0,"DWC",true,4,"0.0.0.0.0.166.62.64",1,23,null,755,null,null,null,27957,"0.0.0.0.0.166.46.157",true,false,true,false,false,3,10,false,0]
["item",52,"0211-03LL",1036,null,null,"Media Converter 100BASE-TX TO 100BASE-FX  SC MM","E-100BTX-FX-05(SC)",null,"standard material","physical","Transition Networks","EA",260.2,0,"DWC",6810,null,"Kyle M. Daniel",0,"DWC",true,4,"0.0.0.0.0.166.62.67",1,73,null,756,null,null,null,27958,"0.0.0.0.0.166.46.160",true,false,true,false,false,3,1,false,0]
["item",52,"0211-03LM",1067,null,null,"Media Converter 10/100 SC MM","SBFTF1013-100",null,"standard material","physical","Transition Networks","EA",274.10000000000002,0,"DWC",6810,null,"Kyle M. Daniel",0,"DWC",true,4,"0.0.0.0.0.166.62.70",1,73,null,757,null,null,null,27959,"0.0.0.0.0.166.46.163",true,false,true,false,false,3,1,false,0]
["item",52,"10115",null,null,null,"Administration/Office Space Wiremold Enclosure Kit for Wireless Applications Where Access Point Must be Installed Below Drop Ceiling in Cosmetically Appealing Areas. Utilizing Dipole Antenna's. Kit Includes Wall Mount Box, 1 Port Surface Mount Box, 3 Foot Violet Patch Cord, Misc. Nuts and Screws, Bulkhead Brackets, Bulkhead Extension Cable, and Label. ","GM-NMAPME-DDA",null,"standard material","physical","DWC","EA",285,0,"DWC",6810,"For Administration/Office Space Below Drop Ceiling. See Drawing GM-NMAPME-DDA for Additional Information. Add Labor to Assemble Each Enclosure. Designer to Add Dipole Antenna's.","Kyle M. Daniel",0,"DWC",true,4,"0.0.0.0.0.166.62.73",1,23,null,999,null,null,null,28436,"0.0.0.0.0.166.46.166",true,false,true,false,false,3,5,false,0]
["item",52,"10116",null,null,null,"Administration/Office Space Wiremold Enclosure Kit for Wireless Applications Where Access Point Must be Installed Below Drop Ceiling in Cosmetically Appealing Areas. Utilizing Diversity Patch Antenna's. . Kit Includes Wall Mount Box, 1 Port Surface Mount Box, 3 Foot Violet Patch Cord, and Label. ","GM-NMAPME-DPA",null,"standard material","physical","DWC","EA",255,0,"DWC",6810,"For Administration/Office Space Below Drop Ceiling. See Drawing GM-NMAPME-DPA for Additional Information. Add Labor to Assemble Each Enclosure. Designer to Add Patch Antenna's.","Kyle M. Daniel",0,"DWC",true,4,"0.0.0.0.0.166.62.76",1,23,null,1000,null,null,null,28437,"0.0.0.0.0.166.46.169",true,false,true,false,false,3,5,false,0]
["item",52,"10117",null,null,null,"Labor for Assembling Administration/Office Space Wiremold Enclosure Kit","GM-NMAPME-L",null,"standard material","physical","DWC","EA",99,0,"DWC",6810,"Order (1) per each box","Kyle M. Daniel",0,"DWC",true,4,"0.0.0.0.0.166.62.79",1,23,null,1001,null,null,null,28438,"0.0.0.0.0.166.46.172",true,false,true,false,false,3,0,false,0]
["item",52,"10118",null,null,null,"All AP Wireless Enclosures Build - Labor Only\r\n","GM-POLYRF-L",null,"standard material","physical","DWC","EA",99,0,"DWC",6810,"This Labor line item is for all Enclosures","Kyle M. Daniel",0,"DWC",true,4,"0.0.0.0.0.166.62.82",1,23,null,1002,null,null,null,28439,"0.0.0.0.0.166.46.175",true,false,true,false,false,3,0,false,0]
["item",52,"10128",null,null,null,"Gas Fuse Replacement for Coaxial Antenna Cable Lighning Protector, Model #AL-RTPRTJB-9","LPX090",null,"standard material","physical","HyperLink/L-Com","EA",7.1,0,"DWC",6810,"Replacement Fuse if/when lightning surge has blown original. May consider ordering a spare to include in the AP enclosure.","Kyle M. Daniel",0,"DWC",true,4,"0.0.0.0.0.166.62.85",1,40,null,1003,null,null,null,28440,"0.0.0.0.0.166.46.178",true,false,true,false,false,3,0.25,false,0]
["item",52,"10142",null,null,null,"Inside Plant/Administration/Office Space Cisco 1242 AP Policarbonate Composite 14awg & Fiber Wireless Enclosure Kit (24\"h x 20\"w x 8\"d). Kit Includes Box, Back Plate, Machine Screws, 4 Port Surface Mount Box, ST Fiber Adapters, Lamicoid Tags, Terminal Blocks, End Barrier, Mounting Channel, End Anchor, Velcro, ST to MTRJ Patch Cord, (1) 3 Foot Violet Patch Cord, and Velcro Mounting Bracket. Knock Outs are Field Located by Contractor. Contractor Shall Provide 3/4\" and 2\" Insulated Grounding Bushing. ","PW24208-ISP-C-CF",null,"standard material","physical","DWC","EA",560.20000000000005,0,"DWC",6810,"Inside Plant within Building Steel, or Mounted on Columns or Walls Where Conduit is Required. This Application is for Locations Outside of the Area of Coverage for UTP up to 1800' ft. where 120v Power is not available. Utilizes Fiber/Copper Composite Cable. See Drawing GM-PW24208-ISP--C-CF. Add labor to Assemble Each Enclosure. Designer to Add CISCO Media Convertor/Power Injector (AIR-PERINJ-FIB), Extension Cables Seperate (Based on Length Required) & RFPW-SHELF to Complete System.","Kyle M. Daniel",0,"DWC",true,4,"0.0.0.0.0.166.62.88",1,23,null,1004,null,null,null,28441,"0.0.0.0.0.166.46.181",true,false,true,false,false,3,5,false,0]
["item",52,"10143",null,null,null,"Inside Plant/Administration/Office Space Cisco 1242 AP Policarbonate Composite 14awg & Fiber Wireless Enclosure Kit (24\"h x 20\"w x 8\"d). Kit Includes Box, Back Platupe, Machine Screws, 4 Port Surface Mount Box, ST Fiber Adapters, Cord Grip Connectors with Seal Rings and Lock Nut, Lamicoid Tags, Terminal Blocks, End Barrier, Mounting Channel, End Anchor, Velcro, 2.4 and 5.0 GHz Bulkhead Extension Cables, ST to MTRJ Patch Cord, (1) 3 Foot Violet Patch Cord, and Velcro Mounting Bracket. ","PW24208-ISP-CF",null,"standard material","physical","DWC","EA",580.79999999999995,0,"DWC",6810,"Inside Plant within Building Steel, or Mounted on Columns or Walls Where Conduit is Not Required. This Application is for Locations Outside of the Area of Coverage for UTP up to 1800' ft. where 120v Power is not available. Utilizes Fiber/Copper Composite Cable. See Drawing GM-PW24208-ISP-CF. Add labor to Assemble Each Enclosure. Designer to Add CISCO Media Convertor/Power Injector (AIR-PERINJ-FIB) & RFPW-SHELF to Complete System.","Kyle M. Daniel",0,"DWC",true,4,"0.0.0.0.0.166.62.91",1,23,null,1005,null,null,null,28442,"0.0.0.0.0.166.46.184",true,false,true,false,false,3,5,false,0]
["item",52,"10314",null,null,null,"3M Rubber Mastic Sealing Tape, 2\"x3'","2228-2x3",null,"standard material","physical","3M","EA",10.8,0,"DWC",6810,null,"Kyle M. Daniel",0,"DWC",true,4,"0.0.0.0.0.166.62.94",1,1,null,1413,null,null,null,29969,"0.0.0.0.0.166.46.187",true,false,true,false,false,3,0.1,false,0]
["item",52,"10315",null,null,null,"0-6 GHz Lightning Protector with RPTNC Plug to RPTNC Bulkhead Jack Connectors. Includes L Shaped Mounting Bracket","TW-LP-RPTNC-P-BHJ",null,"standard material","physical","Tessco","EA",25.4,0,"DWC",6810,null,"Kyle M. Daniel",0,"DWC",true,4,"0.0.0.0.0.166.62.97",1,81,null,1537,null,null,null,30355,"0.0.0.0.0.166.46.190",true,false,true,false,false,3,0.2,false,0]
["Header",300,"LEGACY PHYSICAL (Do NOT use without proper General Motors approval.)"]
["item",300,"0010","886",null,null,"2.4 GHz ANTENNA , 5.2 dBi OMNIDIRECTIONAL MAST MOUNT ANTENNA","AIR-ANT 2506",null,"standard material","electronic",{"$f":"VLOOKUP(Z1258,rngManufacturerLookup,2,FALSE)","v":"Cisco"},"EA",126.08,{"$f":"(E1258*N1258)","v":0},{"$f":"VLOOKUP(Y1258,rngSupplierLookup,2,FALSE)","v":"DWC"},6810,"Not preferred.  Plastic pipe. Outdoor or Indoor rated. Color White","Kyle M. Daniel",{"$f":"(F1258*N1258)","v":0},"DWC",true,4,"0.0.0.0.0.166.62.100",1,18,null,758,null,null,null,27960,"0.0.0.0.0.166.46.193",true,true,false,false,false,1,0.2,false,0]
["item",300,"1120","7",null,null,"Motorola 2 watt 2 channel radio","XU2600",null,"standard material","physical","Motorola","EA",236.46,0,"HP",6810,"Order only at site request.  ","Kyle M. Daniel",0,"DWC",false,4,"0.0.0.0.0.166.62.103",2,47,null,760,null,null,null,27962,"0.0.0.0.0.166.46.196",true,false,true,false,false,3,0,false,0]
["item",300,"1121","8",null,null,"Motorola earpiece w/microphone for radio","HMN9039",null,"standard material","physical","Motorola","EA",53.12,0,"HP",6810,"Order only at site request.  ","Kyle M. Daniel",0,"DWC",true,4,"0.0.0.0.0.166.62.106",2,47,null,761,null,null,null,27963,"0.0.0.0.0.166.46.199",true,false,true,false,false,3,0,false,0]
["item",300,"8168",null,null,null,"MSFC2 Memory Option 512 MB (Primary and Redundant MSFC's","MEM-MSFC2-512MB",null,"standard material","electronic","Cisco","EA",0,0,"HP",0,null,"Kyle M. Daniel",0,"DWC",true,4,"0.0.0.0.0.166.62.109",2,18,null,765,null,null,null,27967,"0.0.0.0.0.166.46.202",true,true,false,false,false,1,0,false,0]
["item",300,"8175",null,null,null,"Catalyst 6506 Rack Mount Kit and Cable Organizer, Spare","WS-C6X06-RACK=",null,"standard material","electronic","Cisco","EA",38,0,"HP",0,null,"Kyle M. Daniel",0,"DWC",true,4,"0.0.0.0.0.166.62.112",2,18,null,767,null,null,null,27969,"0.0.0.0.0.166.46.205",true,true,false,false,false,1,0,false,0]
["item",300,"8176",null,null,null,"Catalyst 6509 Rack Mount Kit and Cable Organizer, Spare","WS-C6X09-RACK=",null,"standard material","electronic","Cisco","EA",50,0,"HP",0,null,"Kyle M. Daniel",0,"DWC",true,4,"0.0.0.0.0.166.62.115",2,18,null,768,null,null,null,27970,"0.0.0.0.0.166.46.208",true,true,false,false,false,1,0,false,0]
["item",300,"8490",null,null,null,"North America (nonlocking) 200-240V AC operation","CAB-AC-2500W-US1=",null,"standard material","electronic","Cisco","EA",20.25,0,"HP",0,"For use with WS-CAC-2500W=","Kyle M. Daniel",0,"DWC",true,4,"0.0.0.0.0.166.62.118",2,18,null,790,null,null,null,27992,"0.0.0.0.0.166.46.211",true,true,false,false,false,1,0,false,0]
["item",300,"8498",null,null,null,"1 RPS 675 connector cable 16/14","CAB-RPS-1614=",null,"standard material","electronic","Cisco","EA",33.75,0,"HP",0,null,"Kyle M. Daniel",0,"DWC",true,4,"0.0.0.0.0.166.62.121",2,18,null,794,null,null,null,27996,"0.0.0.0.0.166.46.214",true,true,false,false,false,1,0,false,0]
["item",300,"8510",null,null,null,"1 Year Smartnet for 6509 8x5x4","CON-SNTE-WS-C6509",null,"standard material","electronic","Cisco","EA",5937.6,0,"HP",0,null,"Kyle M. Daniel",0,"DWC",true,4,"0.0.0.0.0.166.62.124",2,18,null,795,null,null,null,27997,"0.0.0.0.0.166.46.217",true,true,false,false,false,1,0,false,0]
["item",300,"8513",null,null,null,"1 Year Smartnet for 6506 8x5x4","CON-SNTE-WS-C6506",null,"standard material","electronic","Cisco","EA",4796.3999999999996,0,"HP",0,null,"Kyle M. Daniel",0,"DWC",true,4,"0.0.0.0.0.166.62.127",2,18,null,796,null,null,null,27998,"0.0.0.0.0.166.46.220",true,true,false,false,false,1,0,false,0]
["item",300,"8520",null,null,null,"1 Year Smartnet for 6513 8x5x4","CON-SNTE-WS-C6513",null,"standard material","electronic","Cisco","EA",8788.7999999999993,0,"HP",0,null,"Kyle M. Daniel",0,"DWC",true,4,"0.0.0.0.0.166.62.130",2,18,null,797,null,null,null,27999,"0.0.0.0.0.166.46.223",true,true,false,false,false,1,0,false,0]
["item",300,"8521",null,null,null,"SMARTNET 8X5XNBD Catalyst 3750 48 10/","CON-SNT-375048PE",null,"standard material","electronic","Cisco","EA",402.6,0,"HP",0,null,"Kyle M. Daniel",0,"DWC",true,4,"0.0.0.0.0.166.62.133",2,18,null,798,null,null,null,28000,"0.0.0.0.0.166.46.226",true,true,false,false,false,1,0,false,0]
["item",300,"8522",null,null,null,"1 Year Smartnet for 4507 8x5x4","CON-SNTE-WS-C4507",null,"standard material","electronic","Cisco","EA",2410.1999999999998,0,"HP",0,null,"Kyle M. Daniel",0,"DWC",true,4,"0.0.0.0.0.166.62.136",2,18,null,799,null,null,null,28001,"0.0.0.0.0.166.46.229",true,true,false,false,false,1,0,false,0]
["item",300,"8647","565",null,null,"1 Year Warranty Extension For UPS 2200/1500MXL","WEXTWAR1YR-SB-13",null,"standard material","electronic","APC","EA",95.8,0,"DWC",6810,null,"Kyle M. Daniel",0,"DWC",true,4,"0.0.0.0.0.166.62.139",1,7,null,807,null,null,null,28009,"0.0.0.0.0.166.46.232",true,true,false,false,false,1,0]
["item",300,"8712",null,null,null,"Catalyst 6500 16-Port GigE Mod (Req. GBIC's)","WS-X6516-GBIC",null,"standard material","electronic","Cisco","EA",6768,0,"HP",0,null,"Kyle M. Daniel",0,"DWC",true,4,"0.0.0.0.0.166.62.142",2,18,null,810,null,null,null,28012,"0.0.0.0.0.166.46.235",true,true,false,false,false,1,0,true,16]
["item",300,"8778",null,null,null,"Cat6500 Sup2, ATA Type1 Flash Mem Card, 64 MB Option","MEM-C6K-ATA-1-64M",null,"standard material","electronic","Cisco","EA",160,0,"HP",0,null,"Kyle M. Daniel",0,"DWC",true,4,"0.0.0.0.0.166.62.147",2,18,null,817,null,null,null,28019,"0.0.0.0.0.166.46.240",true,true,false,false,false,1,0,false,0]
["item",300,"8805",null,null,null,"SUP720 COMPACT FLASH MEM 256MB","MEM-C6K-CPTFL256M",null,"standard material","electronic","Cisco","EA",360,0,"HP",0,null,"Kyle M. Daniel",0,"DWC",true,4,"0.0.0.0.0.166.62.150",2,18,null,819,null,null,null,28021,"0.0.0.0.0.166.46.243",true,true,false,false,false,1,0,false,0]
["item",300,"8817",null,null,null,"DC POWER SUPPLY 2500 Watt","WS-CDC-2500W",null,"standard material","electronic","Cisco","EA",2000,0,"HP",0,null,"Kyle M. Daniel",0,"DWC",true,4,"0.0.0.0.0.166.62.153",2,18,null,821,null,null,null,28023,"0.0.0.0.0.166.46.246",true,true,false,false,false,1,0,false,0]
["item",300,"8845",null,null,null,"Checkpoint VPN-1 Pro Gateway Unlimited","CPMP-VPG-U-NG",null,"standard material","electronic","Nokia","EA",6222.49,0,"HP",0,null,"Kyle M. Daniel",0,"DWC",true,4,"0.0.0.0.0.166.62.156",2,52,null,823,null,null,null,28025,"0.0.0.0.0.166.46.249",true,true,false,false,false,1,0,false,0]
["item",300,"8848",null,null,null,"Nokia IP-380 Base Systems","NBB3880000",null,"standard material","electronic","Nokia","EA",5565.22,0,"HP",0,null,"Kyle M. Daniel",0,"DWC",true,4,"0.0.0.0.0.166.62.159",2,52,null,825,null,null,null,28027,"0.0.0.0.0.166.46.252",true,true,false,false,false,1,0,false,0]
["item",300,"8865",null,null,null,"4400 Series WLAN Controller for up to 12 Cisco lightweight APs","AIR-WLC4402-12-K9",null,"standard material","electronic","Cisco","EA",0,0,"HP",0,null,"Kyle M. Daniel",0,"NEC",true,4,"0.0.0.0.0.166.62.162",2,18,null,736,null,null,null,27938,"0.0.0.0.0.166.46.255",true,true,false,false,false,1,0,false,0]
["item",300,"8866",null,null,null,"4400 Series WLAN Controller for up to 100 Lightweight APs","AIR-WLC4404-100-K9",null,"standard material","electronic","Cisco","EA",0,0,"HP",0,null,"Kyle M. Daniel",0,"NEC",true,4,"0.0.0.0.0.166.62.165",2,18,null,737,null,null,null,27939,"0.0.0.0.0.166.47.3",true,true,false,false,false,1,0,false,0]
["item",300,"8867",null,null,null,"4400 Series WLAN Controller AC Power Supply (redundant)","AIR-PWR-4400-AC=",null,"standard material","electronic","Cisco","EA",0,0,"HP",0,null,"Kyle M. Daniel",0,"NEC",true,4,"0.0.0.0.0.166.62.168",2,18,null,738,null,null,null,27940,"0.0.0.0.0.166.47.6",true,true,false,false,false,1,0,false,0]
["item",300,"8875",null,null,null,"4400 Series WLAN Controller for up to 50 Lightweight APs","AIR-WLC4402-50-K9",null,"standard material","electronic","Cisco","EA",0,0,"HP",0,null,"Kyle M. Daniel",0,"NEC",true,4,"0.0.0.0.0.166.62.171",2,18,null,739,null,null,null,27941,"0.0.0.0.0.166.47.9",true,true,false,false,false,1,0,false,0]
["item",300,"8876",null,null,null,"4400 Series WLAN Controller for up to 25 Lightweight APs","AIR-WLC4402-25-K9",null,"standard material","electronic","Cisco","EA",0,0,"HP",0,null,"Kyle M. Daniel",0,"NEC",true,4,"0.0.0.0.0.166.62.174",2,18,null,740,null,null,null,27942,"0.0.0.0.0.166.47.12",true,true,false,false,false,1,0,false,0]
["item",300,"INFO-2362","82",null,null,"19\" Cable Manager w/ D Rings on end - 2RMS","FCM-19-2DXL",null,"standard material","horizontal","Homaco","EA",36.380000000000003,0,"DWC",6810,"Do not order without approval.","Kyle M. Daniel",0,"DWC",true,4,"0.0.0.0.0.166.62.177",1,37,null,826,null,null,null,28028,"0.0.0.0.0.166.47.15",true,false,false,true,false,2,0.12,false,0]
["item",300,"INFO-2363","83",null,null,"19\" Cable Manager w/o D Rings on end- 1RMS","FCM-19-1DL",null,"standard material","horizontal","Homaco","EA",35.39,0,"DWC",6810,"Do not order without approval.","Kyle M. Daniel",0,"DWC",true,4,"0.0.0.0.0.166.62.180",1,37,null,827,null,null,null,28029,"0.0.0.0.0.166.47.18",true,false,false,true,false,2,0.12,false,0]
["item",300,"INFO-2364","84",null,null,"19\" Cable Manager w/o D Rings on end - 2RMS","FCM-19-2DL",null,"standard material","horizontal","Homaco","EA",43.96,0,"DWC",6810,"Do not order without approval.","Kyle M. Daniel",0,"DWC",true,4,"0.0.0.0.0.166.62.183",1,37,null,828,null,null,null,28030,"0.0.0.0.0.166.47.21",true,false,false,true,false,2,0.12,false,0]
["item",300,"INFO-2365","81",null,null,"19\" Cable Manager w/ D Rings on end - 1RMS","FCM-19-1DXL",null,"standard material","horizontal","Homaco","EA",32.47,0,"DWC",6810,"Do not order without approval.","Kyle M. Daniel",0,"DWC",true,4,"0.0.0.0.0.166.62.186",1,37,null,829,null,null,null,28031,"0.0.0.0.0.166.47.24",true,false,false,true,false,2,0.12,false,0]
["Header",0]

{"sheet":"Project Management Report","index":6,"n_rows":10,"n_cols":19,"rows_kept":10,"cut":false,"hidden":false,"merged":[[7,0,7,18],[0,0,0,4],[9,0,9,18],[5,0,5,3],[3,0,3,3],[4,0,4,3],[2,0,2,3],[1,0,1,3],[8,0,8,18]]}
["Project Management Report"]
[{"$f":"'Settings and Views'!A4","v":"Project Number:"},null,null,null,{"$f":"'Settings and Views'!B4","v":"[Rnum]"}]
[{"$f":"'Settings and Views'!A3","v":"Project Name:"},null,null,null,{"$f":"'Settings and Views'!B3","v":"[Project Name]"}]
["Total Physical Cost:",null,null,null,{"$f":"SUM($M$9:$M$9)+SUM($N$9:$N$9)","v":0},{"$f":"'Settings and Views'!A10","v":"Design Type:"},{"$f":"'Settings and Views'!B10","v":"[Design]"}]
["Total Electronics Cost:",null,null,null,{"$f":"SUM($M$11:$M$65536)+SUM($N$11:$N$65536)","v":0},{"$f":"'Settings and Views'!A11","v":"Design Review Date:"},{"$f":"'Settings and Views'!B11","v":"00:00:00"}]
["Grand Total for all Materials:",null,null,null,{"$f":"SUM(E4:E5)","v":0}]
["INFO #","BO Seq #","Qty.","Spare Qty.","Material Description","Part #","Notes","Material Category","Material Type","Manufacturer","UoM","Unit Cost","Cost Book","Spare Cost","Supplier","Blanket Order #","Ordering Guidelines","Element Owner","Deliver To"]
["Physical Materials"]
["Horizontal Materials"]
["Electronic Materials"]

{"sheet":"Design Review Report","index":7,"n_rows":8,"n_cols":10,"rows_kept":8,"cut":false,"hidden":false,"merged":[[6,1,6,9],[0,0,0,9],[2,6,2,7],[1,5,1,9],[5,1,5,9],[3,1,3,2],[1,1,1,2],[2,1,2,2]]}
["Design Review Report"]
[null,{"$f":"'Settings and Views'!A4","v":"Project Number:"},null,{"$f":"'Settings and Views'!B4","v":"[Rnum]"},{"$f":"'Settings and Views'!A3","v":"Project Name:"},{"$f":"'Settings and Views'!B3","v":"[Project Name]"}]
[null,{"$f":"'Settings and Views'!A10","v":"Design Type:"},null,{"$f":"'Settings and Views'!B10","v":"[Design]"},{"$f":"'Settings and Views'!A11","v":"Design Review Date:"},{"$f":"'Settings and Views'!B11","v":"00:00:00"},"Material Display:",null,"All Materials"]
[null,"LAN/CAN:",null,"No","Designer Type:","[Designer]"]
["Row #","INFO","Qty.","Spare Qty.","Material Description","Part #","Manufacturer","UoM","Notes","Deliver To"]
[null,"Physical Materials"]
[null,"Horizontal Materials"]
[null,"Electronic Materials"]

{"sheet":"Standard Materials","index":8,"n_rows":1500,"n_cols":15,"rows_kept":1500,"cut":false,"hidden":false,"merged":[[0,1,0,2],[5,1,5,2],[6,1,6,2],[1,1,1,2],[2,1,2,2],[3,1,3,2],[4,1,4,2]]}
[{"$f":"'Settings and Views'!A4","v":"Project Number:"},{"$f":"'Settings and Views'!B4","v":"[Rnum]"}]
[{"$f":"'Settings and Views'!A3","v":"Project Name:"},{"$f":"'Settings and Views'!B3","v":"[Project Name]"}]
[{"$f":"'Settings and Views'!A5","v":"Shipping Address1"},{"$f":"IF('Settings and Views'!B5>0,'Settings and Views'!B5,\"\")","v":""}]
[{"$f":"'Settings and Views'!A6","v":"Shipping Address2"},{"$f":"IF('Settings and Views'!B6>0,'Settings and Views'!B6,\"\")","v":""},null,null,"Counts",{"$f":"SUBTOTAL(9,$O$11:$O$15136)","v":0}]
[{"$f":"'Settings and Views'!A7","v":"Shipping City"},{"$f":"IF('Settings and Views'!B7>0,'Settings and Views'!B7,\"\")","v":""},null,null,"Total $",{"$f":"SUBTOTAL(9,$L$11:$L$15136)","v":0}]
[{"$f":"'Settings and Views'!A8","v":"Shipping State"},{"$f":"IF('Settings and Views'!B8>0,'Settings and Views'!B8,\"\")","v":""}]
[{"$f":"'Settings and Views'!A9","v":"Shipping ZIP"},{"$f":"IF('Settings and Views'!B9>0,'Settings and Views'!B9,\"\")","v":""}]
[]
["Quantity","Units","Item Description","Manufacturer","Unit Price (USD)","Supplier","Supplier Part Number","Manufacturer Part Number",null,null,null,"Total Cost","STD NON STD","Physical Logical"]
[]
[{"$f":"'Bill of Materials'!#REF!+'Bill of Materials'!#REF!","v":{"$error":"#REF!"}},{"$f":"'Bill of Materials'!#REF!","v":{"$error":"#REF!"}},{"$f":"'Bill of Materials'!#REF!","v":{"$error":"#REF!"}},{"$f":"'Bill of Materials'!#REF!","v":{"$error":"#REF!"}},{"$f":"'Bill of Materials'!#REF!","v":{"$error":"#REF!"}},{"$f":"'Bill of Materials'!#REF!","v":{"$error":"#REF!"}},{"$f":"'Bill of Materials'!#REF!","v":{"$error":"#REF!"}},{"$f":"'Bill of Materials'!#REF!","v":{"$error":"#REF!"}},null,null,null,{"$f":"E11*A11","v":{"$error":"#REF!"}},{"$f":"'Bill of Materials'!#REF!","v":{"$error":"#REF!"}},{"$f":"'Bill of Materials'!#REF!","v":{"$error":"#REF!"}},{"$f":"IF(A11>0,1,0)","v":{"$error":"#REF!"}}]
[{"$f":"'Bill of Materials'!#REF!+'Bill of Materials'!#REF!","v":{"$error":"#REF!"}},{"$f":"'Bill of Materials'!#REF!","v":{"$error":"#REF!"}},{"$f":"'Bill of Materials'!#REF!","v":{"$error":"#REF!"}},{"$f":"'Bill of Materials'!#REF!","v":{"$error":"#REF!"}},{"$f":"'Bill of Materials'!#REF!","v":{"$error":"#REF!"}},{"$f":"'Bill of Materials'!#REF!","v":{"$error":"#REF!"}},{"$f":"'Bill of Materials'!#REF!","v":{"$error":"#REF!"}},{"$f":"'Bill of Materials'!#REF!","v":{"$error":"#REF!"}},null,null,null,{"$f":"E12*A12","v":{"$error":"#REF!"}},{"$f":"'Bill of Materials'!#REF!","v":{"$error":"#REF!"}},{"$f":"'Bill of Materials'!#REF!","v":{"$error":"#REF!"}},{"$f":"IF(A12>0,1,0)","v":{"$error":"#REF!"}}]
[{"$f":"'Bill of Materials'!#REF!+'Bill of Materials'!#REF!","v":{"$error":"#REF!"}},{"$f":"'Bill of Materials'!#REF!","v":{"$error":"#REF!"}},{"$f":"'Bill of Materials'!#REF!","v":{"$error":"#REF!"}},{"$f":"'Bill of Materials'!#REF!","v":{"$error":"#REF!"}},{"$f":"'Bill of Materials'!#REF!","v":{"$error":"#REF!"}},{"$f":"'Bill of Materials'!#REF!","v":{"$error":"#REF!"}},{"$f":"'Bill of Materials'!#REF!","v":{"$error":"#REF!"}},{"$f":"'Bill of Materials'!#REF!","v":{"$error":"#REF!"}},null,null,null,{"$error":"#REF!"},{"$f":"'Bill of Materials'!#REF!","v":{"$error":"#REF!"}},{"$f":"'Bill of Materials'!#REF!","v":{"$error":"#REF!"}},{"$error":"#REF!"}]
[{"$f":"'Bill of Materials'!#REF!+'Bill of Materials'!#REF!","v":{"$error":"#REF!"}},{"$f":"'Bill of Materials'!#REF!","v":{"$error":"#REF!"}},{"$f":"'Bill of Materials'!#REF!","v":{"$error":"#REF!"}},{"$f":"'Bill of Materials'!#REF!","v":{"$error":"#REF!"}},{"$f":"'Bill of Materials'!#REF!","v":{"$error":"#REF!"}},{"$f":"'Bill of Materials'!#REF!","v":{"$error":"#REF!"}},{"$f":"'Bill of Materials'!#REF!","v":{"$error":"#REF!"}},{"$f":"'Bill of Materials'!#REF!","v":{"$error":"#REF!"}},null,null,null,{"$error":"#REF!"},{"$f":"'Bill of Materials'!#REF!","v":{"$error":"#REF!"}},{"$f":"'Bill of Materials'!#REF!","v":{"$error":"#REF!"}},{"$error":"#REF!"}]
[{"$f":"'Bill of Materials'!#REF!+'Bill of Materials'!#REF!","v":{"$error":"#REF!"}},{"$f":"'Bill of Materials'!#REF!","v":{"$error":"#REF!"}},{"$f":"'Bill of Materials'!#REF!","v":{"$error":"#REF!"}},{"$f":"'Bill of Materials'!#REF!","v":{"$error":"#REF!"}},{"$f":"'Bill of Materials'!#REF!","v":{"$error":"#REF!"}},{"$f":"'Bill of Materials'!#REF!","v":{"$error":"#REF!"}},{"$f":"'Bill of Materials'!#REF!","v":{"$error":"#REF!"}},{"$f":"'Bill of Materials'!#REF!","v":{"$error":"#REF!"}},null,null,null,{"$error":"#REF!"},{"$f":"'Bill of Materials'!#REF!","v":{"$error":"#REF!"}},{"$f":"'Bill of Materials'!#REF!","v":{"$error":"#REF!"}},{"$error":"#REF!"}]
[{"$f":"'Bill of Materials'!#REF!+'Bill of Materials'!#REF!","v":{"$error":"#REF!"}},{"$f":"'Bill of Materials'!#REF!","v":{"$error":"#REF!"}},{"$f":"'Bill of Materials'!#REF!","v":{"$error":"#REF!"}},{"$f":"'Bill of Materials'!#REF!","v":{"$error":"#REF!"}},{"$f":"'Bill of Materials'!#REF!","v":{"$error":"#REF!"}},{"$f":"'Bill of Materials'!#REF!","v":{"$error":"#REF!"}},{"$f":"'Bill of Materials'!#REF!","v":{"$error":"#REF!"}},{"$f":"'Bill of Materials'!#REF!","v":{"$error":"#REF!"}},null,null,null,{"$error":"#REF!"},{"$f":"'Bill of Materials'!#REF!","v":{"$error":"#REF!"}},{"$f":"'Bill of Materials'!#REF!","v":{"$error":"#REF!"}},{"$error":"#REF!"}]
[{"$f":"'Bill of Materials'!#REF!+'Bill of Materials'!#REF!","v":{"$error":"#REF!"}},{"$f":"'Bill of Materials'!#REF!","v":{"$error":"#REF!"}},{"$f":"'Bill of Materials'!#REF!","v":{"$error":"#REF!"}},{"$f":"'Bill of Materials'!#REF!","v":{"$error":"#REF!"}},{"$f":"'Bill of Materials'!#REF!","v":{"$error":"#REF!"}},{"$f":"'Bill of Materials'!#REF!","v":{"$error":"#REF!"}},{"$f":"'Bill of Materials'!#REF!","v":{"$error":"#REF!"}},{"$f":"'Bill of Materials'!#REF!","v":{"$error":"#REF!"}},null,null,null,{"$error":"#REF!"},{"$f":"'Bill of Materials'!#REF!","v":{"$error":"#REF!"}},{"$f":"'Bill of Materials'!#REF!","v":{"$error":"#REF!"}},{"$error":"#REF!"}]
[{"$f":"'Bill of Materials'!#REF!+'Bill of Materials'!#REF!","v":{"$error":"#REF!"}},{"$f":"'Bill of Materials'!#REF!","v":{"$error":"#REF!"}},{"$f":"'Bill of Materials'!#REF!","v":{"$error":"#REF!"}},{"$f":"'Bill of Materials'!#REF!","v":{"$error":"#REF!"}},{"$f":"'Bill of Materials'!#REF!","v":{"$error":"#REF!"}},{"$f":"'Bill of Materials'!#REF!","v":{"$error":"#REF!"}},{"$f":"'Bill of Materials'!#REF!","v":{"$error":"#REF!"}},{"$f":"'Bill of Materials'!#REF!","v":{"$error":"#REF!"}},null,null,null,{"$error":"#REF!"},{"$f":"'Bill of Materials'!#REF!","v":{"$error":"#REF!"}},{"$f":"'Bill of Materials'!#REF!","v":{"$error":"#REF!"}},{"$error":"#REF!"}]
[{"$f":"'Bill of Materials'!#REF!+'Bill of Materials'!#REF!","v":{"$error":"#REF!"}},{"$f":"'Bill of Materials'!#REF!","v":{"$error":"#REF!"}},{"$f":"'Bill of Materials'!#REF!","v":{"$error":"#REF!"}},{"$f":"'Bill of Materials'!#REF!","v":{"$error":"#REF!"}},{"$f":"'Bill of Materials'!#REF!","v":{"$error":"#REF!"}},{"$f":"'Bill of Materials'!#REF!","v":{"$error":"#REF!"}},{"$f":"'Bill of Materials'!#REF!","v":{"$error":"#REF!"}},{"$f":"'Bill of Materials'!#REF!","v":{"$error":"#REF!"}},null,null,null,{"$error":"#REF!"},{"$f":"'Bill of Materials'!#REF!","v":{"$error":"#REF!"}},{"$f":"'Bill of Materials'!#REF!","v":{"$error":"#REF!"}},{"$error":"#REF!"}]
[{"$f":"'Bill of Materials'!#REF!+'Bill of Materials'!#REF!","v":{"$error":"#REF!"}},{"$f":"'Bill of Materials'!#REF!","v":{"$error":"#REF!"}},{"$f":"'Bill of Materials'!#REF!","v":{"$error":"#REF!"}},{"$f":"'Bill of Materials'!#REF!","v":{"$error":"#REF!"}},{"$f":"'Bill of Materials'!#REF!","v":{"$error":"#REF!"}},{"$f":"'Bill of Materials'!#REF!","v":{"$error":"#REF!"}},{"$f":"'Bill of Materials'!#REF!","v":{"$error":"#REF!"}},{"$f":"'Bill of Materials'!#REF!","v":{"$error":"#REF!"}},null,null,null,{"$error":"#REF!"},{"$f":"'Bill of Materials'!#REF!","v":{"$error":"#REF!"}},{"$f":"'Bill of Materials'!#REF!","v":{"$error":"#REF!"}},{"$error":"#REF!"}]
[{"$f":"'Bill of Materials'!#REF!+'Bill of Materials'!#REF!","v":{"$error":"#REF!"}},{"$f":"'Bill of Materials'!#REF!","v":{"$error":"#REF!"}},{"$f":"'Bill of Materials'!#REF!","v":{"$error":"#REF!"}},{"$f":"'Bill of Materials'!#REF!","v":{"$error":"#REF!"}},{"$f":"'Bill of Materials'!#REF!","v":{"$error":"#REF!"}},{"$f":"'Bill of Materials'!#REF!","v":{"$error":"#REF!"}},{"$f":"'Bill of Materials'!#REF!","v":{"$error":"#REF!"}},{"$f":"'Bill of Materials'!#REF!","v":{"$error":"#REF!"}},null,null,null,{"$error":"#REF!"},{"$f":"'Bill of Materials'!#REF!","v":{"$error":"#REF!"}},{"$f":"'Bill of Materials'!#REF!","v":{"$error":"#REF!"}},{"$error":"#REF!"}]
[{"$f":"'Bill of Materials'!E5+'Bill of Materials'!F5","v":0},{"$f":"'Bill of Materials'!M5","v":"EA"},{"$f":"'Bill of Materials'!G5","v":"Fluke Cable Analyzer - Includes DTX-1800 Main and Smart Remote, LinkWare PC Software, 16MB MMC Card Cat 6/Class E Permanent Link Adapters (2), Cat 6/Class E Channel Adapters (2), ACCharges (2), Carrying Case, USB Interface Cable (Mini B), Serial RS-232 Cable (DB9 to IEEE1394) User Manual (Copper test set only)"},{"$f":"'Bill of Materials'!L5","v":"Fluke"},{"$f":"'Bill of Materials'!N5","v":7747.75},{"$f":"'Bill of Materials'!P5","v":"DWC"},{"$f":"'Bill of Materials'!C5","v":"INFO-7030"},{"$f":"'Bill of Materials'!H5","v":"DTX-1800 "},null,null,null,{"$f":"E22*A22","v":0},{"$f":"'Bill of Materials'!J5","v":"standard material"},{"$f":"'Bill of Materials'!K5","v":"physical"},{"$f":"IF(A22>0,1,0)","v":0}]
[{"$f":"'Bill of Materials'!E6+'Bill of Materials'!F6","v":0},{"$f":"'Bill of Materials'!M6","v":"EA"},{"$f":"'Bill of Materials'!G6","v":"Fluke DTX-1800 (INFO-7030) with Multimode Fiber Modules (INFO-7033)- Includes DTX 1800 Cable Analyzer and a set of DTX-MFM Multimode Fiber Modules "},{"$f":"'Bill of Materials'!L6","v":"Fluke"},{"$f":"'Bill of Materials'!N6","v":11007.5},{"$f":"'Bill of Materials'!P6","v":"DWC"},{"$f":"'Bill of Materials'!C6","v":"INFO-7031"},{"$f":"'Bill of Materials'!H6","v":"DTX-1800-M"},null,null,null,0,{"$f":"'Bill of Materials'!J6","v":"standard material"},{"$f":"'Bill of Materials'!K6","v":"physical"},0]
[{"$f":"'Bill of Materials'!E7+'Bill of Materials'!F7","v":0},{"$f":"'Bill of Materials'!M7","v":"EA"},{"$f":"'Bill of Materials'!G7","v":"Fluke DTX-1800 (INFO-7030) with Multimode (INFO-7033) and Singlemode (INFO-7034) Fiber Modules - Includes DTX 1800 Cable Analyzer and set of DTX-MFM Multimode Fiber Modules and DTX-SFM Singlemode Fiber Modules"},{"$f":"'Bill of Materials'!L7","v":"Fluke"},{"$f":"'Bill of Materials'!N7","v":16222.25},{"$f":"'Bill of Materials'!P7","v":"DWC"},{"$f":"'Bill of Materials'!C7","v":"INFO-7032"},{"$f":"'Bill of Materials'!H7","v":"DTX-1800-MS"},null,null,null,0,{"$f":"'Bill of Materials'!J7","v":"standard material"},{"$f":"'Bill of Materials'!K7","v":"physical"},0]
[{"$f":"'Bill of Materials'!E8+'Bill of Materials'!F8","v":0},{"$f":"'Bill of Materials'!M8","v":"EA"},{"$f":"'Bill of Materials'!G8","v":"Fluke DTX Multimode Fiber Modules "},{"$f":"'Bill of Materials'!L8","v":"Fluke"},{"$f":"'Bill of Materials'!N8","v":3956.75},{"$f":"'Bill of Materials'!P8","v":"DWC"},{"$f":"'Bill of Materials'!C8","v":"INFO-7033"},{"$f":"'Bill of Materials'!H8","v":"DTX-MFM"},null,null,null,0,{"$f":"'Bill of Materials'!J8","v":"standard material"},{"$f":"'Bill of Materials'!K8","v":"physical"},0]
[{"$f":"'Bill of Materials'!E9+'Bill of Materials'!F9","v":0},{"$f":"'Bill of Materials'!M9","v":"EA"},{"$f":"'Bill of Materials'!G9","v":"Fluke DTX Singlemode Fiber Modules"},{"$f":"'Bill of Materials'!L9","v":"Fluke"},{"$f":"'Bill of Materials'!N9","v":5516.5},{"$f":"'Bill of Materials'!P9","v":"DWC"},{"$f":"'Bill of Materials'!C9","v":"INFO-7034"},{"$f":"'Bill of Materials'!H9","v":"DTX-SFM"},null,null,null,0,{"$f":"'Bill of Materials'!J9","v":"standard material"},{"$f":"'Bill of Materials'!K9","v":"physical"},0]
[{"$f":"'Bill of Materials'!E10+'Bill of Materials'!F10","v":0},{"$f":"'Bill of Materials'!M10","v":"EA"},{"$f":"'Bill of Materials'!G10","v":"Fluke One Universal Permanent Link Adapter for use with the DTX series cable analyzer"},{"$f":"'Bill of Materials'!L10","v":"Fluke"},{"$f":"'Bill of Materials'!N10","v":310.25},{"$f":"'Bill of Materials'!P10","v":"DWC"},{"$f":"'Bill of Materials'!C10","v":"INFO-7035"},{"$f":"'Bill of Materials'!H10","v":"DTX-PLA001"},null,null,null,0,{"$f":"'Bill of Materials'!J10","v":"standard material"},{"$f":"'Bill of Materials'!K10","v":"physical"},0]
[{"$f":"'Bill of Materials'!E11+'Bill of Materials'!F11","v":0},{"$f":"'Bill of Materials'!M11","v":"EA"},{"$f":"'Bill of Materials'!G11","v":"Fluke Universal Permanent Link Adapters (2) with PM06 Personality Module"},{"$f":"'Bill of Materials'!L11","v":"Fluke"},{"$f":"'Bill of Materials'!N11","v":675.75},{"$f":"'Bill of Materials'!P11","v":"DWC"},{"$f":"'Bill of Materials'!C11","v":"INFO-7036"},{"$f":"'Bill of Materials'!H11","v":"DTX-PLA001S"},null,null,null,0,{"$f":"'Bill of Materials'!J11","v":"standard material"},{"$f":"'Bill of Materials'!K11","v":"physical"},0]
[{"$f":"'Bill of Materials'!E12+'Bill of Materials'!F12","v":0},{"$f":"'Bill of Materials'!M12","v":"EA"},{"$f":"'Bill of Materials'!G12","v":"Fluke Cat 6/Class E Channel Adapter"},{"$f":"'Bill of Materials'!L12","v":"Fluke"},{"$f":"'Bill of Materials'!N12","v":110.5},{"$f":"'Bill of Materials'!P12","v":"DWC"},{"$f":"'Bill of Materials'!C12","v":"INFO-7037"},{"$f":"'Bill of Materials'!H12","v":"DTX-CHA001"},null,null,null,0,{"$f":"'Bill of Materials'!J12","v":"standard material"},{"$f":"'Bill of Materials'!K12","v":"physical"},0]
[{"$f":"'Bill of Materials'!E13+'Bill of Materials'!F13","v":0},{"$f":"'Bill of Materials'!M13","v":"EA"},{"$f":"'Bill of Materials'!G13","v":"Fluke Cat 6/Class E Channel Adapter, set of 2"},{"$f":"'Bill of Materials'!L13","v":"Fluke"},{"$f":"'Bill of Materials'!N13","v":216.75},{"$f":"'Bill of Materials'!P13","v":"DWC"},{"$f":"'Bill of Materials'!C13","v":"INFO-7038"},{"$f":"'Bill of Materials'!H13","v":"DTX-CHA001S"},null,null,null,0,{"$f":"'Bill of Materials'!J13","v":"standard material"},{"$f":"'Bill of Materials'!K13","v":"physical"},0]
[{"$f":"'Bill of Materials'!E14+'Bill of Materials'!F14","v":0},{"$f":"'Bill of Materials'!M14","v":"EA"},{"$f":"'Bill of Materials'!G14","v":"Fluke: Lithium Ion Battery Pack"},{"$f":"'Bill of Materials'!L14","v":"Fluke"},{"$f":"'Bill of Materials'!N14","v":238},{"$f":"'Bill of Materials'!P14","v":"DWC"},{"$f":"'Bill of Materials'!C14","v":"INFO-7039"},{"$f":"'Bill of Materials'!H14","v":"DTX-LION"},null,null,null,0,{"$f":"'Bill of Materials'!J14","v":"standard material"},{"$f":"'Bill of Materials'!K14","v":"physical"},0]
[{"$f":"'Bill of Materials'!E15+'Bill of Materials'!F15","v":0},{"$f":"'Bill of Materials'!M15","v":"EA"},{"$f":"'Bill of Materials'!G15","v":"Fluke: Serial RS-232 Cable (DB-9 to IEEE1394)"},{"$f":"'Bill of Materials'!L15","v":"Fluke"},{"$f":"'Bill of Materials'!N15","v":25.5},{"$f":"'Bill of Materials'!P15","v":"DWC"},{"$f":"'Bill of Materials'!C15","v":"INFO-7040"},{"$f":"'Bill of Materials'!H15","v":"DTX-SER"},null,null,null,0,{"$f":"'Bill of Materials'!J15","v":"standard material"},{"$f":"'Bill of Materials'!K15","v":"physical"},0]
[{"$f":"'Bill of Materials'!E16+'Bill of Materials'!F16","v":0},{"$f":"'Bill of Materials'!M16","v":"EA"},{"$f":"'Bill of Materials'!G16","v":"Fluke: Standard Carrying Case for DTX Series"},{"$f":"'Bill of Materials'!L16","v":"Fluke"},{"$f":"'Bill of Materials'!N16","v":170},{"$f":"'Bill of Materials'!P16","v":"DWC"},{"$f":"'Bill of Materials'!C16","v":"INRF-7041"},{"$f":"'Bill of Materials'!H16","v":"DTX-CASE"},null,null,null,0,{"$f":"'Bill of Materials'!J16","v":"standard material"},{"$f":"'Bill of Materials'!K16","v":"physical"},0]
[{"$f":"'Bill of Materials'!E17+'Bill of Materials'!F17","v":0},{"$f":"'Bill of Materials'!M17","v":"EA"},{"$f":"'Bill of Materials'!G17","v":"Fluke Personality Module (Avaya)"},{"$f":"'Bill of Materials'!L17","v":"Fluke"},{"$f":"'Bill of Materials'!N17","v":140.25},{"$f":"'Bill of Materials'!P17","v":"DWC"},{"$f":"'Bill of Materials'!C17","v":"INRF-7042"},{"$f":"'Bill of Materials'!H17","v":"DSP-PM10B"},null,null,null,0,{"$f":"'Bill of Materials'!J17","v":"standard material"},{"$f":"'Bill of Materials'!K17","v":"physical"},0]
[{"$f":"'Bill of Materials'!E18+'Bill of Materials'!F18","v":0},{"$f":"'Bill of Materials'!M18","v":"EA"},{"$f":"'Bill of Materials'!G18","v":"Fluke Cat6 Centered Personality Module"},{"$f":"'Bill of Materials'!L18","v":"Fluke"},{"$f":"'Bill of Materials'!N18","v":174.25},{"$f":"'Bill of Materials'!P18","v":"DWC"},{"$f":"'Bill of Materials'!C18","v":"INRF-7043"},{"$f":"'Bill of Materials'!H18","v":"DSP-PM06"},null,null,null,0,{"$f":"'Bill of Materials'!J18","v":"standard material"},{"$f":"'Bill of Materials'!K18","v":"physical"},0]
[{"$f":"'Bill of Materials'!E19+'Bill of Materials'!F19","v":0},{"$f":"'Bill of Materials'!M19","v":"EA"},{"$f":"'Bill of Materials'!G19","v":"Covers the DTX (any model) one year, one calibrations (Needed for Cable Analyzer)"},{"$f":"'Bill of Materials'!L19","v":"Fluke"},{"$f":"'Bill of Materials'!N19","v":674.05},{"$f":"'Bill of Materials'!P19","v":"DWC"},{"$f":"'Bill of Materials'!C19","v":"INRF-7044"},{"$f":"'Bill of Materials'!H19","v":"GLD-DTX"},null,null,null,0,{"$f":"'Bill of Materials'!J19","v":"standard material"},{"$f":"'Bill of Materials'!K19","v":"physical"},0]
[{"$f":"'Bill of Materials'!E20+'Bill of Materials'!F20","v":0},{"$f":"'Bill of Materials'!M20","v":"EA"},{"$f":"'Bill of Materials'!G20","v":"Covers the DTX Fiber Module (any model) one year (Needed for Fiber Modules) "},{"$f":"'Bill of Materials'!L20","v":"Fluke"},{"$f":"'Bill of Materials'!N20","v":477.7},{"$f":"'Bill of Materials'!P20","v":"DWC"},{"$f":"'Bill of Materials'!C20","v":"INRF-7045"},{"$f":"'Bill of Materials'!H20","v":"GLD-DTX-FIBERMOD"},null,null,null,0,{"$f":"'Bill of Materials'!J20","v":"standard material"},{"$f":"'Bill of Materials'!K20","v":"physical"},0]
[{"$f":"'Bill of Materials'!#REF!+'Bill of Materials'!#REF!","v":{"$error":"#REF!"}},{"$f":"'Bill of Materials'!#REF!","v":{"$error":"#REF!"}},{"$f":"'Bill of Materials'!#REF!","v":{"$error":"#REF!"}},{"$f":"'Bill of Materials'!#REF!","v":{"$error":"#REF!"}},{"$f":"'Bill of Materials'!#REF!","v":{"$error":"#REF!"}},{"$f":"'Bill of Materials'!#REF!","v":{"$error":"#REF!"}},{"$f":"'Bill of Materials'!#REF!","v":{"$error":"#REF!"}},{"$f":"'Bill of Materials'!#REF!","v":{"$error":"#REF!"}},null,null,null,{"$error":"#REF!"},{"$f":"'Bill of Materials'!#REF!","v":{"$error":"#REF!"}},{"$f":"'Bill of Materials'!#REF!","v":{"$error":"#REF!"}},{"$error":"#REF!"}]
[{"$f":"'Bill of Materials'!E22+'Bill of Materials'!F22","v":0},{"$f":"'Bill of Materials'!M22","v":"EA"},{"$f":"'Bill of Materials'!G22","v":"QuickPort Single Gang, 6 Port Stainless Wallplate"},{"$f":"'Bill of Materials'!L22","v":"Leviton"},{"$f":"'Bill of Materials'!N22","v":3.58},{"$f":"'Bill of Materials'!P22","v":"DWC"},{"$f":"'Bill of Materials'!C22","v":"10035"},{"$f":"'Bill of Materials'!H22","v":"43080-1S6"},null,null,null,0,{"$f":"'Bill of Materials'!J22","v":"standard material"},{"$f":"'Bill of Materials'!K22","v":"horizontal"},0]
[{"$f":"'Bill of Materials'!E23+'Bill of Materials'!F23","v":0},{"$f":"'Bill of Materials'!M23","v":"EA"},{"$f":"'Bill of Materials'!G23","v":"Quickport Cat 5e+ Jack, Orange (For Data 3, Data 4, Data 5 & Data 6)"},{"$f":"'Bill of Materials'!L23","v":"Leviton"},{"$f":"'Bill of Materials'!N23","v":3.11},{"$f":"'Bill of Materials'!P23","v":"DWC"},{"$f":"'Bill of Materials'!C23","v":"10043"},{"$f":"'Bill of Materials'!H23","v":"5G110-RO5"},null,null,null,0,{"$f":"'Bill of Materials'!J23","v":"standard material"},{"$f":"'Bill of Materials'!K23","v":"horizontal"},0]
[{"$f":"'Bill of Materials'!E24+'Bill of Materials'!F24","v":0},{"$f":"'Bill of Materials'!M24","v":"EA"},{"$f":"'Bill of Materials'!G24","v":"Quickport Cat 5e+ Jack, YELLOW (Vendor Network)"},{"$f":"'Bill of Materials'!L24","v":"Leviton"},{"$f":"'Bill of Materials'!N24","v":3.11},{"$f":"'Bill of Materials'!P24","v":"DWC"},{"$f":"'Bill of Materials'!C24","v":"10045"},{"$f":"'Bill of Materials'!H24","v":"5G110-RY5"},null,null,null,0,{"$f":"'Bill of Materials'!J24","v":"standard material"},{"$f":"'Bill of Materials'!K24","v":"horizontal"},0]
[{"$f":"'Bill of Materials'!E25+'Bill of Materials'!F25","v":0},{"$f":"'Bill of Materials'!M25","v":"EA"},{"$f":"'Bill of Materials'!G25","v":"QuickPort 2-port Surface Mount Box, empty, ivory"},{"$f":"'Bill of Materials'!L25","v":"Leviton"},{"$f":"'Bill of Materials'!N25","v":1.1100000000000001},{"$f":"'Bill of Materials'!P25","v":"DWC"},{"$f":"'Bill of Materials'!C25","v":"INFO-2005"},{"$f":"'Bill of Materials'!H25","v":"41089-2IP"},null,null,null,0,{"$f":"'Bill of Materials'!J25","v":"standard material"},{"$f":"'Bill of Materials'!K25","v":"horizontal"},0]
[{"$f":"'Bill of Materials'!E26+'Bill of Materials'!F26","v":0},{"$f":"'Bill of Materials'!M26","v":"EA"},{"$f":"'Bill of Materials'!G26","v":"QuickPort 4-port Surface Mount Box, empty, ivory"},{"$f":"'Bill of Materials'!L26","v":"Leviton"},{"$f":"'Bill of Materials'!N26","v":2.06},{"$f":"'Bill of Materials'!P26","v":"DWC"},{"$f":"'Bill of Materials'!C26","v":"INFO-2006"},{"$f":"'Bill of Materials'!H26","v":"41089-4IP"},null,null,null,0,{"$f":"'Bill of Materials'!J26","v":"standard material"},{"$f":"'Bill of Materials'!K26","v":"horizontal"},0]
[{"$f":"'Bill of Materials'!E27+'Bill of Materials'!F27","v":0},{"$f":"'Bill of Materials'!M27","v":"EA"},{"$f":"'Bill of Materials'!G27","v":"QuickPort 4-port Surface Mount Box, empty, black"},{"$f":"'Bill of Materials'!L27","v":"Leviton"},{"$f":"'Bill of Materials'!N27","v":2.06},{"$f":"'Bill of Materials'!P27","v":"DWC"},{"$f":"'Bill of Materials'!C27","v":"INFO-2007"},{"$f":"'Bill of Materials'!H27","v":"41089-4EP"},null,null,null,0,{"$f":"'Bill of Materials'!J27","v":"standard material"},{"$f":"'Bill of Materials'!K27","v":"horizontal"},0]
[{"$f":"'Bill of Materials'!E28+'Bill of Materials'!F28","v":0},{"$f":"'Bill of Materials'!M28","v":"EA"},{"$f":"'Bill of Materials'!G28","v":"QuickPort 1-port Surface Mount Box Kit (w/Cat 5e-ivory)"},{"$f":"'Bill of Materials'!L28","v":"Leviton"},{"$f":"'Bill of Materials'!N28","v":3.99},{"$f":"'Bill of Materials'!P28","v":"DWC"},{"$f":"'Bill of Materials'!C28","v":"INFO-2008"},{"$f":"'Bill of Materials'!H28","v":"G04-5ESM1-1IP"},null,null,null,0,{"$f":"'Bill of Materials'!J28","v":"standard material"},{"$f":"'Bill of Materials'!K28","v":"horizontal"},0]
[{"$f":"'Bill of Materials'!E29+'Bill of Materials'!F29","v":0},{"$f":"'Bill of Materials'!M29","v":"EA"},{"$f":"'Bill of Materials'!G29","v":"QuickPort 2-port Surface Mount Box Kit (w/Cat5e-Blue, Gray)"},{"$f":"'Bill of Materials'!L29","v":"Leviton"},{"$f":"'Bill of Materials'!N29","v":6.69},{"$f":"'Bill of Materials'!P29","v":"DWC"},{"$f":"'Bill of Materials'!C29","v":"INFO-2009"},{"$f":"'Bill of Materials'!H29","v":"G05-5ESM2-2IP"},null,null,null,0,{"$f":"'Bill of Materials'!J29","v":"standard material"},{"$f":"'Bill of Materials'!K29","v":"horizontal"},0]
[{"$f":"'Bill of Materials'!E30+'Bill of Materials'!F30","v":0},{"$f":"'Bill of Materials'!M30","v":"EA"},{"$f":"'Bill of Materials'!G30","v":"QuickPort 4-port Surface Mount Box Kit (w/Cat5e-Blue, red, gray, blank)"},{"$f":"'Bill of Materials'!L30","v":"Leviton"},{"$f":"'Bill of Materials'!N30","v":13.55},{"$f":"'Bill of Materials'!P30","v":"DWC"},{"$f":"'Bill of Materials'!C30","v":"INFO-2010"},{"$f":"'Bill of Materials'!H30","v":"G06-5ESM4-4IP"},null,null,null,0,{"$f":"'Bill of Materials'!J30","v":"standard material"},{"$f":"'Bill of Materials'!K30","v":"horizontal"},0]
[{"$f":"'Bill of Materials'!E31+'Bill of Materials'!F31","v":0},{"$f":"'Bill of Materials'!M31","v":"EA"},{"$f":"'Bill of Materials'!G31","v":"QuickPort Single Gang Ivory Faceplate w/ (3) Cat 5e jacks (Blue, red, gray, blank)"},{"$f":"'Bill of Materials'!L31","v":"Leviton"},{"$f":"'Bill of Materials'!N31","v":14.88},{"$f":"'Bill of Materials'!P31","v":"DWC"},{"$f":"'Bill of Materials'!C31","v":"INFO-2011"},{"$f":"'Bill of Materials'!H31","v":"G09-STDFP-DDV"},null,null,null,0,{"$f":"'Bill of Materials'!J31","v":"standard material"},{"$f":"'Bill of Materials'!K31","v":"horizontal"},0]
[{"$f":"'Bill of Materials'!E32+'Bill of Materials'!F32","v":0},{"$f":"'Bill of Materials'!M32","v":"EA"},{"$f":"'Bill of Materials'!G32","v":"QuickPort Cat 5e+ Jack, Ivory"},{"$f":"'Bill of Materials'!L32","v":"Leviton"},{"$f":"'Bill of Materials'!N32","v":3.11},{"$f":"'Bill of Materials'!P32","v":"DWC"},{"$f":"'Bill of Materials'!C32","v":"INFO-2012"},{"$f":"'Bill of Materials'!H32","v":"5G109-RI5"},null,null,null,0,{"$f":"'Bill of Materials'!J32","v":"standard material"},{"$f":"'Bill of Materials'!K32","v":"horizontal"},0]
[{"$f":"'Bill of Materials'!E33+'Bill of Materials'!F33","v":0},{"$f":"'Bill of Materials'!M33","v":"EA"},{"$f":"'Bill of Materials'!G33","v":"MOS System Blank Module, Ivory, For MOS Boxes and MOS Wallplates"},{"$f":"'Bill of Materials'!L33","v":"Leviton"},{"$f":"'Bill of Materials'!N33","v":0.53},{"$f":"'Bill of Materials'!P33","v":"DWC"},{"$f":"'Bill of Materials'!C33","v":"INFO-2013"},{"$f":"'Bill of Materials'!H33","v":"41291-1BI"},null,null,null,0,{"$f":"'Bill of Materials'!J33","v":"standard material"},{"$f":"'Bill of Materials'!K33","v":"horizontal"},0]
[{"$f":"'Bill of Materials'!E34+'Bill of Materials'!F34","v":0},{"$f":"'Bill of Materials'!M34","v":"EA"},{"$f":"'Bill of Materials'!G34","v":"QuickPort 1 port Stainless Steel flush mount faceplate w/blue Cat 5e jack"},{"$f":"'Bill of Materials'!L34","v":"Leviton"},{"$f":"'Bill of Materials'!N34","v":7.18},{"$f":"'Bill of Materials'!P34","v":"DWC"},{"$f":"'Bill of Materials'!C34","v":"INFO-2014"},{"$f":"'Bill of Materials'!H34","v":"G07-5E1FP-1SS"},null,null,null,0,{"$f":"'Bill of Materials'!J34","v":"standard material"},{"$f":"'Bill of Materials'!K34","v":"horizontal"},0]
[{"$f":"'Bill of Materials'!E35+'Bill of Materials'!F35","v":0},{"$f":"'Bill of Materials'!M35","v":"EA"},{"$f":"'Bill of Materials'!G35","v":"QuickPort 2-port Stainless Steel flush mount faceplate w/(2) Cat 5e jacks (blue & gray)"},{"$f":"'Bill of Materials'!L35","v":"Leviton"},{"$f":"'Bill of Materials'!N35","v":8.16},{"$f":"'Bill of Materials'!P35","v":"DWC"},{"$f":"'Bill of Materials'!C35","v":"INFO-2015"},{"$f":"'Bill of Materials'!H35","v":"G08-5E2FP-2SS"},null,null,null,0,{"$f":"'Bill of Materials'!J35","v":"standard material"},{"$f":"'Bill of Materials'!K35","v":"horizontal"},0]
[{"$f":"'Bill of Materials'!E36+'Bill of Materials'!F36","v":0},{"$f":"'Bill of Materials'!M36","v":"EA"},{"$f":"'Bill of Materials'!G36","v":"QuickPort Dual Gang 4-Port Faceplate, Ivory"},{"$f":"'Bill of Materials'!L36","v":"Leviton"},{"$f":"'Bill of Materials'!N36","v":2.2200000000000002},{"$f":"'Bill of Materials'!P36","v":"DWC"},{"$f":"'Bill of Materials'!C36","v":"INFO-2016"},{"$f":"'Bill of Materials'!H36","v":"42080-4IP"},null,null,null,0,{"$f":"'Bill of Materials'!J36","v":"standard material"},{"$f":"'Bill of Materials'!K36","v":"horizontal"},0]
[{"$f":"'Bill of Materials'!E37+'Bill of Materials'!F37","v":0},{"$f":"'Bill of Materials'!M37","v":"EA"},{"$f":"'Bill of Materials'!G37","v":"MOS System Single Gang Faceplate, Ivory"},{"$f":"'Bill of Materials'!L37","v":"Leviton"},{"$f":"'Bill of Materials'!N37","v":1.1499999999999999},{"$f":"'Bill of Materials'!P37","v":"DWC"},{"$f":"'Bill of Materials'!C37","v":"INFO-2017"},{"$f":"'Bill of Materials'!H37","v":"41290-SMI"},null,null,null,0,{"$f":"'Bill of Materials'!J37","v":"standard material"},{"$f":"'Bill of Materials'!K37","v":"horizontal"},0]
[{"$f":"'Bill of Materials'!E38+'Bill of Materials'!F38","v":0},{"$f":"'Bill of Materials'!M38","v":"EA"},{"$f":"'Bill of Materials'!G38","v":"MOS System Dual Gang Faceplate, Ivory"},{"$f":"'Bill of Materials'!L38","v":"Leviton"},{"$f":"'Bill of Materials'!N38","v":2.91},{"$f":"'Bill of Materials'!P38","v":"DWC"},{"$f":"'Bill of Materials'!C38","v":"INFO-2018"},{"$f":"'Bill of Materials'!H38","v":"41290-DMI"},null,null,null,0,{"$f":"'Bill of Materials'!J38","v":"standard material"},{"$f":"'Bill of Materials'!K38","v":"horizontal"},0]
[{"$f":"'Bill of Materials'!E39+'Bill of Materials'!F39","v":0},{"$f":"'Bill of Materials'!M39","v":"EA"},{"$f":"'Bill of Materials'!G39","v":"MOS System 2-port Flush Adapter, Ivory"},{"$f":"'Bill of Materials'!L39","v":"Leviton"},{"$f":"'Bill of Materials'!N39","v":0.65},{"$f":"'Bill of Materials'!P39","v":"DWC"},{"$f":"'Bill of Materials'!C39","v":"INFO-2019"},{"$f":"'Bill of Materials'!H39","v":"41291-2QI"},null,null,null,0,{"$f":"'Bill of Materials'!J39","v":"standard material"},{"$f":"'Bill of Materials'!K39","v":"horizontal"},0]
[{"$f":"'Bill of Materials'!E40+'Bill of Materials'!F40","v":0},{"$f":"'Bill of Materials'!M40","v":"EA"},{"$f":"'Bill of Materials'!G40","v":"MOS System 2-port Angled Adapter, Ivory"},{"$f":"'Bill of Materials'!L40","v":"Leviton"},{"$f":"'Bill of Materials'!N40","v":0.65},{"$f":"'Bill of Materials'!P40","v":"DWC"},{"$f":"'Bill of Materials'!C40","v":"INFO-2020"},{"$f":"'Bill of Materials'!H40","v":"41294-2QI"},null,null,null,0,{"$f":"'Bill of Materials'!J40","v":"standard material"},{"$f":"'Bill of Materials'!K40","v":"horizontal"},0]
[{"$f":"'Bill of Materials'!E41+'Bill of Materials'!F41","v":0},{"$f":"'Bill of Materials'!M41","v":"EA"},{"$f":"'Bill of Materials'!G41","v":"QuickPort Blank Insert (comes in pkg of 10 ONLY)"},{"$f":"'Bill of Materials'!L41","v":"Leviton"},{"$f":"'Bill of Materials'!N41","v":1.25},{"$f":"'Bill of Materials'!P41","v":"DWC"},{"$f":"'Bill of Materials'!C41","v":"INFO-2021"},{"$f":"'Bill of Materials'!H41","v":"41084-BIB"},null,null,null,0,{"$f":"'Bill of Materials'!J41","v":"standard material"},{"$f":"'Bill of Materials'!K41","v":"horizontal"},0]
[{"$f":"'Bill of Materials'!E42+'Bill of Materials'!F42","v":0},{"$f":"'Bill of Materials'!M42","v":"EA"},{"$f":"'Bill of Materials'!G42","v":"MT-RJ QuickPort Frame Station Adapter, Ivory, for Frame Station Connector"},{"$f":"'Bill of Materials'!L42","v":"Leviton"},{"$f":"'Bill of Materials'!N42","v":3.58},{"$f":"'Bill of Materials'!P42","v":"DWC"},{"$f":"'Bill of Materials'!C42","v":"INFO-2023"},{"$f":"'Bill of Materials'!H42","v":"49889-QFI"},null,null,null,0,{"$f":"'Bill of Materials'!J42","v":"standard material"},{"$f":"'Bill of Materials'!K42","v":"horizontal"},0]
[{"$f":"'Bill of Materials'!E43+'Bill of Materials'!F43","v":0},{"$f":"'Bill of Materials'!M43","v":"EA"},{"$f":"'Bill of Materials'!G43","v":"ST Fiber Adaptor QuickPort for MM/SM, Bronze Sleeve, White"},{"$f":"'Bill of Materials'!L43","v":"Leviton"},{"$f":"'Bill of Materials'!N43","v":4.54},{"$f":"'Bill of Materials'!P43","v":"DWC"},{"$f":"'Bill of Materials'!C43","v":"INFO-2024"},{"$f":"'Bill of Materials'!H43","v":"41084-SWF"},null,null,null,0,{"$f":"'Bill of Materials'!J43","v":"standard material"},{"$f":"'Bill of Materials'!K43","v":"horizontal"},0]
[{"$f":"'Bill of Materials'!E44+'Bill of Materials'!F44","v":0},{"$f":"'Bill of Materials'!M44","v":"EA"},{"$f":"'Bill of Materials'!G44","v":"MOS System SC Duplex Adapter, MM/SM, Angled"},{"$f":"'Bill of Materials'!L44","v":"Leviton"},{"$f":"'Bill of Materials'!N44","v":15.32},{"$f":"'Bill of Materials'!P44","v":"DWC"},{"$f":"'Bill of Materials'!C44","v":"INFO-2026"},{"$f":"'Bill of Materials'!H44","v":"41294-PCI"},null,null,null,0,{"$f":"'Bill of Materials'!J44","v":"standard material"},{"$f":"'Bill of Materials'!K44","v":"horizontal"},0]
[{"$f":"'Bill of Materials'!E45+'Bill of Materials'!F45","v":0},{"$f":"'Bill of Materials'!M45","v":"EA"},{"$f":"'Bill of Materials'!G45","v":"MOS System SC Duplex Adapter, MM/SM, Flush"},{"$f":"'Bill of Materials'!L45","v":"Leviton"},{"$f":"'Bill of Materials'!N45","v":15.16},{"$f":"'Bill of Materials'!P45","v":"DWC"},{"$f":"'Bill of Materials'!C45","v":"INFO-2027"},{"$f":"'Bill of Materials'!H45","v":"41291-PCI"},null,null,null,0,{"$f":"'Bill of Materials'!J45","v":"standard material"},{"$f":"'Bill of Materials'!K45","v":"horizontal"},0]
[{"$f":"'Bill of Materials'!E46+'Bill of Materials'!F46","v":0},{"$f":"'Bill of Materials'!M46","v":"EA"},{"$f":"'Bill of Materials'!G46","v":"QuickPort 2-port modular furniture faceplate, ivory generic"},{"$f":"'Bill of Materials'!L46","v":"Leviton"},{"$f":"'Bill of Materials'!N46","v":1.52},{"$f":"'Bill of Materials'!P46","v":"DWC"},{"$f":"'Bill of Materials'!C46","v":"INFO-2028"},{"$f":"'Bill of Materials'!H46","v":"49910-SI2"},null,null,null,0,{"$f":"'Bill of Materials'!J46","v":"standard material"},{"$f":"'Bill of Materials'!K46","v":"horizontal"},0]
[{"$f":"'Bill of Materials'!E47+'Bill of Materials'!F47","v":0},{"$f":"'Bill of Materials'!M47","v":"EA"},{"$f":"'Bill of Materials'!G47","v":"QuickPort 4-port modular furniture faceplate, ivory generic"},{"$f":"'Bill of Materials'!L47","v":"Leviton"},{"$f":"'Bill of Materials'!N47","v":1.52},{"$f":"'Bill of Materials'!P47","v":"DWC"},{"$f":"'Bill of Materials'!C47","v":"INFO-2029"},{"$f":"'Bill of Materials'!H47","v":"49910-SI4"},null,null,null,0,{"$f":"'Bill of Materials'!J47","v":"standard material"},{"$f":"'Bill of Materials'!K47","v":"horizontal"},0]
[{"$f":"'Bill of Materials'!E48+'Bill of Materials'!F48","v":0},{"$f":"'Bill of Materials'!M48","v":"EA"},{"$f":"'Bill of Materials'!G48","v":"QuickPort 2-port Herman Miller faceplate ivory "},{"$f":"'Bill of Materials'!L48","v":"Leviton"},{"$f":"'Bill of Materials'!N48","v":1.89},{"$f":"'Bill of Materials'!P48","v":"DWC"},{"$f":"'Bill of Materials'!C48","v":"INFO-2030"},{"$f":"'Bill of Materials'!H48","v":"49910-HI2"},null,null,null,0,{"$f":"'Bill of Materials'!J48","v":"standard material"},{"$f":"'Bill of Materials'!K48","v":"horizontal"},0]
[{"$f":"'Bill of Materials'!E49+'Bill of Materials'!F49","v":0},{"$f":"'Bill of Materials'!M49","v":"EA"},{"$f":"'Bill of Materials'!G49","v":"QuickPort 4-port Herman Miller faceplate ivory"},{"$f":"'Bill of Materials'!L49","v":"Leviton"},{"$f":"'Bill of Materials'!N49","v":1.89},{"$f":"'Bill of Materials'!P49","v":"DWC"},{"$f":"'Bill of Materials'!C49","v":"INFO-2031"},{"$f":"'Bill of Materials'!H49","v":"49910-HI4"},null,null,null,0,{"$f":"'Bill of Materials'!J49","v":"standard material"},{"$f":"'Bill of Materials'!K49","v":"horizontal"},0]
[{"$f":"'Bill of Materials'!E50+'Bill of Materials'!F50","v":0},{"$f":"'Bill of Materials'!M50","v":"EA"},{"$f":"'Bill of Materials'!G50","v":"MOS System 6 Port Multimedia Surface Mount Box, Empty, Ivory"},{"$f":"'Bill of Materials'!L50","v":"Leviton"},{"$f":"'Bill of Materials'!N50","v":7.97},{"$f":"'Bill of Materials'!P50","v":"DWC"},{"$f":"'Bill of Materials'!C50","v":"INFO-2032"},{"$f":"'Bill of Materials'!H50","v":"41296-MMI"},null,null,null,0,{"$f":"'Bill of Materials'!J50","v":"standard material"},{"$f":"'Bill of Materials'!K50","v":"horizontal"},0]
[{"$f":"'Bill of Materials'!E51+'Bill of Materials'!F51","v":0},{"$f":"'Bill of Materials'!M51","v":"EA"},{"$f":"'Bill of Materials'!G51","v":"Single Gang Backbox, Plastic Surface Mount, 1.89\" Deep, Ivory"},{"$f":"'Bill of Materials'!L51","v":"Leviton"},{"$f":"'Bill of Materials'!N51","v":1.82},{"$f":"'Bill of Materials'!P51","v":"DWC"},{"$f":"'Bill of Materials'!C51","v":"INFO-2033"},{"$f":"'Bill of Materials'!H51","v":"42777-1IA"},null,null,null,0,{"$f":"'Bill of Materials'!J51","v":"standard material"},{"$f":"'Bill of Materials'!K51","v":"horizontal"},0]
[{"$f":"'Bill of Materials'!E52+'Bill of Materials'!F52","v":0},{"$f":"'Bill of Materials'!M52","v":"EA"},{"$f":"'Bill of Materials'!G52","v":"Dual Gang Backbox, Plastic Surface Mount, 1.89\" Deep, Ivory"},{"$f":"'Bill of Materials'!L52","v":"Leviton"},{"$f":"'Bill of Materials'!N52","v":3.44},{"$f":"'Bill of Materials'!P52","v":"DWC"},{"$f":"'Bill of Materials'!C52","v":"INFO-2034"},{"$f":"'Bill of Materials'!H52","v":"42777-2IA"},null,null,null,0,{"$f":"'Bill of Materials'!J52","v":"standard material"},{"$f":"'Bill of Materials'!K52","v":"horizontal"},0]
[{"$f":"'Bill of Materials'!E53+'Bill of Materials'!F53","v":0},{"$f":"'Bill of Materials'!M53","v":"EA"},{"$f":"'Bill of Materials'!G53","v":"Type 630 Quick Connect Wall Phone Jack, 6 Pair/4 Conductor, Stainless"},{"$f":"'Bill of Materials'!L53","v":"Leviton"},{"$f":"'Bill of Materials'!N53","v":3.64},{"$f":"'Bill of Materials'!P53","v":"DWC"},{"$f":"'Bill of Materials'!C53","v":"INFO-2046"},{"$f":"'Bill of Materials'!H53","v":"40223-S"},null,null,null,0,{"$f":"'Bill of Materials'!J53","v":"standard material"},{"$f":"'Bill of Materials'!K53","v":"horizontal"},0]
[{"$f":"'Bill of Materials'!E54+'Bill of Materials'!F54","v":0},{"$f":"'Bill of Materials'!M54","v":"EA"},{"$f":"'Bill of Materials'!G54","v":"Duplex 106 Insert Only (2 Jacks), Ivory"},{"$f":"'Bill of Materials'!L54","v":"Leviton"},{"$f":"'Bill of Materials'!N54","v":0.91},{"$f":"'Bill of Materials'!P54","v":"DWC"},{"$f":"'Bill of Materials'!C54","v":"INFO-2047"},{"$f":"'Bill of Materials'!H54","v":"41087-2IP"},null,null,null,0,{"$f":"'Bill of Materials'!J54","v":"standard material"},{"$f":"'Bill of Materials'!K54","v":"horizontal"},0]
[{"$f":"'Bill of Materials'!E55+'Bill of Materials'!F55","v":0},{"$f":"'Bill of Materials'!M55","v":"EA"},{"$f":"'Bill of Materials'!G55","v":"Quickport Quad 106 Insert Only (4 Jacks), Ivory"},{"$f":"'Bill of Materials'!L55","v":"Leviton"},{"$f":"'Bill of Materials'!N55","v":1.3},{"$f":"'Bill of Materials'!P55","v":"DWC"},{"$f":"'Bill of Materials'!C55","v":"INFO-2048"},{"$f":"'Bill of Materials'!H55","v":"41087-QIP"},null,null,null,0,{"$f":"'Bill of Materials'!J55","v":"standard material"},{"$f":"'Bill of Materials'!K55","v":"horizontal"},0]
[{"$f":"'Bill of Materials'!E56+'Bill of Materials'!F56","v":0},{"$f":"'Bill of Materials'!M56","v":"EA"},{"$f":"'Bill of Materials'!G56","v":"Aluminum 3/4\" Single Gang Box (2.75\" x 4.5\" x 2.0\")  (Plant Floor)"},{"$f":"'Bill of Materials'!L56","v":"Mulberry"},{"$f":"'Bill of Materials'!N56","v":2.92},{"$f":"'Bill of Materials'!P56","v":"DWC"},{"$f":"'Bill of Materials'!C56","v":"INFO-2104"},{"$f":"'Bill of Materials'!H56","v":"30204"},null,null,null,0,{"$f":"'Bill of Materials'!J56","v":"standard material"},{"$f":"'Bill of Materials'!K56","v":"horizontal"},0]
[{"$f":"'Bill of Materials'!E57+'Bill of Materials'!F57","v":0},{"$f":"'Bill of Materials'!M57","v":"EA"},{"$f":"'Bill of Materials'!G57","v":"Impact punch down tool w/ 110 blade"},{"$f":"'Bill of Materials'!L57","v":"CZ Lab"},{"$f":"'Bill of Materials'!N57","v":26.78},{"$f":"'Bill of Materials'!P57","v":"DWC"},{"$f":"'Bill of Materials'!C57","v":"INFO-2114"},{"$f":"'Bill of Materials'!H57","v":"1690-92"},null,null,null,0,{"$f":"'Bill of Materials'!J57","v":"standard material"},{"$f":"'Bill of Materials'!K57","v":"horizontal"},0]
[{"$f":"'Bill of Materials'!E58+'Bill of Materials'!F58","v":0},{"$f":"'Bill of Materials'!M58","v":"EA"},{"$f":"'Bill of Materials'!G58","v":"WALKER BLANK PLATE (FOR DOG HOUSE)"},{"$f":"'Bill of Materials'!L58","v":"Wiremold / Walker"},{"$f":"'Bill of Materials'!N58","v":6.19},{"$f":"'Bill of Materials'!P58","v":"DWC"},{"$f":"'Bill of Materials'!C58","v":"INFO-2169"},{"$f":"'Bill of Materials'!H58","v":"500B"},null,null,null,0,{"$f":"'Bill of Materials'!J58","v":"standard material"},{"$f":"'Bill of Materials'!K58","v":"horizontal"},0]
[{"$f":"'Bill of Materials'!E59+'Bill of Materials'!F59","v":0},{"$f":"'Bill of Materials'!M59","v":"EA"},{"$f":"'Bill of Materials'!G59","v":"SPIDERBOX ADAPTER FACEPLATE"},{"$f":"'Bill of Materials'!L59","v":"Spiderbox"},{"$f":"'Bill of Materials'!N59","v":5.79},{"$f":"'Bill of Materials'!P59","v":"DWC"},{"$f":"'Bill of Materials'!C59","v":"INFO-2171"},{"$f":"'Bill of Materials'!H59","v":"SI-315"},null,null,null,0,{"$f":"'Bill of Materials'!J59","v":"standard material"},{"$f":"'Bill of Materials'!K59","v":"horizontal"},0]
[{"$f":"'Bill of Materials'!E60+'Bill of Materials'!F60","v":0},{"$f":"'Bill of Materials'!M60","v":"EA"},{"$f":"'Bill of Materials'!G60","v":"WALKER DUPLEX RECEPTACLE FACEPLATE"},{"$f":"'Bill of Materials'!L60","v":"Wiremold / Walker"},{"$f":"'Bill of Materials'!N60","v":9.9},{"$f":"'Bill of Materials'!P60","v":"DWC"},{"$f":"'Bill of Materials'!C60","v":"INFO-2173"},{"$f":"'Bill of Materials'!H60","v":"500DR"},null,null,null,0,{"$f":"'Bill of Materials'!J60","v":"standard material"},{"$f":"'Bill of Materials'!K60","v":"horizontal"},0]
[{"$f":"'Bill of Materials'!E61+'Bill of Materials'!F61","v":0},{"$f":"'Bill of Materials'!M61","v":"EA"},{"$f":"'Bill of Materials'!G61","v":"WALKER Housing with Base Plate (Dog House)"},{"$f":"'Bill of Materials'!L61","v":"Wiremold / Walker"},{"$f":"'Bill of Materials'!N61","v":25.99},{"$f":"'Bill of Materials'!P61","v":"DWC"},{"$f":"'Bill of Materials'!C61","v":"INFO-2174"},{"$f":"'Bill of Materials'!H61","v":"500HB"},null,null,null,0,{"$f":"'Bill of Materials'!J61","v":"standard material"},{"$f":"'Bill of Materials'!K61","v":"horizontal"},0]
[{"$f":"'Bill of Materials'!E62+'Bill of Materials'!F62","v":0},{"$f":"'Bill of Materials'!M62","v":"EA"},{"$f":"'Bill of Materials'!G62","v":"Quickport Cat 5e+ jack, RED (Data 2)"},{"$f":"'Bill of Materials'!L62","v":"Leviton"},{"$f":"'Bill of Materials'!N62","v":3.11},{"$f":"'Bill of Materials'!P62","v":"DWC"},{"$f":"'Bill of Materials'!C62","v":"INFO-7007"},{"$f":"'Bill of Materials'!H62","v":"5G110-RR5"},null,null,null,0,{"$f":"'Bill of Materials'!J62","v":"standard material"},{"$f":"'Bill of Materials'!K62","v":"physical"},0]
[{"$f":"'Bill of Materials'!E63+'Bill of Materials'!F63","v":0},{"$f":"'Bill of Materials'!M63","v":"EA"},{"$f":"'Bill of Materials'!G63","v":"Quickport Cat 5e+ jack, BLUE (Data 1)"},{"$f":"'Bill of Materials'!L63","v":"Leviton"},{"$f":"'Bill of Materials'!N63","v":3.11},{"$f":"'Bill of Materials'!P63","v":"DWC"},{"$f":"'Bill of Materials'!C63","v":"INFO-7008"},{"$f":"'Bill of Materials'!H63","v":"5G110-RL5"},null,null,null,0,{"$f":"'Bill of Materials'!J63","v":"standard material"},{"$f":"'Bill of Materials'!K63","v":"physical"},0]
[{"$f":"'Bill of Materials'!E64+'Bill of Materials'!F64","v":0},{"$f":"'Bill of Materials'!M64","v":"EA"},{"$f":"'Bill of Materials'!G64","v":"Quickport Cat 5e+ jack, GRAY (Analog Voice)  "},{"$f":"'Bill of Materials'!L64","v":"Leviton"},{"$f":"'Bill of Materials'!N64","v":3.11},{"$f":"'Bill of Materials'!P64","v":"DWC"},{"$f":"'Bill of Materials'!C64","v":"INFO-7009"},{"$f":"'Bill of Materials'!H64","v":"5G110-RG5"},null,null,null,0,{"$f":"'Bill of Materials'!J64","v":"standard material"},{"$f":"'Bill of Materials'!K64","v":"physical"},0]
[{"$f":"'Bill of Materials'!E65+'Bill of Materials'!F65","v":0},{"$f":"'Bill of Materials'!M65","v":"EA"},{"$f":"'Bill of Materials'!G65","v":"SC Simplex Fiber Adaptor QuickPort for MM, Bronze Sleeve, Female Front/Back, White"},{"$f":"'Bill of Materials'!L65","v":"Leviton"},{"$f":"'Bill of Materials'!N65","v":5.3},{"$f":"'Bill of Materials'!P65","v":"DWC"},{"$f":"'Bill of Materials'!C65","v":"INRF-0048"},{"$f":"'Bill of Materials'!H65","v":"41085-MWC"},null,null,null,0,{"$f":"'Bill of Materials'!J65","v":"standard material"},{"$f":"'Bill of Materials'!K65","v":"physical"},0]
[{"$f":"'Bill of Materials'!#REF!+'Bill of Materials'!#REF!","v":{"$error":"#REF!"}},{"$f":"'Bill of Materials'!#REF!","v":{"$error":"#REF!"}},{"$f":"'Bill of Materials'!#REF!","v":{"$error":"#REF!"}},{"$f":"'Bill of Materials'!#REF!","v":{"$error":"#REF!"}},{"$f":"'Bill of Materials'!#REF!","v":{"$error":"#REF!"}},{"$f":"'Bill of Materials'!#REF!","v":{"$error":"#REF!"}},{"$f":"'Bill of Materials'!#REF!","v":{"$error":"#REF!"}},{"$f":"'Bill of Materials'!#REF!","v":{"$error":"#REF!"}},null,null,null,{"$error":"#REF!"},{"$f":"'Bill of Materials'!#REF!","v":{"$error":"#REF!"}},{"$f":"'Bill of Materials'!#REF!","v":{"$error":"#REF!"}},{"$error":"#REF!"}]
[{"$f":"'Bill of Materials'!E67+'Bill of Materials'!F67","v":0},{"$f":"'Bill of Materials'!M67","v":"EA"},{"$f":"'Bill of Materials'!G67","v":"110 Block X-Connect Cable/Organizer, For Voice Cable Backboard. Replaces Discontinued AT&T 18A Rings"},{"$f":"'Bill of Materials'!L67","v":"Siemon"},{"$f":"'Bill of Materials'!N67","v":3.17},{"$f":"'Bill of Materials'!P67","v":"DWC"},{"$f":"'Bill of Materials'!C67","v":"0406-11V1"},{"$f":"'Bill of Materials'!H67","v":"S144"},null,null,null,0,{"$f":"'Bill of Materials'!J67","v":"standard material"},{"$f":"'Bill of Materials'!K67","v":"physical"},0]
[{"$f":"'Bill of Materials'!E68+'Bill of Materials'!F68","v":0},{"$f":"'Bill of Materials'!M68","v":"EA"},{"$f":"'Bill of Materials'!G68","v":"50ft. Category 5e, 25 Pair Cable Assembly, Telco Straight to Blunt"},{"$f":"'Bill of Materials'!L68","v":"Superior Modular Products"},{"$f":"'Bill of Materials'!N68","v":115.55},{"$f":"'Bill of Materials'!P68","v":"DWC"},{"$f":"'Bill of Materials'!C68","v":"10031"},{"$f":"'Bill of Materials'!H68","v":"25PA/TS-X-E-050"},null,null,null,0,{"$f":"'Bill of Materials'!J68","v":"standard material"},{"$f":"'Bill of Materials'!K68","v":"horizontal"},0]
[{"$f":"'Bill of Materials'!E69+'Bill of Materials'!F69","v":0},{"$f":"'Bill of Materials'!M69","v":"EA"},{"$f":"'Bill of Materials'!G69","v":"Voice Grade Copper Patch Panel, 24 Port, Pre-Connectorized, Telco, 8P4C Jacks (Only 2 Pair Deployed to Individual Ports). Equipped with 49005-CMB – Cable Management Bar - 1RU"},{"$f":"'Bill of Materials'!L69","v":"Leviton"},{"$f":"'Bill of Materials'!N69","v":76.739999999999995},{"$f":"'Bill of Materials'!P69","v":"DWC"},{"$f":"'Bill of Materials'!C69","v":"10037"},{"$f":"'Bill of Materials'!H69","v":"49014-J24"},null,null,null,{"$f":"E86*A86","v":0},{"$f":"'Bill of Materials'!J69","v":"standard material"},{"$f":"'Bill of Materials'!K69","v":"horizontal"},{"$f":"IF(A86>0,1,0)","v":0}]
[{"$f":"'Bill of Materials'!E70+'Bill of Materials'!F70","v":0},{"$f":"'Bill of Materials'!M70","v":"EA"},{"$f":"'Bill of Materials'!G70","v":"Voice Grade Copper Patch Panel, 48 Port, Pre-Connectorized, Telco, 8P4C Jacks (Only 2 Pair Deployed to Individual Ports). Equipped with 49005-CMB – Cable Management Bar - 2RU"},{"$f":"'Bill of Materials'!L70","v":"Leviton"},{"$f":"'Bill of Materials'!N70","v":159.58000000000001},{"$f":"'Bill of Materials'!P70","v":"DWC"},{"$f":"'Bill of Materials'!C70","v":"10038"},{"$f":"'Bill of Materials'!H70","v":"49014-J48"},null,null,null,0,{"$f":"'Bill of Materials'!J70","v":"standard material"},{"$f":"'Bill of Materials'!K70","v":"horizontal"},0]
[{"$f":"'Bill of Materials'!E71+'Bill of Materials'!F71","v":0},{"$f":"'Bill of Materials'!M71","v":"EA"},{"$f":"'Bill of Materials'!G71","v":"12-Port GigaMax 5e Patch Block, Incld's Vertical Mounting Bracket. "},{"$f":"'Bill of Materials'!L71","v":"Leviton"},{"$f":"'Bill of Materials'!N71","v":66.37},{"$f":"'Bill of Materials'!P71","v":"DWC"},{"$f":"'Bill of Materials'!C71","v":"10046"},{"$f":"'Bill of Materials'!H71","v":"5G596-U89"},null,null,null,0,{"$f":"'Bill of Materials'!J71","v":"standard material"},{"$f":"'Bill of Materials'!K71","v":"horizontal"},0]
[{"$f":"'Bill of Materials'!E72+'Bill of Materials'!F72","v":0},{"$f":"'Bill of Materials'!M72","v":"EA"},{"$f":"'Bill of Materials'!G72","v":"Add Cat5e or voice patch panel to cabinet or rack -------Labor Only"},{"$f":"'Bill of Materials'!L72","v":"DWC"},{"$f":"'Bill of Materials'!N72","v":27.9},{"$f":"'Bill of Materials'!P72","v":"DWC"},{"$f":"'Bill of Materials'!C72","v":"10089"},{"$f":"'Bill of Materials'!H72","v":"Copper Patch Panel-L"},null,null,null,0,{"$f":"'Bill of Materials'!J72","v":"standard material"},{"$f":"'Bill of Materials'!K72","v":"physical"},0]
[{"$f":"'Bill of Materials'!E73+'Bill of Materials'!F73","v":0},{"$f":"'Bill of Materials'!M73","v":"EA"},{"$f":"'Bill of Materials'!G73","v":"Category 5e, 48 Port, 25 Pair Gigabit Ethernet Telco Connector Panel - 2RU"},{"$f":"'Bill of Materials'!L73","v":"Superior Modular Products"},{"$f":"'Bill of Materials'!N73","v":189.75},{"$f":"'Bill of Materials'!P73","v":"DWC"},{"$f":"'Bill of Materials'!C73","v":"10093"},{"$f":"'Bill of Materials'!H73","v":"DCC488825/V01"},null,null,null,0,{"$f":"'Bill of Materials'!J73","v":"standard material"},{"$f":"'Bill of Materials'!K73","v":"horizontal"},0]
[{"$f":"'Bill of Materials'!E74+'Bill of Materials'!F74","v":0},{"$f":"'Bill of Materials'!M74","v":"EA"},{"$f":"'Bill of Materials'!G74","v":"110 block Designation Strip Labels, Gray (180/pkg)"},{"$f":"'Bill of Materials'!L74","v":"Brady"},{"$f":"'Bill of Materials'!N74","v":37.799999999999997},{"$f":"'Bill of Materials'!P74","v":"DWC"},{"$f":"'Bill of Materials'!C74","v":"10126"},{"$f":"'Bill of Materials'!H74","v":"LAT-177-124-GY"},null,null,null,0,{"$f":"'Bill of Materials'!J74","v":"standard material"},{"$f":"'Bill of Materials'!K74","v":"horizontal"},0]
[{"$f":"'Bill of Materials'!E75+'Bill of Materials'!F75","v":0},{"$f":"'Bill of Materials'!M75","v":"EA"},{"$f":"'Bill of Materials'!G75","v":"300pr 110 Block w/o Legs For 110D Frames"},{"$f":"'Bill of Materials'!L75","v":"Panduit"},{"$f":"'Bill of Materials'!N75","v":24.4},{"$f":"'Bill of Materials'!P75","v":"DWC"},{"$f":"'Bill of Materials'!C75","v":"10138"},{"$f":"'Bill of Materials'!H75","v":"P110B300-X"},null,null,null,0,{"$f":"'Bill of Materials'!J75","v":"standard material"},{"$f":"'Bill of Materials'!K75","v":"horizontal"},0]
[{"$f":"'Bill of Materials'!E76+'Bill of Materials'!F76","v":0},{"$f":"'Bill of Materials'!M76","v":"EA"},{"$f":"'Bill of Materials'!G76","v":"Category 3, 48 Port Voice-Grade Patch Panel, w/1 Rear Cable Mgmt. Bar, Pre-Connectorized, 25pr Telco 8P8C (All 4Pair Deployed to Individual Ports)"},{"$f":"'Bill of Materials'!L76","v":"Leviton"},{"$f":"'Bill of Materials'!N76","v":135.47},{"$f":"'Bill of Materials'!P76","v":"DWC"},{"$f":"'Bill of Materials'!C76","v":"INFO-2001"},{"$f":"'Bill of Materials'!H76","v":"G01-VGPNL-V48"},null,null,null,0,{"$f":"'Bill of Materials'!J76","v":"standard material"},{"$f":"'Bill of Materials'!K76","v":"horizontal"},0]
[{"$f":"'Bill of Materials'!E77+'Bill of Materials'!F77","v":0},{"$f":"'Bill of Materials'!M77","v":"EA"},{"$f":"'Bill of Materials'!G77","v":"Category 5e, 48 port patch panel w/2 rear cable mgmt bars"},{"$f":"'Bill of Materials'!L77","v":"Leviton"},{"$f":"'Bill of Materials'!N77","v":177.16},{"$f":"'Bill of Materials'!P77","v":"DWC"},{"$f":"'Bill of Materials'!C77","v":"INFO-2002"},{"$f":"'Bill of Materials'!H77","v":"G02-5EPNL-U48"},null,null,null,0,{"$f":"'Bill of Materials'!J77","v":"standard material"},{"$f":"'Bill of Materials'!K77","v":"horizontal"},0]
[{"$f":"'Bill of Materials'!E78+'Bill of Materials'!F78","v":0},{"$f":"'Bill of Materials'!M78","v":"EA"},{"$f":"'Bill of Materials'!G78","v":"Category 5e, 24 port patch panel w/1 rear cable mgmt bar"},{"$f":"'Bill of Materials'!L78","v":"Leviton"},{"$f":"'Bill of Materials'!N78","v":88.58},{"$f":"'Bill of Materials'!P78","v":"DWC"},{"$f":"'Bill of Materials'!C78","v":"INFO-2003"},{"$f":"'Bill of Materials'!H78","v":"G03-5EPNL-U24"},null,null,null,0,{"$f":"'Bill of Materials'!J78","v":"standard material"},{"$f":"'Bill of Materials'!K78","v":"horizontal"},0]
[{"$f":"'Bill of Materials'!E79+'Bill of Materials'!F79","v":0},{"$f":"'Bill of Materials'!M79","v":"EA"},{"$f":"'Bill of Materials'!G79","v":"Patch panel cable mgmt bar (towel bar)"},{"$f":"'Bill of Materials'!L79","v":"Leviton"},{"$f":"'Bill of Materials'!N79","v":11.06},{"$f":"'Bill of Materials'!P79","v":"DWC"},{"$f":"'Bill of Materials'!C79","v":"INFO-2004"},{"$f":"'Bill of Materials'!H79","v":"49005-CMB"},null,null,null,0,{"$f":"'Bill of Materials'!J79","v":"standard material"},{"$f":"'Bill of Materials'!K79","v":"horizontal"},0]
[{"$f":"'Bill of Materials'!E80+'Bill of Materials'!F80","v":0},{"$f":"'Bill of Materials'!M80","v":"EA"},{"$f":"'Bill of Materials'!G80","v":"100pr 110 block kit w/C4 conn and blue designation sheets"},{"$f":"'Bill of Materials'!L80","v":"Leviton"},{"$f":"'Bill of Materials'!N80","v":19.93},{"$f":"'Bill of Materials'!P80","v":"DWC"},{"$f":"'Bill of Materials'!C80","v":"INFO-2035"},{"$f":"'Bill of Materials'!H80","v":"G10-110C4-100"},null,null,null,0,{"$f":"'Bill of Materials'!J80","v":"standard material"},{"$f":"'Bill of Materials'!K80","v":"horizontal"},0]
[{"$f":"'Bill of Materials'!E81+'Bill of Materials'!F81","v":0},{"$f":"'Bill of Materials'!M81","v":"EA"},{"$f":"'Bill of Materials'!G81","v":"100pr 110 block kit w/C5 conn and white designation sheets"},{"$f":"'Bill of Materials'!L81","v":"Leviton"},{"$f":"'Bill of Materials'!N81","v":21.31},{"$f":"'Bill of Materials'!P81","v":"DWC"},{"$f":"'Bill of Materials'!C81","v":"INFO-2036"},{"$f":"'Bill of Materials'!H81","v":"G11-110C5-100"},null,null,null,0,{"$f":"'Bill of Materials'!J81","v":"standard material"},{"$f":"'Bill of Materials'!K81","v":"horizontal"},0]
[{"$f":"'Bill of Materials'!E82+'Bill of Materials'!F82","v":0},{"$f":"'Bill of Materials'!M82","v":"EA"},{"$f":"'Bill of Materials'!G82","v":"300pr 110 block kit w/C4 conn and blue designation sheets"},{"$f":"'Bill of Materials'!L82","v":"Leviton"},{"$f":"'Bill of Materials'!N82","v":55.78},{"$f":"'Bill of Materials'!P82","v":"DWC"},{"$f":"'Bill of Materials'!C82","v":"INFO-2037"},{"$f":"'Bill of Materials'!H82","v":"G12-110C4-300"},null,null,null,0,{"$f":"'Bill of Materials'!J82","v":"standard material"},{"$f":"'Bill of Materials'!K82","v":"horizontal"},0]
[{"$f":"'Bill of Materials'!E83+'Bill of Materials'!F83","v":0},{"$f":"'Bill of Materials'!M83","v":"EA"},{"$f":"'Bill of Materials'!G83","v":"300pr 110 block kit w/C5 conn and white designation sheets"},{"$f":"'Bill of Materials'!L83","v":"Leviton"},{"$f":"'Bill of Materials'!N83","v":58.54},{"$f":"'Bill of Materials'!P83","v":"DWC"},{"$f":"'Bill of Materials'!C83","v":"INFO-2038"},{"$f":"'Bill of Materials'!H83","v":"G13-110C5-300"},null,null,null,0,{"$f":"'Bill of Materials'!J83","v":"standard material"},{"$f":"'Bill of Materials'!K83","v":"horizontal"},0]
[{"$f":"'Bill of Materials'!E84+'Bill of Materials'!F84","v":0},{"$f":"'Bill of Materials'!M84","v":"EA"},{"$f":"'Bill of Materials'!G84","v":"C-5 Connector Blocks, 110 Multipair Punchdowns (Package of 10)"},{"$f":"'Bill of Materials'!L84","v":"Leviton"},{"$f":"'Bill of Materials'!N84","v":4.17},{"$f":"'Bill of Materials'!P84","v":"DWC"},{"$f":"'Bill of Materials'!C84","v":"INFO-2039"},{"$f":"'Bill of Materials'!H84","v":"49105-IDC"},null,null,null,0,{"$f":"'Bill of Materials'!J84","v":"standard material"},{"$f":"'Bill of Materials'!K84","v":"horizontal"},0]
[{"$f":"'Bill of Materials'!E85+'Bill of Materials'!F85","v":0},{"$f":"'Bill of Materials'!M85","v":"EA"},{"$f":"'Bill of Materials'!G85","v":"C-4 Connector Blocks, 110 UTP Punchdowns (Package of 10)"},{"$f":"'Bill of Materials'!L85","v":"Leviton"},{"$f":"'Bill of Materials'!N85","v":0.37},{"$f":"'Bill of Materials'!P85","v":"DWC"},{"$f":"'Bill of Materials'!C85","v":"INFO-2040"},{"$f":"'Bill of Materials'!H85","v":"49104-IDC"},null,null,null,0,{"$f":"'Bill of Materials'!J85","v":"standard material"},{"$f":"'Bill of Materials'!K85","v":"horizontal"},0]
[{"$f":"'Bill of Materials'!E86+'Bill of Materials'!F86","v":0},{"$f":"'Bill of Materials'!M86","v":"EA"},{"$f":"'Bill of Materials'!G86","v":"300pr 110 block with legs (Bare)"},{"$f":"'Bill of Materials'!L86","v":"Leviton"},{"$f":"'Bill of Materials'!N86","v":18.579999999999998},{"$f":"'Bill of Materials'!P86","v":"DWC"},{"$f":"'Bill of Materials'!C86","v":"INFO-2041"},{"$f":"'Bill of Materials'!H86","v":"41AW2-300"},null,null,null,0,{"$f":"'Bill of Materials'!J86","v":"standard material"},{"$f":"'Bill of Materials'!K86","v":"horizontal"},0]
[{"$f":"'Bill of Materials'!E87+'Bill of Materials'!F87","v":0},{"$f":"'Bill of Materials'!M87","v":"EA"},{"$f":"'Bill of Materials'!G87","v":"4-pos hinged wall mount bracket"},{"$f":"'Bill of Materials'!L87","v":"Leviton"},{"$f":"'Bill of Materials'!N87","v":35.909999999999997},{"$f":"'Bill of Materials'!P87","v":"DWC"},{"$f":"'Bill of Materials'!C87","v":"INFO-2042"},{"$f":"'Bill of Materials'!H87","v":"49251-W64"},null,null,null,0,{"$f":"'Bill of Materials'!J87","v":"standard material"},{"$f":"'Bill of Materials'!K87","v":"physical"},0]
[{"$f":"'Bill of Materials'!E88+'Bill of Materials'!F88","v":0},{"$f":"'Bill of Materials'!M88","v":"EA"},{"$f":"'Bill of Materials'!G88","v":"110 Block Designation Strip Labels, Blue (180/pkg)"},{"$f":"'Bill of Materials'!L88","v":"Brady"},{"$f":"'Bill of Materials'!N88","v":34.79},{"$f":"'Bill of Materials'!P88","v":"DWC"},{"$f":"'Bill of Materials'!C88","v":"INFO-2043"},{"$f":"'Bill of Materials'!H88","v":"LAT-177-124-BL"},null,null,null,0,{"$f":"'Bill of Materials'!J88","v":"standard material"},{"$f":"'Bill of Materials'!K88","v":"horizontal"},0]
[{"$f":"'Bill of Materials'!E89+'Bill of Materials'!F89","v":0},{"$f":"'Bill of Materials'!M89","v":"EA"},{"$f":"'Bill of Materials'!G89","v":"110 Block Designation Strip Labels, White (180/pkg)"},{"$f":"'Bill of Materials'!L89","v":"Brady"},{"$f":"'Bill of Materials'!N89","v":34.79},{"$f":"'Bill of Materials'!P89","v":"DWC"},{"$f":"'Bill of Materials'!C89","v":"INFO-2044"},{"$f":"'Bill of Materials'!H89","v":"LAT-177-124-WT"},null,null,null,0,{"$f":"'Bill of Materials'!J89","v":"standard material"},{"$f":"'Bill of Materials'!K89","v":"horizontal"},0]
[{"$f":"'Bill of Materials'!E90+'Bill of Materials'!F90","v":0},{"$f":"'Bill of Materials'!M90","v":"EA"},{"$f":"'Bill of Materials'!G90","v":"188B2 Backboard for X-connect Field/110 Blocks"},{"$f":"'Bill of Materials'!L90","v":"Lucent"},{"$f":"'Bill of Materials'!N90","v":29.06},{"$f":"'Bill of Materials'!P90","v":"DWC"},{"$f":"'Bill of Materials'!C90","v":"INFO-2360"},{"$f":"'Bill of Materials'!H90","v":"104405113"},null,null,null,0,{"$f":"'Bill of Materials'!J90","v":"standard material"},{"$f":"'Bill of Materials'!K90","v":"horizontal"},0]
[{"$f":"'Bill of Materials'!#REF!+'Bill of Materials'!#REF!","v":{"$error":"#REF!"}},{"$f":"'Bill of Materials'!#REF!","v":{"$error":"#REF!"}},{"$f":"'Bill of Materials'!#REF!","v":{"$error":"#REF!"}},{"$f":"'Bill of Materials'!#REF!","v":{"$error":"#REF!"}},{"$f":"'Bill of Materials'!#REF!","v":{"$error":"#REF!"}},{"$f":"'Bill of Materials'!#REF!","v":{"$error":"#REF!"}},{"$f":"'Bill of Materials'!#REF!","v":{"$error":"#REF!"}},{"$f":"'Bill of Materials'!#REF!","v":{"$error":"#REF!"}},null,null,null,{"$error":"#REF!"},{"$f":"'Bill of Materials'!#REF!","v":{"$error":"#REF!"}},{"$f":"'Bill of Materials'!#REF!","v":{"$error":"#REF!"}},{"$error":"#REF!"}]
[{"$f":"'Bill of Materials'!E92+'Bill of Materials'!F92","v":0},{"$f":"'Bill of Materials'!M92","v":"EA"},{"$f":"'Bill of Materials'!G92","v":"2RU 3” Standoff Bracket (Pair)"},{"$f":"'Bill of Materials'!L92","v":"Newton"},{"$f":"'Bill of Materials'!N92","v":15.64},{"$f":"'Bill of Materials'!P92","v":"DWC"},{"$f":"'Bill of Materials'!C92","v":"0094-49RT"},{"$f":"'Bill of Materials'!H92","v":40710245},null,null,null,0,{"$f":"'Bill of Materials'!J92","v":"standard material"},{"$f":"'Bill of Materials'!K92","v":"physical"},0]
[{"$f":"'Bill of Materials'!E93+'Bill of Materials'!F93","v":0},{"$f":"'Bill of Materials'!M93","v":"EA"},{"$f":"'Bill of Materials'!G93","v":"2RU 19\" Rack Mounted Wire Manager Front Only, With Cover, 3.5\"H x 19\"W x 3.7\"D"},{"$f":"'Bill of Materials'!L93","v":"Panduit"},{"$f":"'Bill of Materials'!N93","v":39.35},{"$f":"'Bill of Materials'!P93","v":"DWC"},{"$f":"'Bill of Materials'!C93","v":"0288-05FN"},{"$f":"'Bill of Materials'!H93","v":"WMPF1E"},null,null,null,0,{"$f":"'Bill of Materials'!J93","v":"standard material"},{"$f":"'Bill of Materials'!K93","v":"physical"},0]
[{"$f":"'Bill of Materials'!E94+'Bill of Materials'!F94","v":0},{"$f":"'Bill of Materials'!M94","v":"EA"},{"$f":"'Bill of Materials'!G94","v":"3/4\" Cat.5e J-Hooks"},{"$f":"'Bill of Materials'!L94","v":"Erico-Caddy"},{"$f":"'Bill of Materials'!N94","v":0.88},{"$f":"'Bill of Materials'!P94","v":"DWC"},{"$f":"'Bill of Materials'!C94","v":"0419-11WJ"},{"$f":"'Bill of Materials'!H94","v":"CAT-12"},null,null,null,0,{"$f":"'Bill of Materials'!J94","v":"standard material"},{"$f":"'Bill of Materials'!K94","v":"physical"},0]
[{"$f":"'Bill of Materials'!E95+'Bill of Materials'!F95","v":0},{"$f":"'Bill of Materials'!M95","v":"EA"},{"$f":"'Bill of Materials'!G95","v":"5\" Aluminum D Ring, Voice Backboards"},{"$f":"'Bill of Materials'!L95","v":"Garvin"},{"$f":"'Bill of Materials'!N95","v":1.56},{"$f":"'Bill of Materials'!P95","v":"DWC"},{"$f":"'Bill of Materials'!C95","v":"0672-TLLJ"},{"$f":"'Bill of Materials'!H95","v":"DST500"},null,null,null,0,{"$f":"'Bill of Materials'!J95","v":"standard material"},{"$f":"'Bill of Materials'!K95","v":"physical"},0]
[{"$f":"'Bill of Materials'!E96+'Bill of Materials'!F96","v":0},{"$f":"'Bill of Materials'!M96","v":"EA"},{"$f":"'Bill of Materials'!G96","v":"Velcro Cable Wrap, Plenum Rated. 3/4\"w Maroon, 15' Roll, Cut to Length"},{"$f":"'Bill of Materials'!L96","v":"Hellermann Tyton"},{"$f":"'Bill of Materials'!N96","v":9.26},{"$f":"'Bill of Materials'!P96","v":"DWC"},{"$f":"'Bill of Materials'!C96","v":"0856-059T"},{"$f":"'Bill of Materials'!H96","v":"GT.75X180MV2"},null,null,null,0,{"$f":"'Bill of Materials'!J96","v":"standard material"},{"$f":"'Bill of Materials'!K96","v":"physical"},0]
[{"$f":"'Bill of Materials'!E97+'Bill of Materials'!F97","v":0},{"$f":"'Bill of Materials'!M97","v":"EA"},{"$f":"'Bill of Materials'!G97","v":"Mount horizontal wire manager-------Labor Only"},{"$f":"'Bill of Materials'!L97","v":"DWC"},{"$f":"'Bill of Materials'!N97","v":38.700000000000003},{"$f":"'Bill of Materials'!P97","v":"DWC"},{"$f":"'Bill of Materials'!C97","v":"10121"},{"$f":"'Bill of Materials'!H97","v":"Horizontal Wire Manager-L"},null,null,null,0,{"$f":"'Bill of Materials'!J97","v":"standard material"},{"$f":"'Bill of Materials'!K97","v":"physical"},0]
[{"$f":"'Bill of Materials'!E98+'Bill of Materials'!F98","v":0},{"$f":"'Bill of Materials'!M98","v":"EA"},{"$f":"'Bill of Materials'!G98","v":"1RU 19\" Cable Manager w/ D Rings on end - Cabinets"},{"$f":"'Bill of Materials'!L98","v":"Datatel"},{"$f":"'Bill of Materials'!N98","v":16.5},{"$f":"'Bill of Materials'!P98","v":"DWC"},{"$f":"'Bill of Materials'!C98","v":"INFO-2307"},{"$f":"'Bill of Materials'!H98","v":"HCM-1DV"},null,null,null,0,{"$f":"'Bill of Materials'!J98","v":"standard material"},{"$f":"'Bill of Materials'!K98","v":"horizontal"},0]
[{"$f":"'Bill of Materials'!E99+'Bill of Materials'!F99","v":0},{"$f":"'Bill of Materials'!M99","v":"EA"},{"$f":"'Bill of Materials'!G99","v":"2\" CAT 5 J Hook"},{"$f":"'Bill of Materials'!L99","v":"Erico-Caddy"},{"$f":"'Bill of Materials'!N99","v":1.48},{"$f":"'Bill of Materials'!P99","v":"DWC"},{"$f":"'Bill of Materials'!C99","v":"INFO-2310"},{"$f":"'Bill of Materials'!H99","v":"CAT-32"},null,null,null,0,{"$f":"'Bill of Materials'!J99","v":"standard material"},{"$f":"'Bill of Materials'!K99","v":"horizontal"},0]
[{"$f":"'Bill of Materials'!E100+'Bill of Materials'!F100","v":0},{"$f":"'Bill of Materials'!M100","v":"EA"},{"$f":"'Bill of Materials'!G100","v":"2RU 19\" Cable Manager w/ D Rings on end - Cabinets"},{"$f":"'Bill of Materials'!L100","v":"Datatel"},{"$f":"'Bill of Materials'!N100","v":17.75},{"$f":"'Bill of Materials'!P100","v":"DWC"},{"$f":"'Bill of Materials'!C100","v":"INFO-2341"},{"$f":"'Bill of Materials'!H100","v":"HCM-2DV"},null,null,null,0,{"$f":"'Bill of Materials'!J100","v":"standard material"},{"$f":"'Bill of Materials'!K100","v":"horizontal"},0]
[{"$f":"'Bill of Materials'!E101+'Bill of Materials'!F101","v":0},{"$f":"'Bill of Materials'!M101","v":"EA"},{"$f":"'Bill of Materials'!G101","v":"1RU 19\" Cable Manager w/o D Rings on end - Racks"},{"$f":"'Bill of Materials'!L101","v":"Datatel"},{"$f":"'Bill of Materials'!N101","v":15.3},{"$f":"'Bill of Materials'!P101","v":"DWC"},{"$f":"'Bill of Materials'!C101","v":"INFO-2342"},{"$f":"'Bill of Materials'!H101","v":"HCM-1D"},null,null,null,0,{"$f":"'Bill of Materials'!J101","v":"standard material"},{"$f":"'Bill of Materials'!K101","v":"horizontal"},0]
[{"$f":"'Bill of Materials'!E102+'Bill of Materials'!F102","v":0},{"$f":"'Bill of Materials'!M102","v":"EA"},{"$f":"'Bill of Materials'!G102","v":"2RU 19\" Cable Manager w/o D Rings on end - Racks"},{"$f":"'Bill of Materials'!L102","v":"Datatel"},{"$f":"'Bill of Materials'!N102","v":16.5},{"$f":"'Bill of Materials'!P102","v":"DWC"},{"$f":"'Bill of Materials'!C102","v":"INFO-2343"},{"$f":"'Bill of Materials'!H102","v":"HCM-2D"},null,null,null,0,{"$f":"'Bill of Materials'!J102","v":"standard material"},{"$f":"'Bill of Materials'!K102","v":"horizontal"},0]
[{"$f":"'Bill of Materials'!E103+'Bill of Materials'!F103","v":0},{"$f":"'Bill of Materials'!M103","v":"EA"},{"$f":"'Bill of Materials'!G103","v":"2\" Aluminum D Ring, Voice Backboards"},{"$f":"'Bill of Materials'!L103","v":"Garvin"},{"$f":"'Bill of Materials'!N103","v":1.1499999999999999},{"$f":"'Bill of Materials'!P103","v":"DWC"},{"$f":"'Bill of Materials'!C103","v":"INFO-2349"},{"$f":"'Bill of Materials'!H103","v":"DST-200"},null,null,null,0,{"$f":"'Bill of Materials'!J103","v":"standard material"},{"$f":"'Bill of Materials'!K103","v":"horizontal"},0]
[{"$f":"'Bill of Materials'!E104+'Bill of Materials'!F104","v":0},{"$f":"'Bill of Materials'!M104","v":"EA"},{"$f":"'Bill of Materials'!G104","v":"Plenum Rated Plastic Cable Tie 15\" Long , Red (package of 50)"},{"$f":"'Bill of Materials'!L104","v":"Hellermann Tyton"},{"$f":"'Bill of Materials'!N104","v":113.96},{"$f":"'Bill of Materials'!P104","v":"DWC"},{"$f":"'Bill of Materials'!C104","v":"INFO-2350"},{"$f":"'Bill of Materials'!H104","v":"T120R2HALK2"},null,null,null,0,{"$f":"'Bill of Materials'!J104","v":"standard material"},{"$f":"'Bill of Materials'!K104","v":"horizontal"},0]
[{"$f":"'Bill of Materials'!E105+'Bill of Materials'!F105","v":0},{"$f":"'Bill of Materials'!M105","v":"EA"},{"$f":"'Bill of Materials'!G105","v":"Nylon Cable Tie 4\" Long, Gray (package of 1000)"},{"$f":"'Bill of Materials'!L105","v":"Hellermann Tyton"},{"$f":"'Bill of Materials'!N105","v":12.2},{"$f":"'Bill of Materials'!P105","v":"DWC"},{"$f":"'Bill of Materials'!C105","v":"INFO-2351"},{"$f":"'Bill of Materials'!H105","v":"T18ROM4"},null,null,null,0,{"$f":"'Bill of Materials'!J105","v":"standard material"},{"$f":"'Bill of Materials'!K105","v":"horizontal"},0]
[{"$f":"'Bill of Materials'!E106+'Bill of Materials'!F106","v":0},{"$f":"'Bill of Materials'!M106","v":"EA"},{"$f":"'Bill of Materials'!G106","v":"Nylon Cable Tie 6\" Long, Black (package of 1000)"},{"$f":"'Bill of Materials'!L106","v":"Hellermann Tyton"},{"$f":"'Bill of Materials'!N106","v":19.5},{"$f":"'Bill of Materials'!P106","v":"DWC"},{"$f":"'Bill of Materials'!C106","v":"INFO-2352"},{"$f":"'Bill of Materials'!H106","v":"T30ROM4"},null,null,null,0,{"$f":"'Bill of Materials'!J106","v":"standard material"},{"$f":"'Bill of Materials'!K106","v":"horizontal"},0]
[{"$f":"'Bill of Materials'!E107+'Bill of Materials'!F107","v":0},{"$f":"'Bill of Materials'!M107","v":"EA"},{"$f":"'Bill of Materials'!G107","v":"Nylon Cable Tie 8.5\" Long, Black (package of 1000)"},{"$f":"'Bill of Materials'!L107","v":"Hellermann Tyton"},{"$f":"'Bill of Materials'!N107","v":24.23},{"$f":"'Bill of Materials'!P107","v":"DWC"},{"$f":"'Bill of Materials'!C107","v":"INFO-2353"},{"$f":"'Bill of Materials'!H107","v":"T40ROM4"},null,null,null,0,{"$f":"'Bill of Materials'!J107","v":"standard material"},{"$f":"'Bill of Materials'!K107","v":"horizontal"},0]
[{"$f":"'Bill of Materials'!E108+'Bill of Materials'!F108","v":0},{"$f":"'Bill of Materials'!M108","v":"EA"},{"$f":"'Bill of Materials'!G108","v":"Nylon Cable Tie 11.5\" Long, Black (package of 1000)"},{"$f":"'Bill of Materials'!L108","v":"Hellermann Tyton"},{"$f":"'Bill of Materials'!N108","v":50.01},{"$f":"'Bill of Materials'!P108","v":"DWC"},{"$f":"'Bill of Materials'!C108","v":"INFO-2354"},{"$f":"'Bill of Materials'!H108","v":"T40IOM4"},null,null,null,0,{"$f":"'Bill of Materials'!J108","v":"standard material"},{"$f":"'Bill of Materials'!K108","v":"horizontal"},0]
[{"$f":"'Bill of Materials'!E109+'Bill of Materials'!F109","v":0},{"$f":"'Bill of Materials'!M109","v":"EA"},{"$f":"'Bill of Materials'!G109","v":"White Cable tie mount used with #10 Saddle, (package of 100)"},{"$f":"'Bill of Materials'!L109","v":"Hellermann Tyton"},{"$f":"'Bill of Materials'!N109","v":19.149999999999999},{"$f":"'Bill of Materials'!P109","v":"DWC"},{"$f":"'Bill of Materials'!C109","v":"INFO-2355"},{"$f":"'Bill of Materials'!H109","v":"CTM310C2"},null,null,null,0,{"$f":"'Bill of Materials'!J109","v":"standard material"},{"$f":"'Bill of Materials'!K109","v":"horizontal"},0]
[{"$f":"'Bill of Materials'!E110+'Bill of Materials'!F110","v":0},{"$f":"'Bill of Materials'!M110","v":"EA"},{"$f":"'Bill of Materials'!G110","v":"Nylon Cable Tie 14.5\" Long, Black (package of 1000)"},{"$f":"'Bill of Materials'!L110","v":"Hellermann Tyton"},{"$f":"'Bill of Materials'!N110","v":70.150000000000006},{"$f":"'Bill of Materials'!P110","v":"DWC"},{"$f":"'Bill of Materials'!C110","v":"INFO-2356"},{"$f":"'Bill of Materials'!H110","v":"T40L0M4"},null,null,null,0,{"$f":"'Bill of Materials'!J110","v":"standard material"},{"$f":"'Bill of Materials'!K110","v":"horizontal"},0]
[{"$f":"'Bill of Materials'!E111+'Bill of Materials'!F111","v":0},{"$f":"'Bill of Materials'!M111","v":"EA"},{"$f":"'Bill of Materials'!G111","v":"Velcro Cable Tie 6\" Long, Black (Perforated/10 Ties/Pkg.)"},{"$f":"'Bill of Materials'!L111","v":"Hellermann Tyton"},{"$f":"'Bill of Materials'!N111","v":4.13},{"$f":"'Bill of Materials'!P111","v":"DWC"},{"$f":"'Bill of Materials'!C111","v":"INFO-2357"},{"$f":"'Bill of Materials'!H111","v":"GT.50X60P2"},null,null,null,0,{"$f":"'Bill of Materials'!J111","v":"standard material"},{"$f":"'Bill of Materials'!K111","v":"horizontal"},0]
[{"$f":"'Bill of Materials'!E112+'Bill of Materials'!F112","v":0},{"$f":"'Bill of Materials'!M112","v":"EA"},{"$f":"'Bill of Materials'!G112","v":"Velcro Cable Tie - Black (cut to length roll of 15')"},{"$f":"'Bill of Materials'!L112","v":"Hellermann Tyton"},{"$f":"'Bill of Materials'!N112","v":6.65},{"$f":"'Bill of Materials'!P112","v":"DWC"},{"$f":"'Bill of Materials'!C112","v":"INFO-2358"},{"$f":"'Bill of Materials'!H112","v":"GT.75X1800"},null,null,null,0,{"$f":"'Bill of Materials'!J112","v":"standard material"},{"$f":"'Bill of Materials'!K112","v":"horizontal"},0]
[{"$f":"'Bill of Materials'!E113+'Bill of Materials'!F113","v":0},{"$f":"'Bill of Materials'!M113","v":"EA"},{"$f":"'Bill of Materials'!G113","v":"Velcro Cable Tie 11\" Long, Black (Perforated/10 Ties/Pkg.)"},{"$f":"'Bill of Materials'!L113","v":"Hellermann Tyton"},{"$f":"'Bill of Materials'!N113","v":5.34},{"$f":"'Bill of Materials'!P113","v":"DWC"},{"$f":"'Bill of Materials'!C113","v":"INFO-2359"},{"$f":"'Bill of Materials'!H113","v":"GT.50X110P2"},null,null,null,0,{"$f":"'Bill of Materials'!J113","v":"standard material"},{"$f":"'Bill of Materials'!K113","v":"horizontal"},0]
[{"$f":"'Bill of Materials'!E114+'Bill of Materials'!F114","v":0},{"$f":"'Bill of Materials'!M114","v":"EA"},{"$f":"'Bill of Materials'!G114","v":"4\" Cat.5e J-Hooks"},{"$f":"'Bill of Materials'!L114","v":"Erico-Caddy"},{"$f":"'Bill of Materials'!N114","v":2.92},{"$f":"'Bill of Materials'!P114","v":"DWC"},{"$f":"'Bill of Materials'!C114","v":"INFO-2399"},{"$f":"'Bill of Materials'!H114","v":"CAT-64"},null,null,null,0,{"$f":"'Bill of Materials'!J114","v":"standard material"},{"$f":"'Bill of Materials'!K114","v":"physical"},0]
[{"$f":"'Bill of Materials'!E115+'Bill of Materials'!F115","v":0},{"$f":"'Bill of Materials'!M115","v":"EA"},{"$f":"'Bill of Materials'!G115","v":"Small Beam clamp for 3/4\", 2\" and 4\" J-Hooks"},{"$f":"'Bill of Materials'!L115","v":"Steel City"},{"$f":"'Bill of Materials'!N115","v":0.45},{"$f":"'Bill of Materials'!P115","v":"DWC"},{"$f":"'Bill of Materials'!C115","v":"INFO-9025"},{"$f":"'Bill of Materials'!H115","v":"500"},null,null,null,0,{"$f":"'Bill of Materials'!J115","v":"standard material"},{"$f":"'Bill of Materials'!K115","v":"physical"},0]
[{"$f":"'Bill of Materials'!E116+'Bill of Materials'!F116","v":0},{"$f":"'Bill of Materials'!M116","v":"EA"},{"$f":"'Bill of Materials'!G116","v":"Velcro Cable Tie, 15\" Black - 10 pcs per roll"},{"$f":"'Bill of Materials'!L116","v":"Hellermann Tyton"},{"$f":"'Bill of Materials'!N116","v":10.51},{"$f":"'Bill of Materials'!P116","v":"DWC"},{"$f":"'Bill of Materials'!C116","v":"INRF-0103"},{"$f":"'Bill of Materials'!H116","v":"GT.75X150P2"},null,null,null,0,{"$f":"'Bill of Materials'!J116","v":"standard material"},{"$f":"'Bill of Materials'!K116","v":"physical"},0]
[{"$f":"'Bill of Materials'!#REF!+'Bill of Materials'!#REF!","v":{"$error":"#REF!"}},{"$f":"'Bill of Materials'!#REF!","v":{"$error":"#REF!"}},{"$f":"'Bill of Materials'!#REF!","v":{"$error":"#REF!"}},{"$f":"'Bill of Materials'!#REF!","v":{"$error":"#REF!"}},{"$f":"'Bill of Materials'!#REF!","v":{"$error":"#REF!"}},{"$f":"'Bill of Materials'!#REF!","v":{"$error":"#REF!"}},{"$f":"'Bill of Materials'!#REF!","v":{"$error":"#REF!"}},{"$f":"'Bill of Materials'!#REF!","v":{"$error":"#REF!"}},null,null,null,{"$error":"#REF!"},{"$f":"'Bill of Materials'!#REF!","v":{"$error":"#REF!"}},{"$f":"'Bill of Materials'!#REF!","v":{"$error":"#REF!"}},{"$error":"#REF!"}]
[{"$f":"'Bill of Materials'!E118+'Bill of Materials'!F118","v":0},{"$f":"'Bill of Materials'!M118","v":"EA"},{"$f":"'Bill of Materials'!G118","v":"Cat.5e RJ-45 Patch Cord - 3 ft. - Blue Jacket"},{"$f":"'Bill of Materials'!L118","v":"Leviton"},{"$f":"'Bill of Materials'!N118","v":2.67},{"$f":"'Bill of Materials'!P118","v":"DWC"},{"$f":"'Bill of Materials'!C118","v":"0217-13VG"},{"$f":"'Bill of Materials'!H118","v":"5G460-03L"},null,null,null,0,{"$f":"'Bill of Materials'!J118","v":"standard material"},{"$f":"'Bill of Materials'!K118","v":"horizontal"},0]
[{"$f":"'Bill of Materials'!E119+'Bill of Materials'!F119","v":0},{"$f":"'Bill of Materials'!M119","v":"EA"},{"$f":"'Bill of Materials'!G119","v":"Cat.5e RJ-45 Patch Cord - 5 ft. - Blue Jacket"},{"$f":"'Bill of Materials'!L119","v":"Leviton"},{"$f":"'Bill of Materials'!N119","v":2.83},{"$f":"'Bill of Materials'!P119","v":"DWC"},{"$f":"'Bill of Materials'!C119","v":"0217-13VH"},{"$f":"'Bill of Materials'!H119","v":"5G460-05L"},null,null,null,0,{"$f":"'Bill of Materials'!J119","v":"standard material"},{"$f":"'Bill of Materials'!K119","v":"horizontal"},0]
[{"$f":"'Bill of Materials'!E120+'Bill of Materials'!F120","v":0},{"$f":"'Bill of Materials'!M120","v":"EA"},{"$f":"'Bill of Materials'!G120","v":"Cat.5e RJ-45 Patch Cord - 7 ft. - Blue Jacket"},{"$f":"'Bill of Materials'!L120","v":"Leviton"},{"$f":"'Bill of Materials'!N120","v":3.33},{"$f":"'Bill of Materials'!P120","v":"DWC"},{"$f":"'Bill of Materials'!C120","v":"0217-13VJ"},{"$f":"'Bill of Materials'!H120","v":"5G460-07L"},null,null,null,0,{"$f":"'Bill of Materials'!J120","v":"standard material"},{"$f":"'Bill of Materials'!K120","v":"horizontal"},0]
[{"$f":"'Bill of Materials'!E121+'Bill of Materials'!F121","v":0},{"$f":"'Bill of Materials'!M121","v":"EA"},{"$f":"'Bill of Materials'!G121","v":"Cat.5e RJ-45 Patch Cord - 10 ft. - Blue Jacket"},{"$f":"'Bill of Materials'!L121","v":"Leviton"},{"$f":"'Bill of Materials'!N121","v":3.88},{"$f":"'Bill of Materials'!P121","v":"DWC"},{"$f":"'Bill of Materials'!C121","v":"0217-13VK"},{"$f":"'Bill of Materials'!H121","v":"5G460-10L"},null,null,null,0,{"$f":"'Bill of Materials'!J121","v":"standard material"},{"$f":"'Bill of Materials'!K121","v":"horizontal"},0]
[{"$f":"'Bill of Materials'!E122+'Bill of Materials'!F122","v":0},{"$f":"'Bill of Materials'!M122","v":"EA"},{"$f":"'Bill of Materials'!G122","v":"Cat.5e RJ-45 Patch Cord - 15 ft. - Blue Jacket"},{"$f":"'Bill of Materials'!L122","v":"Leviton"},{"$f":"'Bill of Materials'!N122","v":5.62},{"$f":"'Bill of Materials'!P122","v":"DWC"},{"$f":"'Bill of Materials'!C122","v":"0217-13VL"},{"$f":"'Bill of Materials'!H122","v":"5G460-15L"},null,null,null,0,{"$f":"'Bill of Materials'!J122","v":"standard material"},{"$f":"'Bill of Materials'!K122","v":"horizontal"},0]
[{"$f":"'Bill of Materials'!E123+'Bill of Materials'!F123","v":0},{"$f":"'Bill of Materials'!M123","v":"EA"},{"$f":"'Bill of Materials'!G123","v":"Cat.5e RJ-45 Patch Cord - 20 ft. - Blue Jacket"},{"$f":"'Bill of Materials'!L123","v":"Leviton"},{"$f":"'Bill of Materials'!N123","v":6.36},{"$f":"'Bill of Materials'!P123","v":"DWC"},{"$f":"'Bill of Materials'!C123","v":"0217-13VM"},{"$f":"'Bill of Materials'!H123","v":"5G460-20L"},null,null,null,0,{"$f":"'Bill of Materials'!J123","v":"standard material"},{"$f":"'Bill of Materials'!K123","v":"horizontal"},0]
[{"$f":"'Bill of Materials'!E124+'Bill of Materials'!F124","v":0},{"$f":"'Bill of Materials'!M124","v":"EA"},{"$f":"'Bill of Materials'!G124","v":"Cat.5e RJ-45 Patch Cord - 3 ft. - Yellow Jacket"},{"$f":"'Bill of Materials'!L124","v":"Leviton"},{"$f":"'Bill of Materials'!N124","v":2.67},{"$f":"'Bill of Materials'!P124","v":"DWC"},{"$f":"'Bill of Materials'!C124","v":"0217-13VN"},{"$f":"'Bill of Materials'!H124","v":"5G460-03Y"},null,null,null,0,{"$f":"'Bill of Materials'!J124","v":"standard material"},{"$f":"'Bill of Materials'!K124","v":"horizontal"},0]
[{"$f":"'Bill of Materials'!E125+'Bill of Materials'!F125","v":0},{"$f":"'Bill of Materials'!M125","v":"EA"},{"$f":"'Bill of Materials'!G125","v":"Cat.5e RJ-45 Patch Cord - 5 ft. - Yellow Jacket"},{"$f":"'Bill of Materials'!L125","v":"Leviton"},{"$f":"'Bill of Materials'!N125","v":2.83},{"$f":"'Bill of Materials'!P125","v":"DWC"},{"$f":"'Bill of Materials'!C125","v":"0217-13VP"},{"$f":"'Bill of Materials'!H125","v":"5G460-05Y"},null,null,null,0,{"$f":"'Bill of Materials'!J125","v":"standard material"},{"$f":"'Bill of Materials'!K125","v":"horizontal"},0]
[{"$f":"'Bill of Materials'!E126+'Bill of Materials'!F126","v":0},{"$f":"'Bill of Materials'!M126","v":"EA"},{"$f":"'Bill of Materials'!G126","v":"Cat.5e RJ-45 Patch Cord - 7 ft. - Yellow Jacket"},{"$f":"'Bill of Materials'!L126","v":"Leviton"},{"$f":"'Bill of Materials'!N126","v":3.33},{"$f":"'Bill of Materials'!P126","v":"DWC"},{"$f":"'Bill of Materials'!C126","v":"0217-13VR"},{"$f":"'Bill of Materials'!H126","v":"5G460-07Y"},null,null,null,0,{"$f":"'Bill of Materials'!J126","v":"standard material"},{"$f":"'Bill of Materials'!K126","v":"horizontal"},0]
[{"$f":"'Bill of Materials'!E127+'Bill of Materials'!F127","v":0},{"$f":"'Bill of Materials'!M127","v":"EA"},{"$f":"'Bill of Materials'!G127","v":"Cat.5e RJ-45 Patch Cord - 10 ft. - Yellow Jacket"},{"$f":"'Bill of Materials'!L127","v":"Leviton"},{"$f":"'Bill of Materials'!N127","v":3.88},{"$f":"'Bill of Materials'!P127","v":"DWC"},{"$f":"'Bill of Materials'!C127","v":"0217-13VT"},{"$f":"'Bill of Materials'!H127","v":"5G460-10Y"},null,null,null,0,{"$f":"'Bill of Materials'!J127","v":"standard material"},{"$f":"'Bill of Materials'!K127","v":"horizontal"},0]
[{"$f":"'Bill of Materials'!E128+'Bill of Materials'!F128","v":0},{"$f":"'Bill of Materials'!M128","v":"EA"},{"$f":"'Bill of Materials'!G128","v":"Cat.5e RJ-45 Patch Cord - 15 ft. - Yellow Jacket"},{"$f":"'Bill of Materials'!L128","v":"Leviton"},{"$f":"'Bill of Materials'!N128","v":5.62},{"$f":"'Bill of Materials'!P128","v":"DWC"},{"$f":"'Bill of Materials'!C128","v":"0217-13VV"},{"$f":"'Bill of Materials'!H128","v":"5G460-15Y"},null,null,null,0,{"$f":"'Bill of Materials'!J128","v":"standard material"},{"$f":"'Bill of Materials'!K128","v":"horizontal"},0]
[{"$f":"'Bill of Materials'!E129+'Bill of Materials'!F129","v":0},{"$f":"'Bill of Materials'!M129","v":"EA"},{"$f":"'Bill of Materials'!G129","v":"Cat.5e RJ-45 Patch Cord - 20 ft. - Yellow Jacket"},{"$f":"'Bill of Materials'!L129","v":"Leviton"},{"$f":"'Bill of Materials'!N129","v":6.36},{"$f":"'Bill of Materials'!P129","v":"DWC"},{"$f":"'Bill of Materials'!C129","v":"0217-13VW"},{"$f":"'Bill of Materials'!H129","v":"5G460-20Y"},null,null,null,0,{"$f":"'Bill of Materials'!J129","v":"standard material"},{"$f":"'Bill of Materials'!K129","v":"horizontal"},0]
[{"$f":"'Bill of Materials'!E130+'Bill of Materials'!F130","v":0},{"$f":"'Bill of Materials'!M130","v":"EA"},{"$f":"'Bill of Materials'!G130","v":"Cat.5e RJ-45 Voice Patch Cord - 7 ft. - Gray Jacket"},{"$f":"'Bill of Materials'!L130","v":"Leviton"},{"$f":"'Bill of Materials'!N130","v":3.33},{"$f":"'Bill of Materials'!P130","v":"DWC"},{"$f":"'Bill of Materials'!C130","v":"0217-13VX"},{"$f":"'Bill of Materials'!H130","v":"5G460-07S"},null,null,null,0,{"$f":"'Bill of Materials'!J130","v":"standard material"},{"$f":"'Bill of Materials'!K130","v":"horizontal"},0]
[{"$f":"'Bill of Materials'!E131+'Bill of Materials'!F131","v":0},{"$f":"'Bill of Materials'!M131","v":"EA"},{"$f":"'Bill of Materials'!G131","v":"Cat.5e RJ-45 Voice Patch Cord - 10 ft. - Gray Jacket"},{"$f":"'Bill of Materials'!L131","v":"Leviton"},{"$f":"'Bill of Materials'!N131","v":3.88},{"$f":"'Bill of Materials'!P131","v":"DWC"},{"$f":"'Bill of Materials'!C131","v":"0217-13VY"},{"$f":"'Bill of Materials'!H131","v":"5G460-10S"},null,null,null,0,{"$f":"'Bill of Materials'!J131","v":"standard material"},{"$f":"'Bill of Materials'!K131","v":"horizontal"},0]
[{"$f":"'Bill of Materials'!E132+'Bill of Materials'!F132","v":0},{"$f":"'Bill of Materials'!M132","v":"EA"},{"$f":"'Bill of Materials'!G132","v":"Cat.5e RJ-45 Voice Patch Cord - 15 ft. - Gray Jacket"},{"$f":"'Bill of Materials'!L132","v":"Leviton"},{"$f":"'Bill of Materials'!N132","v":5.62},{"$f":"'Bill of Materials'!P132","v":"DWC"},{"$f":"'Bill of Materials'!C132","v":"0217-13W0"},{"$f":"'Bill of Materials'!H132","v":"5G460-15S"},null,null,null,0,{"$f":"'Bill of Materials'!J132","v":"standard material"},{"$f":"'Bill of Materials'!K132","v":"horizontal"},0]
[{"$f":"'Bill of Materials'!E133+'Bill of Materials'!F133","v":0},{"$f":"'Bill of Materials'!M133","v":"EA"},{"$f":"'Bill of Materials'!G133","v":"Cat.5e RJ-45 Voice Patch Cord - 20 ft. - Gray Jacket"},{"$f":"'Bill of Materials'!L133","v":"Leviton"},{"$f":"'Bill of Materials'!N133","v":6.36},{"$f":"'Bill of Materials'!P133","v":"DWC"},{"$f":"'Bill of Materials'!C133","v":"0217-13W1"},{"$f":"'Bill of Materials'!H133","v":"5G460-20S"},null,null,null,{"$f":"E150*A150","v":0},{"$f":"'Bill of Materials'!J133","v":"standard material"},{"$f":"'Bill of Materials'!K133","v":"horizontal"},{"$f":"IF(A150>0,1,0)","v":0}]
[{"$f":"'Bill of Materials'!E134+'Bill of Materials'!F134","v":0},{"$f":"'Bill of Materials'!M134","v":"BOX"},{"$f":"'Bill of Materials'!G134","v":"Cat 5e UTP Station Wire, 1000' Plenum in Box 350 MHz Hot Pink (For Data 3, Data 4, Data 5 & Data 6)"},{"$f":"'Bill of Materials'!L134","v":"CommScope"},{"$f":"'Bill of Materials'!N134","v":211.2},{"$f":"'Bill of Materials'!P134","v":"DWC"},{"$f":"'Bill of Materials'!C134","v":"10041"},{"$f":"'Bill of Materials'!H134","v":"5504M-Pink"},null,null,null,0,{"$f":"'Bill of Materials'!J134","v":"standard material"},{"$f":"'Bill of Materials'!K134","v":"horizontal"},0]
[{"$f":"'Bill of Materials'!E135+'Bill of Materials'!F135","v":0},{"$f":"'Bill of Materials'!M135","v":"REEL"},{"$f":"'Bill of Materials'!G135","v":"Cat. 5e UTP Station Wire, 1000' reel, Outdoor Rated 350 MHZ (Black color only)"},{"$f":"'Bill of Materials'!L135","v":"CommScope"},{"$f":"'Bill of Materials'!N135","v":195},{"$f":"'Bill of Materials'!P135","v":"DWC"},{"$f":"'Bill of Materials'!C135","v":"10047"},{"$f":"'Bill of Materials'!H135","v":"5NF4"},null,null,null,0,{"$f":"'Bill of Materials'!J135","v":"standard material"},{"$f":"'Bill of Materials'!K135","v":"horizontal"},0]
[{"$f":"'Bill of Materials'!E136+'Bill of Materials'!F136","v":0},{"$f":"'Bill of Materials'!M136","v":"EA"},{"$f":"'Bill of Materials'!G136","v":"5M Cat 5e Low Smoke Zero Halogen Patch Cord, Blue"},{"$f":"'Bill of Materials'!L136","v":"Leviton"},{"$f":"'Bill of Materials'!N136","v":4.0999999999999996},{"$f":"'Bill of Materials'!P136","v":"DWC"},{"$f":"'Bill of Materials'!C136","v":"10348"},{"$f":"'Bill of Materials'!H136","v":"5Z460-BL5"},null,null,null,0,{"$f":"'Bill of Materials'!J136","v":"standard material"},{"$f":"'Bill of Materials'!K136","v":"horizontal"},0]
[{"$f":"'Bill of Materials'!E137+'Bill of Materials'!F137","v":0},{"$f":"'Bill of Materials'!M137","v":"BOX"},{"$f":"'Bill of Materials'!G137","v":"Cat. 5e UTP station wire, 1000' plenum in box 350 MHz. (Blue for Data 1)"},{"$f":"'Bill of Materials'!L137","v":"CommScope"},{"$f":"'Bill of Materials'!N137","v":211.2},{"$f":"'Bill of Materials'!P137","v":"DWC"},{"$f":"'Bill of Materials'!C137","v":"INFO-2414"},{"$f":"'Bill of Materials'!H137","v":"5504M-BLUE"},null,null,null,0,{"$f":"'Bill of Materials'!J137","v":"standard material"},{"$f":"'Bill of Materials'!K137","v":"horizontal"},0]
[{"$f":"'Bill of Materials'!E138+'Bill of Materials'!F138","v":0},{"$f":"'Bill of Materials'!M138","v":"BOX"},{"$f":"'Bill of Materials'!G138","v":"Cat. 5e UTP station wire, 1000' plenum in box 350 MHz. (Yellow for Data 2)"},{"$f":"'Bill of Materials'!L138","v":"CommScope"},{"$f":"'Bill of Materials'!N138","v":211.2},{"$f":"'Bill of Materials'!P138","v":"DWC"},{"$f":"'Bill of Materials'!C138","v":"INFO-2415"},{"$f":"'Bill of Materials'!H138","v":"5504M-YELLOW"},null,null,null,0,{"$f":"'Bill of Materials'!J138","v":"standard material"},{"$f":"'Bill of Materials'!K138","v":"horizontal"},0]
[{"$f":"'Bill of Materials'!E139+'Bill of Materials'!F139","v":0},{"$f":"'Bill of Materials'!M139","v":"BOX"},{"$f":"'Bill of Materials'!G139","v":"Cat. 5e UTP station wire, 1000' plenum in box 350 MHz. (Gray for Voice )"},{"$f":"'Bill of Materials'!L139","v":"CommScope"},{"$f":"'Bill of Materials'!N139","v":211.2},{"$f":"'Bill of Materials'!P139","v":"DWC"},{"$f":"'Bill of Materials'!C139","v":"INFO-2416"},{"$f":"'Bill of Materials'!H139","v":"5504M-GRAY"},null,null,null,0,{"$f":"'Bill of Materials'!J139","v":"standard material"},{"$f":"'Bill of Materials'!K139","v":"horizontal"},0]
[{"$f":"'Bill of Materials'!E140+'Bill of Materials'!F140","v":0},{"$f":"'Bill of Materials'!M140","v":"BOX"},{"$f":"'Bill of Materials'!G140","v":"Cat. 5e UTP station wire, 1000' non-plenum in box 350 MHz. (Blue for Data 1)"},{"$f":"'Bill of Materials'!L140","v":"CommScope"},{"$f":"'Bill of Materials'!N140","v":115.8},{"$f":"'Bill of Materials'!P140","v":"DWC"},{"$f":"'Bill of Materials'!C140","v":"INFO-2417"},{"$f":"'Bill of Materials'!H140","v":"55N4R-BLUE"},null,null,null,0,{"$f":"'Bill of Materials'!J140","v":"standard material"},{"$f":"'Bill of Materials'!K140","v":"horizontal"},0]
[{"$f":"'Bill of Materials'!E141+'Bill of Materials'!F141","v":0},{"$f":"'Bill of Materials'!M141","v":"BOX"},{"$f":"'Bill of Materials'!G141","v":"Cat. 5e UTP station wire, 1000' non-plenum in box 350 MHz. (Yellow for Data 2)"},{"$f":"'Bill of Materials'!L141","v":"CommScope"},{"$f":"'Bill of Materials'!N141","v":115.8},{"$f":"'Bill of Materials'!P141","v":"DWC"},{"$f":"'Bill of Materials'!C141","v":"INFO-2418"},{"$f":"'Bill of Materials'!H141","v":"55N4R-YELLOW"},null,null,null,0,{"$f":"'Bill of Materials'!J141","v":"standard material"},{"$f":"'Bill of Materials'!K141","v":"horizontal"},0]
[{"$f":"'Bill of Materials'!E142+'Bill of Materials'!F142","v":0},{"$f":"'Bill of Materials'!M142","v":"BOX"},{"$f":"'Bill of Materials'!G142","v":"Cat. 5e UTP station wire, 1000' non-plenum in box 350 MHz. (Gray for Voice)"},{"$f":"'Bill of Materials'!L142","v":"CommScope"},{"$f":"'Bill of Materials'!N142","v":115.8},{"$f":"'Bill of Materials'!P142","v":"DWC"},{"$f":"'Bill of Materials'!C142","v":"INFO-2419"},{"$f":"'Bill of Materials'!H142","v":"55N4R-GRAY"},null,null,null,0,{"$f":"'Bill of Materials'!J142","v":"standard material"},{"$f":"'Bill of Materials'!K142","v":"horizontal"},0]
[{"$f":"'Bill of Materials'!E143+'Bill of Materials'!F143","v":0},{"$f":"'Bill of Materials'!M143","v":"EA"},{"$f":"'Bill of Materials'!G143","v":"Cat.5e RJ-45 Cross-Over patch cord - 3 ft - Red Jacket"},{"$f":"'Bill of Materials'!L143","v":"DWC"},{"$f":"'Bill of Materials'!N143","v":2.67},{"$f":"'Bill of Materials'!P143","v":"DWC"},{"$f":"'Bill of Materials'!C143","v":"INFO-2473"},{"$f":"'Bill of Materials'!H143","v":"GMC-5EXPC-03R"},null,null,null,0,{"$f":"'Bill of Materials'!J143","v":"standard material"},{"$f":"'Bill of Materials'!K143","v":"horizontal"},0]
[{"$f":"'Bill of Materials'!E144+'Bill of Materials'!F144","v":0},{"$f":"'Bill of Materials'!M144","v":"EA"},{"$f":"'Bill of Materials'!G144","v":"Cat 5e Voice Patch Cord - 3 ft. - Gray Jacket"},{"$f":"'Bill of Materials'!L144","v":"Leviton"},{"$f":"'Bill of Materials'!N144","v":2.67},{"$f":"'Bill of Materials'!P144","v":"DWC"},{"$f":"'Bill of Materials'!C144","v":"INFO-2481"},{"$f":"'Bill of Materials'!H144","v":"G38-05EPC-03S"},null,null,null,0,{"$f":"'Bill of Materials'!J144","v":"standard material"},{"$f":"'Bill of Materials'!K144","v":"horizontal"},0]
[{"$f":"'Bill of Materials'!E145+'Bill of Materials'!F145","v":0},{"$f":"'Bill of Materials'!M145","v":"EA"},{"$f":"'Bill of Materials'!G145","v":"Cat 5e Voice Patch Cord - 5 ft. - Gray Jacket"},{"$f":"'Bill of Materials'!L145","v":"Leviton"},{"$f":"'Bill of Materials'!N145","v":2.83},{"$f":"'Bill of Materials'!P145","v":"DWC"},{"$f":"'Bill of Materials'!C145","v":"INFO-2482"},{"$f":"'Bill of Materials'!H145","v":"G39-05EPC-05S"},null,null,null,0,{"$f":"'Bill of Materials'!J145","v":"standard material"},{"$f":"'Bill of Materials'!K145","v":"horizontal"},0]
[{"$f":"'Bill of Materials'!E146+'Bill of Materials'!F146","v":0},{"$f":"'Bill of Materials'!M146","v":"EA"},{"$f":"'Bill of Materials'!G146","v":"Cat.5e RJ-45 patch cord - 1 ft.- White Jacket"},{"$f":"'Bill of Materials'!L146","v":"Leviton"},{"$f":"'Bill of Materials'!N146","v":2.63},{"$f":"'Bill of Materials'!P146","v":"DWC"},{"$f":"'Bill of Materials'!C146","v":"INFO-2484"},{"$f":"'Bill of Materials'!H146","v":"G14-05EPC-01W"},null,null,null,0,{"$f":"'Bill of Materials'!J146","v":"standard material"},{"$f":"'Bill of Materials'!K146","v":"horizontal"},0]
[{"$f":"'Bill of Materials'!E147+'Bill of Materials'!F147","v":0},{"$f":"'Bill of Materials'!M147","v":"EA"},{"$f":"'Bill of Materials'!G147","v":"Cat.5e RJ-45 patch cord - 3 ft.- White Jacket"},{"$f":"'Bill of Materials'!L147","v":"Leviton"},{"$f":"'Bill of Materials'!N147","v":2.67},{"$f":"'Bill of Materials'!P147","v":"DWC"},{"$f":"'Bill of Materials'!C147","v":"INFO-2485"},{"$f":"'Bill of Materials'!H147","v":"G15-05EPC-03W"},null,null,null,0,{"$f":"'Bill of Materials'!J147","v":"standard material"},{"$f":"'Bill of Materials'!K147","v":"horizontal"},0]
[{"$f":"'Bill of Materials'!E148+'Bill of Materials'!F148","v":0},{"$f":"'Bill of Materials'!M148","v":"EA"},{"$f":"'Bill of Materials'!G148","v":"Cat.5e RJ-45 patch cord - 5 ft. - White Jacket"},{"$f":"'Bill of Materials'!L148","v":"Leviton"},{"$f":"'Bill of Materials'!N148","v":2.83},{"$f":"'Bill of Materials'!P148","v":"DWC"},{"$f":"'Bill of Materials'!C148","v":"INFO-2486"},{"$f":"'Bill of Materials'!H148","v":"G16-05EPC-05W"},null,null,null,0,{"$f":"'Bill of Materials'!J148","v":"standard material"},{"$f":"'Bill of Materials'!K148","v":"horizontal"},0]
[{"$f":"'Bill of Materials'!E149+'Bill of Materials'!F149","v":0},{"$f":"'Bill of Materials'!M149","v":"EA"},{"$f":"'Bill of Materials'!G149","v":"Cat.5e RJ-45 patch cord - 7 ft. - White Jacket"},{"$f":"'Bill of Materials'!L149","v":"Leviton"},{"$f":"'Bill of Materials'!N149","v":3.33},{"$f":"'Bill of Materials'!P149","v":"DWC"},{"$f":"'Bill of Materials'!C149","v":"INFO-2487"},{"$f":"'Bill of Materials'!H149","v":"G17-05EPC-07W"},null,null,null,0,{"$f":"'Bill of Materials'!J149","v":"standard material"},{"$f":"'Bill of Materials'!K149","v":"horizontal"},0]
[{"$f":"'Bill of Materials'!E150+'Bill of Materials'!F150","v":0},{"$f":"'Bill of Materials'!M150","v":"EA"},{"$f":"'Bill of Materials'!G150","v":"Cat.5e RJ-45 patch cord - 10 ft. - White Jacket"},{"$f":"'Bill of Materials'!L150","v":"Leviton"},{"$f":"'Bill of Materials'!N150","v":3.88},{"$f":"'Bill of Materials'!P150","v":"DWC"},{"$f":"'Bill of Materials'!C150","v":"INFO-2488"},{"$f":"'Bill of Materials'!H150","v":"G18-5GEPC-10W"},null,null,null,0,{"$f":"'Bill of Materials'!J150","v":"standard material"},{"$f":"'Bill of Materials'!K150","v":"horizontal"},0]
[{"$f":"'Bill of Materials'!E151+'Bill of Materials'!F151","v":0},{"$f":"'Bill of Materials'!M151","v":"EA"},{"$f":"'Bill of Materials'!G151","v":"Cat.5e RJ-45 patch cord - 15 ft. - White Jacket"},{"$f":"'Bill of Materials'!L151","v":"Leviton"},{"$f":"'Bill of Materials'!N151","v":5.62},{"$f":"'Bill of Materials'!P151","v":"DWC"},{"$f":"'Bill of Materials'!C151","v":"INFO-2489"},{"$f":"'Bill of Materials'!H151","v":"G19-05EPC-15W"},null,null,null,0,{"$f":"'Bill of Materials'!J151","v":"standard material"},{"$f":"'Bill of Materials'!K151","v":"horizontal"},0]
[{"$f":"'Bill of Materials'!E152+'Bill of Materials'!F152","v":0},{"$f":"'Bill of Materials'!M152","v":"EA"},{"$f":"'Bill of Materials'!G152","v":"Cat.5e RJ-45 patch cord - 20 ft. - White Jacket"},{"$f":"'Bill of Materials'!L152","v":"Leviton"},{"$f":"'Bill of Materials'!N152","v":6.36},{"$f":"'Bill of Materials'!P152","v":"DWC"},{"$f":"'Bill of Materials'!C152","v":"INFO-2490"},{"$f":"'Bill of Materials'!H152","v":"G20-05EPC-20W"},null,null,null,0,{"$f":"'Bill of Materials'!J152","v":"standard material"},{"$f":"'Bill of Materials'!K152","v":"horizontal"},0]
[{"$f":"'Bill of Materials'!E153+'Bill of Materials'!F153","v":0},{"$f":"'Bill of Materials'!M153","v":"EA"},{"$f":"'Bill of Materials'!G153","v":"Cat.5e RJ-45 patch cord - 25 ft. - White Jacket"},{"$f":"'Bill of Materials'!L153","v":"Leviton"},{"$f":"'Bill of Materials'!N153","v":8.8800000000000008},{"$f":"'Bill of Materials'!P153","v":"DWC"},{"$f":"'Bill of Materials'!C153","v":"INFO-2491"},{"$f":"'Bill of Materials'!H153","v":"G21-05EPC-25W"},null,null,null,0,{"$f":"'Bill of Materials'!J153","v":"standard material"},{"$f":"'Bill of Materials'!K153","v":"horizontal"},0]
[{"$f":"'Bill of Materials'!E154+'Bill of Materials'!F154","v":0},{"$f":"'Bill of Materials'!M154","v":"EA"},{"$f":"'Bill of Materials'!G154","v":"Cat.5e RJ-45 Cross-Over patch cord - 6 ft - Red Jacket"},{"$f":"'Bill of Materials'!L154","v":"DWC"},{"$f":"'Bill of Materials'!N154","v":3.33},{"$f":"'Bill of Materials'!P154","v":"DWC"},{"$f":"'Bill of Materials'!C154","v":"INFO-8661"},{"$f":"'Bill of Materials'!H154","v":"GMC-5EXPC-06R"},null,null,null,0,{"$f":"'Bill of Materials'!J154","v":"standard material"},{"$f":"'Bill of Materials'!K154","v":"horizontal"},0]
[{"$f":"'Bill of Materials'!#REF!+'Bill of Materials'!#REF!","v":{"$error":"#REF!"}},{"$f":"'Bill of Materials'!#REF!","v":{"$error":"#REF!"}},{"$f":"'Bill of Materials'!#REF!","v":{"$error":"#REF!"}},{"$f":"'Bill of Materials'!#REF!","v":{"$error":"#REF!"}},{"$f":"'Bill of Materials'!#REF!","v":{"$error":"#REF!"}},{"$f":"'Bill of Materials'!#REF!","v":{"$error":"#REF!"}},{"$f":"'Bill of Materials'!#REF!","v":{"$error":"#REF!"}},{"$f":"'Bill of Materials'!#REF!","v":{"$error":"#REF!"}},null,null,null,{"$error":"#REF!"},{"$f":"'Bill of Materials'!#REF!","v":{"$error":"#REF!"}},{"$f":"'Bill of Materials'!#REF!","v":{"$error":"#REF!"}},{"$error":"#REF!"}]
[{"$f":"'Bill of Materials'!E156+'Bill of Materials'!F156","v":0},{"$f":"'Bill of Materials'!M156","v":"EA"},{"$f":"'Bill of Materials'!G156","v":"Blue SC SM Duplex Flangeless Bulkhead coupler for Polimods Only"},{"$f":"'Bill of Materials'!L156","v":"AFL"},{"$f":"'Bill of Materials'!N156","v":6.53},{"$f":"'Bill of Materials'!P156","v":"DWC"},{"$f":"'Bill of Materials'!C156","v":"0009-CP16"},{"$f":"'Bill of Materials'!H156","v":"CS000475"},null,null,null,0,{"$f":"'Bill of Materials'!J156","v":"standard material"},{"$f":"'Bill of Materials'!K156","v":"physical"},0]
[{"$f":"'Bill of Materials'!E157+'Bill of Materials'!F157","v":0},{"$f":"'Bill of Materials'!M157","v":"EA"},{"$f":"'Bill of Materials'!G157","v":"SC/Blunt, SM, Fiber Pigtail, 900um, Simplex, 2 Meter (Polimod Spares)"},{"$f":"'Bill of Materials'!L157","v":"AFL"},{"$f":"'Bill of Materials'!N157","v":5.89},{"$f":"'Bill of Materials'!P157","v":"DWC"},{"$f":"'Bill of Materials'!C157","v":"0119-C4FM"},{"$f":"'Bill of Materials'!H157","v":"C146507-0002"},null,null,null,0,{"$f":"'Bill of Materials'!J157","v":"standard material"},{"$f":"'Bill of Materials'!K157","v":"physical"},0]
[{"$f":"'Bill of Materials'!E158+'Bill of Materials'!F158","v":0},{"$f":"'Bill of Materials'!M158","v":"EA"},{"$f":"'Bill of Materials'!G158","v":"SC/Blunt, MM, Fiber Pigtail, 900um, Simplex, 2 Meter (Polimod Spares)"},{"$f":"'Bill of Materials'!L158","v":"AFL"},{"$f":"'Bill of Materials'!N158","v":5.89},{"$f":"'Bill of Materials'!P158","v":"DWC"},{"$f":"'Bill of Materials'!C158","v":"0119-C4FN"},{"$f":"'Bill of Materials'!H158","v":"C016381-0002"},null,null,null,0,{"$f":"'Bill of Materials'!J158","v":"standard material"},{"$f":"'Bill of Materials'!K158","v":"physical"},0]
[{"$f":"'Bill of Materials'!E159+'Bill of Materials'!F159","v":0},{"$f":"'Bill of Materials'!M159","v":"EA"},{"$f":"'Bill of Materials'!G159","v":"Fusion Splice Holder Chip Kit (Single Fiber Splices)"},{"$f":"'Bill of Materials'!L159","v":"AFL"},{"$f":"'Bill of Materials'!N159","v":5.54},{"$f":"'Bill of Materials'!P159","v":"DWC"},{"$f":"'Bill of Materials'!C159","v":"0456-0XFW"},{"$f":"'Bill of Materials'!H159","v":"91745-02"},null,null,null,0,{"$f":"'Bill of Materials'!J159","v":"standard material"},{"$f":"'Bill of Materials'!K159","v":"physical"},0]
[{"$f":"'Bill of Materials'!E160+'Bill of Materials'!F160","v":0},{"$f":"'Bill of Materials'!M160","v":"EA"},{"$f":"'Bill of Materials'!G160","v":"(6) LC SM Blue Duplex Bulkhead Coupler PoliMod Patch & Splice Module for 12 fiber splices and terminations, includes (12) 40mm splice protectors"},{"$f":"'Bill of Materials'!L160","v":"AFL"},{"$f":"'Bill of Materials'!N160","v":188},{"$f":"'Bill of Materials'!P160","v":"DWC"},{"$f":"'Bill of Materials'!C160","v":"0528-5K2H"},{"$f":"'Bill of Materials'!H160","v":"FM000699"},null,null,null,0,{"$f":"'Bill of Materials'!J160","v":"standard material"},{"$f":"'Bill of Materials'!K160","v":"physical"},0]
[{"$f":"'Bill of Materials'!E161+'Bill of Materials'!F161","v":0},{"$f":"'Bill of Materials'!M161","v":"EA"},{"$f":"'Bill of Materials'!G161","v":"Twelve Fiber (6 duplex) SC MM/SM Adapter Plate, Telco White, 4RU Panels"},{"$f":"'Bill of Materials'!L161","v":"AFL"},{"$f":"'Bill of Materials'!N161","v":45.34},{"$f":"'Bill of Materials'!P161","v":"DWC"},{"$f":"'Bill of Materials'!C161","v":"0607-DF8H"},{"$f":"'Bill of Materials'!H161","v":"C219604"},null,null,null,0,{"$f":"'Bill of Materials'!J161","v":"standard material"},{"$f":"'Bill of Materials'!K161","v":"physical"},0]
[{"$f":"'Bill of Materials'!E162+'Bill of Materials'!F162","v":0},{"$f":"'Bill of Materials'!M162","v":"EA"},{"$f":"'Bill of Materials'!G162","v":"24 Fiber Position, LC SM Adapter Plate\r\n(12 Duplex) Telco White, 170 (5RU panel)"},{"$f":"'Bill of Materials'!L162","v":"AFL"},{"$f":"'Bill of Materials'!N162","v":90.93},{"$f":"'Bill of Materials'!P162","v":"DWC"},{"$f":"'Bill of Materials'!C162","v":"0607-DF8J"},{"$f":"'Bill of Materials'!H162","v":"FM000129"},null,null,null,0,{"$f":"'Bill of Materials'!J162","v":"standard material"},{"$f":"'Bill of Materials'!K162","v":"physical"},0]
[{"$f":"'Bill of Materials'!E163+'Bill of Materials'!F163","v":0},{"$f":"'Bill of Materials'!M163","v":"EA"},{"$f":"'Bill of Materials'!G163","v":"OEE-720/1440 LightLink Optical Splice Entrance Enclosure (Large 30\"W x 40\"H)"},{"$f":"'Bill of Materials'!L163","v":"AFL"},{"$f":"'Bill of Materials'!N163","v":1968},{"$f":"'Bill of Materials'!P163","v":"DWC"},{"$f":"'Bill of Materials'!C163","v":"10065"},{"$f":"'Bill of Materials'!H163","v":"911275-00-05"},null,null,null,0,{"$f":"'Bill of Materials'!J163","v":"standard material"},{"$f":"'Bill of Materials'!K163","v":"physical"},0]
[{"$f":"'Bill of Materials'!E164+'Bill of Materials'!F164","v":0},{"$f":"'Bill of Materials'!M164","v":"EA"},{"$f":"'Bill of Materials'!G164","v":"OEE-288/576 LightLink Optical Splice Entrance Enclosure (Small 30\"W x 22\"H)"},{"$f":"'Bill of Materials'!L164","v":"AFL"},{"$f":"'Bill of Materials'!N164","v":1197},{"$f":"'Bill of Materials'!P164","v":"DWC"},{"$f":"'Bill of Materials'!C164","v":"10066"},{"$f":"'Bill of Materials'!H164","v":"911309-00-05"},null,null,null,0,{"$f":"'Bill of Materials'!J164","v":"standard material"},{"$f":"'Bill of Materials'!K164","v":"physical"},0]
[{"$f":"'Bill of Materials'!E165+'Bill of Materials'!F165","v":0},{"$f":"'Bill of Materials'!M165","v":"EA"},{"$f":"'Bill of Materials'!G165","v":"Add optical fiber patch panel, bulk heads, blanks, splice panel to cabinet or rack-------Labor Only"},{"$f":"'Bill of Materials'!L165","v":"DWC"},{"$f":"'Bill of Materials'!N165","v":54},{"$f":"'Bill of Materials'!P165","v":"DWC"},{"$f":"'Bill of Materials'!C165","v":"10081"},{"$f":"'Bill of Materials'!H165","v":"C195941-L"},null,null,null,0,{"$f":"'Bill of Materials'!J165","v":"standard material"},{"$f":"'Bill of Materials'!K165","v":"physical"},0]
[{"$f":"'Bill of Materials'!E166+'Bill of Materials'!F166","v":0},{"$f":"'Bill of Materials'!M166","v":"EA"},{"$f":"'Bill of Materials'!G166","v":"24 Fiber Position, LC SM Adapter Plate\r\n(12 Duplex) Black, 170 (5RU panel)"},{"$f":"'Bill of Materials'!L166","v":"AFL"},{"$f":"'Bill of Materials'!N166","v":92.8},{"$f":"'Bill of Materials'!P166","v":"DWC"},{"$f":"'Bill of Materials'!C166","v":"10107"},{"$f":"'Bill of Materials'!H166","v":"FM000130"},null,null,null,0,{"$f":"'Bill of Materials'!J166","v":"standard material"},{"$f":"'Bill of Materials'!K166","v":"physical"},0]
[{"$f":"'Bill of Materials'!E167+'Bill of Materials'!F167","v":0},{"$f":"'Bill of Materials'!M167","v":"EA"},{"$f":"'Bill of Materials'!G167","v":"24 Fiber Position, LC MM Adapter Plate\r\n(12 Duplex) Telco White, 170 (5RU panel)"},{"$f":"'Bill of Materials'!L167","v":"AFL"},{"$f":"'Bill of Materials'!N167","v":92.8},{"$f":"'Bill of Materials'!P167","v":"DWC"},{"$f":"'Bill of Materials'!C167","v":"10108"},{"$f":"'Bill of Materials'!H167","v":"FM000131"},null,null,null,0,{"$f":"'Bill of Materials'!J167","v":"standard material"},{"$f":"'Bill of Materials'!K167","v":"physical"},0]
[{"$f":"'Bill of Materials'!E168+'Bill of Materials'!F168","v":0},{"$f":"'Bill of Materials'!M168","v":"EA"},{"$f":"'Bill of Materials'!G168","v":"24 Fiber Position, LC MM Adapter Plate\r\n(12 Duplex) Black, 170 (5RU panel)"},{"$f":"'Bill of Materials'!L168","v":"AFL"},{"$f":"'Bill of Materials'!N168","v":92.8},{"$f":"'Bill of Materials'!P168","v":"DWC"},{"$f":"'Bill of Materials'!C168","v":"10109"},{"$f":"'Bill of Materials'!H168","v":"FM000132"},null,null,null,0,{"$f":"'Bill of Materials'!J168","v":"standard material"},{"$f":"'Bill of Materials'!K168","v":"physical"},0]
[{"$f":"'Bill of Materials'!E169+'Bill of Materials'!F169","v":0},{"$f":"'Bill of Materials'!M169","v":"EA"},{"$f":"'Bill of Materials'!G169","v":"5 RU High-Density Fiber Patch Panel (Black)"},{"$f":"'Bill of Materials'!L169","v":"AFL"},{"$f":"'Bill of Materials'!N169","v":191.35},{"$f":"'Bill of Materials'!P169","v":"DWC"},{"$f":"'Bill of Materials'!C169","v":"10110"},{"$f":"'Bill of Materials'!H169","v":"FM000374-BE"},null,null,null,0,{"$f":"'Bill of Materials'!J169","v":"standard material"},{"$f":"'Bill of Materials'!K169","v":"physical"},0]
[{"$f":"'Bill of Materials'!E170+'Bill of Materials'!F170","v":0},{"$f":"'Bill of Materials'!M170","v":"EA"},{"$f":"'Bill of Materials'!G170","v":"LC Fiber Optic Connector Removal Tool, Order for High Density FPP"},{"$f":"'Bill of Materials'!L170","v":"Panduit"},{"$f":"'Bill of Materials'!N170","v":199.9},{"$f":"'Bill of Materials'!P170","v":"DWC"},{"$f":"'Bill of Materials'!C170","v":"10120"},{"$f":"'Bill of Materials'!H170","v":"HDCRT"},null,null,null,0,{"$f":"'Bill of Materials'!J170","v":"standard material"},{"$f":"'Bill of Materials'!K170","v":"physical"},0]
[{"$f":"'Bill of Materials'!E171+'Bill of Materials'!F171","v":0},{"$f":"'Bill of Materials'!M171","v":"EA"},{"$f":"'Bill of Materials'!G171","v":"24/48 Port AFL Patch and Splice Panel 2RU with Splice Trays, Telco White"},{"$f":"'Bill of Materials'!L171","v":"AFL"},{"$f":"'Bill of Materials'!N171","v":157.26},{"$f":"'Bill of Materials'!P171","v":"DWC"},{"$f":"'Bill of Materials'!C171","v":"10285"},{"$f":"'Bill of Materials'!H171","v":"FM001421-WE"},null,null,null,0,{"$f":"'Bill of Materials'!J171","v":"standard material"},{"$f":"'Bill of Materials'!K171","v":"physical"},0]
[{"$f":"'Bill of Materials'!E172+'Bill of Materials'!F172","v":0},{"$f":"'Bill of Materials'!M172","v":"EA"},{"$f":"'Bill of Materials'!G172","v":"XFM HD High Density Fiber Panel, 144 Port Capacity, 1RU, Rack Mounted, 23\" or 19\", Black"},{"$f":"'Bill of Materials'!L172","v":"AFL"},{"$f":"'Bill of Materials'!N172","v":369.2},{"$f":"'Bill of Materials'!P172","v":"DWC"},{"$f":"'Bill of Materials'!C172","v":"10440"},{"$f":"'Bill of Materials'!H172","v":"XFMHD-1U-B"},null,null,null,0,{"$f":"'Bill of Materials'!J172","v":"standard material"},{"$f":"'Bill of Materials'!K172","v":"physical"},0]
[{"$f":"'Bill of Materials'!E173+'Bill of Materials'!F173","v":0},{"$f":"'Bill of Materials'!M173","v":"EA"},{"$f":"'Bill of Materials'!G173","v":"XFM HD High Density Fiber Panel, 288 Port Capacity, 2RU, Rack Mounted, 23\" or 19\", Black"},{"$f":"'Bill of Materials'!L173","v":"AFL"},{"$f":"'Bill of Materials'!N173","v":469.4},{"$f":"'Bill of Materials'!P173","v":"DWC"},{"$f":"'Bill of Materials'!C173","v":"10441"},{"$f":"'Bill of Materials'!H173","v":"XFMHD-2U-B"},null,null,null,0,{"$f":"'Bill of Materials'!J173","v":"standard material"},{"$f":"'Bill of Materials'!K173","v":"physical"},0]
[{"$f":"'Bill of Materials'!E174+'Bill of Materials'!F174","v":0},{"$f":"'Bill of Materials'!M174","v":"EA"},{"$f":"'Bill of Materials'!G174","v":"XFM HD High Density Fiber Panel, 586 Port Capacity, 4RU, Rack Mounted, 23\" or 19\", Black"},{"$f":"'Bill of Materials'!L174","v":"AFL"},{"$f":"'Bill of Materials'!N174","v":569.6},{"$f":"'Bill of Materials'!P174","v":"DWC"},{"$f":"'Bill of Materials'!C174","v":"10442"},{"$f":"'Bill of Materials'!H174","v":"XFMHD-4U-B"},null,null,null,0,{"$f":"'Bill of Materials'!J174","v":"standard material"},{"$f":"'Bill of Materials'!K174","v":"physical"},0]
[{"$f":"'Bill of Materials'!E175+'Bill of Materials'!F175","v":0},{"$f":"'Bill of Materials'!M175","v":"EA"},{"$f":"'Bill of Materials'!G175","v":"XFM HD Optical Module, 12 Fiber SingleMode (OS-1), LC/UPC Connectors, Blue, MTP/Rear Connection\t"},{"$f":"'Bill of Materials'!L175","v":"AFL"},{"$f":"'Bill of Materials'!N175","v":380.6},{"$f":"'Bill of Materials'!P175","v":"DWC"},{"$f":"'Bill of Materials'!C175","v":"10443"},{"$f":"'Bill of Materials'!H175","v":"HDOC-SM-ULC"},null,null,null,0,{"$f":"'Bill of Materials'!J175","v":"standard material"},{"$f":"'Bill of Materials'!K175","v":"physical"},0]
[{"$f":"'Bill of Materials'!E176+'Bill of Materials'!F176","v":0},{"$f":"'Bill of Materials'!M176","v":"EA"},{"$f":"'Bill of Materials'!G176","v":"XFM HD Optical Module, 12 Fiber MultiMode (50 µm OM3), LC/UPC Connectors, Aqua, MTP/Rear Connection"},{"$f":"'Bill of Materials'!L176","v":"AFL"},{"$f":"'Bill of Materials'!N176","v":305.10000000000002},{"$f":"'Bill of Materials'!P176","v":"DWC"},{"$f":"'Bill of Materials'!C176","v":"10444"},{"$f":"'Bill of Materials'!H176","v":"HDOC-50-PLC"},null,null,null,0,{"$f":"'Bill of Materials'!J176","v":"standard material"},{"$f":"'Bill of Materials'!K176","v":"physical"},0]
[{"$f":"'Bill of Materials'!E177+'Bill of Materials'!F177","v":0},{"$f":"'Bill of Materials'!M177","v":"EA"},{"$f":"'Bill of Materials'!G177","v":"MTP/MPO Connector Cleaning Tool, Cleans up to 500 Connector Ends"},{"$f":"'Bill of Materials'!L177","v":"AFL"},{"$f":"'Bill of Materials'!N177","v":78.8},{"$f":"'Bill of Materials'!P177","v":"DWC"},{"$f":"'Bill of Materials'!C177","v":"10445"},{"$f":"'Bill of Materials'!H177","v":"CS000710"},null,null,null,0,{"$f":"'Bill of Materials'!J177","v":"standard material"},{"$f":"'Bill of Materials'!K177","v":"physical"},0]
[{"$f":"'Bill of Materials'!E178+'Bill of Materials'!F178","v":0},{"$f":"'Bill of Materials'!M178","v":"EA"},{"$f":"'Bill of Materials'!G178","v":"One Click Cleaner (LC, MU), 500+ Cleanings"},{"$f":"'Bill of Materials'!L178","v":"AFL"},{"$f":"'Bill of Materials'!N178","v":60.95},{"$f":"'Bill of Materials'!P178","v":"DWC"},{"$f":"'Bill of Materials'!C178","v":"10446"},{"$f":"'Bill of Materials'!H178","v":"8500-05-0002MZ"},null,null,null,0,{"$f":"'Bill of Materials'!J178","v":"standard material"},{"$f":"'Bill of Materials'!K178","v":"physical"},0]
[{"$f":"'Bill of Materials'!E179+'Bill of Materials'!F179","v":0},{"$f":"'Bill of Materials'!M179","v":"EA"},{"$f":"'Bill of Materials'!G179","v":"OEE Splice Enclosure Cable Retention Kit and Sealing Kit-Small (Accepts 0.236\"-0.473\" O.D. Cable)"},{"$f":"'Bill of Materials'!L179","v":"AFL"},{"$f":"'Bill of Materials'!N179","v":33.200000000000003},{"$f":"'Bill of Materials'!P179","v":"DWC"},{"$f":"'Bill of Materials'!C179","v":"10447"},{"$f":"'Bill of Materials'!H179","v":"911310-00-00"},null,null,null,0,{"$f":"'Bill of Materials'!J179","v":"standard material"},{"$f":"'Bill of Materials'!K179","v":"physical"},0]
[{"$f":"'Bill of Materials'!E180+'Bill of Materials'!F180","v":0},{"$f":"'Bill of Materials'!M180","v":"EA"},{"$f":"'Bill of Materials'!G180","v":"OEE Splice Enclosure Cable Retention Kit and Sealing Kit-Large (Accepts 0.708\"-0.988\" O.D. Cable)"},{"$f":"'Bill of Materials'!L180","v":"AFL"},{"$f":"'Bill of Materials'!N180","v":33.200000000000003},{"$f":"'Bill of Materials'!P180","v":"DWC"},{"$f":"'Bill of Materials'!C180","v":"10448"},{"$f":"'Bill of Materials'!H180","v":"911310-02-00"},null,null,null,0,{"$f":"'Bill of Materials'!J180","v":"standard material"},{"$f":"'Bill of Materials'!K180","v":"physical"},0]
[{"$f":"'Bill of Materials'!E181+'Bill of Materials'!F181","v":0},{"$f":"'Bill of Materials'!M181","v":"EA"},{"$f":"'Bill of Materials'!G181","v":"12 Postion APC/SC (6) Duplex, Green Bulkhead for Video in 3RU Panels, White, LGX118"},{"$f":"'Bill of Materials'!L181","v":"AFL"},{"$f":"'Bill of Materials'!N181","v":51.4},{"$f":"'Bill of Materials'!P181","v":"DWC"},{"$f":"'Bill of Materials'!C181","v":"10449"},{"$f":"'Bill of Materials'!H181","v":"FM000079"},null,null,null,0,{"$f":"'Bill of Materials'!J181","v":"standard material"},{"$f":"'Bill of Materials'!K181","v":"physical"},0]
[{"$f":"'Bill of Materials'!E182+'Bill of Materials'!F182","v":0},{"$f":"'Bill of Materials'!M182","v":"EA"},{"$f":"'Bill of Materials'!G182","v":"Cletop Cassette Cleaner, 400+ Cleanings"},{"$f":"'Bill of Materials'!L182","v":"AFL"},{"$f":"'Bill of Materials'!N182","v":93.8},{"$f":"'Bill of Materials'!P182","v":"DWC"},{"$f":"'Bill of Materials'!C182","v":"10462"},{"$f":"'Bill of Materials'!H182","v":"8500-10-0029MZ"},null,null,null,0,{"$f":"'Bill of Materials'!J182","v":"standard material"},{"$f":"'Bill of Materials'!K182","v":"physical"},0]
[{"$f":"'Bill of Materials'!E183+'Bill of Materials'!F183","v":0},{"$f":"'Bill of Materials'!M183","v":"EA"},{"$f":"'Bill of Materials'!G183","v":"One Click Cleaner (SC, ST, FC), 500+ Cleanings"},{"$f":"'Bill of Materials'!L183","v":"AFL"},{"$f":"'Bill of Materials'!N183","v":60.95},{"$f":"'Bill of Materials'!P183","v":"DWC"},{"$f":"'Bill of Materials'!C183","v":"10463"},{"$f":"'Bill of Materials'!H183","v":"8500-05-0001MZ"},null,null,null,0,{"$f":"'Bill of Materials'!J183","v":"standard material"},{"$f":"'Bill of Materials'!K183","v":"physical"},0]
[{"$f":"'Bill of Materials'!E184+'Bill of Materials'!F184","v":0},{"$f":"'Bill of Materials'!M184","v":"EA"},{"$f":"'Bill of Materials'!G184","v":"24-POS Wall Mount LIU, Holds 2 Adapter Plates"},{"$f":"'Bill of Materials'!L184","v":"AFL"},{"$f":"'Bill of Materials'!N184","v":97.55},{"$f":"'Bill of Materials'!P184","v":"DWC"},{"$f":"'Bill of Materials'!C184","v":"10518"},{"$f":"'Bill of Materials'!H184","v":"WME02E"},null,null,null,0,{"$f":"'Bill of Materials'!J184","v":"standard material"},{"$f":"'Bill of Materials'!K184","v":"physical"},0]
[{"$f":"'Bill of Materials'!E185+'Bill of Materials'!F185","v":0},{"$f":"'Bill of Materials'!M185","v":"EA"},{"$f":"'Bill of Materials'!G185","v":"48-POS Wall Mount LIU, Holds 4 Adapter Plates"},{"$f":"'Bill of Materials'!L185","v":"AFL"},{"$f":"'Bill of Materials'!N185","v":134.19999999999999},{"$f":"'Bill of Materials'!P185","v":"DWC"},{"$f":"'Bill of Materials'!C185","v":"10519"},{"$f":"'Bill of Materials'!H185","v":"WME04E"},null,null,null,0,{"$f":"'Bill of Materials'!J185","v":"standard material"},{"$f":"'Bill of Materials'!K185","v":"physical"},0]
[{"$f":"'Bill of Materials'!E186+'Bill of Materials'!F186","v":0},{"$f":"'Bill of Materials'!M186","v":"EA"},{"$f":"'Bill of Materials'!G186","v":"72 PORT RACK MOUNT PATCH AND SPLICE, 7RU EMPTY WHITE"},{"$f":"'Bill of Materials'!L186","v":"AFL"},{"$f":"'Bill of Materials'!N186","v":301.01},{"$f":"'Bill of Materials'!P186","v":"DWC"},{"$f":"'Bill of Materials'!C186","v":"INFO-3057"},{"$f":"'Bill of Materials'!H186","v":"FM000058"},null,null,null,0,{"$f":"'Bill of Materials'!J186","v":"standard material"},{"$f":"'Bill of Materials'!K186","v":"physical"},0]
[{"$f":"'Bill of Materials'!E187+'Bill of Materials'!F187","v":0},{"$f":"'Bill of Materials'!M187","v":"EA"},{"$f":"'Bill of Materials'!G187","v":"SPLICE DRAWERS 24 POSITION-(3 PER info 3057)"},{"$f":"'Bill of Materials'!L187","v":"AFL"},{"$f":"'Bill of Materials'!N187","v":27.37},{"$f":"'Bill of Materials'!P187","v":"DWC"},{"$f":"'Bill of Materials'!C187","v":"INFO-3058"},{"$f":"'Bill of Materials'!H187","v":"911442-00-00"},null,null,null,0,{"$f":"'Bill of Materials'!J187","v":"standard material"},{"$f":"'Bill of Materials'!K187","v":"physical"},0]
[{"$f":"'Bill of Materials'!E188+'Bill of Materials'!F188","v":0},{"$f":"'Bill of Materials'!M188","v":"EA"},{"$f":"'Bill of Materials'!G188","v":"Connector Hot Melt SC SM connector"},{"$f":"'Bill of Materials'!L188","v":"3M"},{"$f":"'Bill of Materials'!N188","v":7.62},{"$f":"'Bill of Materials'!P188","v":"DWC"},{"$f":"'Bill of Materials'!C188","v":"INFO-3109"},{"$f":"'Bill of Materials'!H188","v":"8300"},null,null,null,0,{"$f":"'Bill of Materials'!J188","v":"standard material"},{"$f":"'Bill of Materials'!K188","v":"physical"},0]
[{"$f":"'Bill of Materials'!E189+'Bill of Materials'!F189","v":0},{"$f":"'Bill of Materials'!M189","v":"EA"},{"$f":"'Bill of Materials'!G189","v":"Connector Hot Melt SC MM connector"},{"$f":"'Bill of Materials'!L189","v":"3M"},{"$f":"'Bill of Materials'!N189","v":5.0999999999999996},{"$f":"'Bill of Materials'!P189","v":"DWC"},{"$f":"'Bill of Materials'!C189","v":"INFO-3110"},{"$f":"'Bill of Materials'!H189","v":"6300"},null,null,null,0,{"$f":"'Bill of Materials'!J189","v":"standard material"},{"$f":"'Bill of Materials'!K189","v":"physical"},0]
[{"$f":"'Bill of Materials'!E190+'Bill of Materials'!F190","v":0},{"$f":"'Bill of Materials'!M190","v":"EA"},{"$f":"'Bill of Materials'!G190","v":"Connector Hot Melt ST MM"},{"$f":"'Bill of Materials'!L190","v":"3M"},{"$f":"'Bill of Materials'!N190","v":5.3},{"$f":"'Bill of Materials'!P190","v":"DWC"},{"$f":"'Bill of Materials'!C190","v":"INFO-3111"},{"$f":"'Bill of Materials'!H190","v":"6100"},null,null,null,0,{"$f":"'Bill of Materials'!J190","v":"standard material"},{"$f":"'Bill of Materials'!K190","v":"physical"},0]
[{"$f":"'Bill of Materials'!E191+'Bill of Materials'!F191","v":0},{"$f":"'Bill of Materials'!M191","v":"EA"},{"$f":"'Bill of Materials'!G191","v":"Connector Hot Melt ST SM"},{"$f":"'Bill of Materials'!L191","v":"3M"},{"$f":"'Bill of Materials'!N191","v":7.67},{"$f":"'Bill of Materials'!P191","v":"DWC"},{"$f":"'Bill of Materials'!C191","v":"INFO-3112"},{"$f":"'Bill of Materials'!H191","v":"8100YS"},null,null,null,0,{"$f":"'Bill of Materials'!J191","v":"standard material"},{"$f":"'Bill of Materials'!K191","v":"physical"},0]
[{"$f":"'Bill of Materials'!E192+'Bill of Materials'!F192","v":0},{"$f":"'Bill of Materials'!M192","v":"EA"},{"$f":"'Bill of Materials'!G192","v":"Air (canned - 10 oz.)"},{"$f":"'Bill of Materials'!L192","v":"Tech Spray"},{"$f":"'Bill of Materials'!N192","v":6.93},{"$f":"'Bill of Materials'!P192","v":"DWC"},{"$f":"'Bill of Materials'!C192","v":"INFO-3127"},{"$f":"'Bill of Materials'!H192","v":"TX-3507"},null,null,null,0,{"$f":"'Bill of Materials'!J192","v":"standard material"},{"$f":"'Bill of Materials'!K192","v":"physical"},0]
[{"$f":"'Bill of Materials'!E193+'Bill of Materials'!F193","v":0},{"$f":"'Bill of Materials'!M193","v":"EA"},{"$f":"'Bill of Materials'!G193","v":"Buffer tube fan out for 6 fibers, 2.4mm buffer tube size"},{"$f":"'Bill of Materials'!L193","v":"AFL"},{"$f":"'Bill of Materials'!N193","v":15.18},{"$f":"'Bill of Materials'!P193","v":"DWC"},{"$f":"'Bill of Materials'!C193","v":"INFO-3148"},{"$f":"'Bill of Materials'!H193","v":"C189826"},null,null,null,0,{"$f":"'Bill of Materials'!J193","v":"standard material"},{"$f":"'Bill of Materials'!K193","v":"physical"},0]
[{"$f":"'Bill of Materials'!E194+'Bill of Materials'!F194","v":0},{"$f":"'Bill of Materials'!M194","v":"EA"},{"$f":"'Bill of Materials'!G194","v":"Buffer tube fan out for 12 fibers, 3.0mm buffer tube size"},{"$f":"'Bill of Materials'!L194","v":"AFL"},{"$f":"'Bill of Materials'!N194","v":17.37},{"$f":"'Bill of Materials'!P194","v":"DWC"},{"$f":"'Bill of Materials'!C194","v":"INFO-3150"},{"$f":"'Bill of Materials'!H194","v":"C189818"},null,null,null,0,{"$f":"'Bill of Materials'!J194","v":"standard material"},{"$f":"'Bill of Materials'!K194","v":"physical"},0]
[{"$f":"'Bill of Materials'!#REF!+'Bill of Materials'!#REF!","v":{"$error":"#REF!"}},{"$f":"'Bill of Materials'!#REF!","v":{"$error":"#REF!"}},{"$f":"'Bill of Materials'!#REF!","v":{"$error":"#REF!"}},{"$f":"'Bill of Materials'!#REF!","v":{"$error":"#REF!"}},{"$f":"'Bill of Materials'!#REF!","v":{"$error":"#REF!"}},{"$f":"'Bill of Materials'!#REF!","v":{"$error":"#REF!"}},{"$f":"'Bill of Materials'!#REF!","v":{"$error":"#REF!"}},{"$f":"'Bill of Materials'!#REF!","v":{"$error":"#REF!"}},null,null,null,{"$error":"#REF!"},{"$f":"'Bill of Materials'!#REF!","v":{"$error":"#REF!"}},{"$f":"'Bill of Materials'!#REF!","v":{"$error":"#REF!"}},{"$error":"#REF!"}]
[{"$f":"'Bill of Materials'!#REF!+'Bill of Materials'!#REF!","v":{"$error":"#REF!"}},{"$f":"'Bill of Materials'!#REF!","v":{"$error":"#REF!"}},{"$f":"'Bill of Materials'!#REF!","v":{"$error":"#REF!"}},{"$f":"'Bill of Materials'!#REF!","v":{"$error":"#REF!"}},{"$f":"'Bill of Materials'!#REF!","v":{"$error":"#REF!"}},{"$f":"'Bill of Materials'!#REF!","v":{"$error":"#REF!"}},{"$f":"'Bill of Materials'!#REF!","v":{"$error":"#REF!"}},{"$f":"'Bill of Materials'!#REF!","v":{"$error":"#REF!"}},null,null,null,{"$error":"#REF!"},{"$f":"'Bill of Materials'!#REF!","v":{"$error":"#REF!"}},{"$f":"'Bill of Materials'!#REF!","v":{"$error":"#REF!"}},{"$error":"#REF!"}]
[{"$f":"'Bill of Materials'!E195+'Bill of Materials'!F195","v":0},{"$f":"'Bill of Materials'!M195","v":"EA"},{"$f":"'Bill of Materials'!G195","v":"Six Fiber ST MM/SM Adapter Plate, Telco White, 4RU Panels"},{"$f":"'Bill of Materials'!L195","v":"AFL"},{"$f":"'Bill of Materials'!N195","v":23.81},{"$f":"'Bill of Materials'!P195","v":"DWC"},{"$f":"'Bill of Materials'!C195","v":"INFO-3153"},{"$f":"'Bill of Materials'!H195","v":"C215962"},null,null,null,{"$f":"E214*A214","v":0},{"$f":"'Bill of Materials'!J195","v":"standard material"},{"$f":"'Bill of Materials'!K195","v":"physical"},{"$f":"IF(A214>0,1,0)","v":0}]
[{"$f":"'Bill of Materials'!E196+'Bill of Materials'!F196","v":0},{"$f":"'Bill of Materials'!M196","v":"EA"},{"$f":"'Bill of Materials'!G196","v":"Six Fiber (3 duplex) SC MM/SM Adapter Plate, Telco White, 4RU Panels"},{"$f":"'Bill of Materials'!L196","v":"AFL"},{"$f":"'Bill of Materials'!N196","v":24.8},{"$f":"'Bill of Materials'!P196","v":"DWC"},{"$f":"'Bill of Materials'!C196","v":"INFO-3155"},{"$f":"'Bill of Materials'!H196","v":"C215512"},null,null,null,0,{"$f":"'Bill of Materials'!J196","v":"standard material"},{"$f":"'Bill of Materials'!K196","v":"physical"},0]
[{"$f":"'Bill of Materials'!E197+'Bill of Materials'!F197","v":0},{"$f":"'Bill of Materials'!M197","v":"EA"},{"$f":"'Bill of Materials'!G197","v":"Pink polishing film (1 micron diamond) SM (10/pack)"},{"$f":"'Bill of Materials'!L197","v":"AFL"},{"$f":"'Bill of Materials'!N197","v":8.17},{"$f":"'Bill of Materials'!P197","v":"DWC"},{"$f":"'Bill of Materials'!C197","v":"INFO-3158"},{"$f":"'Bill of Materials'!H197","v":"C078700"},null,null,null,0,{"$f":"'Bill of Materials'!J197","v":"standard material"},{"$f":"'Bill of Materials'!K197","v":"physical"},0]
[{"$f":"'Bill of Materials'!E198+'Bill of Materials'!F198","v":0},{"$f":"'Bill of Materials'!M198","v":"EA"},{"$f":"'Bill of Materials'!G198","v":"Prep Ferrule Cleaner"},{"$f":"'Bill of Materials'!L198","v":"AFL"},{"$f":"'Bill of Materials'!N198","v":70.930000000000007},{"$f":"'Bill of Materials'!P198","v":"DWC"},{"$f":"'Bill of Materials'!C198","v":"INFO-3167"},{"$f":"'Bill of Materials'!H198","v":"C036692"},null,null,null,0,{"$f":"'Bill of Materials'!J198","v":"standard material"},{"$f":"'Bill of Materials'!K198","v":"physical"},0]
[{"$f":"'Bill of Materials'!E199+'Bill of Materials'!F199","v":0},{"$f":"'Bill of Materials'!M199","v":"EA"},{"$f":"'Bill of Materials'!G199","v":"Prep Ferrule Replacement Cartridge"},{"$f":"'Bill of Materials'!L199","v":"AFL"},{"$f":"'Bill of Materials'!N199","v":18.809999999999999},{"$f":"'Bill of Materials'!P199","v":"DWC"},{"$f":"'Bill of Materials'!C199","v":"INFO-3168"},{"$f":"'Bill of Materials'!H199","v":"C143729"},null,null,null,0,{"$f":"'Bill of Materials'!J199","v":"standard material"},{"$f":"'Bill of Materials'!K199","v":"physical"},0]
[{"$f":"'Bill of Materials'!E200+'Bill of Materials'!F200","v":0},{"$f":"'Bill of Materials'!M200","v":"EA"},{"$f":"'Bill of Materials'!G200","v":"Adapter Cleaner Tips (5/pack)"},{"$f":"'Bill of Materials'!L200","v":"AFL"},{"$f":"'Bill of Materials'!N200","v":3.22},{"$f":"'Bill of Materials'!P200","v":"DWC"},{"$f":"'Bill of Materials'!C200","v":"INFO-3169"},{"$f":"'Bill of Materials'!H200","v":"C008812"},null,null,null,0,{"$f":"'Bill of Materials'!J200","v":"standard material"},{"$f":"'Bill of Materials'!K200","v":"physical"},0]
[{"$f":"'Bill of Materials'!E201+'Bill of Materials'!F201","v":0},{"$f":"'Bill of Materials'!M201","v":"EA"},{"$f":"'Bill of Materials'!G201","v":"SC/ST 3M hot melt combo Kit"},{"$f":"'Bill of Materials'!L201","v":"3M"},{"$f":"'Bill of Materials'!N201","v":1087.96},{"$f":"'Bill of Materials'!P201","v":"DWC"},{"$f":"'Bill of Materials'!C201","v":"INFO-3175"},{"$f":"'Bill of Materials'!H201","v":"6355"},null,null,null,0,{"$f":"'Bill of Materials'!J201","v":"standard material"},{"$f":"'Bill of Materials'!K201","v":"physical"},0]
[{"$f":"'Bill of Materials'!E202+'Bill of Materials'!F202","v":0},{"$f":"'Bill of Materials'!M202","v":"EA"},{"$f":"'Bill of Materials'!G202","v":"200 X Microscope with universal adapter for SM fiber"},{"$f":"'Bill of Materials'!L202","v":"Noyes"},{"$f":"'Bill of Materials'!N202","v":373.08},{"$f":"'Bill of Materials'!P202","v":"DWC"},{"$f":"'Bill of Materials'!C202","v":"INFO-3177"},{"$f":"'Bill of Materials'!H202","v":"OFS300-200C"},null,null,null,0,{"$f":"'Bill of Materials'!J202","v":"standard material"},{"$f":"'Bill of Materials'!K202","v":"physical"},0]
[{"$f":"'Bill of Materials'!E203+'Bill of Materials'!F203","v":0},{"$f":"'Bill of Materials'!M203","v":"EA"},{"$f":"'Bill of Materials'!G203","v":"Hard Case for 200X Microscope"},{"$f":"'Bill of Materials'!L203","v":"Noyes"},{"$f":"'Bill of Materials'!N203","v":56.08},{"$f":"'Bill of Materials'!P203","v":"DWC"},{"$f":"'Bill of Materials'!C203","v":"INFO-3178"},{"$f":"'Bill of Materials'!H203","v":"OFS1-00-0100"},null,null,null,0,{"$f":"'Bill of Materials'!J203","v":"standard material"},{"$f":"'Bill of Materials'!K203","v":"physical"},0]
[{"$f":"'Bill of Materials'!E204+'Bill of Materials'!F204","v":0},{"$f":"'Bill of Materials'!M204","v":"EA"},{"$f":"'Bill of Materials'!G204","v":"SM Fiber Pigtail, (6) Strands Preterminated SC/Blunt, 5 meters, Riser Rated"},{"$f":"'Bill of Materials'!L204","v":"AFL"},{"$f":"'Bill of Materials'!N204","v":28.96},{"$f":"'Bill of Materials'!P204","v":"DWC"},{"$f":"'Bill of Materials'!C204","v":"INFO-3180"},{"$f":"'Bill of Materials'!H204","v":"USC-XXX-RC-006-Q-0005"},null,null,null,0,{"$f":"'Bill of Materials'!J204","v":"standard material"},{"$f":"'Bill of Materials'!K204","v":"physical"},0]
[{"$f":"'Bill of Materials'!E205+'Bill of Materials'!F205","v":0},{"$f":"'Bill of Materials'!M205","v":"EA"},{"$f":"'Bill of Materials'!G205","v":"MM Fiber Pigtail, (6) Strands Preterminated SC/Blunt, 5 meters, Riser Rated"},{"$f":"'Bill of Materials'!L205","v":"AFL"},{"$f":"'Bill of Materials'!N205","v":29.66},{"$f":"'Bill of Materials'!P205","v":"DWC"},{"$f":"'Bill of Materials'!C205","v":"INFO-3181"},{"$f":"'Bill of Materials'!H205","v":"PSC-XXX-RC-006-2-0005"},null,null,null,0,{"$f":"'Bill of Materials'!J205","v":"standard material"},{"$f":"'Bill of Materials'!K205","v":"physical"},0]
[{"$f":"'Bill of Materials'!E206+'Bill of Materials'!F206","v":0},{"$f":"'Bill of Materials'!M206","v":"EA"},{"$f":"'Bill of Materials'!G206","v":"72/144  Fiber Rack Mount Patch Panel 4 RU  Empty white; Plexiglass front door with Warning Label (INFO# 3184)"},{"$f":"'Bill of Materials'!L206","v":"AFL"},{"$f":"'Bill of Materials'!N206","v":177.36},{"$f":"'Bill of Materials'!P206","v":"DWC"},{"$f":"'Bill of Materials'!C206","v":"INFO-3184"},{"$f":"'Bill of Materials'!H206","v":"FM000002"},null,null,null,0,{"$f":"'Bill of Materials'!J206","v":"standard material"},{"$f":"'Bill of Materials'!K206","v":"physical"},0]
[{"$f":"'Bill of Materials'!E207+'Bill of Materials'!F207","v":0},{"$f":"'Bill of Materials'!M207","v":"EA"},{"$f":"'Bill of Materials'!G207","v":"SM Fiber Pigtail, (12) Strands Preterminated SC/Blunt, 3 meters, Riser Rated"},{"$f":"'Bill of Materials'!L207","v":"AFL"},{"$f":"'Bill of Materials'!N207","v":66.63},{"$f":"'Bill of Materials'!P207","v":"DWC"},{"$f":"'Bill of Materials'!C207","v":"INFO-3726"},{"$f":"'Bill of Materials'!H207","v":"USC-XXX-RC-012-Q-0003"},null,null,null,0,{"$f":"'Bill of Materials'!J207","v":"standard material"},{"$f":"'Bill of Materials'!K207","v":"physical"},0]
[{"$f":"'Bill of Materials'!E208+'Bill of Materials'!F208","v":0},{"$f":"'Bill of Materials'!M208","v":"EA"},{"$f":"'Bill of Materials'!G208","v":"MM Fiber Pigtail, (12) Strands Preterminated SC/Blunt, 3 meters, Riser Rated"},{"$f":"'Bill of Materials'!L208","v":"AFL"},{"$f":"'Bill of Materials'!N208","v":57.12},{"$f":"'Bill of Materials'!P208","v":"DWC"},{"$f":"'Bill of Materials'!C208","v":"INFO-3727"},{"$f":"'Bill of Materials'!H208","v":"PSC-XXX-RC-012-2-0003"},null,null,null,0,{"$f":"'Bill of Materials'!J208","v":"standard material"},{"$f":"'Bill of Materials'!K208","v":"physical"},0]
[{"$f":"'Bill of Materials'!E209+'Bill of Materials'!F209","v":0},{"$f":"'Bill of Materials'!M209","v":"EA"},{"$f":"'Bill of Materials'!G209","v":"288 4RU Fiber Splice Only Panel, telco white, Full = (6) 24/48 Position Splice Drawers INFO# 3058"},{"$f":"'Bill of Materials'!L209","v":"AFL"},{"$f":"'Bill of Materials'!N209","v":256.38},{"$f":"'Bill of Materials'!P209","v":"DWC"},{"$f":"'Bill of Materials'!C209","v":"INFO-4511"},{"$f":"'Bill of Materials'!H209","v":"C211795-WE"},null,null,null,0,{"$f":"'Bill of Materials'!J209","v":"standard material"},{"$f":"'Bill of Materials'!K209","v":"physical"},0]
[{"$f":"'Bill of Materials'!E210+'Bill of Materials'!F210","v":0},{"$f":"'Bill of Materials'!M210","v":"EA"},{"$f":"'Bill of Materials'!G210","v":"12 Fiber, (6) Duplex Adaptors, SC ceramic, Telco White, 170 (5 RU panel)"},{"$f":"'Bill of Materials'!L210","v":"AFL"},{"$f":"'Bill of Materials'!N210","v":43.16},{"$f":"'Bill of Materials'!P210","v":"DWC"},{"$f":"'Bill of Materials'!C210","v":"INFO-4515"},{"$f":"'Bill of Materials'!H210","v":"FM000145"},null,null,null,0,{"$f":"'Bill of Materials'!J210","v":"standard material"},{"$f":"'Bill of Materials'!K210","v":"physical"},0]
[{"$f":"'Bill of Materials'!E211+'Bill of Materials'!F211","v":0},{"$f":"'Bill of Materials'!M211","v":"EA"},{"$f":"'Bill of Materials'!G211","v":"144 5RU Fiber Panel, telco white (MC/Data Center Use)"},{"$f":"'Bill of Materials'!L211","v":"AFL"},{"$f":"'Bill of Materials'!N211","v":170.03},{"$f":"'Bill of Materials'!P211","v":"DWC"},{"$f":"'Bill of Materials'!C211","v":"INFO-4516"},{"$f":"'Bill of Materials'!H211","v":"FM000374-WE"},null,null,null,0,{"$f":"'Bill of Materials'!J211","v":"standard material"},{"$f":"'Bill of Materials'!K211","v":"physical"},0]
[{"$f":"'Bill of Materials'!E212+'Bill of Materials'!F212","v":0},{"$f":"'Bill of Materials'!M212","v":"EA"},{"$f":"'Bill of Materials'!G212","v":"Blank Coupler Plate for 170 5RU Fiber Panel, Telco White"},{"$f":"'Bill of Materials'!L212","v":"AFL"},{"$f":"'Bill of Materials'!N212","v":4.4400000000000004},{"$f":"'Bill of Materials'!P212","v":"DWC"},{"$f":"'Bill of Materials'!C212","v":"INFO-4518"},{"$f":"'Bill of Materials'!H212","v":"C216394"},null,null,null,0,{"$f":"'Bill of Materials'!J212","v":"standard material"},{"$f":"'Bill of Materials'!K212","v":"physical"},0]
[{"$f":"'Bill of Materials'!E213+'Bill of Materials'!F213","v":0},{"$f":"'Bill of Materials'!M213","v":"EA"},{"$f":"'Bill of Materials'!G213","v":"Spiral Wrap 1/4 inch natural color (Sold in rolls of 100ft)"},{"$f":"'Bill of Materials'!L213","v":"Hellermann Tyton"},{"$f":"'Bill of Materials'!N213","v":59},{"$f":"'Bill of Materials'!P213","v":"DWC"},{"$f":"'Bill of Materials'!C213","v":"INFO-7003"},{"$f":"'Bill of Materials'!H213","v":"2N9C"},null,null,null,0,{"$f":"'Bill of Materials'!J213","v":"standard material"},{"$f":"'Bill of Materials'!K213","v":"physical"},0]
[{"$f":"'Bill of Materials'!E214+'Bill of Materials'!F214","v":0},{"$f":"'Bill of Materials'!M214","v":"EA"},{"$f":"'Bill of Materials'!G214","v":"Spiral Wrap 3/8 inch natural color (Sold in rolls of 100ft)"},{"$f":"'Bill of Materials'!L214","v":"Hellermann Tyton"},{"$f":"'Bill of Materials'!N214","v":107},{"$f":"'Bill of Materials'!P214","v":"DWC"},{"$f":"'Bill of Materials'!C214","v":"INFO-7004"},{"$f":"'Bill of Materials'!H214","v":"2.5N9C"},null,null,null,0,{"$f":"'Bill of Materials'!J214","v":"standard material"},{"$f":"'Bill of Materials'!K214","v":"physical"},0]
[{"$f":"'Bill of Materials'!E215+'Bill of Materials'!F215","v":0},{"$f":"'Bill of Materials'!M215","v":"EA"},{"$f":"'Bill of Materials'!G215","v":"Fusion Splice Protectors, 60mm (Non Magnetic)"},{"$f":"'Bill of Materials'!L215","v":"AFL"},{"$f":"'Bill of Materials'!N215","v":0.41},{"$f":"'Bill of Materials'!P215","v":"DWC"},{"$f":"'Bill of Materials'!C215","v":"INFO-7006"},{"$f":"'Bill of Materials'!H215","v":"FP-3"},null,null,null,0,{"$f":"'Bill of Materials'!J215","v":"standard material"},{"$f":"'Bill of Materials'!K215","v":"physical"},0]
[{"$f":"'Bill of Materials'!E216+'Bill of Materials'!F216","v":0},{"$f":"'Bill of Materials'!M216","v":"EA"},{"$f":"'Bill of Materials'!G216","v":"(3) SC SM Blue Duplex Bulkhead Coupler PoliMod Patch & Splice Module for 6 fiber splices and terminations, includes (6) 40mm splice protectors"},{"$f":"'Bill of Materials'!L216","v":"AFL"},{"$f":"'Bill of Materials'!N216","v":132.02000000000001},{"$f":"'Bill of Materials'!P216","v":"DWC"},{"$f":"'Bill of Materials'!C216","v":"INFO-7019"},{"$f":"'Bill of Materials'!H216","v":"FM000705"},null,null,null,0,{"$f":"'Bill of Materials'!J216","v":"standard material"},{"$f":"'Bill of Materials'!K216","v":"physical"},0]
[{"$f":"'Bill of Materials'!E217+'Bill of Materials'!F217","v":0},{"$f":"'Bill of Materials'!M217","v":"EA"},{"$f":"'Bill of Materials'!G217","v":"(3) SC MM Beige Duplex Bulkhead Coupler PoliMod Patch & Splice Module for 6 fiber splices and terminations, includes (6) 40mm splice protectors"},{"$f":"'Bill of Materials'!L217","v":"AFL"},{"$f":"'Bill of Materials'!N217","v":132.02000000000001},{"$f":"'Bill of Materials'!P217","v":"DWC"},{"$f":"'Bill of Materials'!C217","v":"INFO-7020"},{"$f":"'Bill of Materials'!H217","v":"FM000706"},null,null,null,0,{"$f":"'Bill of Materials'!J217","v":"standard material"},{"$f":"'Bill of Materials'!K217","v":"physical"},0]
[{"$f":"'Bill of Materials'!E218+'Bill of Materials'!F218","v":0},{"$f":"'Bill of Materials'!M218","v":"EA"},{"$f":"'Bill of Materials'!G218","v":"(6) SC SM Blue Duplex Bulkhead Coupler PoliMod Patch & Splice Module for 12 fiber splices and terminations, includes (12) 40mm splice protectors"},{"$f":"'Bill of Materials'!L218","v":"AFL"},{"$f":"'Bill of Materials'!N218","v":154.34},{"$f":"'Bill of Materials'!P218","v":"DWC"},{"$f":"'Bill of Materials'!C218","v":"INFO-7021"},{"$f":"'Bill of Materials'!H218","v":"FM000631"},null,null,null,0,{"$f":"'Bill of Materials'!J218","v":"standard material"},{"$f":"'Bill of Materials'!K218","v":"physical"},0]
[{"$f":"'Bill of Materials'!E219+'Bill of Materials'!F219","v":0},{"$f":"'Bill of Materials'!M219","v":"EA"},{"$f":"'Bill of Materials'!G219","v":"(6) SC MM Beige Duplex Bulkhead Coupler PoliMod Patch & Splice Module for 12 fiber splices and terminations, includes (12) 40mm splice protectors"},{"$f":"'Bill of Materials'!L219","v":"AFL"},{"$f":"'Bill of Materials'!N219","v":154.34},{"$f":"'Bill of Materials'!P219","v":"DWC"},{"$f":"'Bill of Materials'!C219","v":"INFO-7022"},{"$f":"'Bill of Materials'!H219","v":"FM000700"},null,null,null,0,{"$f":"'Bill of Materials'!J219","v":"standard material"},{"$f":"'Bill of Materials'!K219","v":"physical"},0]
[{"$f":"'Bill of Materials'!#REF!+'Bill of Materials'!#REF!","v":{"$error":"#REF!"}},{"$f":"'Bill of Materials'!#REF!","v":{"$error":"#REF!"}},{"$f":"'Bill of Materials'!#REF!","v":{"$error":"#REF!"}},{"$f":"'Bill of Materials'!#REF!","v":{"$error":"#REF!"}},{"$f":"'Bill of Materials'!#REF!","v":{"$error":"#REF!"}},{"$f":"'Bill of Materials'!#REF!","v":{"$error":"#REF!"}},{"$f":"'Bill of Materials'!#REF!","v":{"$error":"#REF!"}},{"$f":"'Bill of Materials'!#REF!","v":{"$error":"#REF!"}},null,null,null,{"$error":"#REF!"},{"$f":"'Bill of Materials'!#REF!","v":{"$error":"#REF!"}},{"$f":"'Bill of Materials'!#REF!","v":{"$error":"#REF!"}},{"$error":"#REF!"}]
[{"$f":"'Bill of Materials'!E220+'Bill of Materials'!F220","v":0},{"$f":"'Bill of Materials'!M220","v":"EA"},{"$f":"'Bill of Materials'!G220","v":"(9) SC SM Blue Duplex Bulkhead Coupler Double-Wide PoliMod Patch & Splice Module for 18 fiber splices and terminations, includes (18) splice protectors"},{"$f":"'Bill of Materials'!L220","v":"AFL"},{"$f":"'Bill of Materials'!N220","v":247.5},{"$f":"'Bill of Materials'!P220","v":"DWC"},{"$f":"'Bill of Materials'!C220","v":"INFO-7023"},{"$f":"'Bill of Materials'!H220","v":"FM000666"},null,null,null,0,{"$f":"'Bill of Materials'!J220","v":"standard material"},{"$f":"'Bill of Materials'!K220","v":"physical"},0]
[{"$f":"'Bill of Materials'!E221+'Bill of Materials'!F221","v":0},{"$f":"'Bill of Materials'!M221","v":"EA"},{"$f":"'Bill of Materials'!G221","v":"(9) SC MM Beige Duplex Bulkhead Coupler Double-Wide PoliMod Patch & Splice Module for 18 fiber splices and terminations, includes (18) 40mm splice protectors"},{"$f":"'Bill of Materials'!L221","v":"AFL"},{"$f":"'Bill of Materials'!N221","v":247.5},{"$f":"'Bill of Materials'!P221","v":"DWC"},{"$f":"'Bill of Materials'!C221","v":"INFO-7024"},{"$f":"'Bill of Materials'!H221","v":"FM000701"},null,null,null,0,{"$f":"'Bill of Materials'!J221","v":"standard material"},{"$f":"'Bill of Materials'!K221","v":"physical"},0]
[{"$f":"'Bill of Materials'!E222+'Bill of Materials'!F222","v":0},{"$f":"'Bill of Materials'!M222","v":"EA"},{"$f":"'Bill of Materials'!G222","v":"Fusion Splice Protectors, 40mm (Polimods spares only)"},{"$f":"'Bill of Materials'!L222","v":"AFL"},{"$f":"'Bill of Materials'!N222","v":0.46},{"$f":"'Bill of Materials'!P222","v":"DWC"},{"$f":"'Bill of Materials'!C222","v":"INFO-7025"},{"$f":"'Bill of Materials'!H222","v":"FP-03(40)"},null,null,null,0,{"$f":"'Bill of Materials'!J222","v":"standard material"},{"$f":"'Bill of Materials'!K222","v":"physical"},0]
[{"$f":"'Bill of Materials'!E223+'Bill of Materials'!F223","v":0},{"$f":"'Bill of Materials'!M223","v":"EA"},{"$f":"'Bill of Materials'!G223","v":"Blank Coupler Plate for 4RU or 2RU Fiber Panel, Telco White"},{"$f":"'Bill of Materials'!L223","v":"AFL"},{"$f":"'Bill of Materials'!N223","v":4.45},{"$f":"'Bill of Materials'!P223","v":"DWC"},{"$f":"'Bill of Materials'!C223","v":"INFO-7028"},{"$f":"'Bill of Materials'!H223","v":"C215503"},null,null,null,0,{"$f":"'Bill of Materials'!J223","v":"standard material"},{"$f":"'Bill of Materials'!K223","v":"physical"},0]
[{"$f":"'Bill of Materials'!E225+'Bill of Materials'!F225","v":0},{"$f":"'Bill of Materials'!M225","v":"EA"},{"$f":"'Bill of Materials'!G225","v":"LC/LC, SM Fiber Patch Cord, Duplex, 1 Meter, Riser"},{"$f":"'Bill of Materials'!L225","v":"AFL"},{"$f":"'Bill of Materials'!N225","v":23.36},{"$f":"'Bill of Materials'!P225","v":"DWC"},{"$f":"'Bill of Materials'!C225","v":"0119-C4FP"},{"$f":"'Bill of Materials'!H225","v":"ULC-ULC-R20Z-002-Q-0001"},null,null,null,0,{"$f":"'Bill of Materials'!J225","v":"standard material"},{"$f":"'Bill of Materials'!K225","v":"physical"},0]
[{"$f":"'Bill of Materials'!E226+'Bill of Materials'!F226","v":0},{"$f":"'Bill of Materials'!M226","v":"EA"},{"$f":"'Bill of Materials'!G226","v":"LC/LC, SM Fiber Patch Cord, Duplex, 2 Meter, Riser"},{"$f":"'Bill of Materials'!L226","v":"AFL"},{"$f":"'Bill of Materials'!N226","v":21.98},{"$f":"'Bill of Materials'!P226","v":"DWC"},{"$f":"'Bill of Materials'!C226","v":"0119-C4FR"},{"$f":"'Bill of Materials'!H226","v":"ULC-ULC-R20Z-002-Q-0002"},null,null,null,0,{"$f":"'Bill of Materials'!J226","v":"standard material"},{"$f":"'Bill of Materials'!K226","v":"physical"},0]
[{"$f":"'Bill of Materials'!E227+'Bill of Materials'!F227","v":0},{"$f":"'Bill of Materials'!M227","v":"EA"},{"$f":"'Bill of Materials'!G227","v":"LC/ST, SM Fiber Patch Cord, Duplex, 2 Meter, Riser "},{"$f":"'Bill of Materials'!L227","v":"AFL"},{"$f":"'Bill of Materials'!N227","v":22.82},{"$f":"'Bill of Materials'!P227","v":"DWC"},{"$f":"'Bill of Materials'!C227","v":"0119-C4FT"},{"$f":"'Bill of Materials'!H227","v":"ULC-UST-R20Z-Q-0002"},null,null,null,0,{"$f":"'Bill of Materials'!J227","v":"standard material"},{"$f":"'Bill of Materials'!K227","v":"physical"},0]
[{"$f":"'Bill of Materials'!E228+'Bill of Materials'!F228","v":0},{"$f":"'Bill of Materials'!M228","v":"EA"},{"$f":"'Bill of Materials'!G228","v":"LC/ST, MM Fiber Patch Cord, Duplex, 1 Meter"},{"$f":"'Bill of Materials'!L228","v":"AFL"},{"$f":"'Bill of Materials'!N228","v":16.579999999999998},{"$f":"'Bill of Materials'!P228","v":"DWC"},{"$f":"'Bill of Materials'!C228","v":"0119-C4FV"},{"$f":"'Bill of Materials'!H228","v":"PLC-PST-R20Z-2-0001"},null,null,null,0,{"$f":"'Bill of Materials'!J228","v":"standard material"},{"$f":"'Bill of Materials'!K228","v":"physical"},0]
[{"$f":"'Bill of Materials'!E229+'Bill of Materials'!F229","v":0},{"$f":"'Bill of Materials'!M229","v":"EA"},{"$f":"'Bill of Materials'!G229","v":"LC/ST, MM Fiber Patch Cord, Duplex, 2 Meter, 2.0mm Riser Zipcord"},{"$f":"'Bill of Materials'!L229","v":"AFL"},{"$f":"'Bill of Materials'!N229","v":20.100000000000001},{"$f":"'Bill of Materials'!P229","v":"DWC"},{"$f":"'Bill of Materials'!C229","v":"0119-C4FW"},{"$f":"'Bill of Materials'!H229","v":"PLC-PST-R20Z-2-02"},null,null,null,0,{"$f":"'Bill of Materials'!J229","v":"standard material"},{"$f":"'Bill of Materials'!K229","v":"physical"},0]
[{"$f":"'Bill of Materials'!E230+'Bill of Materials'!F230","v":0},{"$f":"'Bill of Materials'!M230","v":"EA"},{"$f":"'Bill of Materials'!G230","v":"LC/ST, MM Fiber Patch Cord, Duplex, 3 Meter"},{"$f":"'Bill of Materials'!L230","v":"AFL"},{"$f":"'Bill of Materials'!N230","v":17.72},{"$f":"'Bill of Materials'!P230","v":"DWC"},{"$f":"'Bill of Materials'!C230","v":"0119-C4FX"},{"$f":"'Bill of Materials'!H230","v":"PLC-PST-R20Z-2-0003"},null,null,null,0,{"$f":"'Bill of Materials'!J230","v":"standard material"},{"$f":"'Bill of Materials'!K230","v":"physical"},0]
[{"$f":"'Bill of Materials'!E231+'Bill of Materials'!F231","v":0},{"$f":"'Bill of Materials'!M231","v":"EA"},{"$f":"'Bill of Materials'!G231","v":"LC/SC, SM Fiber Patch Cord, Duplex, 2 Meter, Riser, No Clips"},{"$f":"'Bill of Materials'!L231","v":"AFL"},{"$f":"'Bill of Materials'!N231","v":21.93},{"$f":"'Bill of Materials'!P231","v":"DWC"},{"$f":"'Bill of Materials'!C231","v":"0119-C4YY"},{"$f":"'Bill of Materials'!H231","v":"ULC-USC-R20Z-Q-0002"},null,null,null,0,{"$f":"'Bill of Materials'!J231","v":"standard material"},{"$f":"'Bill of Materials'!K231","v":"physical"},0]
[{"$f":"'Bill of Materials'!E232+'Bill of Materials'!F232","v":0},{"$f":"'Bill of Materials'!M232","v":"EA"},{"$f":"'Bill of Materials'!G232","v":"LC/SC, SM Fiber Patch Cord, Duplex, 6 Meter, Riser, No Clips"},{"$f":"'Bill of Materials'!L232","v":"AFL"},{"$f":"'Bill of Materials'!N232","v":23.86},{"$f":"'Bill of Materials'!P232","v":"DWC"},{"$f":"'Bill of Materials'!C232","v":"0119-C500"},{"$f":"'Bill of Materials'!H232","v":"ULC-USC-R20Z-Q-0006"},null,null,null,0,{"$f":"'Bill of Materials'!J232","v":"standard material"},{"$f":"'Bill of Materials'!K232","v":"physical"},0]
[{"$f":"'Bill of Materials'!E233+'Bill of Materials'!F233","v":0},{"$f":"'Bill of Materials'!M233","v":"EA"},{"$f":"'Bill of Materials'!G233","v":"LC/LC, MM Fiber Patch Cord, 62.5/125um, Duplex, 3 Meter, Riser, No Clips"},{"$f":"'Bill of Materials'!L233","v":"AFL"},{"$f":"'Bill of Materials'!N233","v":22.77},{"$f":"'Bill of Materials'!P233","v":"DWC"},{"$f":"'Bill of Materials'!C233","v":"0119-C501"},{"$f":"'Bill of Materials'!H233","v":"PLC-PLC-R20Z-2-0003"},null,null,null,0,{"$f":"'Bill of Materials'!J233","v":"standard material"},{"$f":"'Bill of Materials'!K233","v":"physical"},0]
[{"$f":"'Bill of Materials'!E234+'Bill of Materials'!F234","v":0},{"$f":"'Bill of Materials'!M234","v":"EA"},{"$f":"'Bill of Materials'!G234","v":"LC/SC, SM Fiber Patch Cord, Duplex, 10 Meter, Riser, No Clips"},{"$f":"'Bill of Materials'!L234","v":"AFL"},{"$f":"'Bill of Materials'!N234","v":25.29},{"$f":"'Bill of Materials'!P234","v":"DWC"},{"$f":"'Bill of Materials'!C234","v":"0119-C502"},{"$f":"'Bill of Materials'!H234","v":"ULC-USC-R20Z-Q-0010"},null,null,null,0,{"$f":"'Bill of Materials'!J234","v":"standard material"},{"$f":"'Bill of Materials'!K234","v":"physical"},0]
[{"$f":"'Bill of Materials'!E235+'Bill of Materials'!F235","v":0},{"$f":"'Bill of Materials'!M235","v":"EA"},{"$f":"'Bill of Materials'!G235","v":"LC/LC, SM Fiber Patch Cord, Duplex, 3 Meter, Riser, No Clips"},{"$f":"'Bill of Materials'!L235","v":"AFL"},{"$f":"'Bill of Materials'!N235","v":24.06},{"$f":"'Bill of Materials'!P235","v":"DWC"},{"$f":"'Bill of Materials'!C235","v":"0119-C503"},{"$f":"'Bill of Materials'!H235","v":"ULC-ULC-R20Z-Q-0003"},null,null,null,0,{"$f":"'Bill of Materials'!J235","v":"standard material"},{"$f":"'Bill of Materials'!K235","v":"physical"},0]
[{"$f":"'Bill of Materials'!E236+'Bill of Materials'!F236","v":0},{"$f":"'Bill of Materials'!M236","v":"EA"},{"$f":"'Bill of Materials'!G236","v":"LC/LC, SM Fiber Patch Cord, Duplex, 6 Meter, Riser, No Clips"},{"$f":"'Bill of Materials'!L236","v":"AFL"},{"$f":"'Bill of Materials'!N236","v":25.54},{"$f":"'Bill of Materials'!P236","v":"DWC"},{"$f":"'Bill of Materials'!C236","v":"0119-C504"},{"$f":"'Bill of Materials'!H236","v":"ULC-ULC-R20Z-Q-0006"},null,null,null,0,{"$f":"'Bill of Materials'!J236","v":"standard material"},{"$f":"'Bill of Materials'!K236","v":"physical"},0]
[{"$f":"'Bill of Materials'!E237+'Bill of Materials'!F237","v":0},{"$f":"'Bill of Materials'!M237","v":"EA"},{"$f":"'Bill of Materials'!G237","v":"LC/LC, SM Fiber Patch Cord, Duplex, 10 Meter, Riser, No Clips"},{"$f":"'Bill of Materials'!L237","v":"AFL"},{"$f":"'Bill of Materials'!N237","v":26.68},{"$f":"'Bill of Materials'!P237","v":"DWC"},{"$f":"'Bill of Materials'!C237","v":"0119-C505"},{"$f":"'Bill of Materials'!H237","v":"ULC-ULC-R20Z-Q-0010"},null,null,null,0,{"$f":"'Bill of Materials'!J237","v":"standard material"},{"$f":"'Bill of Materials'!K237","v":"physical"},0]
[{"$f":"'Bill of Materials'!E238+'Bill of Materials'!F238","v":0},{"$f":"'Bill of Materials'!M238","v":"EA"},{"$f":"'Bill of Materials'!G238","v":"LC/ST, SM Fiber Patch Cord, Duplex, 6 Meter, Riser, No Clips"},{"$f":"'Bill of Materials'!L238","v":"AFL"},{"$f":"'Bill of Materials'!N238","v":26.43},{"$f":"'Bill of Materials'!P238","v":"DWC"},{"$f":"'Bill of Materials'!C238","v":"0119-C506"},{"$f":"'Bill of Materials'!H238","v":"ULC-UST-R20Z-Q-0006"},null,null,null,0,{"$f":"'Bill of Materials'!J238","v":"standard material"},{"$f":"'Bill of Materials'!K238","v":"physical"},0]
[{"$f":"'Bill of Materials'!E239+'Bill of Materials'!F239","v":0},{"$f":"'Bill of Materials'!M239","v":"EA"},{"$f":"'Bill of Materials'!G239","v":"LC/ST, SM Fiber Patch Cord, Duplex, 10 Meter, Riser, No Clips"},{"$f":"'Bill of Materials'!L239","v":"AFL"},{"$f":"'Bill of Materials'!N239","v":27.62},{"$f":"'Bill of Materials'!P239","v":"DWC"},{"$f":"'Bill of Materials'!C239","v":"0119-C507"},{"$f":"'Bill of Materials'!H239","v":"ULC-UST-R20Z-Q-0010"},null,null,null,0,{"$f":"'Bill of Materials'!J239","v":"standard material"},{"$f":"'Bill of Materials'!K239","v":"physical"},0]
[{"$f":"'Bill of Materials'!E240+'Bill of Materials'!F240","v":0},{"$f":"'Bill of Materials'!M240","v":"EA"},{"$f":"'Bill of Materials'!G240","v":"LC/ST, MM Fiber Patch Cord, 62.5/125um, Duplex, 6 Meter, Riser, No Clips"},{"$f":"'Bill of Materials'!L240","v":"AFL"},{"$f":"'Bill of Materials'!N240","v":23.61},{"$f":"'Bill of Materials'!P240","v":"DWC"},{"$f":"'Bill of Materials'!C240","v":"0119-C508"},{"$f":"'Bill of Materials'!H240","v":"PLC-PST-R20Z-2-0006"},null,null,null,0,{"$f":"'Bill of Materials'!J240","v":"standard material"},{"$f":"'Bill of Materials'!K240","v":"physical"},0]
[{"$f":"'Bill of Materials'!E241+'Bill of Materials'!F241","v":0},{"$f":"'Bill of Materials'!M241","v":"EA"},{"$f":"'Bill of Materials'!G241","v":"LC/ST, MM Fiber Patch Cord, 62.5/125um, Duplex, 10 Meter, Riser, No Clips"},{"$f":"'Bill of Materials'!L241","v":"AFL"},{"$f":"'Bill of Materials'!N241","v":26.19},{"$f":"'Bill of Materials'!P241","v":"DWC"},{"$f":"'Bill of Materials'!C241","v":"0119-C509"},{"$f":"'Bill of Materials'!H241","v":"PLC-PST-R20Z-2-0010"},null,null,null,0,{"$f":"'Bill of Materials'!J241","v":"standard material"},{"$f":"'Bill of Materials'!K241","v":"physical"},0]
[{"$f":"'Bill of Materials'!E242+'Bill of Materials'!F242","v":0},{"$f":"'Bill of Materials'!M242","v":"EA"},{"$f":"'Bill of Materials'!G242","v":"MTRJ/SC, MM Fiber Patch Cord, 62.5/125um, Duplex, 1 Meter, Riser "},{"$f":"'Bill of Materials'!L242","v":"Cable, Professional "},{"$f":"'Bill of Materials'!N242","v":18.809999999999999},{"$f":"'Bill of Materials'!P242","v":"DWC"},{"$f":"'Bill of Materials'!C242","v":"0119-C5M4"},{"$f":"'Bill of Materials'!H242","v":"FMTRJ-SC-1M"},null,null,null,0,{"$f":"'Bill of Materials'!J242","v":"standard material"},{"$f":"'Bill of Materials'!K242","v":"physical"},0]
[{"$f":"'Bill of Materials'!E243+'Bill of Materials'!F243","v":0},{"$f":"'Bill of Materials'!M243","v":"EA"},{"$f":"'Bill of Materials'!G243","v":"MTRJ/SC, MM Fiber Patch Cord, 62.5/125um, Duplex, 10 Meter, Riser "},{"$f":"'Bill of Materials'!L243","v":"Cable, Professional "},{"$f":"'Bill of Materials'!N243","v":26.93},{"$f":"'Bill of Materials'!P243","v":"DWC"},{"$f":"'Bill of Materials'!C243","v":"0119-C5M5"},{"$f":"'Bill of Materials'!H243","v":"FMTRJ-SC-10M"},null,null,null,0,{"$f":"'Bill of Materials'!J243","v":"standard material"},{"$f":"'Bill of Materials'!K243","v":"physical"},0]
[{"$f":"'Bill of Materials'!E244+'Bill of Materials'!F244","v":0},{"$f":"'Bill of Materials'!M244","v":"EA"},{"$f":"'Bill of Materials'!G244","v":"MTRJ/SC, MM Fiber Patch Cord, 62.5/125um, Duplex, 6 Meter, Riser "},{"$f":"'Bill of Materials'!L244","v":"Cable, Professional "},{"$f":"'Bill of Materials'!N244","v":24.85},{"$f":"'Bill of Materials'!P244","v":"DWC"},{"$f":"'Bill of Materials'!C244","v":"0119-C5M6"},{"$f":"'Bill of Materials'!H244","v":"FMTRJ-SC-6M"},null,null,null,0,{"$f":"'Bill of Materials'!J244","v":"standard material"},{"$f":"'Bill of Materials'!K244","v":"physical"},0]
[{"$f":"'Bill of Materials'!E245+'Bill of Materials'!F245","v":0},{"$f":"'Bill of Materials'!M245","v":"EA"},{"$f":"'Bill of Materials'!G245","v":"MTRJ/SC, SM Fiber Patch Cord, Duplex, 1 Meter, Riser "},{"$f":"'Bill of Materials'!L245","v":"Cable, Professional "},{"$f":"'Bill of Materials'!N245","v":19.850000000000001},{"$f":"'Bill of Materials'!P245","v":"DWC"},{"$f":"'Bill of Materials'!C245","v":"0119-C5M7"},{"$f":"'Bill of Materials'!H245","v":"FMTRJ-SC-SM-1M"},null,null,null,0,{"$f":"'Bill of Materials'!J245","v":"standard material"},{"$f":"'Bill of Materials'!K245","v":"physical"},0]
[{"$f":"'Bill of Materials'!E246+'Bill of Materials'!F246","v":0},{"$f":"'Bill of Materials'!M246","v":"EA"},{"$f":"'Bill of Materials'!G246","v":"MTRJ/SC, SM Fiber Patch Cord, Duplex, 10 Meter, Riser "},{"$f":"'Bill of Materials'!L246","v":"Cable, Professional "},{"$f":"'Bill of Materials'!N246","v":27.23},{"$f":"'Bill of Materials'!P246","v":"DWC"},{"$f":"'Bill of Materials'!C246","v":"0119-C5M8"},{"$f":"'Bill of Materials'!H246","v":"FMTRJ-SC-SM-10M"},null,null,null,0,{"$f":"'Bill of Materials'!J246","v":"standard material"},{"$f":"'Bill of Materials'!K246","v":"physical"},0]
[{"$f":"'Bill of Materials'!E247+'Bill of Materials'!F247","v":0},{"$f":"'Bill of Materials'!M247","v":"EA"},{"$f":"'Bill of Materials'!G247","v":"MTRJ/SC, SM Fiber Patch Cord, Duplex, 6 Meter, Riser "},{"$f":"'Bill of Materials'!L247","v":"Cable, Professional "},{"$f":"'Bill of Materials'!N247","v":25.49},{"$f":"'Bill of Materials'!P247","v":"DWC"},{"$f":"'Bill of Materials'!C247","v":"0119-C5M9"},{"$f":"'Bill of Materials'!H247","v":"FMTRJ-SC-SM-6M"},null,null,null,0,{"$f":"'Bill of Materials'!J247","v":"standard material"},{"$f":"'Bill of Materials'!K247","v":"physical"},0]
[{"$f":"'Bill of Materials'!E248+'Bill of Materials'!F248","v":0},{"$f":"'Bill of Materials'!M248","v":"EA"},{"$f":"'Bill of Materials'!G248","v":"MTRJ/ST, MM Fiber Patch Cord, 62.5/125um, Duplex, 6 Meter, Riser "},{"$f":"'Bill of Materials'!L248","v":"DWC"},{"$f":"'Bill of Materials'!N248","v":28.4},{"$f":"'Bill of Materials'!P248","v":"DWC"},{"$f":"'Bill of Materials'!C248","v":"10129"},{"$f":"'Bill of Materials'!H248","v":"M40369006M"},null,null,null,0,{"$f":"'Bill of Materials'!J248","v":"standard material"},{"$f":"'Bill of Materials'!K248","v":"physical"},0]
[{"$f":"'Bill of Materials'!E249+'Bill of Materials'!F249","v":0},{"$f":"'Bill of Materials'!M249","v":"EA"},{"$f":"'Bill of Materials'!G249","v":"LC/SC, SM Fiber Patch Cord, Duplex, 5 Meter, Riser, No Clips"},{"$f":"'Bill of Materials'!L249","v":"DWC"},{"$f":"'Bill of Materials'!N249","v":25.95},{"$f":"'Bill of Materials'!P249","v":"DWC"},{"$f":"'Bill of Materials'!C249","v":"10171"},{"$f":"'Bill of Materials'!H249","v":"ULC-USC-R20Z-002-Q-0005"},null,null,null,0,{"$f":"'Bill of Materials'!J249","v":"standard material"},{"$f":"'Bill of Materials'!K249","v":"physical"},0]
[{"$f":"'Bill of Materials'!E250+'Bill of Materials'!F250","v":0},{"$f":"'Bill of Materials'!M250","v":"EA"},{"$f":"'Bill of Materials'!G250","v":"Label Core, Yellow, Cable Identification Sleeve for 2mm Simplex Fiber Patch Cord, 100/Package"},{"$f":"'Bill of Materials'!L250","v":"Panduit"},{"$f":"'Bill of Materials'!N250","v":6.1},{"$f":"'Bill of Materials'!P250","v":"DWC"},{"$f":"'Bill of Materials'!C250","v":"10318"},{"$f":"'Bill of Materials'!H250","v":"NWSLC-2Y"},null,null,null,0,{"$f":"'Bill of Materials'!J250","v":"standard material"},{"$f":"'Bill of Materials'!K250","v":"physical"},0]
[{"$f":"'Bill of Materials'!E251+'Bill of Materials'!F251","v":0},{"$f":"'Bill of Materials'!M251","v":"EA"},{"$f":"'Bill of Materials'!G251","v":"Label Core, Orange, Cable Identification Sleeve for 3mm Simplex Fiber Patch Cord, 100/Package"},{"$f":"'Bill of Materials'!L251","v":"Panduit"},{"$f":"'Bill of Materials'!N251","v":6.1},{"$f":"'Bill of Materials'!P251","v":"DWC"},{"$f":"'Bill of Materials'!C251","v":"10319"},{"$f":"'Bill of Materials'!H251","v":"NWSLC-3Y"},null,null,null,0,{"$f":"'Bill of Materials'!J251","v":"standard material"},{"$f":"'Bill of Materials'!K251","v":"physical"},0]
[{"$f":"'Bill of Materials'!E252+'Bill of Materials'!F252","v":0},{"$f":"'Bill of Materials'!M252","v":"EA"},{"$f":"'Bill of Materials'!G252","v":"Label Core, White, Cable Identification Sleeve for 3mm Duplex Fiber Patch Cord, 100/Package"},{"$f":"'Bill of Materials'!L252","v":"Panduit"},{"$f":"'Bill of Materials'!N252","v":10.55},{"$f":"'Bill of Materials'!P252","v":"DWC"},{"$f":"'Bill of Materials'!C252","v":"10320"},{"$f":"'Bill of Materials'!H252","v":"NWSLC-7Y"},null,null,null,0,{"$f":"'Bill of Materials'!J252","v":"standard material"},{"$f":"'Bill of Materials'!K252","v":"physical"},0]
[{"$f":"'Bill of Materials'!E253+'Bill of Materials'!F253","v":0},{"$f":"'Bill of Materials'!M253","v":"EA"},{"$f":"'Bill of Materials'!G253","v":"LC/LC, MM (50 µm OM3), HD Fiber Patch Cord-LC Uniboots-Polarity Reversable, Corning Ultra Bend, (2) Fiber-2.0/2.4 dia. Round, Plenum, Aqua, Length/Meters 001"},{"$f":"'Bill of Materials'!L253","v":"DWC"},{"$f":"'Bill of Materials'!N253","v":39.450000000000003},{"$f":"'Bill of Materials'!P253","v":"DWC"},{"$f":"'Bill of Materials'!C253","v":"10350"},{"$f":"'Bill of Materials'!H253","v":"DWF-C263231-001M"},null,null,null,0,{"$f":"'Bill of Materials'!J253","v":"standard material"},{"$f":"'Bill of Materials'!K253","v":"physical"},0]
[{"$f":"'Bill of Materials'!E254+'Bill of Materials'!F254","v":0},{"$f":"'Bill of Materials'!M254","v":"EA"},{"$f":"'Bill of Materials'!G254","v":"LC/LC, MM (50 µm OM3), HD Fiber Patch Cord-LC Uniboots-Polarity Reversable, Corning Ultra Bend, (2) Fiber-2.0/2.4 dia. Round, Plenum, Aqua, Length/Meters 002"},{"$f":"'Bill of Materials'!L254","v":"DWC"},{"$f":"'Bill of Materials'!N254","v":40.1},{"$f":"'Bill of Materials'!P254","v":"DWC"},{"$f":"'Bill of Materials'!C254","v":"10351"},{"$f":"'Bill of Materials'!H254","v":"DWF-C263231-002M"},null,null,null,0,{"$f":"'Bill of Materials'!J254","v":"standard material"},{"$f":"'Bill of Materials'!K254","v":"physical"},0]
[{"$f":"'Bill of Materials'!E255+'Bill of Materials'!F255","v":0},{"$f":"'Bill of Materials'!M255","v":"EA"},{"$f":"'Bill of Materials'!G255","v":"LC/LC, MM (50 µm OM3), HD Fiber Patch Cord-LC Uniboots-Polarity Reversable, Corning Ultra Bend, (2) Fiber-2.0/2.4 dia. Round, Plenum, Aqua, Length/Meters 003"},{"$f":"'Bill of Materials'!L255","v":"DWC"},{"$f":"'Bill of Materials'!N255","v":40.799999999999997},{"$f":"'Bill of Materials'!P255","v":"DWC"},{"$f":"'Bill of Materials'!C255","v":"10352"},{"$f":"'Bill of Materials'!H255","v":"DWF-C263231-003M"},null,null,null,0,{"$f":"'Bill of Materials'!J255","v":"standard material"},{"$f":"'Bill of Materials'!K255","v":"physical"},0]
[{"$f":"'Bill of Materials'!E256+'Bill of Materials'!F256","v":0},{"$f":"'Bill of Materials'!M256","v":"EA"},{"$f":"'Bill of Materials'!G256","v":"LC/LC, MM (50 µm OM3), HD Fiber Patch Cord-LC Uniboots-Polarity Reversable, Corning Ultra Bend, (2) Fiber-2.0/2.4 dia. Round, Plenum, Aqua, Length/Meters 004"},{"$f":"'Bill of Materials'!L256","v":"DWC"},{"$f":"'Bill of Materials'!N256","v":41.85},{"$f":"'Bill of Materials'!P256","v":"DWC"},{"$f":"'Bill of Materials'!C256","v":"10353"},{"$f":"'Bill of Materials'!H256","v":"DWF-C263231-004M"},null,null,null,0,{"$f":"'Bill of Materials'!J256","v":"standard material"},{"$f":"'Bill of Materials'!K256","v":"physical"},0]
[{"$f":"'Bill of Materials'!E257+'Bill of Materials'!F257","v":0},{"$f":"'Bill of Materials'!M257","v":"EA"},{"$f":"'Bill of Materials'!G257","v":"LC/LC, MM (50 µm OM3), HD Fiber Patch Cord-LC Uniboots-Polarity Reversable, Corning Ultra Bend, (2) Fiber-2.0/2.4 dia. Round, Plenum, Aqua, Length/Meters 005"},{"$f":"'Bill of Materials'!L257","v":"DWC"},{"$f":"'Bill of Materials'!N257","v":43.1},{"$f":"'Bill of Materials'!P257","v":"DWC"},{"$f":"'Bill of Materials'!C257","v":"10354"},{"$f":"'Bill of Materials'!H257","v":"DWF-C263231-005M"},null,null,null,0,{"$f":"'Bill of Materials'!J257","v":"standard material"},{"$f":"'Bill of Materials'!K257","v":"physical"},0]
[{"$f":"'Bill of Materials'!E258+'Bill of Materials'!F258","v":0},{"$f":"'Bill of Materials'!M258","v":"EA"},{"$f":"'Bill of Materials'!G258","v":"LC/LC, MM (50 µm OM3), HD Fiber Patch Cord-LC Uniboots-Polarity Reversable, Corning Ultra Bend, (2) Fiber-2.0/2.4 dia. Round, Plenum, Aqua, Length/Meters 006"},{"$f":"'Bill of Materials'!L258","v":"DWC"},{"$f":"'Bill of Materials'!N258","v":45.55},{"$f":"'Bill of Materials'!P258","v":"DWC"},{"$f":"'Bill of Materials'!C258","v":"10355"},{"$f":"'Bill of Materials'!H258","v":"DWF-C263231-006M"},null,null,null,0,{"$f":"'Bill of Materials'!J258","v":"standard material"},{"$f":"'Bill of Materials'!K258","v":"physical"},0]
[{"$f":"'Bill of Materials'!E259+'Bill of Materials'!F259","v":0},{"$f":"'Bill of Materials'!M259","v":"EA"},{"$f":"'Bill of Materials'!G259","v":"LC/LC, MM (50 µm OM3), HD Fiber Patch Cord-LC Uniboots-Polarity Reversable, Corning Ultra Bend, (2) Fiber-2.0/2.4 dia. Round, Plenum, Aqua, Length/Meters 007"},{"$f":"'Bill of Materials'!L259","v":"DWC"},{"$f":"'Bill of Materials'!N259","v":47.95},{"$f":"'Bill of Materials'!P259","v":"DWC"},{"$f":"'Bill of Materials'!C259","v":"10356"},{"$f":"'Bill of Materials'!H259","v":"DWF-C263231-007M"},null,null,null,{"$f":"E278*A278","v":0},{"$f":"'Bill of Materials'!J259","v":"standard material"},{"$f":"'Bill of Materials'!K259","v":"physical"},{"$f":"IF(A278>0,1,0)","v":0}]
[{"$f":"'Bill of Materials'!E260+'Bill of Materials'!F260","v":0},{"$f":"'Bill of Materials'!M260","v":"EA"},{"$f":"'Bill of Materials'!G260","v":"LC/LC, MM (50 µm OM3), HD Fiber Patch Cord-LC Uniboots-Polarity Reversable, Corning Ultra Bend, (2) Fiber-2.0/2.4 dia. Round, Plenum, Aqua, Length/Meters 008"},{"$f":"'Bill of Materials'!L260","v":"DWC"},{"$f":"'Bill of Materials'!N260","v":50.4},{"$f":"'Bill of Materials'!P260","v":"DWC"},{"$f":"'Bill of Materials'!C260","v":"10357"},{"$f":"'Bill of Materials'!H260","v":"DWF-C263231-008M"},null,null,null,0,{"$f":"'Bill of Materials'!J260","v":"standard material"},{"$f":"'Bill of Materials'!K260","v":"physical"},0]
[{"$f":"'Bill of Materials'!E261+'Bill of Materials'!F261","v":0},{"$f":"'Bill of Materials'!M261","v":"EA"},{"$f":"'Bill of Materials'!G261","v":"LC/LC, MM (50 µm OM3), HD Fiber Patch Cord-LC Uniboots-Polarity Reversable, Corning Ultra Bend, (2) Fiber-2.0/2.4 dia. Round, Plenum, Aqua, Length/Meters 009"},{"$f":"'Bill of Materials'!L261","v":"DWC"},{"$f":"'Bill of Materials'!N261","v":52.8},{"$f":"'Bill of Materials'!P261","v":"DWC"},{"$f":"'Bill of Materials'!C261","v":"10358"},{"$f":"'Bill of Materials'!H261","v":"DWF-C263231-009M"},null,null,null,0,{"$f":"'Bill of Materials'!J261","v":"standard material"},{"$f":"'Bill of Materials'!K261","v":"physical"},0]
[{"$f":"'Bill of Materials'!E262+'Bill of Materials'!F262","v":0},{"$f":"'Bill of Materials'!M262","v":"EA"},{"$f":"'Bill of Materials'!G262","v":"LC/LC, MM (50 µm OM3), HD Fiber Patch Cord-LC Uniboots-Polarity Reversable, Corning Ultra Bend, (2) Fiber-2.0/2.4 dia. Round, Plenum, Aqua, Length/Meters 010"},{"$f":"'Bill of Materials'!L262","v":"DWC"},{"$f":"'Bill of Materials'!N262","v":55.2},{"$f":"'Bill of Materials'!P262","v":"DWC"},{"$f":"'Bill of Materials'!C262","v":"10359"},{"$f":"'Bill of Materials'!H262","v":"DWF-C263231-010M"},null,null,null,0,{"$f":"'Bill of Materials'!J262","v":"standard material"},{"$f":"'Bill of Materials'!K262","v":"physical"},0]
[{"$f":"'Bill of Materials'!E263+'Bill of Materials'!F263","v":0},{"$f":"'Bill of Materials'!M263","v":"EA"},{"$f":"'Bill of Materials'!G263","v":"LC/LC, MM (50 µm OM3), HD Fiber Patch Cord-LC Uniboots-Polarity Reversable, Corning Ultra Bend, (2) Fiber-2.0/2.4 dia. Round, Plenum, Aqua, Length/Meters 011"},{"$f":"'Bill of Materials'!L263","v":"DWC"},{"$f":"'Bill of Materials'!N263","v":57.62},{"$f":"'Bill of Materials'!P263","v":"DWC"},{"$f":"'Bill of Materials'!C263","v":"10360"},{"$f":"'Bill of Materials'!H263","v":"DWF-C263231-011M"},null,null,null,0,{"$f":"'Bill of Materials'!J263","v":"standard material"},{"$f":"'Bill of Materials'!K263","v":"physical"},0]
[{"$f":"'Bill of Materials'!E264+'Bill of Materials'!F264","v":0},{"$f":"'Bill of Materials'!M264","v":"EA"},{"$f":"'Bill of Materials'!G264","v":"LC/LC, MM (50 µm OM3), HD Fiber Patch Cord-LC Uniboots-Polarity Reversable, Corning Ultra Bend, (2) Fiber-2.0/2.4 dia. Round, Plenum, Aqua, Length/Meters 012"},{"$f":"'Bill of Materials'!L264","v":"DWC"},{"$f":"'Bill of Materials'!N264","v":60.05},{"$f":"'Bill of Materials'!P264","v":"DWC"},{"$f":"'Bill of Materials'!C264","v":"10361"},{"$f":"'Bill of Materials'!H264","v":"DWF-C263231-012M"},null,null,null,0,{"$f":"'Bill of Materials'!J264","v":"standard material"},{"$f":"'Bill of Materials'!K264","v":"physical"},0]
[{"$f":"'Bill of Materials'!E265+'Bill of Materials'!F265","v":0},{"$f":"'Bill of Materials'!M265","v":"EA"},{"$f":"'Bill of Materials'!G265","v":"LC/LC, MM (50 µm OM3), HD Fiber Patch Cord-LC Uniboots-Polarity Reversable, Corning Ultra Bend, (2) Fiber-2.0/2.4 dia. Round, Plenum, Aqua, Length/Meters 013"},{"$f":"'Bill of Materials'!L265","v":"DWC"},{"$f":"'Bill of Materials'!N265","v":62.5},{"$f":"'Bill of Materials'!P265","v":"DWC"},{"$f":"'Bill of Materials'!C265","v":"10362"},{"$f":"'Bill of Materials'!H265","v":"DWF-C263231-013M"},null,null,null,0,{"$f":"'Bill of Materials'!J265","v":"standard material"},{"$f":"'Bill of Materials'!K265","v":"physical"},0]
[{"$f":"'Bill of Materials'!E266+'Bill of Materials'!F266","v":0},{"$f":"'Bill of Materials'!M266","v":"EA"},{"$f":"'Bill of Materials'!G266","v":"LC/LC, MM (50 µm OM3), HD Fiber Patch Cord-LC Uniboots-Polarity Reversable, Corning Ultra Bend, (2) Fiber-2.0/2.4 dia. Round, Plenum, Aqua, Length/Meters 014"},{"$f":"'Bill of Materials'!L266","v":"DWC"},{"$f":"'Bill of Materials'!N266","v":64.900000000000006},{"$f":"'Bill of Materials'!P266","v":"DWC"},{"$f":"'Bill of Materials'!C266","v":"10363"},{"$f":"'Bill of Materials'!H266","v":"DWF-C263231-014M"},null,null,null,0,{"$f":"'Bill of Materials'!J266","v":"standard material"},{"$f":"'Bill of Materials'!K266","v":"physical"},0]
[{"$f":"'Bill of Materials'!E267+'Bill of Materials'!F267","v":0},{"$f":"'Bill of Materials'!M267","v":"EA"},{"$f":"'Bill of Materials'!G267","v":"LC/LC, MM (50 µm OM3), HD Fiber Patch Cord-LC Uniboots-Polarity Reversable, Corning Ultra Bend, (2) Fiber-2.0/2.4 dia. Round, Plenum, Aqua, Length/Meters 015"},{"$f":"'Bill of Materials'!L267","v":"DWC"},{"$f":"'Bill of Materials'!N267","v":67.3},{"$f":"'Bill of Materials'!P267","v":"DWC"},{"$f":"'Bill of Materials'!C267","v":"10364"},{"$f":"'Bill of Materials'!H267","v":"DWF-C263231-015M"},null,null,null,0,{"$f":"'Bill of Materials'!J267","v":"standard material"},{"$f":"'Bill of Materials'!K267","v":"physical"},0]
[{"$f":"'Bill of Materials'!E268+'Bill of Materials'!F268","v":0},{"$f":"'Bill of Materials'!M268","v":"EA"},{"$f":"'Bill of Materials'!G268","v":"LC/LC, MM (50 µm OM3), HD Fiber Patch Cord-LC Uniboots-Polarity Reversable, Corning Ultra Bend, (2) Fiber-2.0/2.4 dia. Round, Plenum, Aqua, Length/Meters 016"},{"$f":"'Bill of Materials'!L268","v":"DWC"},{"$f":"'Bill of Materials'!N268","v":69.75},{"$f":"'Bill of Materials'!P268","v":"DWC"},{"$f":"'Bill of Materials'!C268","v":"10365"},{"$f":"'Bill of Materials'!H268","v":"DWF-C263231-016M"},null,null,null,0,{"$f":"'Bill of Materials'!J268","v":"standard material"},{"$f":"'Bill of Materials'!K268","v":"physical"},0]
[{"$f":"'Bill of Materials'!E269+'Bill of Materials'!F269","v":0},{"$f":"'Bill of Materials'!M269","v":"EA"},{"$f":"'Bill of Materials'!G269","v":"LC/LC, MM (50 µm OM3), HD Fiber Patch Cord-LC Uniboots-Polarity Reversable, Corning Ultra Bend, (2) Fiber-2.0/2.4 dia. Round, Plenum, Aqua, Length/Meters 017"},{"$f":"'Bill of Materials'!L269","v":"DWC"},{"$f":"'Bill of Materials'!N269","v":72.150000000000006},{"$f":"'Bill of Materials'!P269","v":"DWC"},{"$f":"'Bill of Materials'!C269","v":"10366"},{"$f":"'Bill of Materials'!H269","v":"DWF-C263231-017M"},null,null,null,0,{"$f":"'Bill of Materials'!J269","v":"standard material"},{"$f":"'Bill of Materials'!K269","v":"physical"},0]
[{"$f":"'Bill of Materials'!E270+'Bill of Materials'!F270","v":0},{"$f":"'Bill of Materials'!M270","v":"EA"},{"$f":"'Bill of Materials'!G270","v":"LC/LC, MM (50 µm OM3), HD Fiber Patch Cord-LC Uniboots-Polarity Reversable, Corning Ultra Bend, (2) Fiber-2.0/2.4 dia. Round, Plenum, Aqua, Length/Meters 018"},{"$f":"'Bill of Materials'!L270","v":"DWC"},{"$f":"'Bill of Materials'!N270","v":74.599999999999994},{"$f":"'Bill of Materials'!P270","v":"DWC"},{"$f":"'Bill of Materials'!C270","v":"10367"},{"$f":"'Bill of Materials'!H270","v":"DWF-C263231-018M"},null,null,null,0,{"$f":"'Bill of Materials'!J270","v":"standard material"},{"$f":"'Bill of Materials'!K270","v":"physical"},0]
[{"$f":"'Bill of Materials'!E271+'Bill of Materials'!F271","v":0},{"$f":"'Bill of Materials'!M271","v":"EA"},{"$f":"'Bill of Materials'!G271","v":"LC/LC, MM (50 µm OM3), HD Fiber Patch Cord-LC Uniboots-Polarity Reversable, Corning Ultra Bend, (2) Fiber-2.0/2.4 dia. Round, Plenum, Aqua, Length/Meters 019"},{"$f":"'Bill of Materials'!L271","v":"DWC"},{"$f":"'Bill of Materials'!N271","v":77},{"$f":"'Bill of Materials'!P271","v":"DWC"},{"$f":"'Bill of Materials'!C271","v":"10368"},{"$f":"'Bill of Materials'!H271","v":"DWF-C263231-019M"},null,null,null,0,{"$f":"'Bill of Materials'!J271","v":"standard material"},{"$f":"'Bill of Materials'!K271","v":"physical"},0]
[{"$f":"'Bill of Materials'!E272+'Bill of Materials'!F272","v":0},{"$f":"'Bill of Materials'!M272","v":"EA"},{"$f":"'Bill of Materials'!G272","v":"LC/LC, MM (50 µm OM3), HD Fiber Patch Cord-LC Uniboots-Polarity Reversable, Corning Ultra Bend, (2) Fiber-2.0/2.4 dia. Round, Plenum, Aqua, Length/Meters 020"},{"$f":"'Bill of Materials'!L272","v":"DWC"},{"$f":"'Bill of Materials'!N272","v":79.400000000000006},{"$f":"'Bill of Materials'!P272","v":"DWC"},{"$f":"'Bill of Materials'!C272","v":"10369"},{"$f":"'Bill of Materials'!H272","v":"DWF-C263231-020M"},null,null,null,0,{"$f":"'Bill of Materials'!J272","v":"standard material"},{"$f":"'Bill of Materials'!K272","v":"physical"},0]
[{"$f":"'Bill of Materials'!E273+'Bill of Materials'!F273","v":0},{"$f":"'Bill of Materials'!M273","v":"EA"},{"$f":"'Bill of Materials'!G273","v":"LC/SC, MM (50 µm OM3), HD Fiber Patch Cord-LC Uniboot-Polarity Reversable, SC Uniboot-Polarity Fixed, Corning Ultra Bend, (2) Fiber-2.0/2.4 dia. Round, Plenum, Aqua, Length/Meters 001"},{"$f":"'Bill of Materials'!L273","v":"DWC"},{"$f":"'Bill of Materials'!N273","v":45.55},{"$f":"'Bill of Materials'!P273","v":"DWC"},{"$f":"'Bill of Materials'!C273","v":"10370"},{"$f":"'Bill of Materials'!H273","v":"DWF-C263232-001M"},null,null,null,0,{"$f":"'Bill of Materials'!J273","v":"standard material"},{"$f":"'Bill of Materials'!K273","v":"physical"},0]
[{"$f":"'Bill of Materials'!E274+'Bill of Materials'!F274","v":0},{"$f":"'Bill of Materials'!M274","v":"EA"},{"$f":"'Bill of Materials'!G274","v":"LC/SC, MM (50 µm OM3), HD Fiber Patch Cord-LC Uniboot-Polarity Reversable, SC Uniboot-Polarity Fixed, Corning Ultra Bend, (2) Fiber-2.0/2.4 dia. Round, Plenum, Aqua, Length/Meters 002"},{"$f":"'Bill of Materials'!L274","v":"DWC"},{"$f":"'Bill of Materials'!N274","v":46.25},{"$f":"'Bill of Materials'!P274","v":"DWC"},{"$f":"'Bill of Materials'!C274","v":"10371"},{"$f":"'Bill of Materials'!H274","v":"DWF-C263232-002M"},null,null,null,0,{"$f":"'Bill of Materials'!J274","v":"standard material"},{"$f":"'Bill of Materials'!K274","v":"physical"},0]
[{"$f":"'Bill of Materials'!E275+'Bill of Materials'!F275","v":0},{"$f":"'Bill of Materials'!M275","v":"EA"},{"$f":"'Bill of Materials'!G275","v":"LC/SC, MM (50 µm OM3), HD Fiber Patch Cord-LC Uniboot-Polarity Reversable, SC Uniboot-Polarity Fixed, Corning Ultra Bend, (2) Fiber-2.0/2.4 dia. Round, Plenum, Aqua, Length/Meters 003"},{"$f":"'Bill of Materials'!L275","v":"DWC"},{"$f":"'Bill of Materials'!N275","v":46.9},{"$f":"'Bill of Materials'!P275","v":"DWC"},{"$f":"'Bill of Materials'!C275","v":"10372"},{"$f":"'Bill of Materials'!H275","v":"DWF-C263232-003M"},null,null,null,0,{"$f":"'Bill of Materials'!J275","v":"standard material"},{"$f":"'Bill of Materials'!K275","v":"physical"},0]
[{"$f":"'Bill of Materials'!E276+'Bill of Materials'!F276","v":0},{"$f":"'Bill of Materials'!M276","v":"EA"},{"$f":"'Bill of Materials'!G276","v":"LC/SC, MM (50 µm OM3), HD Fiber Patch Cord-LC Uniboot-Polarity Reversable, SC Uniboot-Polarity Fixed, Corning Ultra Bend, (2) Fiber-2.0/2.4 dia. Round, Plenum, Aqua, Length/Meters 004"},{"$f":"'Bill of Materials'!L276","v":"DWC"},{"$f":"'Bill of Materials'!N276","v":47.6},{"$f":"'Bill of Materials'!P276","v":"DWC"},{"$f":"'Bill of Materials'!C276","v":"10373"},{"$f":"'Bill of Materials'!H276","v":"DWF-C263232-004M"},null,null,null,0,{"$f":"'Bill of Materials'!J276","v":"standard material"},{"$f":"'Bill of Materials'!K276","v":"physical"},0]
[{"$f":"'Bill of Materials'!E277+'Bill of Materials'!F277","v":0},{"$f":"'Bill of Materials'!M277","v":"EA"},{"$f":"'Bill of Materials'!G277","v":"LC/SC, MM (50 µm OM3), HD Fiber Patch Cord-LC Uniboot-Polarity Reversable, SC Uniboot-Polarity Fixed, Corning Ultra Bend, (2) Fiber-2.0/2.4 dia. Round, Plenum, Aqua, Length/Meters 005"},{"$f":"'Bill of Materials'!L277","v":"DWC"},{"$f":"'Bill of Materials'!N277","v":48},{"$f":"'Bill of Materials'!P277","v":"DWC"},{"$f":"'Bill of Materials'!C277","v":"10374"},{"$f":"'Bill of Materials'!H277","v":"DWF-C263232-005M"},null,null,null,0,{"$f":"'Bill of Materials'!J277","v":"standard material"},{"$f":"'Bill of Materials'!K277","v":"physical"},0]
[{"$f":"'Bill of Materials'!E278+'Bill of Materials'!F278","v":0},{"$f":"'Bill of Materials'!M278","v":"EA"},{"$f":"'Bill of Materials'!G278","v":"LC/SC, MM (50 µm OM3), HD Fiber Patch Cord-LC Uniboot-Polarity Reversable, SC Uniboot-Polarity Fixed, Corning Ultra Bend, (2) Fiber-2.0/2.4 dia. Round, Plenum, Aqua, Length/Meters 006"},{"$f":"'Bill of Materials'!L278","v":"DWC"},{"$f":"'Bill of Materials'!N278","v":50.45},{"$f":"'Bill of Materials'!P278","v":"DWC"},{"$f":"'Bill of Materials'!C278","v":"10375"},{"$f":"'Bill of Materials'!H278","v":"DWF-C263232-006M"},null,null,null,0,{"$f":"'Bill of Materials'!J278","v":"standard material"},{"$f":"'Bill of Materials'!K278","v":"physical"},0]
[{"$f":"'Bill of Materials'!E279+'Bill of Materials'!F279","v":0},{"$f":"'Bill of Materials'!M279","v":"EA"},{"$f":"'Bill of Materials'!G279","v":"LC/SC, MM (50 µm OM3), HD Fiber Patch Cord-LC Uniboot-Polarity Reversable, SC Uniboot-Polarity Fixed, Corning Ultra Bend, (2) Fiber-2.0/2.4 dia. Round, Plenum, Aqua, Length/Meters 007"},{"$f":"'Bill of Materials'!L279","v":"DWC"},{"$f":"'Bill of Materials'!N279","v":52.85},{"$f":"'Bill of Materials'!P279","v":"DWC"},{"$f":"'Bill of Materials'!C279","v":"10376"},{"$f":"'Bill of Materials'!H279","v":"DWF-C263232-007M"},null,null,null,0,{"$f":"'Bill of Materials'!J279","v":"standard material"},{"$f":"'Bill of Materials'!K279","v":"physical"},0]
[{"$f":"'Bill of Materials'!E280+'Bill of Materials'!F280","v":0},{"$f":"'Bill of Materials'!M280","v":"EA"},{"$f":"'Bill of Materials'!G280","v":"LC/SC, MM (50 µm OM3), HD Fiber Patch Cord-LC Uniboot-Polarity Reversable, SC Uniboot-Polarity Fixed, Corning Ultra Bend, (2) Fiber-2.0/2.4 dia. Round, Plenum, Aqua, Length/Meters 008"},{"$f":"'Bill of Materials'!L280","v":"DWC"},{"$f":"'Bill of Materials'!N280","v":55.3},{"$f":"'Bill of Materials'!P280","v":"DWC"},{"$f":"'Bill of Materials'!C280","v":"10377"},{"$f":"'Bill of Materials'!H280","v":"DWF-C263232-008M"},null,null,null,0,{"$f":"'Bill of Materials'!J280","v":"standard material"},{"$f":"'Bill of Materials'!K280","v":"physical"},0]
[{"$f":"'Bill of Materials'!E281+'Bill of Materials'!F281","v":0},{"$f":"'Bill of Materials'!M281","v":"EA"},{"$f":"'Bill of Materials'!G281","v":"LC/SC, MM (50 µm OM3), HD Fiber Patch Cord-LC Uniboot-Polarity Reversable, SC Uniboot-Polarity Fixed, Corning Ultra Bend, (2) Fiber-2.0/2.4 dia. Round, Plenum, Aqua, Length/Meters 009"},{"$f":"'Bill of Materials'!L281","v":"DWC"},{"$f":"'Bill of Materials'!N281","v":57.7},{"$f":"'Bill of Materials'!P281","v":"DWC"},{"$f":"'Bill of Materials'!C281","v":"10378"},{"$f":"'Bill of Materials'!H281","v":"DWF-C263232-009M"},null,null,null,0,{"$f":"'Bill of Materials'!J281","v":"standard material"},{"$f":"'Bill of Materials'!K281","v":"physical"},0]
[{"$f":"'Bill of Materials'!E282+'Bill of Materials'!F282","v":0},{"$f":"'Bill of Materials'!M282","v":"EA"},{"$f":"'Bill of Materials'!G282","v":"LC/SC, MM (50 µm OM3), HD Fiber Patch Cord-LC Uniboot-Polarity Reversable, SC Uniboot-Polarity Fixed, Corning Ultra Bend, (2) Fiber-2.0/2.4 dia. Round, Plenum, Aqua, Length/Meters 010"},{"$f":"'Bill of Materials'!L282","v":"DWC"},{"$f":"'Bill of Materials'!N282","v":60.1},{"$f":"'Bill of Materials'!P282","v":"DWC"},{"$f":"'Bill of Materials'!C282","v":"10379"},{"$f":"'Bill of Materials'!H282","v":"DWF-C263232-010M"},null,null,null,0,{"$f":"'Bill of Materials'!J282","v":"standard material"},{"$f":"'Bill of Materials'!K282","v":"physical"},0]
[{"$f":"'Bill of Materials'!E283+'Bill of Materials'!F283","v":0},{"$f":"'Bill of Materials'!M283","v":"EA"},{"$f":"'Bill of Materials'!G283","v":"LC/SC, MM (50 µm OM3), HD Fiber Patch Cord-LC Uniboot-Polarity Reversable, SC Uniboot-Polarity Fixed, Corning Ultra Bend, (2) Fiber-2.0/2.4 dia. Round, Plenum, Aqua, Length/Meters 011"},{"$f":"'Bill of Materials'!L283","v":"DWC"},{"$f":"'Bill of Materials'!N283","v":62.55},{"$f":"'Bill of Materials'!P283","v":"DWC"},{"$f":"'Bill of Materials'!C283","v":"10380"},{"$f":"'Bill of Materials'!H283","v":"DWF-C263232-011M"},null,null,null,0,{"$f":"'Bill of Materials'!J283","v":"standard material"},{"$f":"'Bill of Materials'!K283","v":"physical"},0]
[{"$f":"'Bill of Materials'!E284+'Bill of Materials'!F284","v":0},{"$f":"'Bill of Materials'!M284","v":"EA"},{"$f":"'Bill of Materials'!G284","v":"LC/SC, MM (50 µm OM3), HD Fiber Patch Cord-LC Uniboot-Polarity Reversable, SC Uniboot-Polarity Fixed, Corning Ultra Bend, (2) Fiber-2.0/2.4 dia. Round, Plenum, Aqua, Length/Meters 012"},{"$f":"'Bill of Materials'!L284","v":"DWC"},{"$f":"'Bill of Materials'!N284","v":64.95},{"$f":"'Bill of Materials'!P284","v":"DWC"},{"$f":"'Bill of Materials'!C284","v":"10381"},{"$f":"'Bill of Materials'!H284","v":"DWF-C263232-012M"},null,null,null,0,{"$f":"'Bill of Materials'!J284","v":"standard material"},{"$f":"'Bill of Materials'!K284","v":"physical"},0]
[{"$f":"'Bill of Materials'!E285+'Bill of Materials'!F285","v":0},{"$f":"'Bill of Materials'!M285","v":"EA"},{"$f":"'Bill of Materials'!G285","v":"LC/SC, MM (50 µm OM3), HD Fiber Patch Cord-LC Uniboot-Polarity Reversable, SC Uniboot-Polarity Fixed, Corning Ultra Bend, (2) Fiber-2.0/2.4 dia. Round, Plenum, Aqua, Length/Meters 013"},{"$f":"'Bill of Materials'!L285","v":"DWC"},{"$f":"'Bill of Materials'!N285","v":67.400000000000006},{"$f":"'Bill of Materials'!P285","v":"DWC"},{"$f":"'Bill of Materials'!C285","v":"10382"},{"$f":"'Bill of Materials'!H285","v":"DWF-C263232-013M"},null,null,null,0,{"$f":"'Bill of Materials'!J285","v":"standard material"},{"$f":"'Bill of Materials'!K285","v":"physical"},0]
[{"$f":"'Bill of Materials'!E286+'Bill of Materials'!F286","v":0},{"$f":"'Bill of Materials'!M286","v":"EA"},{"$f":"'Bill of Materials'!G286","v":"LC/SC, MM (50 µm OM3), HD Fiber Patch Cord-LC Uniboot-Polarity Reversable, SC Uniboot-Polarity Fixed, Corning Ultra Bend, (2) Fiber-2.0/2.4 dia. Round, Plenum, Aqua, Length/Meters 014"},{"$f":"'Bill of Materials'!L286","v":"DWC"},{"$f":"'Bill of Materials'!N286","v":69.8},{"$f":"'Bill of Materials'!P286","v":"DWC"},{"$f":"'Bill of Materials'!C286","v":"10383"},{"$f":"'Bill of Materials'!H286","v":"DWF-C263232-014M"},null,null,null,0,{"$f":"'Bill of Materials'!J286","v":"standard material"},{"$f":"'Bill of Materials'!K286","v":"physical"},0]
[{"$f":"'Bill of Materials'!E287+'Bill of Materials'!F287","v":0},{"$f":"'Bill of Materials'!M287","v":"EA"},{"$f":"'Bill of Materials'!G287","v":"LC/SC, MM (50 µm OM3), HD Fiber Patch Cord-LC Uniboot-Polarity Reversable, SC Uniboot-Polarity Fixed, Corning Ultra Bend, (2) Fiber-2.0/2.4 dia. Round, Plenum, Aqua, Length/Meters 015"},{"$f":"'Bill of Materials'!L287","v":"DWC"},{"$f":"'Bill of Materials'!N287","v":72.2},{"$f":"'Bill of Materials'!P287","v":"DWC"},{"$f":"'Bill of Materials'!C287","v":"10384"},{"$f":"'Bill of Materials'!H287","v":"DWF-C263232-015M"},null,null,null,0,{"$f":"'Bill of Materials'!J287","v":"standard material"},{"$f":"'Bill of Materials'!K287","v":"physical"},0]
[{"$f":"'Bill of Materials'!E288+'Bill of Materials'!F288","v":0},{"$f":"'Bill of Materials'!M288","v":"EA"},{"$f":"'Bill of Materials'!G288","v":"LC/SC, MM (50 µm OM3), HD Fiber Patch Cord-LC Uniboot-Polarity Reversable, SC Uniboot-Polarity Fixed, Corning Ultra Bend, (2) Fiber-2.0/2.4 dia. Round, Plenum, Aqua, Length/Meters 016"},{"$f":"'Bill of Materials'!L288","v":"DWC"},{"$f":"'Bill of Materials'!N288","v":74.650000000000006},{"$f":"'Bill of Materials'!P288","v":"DWC"},{"$f":"'Bill of Materials'!C288","v":"10385"},{"$f":"'Bill of Materials'!H288","v":"DWF-C263232-016M"},null,null,null,0,{"$f":"'Bill of Materials'!J288","v":"standard material"},{"$f":"'Bill of Materials'!K288","v":"physical"},0]
[{"$f":"'Bill of Materials'!E289+'Bill of Materials'!F289","v":0},{"$f":"'Bill of Materials'!M289","v":"EA"},{"$f":"'Bill of Materials'!G289","v":"LC/SC, MM (50 µm OM3), HD Fiber Patch Cord-LC Uniboot-Polarity Reversable, SC Uniboot-Polarity Fixed, Corning Ultra Bend, (2) Fiber-2.0/2.4 dia. Round, Plenum, Aqua, Length/Meters 017"},{"$f":"'Bill of Materials'!L289","v":"DWC"},{"$f":"'Bill of Materials'!N289","v":77.05},{"$f":"'Bill of Materials'!P289","v":"DWC"},{"$f":"'Bill of Materials'!C289","v":"10386"},{"$f":"'Bill of Materials'!H289","v":"DWF-C263232-017M"},null,null,null,0,{"$f":"'Bill of Materials'!J289","v":"standard material"},{"$f":"'Bill of Materials'!K289","v":"physical"},0]
[{"$f":"'Bill of Materials'!E290+'Bill of Materials'!F290","v":0},{"$f":"'Bill of Materials'!M290","v":"EA"},{"$f":"'Bill of Materials'!G290","v":"LC/SC, MM (50 µm OM3), HD Fiber Patch Cord-LC Uniboot-Polarity Reversable, SC Uniboot-Polarity Fixed, Corning Ultra Bend, (2) Fiber-2.0/2.4 dia. Round, Plenum, Aqua, Length/Meters 018"},{"$f":"'Bill of Materials'!L290","v":"DWC"},{"$f":"'Bill of Materials'!N290","v":79.5},{"$f":"'Bill of Materials'!P290","v":"DWC"},{"$f":"'Bill of Materials'!C290","v":"10387"},{"$f":"'Bill of Materials'!H290","v":"DWF-C263232-018M"},null,null,null,0,{"$f":"'Bill of Materials'!J290","v":"standard material"},{"$f":"'Bill of Materials'!K290","v":"physical"},0]
[{"$f":"'Bill of Materials'!E291+'Bill of Materials'!F291","v":0},{"$f":"'Bill of Materials'!M291","v":"EA"},{"$f":"'Bill of Materials'!G291","v":"LC/SC, MM (50 µm OM3), HD Fiber Patch Cord-LC Uniboot-Polarity Reversable, SC Uniboot-Polarity Fixed, Corning Ultra Bend, (2) Fiber-2.0/2.4 dia. Round, Plenum, Aqua, Length/Meters 019"},{"$f":"'Bill of Materials'!L291","v":"DWC"},{"$f":"'Bill of Materials'!N291","v":81.900000000000006},{"$f":"'Bill of Materials'!P291","v":"DWC"},{"$f":"'Bill of Materials'!C291","v":"10388"},{"$f":"'Bill of Materials'!H291","v":"DWF-C263232-019M"},null,null,null,0,{"$f":"'Bill of Materials'!J291","v":"standard material"},{"$f":"'Bill of Materials'!K291","v":"physical"},0]
[{"$f":"'Bill of Materials'!E292+'Bill of Materials'!F292","v":0},{"$f":"'Bill of Materials'!M292","v":"EA"},{"$f":"'Bill of Materials'!G292","v":"LC/SC, MM (50 µm OM3), HD Fiber Patch Cord-LC Uniboot-Polarity Reversable, SC Uniboot-Polarity Fixed, Corning Ultra Bend, (2) Fiber-2.0/2.4 dia. Round, Plenum, Aqua, Length/Meters 020"},{"$f":"'Bill of Materials'!L292","v":"DWC"},{"$f":"'Bill of Materials'!N292","v":84.3},{"$f":"'Bill of Materials'!P292","v":"DWC"},{"$f":"'Bill of Materials'!C292","v":"10389"},{"$f":"'Bill of Materials'!H292","v":"DWF-C263232-020M"},null,null,null,0,{"$f":"'Bill of Materials'!J292","v":"standard material"},{"$f":"'Bill of Materials'!K292","v":"physical"},0]
[{"$f":"'Bill of Materials'!E293+'Bill of Materials'!F293","v":0},{"$f":"'Bill of Materials'!M293","v":"EA"},{"$f":"'Bill of Materials'!G293","v":"LC/LC, Singlemode (9/125), HD Fiber Patch Cord-LC Uniboots-Polarity Reversable, Corning Ultra Bend, (2) Fiber-2.0/2.4 dia. Round, Plenum, Yellow, Length/Meters 001"},{"$f":"'Bill of Materials'!L293","v":"DWC"},{"$f":"'Bill of Materials'!N293","v":40.75},{"$f":"'Bill of Materials'!P293","v":"DWC"},{"$f":"'Bill of Materials'!C293","v":"10390"},{"$f":"'Bill of Materials'!H293","v":"DWF-C263234-001M"},null,null,null,0,{"$f":"'Bill of Materials'!J293","v":"standard material"},{"$f":"'Bill of Materials'!K293","v":"physical"},0]
[{"$f":"'Bill of Materials'!E294+'Bill of Materials'!F294","v":0},{"$f":"'Bill of Materials'!M294","v":"EA"},{"$f":"'Bill of Materials'!G294","v":"LC/LC, Singlemode (9/125), HD Fiber Patch Cord-LC Uniboots-Polarity Reversable, Corning Ultra Bend, (2) Fiber-2.0/2.4 dia. Round, Plenum, Yellow, Length/Meters 002"},{"$f":"'Bill of Materials'!L294","v":"DWC"},{"$f":"'Bill of Materials'!N294","v":41.1},{"$f":"'Bill of Materials'!P294","v":"DWC"},{"$f":"'Bill of Materials'!C294","v":"10391"},{"$f":"'Bill of Materials'!H294","v":"DWF-C263234-002M"},null,null,null,0,{"$f":"'Bill of Materials'!J294","v":"standard material"},{"$f":"'Bill of Materials'!K294","v":"physical"},0]
[{"$f":"'Bill of Materials'!E295+'Bill of Materials'!F295","v":0},{"$f":"'Bill of Materials'!M295","v":"EA"},{"$f":"'Bill of Materials'!G295","v":"LC/LC, Singlemode (9/125), HD Fiber Patch Cord-LC Uniboots-Polarity Reversable, Corning Ultra Bend, (2) Fiber-2.0/2.4 dia. Round, Plenum, Yellow, Length/Meters 003"},{"$f":"'Bill of Materials'!L295","v":"DWC"},{"$f":"'Bill of Materials'!N295","v":41.85},{"$f":"'Bill of Materials'!P295","v":"DWC"},{"$f":"'Bill of Materials'!C295","v":"10392"},{"$f":"'Bill of Materials'!H295","v":"DWF-C263234-003M"},null,null,null,0,{"$f":"'Bill of Materials'!J295","v":"standard material"},{"$f":"'Bill of Materials'!K295","v":"physical"},0]
[{"$f":"'Bill of Materials'!E296+'Bill of Materials'!F296","v":0},{"$f":"'Bill of Materials'!M296","v":"EA"},{"$f":"'Bill of Materials'!G296","v":"LC/LC, Singlemode (9/125), HD Fiber Patch Cord-LC Uniboots-Polarity Reversable, Corning Ultra Bend, (2) Fiber-2.0/2.4 dia. Round, Plenum, Yellow, Length/Meters 004"},{"$f":"'Bill of Materials'!L296","v":"DWC"},{"$f":"'Bill of Materials'!N296","v":42.05},{"$f":"'Bill of Materials'!P296","v":"DWC"},{"$f":"'Bill of Materials'!C296","v":"10393"},{"$f":"'Bill of Materials'!H296","v":"DWF-C263234-004M"},null,null,null,0,{"$f":"'Bill of Materials'!J296","v":"standard material"},{"$f":"'Bill of Materials'!K296","v":"physical"},0]
[{"$f":"'Bill of Materials'!E297+'Bill of Materials'!F297","v":0},{"$f":"'Bill of Materials'!M297","v":"EA"},{"$f":"'Bill of Materials'!G297","v":"LC/LC, Singlemode (9/125), HD Fiber Patch Cord-LC Uniboots-Polarity Reversable, Corning Ultra Bend, (2) Fiber-2.0/2.4 dia. Round, Plenum, Yellow, Length/Meters 005"},{"$f":"'Bill of Materials'!L297","v":"DWC"},{"$f":"'Bill of Materials'!N297","v":42.6},{"$f":"'Bill of Materials'!P297","v":"DWC"},{"$f":"'Bill of Materials'!C297","v":"10394"},{"$f":"'Bill of Materials'!H297","v":"DWF-C263234-005M"},null,null,null,0,{"$f":"'Bill of Materials'!J297","v":"standard material"},{"$f":"'Bill of Materials'!K297","v":"physical"},0]
[{"$f":"'Bill of Materials'!E298+'Bill of Materials'!F298","v":0},{"$f":"'Bill of Materials'!M298","v":"EA"},{"$f":"'Bill of Materials'!G298","v":"LC/LC, Singlemode (9/125), HD Fiber Patch Cord-LC Uniboots-Polarity Reversable, Corning Ultra Bend, (2) Fiber-2.0/2.4 dia. Round, Plenum, Yellow, Length/Meters 006"},{"$f":"'Bill of Materials'!L298","v":"DWC"},{"$f":"'Bill of Materials'!N298","v":44.3},{"$f":"'Bill of Materials'!P298","v":"DWC"},{"$f":"'Bill of Materials'!C298","v":"10395"},{"$f":"'Bill of Materials'!H298","v":"DWF-C263234-006M"},null,null,null,0,{"$f":"'Bill of Materials'!J298","v":"standard material"},{"$f":"'Bill of Materials'!K298","v":"physical"},0]
[{"$f":"'Bill of Materials'!E299+'Bill of Materials'!F299","v":0},{"$f":"'Bill of Materials'!M299","v":"EA"},{"$f":"'Bill of Materials'!G299","v":"LC/LC, Singlemode (9/125), HD Fiber Patch Cord-LC Uniboots-Polarity Reversable, Corning Ultra Bend, (2) Fiber-2.0/2.4 dia. Round, Plenum, Yellow, Length/Meters 007"},{"$f":"'Bill of Materials'!L299","v":"DWC"},{"$f":"'Bill of Materials'!N299","v":46},{"$f":"'Bill of Materials'!P299","v":"DWC"},{"$f":"'Bill of Materials'!C299","v":"10396"},{"$f":"'Bill of Materials'!H299","v":"DWF-C263234-007M"},null,null,null,0,{"$f":"'Bill of Materials'!J299","v":"standard material"},{"$f":"'Bill of Materials'!K299","v":"physical"},0]
[{"$f":"'Bill of Materials'!E300+'Bill of Materials'!F300","v":0},{"$f":"'Bill of Materials'!M300","v":"EA"},{"$f":"'Bill of Materials'!G300","v":"LC/LC, Singlemode (9/125), HD Fiber Patch Cord-LC Uniboots-Polarity Reversable, Corning Ultra Bend, (2) Fiber-2.0/2.4 dia. Round, Plenum, Yellow, Length/Meters 008"},{"$f":"'Bill of Materials'!L300","v":"DWC"},{"$f":"'Bill of Materials'!N300","v":47.75},{"$f":"'Bill of Materials'!P300","v":"DWC"},{"$f":"'Bill of Materials'!C300","v":"10397"},{"$f":"'Bill of Materials'!H300","v":"DWF-C263234-008M"},null,null,null,0,{"$f":"'Bill of Materials'!J300","v":"standard material"},{"$f":"'Bill of Materials'!K300","v":"physical"},0]
[{"$f":"'Bill of Materials'!E301+'Bill of Materials'!F301","v":0},{"$f":"'Bill of Materials'!M301","v":"EA"},{"$f":"'Bill of Materials'!G301","v":"LC/LC, Singlemode (9/125), HD Fiber Patch Cord-LC Uniboots-Polarity Reversable, Corning Ultra Bend, (2) Fiber-2.0/2.4 dia. Round, Plenum, Yellow, Length/Meters 009"},{"$f":"'Bill of Materials'!L301","v":"DWC"},{"$f":"'Bill of Materials'!N301","v":49.45},{"$f":"'Bill of Materials'!P301","v":"DWC"},{"$f":"'Bill of Materials'!C301","v":"10398"},{"$f":"'Bill of Materials'!H301","v":"DWF-C263234-009M"},null,null,null,0,{"$f":"'Bill of Materials'!J301","v":"standard material"},{"$f":"'Bill of Materials'!K301","v":"physical"},0]
[{"$f":"'Bill of Materials'!E302+'Bill of Materials'!F302","v":0},{"$f":"'Bill of Materials'!M302","v":"EA"},{"$f":"'Bill of Materials'!G302","v":"LC/LC, Singlemode (9/125), HD Fiber Patch Cord-LC Uniboots-Polarity Reversable, Corning Ultra Bend, (2) Fiber-2.0/2.4 dia. Round, Plenum, Yellow, Length/Meters 010"},{"$f":"'Bill of Materials'!L302","v":"DWC"},{"$f":"'Bill of Materials'!N302","v":51.2},{"$f":"'Bill of Materials'!P302","v":"DWC"},{"$f":"'Bill of Materials'!C302","v":"10399"},{"$f":"'Bill of Materials'!H302","v":"DWF-C263234-010M"},null,null,null,0,{"$f":"'Bill of Materials'!J302","v":"standard material"},{"$f":"'Bill of Materials'!K302","v":"physical"},0]
[{"$f":"'Bill of Materials'!E303+'Bill of Materials'!F303","v":0},{"$f":"'Bill of Materials'!M303","v":"EA"},{"$f":"'Bill of Materials'!G303","v":"LC/LC, Singlemode (9/125), HD Fiber Patch Cord-LC Uniboots-Polarity Reversable, Corning Ultra Bend, (2) Fiber-2.0/2.4 dia. Round, Plenum, Yellow, Length/Meters 011"},{"$f":"'Bill of Materials'!L303","v":"DWC"},{"$f":"'Bill of Materials'!N303","v":52.9},{"$f":"'Bill of Materials'!P303","v":"DWC"},{"$f":"'Bill of Materials'!C303","v":"10400"},{"$f":"'Bill of Materials'!H303","v":"DWF-C263234-011M"},null,null,null,0,{"$f":"'Bill of Materials'!J303","v":"standard material"},{"$f":"'Bill of Materials'!K303","v":"physical"},0]
[{"$f":"'Bill of Materials'!E304+'Bill of Materials'!F304","v":0},{"$f":"'Bill of Materials'!M304","v":"EA"},{"$f":"'Bill of Materials'!G304","v":"LC/LC, Singlemode (9/125), HD Fiber Patch Cord-LC Uniboots-Polarity Reversable, Corning Ultra Bend, (2) Fiber-2.0/2.4 dia. Round, Plenum, Yellow, Length/Meters 012"},{"$f":"'Bill of Materials'!L304","v":"DWC"},{"$f":"'Bill of Materials'!N304","v":54.6},{"$f":"'Bill of Materials'!P304","v":"DWC"},{"$f":"'Bill of Materials'!C304","v":"10401"},{"$f":"'Bill of Materials'!H304","v":"DWF-C263234-012M"},null,null,null,0,{"$f":"'Bill of Materials'!J304","v":"standard material"},{"$f":"'Bill of Materials'!K304","v":"physical"},0]
[{"$f":"'Bill of Materials'!E305+'Bill of Materials'!F305","v":0},{"$f":"'Bill of Materials'!M305","v":"EA"},{"$f":"'Bill of Materials'!G305","v":"LC/LC, Singlemode (9/125), HD Fiber Patch Cord-LC Uniboots-Polarity Reversable, Corning Ultra Bend, (2) Fiber-2.0/2.4 dia. Round, Plenum, Yellow, Length/Meters 013"},{"$f":"'Bill of Materials'!L305","v":"DWC"},{"$f":"'Bill of Materials'!N305","v":56.35},{"$f":"'Bill of Materials'!P305","v":"DWC"},{"$f":"'Bill of Materials'!C305","v":"10402"},{"$f":"'Bill of Materials'!H305","v":"DWF-C263234-013M"},null,null,null,0,{"$f":"'Bill of Materials'!J305","v":"standard material"},{"$f":"'Bill of Materials'!K305","v":"physical"},0]
[{"$f":"'Bill of Materials'!E306+'Bill of Materials'!F306","v":0},{"$f":"'Bill of Materials'!M306","v":"EA"},{"$f":"'Bill of Materials'!G306","v":"LC/LC, Singlemode (9/125), HD Fiber Patch Cord-LC Uniboots-Polarity Reversable, Corning Ultra Bend, (2) Fiber-2.0/2.4 dia. Round, Plenum, Yellow, Length/Meters 014"},{"$f":"'Bill of Materials'!L306","v":"DWC"},{"$f":"'Bill of Materials'!N306","v":58.05},{"$f":"'Bill of Materials'!P306","v":"DWC"},{"$f":"'Bill of Materials'!C306","v":"10403"},{"$f":"'Bill of Materials'!H306","v":"DWF-C263234-014M"},null,null,null,0,{"$f":"'Bill of Materials'!J306","v":"standard material"},{"$f":"'Bill of Materials'!K306","v":"physical"},0]
[{"$f":"'Bill of Materials'!E307+'Bill of Materials'!F307","v":0},{"$f":"'Bill of Materials'!M307","v":"EA"},{"$f":"'Bill of Materials'!G307","v":"LC/LC, Singlemode (9/125), HD Fiber Patch Cord-LC Uniboots-Polarity Reversable, Corning Ultra Bend, (2) Fiber-2.0/2.4 dia. Round, Plenum, Yellow, Length/Meters 015"},{"$f":"'Bill of Materials'!L307","v":"DWC"},{"$f":"'Bill of Materials'!N307","v":59.8},{"$f":"'Bill of Materials'!P307","v":"DWC"},{"$f":"'Bill of Materials'!C307","v":"10404"},{"$f":"'Bill of Materials'!H307","v":"DWF-C263234-015M"},null,null,null,0,{"$f":"'Bill of Materials'!J307","v":"standard material"},{"$f":"'Bill of Materials'!K307","v":"physical"},0]
[{"$f":"'Bill of Materials'!E308+'Bill of Materials'!F308","v":0},{"$f":"'Bill of Materials'!M308","v":"EA"},{"$f":"'Bill of Materials'!G308","v":"LC/LC, Singlemode (9/125), HD Fiber Patch Cord-LC Uniboots-Polarity Reversable, Corning Ultra Bend, (2) Fiber-2.0/2.4 dia. Round, Plenum, Yellow, Length/Meters 016"},{"$f":"'Bill of Materials'!L308","v":"DWC"},{"$f":"'Bill of Materials'!N308","v":61.5},{"$f":"'Bill of Materials'!P308","v":"DWC"},{"$f":"'Bill of Materials'!C308","v":"10405"},{"$f":"'Bill of Materials'!H308","v":"DWF-C263234-016M"},null,null,null,0,{"$f":"'Bill of Materials'!J308","v":"standard material"},{"$f":"'Bill of Materials'!K308","v":"physical"},0]
[{"$f":"'Bill of Materials'!E309+'Bill of Materials'!F309","v":0},{"$f":"'Bill of Materials'!M309","v":"EA"},{"$f":"'Bill of Materials'!G309","v":"LC/LC, Singlemode (9/125), HD Fiber Patch Cord-LC Uniboots-Polarity Reversable, Corning Ultra Bend, (2) Fiber-2.0/2.4 dia. Round, Plenum, Yellow, Length/Meters 017"},{"$f":"'Bill of Materials'!L309","v":"DWC"},{"$f":"'Bill of Materials'!N309","v":63.2},{"$f":"'Bill of Materials'!P309","v":"DWC"},{"$f":"'Bill of Materials'!C309","v":"10406"},{"$f":"'Bill of Materials'!H309","v":"DWF-C263234-017M"},null,null,null,0,{"$f":"'Bill of Materials'!J309","v":"standard material"},{"$f":"'Bill of Materials'!K309","v":"physical"},0]
[{"$f":"'Bill of Materials'!E310+'Bill of Materials'!F310","v":0},{"$f":"'Bill of Materials'!M310","v":"EA"},{"$f":"'Bill of Materials'!G310","v":"LC/LC, Singlemode (9/125), HD Fiber Patch Cord-LC Uniboots-Polarity Reversable, Corning Ultra Bend, (2) Fiber-2.0/2.4 dia. Round, Plenum, Yellow, Length/Meters 018"},{"$f":"'Bill of Materials'!L310","v":"DWC"},{"$f":"'Bill of Materials'!N310","v":64.95},{"$f":"'Bill of Materials'!P310","v":"DWC"},{"$f":"'Bill of Materials'!C310","v":"10407"},{"$f":"'Bill of Materials'!H310","v":"DWF-C263234-018M"},null,null,null,0,{"$f":"'Bill of Materials'!J310","v":"standard material"},{"$f":"'Bill of Materials'!K310","v":"physical"},0]
[{"$f":"'Bill of Materials'!E311+'Bill of Materials'!F311","v":0},{"$f":"'Bill of Materials'!M311","v":"EA"},{"$f":"'Bill of Materials'!G311","v":"LC/LC, Singlemode (9/125), HD Fiber Patch Cord-LC Uniboots-Polarity Reversable, Corning Ultra Bend, (2) Fiber-2.0/2.4 dia. Round, Plenum, Yellow, Length/Meters 019"},{"$f":"'Bill of Materials'!L311","v":"DWC"},{"$f":"'Bill of Materials'!N311","v":66.650000000000006},{"$f":"'Bill of Materials'!P311","v":"DWC"},{"$f":"'Bill of Materials'!C311","v":"10408"},{"$f":"'Bill of Materials'!H311","v":"DWF-C263234-019M"},null,null,null,0,{"$f":"'Bill of Materials'!J311","v":"standard material"},{"$f":"'Bill of Materials'!K311","v":"physical"},0]
[{"$f":"'Bill of Materials'!E312+'Bill of Materials'!F312","v":0},{"$f":"'Bill of Materials'!M312","v":"EA"},{"$f":"'Bill of Materials'!G312","v":"LC/LC, Singlemode (9/125), HD Fiber Patch Cord-LC Uniboots-Polarity Reversable, Corning Ultra Bend, (2) Fiber-2.0/2.4 dia. Round, Plenum, Yellow, Length/Meters 020"},{"$f":"'Bill of Materials'!L312","v":"DWC"},{"$f":"'Bill of Materials'!N312","v":68.400000000000006},{"$f":"'Bill of Materials'!P312","v":"DWC"},{"$f":"'Bill of Materials'!C312","v":"10409"},{"$f":"'Bill of Materials'!H312","v":"DWF-C263234-020M"},null,null,null,0,{"$f":"'Bill of Materials'!J312","v":"standard material"},{"$f":"'Bill of Materials'!K312","v":"physical"},0]
[{"$f":"'Bill of Materials'!E313+'Bill of Materials'!F313","v":0},{"$f":"'Bill of Materials'!M313","v":"EA"},{"$f":"'Bill of Materials'!G313","v":"LC/SC, Singlemode (9/125), HD Fiber Patch Cord-LC Uniboot-Polarity Reversable, SC Uniboot-Polarity Fixed, Corning Ultra Bend, (2) Fiber-2.0/2.4 dia. Round, Plenum, Yellow, Length/Meters 001"},{"$f":"'Bill of Materials'!L313","v":"DWC"},{"$f":"'Bill of Materials'!N313","v":45.2},{"$f":"'Bill of Materials'!P313","v":"DWC"},{"$f":"'Bill of Materials'!C313","v":"10410"},{"$f":"'Bill of Materials'!H313","v":"DWF-C263235-001M"},null,null,null,0,{"$f":"'Bill of Materials'!J313","v":"standard material"},{"$f":"'Bill of Materials'!K313","v":"physical"},0]
[{"$f":"'Bill of Materials'!E314+'Bill of Materials'!F314","v":0},{"$f":"'Bill of Materials'!M314","v":"EA"},{"$f":"'Bill of Materials'!G314","v":"LC/SC, Singlemode (9/125), HD Fiber Patch Cord-LC Uniboot-Polarity Reversable, SC Uniboot-Polarity Fixed, Corning Ultra Bend, (2) Fiber-2.0/2.4 dia. Round, Plenum, Yellow, Length/Meters 002"},{"$f":"'Bill of Materials'!L314","v":"DWC"},{"$f":"'Bill of Materials'!N314","v":45.95},{"$f":"'Bill of Materials'!P314","v":"DWC"},{"$f":"'Bill of Materials'!C314","v":"10411"},{"$f":"'Bill of Materials'!H314","v":"DWF-C263235-002M"},null,null,null,0,{"$f":"'Bill of Materials'!J314","v":"standard material"},{"$f":"'Bill of Materials'!K314","v":"physical"},0]
[{"$f":"'Bill of Materials'!E315+'Bill of Materials'!F315","v":0},{"$f":"'Bill of Materials'!M315","v":"EA"},{"$f":"'Bill of Materials'!G315","v":"LC/SC, Singlemode (9/125), HD Fiber Patch Cord-LC Uniboot-Polarity Reversable, SC Uniboot-Polarity Fixed, Corning Ultra Bend, (2) Fiber-2.0/2.4 dia. Round, Plenum, Yellow, Length/Meters 003"},{"$f":"'Bill of Materials'!L315","v":"DWC"},{"$f":"'Bill of Materials'!N315","v":46.6},{"$f":"'Bill of Materials'!P315","v":"DWC"},{"$f":"'Bill of Materials'!C315","v":"10412"},{"$f":"'Bill of Materials'!H315","v":"DWF-C263235-003M"},null,null,null,0,{"$f":"'Bill of Materials'!J315","v":"standard material"},{"$f":"'Bill of Materials'!K315","v":"physical"},0]
[{"$f":"'Bill of Materials'!E316+'Bill of Materials'!F316","v":0},{"$f":"'Bill of Materials'!M316","v":"EA"},{"$f":"'Bill of Materials'!G316","v":"LC/SC, Singlemode (9/125), HD Fiber Patch Cord-LC Uniboot-Polarity Reversable, SC Uniboot-Polarity Fixed, Corning Ultra Bend, (2) Fiber-2.0/2.4 dia. Round, Plenum, Yellow, Length/Meters 004"},{"$f":"'Bill of Materials'!L316","v":"DWC"},{"$f":"'Bill of Materials'!N316","v":47.35},{"$f":"'Bill of Materials'!P316","v":"DWC"},{"$f":"'Bill of Materials'!C316","v":"10413"},{"$f":"'Bill of Materials'!H316","v":"DWF-C263235-004M"},null,null,null,0,{"$f":"'Bill of Materials'!J316","v":"standard material"},{"$f":"'Bill of Materials'!K316","v":"physical"},0]
[{"$f":"'Bill of Materials'!E317+'Bill of Materials'!F317","v":0},{"$f":"'Bill of Materials'!M317","v":"EA"},{"$f":"'Bill of Materials'!G317","v":"LC/SC, Singlemode (9/125), HD Fiber Patch Cord-LC Uniboot-Polarity Reversable, SC Uniboot-Polarity Fixed, Corning Ultra Bend, (2) Fiber-2.0/2.4 dia. Round, Plenum, Yellow, Length/Meters 005"},{"$f":"'Bill of Materials'!L317","v":"DWC"},{"$f":"'Bill of Materials'!N317","v":48},{"$f":"'Bill of Materials'!P317","v":"DWC"},{"$f":"'Bill of Materials'!C317","v":"10414"},{"$f":"'Bill of Materials'!H317","v":"DWF-C263235-005M"},null,null,null,0,{"$f":"'Bill of Materials'!J317","v":"standard material"},{"$f":"'Bill of Materials'!K317","v":"physical"},0]
[{"$f":"'Bill of Materials'!E318+'Bill of Materials'!F318","v":0},{"$f":"'Bill of Materials'!M318","v":"EA"},{"$f":"'Bill of Materials'!G318","v":"LC/SC, Singlemode (9/125), HD Fiber Patch Cord-LC Uniboot-Polarity Reversable, SC Uniboot-Polarity Fixed, Corning Ultra Bend, (2) Fiber-2.0/2.4 dia. Round, Plenum, Yellow, Length/Meters 006\t"},{"$f":"'Bill of Materials'!L318","v":"DWC"},{"$f":"'Bill of Materials'!N318","v":49.7},{"$f":"'Bill of Materials'!P318","v":"DWC"},{"$f":"'Bill of Materials'!C318","v":"10415"},{"$f":"'Bill of Materials'!H318","v":"DWF-C263235-006M"},null,null,null,0,{"$f":"'Bill of Materials'!J318","v":"standard material"},{"$f":"'Bill of Materials'!K318","v":"physical"},0]
[{"$f":"'Bill of Materials'!E319+'Bill of Materials'!F319","v":0},{"$f":"'Bill of Materials'!M319","v":"EA"},{"$f":"'Bill of Materials'!G319","v":"LC/SC, Singlemode (9/125), HD Fiber Patch Cord-LC Uniboot-Polarity Reversable, SC Uniboot-Polarity Fixed, Corning Ultra Bend, (2) Fiber-2.0/2.4 dia. Round, Plenum, Yellow, Length/Meters 007"},{"$f":"'Bill of Materials'!L319","v":"DWC"},{"$f":"'Bill of Materials'!N319","v":51.45},{"$f":"'Bill of Materials'!P319","v":"DWC"},{"$f":"'Bill of Materials'!C319","v":"10416"},{"$f":"'Bill of Materials'!H319","v":"DWF-C263235-007M"},null,null,null,0,{"$f":"'Bill of Materials'!J319","v":"standard material"},{"$f":"'Bill of Materials'!K319","v":"physical"},0]
[{"$f":"'Bill of Materials'!E320+'Bill of Materials'!F320","v":0},{"$f":"'Bill of Materials'!M320","v":"EA"},{"$f":"'Bill of Materials'!G320","v":"LC/SC, Singlemode (9/125), HD Fiber Patch Cord-LC Uniboot-Polarity Reversable, SC Uniboot-Polarity Fixed, Corning Ultra Bend, (2) Fiber-2.0/2.4 dia. Round, Plenum, Yellow, Length/Meters 008"},{"$f":"'Bill of Materials'!L320","v":"DWC"},{"$f":"'Bill of Materials'!N320","v":53.15},{"$f":"'Bill of Materials'!P320","v":"DWC"},{"$f":"'Bill of Materials'!C320","v":"10417"},{"$f":"'Bill of Materials'!H320","v":"DWF-C263235-008M"},null,null,null,0,{"$f":"'Bill of Materials'!J320","v":"standard material"},{"$f":"'Bill of Materials'!K320","v":"physical"},0]
[{"$f":"'Bill of Materials'!E321+'Bill of Materials'!F321","v":0},{"$f":"'Bill of Materials'!M321","v":"EA"},{"$f":"'Bill of Materials'!G321","v":"LC/SC, Singlemode (9/125), HD Fiber Patch Cord-LC Uniboot-Polarity Reversable, SC Uniboot-Polarity Fixed, Corning Ultra Bend, (2) Fiber-2.0/2.4 dia. Round, Plenum, Yellow, Length/Meters 009"},{"$f":"'Bill of Materials'!L321","v":"DWC"},{"$f":"'Bill of Materials'!N321","v":54.9},{"$f":"'Bill of Materials'!P321","v":"DWC"},{"$f":"'Bill of Materials'!C321","v":"10418"},{"$f":"'Bill of Materials'!H321","v":"DWF-C263235-009M"},null,null,null,0,{"$f":"'Bill of Materials'!J321","v":"standard material"},{"$f":"'Bill of Materials'!K321","v":"physical"},0]
[{"$f":"'Bill of Materials'!E322+'Bill of Materials'!F322","v":0},{"$f":"'Bill of Materials'!M322","v":"EA"},{"$f":"'Bill of Materials'!G322","v":"LC/SC, Singlemode (9/125), HD Fiber Patch Cord-LC Uniboot-Polarity Reversable, SC Uniboot-Polarity Fixed, Corning Ultra Bend, (2) Fiber-2.0/2.4 dia. Round, Plenum, Yellow, Length/Meters 010"},{"$f":"'Bill of Materials'!L322","v":"DWC"},{"$f":"'Bill of Materials'!N322","v":56.6},{"$f":"'Bill of Materials'!P322","v":"DWC"},{"$f":"'Bill of Materials'!C322","v":"10419"},{"$f":"'Bill of Materials'!H322","v":"DWF-C263235-010M"},null,null,null,0,{"$f":"'Bill of Materials'!J322","v":"standard material"},{"$f":"'Bill of Materials'!K322","v":"physical"},0]
[{"$f":"'Bill of Materials'!E323+'Bill of Materials'!F323","v":0},{"$f":"'Bill of Materials'!M323","v":"EA"},{"$f":"'Bill of Materials'!G323","v":"LC/SC, Singlemode (9/125), HD Fiber Patch Cord-LC Uniboot-Polarity Reversable, SC Uniboot-Polarity Fixed, Corning Ultra Bend, (2) Fiber-2.0/2.4 dia. Round, Plenum, Yellow, Length/Meters 011"},{"$f":"'Bill of Materials'!L323","v":"DWC"},{"$f":"'Bill of Materials'!N323","v":58.3},{"$f":"'Bill of Materials'!P323","v":"DWC"},{"$f":"'Bill of Materials'!C323","v":"10420"},{"$f":"'Bill of Materials'!H323","v":"DWF-C263235-011M"},null,null,null,{"$f":"E342*A342","v":0},{"$f":"'Bill of Materials'!J323","v":"standard material"},{"$f":"'Bill of Materials'!K323","v":"physical"},{"$f":"IF(A342>0,1,0)","v":0}]
[{"$f":"'Bill of Materials'!E324+'Bill of Materials'!F324","v":0},{"$f":"'Bill of Materials'!M324","v":"EA"},{"$f":"'Bill of Materials'!G324","v":"LC/SC, Singlemode (9/125), HD Fiber Patch Cord-LC Uniboot-Polarity Reversable, SC Uniboot-Polarity Fixed, Corning Ultra Bend, (2) Fiber-2.0/2.4 dia. Round, Plenum, Yellow, Length/Meters 012"},{"$f":"'Bill of Materials'!L324","v":"DWC"},{"$f":"'Bill of Materials'!N324","v":60.05},{"$f":"'Bill of Materials'!P324","v":"DWC"},{"$f":"'Bill of Materials'!C324","v":"10421"},{"$f":"'Bill of Materials'!H324","v":"DWF-C263235-012M"},null,null,null,0,{"$f":"'Bill of Materials'!J324","v":"standard material"},{"$f":"'Bill of Materials'!K324","v":"physical"},0]
[{"$f":"'Bill of Materials'!E325+'Bill of Materials'!F325","v":0},{"$f":"'Bill of Materials'!M325","v":"EA"},{"$f":"'Bill of Materials'!G325","v":"LC/SC, Singlemode (9/125), HD Fiber Patch Cord-LC Uniboot-Polarity Reversable, SC Uniboot-Polarity Fixed, Corning Ultra Bend, (2) Fiber-2.0/2.4 dia. Round, Plenum, Yellow, Length/Meters 013"},{"$f":"'Bill of Materials'!L325","v":"DWC"},{"$f":"'Bill of Materials'!N325","v":61.75},{"$f":"'Bill of Materials'!P325","v":"DWC"},{"$f":"'Bill of Materials'!C325","v":"10422"},{"$f":"'Bill of Materials'!H325","v":"DWF-C263235-013M"},null,null,null,0,{"$f":"'Bill of Materials'!J325","v":"standard material"},{"$f":"'Bill of Materials'!K325","v":"physical"},0]
[{"$f":"'Bill of Materials'!E326+'Bill of Materials'!F326","v":0},{"$f":"'Bill of Materials'!M326","v":"EA"},{"$f":"'Bill of Materials'!G326","v":"LC/SC, Singlemode (9/125), HD Fiber Patch Cord-LC Uniboot-Polarity Reversable, SC Uniboot-Polarity Fixed, Corning Ultra Bend, (2) Fiber-2.0/2.4 dia. Round, Plenum, Yellow, Length/Meters 014"},{"$f":"'Bill of Materials'!L326","v":"DWC"},{"$f":"'Bill of Materials'!N326","v":63.5},{"$f":"'Bill of Materials'!P326","v":"DWC"},{"$f":"'Bill of Materials'!C326","v":"10423"},{"$f":"'Bill of Materials'!H326","v":"DWF-C263235-014M"},null,null,null,0,{"$f":"'Bill of Materials'!J326","v":"standard material"},{"$f":"'Bill of Materials'!K326","v":"physical"},0]
[{"$f":"'Bill of Materials'!E327+'Bill of Materials'!F327","v":0},{"$f":"'Bill of Materials'!M327","v":"EA"},{"$f":"'Bill of Materials'!G327","v":"LC/SC, Singlemode (9/125), HD Fiber Patch Cord-LC Uniboot-Polarity Reversable, SC Uniboot-Polarity Fixed, Corning Ultra Bend, (2) Fiber-2.0/2.4 dia. Round, Plenum, Yellow, Length/Meters 015"},{"$f":"'Bill of Materials'!L327","v":"DWC"},{"$f":"'Bill of Materials'!N327","v":65.2},{"$f":"'Bill of Materials'!P327","v":"DWC"},{"$f":"'Bill of Materials'!C327","v":"10424"},{"$f":"'Bill of Materials'!H327","v":"DWF-C263235-015M"},null,null,null,0,{"$f":"'Bill of Materials'!J327","v":"standard material"},{"$f":"'Bill of Materials'!K327","v":"physical"},0]
[{"$f":"'Bill of Materials'!E328+'Bill of Materials'!F328","v":0},{"$f":"'Bill of Materials'!M328","v":"EA"},{"$f":"'Bill of Materials'!G328","v":"LC/SC, Singlemode (9/125), HD Fiber Patch Cord-LC Uniboot-Polarity Reversable, SC Uniboot-Polarity Fixed, Corning Ultra Bend, (2) Fiber-2.0/2.4 dia. Round, Plenum, Yellow, Length/Meters 016"},{"$f":"'Bill of Materials'!L328","v":"DWC"},{"$f":"'Bill of Materials'!N328","v":66.900000000000006},{"$f":"'Bill of Materials'!P328","v":"DWC"},{"$f":"'Bill of Materials'!C328","v":"10425"},{"$f":"'Bill of Materials'!H328","v":"DWF-C263235-016M"},null,null,null,0,{"$f":"'Bill of Materials'!J328","v":"standard material"},{"$f":"'Bill of Materials'!K328","v":"physical"},0]
[{"$f":"'Bill of Materials'!E329+'Bill of Materials'!F329","v":0},{"$f":"'Bill of Materials'!M329","v":"EA"},{"$f":"'Bill of Materials'!G329","v":"LC/SC, Singlemode (9/125), HD Fiber Patch Cord-LC Uniboot-Polarity Reversable, SC Uniboot-Polarity Fixed, Corning Ultra Bend, (2) Fiber-2.0/2.4 dia. Round, Plenum, Yellow, Length/Meters 017"},{"$f":"'Bill of Materials'!L329","v":"DWC"},{"$f":"'Bill of Materials'!N329","v":68.650000000000006},{"$f":"'Bill of Materials'!P329","v":"DWC"},{"$f":"'Bill of Materials'!C329","v":"10426"},{"$f":"'Bill of Materials'!H329","v":"DWF-C263235-017M"},null,null,null,0,{"$f":"'Bill of Materials'!J329","v":"standard material"},{"$f":"'Bill of Materials'!K329","v":"physical"},0]
[{"$f":"'Bill of Materials'!E330+'Bill of Materials'!F330","v":0},{"$f":"'Bill of Materials'!M330","v":"EA"},{"$f":"'Bill of Materials'!G330","v":"LC/SC, Singlemode (9/125), HD Fiber Patch Cord-LC Uniboot-Polarity Reversable, SC Uniboot-Polarity Fixed, Corning Ultra Bend, (2) Fiber-2.0/2.4 dia. Round, Plenum, Yellow, Length/Meters 018"},{"$f":"'Bill of Materials'!L330","v":"DWC"},{"$f":"'Bill of Materials'!N330","v":70.349999999999994},{"$f":"'Bill of Materials'!P330","v":"DWC"},{"$f":"'Bill of Materials'!C330","v":"10427"},{"$f":"'Bill of Materials'!H330","v":"DWF-C263235-018M"},null,null,null,0,{"$f":"'Bill of Materials'!J330","v":"standard material"},{"$f":"'Bill of Materials'!K330","v":"physical"},0]
[{"$f":"'Bill of Materials'!E331+'Bill of Materials'!F331","v":0},{"$f":"'Bill of Materials'!M331","v":"EA"},{"$f":"'Bill of Materials'!G331","v":"LC/SC, Singlemode (9/125), HD Fiber Patch Cord-LC Uniboot-Polarity Reversable, SC Uniboot-Polarity Fixed, Corning Ultra Bend, (2) Fiber-2.0/2.4 dia. Round, Plenum, Yellow, Length/Meters 019"},{"$f":"'Bill of Materials'!L331","v":"DWC"},{"$f":"'Bill of Materials'!N331","v":72.099999999999994},{"$f":"'Bill of Materials'!P331","v":"DWC"},{"$f":"'Bill of Materials'!C331","v":"10428"},{"$f":"'Bill of Materials'!H331","v":"DWF-C263235-019M"},null,null,null,0,{"$f":"'Bill of Materials'!J331","v":"standard material"},{"$f":"'Bill of Materials'!K331","v":"physical"},0]
[{"$f":"'Bill of Materials'!E332+'Bill of Materials'!F332","v":0},{"$f":"'Bill of Materials'!M332","v":"EA"},{"$f":"'Bill of Materials'!G332","v":"LC/SC, Singlemode (9/125), HD Fiber Patch Cord-LC Uniboot-Polarity Reversable, SC Uniboot-Polarity Fixed, Corning Ultra Bend, (2) Fiber-2.0/2.4 dia. Round, Plenum, Yellow, Length/Meters 020"},{"$f":"'Bill of Materials'!L332","v":"DWC"},{"$f":"'Bill of Materials'!N332","v":73.8},{"$f":"'Bill of Materials'!P332","v":"DWC"},{"$f":"'Bill of Materials'!C332","v":"10429"},{"$f":"'Bill of Materials'!H332","v":"DWF-C263235-020M"},null,null,null,0,{"$f":"'Bill of Materials'!J332","v":"standard material"},{"$f":"'Bill of Materials'!K332","v":"physical"},0]
[{"$f":"'Bill of Materials'!E333+'Bill of Materials'!F333","v":0},{"$f":"'Bill of Materials'!M333","v":"EA"},{"$f":"'Bill of Materials'!G333","v":"MTRJ/SC, MM Fiber Patch Cord, 62.5/125um. Duplex, 2 Meter"},{"$f":"'Bill of Materials'!L333","v":"DWC"},{"$f":"'Bill of Materials'!N333","v":21.33},{"$f":"'Bill of Materials'!P333","v":"DWC"},{"$f":"'Bill of Materials'!C333","v":"INFO-2492"},{"$f":"'Bill of Materials'!H333","v":"M46988002M"},null,null,null,0,{"$f":"'Bill of Materials'!J333","v":"standard material"},{"$f":"'Bill of Materials'!K333","v":"physical"},0]
[{"$f":"'Bill of Materials'!E334+'Bill of Materials'!F334","v":0},{"$f":"'Bill of Materials'!M334","v":"EA"},{"$f":"'Bill of Materials'!G334","v":"MTRJ/SC, MM Fiber Patch Cord, 62.5/125um. Duplex, 3 Meter"},{"$f":"'Bill of Materials'!L334","v":"DWC"},{"$f":"'Bill of Materials'!N334","v":22.28},{"$f":"'Bill of Materials'!P334","v":"DWC"},{"$f":"'Bill of Materials'!C334","v":"INFO-2493"},{"$f":"'Bill of Materials'!H334","v":"M46988003M"},null,null,null,0,{"$f":"'Bill of Materials'!J334","v":"standard material"},{"$f":"'Bill of Materials'!K334","v":"physical"},0]
[{"$f":"'Bill of Materials'!E335+'Bill of Materials'!F335","v":0},{"$f":"'Bill of Materials'!M335","v":"EA"},{"$f":"'Bill of Materials'!G335","v":"MTRJ/ST, MM Fiber Patch Cord, 62.5/125um. Duplex, 2 Meter"},{"$f":"'Bill of Materials'!L335","v":"DWC"},{"$f":"'Bill of Materials'!N335","v":21.33},{"$f":"'Bill of Materials'!P335","v":"DWC"},{"$f":"'Bill of Materials'!C335","v":"INFO-2494"},{"$f":"'Bill of Materials'!H335","v":"M40369002M"},null,null,null,0,{"$f":"'Bill of Materials'!J335","v":"standard material"},{"$f":"'Bill of Materials'!K335","v":"physical"},0]
[{"$f":"'Bill of Materials'!E336+'Bill of Materials'!F336","v":0},{"$f":"'Bill of Materials'!M336","v":"EA"},{"$f":"'Bill of Materials'!G336","v":"MTRJ/ST, MM Fiber Patch Cord, 62.5/125um. Duplex, 3 Meter"},{"$f":"'Bill of Materials'!L336","v":"DWC"},{"$f":"'Bill of Materials'!N336","v":22.28},{"$f":"'Bill of Materials'!P336","v":"DWC"},{"$f":"'Bill of Materials'!C336","v":"INFO-2495"},{"$f":"'Bill of Materials'!H336","v":"M40369003M"},null,null,null,0,{"$f":"'Bill of Materials'!J336","v":"standard material"},{"$f":"'Bill of Materials'!K336","v":"physical"},0]
[{"$f":"'Bill of Materials'!E337+'Bill of Materials'!F337","v":0},{"$f":"'Bill of Materials'!M337","v":"EA"},{"$f":"'Bill of Materials'!G337","v":"ST/ST, MM Fiber Patch Cord, 62.5/125um, Duplex, 1 Meter"},{"$f":"'Bill of Materials'!L337","v":"AFL"},{"$f":"'Bill of Materials'!N337","v":14.31},{"$f":"'Bill of Materials'!P337","v":"DWC"},{"$f":"'Bill of Materials'!C337","v":"INFO-3201"},{"$f":"'Bill of Materials'!H337","v":"C141076-0001"},null,null,null,0,{"$f":"'Bill of Materials'!J337","v":"standard material"},{"$f":"'Bill of Materials'!K337","v":"physical"},0]
[{"$f":"'Bill of Materials'!E338+'Bill of Materials'!F338","v":0},{"$f":"'Bill of Materials'!M338","v":"EA"},{"$f":"'Bill of Materials'!G338","v":"ST/ST, MM Fiber Patch Cord, 62.5/125um, Duplex, 2 Meter"},{"$f":"'Bill of Materials'!L338","v":"AFL"},{"$f":"'Bill of Materials'!N338","v":15},{"$f":"'Bill of Materials'!P338","v":"DWC"},{"$f":"'Bill of Materials'!C338","v":"INFO-3202"},{"$f":"'Bill of Materials'!H338","v":"C141076-0002"},null,null,null,0,{"$f":"'Bill of Materials'!J338","v":"standard material"},{"$f":"'Bill of Materials'!K338","v":"physical"},0]
[{"$f":"'Bill of Materials'!E339+'Bill of Materials'!F339","v":0},{"$f":"'Bill of Materials'!M339","v":"EA"},{"$f":"'Bill of Materials'!G339","v":"ST/ST, MM Fiber Patch Cord, 62.5/125um, Duplex, 3 Meter"},{"$f":"'Bill of Materials'!L339","v":"AFL"},{"$f":"'Bill of Materials'!N339","v":15.69},{"$f":"'Bill of Materials'!P339","v":"DWC"},{"$f":"'Bill of Materials'!C339","v":"INFO-3203"},{"$f":"'Bill of Materials'!H339","v":"C141076-0003"},null,null,null,0,{"$f":"'Bill of Materials'!J339","v":"standard material"},{"$f":"'Bill of Materials'!K339","v":"physical"},0]
[{"$f":"'Bill of Materials'!E340+'Bill of Materials'!F340","v":0},{"$f":"'Bill of Materials'!M340","v":"EA"},{"$f":"'Bill of Materials'!G340","v":"SC, SM Buildout Attenuator - 2 dB. (-53dB RL)"},{"$f":"'Bill of Materials'!L340","v":"AFL"},{"$f":"'Bill of Materials'!N340","v":27.52},{"$f":"'Bill of Materials'!P340","v":"DWC"},{"$f":"'Bill of Materials'!C340","v":"INFO-3224"},{"$f":"'Bill of Materials'!H340","v":"C092738"},null,null,null,0,{"$f":"'Bill of Materials'!J340","v":"standard material"},{"$f":"'Bill of Materials'!K340","v":"physical"},0]
[{"$f":"'Bill of Materials'!E341+'Bill of Materials'!F341","v":0},{"$f":"'Bill of Materials'!M341","v":"EA"},{"$f":"'Bill of Materials'!G341","v":"SC, SM Buildout Attenuator - 5 dB. (-53dB RL)"},{"$f":"'Bill of Materials'!L341","v":"AFL"},{"$f":"'Bill of Materials'!N341","v":27.52},{"$f":"'Bill of Materials'!P341","v":"DWC"},{"$f":"'Bill of Materials'!C341","v":"INFO-3225"},{"$f":"'Bill of Materials'!H341","v":"C092754"},null,null,null,0,{"$f":"'Bill of Materials'!J341","v":"standard material"},{"$f":"'Bill of Materials'!K341","v":"physical"},0]
[{"$f":"'Bill of Materials'!E342+'Bill of Materials'!F342","v":0},{"$f":"'Bill of Materials'!M342","v":"EA"},{"$f":"'Bill of Materials'!G342","v":"SC/SC, MM Fiber Patch Cord, 62.5/125um, 1 Meter,  w/duplex SC clip"},{"$f":"'Bill of Materials'!L342","v":"AFL"},{"$f":"'Bill of Materials'!N342","v":16.14},{"$f":"'Bill of Materials'!P342","v":"DWC"},{"$f":"'Bill of Materials'!C342","v":"INFO-3256"},{"$f":"'Bill of Materials'!H342","v":"C196301-0001"},null,null,null,0,{"$f":"'Bill of Materials'!J342","v":"standard material"},{"$f":"'Bill of Materials'!K342","v":"physical"},0]
[{"$f":"'Bill of Materials'!E343+'Bill of Materials'!F343","v":0},{"$f":"'Bill of Materials'!M343","v":"EA"},{"$f":"'Bill of Materials'!G343","v":"SC/SC, MM Fiber Patch Cord, 62.5/125um, 2 Meter,  w/duplex SC clip"},{"$f":"'Bill of Materials'!L343","v":"AFL"},{"$f":"'Bill of Materials'!N343","v":16.73},{"$f":"'Bill of Materials'!P343","v":"DWC"},{"$f":"'Bill of Materials'!C343","v":"INFO-3257"},{"$f":"'Bill of Materials'!H343","v":"C196301-0002"},null,null,null,0,{"$f":"'Bill of Materials'!J343","v":"standard material"},{"$f":"'Bill of Materials'!K343","v":"physical"},0]
[{"$f":"'Bill of Materials'!E344+'Bill of Materials'!F344","v":0},{"$f":"'Bill of Materials'!M344","v":"EA"},{"$f":"'Bill of Materials'!G344","v":"SC/SC, MM Fiber Patch Cord, 62.5/125um, 3 Meter,  w/duplex SC clip"},{"$f":"'Bill of Materials'!L344","v":"AFL"},{"$f":"'Bill of Materials'!N344","v":17.29},{"$f":"'Bill of Materials'!P344","v":"DWC"},{"$f":"'Bill of Materials'!C344","v":"INFO-3258"},{"$f":"'Bill of Materials'!H344","v":"C196301-0003"},null,null,null,0,{"$f":"'Bill of Materials'!J344","v":"standard material"},{"$f":"'Bill of Materials'!K344","v":"physical"},0]
[{"$f":"'Bill of Materials'!E345+'Bill of Materials'!F345","v":0},{"$f":"'Bill of Materials'!M345","v":"EA"},{"$f":"'Bill of Materials'!G345","v":"ST/SC, MM Fiber Patch Cord, 62.5/125um, 1 Meter,  w/duplex SC clip"},{"$f":"'Bill of Materials'!L345","v":"AFL"},{"$f":"'Bill of Materials'!N345","v":15.3},{"$f":"'Bill of Materials'!P345","v":"DWC"},{"$f":"'Bill of Materials'!C345","v":"INFO-3259"},{"$f":"'Bill of Materials'!H345","v":"C196306-0001"},null,null,null,0,{"$f":"'Bill of Materials'!J345","v":"standard material"},{"$f":"'Bill of Materials'!K345","v":"physical"},0]
[{"$f":"'Bill of Materials'!E346+'Bill of Materials'!F346","v":0},{"$f":"'Bill of Materials'!M346","v":"EA"},{"$f":"'Bill of Materials'!G346","v":"ST/SC, MM Fiber Patch Cord, 62.5/125um, 2 Meter,  w/duplex SC clip"},{"$f":"'Bill of Materials'!L346","v":"AFL"},{"$f":"'Bill of Materials'!N346","v":15.4},{"$f":"'Bill of Materials'!P346","v":"DWC"},{"$f":"'Bill of Materials'!C346","v":"INFO-3260"},{"$f":"'Bill of Materials'!H346","v":"C196306-0002"},null,null,null,0,{"$f":"'Bill of Materials'!J346","v":"standard material"},{"$f":"'Bill of Materials'!K346","v":"physical"},0]
[{"$f":"'Bill of Materials'!E347+'Bill of Materials'!F347","v":0},{"$f":"'Bill of Materials'!M347","v":"EA"},{"$f":"'Bill of Materials'!G347","v":"ST/SC, MM Fiber Patch Cord, 62.5/125um, 3 Meter,  w/duplex SC clip"},{"$f":"'Bill of Materials'!L347","v":"AFL"},{"$f":"'Bill of Materials'!N347","v":16.7},{"$f":"'Bill of Materials'!P347","v":"DWC"},{"$f":"'Bill of Materials'!C347","v":"INFO-3261"},{"$f":"'Bill of Materials'!H347","v":"C196306-0003"},null,null,null,0,{"$f":"'Bill of Materials'!J347","v":"standard material"},{"$f":"'Bill of Materials'!K347","v":"physical"},0]
[{"$f":"'Bill of Materials'!E348+'Bill of Materials'!F348","v":0},{"$f":"'Bill of Materials'!M348","v":"EA"},{"$f":"'Bill of Materials'!G348","v":"ST/ST, SM Fiber Patch Cord, Duplex, 1 Meter  "},{"$f":"'Bill of Materials'!L348","v":"AFL"},{"$f":"'Bill of Materials'!N348","v":17.29},{"$f":"'Bill of Materials'!P348","v":"DWC"},{"$f":"'Bill of Materials'!C348","v":"INFO-3262"},{"$f":"'Bill of Materials'!H348","v":"C196312-0001"},null,null,null,0,{"$f":"'Bill of Materials'!J348","v":"standard material"},{"$f":"'Bill of Materials'!K348","v":"physical"},0]
[{"$f":"'Bill of Materials'!E349+'Bill of Materials'!F349","v":0},{"$f":"'Bill of Materials'!M349","v":"EA"},{"$f":"'Bill of Materials'!G349","v":"ST/ST, SM Fiber Patch Cord, Duplex, 2 Meter  "},{"$f":"'Bill of Materials'!L349","v":"AFL"},{"$f":"'Bill of Materials'!N349","v":16.760000000000002},{"$f":"'Bill of Materials'!P349","v":"DWC"},{"$f":"'Bill of Materials'!C349","v":"INFO-3263"},{"$f":"'Bill of Materials'!H349","v":"C196312-0002"},null,null,null,0,{"$f":"'Bill of Materials'!J349","v":"standard material"},{"$f":"'Bill of Materials'!K349","v":"physical"},0]
[{"$f":"'Bill of Materials'!E350+'Bill of Materials'!F350","v":0},{"$f":"'Bill of Materials'!M350","v":"EA"},{"$f":"'Bill of Materials'!G350","v":"ST/ST, SM Fiber Patch Cord, Duplex, 3 Meter  "},{"$f":"'Bill of Materials'!L350","v":"AFL"},{"$f":"'Bill of Materials'!N350","v":18.28},{"$f":"'Bill of Materials'!P350","v":"DWC"},{"$f":"'Bill of Materials'!C350","v":"INFO-3264"},{"$f":"'Bill of Materials'!H350","v":"C196312-0003"},null,null,null,0,{"$f":"'Bill of Materials'!J350","v":"standard material"},{"$f":"'Bill of Materials'!K350","v":"physical"},0]
[{"$f":"'Bill of Materials'!E351+'Bill of Materials'!F351","v":0},{"$f":"'Bill of Materials'!M351","v":"EA"},{"$f":"'Bill of Materials'!G351","v":"ST/ST, SM Fiber Patch Cord, Duplex, 6 Meter  "},{"$f":"'Bill of Materials'!L351","v":"AFL"},{"$f":"'Bill of Materials'!N351","v":19.75},{"$f":"'Bill of Materials'!P351","v":"DWC"},{"$f":"'Bill of Materials'!C351","v":"INFO-3265"},{"$f":"'Bill of Materials'!H351","v":"C196312-0006"},null,null,null,0,{"$f":"'Bill of Materials'!J351","v":"standard material"},{"$f":"'Bill of Materials'!K351","v":"physical"},0]
[{"$f":"'Bill of Materials'!E352+'Bill of Materials'!F352","v":0},{"$f":"'Bill of Materials'!M352","v":"EA"},{"$f":"'Bill of Materials'!G352","v":"ST/ST, SM Fiber Patch Cord, Duplex, 10 Meter  "},{"$f":"'Bill of Materials'!L352","v":"AFL"},{"$f":"'Bill of Materials'!N352","v":21.69},{"$f":"'Bill of Materials'!P352","v":"DWC"},{"$f":"'Bill of Materials'!C352","v":"INFO-3266"},{"$f":"'Bill of Materials'!H352","v":"C196312-0010"},null,null,null,0,{"$f":"'Bill of Materials'!J352","v":"standard material"},{"$f":"'Bill of Materials'!K352","v":"physical"},0]
[{"$f":"'Bill of Materials'!E353+'Bill of Materials'!F353","v":0},{"$f":"'Bill of Materials'!M353","v":"EA"},{"$f":"'Bill of Materials'!G353","v":"SC/SC, SM Fiber Patch Cord, Duplex, 1 Meter  "},{"$f":"'Bill of Materials'!L353","v":"AFL"},{"$f":"'Bill of Materials'!N353","v":18.27},{"$f":"'Bill of Materials'!P353","v":"DWC"},{"$f":"'Bill of Materials'!C353","v":"INFO-3267"},{"$f":"'Bill of Materials'!H353","v":"C196081-0001"},null,null,null,0,{"$f":"'Bill of Materials'!J353","v":"standard material"},{"$f":"'Bill of Materials'!K353","v":"physical"},0]
[{"$f":"'Bill of Materials'!E354+'Bill of Materials'!F354","v":0},{"$f":"'Bill of Materials'!M354","v":"EA"},{"$f":"'Bill of Materials'!G354","v":"SC/SC, SM Fiber Patch Cord, Duplex, 2 Meter  "},{"$f":"'Bill of Materials'!L354","v":"AFL"},{"$f":"'Bill of Materials'!N354","v":19.260000000000002},{"$f":"'Bill of Materials'!P354","v":"DWC"},{"$f":"'Bill of Materials'!C354","v":"INFO-3268"},{"$f":"'Bill of Materials'!H354","v":"C196081-0002"},null,null,null,0,{"$f":"'Bill of Materials'!J354","v":"standard material"},{"$f":"'Bill of Materials'!K354","v":"physical"},0]
[{"$f":"'Bill of Materials'!E355+'Bill of Materials'!F355","v":0},{"$f":"'Bill of Materials'!M355","v":"EA"},{"$f":"'Bill of Materials'!G355","v":"SC/SC, SM Fiber Patch Cord, Duplex, 3 Meter  "},{"$f":"'Bill of Materials'!L355","v":"AFL"},{"$f":"'Bill of Materials'!N355","v":19.75},{"$f":"'Bill of Materials'!P355","v":"DWC"},{"$f":"'Bill of Materials'!C355","v":"INFO-3269"},{"$f":"'Bill of Materials'!H355","v":"C196081-0003"},null,null,null,0,{"$f":"'Bill of Materials'!J355","v":"standard material"},{"$f":"'Bill of Materials'!K355","v":"physical"},0]
[{"$f":"'Bill of Materials'!E356+'Bill of Materials'!F356","v":0},{"$f":"'Bill of Materials'!M356","v":"EA"},{"$f":"'Bill of Materials'!G356","v":"SC/SC, SM Fiber Patch Cord, Duplex, 6 Meter  "},{"$f":"'Bill of Materials'!L356","v":"AFL"},{"$f":"'Bill of Materials'!N356","v":21.21},{"$f":"'Bill of Materials'!P356","v":"DWC"},{"$f":"'Bill of Materials'!C356","v":"INFO-3270"},{"$f":"'Bill of Materials'!H356","v":"C196081-0006"},null,null,null,0,{"$f":"'Bill of Materials'!J356","v":"standard material"},{"$f":"'Bill of Materials'!K356","v":"physical"},0]
[{"$f":"'Bill of Materials'!E357+'Bill of Materials'!F357","v":0},{"$f":"'Bill of Materials'!M357","v":"EA"},{"$f":"'Bill of Materials'!G357","v":"SC/SC, SM Fiber Patch Cord, Duplex, 10 Meter  "},{"$f":"'Bill of Materials'!L357","v":"AFL"},{"$f":"'Bill of Materials'!N357","v":23.17},{"$f":"'Bill of Materials'!P357","v":"DWC"},{"$f":"'Bill of Materials'!C357","v":"INFO-3271"},{"$f":"'Bill of Materials'!H357","v":"C196081-0010"},null,null,null,0,{"$f":"'Bill of Materials'!J357","v":"standard material"},{"$f":"'Bill of Materials'!K357","v":"physical"},0]
[{"$f":"'Bill of Materials'!E358+'Bill of Materials'!F358","v":0},{"$f":"'Bill of Materials'!M358","v":"EA"},{"$f":"'Bill of Materials'!G358","v":"SC/ST, SM Fiber Patch Cord, Duplex, 1 Meter  "},{"$f":"'Bill of Materials'!L358","v":"AFL"},{"$f":"'Bill of Materials'!N358","v":18.02},{"$f":"'Bill of Materials'!P358","v":"DWC"},{"$f":"'Bill of Materials'!C358","v":"INFO-3290"},{"$f":"'Bill of Materials'!H358","v":"C196630-0001"},null,null,null,0,{"$f":"'Bill of Materials'!J358","v":"standard material"},{"$f":"'Bill of Materials'!K358","v":"physical"},0]
[{"$f":"'Bill of Materials'!E359+'Bill of Materials'!F359","v":0},{"$f":"'Bill of Materials'!M359","v":"EA"},{"$f":"'Bill of Materials'!G359","v":"SC/ST, SM Fiber Patch Cord, Duplex, 2 Meter  "},{"$f":"'Bill of Materials'!L359","v":"AFL"},{"$f":"'Bill of Materials'!N359","v":16.829999999999998},{"$f":"'Bill of Materials'!P359","v":"DWC"},{"$f":"'Bill of Materials'!C359","v":"INFO-3291"},{"$f":"'Bill of Materials'!H359","v":"C196630-0002"},null,null,null,0,{"$f":"'Bill of Materials'!J359","v":"standard material"},{"$f":"'Bill of Materials'!K359","v":"physical"},0]
[{"$f":"'Bill of Materials'!E360+'Bill of Materials'!F360","v":0},{"$f":"'Bill of Materials'!M360","v":"EA"},{"$f":"'Bill of Materials'!G360","v":"SC/ST, SM Fiber Patch Cord, Duplex, 3 Meter  "},{"$f":"'Bill of Materials'!L360","v":"AFL"},{"$f":"'Bill of Materials'!N360","v":19.010000000000002},{"$f":"'Bill of Materials'!P360","v":"DWC"},{"$f":"'Bill of Materials'!C360","v":"INFO-3292"},{"$f":"'Bill of Materials'!H360","v":"C196630-0003"},null,null,null,0,{"$f":"'Bill of Materials'!J360","v":"standard material"},{"$f":"'Bill of Materials'!K360","v":"physical"},0]
[{"$f":"'Bill of Materials'!E361+'Bill of Materials'!F361","v":0},{"$f":"'Bill of Materials'!M361","v":"EA"},{"$f":"'Bill of Materials'!G361","v":"SC/ST, SM Fiber Patch Cord, Duplex, 6 Meter  "},{"$f":"'Bill of Materials'!L361","v":"AFL"},{"$f":"'Bill of Materials'!N361","v":20.440000000000001},{"$f":"'Bill of Materials'!P361","v":"DWC"},{"$f":"'Bill of Materials'!C361","v":"INFO-3293"},{"$f":"'Bill of Materials'!H361","v":"C196630-0006"},null,null,null,0,{"$f":"'Bill of Materials'!J361","v":"standard material"},{"$f":"'Bill of Materials'!K361","v":"physical"},0]
[{"$f":"'Bill of Materials'!E362+'Bill of Materials'!F362","v":0},{"$f":"'Bill of Materials'!M362","v":"EA"},{"$f":"'Bill of Materials'!G362","v":"SC/ST, SM Fiber Patch Cord, Duplex, 10 Meter  "},{"$f":"'Bill of Materials'!L362","v":"AFL"},{"$f":"'Bill of Materials'!N362","v":22.41},{"$f":"'Bill of Materials'!P362","v":"DWC"},{"$f":"'Bill of Materials'!C362","v":"INFO-3294"},{"$f":"'Bill of Materials'!H362","v":"C196630-0010"},null,null,null,0,{"$f":"'Bill of Materials'!J362","v":"standard material"},{"$f":"'Bill of Materials'!K362","v":"physical"},0]
[{"$f":"'Bill of Materials'!E363+'Bill of Materials'!F363","v":0},{"$f":"'Bill of Materials'!M363","v":"EA"},{"$f":"'Bill of Materials'!G363","v":"SC/SC, MM - Mode Conditioning Patch Cord for Gigabit E'net LX/LH GBIC to 62.5/125um, 2 Meter"},{"$f":"'Bill of Materials'!L363","v":"DWC"},{"$f":"'Bill of Materials'!N363","v":87.32},{"$f":"'Bill of Materials'!P363","v":"DWC"},{"$f":"'Bill of Materials'!C363","v":"INFO-3601"},{"$f":"'Bill of Materials'!H363","v":"MODESCSC002M"},null,null,null,0,{"$f":"'Bill of Materials'!J363","v":"standard material"},{"$f":"'Bill of Materials'!K363","v":"physical"},0]
[{"$f":"'Bill of Materials'!E364+'Bill of Materials'!F364","v":0},{"$f":"'Bill of Materials'!M364","v":"EA"},{"$f":"'Bill of Materials'!G364","v":"SC/SC, MM - Mode Conditioning Patch Cord for Gigabit E'net LX/LH GBIC to 62.5/125um, 3 Meter"},{"$f":"'Bill of Materials'!L364","v":"DWC"},{"$f":"'Bill of Materials'!N364","v":88.41},{"$f":"'Bill of Materials'!P364","v":"DWC"},{"$f":"'Bill of Materials'!C364","v":"INFO-3602"},{"$f":"'Bill of Materials'!H364","v":"MODESCSC003M"},null,null,null,0,{"$f":"'Bill of Materials'!J364","v":"standard material"},{"$f":"'Bill of Materials'!K364","v":"physical"},0]
[{"$f":"'Bill of Materials'!E365+'Bill of Materials'!F365","v":0},{"$f":"'Bill of Materials'!M365","v":"EA"},{"$f":"'Bill of Materials'!G365","v":"SC/SC, MM - Mode Conditioning Patch Cord for Gigabit E'net LX/LH GBIC to 62.5/125um, 5 Meter"},{"$f":"'Bill of Materials'!L365","v":"DWC"},{"$f":"'Bill of Materials'!N365","v":99},{"$f":"'Bill of Materials'!P365","v":"DWC"},{"$f":"'Bill of Materials'!C365","v":"INFO-3603"},{"$f":"'Bill of Materials'!H365","v":"MODESCSC005M"},null,null,null,0,{"$f":"'Bill of Materials'!J365","v":"standard material"},{"$f":"'Bill of Materials'!K365","v":"physical"},0]
[{"$f":"'Bill of Materials'!E366+'Bill of Materials'!F366","v":0},{"$f":"'Bill of Materials'!M366","v":"EA"},{"$f":"'Bill of Materials'!G366","v":"SC/ST, MM - Mode Conditioning Patch Cord for Gigabit E'net LX/LH GBIC to 62.5/125um, 2 Meter"},{"$f":"'Bill of Materials'!L366","v":"DWC"},{"$f":"'Bill of Materials'!N366","v":95.54},{"$f":"'Bill of Materials'!P366","v":"DWC"},{"$f":"'Bill of Materials'!C366","v":"INFO-3604"},{"$f":"'Bill of Materials'!H366","v":"MODESCST002M"},null,null,null,0,{"$f":"'Bill of Materials'!J366","v":"standard material"},{"$f":"'Bill of Materials'!K366","v":"physical"},0]
[{"$f":"'Bill of Materials'!E367+'Bill of Materials'!F367","v":0},{"$f":"'Bill of Materials'!M367","v":"EA"},{"$f":"'Bill of Materials'!G367","v":"SC/ST, MM - Mode Conditioning Patch Cord for Gigabit E'net LX/LH GBIC to 62.5/125um, 3 Meter"},{"$f":"'Bill of Materials'!L367","v":"DWC"},{"$f":"'Bill of Materials'!N367","v":96.62},{"$f":"'Bill of Materials'!P367","v":"DWC"},{"$f":"'Bill of Materials'!C367","v":"INFO-3605"},{"$f":"'Bill of Materials'!H367","v":"MODESCST003M"},null,null,null,0,{"$f":"'Bill of Materials'!J367","v":"standard material"},{"$f":"'Bill of Materials'!K367","v":"physical"},0]
[{"$f":"'Bill of Materials'!E368+'Bill of Materials'!F368","v":0},{"$f":"'Bill of Materials'!M368","v":"EA"},{"$f":"'Bill of Materials'!G368","v":"SC/ST, MM - Mode Conditioning Patch Cord for Gigabit E'net LX/LH GBIC to 62.5/125um, 5 Meter"},{"$f":"'Bill of Materials'!L368","v":"DWC"},{"$f":"'Bill of Materials'!N368","v":99},{"$f":"'Bill of Materials'!P368","v":"DWC"},{"$f":"'Bill of Materials'!C368","v":"INFO-3606"},{"$f":"'Bill of Materials'!H368","v":"MODESCST005M"},null,null,null,0,{"$f":"'Bill of Materials'!J368","v":"standard material"},{"$f":"'Bill of Materials'!K368","v":"physical"},0]
[{"$f":"'Bill of Materials'!E369+'Bill of Materials'!F369","v":0},{"$f":"'Bill of Materials'!M369","v":"EA"},{"$f":"'Bill of Materials'!G369","v":"LC/SC, SM Fiber Patch Cord, Duplex, 3 Meter, Riser, No Clips"},{"$f":"'Bill of Materials'!L369","v":"DWC"},{"$f":"'Bill of Materials'!N369","v":19.45},{"$f":"'Bill of Materials'!P369","v":"DWC"},{"$f":"'Bill of Materials'!C369","v":"INFO-8662"},{"$f":"'Bill of Materials'!H369","v":"ULC-USC-R20Z-Q-0003"},null,null,null,0,{"$f":"'Bill of Materials'!J369","v":"standard material"},{"$f":"'Bill of Materials'!K369","v":"physical"},0]
[{"$f":"'Bill of Materials'!E370+'Bill of Materials'!F370","v":0},{"$f":"'Bill of Materials'!M370","v":"EA"},{"$f":"'Bill of Materials'!G370","v":"LC/ ST, MM Fiber Patch Cord, Duplex, 1 Meter, Riser, No Clips"},{"$f":"'Bill of Materials'!L370","v":"DWC"},{"$f":"'Bill of Materials'!N370","v":16.579999999999998},{"$f":"'Bill of Materials'!P370","v":"DWC"},{"$f":"'Bill of Materials'!C370","v":"INFO-8786"},{"$f":"'Bill of Materials'!H370","v":"PLC-PST-R20Z-002-2-0001"},null,null,null,0,{"$f":"'Bill of Materials'!J370","v":"standard material"},{"$f":"'Bill of Materials'!K370","v":"physical"},0]
[{"$f":"'Bill of Materials'!E371+'Bill of Materials'!F371","v":0},{"$f":"'Bill of Materials'!M371","v":"EA"},{"$f":"'Bill of Materials'!G371","v":"LC/ST, MM Fiber Patch Cord, Duplex, 3 Meter, Riser, No Clips"},{"$f":"'Bill of Materials'!L371","v":"DWC"},{"$f":"'Bill of Materials'!N371","v":17.72},{"$f":"'Bill of Materials'!P371","v":"DWC"},{"$f":"'Bill of Materials'!C371","v":"INFO-8787"},{"$f":"'Bill of Materials'!H371","v":"PLC-PST-R20Z-002-2-0003"},null,null,null,0,{"$f":"'Bill of Materials'!J371","v":"standard material"},{"$f":"'Bill of Materials'!K371","v":"physical"},0]
[{"$f":"'Bill of Materials'!E372+'Bill of Materials'!F372","v":0},{"$f":"'Bill of Materials'!M372","v":"EA"},{"$f":"'Bill of Materials'!G372","v":"LC/SC, MM Fiber Patch Cord, 62.5/125um, Duplex, 1 Meter, Riser, No Clips"},{"$f":"'Bill of Materials'!L372","v":"DWC"},{"$f":"'Bill of Materials'!N372","v":16.86},{"$f":"'Bill of Materials'!P372","v":"DWC"},{"$f":"'Bill of Materials'!C372","v":"INFO-8788"},{"$f":"'Bill of Materials'!H372","v":"PLC-PSC-R20Z-002-2-0001"},null,null,null,0,{"$f":"'Bill of Materials'!J372","v":"standard material"},{"$f":"'Bill of Materials'!K372","v":"physical"},0]
[{"$f":"'Bill of Materials'!#REF!+'Bill of Materials'!#REF!","v":{"$error":"#REF!"}},{"$f":"'Bill of Materials'!#REF!","v":{"$error":"#REF!"}},{"$f":"'Bill of Materials'!#REF!","v":{"$error":"#REF!"}},{"$f":"'Bill of Materials'!#REF!","v":{"$error":"#REF!"}},{"$f":"'Bill of Materials'!#REF!","v":{"$error":"#REF!"}},{"$f":"'Bill of Materials'!#REF!","v":{"$error":"#REF!"}},{"$f":"'Bill of Materials'!#REF!","v":{"$error":"#REF!"}},{"$f":"'Bill of Materials'!#REF!","v":{"$error":"#REF!"}},null,null,null,{"$error":"#REF!"},{"$f":"'Bill of Materials'!#REF!","v":{"$error":"#REF!"}},{"$f":"'Bill of Materials'!#REF!","v":{"$error":"#REF!"}},{"$error":"#REF!"}]
[{"$f":"'Bill of Materials'!E373+'Bill of Materials'!F373","v":0},{"$f":"'Bill of Materials'!M373","v":"EA"},{"$f":"'Bill of Materials'!G373","v":"LC/SC, MM Fiber Patch Cord, 62.5/125um, Duplex, 3 Meter, Riser, No Clips"},{"$f":"'Bill of Materials'!L373","v":"DWC"},{"$f":"'Bill of Materials'!N373","v":18.010000000000002},{"$f":"'Bill of Materials'!P373","v":"DWC"},{"$f":"'Bill of Materials'!C373","v":"INFO-8789"},{"$f":"'Bill of Materials'!H373","v":"PLC-PSC-R20Z-002-2-0003"},null,null,null,0,{"$f":"'Bill of Materials'!J373","v":"standard material"},{"$f":"'Bill of Materials'!K373","v":"physical"},0]
[{"$f":"'Bill of Materials'!E374+'Bill of Materials'!F374","v":0},{"$f":"'Bill of Materials'!M374","v":"EA"},{"$f":"'Bill of Materials'!G374","v":"LC/ST, SM Fiber Patch Cord, Duplex, 1 Meter, Riser, No Clips"},{"$f":"'Bill of Materials'!L374","v":"DWC"},{"$f":"'Bill of Materials'!N374","v":18.309999999999999},{"$f":"'Bill of Materials'!P374","v":"DWC"},{"$f":"'Bill of Materials'!C374","v":"INFO-8790"},{"$f":"'Bill of Materials'!H374","v":"ULC-UST-R20Z-002-Q-0001"},null,null,null,0,{"$f":"'Bill of Materials'!J374","v":"standard material"},{"$f":"'Bill of Materials'!K374","v":"physical"},0]
[{"$f":"'Bill of Materials'!E375+'Bill of Materials'!F375","v":0},{"$f":"'Bill of Materials'!M375","v":"EA"},{"$f":"'Bill of Materials'!G375","v":"LC/ST, SM Fiber Patch Cord, Duplex, 3 Meter, Riser, No Clips"},{"$f":"'Bill of Materials'!L375","v":"DWC"},{"$f":"'Bill of Materials'!N375","v":19.45},{"$f":"'Bill of Materials'!P375","v":"DWC"},{"$f":"'Bill of Materials'!C375","v":"INFO-8791"},{"$f":"'Bill of Materials'!H375","v":"ULC-UST-R20Z-002-Q-0003"},null,null,null,0,{"$f":"'Bill of Materials'!J375","v":"standard material"},{"$f":"'Bill of Materials'!K375","v":"physical"},0]
[{"$f":"'Bill of Materials'!E376+'Bill of Materials'!F376","v":0},{"$f":"'Bill of Materials'!M376","v":"EA"},{"$f":"'Bill of Materials'!G376","v":"LC/SC, SM Fiber Patch Cord, Duplex, 1 Meter, Riser, No Clips"},{"$f":"'Bill of Materials'!L376","v":"DWC"},{"$f":"'Bill of Materials'!N376","v":18.309999999999999},{"$f":"'Bill of Materials'!P376","v":"DWC"},{"$f":"'Bill of Materials'!C376","v":"INFO-8792"},{"$f":"'Bill of Materials'!H376","v":"ULC-USC-R20Z-002-Q-0001"},null,null,null,0,{"$f":"'Bill of Materials'!J376","v":"standard material"},{"$f":"'Bill of Materials'!K376","v":"physical"},0]
[{"$f":"'Bill of Materials'!E378+'Bill of Materials'!F378","v":0},{"$f":"'Bill of Materials'!M378","v":"EA"},{"$f":"'Bill of Materials'!G378","v":"1\" Cord Connector for 1\" Innerducts and SSU/Box Connections"},{"$f":"'Bill of Materials'!L378","v":"Hubbell"},{"$f":"'Bill of Materials'!N378","v":19.399999999999999},{"$f":"'Bill of Materials'!P378","v":"DWC"},{"$f":"'Bill of Materials'!C378","v":"10261"},{"$f":"'Bill of Materials'!H378","v":"SHC1049"},null,null,null,0,{"$f":"'Bill of Materials'!J378","v":"standard material"},{"$f":"'Bill of Materials'!K378","v":"physical"},0]
[{"$f":"'Bill of Materials'!E379+'Bill of Materials'!F379","v":0},{"$f":"'Bill of Materials'!M379","v":"EA"},{"$f":"'Bill of Materials'!G379","v":"1\" Locknut for Cord Connector"},{"$f":"'Bill of Materials'!L379","v":"Bridgeport"},{"$f":"'Bill of Materials'!N379","v":0.35},{"$f":"'Bill of Materials'!P379","v":"DWC"},{"$f":"'Bill of Materials'!C379","v":"10262"},{"$f":"'Bill of Materials'!H379","v":"103-S"},null,null,null,0,{"$f":"'Bill of Materials'!J379","v":"standard material"},{"$f":"'Bill of Materials'!K379","v":"physical"},0]
[{"$f":"'Bill of Materials'!E380+'Bill of Materials'!F380","v":0},{"$f":"'Bill of Materials'!M380","v":"EA"},{"$f":"'Bill of Materials'!G380","v":"24X20X8 Type 4x Enclosure (Outdoor Enclosure)"},{"$f":"'Bill of Materials'!L380","v":"Hammond"},{"$f":"'Bill of Materials'!N380","v":205.29},{"$f":"'Bill of Materials'!P380","v":"DWC"},{"$f":"'Bill of Materials'!C380","v":"10324"},{"$f":"'Bill of Materials'!H380","v":"EN4SD24208GY"},null,null,null,0,{"$f":"'Bill of Materials'!J380","v":"standard material"},{"$f":"'Bill of Materials'!K380","v":"physical"},0]
[{"$f":"'Bill of Materials'!E381+'Bill of Materials'!F381","v":0},{"$f":"'Bill of Materials'!M381","v":"EA"},{"$f":"'Bill of Materials'!G381","v":"1.5\" Cord Connector to fit 1.3\" O.D. Cable "},{"$f":"'Bill of Materials'!L381","v":"Hubbell"},{"$f":"'Bill of Materials'!N381","v":29.99},{"$f":"'Bill of Materials'!P381","v":"DWC"},{"$f":"'Bill of Materials'!C381","v":"INFO-3302"},{"$f":"'Bill of Materials'!H381","v":"SHC-1061"},null,null,null,0,{"$f":"'Bill of Materials'!J381","v":"standard material"},{"$f":"'Bill of Materials'!K381","v":"physical"},0]
[{"$f":"'Bill of Materials'!E382+'Bill of Materials'!F382","v":0},{"$f":"'Bill of Materials'!M382","v":"EA"},{"$f":"'Bill of Materials'!G382","v":"2\" Cord Connector to fit 1.75 to 2\" O.D. Cable "},{"$f":"'Bill of Materials'!L382","v":"Hubbell"},{"$f":"'Bill of Materials'!N382","v":44.38},{"$f":"'Bill of Materials'!P382","v":"DWC"},{"$f":"'Bill of Materials'!C382","v":"INFO-3303"},{"$f":"'Bill of Materials'!H382","v":"SHC-1072"},null,null,null,0,{"$f":"'Bill of Materials'!J382","v":"standard material"},{"$f":"'Bill of Materials'!K382","v":"physical"},0]
[{"$f":"'Bill of Materials'!E383+'Bill of Materials'!F383","v":0},{"$f":"'Bill of Materials'!M383","v":"EA"},{"$f":"'Bill of Materials'!G383","v":"1.5\" Insulating Bushing"},{"$f":"'Bill of Materials'!L383","v":"OZ Gedney"},{"$f":"'Bill of Materials'!N383","v":1.19},{"$f":"'Bill of Materials'!P383","v":"DWC"},{"$f":"'Bill of Materials'!C383","v":"INFO-3304"},{"$f":"'Bill of Materials'!H383","v":"BB150"},null,null,null,0,{"$f":"'Bill of Materials'!J383","v":"standard material"},{"$f":"'Bill of Materials'!K383","v":"physical"},0]
[{"$f":"'Bill of Materials'!E384+'Bill of Materials'!F384","v":0},{"$f":"'Bill of Materials'!M384","v":"EA"},{"$f":"'Bill of Materials'!G384","v":"1-1/2\" Lock Nut for Cord Connector "},{"$f":"'Bill of Materials'!L384","v":"Bridgeport"},{"$f":"'Bill of Materials'!N384","v":0.36},{"$f":"'Bill of Materials'!P384","v":"DWC"},{"$f":"'Bill of Materials'!C384","v":"INFO-3307"},{"$f":"'Bill of Materials'!H384","v":"105"},null,null,null,0,{"$f":"'Bill of Materials'!J384","v":"standard material"},{"$f":"'Bill of Materials'!K384","v":"physical"},0]
[{"$f":"'Bill of Materials'!E385+'Bill of Materials'!F385","v":0},{"$f":"'Bill of Materials'!M385","v":"EA"},{"$f":"'Bill of Materials'!G385","v":"2\" Lock Nut for Cord Connector"},{"$f":"'Bill of Materials'!L385","v":"Bridgeport"},{"$f":"'Bill of Materials'!N385","v":0.5},{"$f":"'Bill of Materials'!P385","v":"DWC"},{"$f":"'Bill of Materials'!C385","v":"INFO-3308"},{"$f":"'Bill of Materials'!H385","v":"106"},null,null,null,0,{"$f":"'Bill of Materials'!J385","v":"standard material"},{"$f":"'Bill of Materials'!K385","v":"physical"},0]
[{"$f":"'Bill of Materials'!E386+'Bill of Materials'!F386","v":0},{"$f":"'Bill of Materials'!M386","v":"EA"},{"$f":"'Bill of Materials'!G386","v":"NEMA 1 wall mount cabinet (16x16x7).14 ga steel spot welded construction with flat 14ga steel sub panel, two fixed butt hinges, slotted cam fastener, and standard powder coat finish. (ABF TC TDU)"},{"$f":"'Bill of Materials'!L386","v":"Hammond"},{"$f":"'Bill of Materials'!N386","v":117.51},{"$f":"'Bill of Materials'!P386","v":"DWC"},{"$f":"'Bill of Materials'!C386","v":"INFO-3311"},{"$f":"'Bill of Materials'!H386","v":"N1A16167"},null,null,null,0,{"$f":"'Bill of Materials'!J386","v":"standard material"},{"$f":"'Bill of Materials'!K386","v":"physical"},0]
[{"$f":"'Bill of Materials'!E387+'Bill of Materials'!F387","v":0},{"$f":"'Bill of Materials'!M387","v":"EA"},{"$f":"'Bill of Materials'!G387","v":"NEMA 1 wall mount cabinet (30x24x7). 14 ga steel spot welded construction with flat 12 ga steel sub panel, three fixed butt hinges, slotted cam fastener, and standard powder coat finish. (ABF MC/IC TDU)"},{"$f":"'Bill of Materials'!L387","v":"Hammond"},{"$f":"'Bill of Materials'!N387","v":210.37},{"$f":"'Bill of Materials'!P387","v":"DWC"},{"$f":"'Bill of Materials'!C387","v":"INFO-3312"},{"$f":"'Bill of Materials'!H387","v":"N1A30247"},null,null,null,{"$f":"E406*A406","v":0},{"$f":"'Bill of Materials'!J387","v":"standard material"},{"$f":"'Bill of Materials'!K387","v":"physical"},{"$f":"IF(A406>0,1,0)","v":0}]
[{"$f":"'Bill of Materials'!E388+'Bill of Materials'!F388","v":0},{"$f":"'Bill of Materials'!M388","v":"REEL"},{"$f":"'Bill of Materials'!G388","v":"Nineteen tube cable, inside plant, riser (Orange), \r\n1000 FT Reel"},{"$f":"'Bill of Materials'!L388","v":"Sumitomo"},{"$f":"'Bill of Materials'!N388","v":4806.45},{"$f":"'Bill of Materials'!P388","v":"DWC"},{"$f":"'Bill of Materials'!C388","v":"INFO-3401"},{"$f":"'Bill of Materials'!H388","v":"TC19TRX"},null,null,null,0,{"$f":"'Bill of Materials'!J388","v":"standard material"},{"$f":"'Bill of Materials'!K388","v":"physical"},0]
[{"$f":"'Bill of Materials'!E389+'Bill of Materials'!F389","v":0},{"$f":"'Bill of Materials'!M389","v":"REEL"},{"$f":"'Bill of Materials'!G389","v":"Seven tube cable, inside plant, riser (Orange),\r\n1000 FT Reel"},{"$f":"'Bill of Materials'!L389","v":"Sumitomo"},{"$f":"'Bill of Materials'!N389","v":2027.52},{"$f":"'Bill of Materials'!P389","v":"DWC"},{"$f":"'Bill of Materials'!C389","v":"INFO-3402"},{"$f":"'Bill of Materials'!H389","v":"TC07TRX"},null,null,null,0,{"$f":"'Bill of Materials'!J389","v":"standard material"},{"$f":"'Bill of Materials'!K389","v":"physical"},0]
[{"$f":"'Bill of Materials'!E390+'Bill of Materials'!F390","v":0},{"$f":"'Bill of Materials'!M390","v":"REEL"},{"$f":"'Bill of Materials'!G390","v":"Seven tube cable, outside plant, 1000 FT Reel "},{"$f":"'Bill of Materials'!L390","v":"Sumitomo"},{"$f":"'Bill of Materials'!N390","v":1788.93},{"$f":"'Bill of Materials'!P390","v":"DWC"},{"$f":"'Bill of Materials'!C390","v":"INFO-3403"},{"$f":"'Bill of Materials'!H390","v":"TC07TOX"},null,null,null,0,{"$f":"'Bill of Materials'!J390","v":"standard material"},{"$f":"'Bill of Materials'!K390","v":"physical"},0]
[{"$f":"'Bill of Materials'!E391+'Bill of Materials'!F391","v":0},{"$f":"'Bill of Materials'!M391","v":"REEL"},{"$f":"'Bill of Materials'!G391","v":"Four tube cable, outside plant, 1000 FT Reel "},{"$f":"'Bill of Materials'!L391","v":"Sumitomo"},{"$f":"'Bill of Materials'!N391","v":1287.99},{"$f":"'Bill of Materials'!P391","v":"DWC"},{"$f":"'Bill of Materials'!C391","v":"INFO-3404"},{"$f":"'Bill of Materials'!H391","v":"TC04TOD"},null,null,null,0,{"$f":"'Bill of Materials'!J391","v":"standard material"},{"$f":"'Bill of Materials'!K391","v":"physical"},0]
[{"$f":"'Bill of Materials'!E392+'Bill of Materials'!F392","v":0},{"$f":"'Bill of Materials'!M392","v":"REEL"},{"$f":"'Bill of Materials'!G392","v":"1 Tube/Plenum Rated/OFNP-UL910, 1000 FT Reel"},{"$f":"'Bill of Materials'!L392","v":"Sumitomo"},{"$f":"'Bill of Materials'!N392","v":608.85},{"$f":"'Bill of Materials'!P392","v":"DWC"},{"$f":"'Bill of Materials'!C392","v":"INFO-3406"},{"$f":"'Bill of Materials'!H392","v":"TC01TPX"},null,null,null,0,{"$f":"'Bill of Materials'!J392","v":"standard material"},{"$f":"'Bill of Materials'!K392","v":"physical"},0]
[{"$f":"'Bill of Materials'!E393+'Bill of Materials'!F393","v":0},{"$f":"'Bill of Materials'!M393","v":"EA"},{"$f":"'Bill of Materials'!G393","v":"Optical Fiber Bushing for 6 Fiber Bundle. Plugs occupied tube"},{"$f":"'Bill of Materials'!L393","v":"Sumitomo"},{"$f":"'Bill of Materials'!N393","v":3.27},{"$f":"'Bill of Materials'!P393","v":"DWC"},{"$f":"'Bill of Materials'!C393","v":"INFO-3418"},{"$f":"'Bill of Materials'!H393","v":"FT2MFB"},null,null,null,0,{"$f":"'Bill of Materials'!J393","v":"standard material"},{"$f":"'Bill of Materials'!K393","v":"physical"},0]
[{"$f":"'Bill of Materials'!E394+'Bill of Materials'!F394","v":0},{"$f":"'Bill of Materials'!M394","v":"EA"},{"$f":"'Bill of Materials'!G394","v":"Optical Fiber Bushing for 18 Fiber bundle. Plugs occupied tube"},{"$f":"'Bill of Materials'!L394","v":"Sumitomo"},{"$f":"'Bill of Materials'!N394","v":3.47},{"$f":"'Bill of Materials'!P394","v":"DWC"},{"$f":"'Bill of Materials'!C394","v":"INFO-3419"},{"$f":"'Bill of Materials'!H394","v":"FT3MFB"},null,null,null,0,{"$f":"'Bill of Materials'!J394","v":"standard material"},{"$f":"'Bill of Materials'!K394","v":"physical"},0]
[{"$f":"'Bill of Materials'!E395+'Bill of Materials'!F395","v":0},{"$f":"'Bill of Materials'!M395","v":"EA"},{"$f":"'Bill of Materials'!G395","v":"Tube Coupling. 8mm push fit coupling to connect tubes together.  (10 Pieces/Package)"},{"$f":"'Bill of Materials'!L395","v":"Sumitomo"},{"$f":"'Bill of Materials'!N395","v":21.24},{"$f":"'Bill of Materials'!P395","v":"DWC"},{"$f":"'Bill of Materials'!C395","v":"INFO-3420"},{"$f":"'Bill of Materials'!H395","v":"DE08MC2"},null,null,null,0,{"$f":"'Bill of Materials'!J395","v":"standard material"},{"$f":"'Bill of Materials'!K395","v":"physical"},0]
[{"$f":"'Bill of Materials'!E396+'Bill of Materials'!F396","v":0},{"$f":"'Bill of Materials'!M396","v":"EA"},{"$f":"'Bill of Materials'!G396","v":"Tee Fitting . Used to connect air source to distribution tubing. Push fit."},{"$f":"'Bill of Materials'!L396","v":"Sumitomo"},{"$f":"'Bill of Materials'!N396","v":3.37},{"$f":"'Bill of Materials'!P396","v":"DWC"},{"$f":"'Bill of Materials'!C396","v":"INFO-3421"},{"$f":"'Bill of Materials'!H396","v":"DE08MT"},null,null,null,0,{"$f":"'Bill of Materials'!J396","v":"standard material"},{"$f":"'Bill of Materials'!K396","v":"physical"},0]
[{"$f":"'Bill of Materials'!E397+'Bill of Materials'!F397","v":0},{"$f":"'Bill of Materials'!M397","v":"EA"},{"$f":"'Bill of Materials'!G397","v":"ABF tube plugs, 6mm. Used to fill ends of tube cable when not in use.  (10 Pieces/Package)"},{"$f":"'Bill of Materials'!L397","v":"Sumitomo"},{"$f":"'Bill of Materials'!N397","v":5.37},{"$f":"'Bill of Materials'!P397","v":"DWC"},{"$f":"'Bill of Materials'!C397","v":"INFO-3422"},{"$f":"'Bill of Materials'!H397","v":"DE06MP"},null,null,null,0,{"$f":"'Bill of Materials'!J397","v":"standard material"},{"$f":"'Bill of Materials'!K397","v":"physical"},0]
[{"$f":"'Bill of Materials'!E398+'Bill of Materials'!F398","v":0},{"$f":"'Bill of Materials'!M398","v":"EA"},{"$f":"'Bill of Materials'!G398","v":"Tube cutter"},{"$f":"'Bill of Materials'!L398","v":"Sumitomo"},{"$f":"'Bill of Materials'!N398","v":9.11},{"$f":"'Bill of Materials'!P398","v":"DWC"},{"$f":"'Bill of Materials'!C398","v":"INFO-3423"},{"$f":"'Bill of Materials'!H398","v":"BETC001"},null,null,null,0,{"$f":"'Bill of Materials'!J398","v":"standard material"},{"$f":"'Bill of Materials'!K398","v":"physical"},0]
[{"$f":"'Bill of Materials'!E399+'Bill of Materials'!F399","v":0},{"$f":"'Bill of Materials'!M399","v":"EA"},{"$f":"'Bill of Materials'!G399","v":"Replacement blade for tube cutter"},{"$f":"'Bill of Materials'!L399","v":"Sumitomo"},{"$f":"'Bill of Materials'!N399","v":4.21},{"$f":"'Bill of Materials'!P399","v":"DWC"},{"$f":"'Bill of Materials'!C399","v":"INFO-3424"},{"$f":"'Bill of Materials'!H399","v":"BETC00B"},null,null,null,0,{"$f":"'Bill of Materials'!J399","v":"standard material"},{"$f":"'Bill of Materials'!K399","v":"physical"},0]
[{"$f":"'Bill of Materials'!E400+'Bill of Materials'!F400","v":0},{"$f":"'Bill of Materials'!M400","v":"EA"},{"$f":"'Bill of Materials'!G400","v":"2mm blowing tip used on lead end of fiber bundle during installation."},{"$f":"'Bill of Materials'!L400","v":"Sumitomo"},{"$f":"'Bill of Materials'!N400","v":12.95},{"$f":"'Bill of Materials'!P400","v":"DWC"},{"$f":"'Bill of Materials'!C400","v":"INFO-3425"},{"$f":"'Bill of Materials'!H400","v":"BE2MFT"},null,null,null,0,{"$f":"'Bill of Materials'!J400","v":"standard material"},{"$f":"'Bill of Materials'!K400","v":"physical"},0]
[{"$f":"'Bill of Materials'!E401+'Bill of Materials'!F401","v":0},{"$f":"'Bill of Materials'!M401","v":"EA"},{"$f":"'Bill of Materials'!G401","v":"Tube cable cutter up to 2\" diameter"},{"$f":"'Bill of Materials'!L401","v":"Sumitomo"},{"$f":"'Bill of Materials'!N401","v":171.42},{"$f":"'Bill of Materials'!P401","v":"DWC"},{"$f":"'Bill of Materials'!C401","v":"INFO-3426"},{"$f":"'Bill of Materials'!H401","v":"BETL01"},null,null,null,0,{"$f":"'Bill of Materials'!J401","v":"standard material"},{"$f":"'Bill of Materials'!K401","v":"physical"},0]
[{"$f":"'Bill of Materials'!E402+'Bill of Materials'!F402","v":0},{"$f":"'Bill of Materials'!M402","v":"EA"},{"$f":"'Bill of Materials'!G402","v":"Replacement blade for tube cable cutter #BETL01"},{"$f":"'Bill of Materials'!L402","v":"Sumitomo"},{"$f":"'Bill of Materials'!N402","v":37.22},{"$f":"'Bill of Materials'!P402","v":"DWC"},{"$f":"'Bill of Materials'!C402","v":"INFO-3427"},{"$f":"'Bill of Materials'!H402","v":"BETL02"},null,null,null,0,{"$f":"'Bill of Materials'!J402","v":"standard material"},{"$f":"'Bill of Materials'!K402","v":"physical"},0]
[{"$f":"'Bill of Materials'!E403+'Bill of Materials'!F403","v":0},{"$f":"'Bill of Materials'!M403","v":"EA"},{"$f":"'Bill of Materials'!G403","v":"Blowing head lease (One year lease)"},{"$f":"'Bill of Materials'!L403","v":"Sumitomo"},{"$f":"'Bill of Materials'!N403","v":3294.72},{"$f":"'Bill of Materials'!P403","v":"DWC"},{"$f":"'Bill of Materials'!C403","v":"INFO-3428"},{"$f":"'Bill of Materials'!H403","v":"BE200RY"},null,null,null,0,{"$f":"'Bill of Materials'!J403","v":"standard material"},{"$f":"'Bill of Materials'!K403","v":"physical"},0]
[{"$f":"'Bill of Materials'!E404+'Bill of Materials'!F404","v":0},{"$f":"'Bill of Materials'!M404","v":"EA"},{"$f":"'Bill of Materials'!G404","v":"Blowing head air seal for 2-6 fiber bundle"},{"$f":"'Bill of Materials'!L404","v":"Sumitomo"},{"$f":"'Bill of Materials'!N404","v":19.309999999999999},{"$f":"'Bill of Materials'!P404","v":"DWC"},{"$f":"'Bill of Materials'!C404","v":"INFO-3429"},{"$f":"'Bill of Materials'!H404","v":"BE02SL"},null,null,null,0,{"$f":"'Bill of Materials'!J404","v":"standard material"},{"$f":"'Bill of Materials'!K404","v":"physical"},0]
[{"$f":"'Bill of Materials'!E405+'Bill of Materials'!F405","v":0},{"$f":"'Bill of Materials'!M405","v":"EA"},{"$f":"'Bill of Materials'!G405","v":"Blowing head air seal for 12-18 fiber bundle"},{"$f":"'Bill of Materials'!L405","v":"Sumitomo"},{"$f":"'Bill of Materials'!N405","v":19.309999999999999},{"$f":"'Bill of Materials'!P405","v":"DWC"},{"$f":"'Bill of Materials'!C405","v":"INFO-3430"},{"$f":"'Bill of Materials'!H405","v":"BE03SL"},null,null,null,0,{"$f":"'Bill of Materials'!J405","v":"standard material"},{"$f":"'Bill of Materials'!K405","v":"physical"},0]
[{"$f":"'Bill of Materials'!E406+'Bill of Materials'!F406","v":0},{"$f":"'Bill of Materials'!M406","v":"EA"},{"$f":"'Bill of Materials'!G406","v":"2 Stage Regulator Kit/200 psi."},{"$f":"'Bill of Materials'!L406","v":"Sumitomo"},{"$f":"'Bill of Materials'!N406","v":227.7},{"$f":"'Bill of Materials'!P406","v":"DWC"},{"$f":"'Bill of Materials'!C406","v":"INFO-3432"},{"$f":"'Bill of Materials'!H406","v":"BEREG01"},null,null,null,0,{"$f":"'Bill of Materials'!J406","v":"standard material"},{"$f":"'Bill of Materials'!K406","v":"physical"},0]
[{"$f":"'Bill of Materials'!E407+'Bill of Materials'!F407","v":0},{"$f":"'Bill of Materials'!M407","v":"EA"},{"$f":"'Bill of Materials'!G407","v":"Tube test kit"},{"$f":"'Bill of Materials'!L407","v":"Sumitomo"},{"$f":"'Bill of Materials'!N407","v":51.56},{"$f":"'Bill of Materials'!P407","v":"DWC"},{"$f":"'Bill of Materials'!C407","v":"INFO-3433"},{"$f":"'Bill of Materials'!H407","v":"BEPT001"},null,null,null,0,{"$f":"'Bill of Materials'!J407","v":"standard material"},{"$f":"'Bill of Materials'!K407","v":"physical"},0]
[{"$f":"'Bill of Materials'!E408+'Bill of Materials'!F408","v":0},{"$f":"'Bill of Materials'!M408","v":"EA"},{"$f":"'Bill of Materials'!G408","v":"Breakout kit for termination of 6 fibers"},{"$f":"'Bill of Materials'!L408","v":"Sumitomo"},{"$f":"'Bill of Materials'!N408","v":16.579999999999998},{"$f":"'Bill of Materials'!P408","v":"DWC"},{"$f":"'Bill of Materials'!C408","v":"INFO-3434"},{"$f":"'Bill of Materials'!H408","v":"FTFLD06"},null,null,null,0,{"$f":"'Bill of Materials'!J408","v":"standard material"},{"$f":"'Bill of Materials'!K408","v":"physical"},0]
[{"$f":"'Bill of Materials'!E409+'Bill of Materials'!F409","v":0},{"$f":"'Bill of Materials'!M409","v":"EA"},{"$f":"'Bill of Materials'!G409","v":"7 tube cable straight through splice case"},{"$f":"'Bill of Materials'!L409","v":"Sumitomo"},{"$f":"'Bill of Materials'!N409","v":59.3},{"$f":"'Bill of Materials'!P409","v":"DWC"},{"$f":"'Bill of Materials'!C409","v":"INFO-3435"},{"$f":"'Bill of Materials'!H409","v":"DE01SPL"},null,null,null,0,{"$f":"'Bill of Materials'!J409","v":"standard material"},{"$f":"'Bill of Materials'!K409","v":"physical"},0]
[{"$f":"'Bill of Materials'!E410+'Bill of Materials'!F410","v":0},{"$f":"'Bill of Materials'!M410","v":"EA"},{"$f":"'Bill of Materials'!G410","v":"19 tube cable straight through splice case"},{"$f":"'Bill of Materials'!L410","v":"Sumitomo"},{"$f":"'Bill of Materials'!N410","v":96.77},{"$f":"'Bill of Materials'!P410","v":"DWC"},{"$f":"'Bill of Materials'!C410","v":"INFO-3436"},{"$f":"'Bill of Materials'!H410","v":"DE02SPL"},null,null,null,0,{"$f":"'Bill of Materials'!J410","v":"standard material"},{"$f":"'Bill of Materials'!K410","v":"physical"},0]
[{"$f":"'Bill of Materials'!E411+'Bill of Materials'!F411","v":0},{"$f":"'Bill of Materials'!M411","v":"REEL"},{"$f":"'Bill of Materials'!G411","v":"Nineteen tube cable, outside plant, 1000 FT Reel"},{"$f":"'Bill of Materials'!L411","v":"Sumitomo"},{"$f":"'Bill of Materials'!N411","v":3747.15},{"$f":"'Bill of Materials'!P411","v":"DWC"},{"$f":"'Bill of Materials'!C411","v":"INFO-3437"},{"$f":"'Bill of Materials'!H411","v":"TC19TOX"},null,null,null,0,{"$f":"'Bill of Materials'!J411","v":"standard material"},{"$f":"'Bill of Materials'!K411","v":"physical"},0]
[{"$f":"'Bill of Materials'!E412+'Bill of Materials'!F412","v":0},{"$f":"'Bill of Materials'!M412","v":"EA"},{"$f":"'Bill of Materials'!G412","v":"3mm blowing tip used on lead end of fiber bundle during installation."},{"$f":"'Bill of Materials'!L412","v":"Sumitomo"},{"$f":"'Bill of Materials'!N412","v":12.95},{"$f":"'Bill of Materials'!P412","v":"DWC"},{"$f":"'Bill of Materials'!C412","v":"INFO-3438"},{"$f":"'Bill of Materials'!H412","v":"BE3MFT"},null,null,null,0,{"$f":"'Bill of Materials'!J412","v":"standard material"},{"$f":"'Bill of Materials'!K412","v":"physical"},0]
[{"$f":"'Bill of Materials'!E413+'Bill of Materials'!F413","v":0},{"$f":"'Bill of Materials'!M413","v":"EA"},{"$f":"'Bill of Materials'!G413","v":"Breakout kit for termination of 18 fibers"},{"$f":"'Bill of Materials'!L413","v":"Sumitomo"},{"$f":"'Bill of Materials'!N413","v":36.69},{"$f":"'Bill of Materials'!P413","v":"DWC"},{"$f":"'Bill of Materials'!C413","v":"INFO-3439"},{"$f":"'Bill of Materials'!H413","v":"FTFLD18"},null,null,null,0,{"$f":"'Bill of Materials'!J413","v":"standard material"},{"$f":"'Bill of Materials'!K413","v":"physical"},0]
[{"$f":"'Bill of Materials'!E414+'Bill of Materials'!F414","v":0},{"$f":"'Bill of Materials'!M414","v":"EA"},{"$f":"'Bill of Materials'!G414","v":"Tube cable termination panel set. Rack mount. Holds up to six 19 tube cables."},{"$f":"'Bill of Materials'!L414","v":"Sumitomo"},{"$f":"'Bill of Materials'!N414","v":121.97},{"$f":"'Bill of Materials'!P414","v":"DWC"},{"$f":"'Bill of Materials'!C414","v":"INFO-3440"},{"$f":"'Bill of Materials'!H414","v":"DEDTTP2"},null,null,null,0,{"$f":"'Bill of Materials'!J414","v":"standard material"},{"$f":"'Bill of Materials'!K414","v":"physical"},0]
[{"$f":"'Bill of Materials'!#REF!+'Bill of Materials'!#REF!","v":{"$error":"#REF!"}},{"$f":"'Bill of Materials'!#REF!","v":{"$error":"#REF!"}},{"$f":"'Bill of Materials'!#REF!","v":{"$error":"#REF!"}},{"$f":"'Bill of Materials'!#REF!","v":{"$error":"#REF!"}},{"$f":"'Bill of Materials'!#REF!","v":{"$error":"#REF!"}},{"$f":"'Bill of Materials'!#REF!","v":{"$error":"#REF!"}},{"$f":"'Bill of Materials'!#REF!","v":{"$error":"#REF!"}},{"$f":"'Bill of Materials'!#REF!","v":{"$error":"#REF!"}},null,null,null,{"$error":"#REF!"},{"$f":"'Bill of Materials'!#REF!","v":{"$error":"#REF!"}},{"$f":"'Bill of Materials'!#REF!","v":{"$error":"#REF!"}},{"$error":"#REF!"}]
[{"$f":"'Bill of Materials'!E415+'Bill of Materials'!F415","v":0},{"$f":"'Bill of Materials'!M415","v":"REEL"},{"$f":"'Bill of Materials'!G415","v":"Nineteen tube plenum cable with kevlar wrap"},{"$f":"'Bill of Materials'!L415","v":"Sumitomo"},{"$f":"'Bill of Materials'!N415","v":16801.29},{"$f":"'Bill of Materials'!P415","v":"DWC"},{"$f":"'Bill of Materials'!C415","v":"INFO-3444"},{"$f":"'Bill of Materials'!H415","v":"TC19TPX"},null,null,null,0,{"$f":"'Bill of Materials'!J415","v":"standard material"},{"$f":"'Bill of Materials'!K415","v":"physical"},0]
[{"$f":"'Bill of Materials'!E416+'Bill of Materials'!F416","v":0},{"$f":"'Bill of Materials'!M416","v":"REEL"},{"$f":"'Bill of Materials'!G416","v":"Seven tube plenum cable with kevlar wrap"},{"$f":"'Bill of Materials'!L416","v":"Sumitomo"},{"$f":"'Bill of Materials'!N416","v":4663.8900000000003},{"$f":"'Bill of Materials'!P416","v":"DWC"},{"$f":"'Bill of Materials'!C416","v":"INFO-3445"},{"$f":"'Bill of Materials'!H416","v":"TC07TPX"},null,null,null,0,{"$f":"'Bill of Materials'!J416","v":"standard material"},{"$f":"'Bill of Materials'!K416","v":"physical"},0]
[{"$f":"'Bill of Materials'!E417+'Bill of Materials'!F417","v":0},{"$f":"'Bill of Materials'!M417","v":"FT"},{"$f":"'Bill of Materials'!G417","v":"Single tube cable, for couplings, clear"},{"$f":"'Bill of Materials'!L417","v":"Sumitomo"},{"$f":"'Bill of Materials'!N417","v":0.31},{"$f":"'Bill of Materials'!P417","v":"DWC"},{"$f":"'Bill of Materials'!C417","v":"INFO-3447"},{"$f":"'Bill of Materials'!H417","v":"TC01TXX"},null,null,null,0,{"$f":"'Bill of Materials'!J417","v":"standard material"},{"$f":"'Bill of Materials'!K417","v":"physical"},0]
[{"$f":"'Bill of Materials'!E418+'Bill of Materials'!F418","v":0},{"$f":"'Bill of Materials'!M418","v":"REEL"},{"$f":"'Bill of Materials'!G418","v":"Six strand fiber optic bundle, SM., 2MM OD, \r\n7000 FT Reel"},{"$f":"'Bill of Materials'!L418","v":"Sumitomo"},{"$f":"'Bill of Materials'!N418","v":3506.58},{"$f":"'Bill of Materials'!P418","v":"DWC"},{"$f":"'Bill of Materials'!C418","v":"INFO-3448"},{"$f":"'Bill of Materials'!H418","v":"FB06SX"},null,null,null,0,{"$f":"'Bill of Materials'!J418","v":"standard material"},{"$f":"'Bill of Materials'!K418","v":"physical"},0]
[{"$f":"'Bill of Materials'!E419+'Bill of Materials'!F419","v":0},{"$f":"'Bill of Materials'!M419","v":"REEL"},{"$f":"'Bill of Materials'!G419","v":"Eighteen strand fiber optic bundle, SM., 3MM OD,\r\n7000 FT Reel"},{"$f":"'Bill of Materials'!L419","v":"Sumitomo"},{"$f":"'Bill of Materials'!N419","v":8266.5},{"$f":"'Bill of Materials'!P419","v":"DWC"},{"$f":"'Bill of Materials'!C419","v":"INFO-3451"},{"$f":"'Bill of Materials'!H419","v":"FB18SX"},null,null,null,0,{"$f":"'Bill of Materials'!J419","v":"standard material"},{"$f":"'Bill of Materials'!K419","v":"physical"},0]
[{"$f":"'Bill of Materials'!#REF!+'Bill of Materials'!#REF!","v":{"$error":"#REF!"}},{"$f":"'Bill of Materials'!#REF!","v":{"$error":"#REF!"}},{"$f":"'Bill of Materials'!#REF!","v":{"$error":"#REF!"}},{"$f":"'Bill of Materials'!#REF!","v":{"$error":"#REF!"}},{"$f":"'Bill of Materials'!#REF!","v":{"$error":"#REF!"}},{"$f":"'Bill of Materials'!#REF!","v":{"$error":"#REF!"}},{"$f":"'Bill of Materials'!#REF!","v":{"$error":"#REF!"}},{"$f":"'Bill of Materials'!#REF!","v":{"$error":"#REF!"}},null,null,null,{"$error":"#REF!"},{"$f":"'Bill of Materials'!#REF!","v":{"$error":"#REF!"}},{"$f":"'Bill of Materials'!#REF!","v":{"$error":"#REF!"}},{"$error":"#REF!"}]
[{"$f":"'Bill of Materials'!E420+'Bill of Materials'!F420","v":0},{"$f":"'Bill of Materials'!M420","v":"REEL"},{"$f":"'Bill of Materials'!G420","v":"Six strand fiber optic bundle, MM., 2MM OD, \r\n7000 FT Reel"},{"$f":"'Bill of Materials'!L420","v":"Sumitomo"},{"$f":"'Bill of Materials'!N420","v":7180.47},{"$f":"'Bill of Materials'!P420","v":"DWC"},{"$f":"'Bill of Materials'!C420","v":"INFO-3452"},{"$f":"'Bill of Materials'!H420","v":"FB06M6"},null,null,null,0,{"$f":"'Bill of Materials'!J420","v":"standard material"},{"$f":"'Bill of Materials'!K420","v":"physical"},0]
[{"$f":"'Bill of Materials'!E421+'Bill of Materials'!F421","v":0},{"$f":"'Bill of Materials'!M421","v":"FT"},{"$f":"'Bill of Materials'!G421","v":"Aerial 7 tube cable"},{"$f":"'Bill of Materials'!L421","v":"Sumitomo"},{"$f":"'Bill of Materials'!N421","v":2.17},{"$f":"'Bill of Materials'!P421","v":"DWC"},{"$f":"'Bill of Materials'!C421","v":"INFO-3456"},{"$f":"'Bill of Materials'!H421","v":"TC07MSO"},null,null,null,0,{"$f":"'Bill of Materials'!J421","v":"standard material"},{"$f":"'Bill of Materials'!K421","v":"physical"},0]
[{"$f":"'Bill of Materials'!E422+'Bill of Materials'!F422","v":0},{"$f":"'Bill of Materials'!M422","v":"FT"},{"$f":"'Bill of Materials'!G422","v":"Aerial 19 tube cable"},{"$f":"'Bill of Materials'!L422","v":"Sumitomo"},{"$f":"'Bill of Materials'!N422","v":4.18},{"$f":"'Bill of Materials'!P422","v":"DWC"},{"$f":"'Bill of Materials'!C422","v":"INFO-3457"},{"$f":"'Bill of Materials'!H422","v":"TC19MSO"},null,null,null,0,{"$f":"'Bill of Materials'!J422","v":"standard material"},{"$f":"'Bill of Materials'!K422","v":"physical"},0]
[{"$f":"'Bill of Materials'!E423+'Bill of Materials'!F423","v":0},{"$f":"'Bill of Materials'!M423","v":"EA"},{"$f":"'Bill of Materials'!G423","v":"NEMA 1 wall mount cabinet (30x24x7). Includes 14 ga steel spot welded construction with 12 ga steel sub panel, three fixed butt hinges, slotted cam fastener, and standard powder coat finish. (REF panel enclosure)"},{"$f":"'Bill of Materials'!L423","v":"X-Mark"},{"$f":"'Bill of Materials'!N423","v":283.64999999999998},{"$f":"'Bill of Materials'!P423","v":"DWC"},{"$f":"'Bill of Materials'!C423","v":"INFO-4707"},{"$f":"'Bill of Materials'!H423","v":"XGN1-30247-0001"},null,null,null,0,{"$f":"'Bill of Materials'!J423","v":"standard material"},{"$f":"'Bill of Materials'!K423","v":"physical"},0]
[{"$f":"'Bill of Materials'!E425+'Bill of Materials'!F425","v":0},{"$f":"'Bill of Materials'!M425","v":"FT"},{"$f":"'Bill of Materials'!G425","v":"(24) SM Multi-Unit Circular Premise Fiber Cable, RISER, (6) Fiber Subunits, Tight Buffered"},{"$f":"'Bill of Materials'!L425","v":"AFL"},{"$f":"'Bill of Materials'!N425","v":1.22},{"$f":"'Bill of Materials'!P425","v":"DWC"},{"$f":"'Bill of Materials'!C425","v":"0119-C50L"},{"$f":"'Bill of Materials'!H425","v":"CR0249441001"},null,null,null,0,{"$f":"'Bill of Materials'!J425","v":"standard material"},{"$f":"'Bill of Materials'!K425","v":"physical"},0]
[{"$f":"'Bill of Materials'!E426+'Bill of Materials'!F426","v":0},{"$f":"'Bill of Materials'!M426","v":"FT"},{"$f":"'Bill of Materials'!G426","v":"(36) SM Multi-Unit Circular Premise Fiber Cable, RISER, (12) Fiber Subunits, Tight Buffered\r\n(3280' Minimum Order)"},{"$f":"'Bill of Materials'!L426","v":"AFL"},{"$f":"'Bill of Materials'!N426","v":1.74},{"$f":"'Bill of Materials'!P426","v":"DWC"},{"$f":"'Bill of Materials'!C426","v":"0119-C50M"},{"$f":"'Bill of Materials'!H426","v":"CR0369551001"},null,null,null,0,{"$f":"'Bill of Materials'!J426","v":"standard material"},{"$f":"'Bill of Materials'!K426","v":"physical"},0]
[{"$f":"'Bill of Materials'!E427+'Bill of Materials'!F427","v":0},{"$f":"'Bill of Materials'!M427","v":"FT"},{"$f":"'Bill of Materials'!G427","v":"(72) SM Multi-Unit Circular Premise Fiber Cable, RISER, (12) Fiber Subunits, Tight Buffered\r\n(3280' Minimum Order)"},{"$f":"'Bill of Materials'!L427","v":"AFL"},{"$f":"'Bill of Materials'!N427","v":2.4300000000000002},{"$f":"'Bill of Materials'!P427","v":"DWC"},{"$f":"'Bill of Materials'!C427","v":"0119-C50N"},{"$f":"'Bill of Materials'!H427","v":"CR0729551001"},null,null,null,0,{"$f":"'Bill of Materials'!J427","v":"standard material"},{"$f":"'Bill of Materials'!K427","v":"physical"},0]
[{"$f":"'Bill of Materials'!E428+'Bill of Materials'!F428","v":0},{"$f":"'Bill of Materials'!M428","v":"FT"},{"$f":"'Bill of Materials'!G428","v":"(12) SM Multi-Unit Circular Premise Fiber Cable, PLENUM, (6) Fiber Subunits, Tight Buffered"},{"$f":"'Bill of Materials'!L428","v":"AFL"},{"$f":"'Bill of Materials'!N428","v":0.4},{"$f":"'Bill of Materials'!P428","v":"DWC"},{"$f":"'Bill of Materials'!C428","v":"0119-C50P"},{"$f":"'Bill of Materials'!H428","v":"CP0129551001"},null,null,null,0,{"$f":"'Bill of Materials'!J428","v":"standard material"},{"$f":"'Bill of Materials'!K428","v":"physical"},0]
[{"$f":"'Bill of Materials'!E429+'Bill of Materials'!F429","v":0},{"$f":"'Bill of Materials'!M429","v":"FT"},{"$f":"'Bill of Materials'!G429","v":"(18) SM Multi-Unit Circular Premise Fiber Cable, RISER, (6) Fiber Subunits, Tight Buffered\r\n(3280' Minimum Order)"},{"$f":"'Bill of Materials'!L429","v":"AFL"},{"$f":"'Bill of Materials'!N429","v":1.1399999999999999},{"$f":"'Bill of Materials'!P429","v":"DWC"},{"$f":"'Bill of Materials'!C429","v":"0119-C50R"},{"$f":"'Bill of Materials'!H429","v":"CR0189801001"},null,null,null,0,{"$f":"'Bill of Materials'!J429","v":"standard material"},{"$f":"'Bill of Materials'!K429","v":"physical"},0]
[{"$f":"'Bill of Materials'!E430+'Bill of Materials'!F430","v":0},{"$f":"'Bill of Materials'!M430","v":"FT"},{"$f":"'Bill of Materials'!G430","v":"(18) SM Multi-Unit Circular Premise Fiber Cable, PLENUM, (6) Fiber Subunits, Tight Buffered\r\n(3280' Minimum Order)"},{"$f":"'Bill of Materials'!L430","v":"AFL"},{"$f":"'Bill of Materials'!N430","v":1.29},{"$f":"'Bill of Materials'!P430","v":"DWC"},{"$f":"'Bill of Materials'!C430","v":"0119-C50T"},{"$f":"'Bill of Materials'!H430","v":"CP0189761001"},null,null,null,0,{"$f":"'Bill of Materials'!J430","v":"standard material"},{"$f":"'Bill of Materials'!K430","v":"physical"},0]
[{"$f":"'Bill of Materials'!E431+'Bill of Materials'!F431","v":0},{"$f":"'Bill of Materials'!M431","v":"FT"},{"$f":"'Bill of Materials'!G431","v":"(24) SM Single-Unit Circular Premise Fiber Cable, RISER, Tight Buffered (3280' Minimum Order)"},{"$f":"'Bill of Materials'!L431","v":"AFL"},{"$f":"'Bill of Materials'!N431","v":1.43},{"$f":"'Bill of Materials'!P431","v":"DWC"},{"$f":"'Bill of Materials'!C431","v":"0119-C50V"},{"$f":"'Bill of Materials'!H431","v":"CR0249891001"},null,null,null,0,{"$f":"'Bill of Materials'!J431","v":"standard material"},{"$f":"'Bill of Materials'!K431","v":"physical"},0]
[{"$f":"'Bill of Materials'!E432+'Bill of Materials'!F432","v":0},{"$f":"'Bill of Materials'!M432","v":"FT"},{"$f":"'Bill of Materials'!G432","v":"(24) SM Single-Unit Circular Premise Fiber Cable, PLENUM, Tight Buffered "},{"$f":"'Bill of Materials'!L432","v":"AFL"},{"$f":"'Bill of Materials'!N432","v":1.49},{"$f":"'Bill of Materials'!P432","v":"DWC"},{"$f":"'Bill of Materials'!C432","v":"0119-C50W"},{"$f":"'Bill of Materials'!H432","v":"CP0249841001"},null,null,null,0,{"$f":"'Bill of Materials'!J432","v":"standard material"},{"$f":"'Bill of Materials'!K432","v":"physical"},0]
[{"$f":"'Bill of Materials'!E433+'Bill of Materials'!F433","v":0},{"$f":"'Bill of Materials'!M433","v":"FT"},{"$f":"'Bill of Materials'!G433","v":"(24) SM Single-Unit Indoor/Outdoor Fiber Cable, OFNR, Tight Buffered "},{"$f":"'Bill of Materials'!L433","v":"AFL"},{"$f":"'Bill of Materials'!N433","v":1.39},{"$f":"'Bill of Materials'!P433","v":"DWC"},{"$f":"'Bill of Materials'!C433","v":"0119-C50X"},{"$f":"'Bill of Materials'!H433","v":"KR0249891001"},null,null,null,0,{"$f":"'Bill of Materials'!J433","v":"standard material"},{"$f":"'Bill of Materials'!K433","v":"physical"},0]
[{"$f":"'Bill of Materials'!E434+'Bill of Materials'!F434","v":0},{"$f":"'Bill of Materials'!M434","v":"FT"},{"$f":"'Bill of Materials'!G434","v":"(24) SM Multi-Unit Circular Premise Fiber Cable, PLENUM, (6) Fiber Subunits, Tight Buffered"},{"$f":"'Bill of Materials'!L434","v":"AFL"},{"$f":"'Bill of Materials'!N434","v":2.31},{"$f":"'Bill of Materials'!P434","v":"DWC"},{"$f":"'Bill of Materials'!C434","v":"0119-C50Y"},{"$f":"'Bill of Materials'!H434","v":"CP0249441001"},null,null,null,0,{"$f":"'Bill of Materials'!J434","v":"standard material"},{"$f":"'Bill of Materials'!K434","v":"physical"},0]
[{"$f":"'Bill of Materials'!E435+'Bill of Materials'!F435","v":0},{"$f":"'Bill of Materials'!M435","v":"FT"},{"$f":"'Bill of Materials'!G435","v":"(36) SM Multi-Unit Circular Premise Fiber Cable, PLENUM, (12) Fiber Subunits, Tight Buffered\r\n(3280' Minimum Order)"},{"$f":"'Bill of Materials'!L435","v":"AFL"},{"$f":"'Bill of Materials'!N435","v":3.19},{"$f":"'Bill of Materials'!P435","v":"DWC"},{"$f":"'Bill of Materials'!C435","v":"0119-C510"},{"$f":"'Bill of Materials'!H435","v":"CP0369551001"},null,null,null,0,{"$f":"'Bill of Materials'!J435","v":"standard material"},{"$f":"'Bill of Materials'!K435","v":"physical"},0]
[{"$f":"'Bill of Materials'!E436+'Bill of Materials'!F436","v":0},{"$f":"'Bill of Materials'!M436","v":"FT"},{"$f":"'Bill of Materials'!G436","v":"(72) SM Multi-Unit Circular Premise Fiber Cable, PLENUM, (12) Fiber Subunits, Tight Buffered\r\n(3280' Minimum Order)"},{"$f":"'Bill of Materials'!L436","v":"AFL"},{"$f":"'Bill of Materials'!N436","v":3.95},{"$f":"'Bill of Materials'!P436","v":"DWC"},{"$f":"'Bill of Materials'!C436","v":"0119-C511"},{"$f":"'Bill of Materials'!H436","v":"CP0729551001"},null,null,null,0,{"$f":"'Bill of Materials'!J436","v":"standard material"},{"$f":"'Bill of Materials'!K436","v":"physical"},0]
[{"$f":"'Bill of Materials'!E437+'Bill of Materials'!F437","v":0},{"$f":"'Bill of Materials'!M437","v":"FT"},{"$f":"'Bill of Materials'!G437","v":"(12) SM Single-Unit Circular Premise Fiber Cable, RISER, Tight Buffered"},{"$f":"'Bill of Materials'!L437","v":"AFL"},{"$f":"'Bill of Materials'!N437","v":0.35},{"$f":"'Bill of Materials'!P437","v":"DWC"},{"$f":"'Bill of Materials'!C437","v":"0119-C512"},{"$f":"'Bill of Materials'!H437","v":"CR0129551001"},null,null,null,0,{"$f":"'Bill of Materials'!J437","v":"standard material"},{"$f":"'Bill of Materials'!K437","v":"physical"},0]
[{"$f":"'Bill of Materials'!E438+'Bill of Materials'!F438","v":0},{"$f":"'Bill of Materials'!M438","v":"EA"},{"$f":"'Bill of Materials'!G438","v":"Black/Orange, Vinyl Adhesive \"Fiber Optic\" Voltage Marker, 9\"Wx2.25\"H (Order in Multiples of 5)"},{"$f":"'Bill of Materials'!L438","v":"Panduit"},{"$f":"'Bill of Materials'!N438","v":1.91},{"$f":"'Bill of Materials'!P438","v":"DWC"},{"$f":"'Bill of Materials'!C438","v":"0511-73GT"},{"$f":"'Bill of Materials'!H438","v":"PCV-FOAY"},null,null,null,0,{"$f":"'Bill of Materials'!J438","v":"standard material"},{"$f":"'Bill of Materials'!K438","v":"physical"},0]
[{"$f":"'Bill of Materials'!E439+'Bill of Materials'!F439","v":0},{"$f":"'Bill of Materials'!M439","v":"EA"},{"$f":"'Bill of Materials'!G439","v":"1.25\" Cord Connector for 1.25\" Innerducts and SSU/Box Connections"},{"$f":"'Bill of Materials'!L439","v":"Bridgeport"},{"$f":"'Bill of Materials'!N439","v":6.8},{"$f":"'Bill of Materials'!P439","v":"DWC"},{"$f":"'Bill of Materials'!C439","v":"10034"},{"$f":"'Bill of Materials'!H439","v":"412-DC2"},null,null,null,0,{"$f":"'Bill of Materials'!J439","v":"standard material"},{"$f":"'Bill of Materials'!K439","v":"physical"},0]
[{"$f":"'Bill of Materials'!E440+'Bill of Materials'!F440","v":0},{"$f":"'Bill of Materials'!M440","v":"EA"},{"$f":"'Bill of Materials'!G440","v":"Large NEMA 1 MC/IC SSU Fiber Slack Storage Unit (48X36X12)- Labor Only"},{"$f":"'Bill of Materials'!L440","v":"DWC"},{"$f":"'Bill of Materials'!N440","v":112.5},{"$f":"'Bill of Materials'!P440","v":"DWC"},{"$f":"'Bill of Materials'!C440","v":"10134"},{"$f":"'Bill of Materials'!H440","v":"N1MCICSSU-L"},null,null,null,0,{"$f":"'Bill of Materials'!J440","v":"standard material"},{"$f":"'Bill of Materials'!K440","v":"physical"},0]
[{"$f":"'Bill of Materials'!E441+'Bill of Materials'!F441","v":0},{"$f":"'Bill of Materials'!M441","v":"EA"},{"$f":"'Bill of Materials'!G441","v":"Medium NEMA 1 TC/TR SSU Fiber Slack Storage Unit (36X30X09) - Labor Only"},{"$f":"'Bill of Materials'!L441","v":"DWC"},{"$f":"'Bill of Materials'!N441","v":90},{"$f":"'Bill of Materials'!P441","v":"DWC"},{"$f":"'Bill of Materials'!C441","v":"10135"},{"$f":"'Bill of Materials'!H441","v":"N1TCTRSSU-L"},null,null,null,0,{"$f":"'Bill of Materials'!J441","v":"standard material"},{"$f":"'Bill of Materials'!K441","v":"physical"},0]
[{"$f":"'Bill of Materials'!E442+'Bill of Materials'!F442","v":0},{"$f":"'Bill of Materials'!M442","v":"EA"},{"$f":"'Bill of Materials'!G442","v":"Cord Grip Connector for 1.5\" Innerduct"},{"$f":"'Bill of Materials'!L442","v":"OZ Gedney"},{"$f":"'Bill of Materials'!N442","v":7.05},{"$f":"'Bill of Materials'!P442","v":"DWC"},{"$f":"'Bill of Materials'!C442","v":"10161"},{"$f":"'Bill of Materials'!H442","v":"SC150"},null,null,null,0,{"$f":"'Bill of Materials'!J442","v":"standard material"},{"$f":"'Bill of Materials'!K442","v":"physical"},0]
[{"$f":"'Bill of Materials'!E443+'Bill of Materials'!F443","v":0},{"$f":"'Bill of Materials'!M443","v":"FT"},{"$f":"'Bill of Materials'!G443","v":"Innerduct 1.5\" orange w/ pull rope outdoor UV Rated"},{"$f":"'Bill of Materials'!L443","v":"Endot"},{"$f":"'Bill of Materials'!N443","v":0.64},{"$f":"'Bill of Materials'!P443","v":"DWC"},{"$f":"'Bill of Materials'!C443","v":"INFO-3502"},{"$f":"'Bill of Materials'!H443","v":"1500"},null,null,null,0,{"$f":"'Bill of Materials'!J443","v":"standard material"},{"$f":"'Bill of Materials'!K443","v":"physical"},0]
[{"$f":"'Bill of Materials'!E444+'Bill of Materials'!F444","v":0},{"$f":"'Bill of Materials'!M444","v":"FT"},{"$f":"'Bill of Materials'!G444","v":"Plastic innerduct coupling (50 Pieces/Package)"},{"$f":"'Bill of Materials'!L444","v":"Carlon"},{"$f":"'Bill of Materials'!N444","v":35.79},{"$f":"'Bill of Materials'!P444","v":"DWC"},{"$f":"'Bill of Materials'!C444","v":"INFO-3504"},{"$f":"'Bill of Materials'!H444","v":"E94OH"},null,null,null,0,{"$f":"'Bill of Materials'!J444","v":"standard material"},{"$f":"'Bill of Materials'!K444","v":"physical"},0]
[{"$f":"'Bill of Materials'!E445+'Bill of Materials'!F445","v":0},{"$f":"'Bill of Materials'!M445","v":"FT"},{"$f":"'Bill of Materials'!G445","v":"Innerduct 1.5\" orange w/ pull rope indoor non-plenum (Riser rated)"},{"$f":"'Bill of Materials'!L445","v":"Carlon"},{"$f":"'Bill of Materials'!N445","v":0.79},{"$f":"'Bill of Materials'!P445","v":"DWC"},{"$f":"'Bill of Materials'!C445","v":"INFO-3541"},{"$f":"'Bill of Materials'!H445","v":"DH4X1C"},null,null,null,0,{"$f":"'Bill of Materials'!J445","v":"standard material"},{"$f":"'Bill of Materials'!K445","v":"physical"},0]
[{"$f":"'Bill of Materials'!E446+'Bill of Materials'!F446","v":0},{"$f":"'Bill of Materials'!M446","v":"FT"},{"$f":"'Bill of Materials'!G446","v":"Innerduct 1.5\" orange w/ pull rope indoor (Plenum rated)"},{"$f":"'Bill of Materials'!L446","v":"Carlon"},{"$f":"'Bill of Materials'!N446","v":1.98},{"$f":"'Bill of Materials'!P446","v":"DWC"},{"$f":"'Bill of Materials'!C446","v":"INFO-3542"},{"$f":"'Bill of Materials'!H446","v":"CH4X1C"},null,null,null,0,{"$f":"'Bill of Materials'!J446","v":"standard material"},{"$f":"'Bill of Materials'!K446","v":"physical"},0]
[{"$f":"'Bill of Materials'!E447+'Bill of Materials'!F447","v":0},{"$f":"'Bill of Materials'!M447","v":"FT"},{"$f":"'Bill of Materials'!G447","v":"1\" PVC Innerduct w/pull rope"},{"$f":"'Bill of Materials'!L447","v":"Carlon"},{"$f":"'Bill of Materials'!N447","v":0.52},{"$f":"'Bill of Materials'!P447","v":"DWC"},{"$f":"'Bill of Materials'!C447","v":"INFO-3543"},{"$f":"'Bill of Materials'!H447","v":"DF4X1C"},null,null,null,0,{"$f":"'Bill of Materials'!J447","v":"standard material"},{"$f":"'Bill of Materials'!K447","v":"physical"},0]
[{"$f":"'Bill of Materials'!E448+'Bill of Materials'!F448","v":0},{"$f":"'Bill of Materials'!M448","v":"EA"},{"$f":"'Bill of Materials'!G448","v":"Composite (36) 62.5/125um MM and (36) SM, Multi-Unit Circular Premise Fiber Cable, PLENUM, (12) Fiber Subunits, Tight Buffered\r\n"},{"$f":"'Bill of Materials'!L448","v":"AFL"},{"$f":"'Bill of Materials'!N448","v":4.96},{"$f":"'Bill of Materials'!P448","v":"DWC"},{"$f":"'Bill of Materials'!C448","v":"INFO-3730"},{"$f":"'Bill of Materials'!H448","v":"CP072X551001-36MM8/36SM"},null,null,null,0,{"$f":"'Bill of Materials'!J448","v":"standard material"},{"$f":"'Bill of Materials'!K448","v":"physical"},0]
[{"$f":"'Bill of Materials'!E449+'Bill of Materials'!F449","v":0},{"$f":"'Bill of Materials'!M449","v":"EA"},{"$f":"'Bill of Materials'!G449","v":"(144) SM, Multi-Unit Circular Premise Fiber Cable, PLENUM, (12) Fiber Subunits, Tight Buffered\r\n"},{"$f":"'Bill of Materials'!L449","v":"AFL"},{"$f":"'Bill of Materials'!N449","v":6.06},{"$f":"'Bill of Materials'!P449","v":"DWC"},{"$f":"'Bill of Materials'!C449","v":"INFO-3731"},{"$f":"'Bill of Materials'!H449","v":"CP1449551001"},null,null,null,0,{"$f":"'Bill of Materials'!J449","v":"standard material"},{"$f":"'Bill of Materials'!K449","v":"physical"},0]
[{"$f":"'Bill of Materials'!E450+'Bill of Materials'!F450","v":0},{"$f":"'Bill of Materials'!M450","v":"EA"},{"$f":"'Bill of Materials'!G450","v":"1.5\" Cord Connector for InnerDuct and SSU"},{"$f":"'Bill of Materials'!L450","v":"Bridgeport"},{"$f":"'Bill of Materials'!N450","v":6.98},{"$f":"'Bill of Materials'!P450","v":"DWC"},{"$f":"'Bill of Materials'!C450","v":"INFO-4716"},{"$f":"'Bill of Materials'!H450","v":"414-DC2"},null,null,null,{"$f":"E470*A470","v":0},{"$f":"'Bill of Materials'!J450","v":"standard material"},{"$f":"'Bill of Materials'!K450","v":"physical"},{"$f":"IF(A470>0,1,0)","v":0}]
[{"$f":"'Bill of Materials'!E451+'Bill of Materials'!F451","v":0},{"$f":"'Bill of Materials'!M451","v":"EA"},{"$f":"'Bill of Materials'!G451","v":"Large NEMA 1 MC/IC SSU Fiber Slack Storage Unit (48X36X12) - Material Only - Hammond (Incld's (8) J-Hooks)"},{"$f":"'Bill of Materials'!L451","v":"DWC"},{"$f":"'Bill of Materials'!N451","v":680.2},{"$f":"'Bill of Materials'!P451","v":"DWC"},{"$f":"'Bill of Materials'!C451","v":"INFO-4718"},{"$f":"'Bill of Materials'!H451","v":"N1MCICSSU-H"},null,null,null,0,{"$f":"'Bill of Materials'!J451","v":"standard material"},{"$f":"'Bill of Materials'!K451","v":"physical"},0]
[{"$f":"'Bill of Materials'!E452+'Bill of Materials'!F452","v":0},{"$f":"'Bill of Materials'!M452","v":"EA"},{"$f":"'Bill of Materials'!G452","v":"Medium NEMA 1 TC/TR SSU Fiber Slack Storage Unit (36X30X09) - Material Only - Hammond (Incld's (4) J-Hooks) SEE ORDERING GUIDELINES"},{"$f":"'Bill of Materials'!L452","v":"DWC"},{"$f":"'Bill of Materials'!N452","v":320.2},{"$f":"'Bill of Materials'!P452","v":"DWC"},{"$f":"'Bill of Materials'!C452","v":"INFO-4721"},{"$f":"'Bill of Materials'!H452","v":"N1TCTRSSU-H"},null,null,null,0,{"$f":"'Bill of Materials'!J452","v":"standard material"},{"$f":"'Bill of Materials'!K452","v":"physical"},0]
[{"$f":"'Bill of Materials'!E453+'Bill of Materials'!F453","v":0},{"$f":"'Bill of Materials'!M453","v":"EA"},{"$f":"'Bill of Materials'!G453","v":"Composite (36) 62.5/125um MM and (96) SM, Multi-Unit Circular Premise Fiber Cable, RISER, (12) Fiber Subunits, Tight Buffered\r\n"},{"$f":"'Bill of Materials'!L453","v":"AFL"},{"$f":"'Bill of Materials'!N453","v":4.8},{"$f":"'Bill of Materials'!P453","v":"DWC"},{"$f":"'Bill of Materials'!C453","v":"INFO-7010"},{"$f":"'Bill of Materials'!H453","v":"CR132X551001-36MM6/96SM"},null,null,null,0,{"$f":"'Bill of Materials'!J453","v":"standard material"},{"$f":"'Bill of Materials'!K453","v":"physical"},0]
[{"$f":"'Bill of Materials'!E454+'Bill of Materials'!F454","v":0},{"$f":"'Bill of Materials'!M454","v":"EA"},{"$f":"'Bill of Materials'!G454","v":"Composite (36) 62.5/125um MM and (96) SM, Multi-Unit Circular Premise Fiber Cable, PLENUM, (12) Fiber Subunits, Tight Buffered\r\n"},{"$f":"'Bill of Materials'!L454","v":"AFL"},{"$f":"'Bill of Materials'!N454","v":7.06},{"$f":"'Bill of Materials'!P454","v":"DWC"},{"$f":"'Bill of Materials'!C454","v":"INFO-7011"},{"$f":"'Bill of Materials'!H454","v":"CP132X551001-36MM6/96SM"},null,null,null,0,{"$f":"'Bill of Materials'!J454","v":"standard material"},{"$f":"'Bill of Materials'!K454","v":"physical"},0]
[{"$f":"'Bill of Materials'!E455+'Bill of Materials'!F455","v":0},{"$f":"'Bill of Materials'!M455","v":"EA"},{"$f":"'Bill of Materials'!G455","v":"Composite (36) 62.5/125um MM and (96) SM, Multi-Unit Circular Premise Fiber Cable, ADSS Outside Plant, (12) Fiber Subunits, Gel Filled Loose Tube\r\n"},{"$f":"'Bill of Materials'!L455","v":"AFL"},{"$f":"'Bill of Materials'!N455","v":3.07},{"$f":"'Bill of Materials'!P455","v":"DWC"},{"$f":"'Bill of Materials'!C455","v":"INFO-7012"},{"$f":"'Bill of Materials'!H455","v":"AE132X551001-36MM6/96SM"},null,null,null,0,{"$f":"'Bill of Materials'!J455","v":"standard material"},{"$f":"'Bill of Materials'!K455","v":"physical"},0]
[{"$f":"'Bill of Materials'!E456+'Bill of Materials'!F456","v":0},{"$f":"'Bill of Materials'!M456","v":"EA"},{"$f":"'Bill of Materials'!G456","v":"Composite (36) 62.5/125um MM and (96) SM, Multi-Unit Circular Premise Fiber Cable, Indoor/Outdoor, (12) Fiber Subunits, Loose Tube\r\n"},{"$f":"'Bill of Materials'!L456","v":"AFL"},{"$f":"'Bill of Materials'!N456","v":3.52},{"$f":"'Bill of Materials'!P456","v":"DWC"},{"$f":"'Bill of Materials'!C456","v":"INFO-7013"},{"$f":"'Bill of Materials'!H456","v":"LV132XC5101N1-36MM6/96SM"},null,null,null,0,{"$f":"'Bill of Materials'!J456","v":"standard material"},{"$f":"'Bill of Materials'!K456","v":"physical"},0]
[{"$f":"'Bill of Materials'!E457+'Bill of Materials'!F457","v":0},{"$f":"'Bill of Materials'!M457","v":"EA"},{"$f":"'Bill of Materials'!G457","v":"Composite (12) 62.5/125um MM and (24) SM, Multi-Unit Circular Premise Fiber Cable, RISER, (12) Fiber Subunits, Tight Buffered\r\n"},{"$f":"'Bill of Materials'!L457","v":"AFL"},{"$f":"'Bill of Materials'!N457","v":2.13},{"$f":"'Bill of Materials'!P457","v":"DWC"},{"$f":"'Bill of Materials'!C457","v":"INFO-7014"},{"$f":"'Bill of Materials'!H457","v":"CR036X551001-12MM8/24SM"},null,null,null,0,{"$f":"'Bill of Materials'!J457","v":"standard material"},{"$f":"'Bill of Materials'!K457","v":"physical"},0]
[{"$f":"'Bill of Materials'!E458+'Bill of Materials'!F458","v":0},{"$f":"'Bill of Materials'!M458","v":"EA"},{"$f":"'Bill of Materials'!G458","v":"Composite (12) 62.5/125um MM and (24) SM, Multi-Unit Circular Premise Fiber Cable, PLENUM, (12) Fiber Subunits, Tight Buffered\r\n"},{"$f":"'Bill of Materials'!L458","v":"AFL"},{"$f":"'Bill of Materials'!N458","v":2.79},{"$f":"'Bill of Materials'!P458","v":"DWC"},{"$f":"'Bill of Materials'!C458","v":"INFO-7015"},{"$f":"'Bill of Materials'!H458","v":"CP036X551001-12MM8/24SM"},null,null,null,0,{"$f":"'Bill of Materials'!J458","v":"standard material"},{"$f":"'Bill of Materials'!K458","v":"physical"},0]
[{"$f":"'Bill of Materials'!E459+'Bill of Materials'!F459","v":0},{"$f":"'Bill of Materials'!M459","v":"EA"},{"$f":"'Bill of Materials'!G459","v":"Composite (12) 62.5/125um MM and (24) SM, Multi-Unit Circular Premise Fiber Cable, Indoor/Outdoor, (12) Fiber Subunits, Loose Tube\r\n"},{"$f":"'Bill of Materials'!L459","v":"AFL"},{"$f":"'Bill of Materials'!N459","v":1.2},{"$f":"'Bill of Materials'!P459","v":"DWC"},{"$f":"'Bill of Materials'!C459","v":"INFO-7016"},{"$f":"'Bill of Materials'!H459","v":"LV036XC5101N1-12MM8/24SM"},null,null,null,0,{"$f":"'Bill of Materials'!J459","v":"standard material"},{"$f":"'Bill of Materials'!K459","v":"physical"},0]
[{"$f":"'Bill of Materials'!E460+'Bill of Materials'!F460","v":0},{"$f":"'Bill of Materials'!M460","v":"EA"},{"$f":"'Bill of Materials'!G460","v":"Composite (12) 62.5/125um MM and (24) SM, Multi-Unit Circular Premise Fiber Cable, ADSS Outside Plant, (12) Fiber Subunits, Gel Filled Loose Tube\r\n"},{"$f":"'Bill of Materials'!L460","v":"AFL"},{"$f":"'Bill of Materials'!N460","v":1.02},{"$f":"'Bill of Materials'!P460","v":"DWC"},{"$f":"'Bill of Materials'!C460","v":"INFO-7017"},{"$f":"'Bill of Materials'!H460","v":"AE036X551001-12MM8/24SM"},null,null,null,0,{"$f":"'Bill of Materials'!J460","v":"standard material"},{"$f":"'Bill of Materials'!K460","v":"physical"},0]
[{"$f":"'Bill of Materials'!E461+'Bill of Materials'!F461","v":0},{"$f":"'Bill of Materials'!M461","v":"EA"},{"$f":"'Bill of Materials'!G461","v":"1\" Non-Metallic Innerduct, THREADED ADAPTER"},{"$f":"'Bill of Materials'!L461","v":"Carlon"},{"$f":"'Bill of Materials'!N461","v":1.54},{"$f":"'Bill of Materials'!P461","v":"DWC"},{"$f":"'Bill of Materials'!C461","v":"INRF-0051"},{"$f":"'Bill of Materials'!H461","v":"A343F"},null,null,null,0,{"$f":"'Bill of Materials'!J461","v":"standard material"},{"$f":"'Bill of Materials'!K461","v":"physical"},0]
[{"$f":"'Bill of Materials'!E462+'Bill of Materials'!F462","v":0},{"$f":"'Bill of Materials'!M462","v":"FT"},{"$f":"'Bill of Materials'!G462","v":"1\" Innerduct, Orange w/Pull Rope, Riser Rated"},{"$f":"'Bill of Materials'!L462","v":"Carlon"},{"$f":"'Bill of Materials'!N462","v":0.52},{"$f":"'Bill of Materials'!P462","v":"DWC"},{"$f":"'Bill of Materials'!C462","v":"INRF-0100"},{"$f":"'Bill of Materials'!H462","v":"DF4XIC"},null,null,null,0,{"$f":"'Bill of Materials'!J462","v":"standard material"},{"$f":"'Bill of Materials'!K462","v":"physical"},0]
[{"$f":"'Bill of Materials'!#REF!+'Bill of Materials'!#REF!","v":{"$error":"#REF!"}},{"$f":"'Bill of Materials'!#REF!","v":{"$error":"#REF!"}},{"$f":"'Bill of Materials'!#REF!","v":{"$error":"#REF!"}},{"$f":"'Bill of Materials'!#REF!","v":{"$error":"#REF!"}},{"$f":"'Bill of Materials'!#REF!","v":{"$error":"#REF!"}},{"$f":"'Bill of Materials'!#REF!","v":{"$error":"#REF!"}},{"$f":"'Bill of Materials'!#REF!","v":{"$error":"#REF!"}},{"$f":"'Bill of Materials'!#REF!","v":{"$error":"#REF!"}},null,null,null,{"$error":"#REF!"},{"$f":"'Bill of Materials'!#REF!","v":{"$error":"#REF!"}},{"$f":"'Bill of Materials'!#REF!","v":{"$error":"#REF!"}},{"$error":"#REF!"}]
[{"$f":"'Bill of Materials'!E463+'Bill of Materials'!F463","v":0},{"$f":"'Bill of Materials'!M463","v":"FT"},{"$f":"'Bill of Materials'!G463","v":"1\" Innerduct, Orange w/Pull Rope, Plenum Rated"},{"$f":"'Bill of Materials'!L463","v":"Carlon"},{"$f":"'Bill of Materials'!N463","v":1.57},{"$f":"'Bill of Materials'!P463","v":"DWC"},{"$f":"'Bill of Materials'!C463","v":"INRF-0101"},{"$f":"'Bill of Materials'!H463","v":"CF4XIC"},null,null,null,0,{"$f":"'Bill of Materials'!J463","v":"standard material"},{"$f":"'Bill of Materials'!K463","v":"physical"},0]
[{"$f":"'Bill of Materials'!E464+'Bill of Materials'!F464","v":0},{"$f":"'Bill of Materials'!M464","v":"FT"},{"$f":"'Bill of Materials'!G464","v":"1.25\" Corrugated High Density Polyethylene Innerduct (Outside Plant) - Orange"},{"$f":"'Bill of Materials'!L464","v":"Carlon"},{"$f":"'Bill of Materials'!N464","v":0},{"$f":"'Bill of Materials'!P464","v":"DWC"},{"$f":"'Bill of Materials'!C464","v":"NIS"},{"$f":"'Bill of Materials'!H464","v":"A6D2S1JNNBXXXX"},null,null,null,0,{"$f":"'Bill of Materials'!J464","v":"non-standard material"},{"$f":"'Bill of Materials'!K464","v":"physical"},0]
[{"$f":"'Bill of Materials'!E465+'Bill of Materials'!F465","v":0},{"$f":"'Bill of Materials'!M465","v":"FT"},{"$f":"'Bill of Materials'!G465","v":"1.25\" Corrugated High Density Polyethylene Innerduct (Outside Plant) - Green"},{"$f":"'Bill of Materials'!L465","v":"Carlon"},{"$f":"'Bill of Materials'!N465","v":0},{"$f":"'Bill of Materials'!P465","v":"DWC"},{"$f":"'Bill of Materials'!C465","v":"NIS"},{"$f":"'Bill of Materials'!H465","v":"A6D2S1FNNBXXXX"},null,null,null,0,{"$f":"'Bill of Materials'!J465","v":"non-standard material"},{"$f":"'Bill of Materials'!K465","v":"physical"},0]
[{"$f":"'Bill of Materials'!E466+'Bill of Materials'!F466","v":0},{"$f":"'Bill of Materials'!M466","v":"FT"},{"$f":"'Bill of Materials'!G466","v":"1.25\" Corrugated High Density Polyethylene Innerduct (Outside Plant) - Blue"},{"$f":"'Bill of Materials'!L466","v":"Carlon"},{"$f":"'Bill of Materials'!N466","v":0},{"$f":"'Bill of Materials'!P466","v":"DWC"},{"$f":"'Bill of Materials'!C466","v":"NIS"},{"$f":"'Bill of Materials'!H466","v":"A6D2S1BNNBXXXX"},null,null,null,0,{"$f":"'Bill of Materials'!J466","v":"non-standard material"},{"$f":"'Bill of Materials'!K466","v":"physical"},0]
[{"$f":"'Bill of Materials'!E468+'Bill of Materials'!F468","v":0},{"$f":"'Bill of Materials'!M468","v":"EA"},{"$f":"'Bill of Materials'!G468","v":"Mount equipment shelf---------Labor Only"},{"$f":"'Bill of Materials'!L468","v":"DWC"},{"$f":"'Bill of Materials'!N468","v":38.700000000000003},{"$f":"'Bill of Materials'!P468","v":"DWC"},{"$f":"'Bill of Materials'!C468","v":"10102"},{"$f":"'Bill of Materials'!H468","v":"Equipment Shelf-L"},null,null,null,0,{"$f":"'Bill of Materials'!J468","v":"standard material"},{"$f":"'Bill of Materials'!K468","v":"physical"},0]
[{"$f":"'Bill of Materials'!E469+'Bill of Materials'!F469","v":0},{"$f":"'Bill of Materials'!M469","v":"EA"},{"$f":"'Bill of Materials'!G469","v":"2RU Sliding Work Shelf . Fits 21\" - 32\" Adjustable Rack."},{"$f":"'Bill of Materials'!L469","v":"Homaco"},{"$f":"'Bill of Materials'!N469","v":365.71},{"$f":"'Bill of Materials'!P469","v":"DWC"},{"$f":"'Bill of Materials'!C469","v":"10263"},{"$f":"'Bill of Materials'!H469","v":"ESV-19-FST2732"},null,null,null,0,{"$f":"'Bill of Materials'!J469","v":"standard material"},{"$f":"'Bill of Materials'!K469","v":"physical"},0]
[{"$f":"'Bill of Materials'!E470+'Bill of Materials'!F470","v":0},{"$f":"'Bill of Materials'!M470","v":"EA"},{"$f":"'Bill of Materials'!G470","v":"1RU Fixed Vented Shelf, 19”w x 18”d, Black, Attached to Front and Rear Rails"},{"$f":"'Bill of Materials'!L470","v":"Hammond"},{"$f":"'Bill of Materials'!N470","v":27.8},{"$f":"'Bill of Materials'!P470","v":"DWC"},{"$f":"'Bill of Materials'!C470","v":"1031-0076"},{"$f":"'Bill of Materials'!H470","v":"RFVS1918BK1"},null,null,null,0,{"$f":"'Bill of Materials'!J470","v":"standard material"},{"$f":"'Bill of Materials'!K470","v":"physical"},0]
[{"$f":"'Bill of Materials'!E471+'Bill of Materials'!F471","v":0},{"$f":"'Bill of Materials'!M471","v":"EA"},{"$f":"'Bill of Materials'!G471","v":"2RU Fixed Vented Shelf, (19\"w x 15\"d ), Black, Cantilever Style, 200lb. Load"},{"$f":"'Bill of Materials'!L471","v":"Hammond"},{"$f":"'Bill of Materials'!N471","v":43.31},{"$f":"'Bill of Materials'!P471","v":"DWC"},{"$f":"'Bill of Materials'!C471","v":"1031-0077"},{"$f":"'Bill of Materials'!H471","v":"RASV190315BK1"},null,null,null,0,{"$f":"'Bill of Materials'!J471","v":"standard material"},{"$f":"'Bill of Materials'!K471","v":"physical"},0]
[{"$f":"'Bill of Materials'!#REF!+'Bill of Materials'!#REF!","v":{"$error":"#REF!"}},{"$f":"'Bill of Materials'!#REF!","v":{"$error":"#REF!"}},{"$f":"'Bill of Materials'!#REF!","v":{"$error":"#REF!"}},{"$f":"'Bill of Materials'!#REF!","v":{"$error":"#REF!"}},{"$f":"'Bill of Materials'!#REF!","v":{"$error":"#REF!"}},{"$f":"'Bill of Materials'!#REF!","v":{"$error":"#REF!"}},{"$f":"'Bill of Materials'!#REF!","v":{"$error":"#REF!"}},{"$f":"'Bill of Materials'!#REF!","v":{"$error":"#REF!"}},null,null,null,{"$error":"#REF!"},{"$f":"'Bill of Materials'!#REF!","v":{"$error":"#REF!"}},{"$f":"'Bill of Materials'!#REF!","v":{"$error":"#REF!"}},{"$error":"#REF!"}]
[{"$f":"'Bill of Materials'!E472+'Bill of Materials'!F472","v":0},{"$f":"'Bill of Materials'!M472","v":"EA"},{"$f":"'Bill of Materials'!G472","v":"1RU Sliding Work Shelf, Vented, 19\"w x 18\"d, Black 120lb. Load"},{"$f":"'Bill of Materials'!L472","v":"Belden"},{"$f":"'Bill of Materials'!N472","v":112.17},{"$f":"'Bill of Materials'!P472","v":"DWC"},{"$f":"'Bill of Materials'!C472","v":"1031-007A"},{"$f":"'Bill of Materials'!H472","v":"9013-1918-S0005"},null,null,null,0,{"$f":"'Bill of Materials'!J472","v":"standard material"},{"$f":"'Bill of Materials'!K472","v":"physical"},0]
[{"$f":"'Bill of Materials'!E473+'Bill of Materials'!F473","v":0},{"$f":"'Bill of Materials'!M473","v":"EA"},{"$f":"'Bill of Materials'!G473","v":"1 RU. Adjustable Depth - Fixed Shelf  Fits 25\" to 35\" Adjustable Rack, Black"},{"$f":"'Bill of Materials'!L473","v":"Hammond"},{"$f":"'Bill of Materials'!N473","v":69.75},{"$f":"'Bill of Materials'!P473","v":"DWC"},{"$f":"'Bill of Materials'!C473","v":"10313"},{"$f":"'Bill of Materials'!H473","v":"RMASU1925BK1"},null,null,null,0,{"$f":"'Bill of Materials'!J473","v":"standard material"},{"$f":"'Bill of Materials'!K473","v":"physical"},0]
[{"$f":"'Bill of Materials'!E474+'Bill of Materials'!F474","v":0},{"$f":"'Bill of Materials'!M474","v":"EA"},{"$f":"'Bill of Materials'!G474","v":"3RU Sliding Work Shelf, Vented, 19\"w x 18\"d, Black 120lb. Load"},{"$f":"'Bill of Materials'!L474","v":"Hammond"},{"$f":"'Bill of Materials'!N474","v":79.8},{"$f":"'Bill of Materials'!P474","v":"DWC"},{"$f":"'Bill of Materials'!C474","v":"INFO-2339"},{"$f":"'Bill of Materials'!H474","v":"RSVS1918BK1"},null,null,null,0,{"$f":"'Bill of Materials'!J474","v":"standard material"},{"$f":"'Bill of Materials'!K474","v":"physical"},0]
[{"$f":"'Bill of Materials'!E475+'Bill of Materials'!F475","v":0},{"$f":"'Bill of Materials'!M475","v":"EA"},{"$f":"'Bill of Materials'!G475","v":"3RU Vented Shelf, (19\"w x 15\"d ), Black, Cantilever Style, 200lb. Load"},{"$f":"'Bill of Materials'!L475","v":"Hammond"},{"$f":"'Bill of Materials'!N475","v":50.51},{"$f":"'Bill of Materials'!P475","v":"DWC"},{"$f":"'Bill of Materials'!C475","v":"INFO-4221"},{"$f":"'Bill of Materials'!H475","v":"RASV190515BK1"},null,null,null,0,{"$f":"'Bill of Materials'!J475","v":"standard material"},{"$f":"'Bill of Materials'!K475","v":"physical"},0]
[{"$f":"'Bill of Materials'!E477+'Bill of Materials'!F477","v":0},{"$f":"'Bill of Materials'!M477","v":"EA"},{"$f":"'Bill of Materials'!G477","v":"Cabinet Rail Mounting Screws 10/32 x 5/8\"L, (25/PKG)"},{"$f":"'Bill of Materials'!L477","v":"Hammond"},{"$f":"'Bill of Materials'!N477","v":3.47},{"$f":"'Bill of Materials'!P477","v":"DWC"},{"$f":"'Bill of Materials'!C477","v":"0700-HGHW"},{"$f":"'Bill of Materials'!H477","v":"1421A25B"},null,null,null,0,{"$f":"'Bill of Materials'!J477","v":"standard material"},{"$f":"'Bill of Materials'!K477","v":"physical"},0]
[{"$f":"'Bill of Materials'!E478+'Bill of Materials'!F478","v":0},{"$f":"'Bill of Materials'!M478","v":"EA"},{"$f":"'Bill of Materials'!G478","v":"40RU Cabinet Vertical Cable Organizer w/Door and Strut Mounting Hardware. Single Unit"},{"$f":"'Bill of Materials'!L478","v":"Hammond"},{"$f":"'Bill of Materials'!N478","v":88.9},{"$f":"'Bill of Materials'!P478","v":"DWC"},{"$f":"'Bill of Materials'!C478","v":"0866-03VP"},{"$f":"'Bill of Materials'!H478","v":"VCMDS70BK1"},null,null,null,0,{"$f":"'Bill of Materials'!J478","v":"standard material"},{"$f":"'Bill of Materials'!K478","v":"physical"},0]
[{"$f":"'Bill of Materials'!E479+'Bill of Materials'!F479","v":0},{"$f":"'Bill of Materials'!M479","v":"EA"},{"$f":"'Bill of Materials'!G479","v":"Washers for Cabinet Rail Mounting Screws, (25/PKG)"},{"$f":"'Bill of Materials'!L479","v":"Hammond"},{"$f":"'Bill of Materials'!N479","v":2.44},{"$f":"'Bill of Materials'!P479","v":"DWC"},{"$f":"'Bill of Materials'!C479","v":"0900-CG6J"},{"$f":"'Bill of Materials'!H479","v":"1421E25W"},null,null,null,0,{"$f":"'Bill of Materials'!J479","v":"standard material"},{"$f":"'Bill of Materials'!K479","v":"physical"},0]
[{"$f":"'Bill of Materials'!E480+'Bill of Materials'!F480","v":0},{"$f":"'Bill of Materials'!M480","v":"EA"},{"$f":"'Bill of Materials'!G480","v":"Cut hole up to 4\" NPT---------Labor Only"},{"$f":"'Bill of Materials'!L480","v":"DWC"},{"$f":"'Bill of Materials'!N480","v":27.9},{"$f":"'Bill of Materials'!P480","v":"DWC"},{"$f":"'Bill of Materials'!C480","v":"10039"},{"$f":"'Bill of Materials'!H480","v":"4IN-NPT-L"},null,null,null,0,{"$f":"'Bill of Materials'!J480","v":"standard material"},{"$f":"'Bill of Materials'!K480","v":"physical"},0]
[{"$f":"'Bill of Materials'!E481+'Bill of Materials'!F481","v":0},{"$f":"'Bill of Materials'!M481","v":"EA"},{"$f":"'Bill of Materials'!G481","v":"78  Inch NEMA 1 Enclosure Clean Room Cabinet Assembly w/Two Fans - Labor Only"},{"$f":"'Bill of Materials'!L481","v":"DWC"},{"$f":"'Bill of Materials'!N481","v":279},{"$f":"'Bill of Materials'!P481","v":"DWC"},{"$f":"'Bill of Materials'!C481","v":"10062"},{"$f":"'Bill of Materials'!H481","v":"78N1CRC2F-L"},null,null,null,0,{"$f":"'Bill of Materials'!J481","v":"standard material"},{"$f":"'Bill of Materials'!K481","v":"physical"},0]
[{"$f":"'Bill of Materials'!E482+'Bill of Materials'!F482","v":0},{"$f":"'Bill of Materials'!M482","v":"EA"},{"$f":"'Bill of Materials'!G482","v":"78 Inch NEMA 1 Enclosure Clean Room Cabinet Assembly w/Four Fans - Labor Only"},{"$f":"'Bill of Materials'!L482","v":"DWC"},{"$f":"'Bill of Materials'!N482","v":337.5},{"$f":"'Bill of Materials'!P482","v":"DWC"},{"$f":"'Bill of Materials'!C482","v":"10063"},{"$f":"'Bill of Materials'!H482","v":"78N1CRC4F-L"},null,null,null,0,{"$f":"'Bill of Materials'!J482","v":"standard material"},{"$f":"'Bill of Materials'!K482","v":"physical"},0]
[{"$f":"'Bill of Materials'!E483+'Bill of Materials'!F483","v":0},{"$f":"'Bill of Materials'!M483","v":"EA"},{"$f":"'Bill of Materials'!G483","v":"78 Inch NEMA 1 Enclosure Clean Room Cabinet Assembly No Fans - Labor Only"},{"$f":"'Bill of Materials'!L483","v":"DWC"},{"$f":"'Bill of Materials'!N483","v":279},{"$f":"'Bill of Materials'!P483","v":"DWC"},{"$f":"'Bill of Materials'!C483","v":"10064"},{"$f":"'Bill of Materials'!H483","v":"78N1CRCNF-L"},null,null,null,0,{"$f":"'Bill of Materials'!J483","v":"standard material"},{"$f":"'Bill of Materials'!K483","v":"physical"},0]
[{"$f":"'Bill of Materials'!E484+'Bill of Materials'!F484","v":0},{"$f":"'Bill of Materials'!M484","v":"EA"},{"$f":"'Bill of Materials'!G484","v":"Brushed Grommet Panel for Cable Entry Into Tops of Nema 1 Cabinets 19\" x 2RU"},{"$f":"'Bill of Materials'!L484","v":"Mid Atlantic"},{"$f":"'Bill of Materials'!N484","v":37.549999999999997},{"$f":"'Bill of Materials'!P484","v":"DWC"},{"$f":"'Bill of Materials'!C484","v":"10078"},{"$f":"'Bill of Materials'!H484","v":"BR2"},null,null,null,0,{"$f":"'Bill of Materials'!J484","v":"standard material"},{"$f":"'Bill of Materials'!K484","v":"physical"},0]
[{"$f":"'Bill of Materials'!E485+'Bill of Materials'!F485","v":0},{"$f":"'Bill of Materials'!M485","v":"EA"},{"$f":"'Bill of Materials'!G485","v":"Brushed Grommet on Nema 1 Cabinets (Labor ONLY)"},{"$f":"'Bill of Materials'!L485","v":"DWC"},{"$f":"'Bill of Materials'!N485","v":56.7},{"$f":"'Bill of Materials'!P485","v":"DWC"},{"$f":"'Bill of Materials'!C485","v":"10080"},{"$f":"'Bill of Materials'!H485","v":"BR2-L"},null,null,null,0,{"$f":"'Bill of Materials'!J485","v":"standard material"},{"$f":"'Bill of Materials'!K485","v":"physical"},0]
[{"$f":"'Bill of Materials'!E486+'Bill of Materials'!F486","v":0},{"$f":"'Bill of Materials'!M486","v":"EA"},{"$f":"'Bill of Materials'!G486","v":"Blank 1RU 19\" Non Vented Flanged Filler Panel Black"},{"$f":"'Bill of Materials'!L486","v":"Mid Atlantic"},{"$f":"'Bill of Materials'!N486","v":5.55},{"$f":"'Bill of Materials'!P486","v":"DWC"},{"$f":"'Bill of Materials'!C486","v":"10130"},{"$f":"'Bill of Materials'!H486","v":"MA-EB1"},null,null,null,0,{"$f":"'Bill of Materials'!J486","v":"standard material"},{"$f":"'Bill of Materials'!K486","v":"physical"},0]
[{"$f":"'Bill of Materials'!E487+'Bill of Materials'!F487","v":0},{"$f":"'Bill of Materials'!M487","v":"EA"},{"$f":"'Bill of Materials'!G487","v":"78\"H X 29\"W X 34\"D Network Cabinet w/2 Sets of Rails, Removable 10\" Fan Top, Plexiglass Front Door w/Lock, Solid Rear Door w/Lock, and Locking Side Panels (Black)"},{"$f":"'Bill of Materials'!L487","v":"Belden"},{"$f":"'Bill of Materials'!N487","v":1762.75},{"$f":"'Bill of Materials'!P487","v":"DWC"},{"$f":"'Bill of Materials'!C487","v":"10179"},{"$f":"'Bill of Materials'!H487","v":"XDP78-3-122120"},null,null,null,0,{"$f":"'Bill of Materials'!J487","v":"standard material"},{"$f":"'Bill of Materials'!K487","v":"physical"},0]
[{"$f":"'Bill of Materials'!E488+'Bill of Materials'!F488","v":0},{"$f":"'Bill of Materials'!M488","v":"EA"},{"$f":"'Bill of Materials'!G488","v":"78\" Network Cabinet Cable Management D-Rings"},{"$f":"'Bill of Materials'!L488","v":"Belden"},{"$f":"'Bill of Materials'!N488","v":7.35},{"$f":"'Bill of Materials'!P488","v":"DWC"},{"$f":"'Bill of Materials'!C488","v":"10180"},{"$f":"'Bill of Materials'!H488","v":"XGCM-DR2535"},null,null,null,0,{"$f":"'Bill of Materials'!J488","v":"standard material"},{"$f":"'Bill of Materials'!K488","v":"physical"},0]
[{"$f":"'Bill of Materials'!E489+'Bill of Materials'!F489","v":0},{"$f":"'Bill of Materials'!M489","v":"EA"},{"$f":"'Bill of Materials'!G489","v":"78\" Network Cabinet Adjustable Horizontal Cable Manager"},{"$f":"'Bill of Materials'!L489","v":"Belden"},{"$f":"'Bill of Materials'!N489","v":28.3},{"$f":"'Bill of Materials'!P489","v":"DWC"},{"$f":"'Bill of Materials'!C489","v":"10181"},{"$f":"'Bill of Materials'!H489","v":"XGCM-HCT1428"},null,null,null,0,{"$f":"'Bill of Materials'!J489","v":"standard material"},{"$f":"'Bill of Materials'!K489","v":"physical"},0]
[{"$f":"'Bill of Materials'!E490+'Bill of Materials'!F490","v":0},{"$f":"'Bill of Materials'!M490","v":"EA"},{"$f":"'Bill of Materials'!G490","v":"78\" Network Cabinet Vertical Rail for Cable Management"},{"$f":"'Bill of Materials'!L490","v":"Belden"},{"$f":"'Bill of Materials'!N490","v":33.299999999999997},{"$f":"'Bill of Materials'!P490","v":"DWC"},{"$f":"'Bill of Materials'!C490","v":"10182"},{"$f":"'Bill of Materials'!H490","v":"XGCM-VR78"},null,null,null,0,{"$f":"'Bill of Materials'!J490","v":"standard material"},{"$f":"'Bill of Materials'!K490","v":"physical"},0]
[{"$f":"'Bill of Materials'!E491+'Bill of Materials'!F491","v":0},{"$f":"'Bill of Materials'!M491","v":"KIT"},{"$f":"'Bill of Materials'!G491","v":"DWC Assembly Kit, X-MARK ULTRA SERVER Enclosure-Cabinet, 78\"h x 24\"w x 36\"d, 42RU-19\" Mounting, (3) Pair Adjustable Mounting Rails/(50) #M6 Cage Nuts and Screws, (4)-4\" Muffin Fan Top, Perforated Front Door and Perforated Split Rear Doors, (2) Solid Side Panels, Frame/Door Ground Straps, EGB Ground Bar. Manf. Model #XUS78-3-135520."},{"$f":"'Bill of Materials'!L491","v":"DWC"},{"$f":"'Bill of Materials'!N491","v":2261.8000000000002},{"$f":"'Bill of Materials'!P491","v":"DWC"},{"$f":"'Bill of Materials'!C491","v":"10249"},{"$f":"'Bill of Materials'!H491","v":"782436US-X"},null,null,null,0,{"$f":"'Bill of Materials'!J491","v":"standard material"},{"$f":"'Bill of Materials'!K491","v":"physical"},0]
[{"$f":"'Bill of Materials'!E492+'Bill of Materials'!F492","v":0},{"$f":"'Bill of Materials'!M492","v":"EA"},{"$f":"'Bill of Materials'!G492","v":"14.5\" Ground Strap, For  X-Mark Cabinet Doors, Side Panels, etc."},{"$f":"'Bill of Materials'!L492","v":"Belden"},{"$f":"'Bill of Materials'!N492","v":5.25},{"$f":"'Bill of Materials'!P492","v":"DWC"},{"$f":"'Bill of Materials'!C492","v":"10251"},{"$f":"'Bill of Materials'!H492","v":"GM-HP14.5"},null,null,null,0,{"$f":"'Bill of Materials'!J492","v":"standard material"},{"$f":"'Bill of Materials'!K492","v":"physical"},0]
[{"$f":"'Bill of Materials'!E493+'Bill of Materials'!F493","v":0},{"$f":"'Bill of Materials'!M493","v":"KIT"},{"$f":"'Bill of Materials'!G493","v":"DWC Assembly Kit, X-MARK ULTRA DEEP SERVER Enclosure-Cabinet-Black,  84\"h x 24\"w x 42\"d, 45RU-19\" Mounting, (3) Pair Adjustable Mounting Rails/(50) #M6 Cage Nuts and Screws, (4)-4\" Muffin Fan Top, Perforated Front Door and Perforated Split Rear Doors, (2) Solid Side Panels, Frame/Door Ground Straps, EGB Ground Bar. Manf. Model #XUSD84-3-132220."},{"$f":"'Bill of Materials'!L493","v":"DWC"},{"$f":"'Bill of Materials'!N493","v":2515.1},{"$f":"'Bill of Materials'!P493","v":"DWC"},{"$f":"'Bill of Materials'!C493","v":"10252"},{"$f":"'Bill of Materials'!H493","v":"842442UDS-X"},null,null,null,0,{"$f":"'Bill of Materials'!J493","v":"standard material"},{"$f":"'Bill of Materials'!K493","v":"physical"},0]
[{"$f":"'Bill of Materials'!E494+'Bill of Materials'!F494","v":0},{"$f":"'Bill of Materials'!M494","v":"EA"},{"$f":"'Bill of Materials'!G494","v":"X-Mark Optional Cabinet Steel Horiz. Cable Trough, FRONT"},{"$f":"'Bill of Materials'!L494","v":"Belden"},{"$f":"'Bill of Materials'!N494","v":30.6},{"$f":"'Bill of Materials'!P494","v":"DWC"},{"$f":"'Bill of Materials'!C494","v":"10253"},{"$f":"'Bill of Materials'!H494","v":"433-5115-F"},null,null,null,0,{"$f":"'Bill of Materials'!J494","v":"standard material"},{"$f":"'Bill of Materials'!K494","v":"physical"},0]
[{"$f":"'Bill of Materials'!E495+'Bill of Materials'!F495","v":0},{"$f":"'Bill of Materials'!M495","v":"EA"},{"$f":"'Bill of Materials'!G495","v":"X-Mark Optional Cabinet Steel Horiz. Cable Trough, REAR"},{"$f":"'Bill of Materials'!L495","v":"Belden"},{"$f":"'Bill of Materials'!N495","v":41.35},{"$f":"'Bill of Materials'!P495","v":"DWC"},{"$f":"'Bill of Materials'!C495","v":"10254"},{"$f":"'Bill of Materials'!H495","v":"433-5115-R"},null,null,null,0,{"$f":"'Bill of Materials'!J495","v":"standard material"},{"$f":"'Bill of Materials'!K495","v":"physical"},0]
[{"$f":"'Bill of Materials'!E496+'Bill of Materials'!F496","v":0},{"$f":"'Bill of Materials'!M496","v":"EA"},{"$f":"'Bill of Materials'!G496","v":"X-Mark Optional Cabinet Steel Vertical Cable Trough 76.5\"H, SIDES"},{"$f":"'Bill of Materials'!L496","v":"Belden"},{"$f":"'Bill of Materials'!N496","v":67.849999999999994},{"$f":"'Bill of Materials'!P496","v":"DWC"},{"$f":"'Bill of Materials'!C496","v":"10255"},{"$f":"'Bill of Materials'!H496","v":"433-5114"},null,null,null,0,{"$f":"'Bill of Materials'!J496","v":"standard material"},{"$f":"'Bill of Materials'!K496","v":"physical"},0]
[{"$f":"'Bill of Materials'!E497+'Bill of Materials'!F497","v":0},{"$f":"'Bill of Materials'!M497","v":"KIT"},{"$f":"'Bill of Materials'!G497","v":"DWC Assembly Kit, X-MARK GIGA SERVER Enclosure-Cabinet-Black,  84\"h x 26\"w x 42\"d, 45RU-19\" Mounting, (3) Pair Adjustable Mounting Rails/(50) #M6 Cage Nuts and Screws, Perforated Front Door and Split Perforated Rear Doors w/(4) Fans each door, Frame Integrated Top Horiz. and Vert. WM, Bottom Cable Entry Panel, (2) Solid Side Panels, Frame/Door Ground Straps, EGB Ground Bar. Manf. Model #XGS-3-112320"},{"$f":"'Bill of Materials'!L497","v":"DWC"},{"$f":"'Bill of Materials'!N497","v":3460.7},{"$f":"'Bill of Materials'!P497","v":"DWC"},{"$f":"'Bill of Materials'!C497","v":"10257"},{"$f":"'Bill of Materials'!H497","v":"842642GS-X"},null,null,null,0,{"$f":"'Bill of Materials'!J497","v":"standard material"},{"$f":"'Bill of Materials'!K497","v":"physical"},0]
[{"$f":"'Bill of Materials'!E498+'Bill of Materials'!F498","v":0},{"$f":"'Bill of Materials'!M498","v":"EA"},{"$f":"'Bill of Materials'!G498","v":"X-Mark Server Cabinets M6 Cage Nuts for Mounting Rails, 50/Bag"},{"$f":"'Bill of Materials'!L498","v":"Belden"},{"$f":"'Bill of Materials'!N498","v":22.3},{"$f":"'Bill of Materials'!P498","v":"DWC"},{"$f":"'Bill of Materials'!C498","v":"10258"},{"$f":"'Bill of Materials'!H498","v":"8913-0100"},null,null,null,0,{"$f":"'Bill of Materials'!J498","v":"standard material"},{"$f":"'Bill of Materials'!K498","v":"physical"},0]
[{"$f":"'Bill of Materials'!E499+'Bill of Materials'!F499","v":0},{"$f":"'Bill of Materials'!M499","v":"EA"},{"$f":"'Bill of Materials'!G499","v":"X-Mark Server Cabinets M6 Screws for Cage Nuts/Mounting Rails, 50/Bag"},{"$f":"'Bill of Materials'!L499","v":"Belden"},{"$f":"'Bill of Materials'!N499","v":10.75},{"$f":"'Bill of Materials'!P499","v":"DWC"},{"$f":"'Bill of Materials'!C499","v":"10259"},{"$f":"'Bill of Materials'!H499","v":"8914-0100"},null,null,null,0,{"$f":"'Bill of Materials'!J499","v":"standard material"},{"$f":"'Bill of Materials'!K499","v":"physical"},0]
[{"$f":"'Bill of Materials'!E500+'Bill of Materials'!F500","v":0},{"$f":"'Bill of Materials'!M500","v":"EA"},{"$f":"'Bill of Materials'!G500","v":"Cool Boot Raised Floor Air Sealing Grommet 10\" x 8\" Surface Mount"},{"$f":"'Bill of Materials'!L500","v":"Panduit"},{"$f":"'Bill of Materials'!N500","v":74.099999999999994},{"$f":"'Bill of Materials'!P500","v":"DWC"},{"$f":"'Bill of Materials'!C500","v":"10264"},{"$f":"'Bill of Materials'!H500","v":"RFG10X8SMY"},null,null,null,0,{"$f":"'Bill of Materials'!J500","v":"standard material"},{"$f":"'Bill of Materials'!K500","v":"physical"},0]
[{"$f":"'Bill of Materials'!E501+'Bill of Materials'!F501","v":0},{"$f":"'Bill of Materials'!M501","v":"EA"},{"$f":"'Bill of Materials'!G501","v":"Cool Boot Raised Floor Air Sealing Grommet 4.8\" x 4.8\" Surface Mount"},{"$f":"'Bill of Materials'!L501","v":"Panduit"},{"$f":"'Bill of Materials'!N501","v":33.950000000000003},{"$f":"'Bill of Materials'!P501","v":"DWC"},{"$f":"'Bill of Materials'!C501","v":"10265"},{"$f":"'Bill of Materials'!H501","v":"RFG3DSMY"},null,null,null,0,{"$f":"'Bill of Materials'!J501","v":"standard material"},{"$f":"'Bill of Materials'!K501","v":"physical"},0]
[{"$f":"'Bill of Materials'!E502+'Bill of Materials'!F502","v":0},{"$f":"'Bill of Materials'!M502","v":"EA"},{"$f":"'Bill of Materials'!G502","v":"Solid Bottom Cover for X-Mark Giga Server Cabinet #842642GS-X"},{"$f":"'Bill of Materials'!L502","v":"X-Mark"},{"$f":"'Bill of Materials'!N502","v":95.1},{"$f":"'Bill of Materials'!P502","v":"DWC"},{"$f":"'Bill of Materials'!C502","v":"10344"},{"$f":"'Bill of Materials'!H502","v":"433-8297-3"},null,null,null,0,{"$f":"'Bill of Materials'!J502","v":"standard material"},{"$f":"'Bill of Materials'!K502","v":"physical"},0]
[{"$f":"'Bill of Materials'!E503+'Bill of Materials'!F503","v":0},{"$f":"'Bill of Materials'!M503","v":"EA"},{"$f":"'Bill of Materials'!G503","v":"X-MARK ULTRA DEEP SERVER Enclosure-Cabinet for Cisco Nexus 7010- Labor Only"},{"$f":"'Bill of Materials'!L503","v":"DWC"},{"$f":"'Bill of Materials'!N503","v":504},{"$f":"'Bill of Materials'!P503","v":"DWC"},{"$f":"'Bill of Materials'!C503","v":"10345"},{"$f":"'Bill of Materials'!H503","v":"842642GS-X-L"},null,null,null,0,{"$f":"'Bill of Materials'!J503","v":"standard material"},{"$f":"'Bill of Materials'!K503","v":"physical"},0]
[{"$f":"'Bill of Materials'!E504+'Bill of Materials'!F504","v":0},{"$f":"'Bill of Materials'!M504","v":"EA"},{"$f":"'Bill of Materials'!G504","v":"Bottom Brushed Gland Plate for Giga Server Cabinet XG84-3-112320"},{"$f":"'Bill of Materials'!L504","v":"X-Mark"},{"$f":"'Bill of Materials'!N504","v":44.65},{"$f":"'Bill of Materials'!P504","v":"DWC"},{"$f":"'Bill of Materials'!C504","v":"10346"},{"$f":"'Bill of Materials'!H504","v":"XUSDBBKK001"},null,null,null,0,{"$f":"'Bill of Materials'!J504","v":"standard material"},{"$f":"'Bill of Materials'!K504","v":"physical"},0]
[{"$f":"'Bill of Materials'!E505+'Bill of Materials'!F505","v":0},{"$f":"'Bill of Materials'!M505","v":"EA"},{"$f":"'Bill of Materials'!G505","v":"19\" 1RU, Blanking Panel, Black, Cabinet Rail Mounted"},{"$f":"'Bill of Materials'!L505","v":"Mid Atlantic"},{"$f":"'Bill of Materials'!N505","v":5.83},{"$f":"'Bill of Materials'!P505","v":"DWC"},{"$f":"'Bill of Materials'!C505","v":"10347"},{"$f":"'Bill of Materials'!H505","v":"FEB1"},null,null,null,0,{"$f":"'Bill of Materials'!J505","v":"standard material"},{"$f":"'Bill of Materials'!K505","v":"physical"},0]
[{"$f":"'Bill of Materials'!E506+'Bill of Materials'!F506","v":0},{"$f":"'Bill of Materials'!M506","v":"EA"},{"$f":"'Bill of Materials'!G506","v":"Joining kit for NEMA 1 Computer Room/Clean Room 77\" Cabinets"},{"$f":"'Bill of Materials'!L506","v":"Hammond"},{"$f":"'Bill of Materials'!N506","v":39.6},{"$f":"'Bill of Materials'!P506","v":"DWC"},{"$f":"'Bill of Materials'!C506","v":"INFO-4105"},{"$f":"'Bill of Materials'!H506","v":"CGH01"},null,null,null,0,{"$f":"'Bill of Materials'!J506","v":"standard material"},{"$f":"'Bill of Materials'!K506","v":"physical"},0]
[{"$f":"'Bill of Materials'!E507+'Bill of Materials'!F507","v":0},{"$f":"'Bill of Materials'!M507","v":"EA"},{"$f":"'Bill of Materials'!G507","v":"78 inch NEMA 1 Enclosure Clean Room Cabinet Assembly Kit (78\"X28\"X32\"). Package includes 1 frame with door and sides (INFO-4102), 2 pair rails (INFO-4108), 2 sets rail reducers (INFO-4107), 2 power bars (INFO-4601), Louvered Top No Fans - Material Only"},{"$f":"'Bill of Materials'!L507","v":"Hammond"},{"$f":"'Bill of Materials'!N507","v":1482.3},{"$f":"'Bill of Materials'!P507","v":"DWC"},{"$f":"'Bill of Materials'!C507","v":"INFO-4106"},{"$f":"'Bill of Materials'!H507","v":"S88834"},null,null,null,0,{"$f":"'Bill of Materials'!J507","v":"standard material"},{"$f":"'Bill of Materials'!K507","v":"physical"},0]
[{"$f":"'Bill of Materials'!E508+'Bill of Materials'!F508","v":0},{"$f":"'Bill of Materials'!M508","v":"EA"},{"$f":"'Bill of Materials'!G508","v":"4\" Muffin Fan Kit.  Includes: (1) 4\" Muffin Fan, P/N DNMF100AC115; (1) Fan Cord, P/N DNMFC; (2) Fan Guards, P/N DNFG"},{"$f":"'Bill of Materials'!L508","v":"Hammond"},{"$f":"'Bill of Materials'!N508","v":27.87},{"$f":"'Bill of Materials'!P508","v":"DWC"},{"$f":"'Bill of Materials'!C508","v":"INFO-4109"},{"$f":"'Bill of Materials'!H508","v":"S88840"},null,null,null,0,{"$f":"'Bill of Materials'!J508","v":"standard material"},{"$f":"'Bill of Materials'!K508","v":"physical"},0]
[{"$f":"'Bill of Materials'!E509+'Bill of Materials'!F509","v":0},{"$f":"'Bill of Materials'!M509","v":"EA"},{"$f":"'Bill of Materials'!G509","v":"Solid Top Panel for NEMA-1 Cabinet to accept fan assemblies or if top exit holes are larger than 4\"."},{"$f":"'Bill of Materials'!L509","v":"Hammond"},{"$f":"'Bill of Materials'!N509","v":27.14},{"$f":"'Bill of Materials'!P509","v":"DWC"},{"$f":"'Bill of Materials'!C509","v":"INFO-4110"},{"$f":"'Bill of Materials'!H509","v":"C2T2431SCG1"},null,null,null,0,{"$f":"'Bill of Materials'!J509","v":"standard material"},{"$f":"'Bill of Materials'!K509","v":"physical"},0]
[{"$f":"'Bill of Materials'!E510+'Bill of Materials'!F510","v":0},{"$f":"'Bill of Materials'!M510","v":"EA"},{"$f":"'Bill of Materials'!G510","v":"NEMA-1 4\" muffin fan harness. Daisy chain two fan harness with molded 5-15P plug."},{"$f":"'Bill of Materials'!L510","v":"Elmor"},{"$f":"'Bill of Materials'!N510","v":8.59},{"$f":"'Bill of Materials'!P510","v":"DWC"},{"$f":"'Bill of Materials'!C510","v":"INFO-4111"},{"$f":"'Bill of Materials'!H510","v":"GM-DCFC90-3"},null,null,null,0,{"$f":"'Bill of Materials'!J510","v":"standard material"},{"$f":"'Bill of Materials'!K510","v":"physical"},0]
[{"$f":"'Bill of Materials'!#REF!+'Bill of Materials'!#REF!","v":{"$error":"#REF!"}},{"$f":"'Bill of Materials'!#REF!","v":{"$error":"#REF!"}},{"$f":"'Bill of Materials'!#REF!","v":{"$error":"#REF!"}},{"$f":"'Bill of Materials'!#REF!","v":{"$error":"#REF!"}},{"$f":"'Bill of Materials'!#REF!","v":{"$error":"#REF!"}},{"$f":"'Bill of Materials'!#REF!","v":{"$error":"#REF!"}},{"$f":"'Bill of Materials'!#REF!","v":{"$error":"#REF!"}},{"$f":"'Bill of Materials'!#REF!","v":{"$error":"#REF!"}},null,null,null,{"$error":"#REF!"},{"$f":"'Bill of Materials'!#REF!","v":{"$error":"#REF!"}},{"$f":"'Bill of Materials'!#REF!","v":{"$error":"#REF!"}},{"$error":"#REF!"}]
[{"$f":"'Bill of Materials'!E511+'Bill of Materials'!F511","v":0},{"$f":"'Bill of Materials'!M511","v":"EA"},{"$f":"'Bill of Materials'!G511","v":"78  Inch NEMA 1 Enclosure Clean Room Cabinet Assembly w/Four Fans, includes Hammond Cabinet (Same as INFO-4106) & Accessories - Material Only"},{"$f":"'Bill of Materials'!L511","v":"DWC"},{"$f":"'Bill of Materials'!N511","v":1611.8},{"$f":"'Bill of Materials'!P511","v":"DWC"},{"$f":"'Bill of Materials'!C511","v":"INFO-4724"},{"$f":"'Bill of Materials'!H511","v":"78N1CRC4F-H"},null,null,null,0,{"$f":"'Bill of Materials'!J511","v":"standard material"},{"$f":"'Bill of Materials'!K511","v":"physical"},0]
[{"$f":"'Bill of Materials'!E512+'Bill of Materials'!F512","v":0},{"$f":"'Bill of Materials'!M512","v":"EA"},{"$f":"'Bill of Materials'!G512","v":"NEMA-1 computer room cabinet package (78\"X28\"X32\"). Package includes 14 ga steel welded frame, levelers, ground studs, (4) ground straps, two pair of EIA rails tapped 10-32 plated zinc/clear, bag of (100) oval head Phillips screws and finish washers, welded steel EIA rail spacers & hardware for 19” mounting, bag of EIA rail hardware for 24” mounting, open bottom with solid cover, open top with solid cover (top cover includes four fan knockouts), glass front door, louvered rear door (doors include X-MARK standard slam latch keyed 1333), two solid side panels (sides include tamper proof screw attachment), two power strips (72” x 10 outlet x 20 amp)"},{"$f":"'Bill of Materials'!L512","v":"X-Mark"},{"$f":"'Bill of Materials'!N512","v":1223.49},{"$f":"'Bill of Materials'!P512","v":"DWC"},{"$f":"'Bill of Materials'!C512","v":"INFO-4728"},{"$f":"'Bill of Materials'!H512","v":"XGN1-782832-0001"},null,null,null,0,{"$f":"'Bill of Materials'!J512","v":"standard material"},{"$f":"'Bill of Materials'!K512","v":"physical"},0]
[{"$f":"'Bill of Materials'!E513+'Bill of Materials'!F513","v":0},{"$f":"'Bill of Materials'!M513","v":"EA"},{"$f":"'Bill of Materials'!G513","v":"78  Inch NEMA 1 Enclosure Clean Room Cabinet Assembly No Fans, includes Hammond Cabinet (INFO-4106) & Accessories - Material Only"},{"$f":"'Bill of Materials'!L513","v":"DWC"},{"$f":"'Bill of Materials'!N513","v":1461.51},{"$f":"'Bill of Materials'!P513","v":"DWC"},{"$f":"'Bill of Materials'!C513","v":"INFO-4831"},{"$f":"'Bill of Materials'!H513","v":"78N1CRCNF-H"},null,null,null,{"$f":"E534*A534","v":0},{"$f":"'Bill of Materials'!J513","v":"standard material"},{"$f":"'Bill of Materials'!K513","v":"physical"},{"$f":"IF(A534>0,1,0)","v":0}]
[{"$f":"'Bill of Materials'!E514+'Bill of Materials'!F514","v":0},{"$f":"'Bill of Materials'!M514","v":"EA"},{"$f":"'Bill of Materials'!G514","v":"78  Inch NEMA 1 Enclosure Clean Room Cabinet Assembly w/Two Fans, includes Hammond Cabinet (INFO-4106) & Accessories - Material Only"},{"$f":"'Bill of Materials'!L514","v":"DWC"},{"$f":"'Bill of Materials'!N514","v":1550.22},{"$f":"'Bill of Materials'!P514","v":"DWC"},{"$f":"'Bill of Materials'!C514","v":"INFO-4834"},{"$f":"'Bill of Materials'!H514","v":"78N1CRC2F-H"},null,null,null,0,{"$f":"'Bill of Materials'!J514","v":"standard material"},{"$f":"'Bill of Materials'!K514","v":"physical"},0]
[{"$f":"'Bill of Materials'!E516+'Bill of Materials'!F516","v":0},{"$f":"'Bill of Materials'!M516","v":"EA"},{"$f":"'Bill of Materials'!G516","v":"End Barriers for EA & ED 300-600v Type Terminal Blocks "},{"$f":"'Bill of Materials'!L516","v":"Electro-Matic"},{"$f":"'Bill of Materials'!N516","v":2.23},{"$f":"'Bill of Materials'!P516","v":"DWC"},{"$f":"'Bill of Materials'!C516","v":"0054-0118"},{"$f":"'Bill of Materials'!H516","v":"EB1"},null,null,null,0,{"$f":"'Bill of Materials'!J516","v":"standard material"},{"$f":"'Bill of Materials'!K516","v":"physical"},0]
[{"$f":"'Bill of Materials'!E517+'Bill of Materials'!F517","v":0},{"$f":"'Bill of Materials'!M517","v":"EA"},{"$f":"'Bill of Materials'!G517","v":"Nema 1, Junction Box w/ Screw Cover, 12\" X 12\" X 6\""},{"$f":"'Bill of Materials'!L517","v":"Unity Manufacturing"},{"$f":"'Bill of Materials'!N517","v":38.61},{"$f":"'Bill of Materials'!P517","v":"DWC"},{"$f":"'Bill of Materials'!C517","v":"0092-1AX5"},{"$f":"'Bill of Materials'!H517","v":"12126SC"},null,null,null,0,{"$f":"'Bill of Materials'!J517","v":"standard material"},{"$f":"'Bill of Materials'!K517","v":"physical"},0]
[{"$f":"'Bill of Materials'!E518+'Bill of Materials'!F518","v":0},{"$f":"'Bill of Materials'!M518","v":"EA"},{"$f":"'Bill of Materials'!G518","v":"Nema 1, Junction Box w/ Screw Cover, 24\" X 24\" X 8\""},{"$f":"'Bill of Materials'!L518","v":"Unity Manufacturing"},{"$f":"'Bill of Materials'!N518","v":77.12},{"$f":"'Bill of Materials'!P518","v":"DWC"},{"$f":"'Bill of Materials'!C518","v":"0092-1AX6"},{"$f":"'Bill of Materials'!H518","v":"24248SC"},null,null,null,0,{"$f":"'Bill of Materials'!J518","v":"standard material"},{"$f":"'Bill of Materials'!K518","v":"physical"},0]
[{"$f":"'Bill of Materials'!E519+'Bill of Materials'!F519","v":0},{"$f":"'Bill of Materials'!M519","v":"EA"},{"$f":"'Bill of Materials'!G519","v":"Terminal Block Mounting Rail, plated steel, scored every 13/64 inches, 36 IN LG."},{"$f":"'Bill of Materials'!L519","v":"Electro-Matic"},{"$f":"'Bill of Materials'!N519","v":9.31},{"$f":"'Bill of Materials'!P519","v":"DWC"},{"$f":"'Bill of Materials'!C519","v":"0155-039F"},{"$f":"'Bill of Materials'!H519","v":"ET1"},null,null,null,0,{"$f":"'Bill of Materials'!J519","v":"standard material"},{"$f":"'Bill of Materials'!K519","v":"physical"},0]
[{"$f":"'Bill of Materials'!E520+'Bill of Materials'!F520","v":0},{"$f":"'Bill of Materials'!M520","v":"EA"},{"$f":"'Bill of Materials'!G520","v":"HANDLE, LOCKING DOOR, FOR NEMA 12 ENCLOSURE"},{"$f":"'Bill of Materials'!L520","v":"Hammond"},{"$f":"'Bill of Materials'!N520","v":68.61},{"$f":"'Bill of Materials'!P520","v":"DWC"},{"$f":"'Bill of Materials'!C520","v":"0405-3712"},{"$f":"'Bill of Materials'!H520","v":"SR0400103"},null,null,null,0,{"$f":"'Bill of Materials'!J520","v":"standard material"},{"$f":"'Bill of Materials'!K520","v":"physical"},0]
[{"$f":"'Bill of Materials'!E521+'Bill of Materials'!F521","v":0},{"$f":"'Bill of Materials'!M521","v":"EA"},{"$f":"'Bill of Materials'!G521","v":"Termninal Block End Anchor for 300 & 600v Blocks"},{"$f":"'Bill of Materials'!L521","v":"Hammond"},{"$f":"'Bill of Materials'!N521","v":3.37},{"$f":"'Bill of Materials'!P521","v":"DWC"},{"$f":"'Bill of Materials'!C521","v":"0417-9853"},{"$f":"'Bill of Materials'!H521","v":"EC2"},null,null,null,0,{"$f":"'Bill of Materials'!J521","v":"standard material"},{"$f":"'Bill of Materials'!K521","v":"physical"},0]
[{"$f":"'Bill of Materials'!E522+'Bill of Materials'!F522","v":0},{"$f":"'Bill of Materials'!M522","v":"EA"},{"$f":"'Bill of Materials'!G522","v":"Plug-in Two Pole Jumper for EA1 Terminal Blocks "},{"$f":"'Bill of Materials'!L522","v":"Electro-Matic"},{"$f":"'Bill of Materials'!N522","v":0.79},{"$f":"'Bill of Materials'!P522","v":"DWC"},{"$f":"'Bill of Materials'!C522","v":"0451-01CY"},{"$f":"'Bill of Materials'!H522","v":"EJ1"},null,null,null,0,{"$f":"'Bill of Materials'!J522","v":"standard material"},{"$f":"'Bill of Materials'!K522","v":"physical"},0]
[{"$f":"'Bill of Materials'!E523+'Bill of Materials'!F523","v":0},{"$f":"'Bill of Materials'!M523","v":"EA"},{"$f":"'Bill of Materials'!G523","v":"Gasket Kit for Nema 12 78\" Cabinet Doors"},{"$f":"'Bill of Materials'!L523","v":"Hammond"},{"$f":"'Bill of Materials'!N523","v":7.16},{"$f":"'Bill of Materials'!P523","v":"DWC"},{"$f":"'Bill of Materials'!C523","v":"0456-0XFT"},{"$f":"'Bill of Materials'!H523","v":"1481DJ10"},null,null,null,0,{"$f":"'Bill of Materials'!J523","v":"standard material"},{"$f":"'Bill of Materials'!K523","v":"physical"},0]
[{"$f":"'Bill of Materials'!E524+'Bill of Materials'!F524","v":0},{"$f":"'Bill of Materials'!M524","v":"EA"},{"$f":"'Bill of Materials'!G524","v":"T10-24\" Flourescent Lamp, 20 Watt, Straight Tube, LAMP ONLY"},{"$f":"'Bill of Materials'!L524","v":"GE"},{"$f":"'Bill of Materials'!N524","v":3.22},{"$f":"'Bill of Materials'!P524","v":"DWC"},{"$f":"'Bill of Materials'!C524","v":"0466-3097"},{"$f":"'Bill of Materials'!H524","v":"F20T12-CW"},null,null,null,0,{"$f":"'Bill of Materials'!J524","v":"standard material"},{"$f":"'Bill of Materials'!K524","v":"physical"},0]
[{"$f":"'Bill of Materials'!E525+'Bill of Materials'!F525","v":0},{"$f":"'Bill of Materials'!M525","v":"EA"},{"$f":"'Bill of Materials'!G525","v":"Drip Pan for inside Nema 12 cabinet with existing Top Mount A/C Units"},{"$f":"'Bill of Materials'!L525","v":"DWC"},{"$f":"'Bill of Materials'!N525","v":194.14},{"$f":"'Bill of Materials'!P525","v":"DWC"},{"$f":"'Bill of Materials'!C525","v":"0576-01CG"},{"$f":"'Bill of Materials'!H525","v":"HB11PLENUM/PAN"},null,null,null,0,{"$f":"'Bill of Materials'!J525","v":"standard material"},{"$f":"'Bill of Materials'!K525","v":"physical"},0]
[{"$f":"'Bill of Materials'!E526+'Bill of Materials'!F526","v":0},{"$f":"'Bill of Materials'!M526","v":"EA"},{"$f":"'Bill of Materials'!G526","v":"DIN RAIL TS 35 X 7.5MM SLOTTED 2M LENGTH ZINC PLATING "},{"$f":"'Bill of Materials'!L526","v":"Amer Elec"},{"$f":"'Bill of Materials'!N526","v":17.37},{"$f":"'Bill of Materials'!P526","v":"DWC"},{"$f":"'Bill of Materials'!C526","v":"0641-0DVA"},{"$f":"'Bill of Materials'!H526","v":"TS3575SL"},null,null,null,0,{"$f":"'Bill of Materials'!J526","v":"standard material"},{"$f":"'Bill of Materials'!K526","v":"physical"},0]
[{"$f":"'Bill of Materials'!E527+'Bill of Materials'!F527","v":0},{"$f":"'Bill of Materials'!M527","v":"EA"},{"$f":"'Bill of Materials'!G527","v":"Rack Mounting Rails, Half High, For 78\" Hammond Cabinets"},{"$f":"'Bill of Materials'!L527","v":"Hammond"},{"$f":"'Bill of Materials'!N527","v":81.69},{"$f":"'Bill of Materials'!P527","v":"DWC"},{"$f":"'Bill of Materials'!C527","v":"0641-0DVF"},{"$f":"'Bill of Materials'!H527","v":"SR0500002"},null,null,null,0,{"$f":"'Bill of Materials'!J527","v":"standard material"},{"$f":"'Bill of Materials'!K527","v":"physical"},0]
[{"$f":"'Bill of Materials'!E528+'Bill of Materials'!F528","v":0},{"$f":"'Bill of Materials'!M528","v":"EA"},{"$f":"'Bill of Materials'!G528","v":"RELAY, CONTACTOR, 4 POLE, 120v, 35A, (DOORS, FANS, LIGHTS)"},{"$f":"'Bill of Materials'!L528","v":"Allen Bradley"},{"$f":"'Bill of Materials'!N528","v":242.55},{"$f":"'Bill of Materials'!P528","v":"DWC"},{"$f":"'Bill of Materials'!C528","v":"0658-69T6"},{"$f":"'Bill of Materials'!H528","v":"A9-22-00-84"},null,null,null,0,{"$f":"'Bill of Materials'!J528","v":"standard material"},{"$f":"'Bill of Materials'!K528","v":"physical"},0]
[{"$f":"'Bill of Materials'!E529+'Bill of Materials'!F529","v":0},{"$f":"'Bill of Materials'!M529","v":"EA"},{"$f":"'Bill of Materials'!G529","v":"60 Inch NEMA 12 Enclosure Common Cabinet Assembly - Labor Only"},{"$f":"'Bill of Materials'!L529","v":"DWC"},{"$f":"'Bill of Materials'!N529","v":1102.5},{"$f":"'Bill of Materials'!P529","v":"DWC"},{"$f":"'Bill of Materials'!C529","v":"10048"},{"$f":"'Bill of Materials'!H529","v":"60N12CC-L"},null,null,null,0,{"$f":"'Bill of Materials'!J529","v":"standard material"},{"$f":"'Bill of Materials'!K529","v":"physical"},0]
[{"$f":"'Bill of Materials'!E530+'Bill of Materials'!F530","v":0},{"$f":"'Bill of Materials'!M530","v":"EA"},{"$f":"'Bill of Materials'!G530","v":"60 Inch NEMA 12 Enclosure Type 1 Cabinet Assembly - Labor Only"},{"$f":"'Bill of Materials'!L530","v":"DWC"},{"$f":"'Bill of Materials'!N530","v":1102.5},{"$f":"'Bill of Materials'!P530","v":"DWC"},{"$f":"'Bill of Materials'!C530","v":"10049"},{"$f":"'Bill of Materials'!H530","v":"60N12T1-L"},null,null,null,0,{"$f":"'Bill of Materials'!J530","v":"standard material"},{"$f":"'Bill of Materials'!K530","v":"physical"},0]
[{"$f":"'Bill of Materials'!E531+'Bill of Materials'!F531","v":0},{"$f":"'Bill of Materials'!M531","v":"EA"},{"$f":"'Bill of Materials'!G531","v":"60 Inch NEMA 12 Enclosure Type 2 Cabinet Assembly - Labor Only"},{"$f":"'Bill of Materials'!L531","v":"DWC"},{"$f":"'Bill of Materials'!N531","v":1597.5},{"$f":"'Bill of Materials'!P531","v":"DWC"},{"$f":"'Bill of Materials'!C531","v":"10050"},{"$f":"'Bill of Materials'!H531","v":"60N12T2-L"},null,null,null,0,{"$f":"'Bill of Materials'!J531","v":"standard material"},{"$f":"'Bill of Materials'!K531","v":"physical"},0]
[{"$f":"'Bill of Materials'!E532+'Bill of Materials'!F532","v":0},{"$f":"'Bill of Materials'!M532","v":"EA"},{"$f":"'Bill of Materials'!G532","v":"60 Inch NEMA 12 Enclosure Type 3 Cabinet Assembly - Labor Only"},{"$f":"'Bill of Materials'!L532","v":"DWC"},{"$f":"'Bill of Materials'!N532","v":1941.57},{"$f":"'Bill of Materials'!P532","v":"DWC"},{"$f":"'Bill of Materials'!C532","v":"10051"},{"$f":"'Bill of Materials'!H532","v":"60N12T3-L"},null,null,null,0,{"$f":"'Bill of Materials'!J532","v":"standard material"},{"$f":"'Bill of Materials'!K532","v":"physical"},0]
[{"$f":"'Bill of Materials'!E533+'Bill of Materials'!F533","v":0},{"$f":"'Bill of Materials'!M533","v":"EA"},{"$f":"'Bill of Materials'!G533","v":"60 Inch NEMA 12 Enclosure Type 4 Cabinet Assembly - Labor Only"},{"$f":"'Bill of Materials'!L533","v":"DWC"},{"$f":"'Bill of Materials'!N533","v":2782.8},{"$f":"'Bill of Materials'!P533","v":"DWC"},{"$f":"'Bill of Materials'!C533","v":"10052"},{"$f":"'Bill of Materials'!H533","v":"60N12T4-L"},null,null,null,0,{"$f":"'Bill of Materials'!J533","v":"standard material"},{"$f":"'Bill of Materials'!K533","v":"physical"},0]
[{"$f":"'Bill of Materials'!E534+'Bill of Materials'!F534","v":0},{"$f":"'Bill of Materials'!M534","v":"EA"},{"$f":"'Bill of Materials'!G534","v":"60 Inch NEMA 12 Enclosure Type 5 Cabinet Assembly - Labor Only"},{"$f":"'Bill of Materials'!L534","v":"DWC"},{"$f":"'Bill of Materials'!N534","v":3496.5},{"$f":"'Bill of Materials'!P534","v":"DWC"},{"$f":"'Bill of Materials'!C534","v":"10053"},{"$f":"'Bill of Materials'!H534","v":"60N12T5-L"},null,null,null,0,{"$f":"'Bill of Materials'!J534","v":"standard material"},{"$f":"'Bill of Materials'!K534","v":"physical"},0]
[{"$f":"'Bill of Materials'!E535+'Bill of Materials'!F535","v":0},{"$f":"'Bill of Materials'!M535","v":"EA"},{"$f":"'Bill of Materials'!G535","v":"78 Inch NEMA 12 Enclosure Common Cabinet Assembly - Labor Only"},{"$f":"'Bill of Materials'!L535","v":"DWC"},{"$f":"'Bill of Materials'!N535","v":1098},{"$f":"'Bill of Materials'!P535","v":"DWC"},{"$f":"'Bill of Materials'!C535","v":"10058"},{"$f":"'Bill of Materials'!H535","v":"78N12CC-L"},null,null,null,0,{"$f":"'Bill of Materials'!J535","v":"standard material"},{"$f":"'Bill of Materials'!K535","v":"physical"},0]
[{"$f":"'Bill of Materials'!E536+'Bill of Materials'!F536","v":0},{"$f":"'Bill of Materials'!M536","v":"EA"},{"$f":"'Bill of Materials'!G536","v":"78  Inch NEMA 12 Enclosure SPO Warehouse Assembly - Labor Only"},{"$f":"'Bill of Materials'!L536","v":"DWC"},{"$f":"'Bill of Materials'!N536","v":405},{"$f":"'Bill of Materials'!P536","v":"DWC"},{"$f":"'Bill of Materials'!C536","v":"10059"},{"$f":"'Bill of Materials'!H536","v":"78N12SPO-L"},null,null,null,0,{"$f":"'Bill of Materials'!J536","v":"standard material"},{"$f":"'Bill of Materials'!K536","v":"physical"},0]
[{"$f":"'Bill of Materials'!E537+'Bill of Materials'!F537","v":0},{"$f":"'Bill of Materials'!M537","v":"EA"},{"$f":"'Bill of Materials'!G537","v":"78 Inch NEMA 12 Enclosure Type 1 Cabinet Assembly - Labor Only"},{"$f":"'Bill of Materials'!L537","v":"DWC"},{"$f":"'Bill of Materials'!N537","v":1098},{"$f":"'Bill of Materials'!P537","v":"DWC"},{"$f":"'Bill of Materials'!C537","v":"10060"},{"$f":"'Bill of Materials'!H537","v":"78N12T1-L"},null,null,null,0,{"$f":"'Bill of Materials'!J537","v":"standard material"},{"$f":"'Bill of Materials'!K537","v":"physical"},0]
[{"$f":"'Bill of Materials'!E538+'Bill of Materials'!F538","v":0},{"$f":"'Bill of Materials'!M538","v":"EA"},{"$f":"'Bill of Materials'!G538","v":"78 Inch NEMA 12 Enclosure Type 2 Cabinet Assembly - Labor Only"},{"$f":"'Bill of Materials'!L538","v":"DWC"},{"$f":"'Bill of Materials'!N538","v":1597.5},{"$f":"'Bill of Materials'!P538","v":"DWC"},{"$f":"'Bill of Materials'!C538","v":"10061"},{"$f":"'Bill of Materials'!H538","v":"78N12T2-L"},null,null,null,0,{"$f":"'Bill of Materials'!J538","v":"standard material"},{"$f":"'Bill of Materials'!K538","v":"physical"},0]
[{"$f":"'Bill of Materials'!E539+'Bill of Materials'!F539","v":0},{"$f":"'Bill of Materials'!M539","v":"EA"},{"$f":"'Bill of Materials'!G539","v":"NEMA 12 VTC Voice Termination Cabinet - Labor Only"},{"$f":"'Bill of Materials'!L539","v":"DWC"},{"$f":"'Bill of Materials'!N539","v":135},{"$f":"'Bill of Materials'!P539","v":"DWC"},{"$f":"'Bill of Materials'!C539","v":"10133"},{"$f":"'Bill of Materials'!H539","v":"N12VTC-L"},null,null,null,0,{"$f":"'Bill of Materials'!J539","v":"standard material"},{"$f":"'Bill of Materials'!K539","v":"physical"},0]
[{"$f":"'Bill of Materials'!E540+'Bill of Materials'!F540","v":0},{"$f":"'Bill of Materials'!M540","v":"EA"},{"$f":"'Bill of Materials'!G540","v":"78  Inch NEMA 12 Legacy Enclosure - Labor Only"},{"$f":"'Bill of Materials'!L540","v":"DWC"},{"$f":"'Bill of Materials'!N540","v":585},{"$f":"'Bill of Materials'!P540","v":"DWC"},{"$f":"'Bill of Materials'!C540","v":"10147"},{"$f":"'Bill of Materials'!H540","v":"S87973-L"},null,null,null,0,{"$f":"'Bill of Materials'!J540","v":"standard material"},{"$f":"'Bill of Materials'!K540","v":"physical"},0]
[{"$f":"'Bill of Materials'!E541+'Bill of Materials'!F541","v":0},{"$f":"'Bill of Materials'!M541","v":"EA"},{"$f":"'Bill of Materials'!G541","v":"Eclipse Series NEMA 4/12 Single Door Enclosure 48”X36”X12” (does not include back plate)"},{"$f":"'Bill of Materials'!L541","v":"Hammond"},{"$f":"'Bill of Materials'!N541","v":447.61},{"$f":"'Bill of Materials'!P541","v":"DWC"},{"$f":"'Bill of Materials'!C541","v":"INFO-2225"},{"$f":"'Bill of Materials'!H541","v":"EN4SD483612GY"},null,null,null,0,{"$f":"'Bill of Materials'!J541","v":"standard material"},{"$f":"'Bill of Materials'!K541","v":"physical"},0]
[{"$f":"'Bill of Materials'!E542+'Bill of Materials'!F542","v":0},{"$f":"'Bill of Materials'!M542","v":"EA"},{"$f":"'Bill of Materials'!G542","v":"Inner Panel for EclipseSeries Enclosure, 48x36, White Finish (back plate)"},{"$f":"'Bill of Materials'!L542","v":"Hammond"},{"$f":"'Bill of Materials'!N542","v":127.66},{"$f":"'Bill of Materials'!P542","v":"DWC"},{"$f":"'Bill of Materials'!C542","v":"INFO-2226"},{"$f":"'Bill of Materials'!H542","v":"EP4836"},null,null,null,0,{"$f":"'Bill of Materials'!J542","v":"standard material"},{"$f":"'Bill of Materials'!K542","v":"physical"},0]
[{"$f":"'Bill of Materials'!E543+'Bill of Materials'!F543","v":0},{"$f":"'Bill of Materials'!M543","v":"EA"},{"$f":"'Bill of Materials'!G543","v":"Locking T Handle"},{"$f":"'Bill of Materials'!L543","v":"Hammond"},{"$f":"'Bill of Materials'!N543","v":35.51},{"$f":"'Bill of Materials'!P543","v":"DWC"},{"$f":"'Bill of Materials'!C543","v":"INFO-2227"},{"$f":"'Bill of Materials'!H543","v":"EHTL"},null,null,null,0,{"$f":"'Bill of Materials'!J543","v":"standard material"},{"$f":"'Bill of Materials'!K543","v":"physical"},0]
[{"$f":"'Bill of Materials'!E544+'Bill of Materials'!F544","v":0},{"$f":"'Bill of Materials'!M544","v":"EA"},{"$f":"'Bill of Materials'!G544","v":"19\" 20A Fan Panel w/Thermostat - Upper Cabinet And Lower cabinet"},{"$f":"'Bill of Materials'!L544","v":"Hammond"},{"$f":"'Bill of Materials'!N544","v":163.80000000000001},{"$f":"'Bill of Materials'!P544","v":"DWC"},{"$f":"'Bill of Materials'!C544","v":"INFO-2229"},{"$f":"'Bill of Materials'!H544","v":"SR0400046"},null,null,null,0,{"$f":"'Bill of Materials'!J544","v":"standard material"},{"$f":"'Bill of Materials'!K544","v":"physical"},0]
[{"$f":"'Bill of Materials'!E545+'Bill of Materials'!F545","v":0},{"$f":"'Bill of Materials'!M545","v":"EA"},{"$f":"'Bill of Materials'!G545","v":"Brownfield Door Switch Kit - Includes 1 ea BZE6-2RN, 1 ea Door Switch Bracket, 1 ea Door Switch Square, 1 ea Half Inch Cord Grip Connector, 1 ea Twenty Five Foot Dry Contact Cable"},{"$f":"'Bill of Materials'!L545","v":"DWC"},{"$f":"'Bill of Materials'!N545","v":123.7},{"$f":"'Bill of Materials'!P545","v":"DWC"},{"$f":"'Bill of Materials'!C545","v":"INFO-2230"},{"$f":"'Bill of Materials'!H545","v":"GM- BDSK - 01"},null,null,null,0,{"$f":"'Bill of Materials'!J545","v":"standard material"},{"$f":"'Bill of Materials'!K545","v":"physical"},0]
[{"$f":"'Bill of Materials'!E546+'Bill of Materials'!F546","v":0},{"$f":"'Bill of Materials'!M546","v":"EA"},{"$f":"'Bill of Materials'!G546","v":"NEMA 12 HOLE PLUG-4\""},{"$f":"'Bill of Materials'!L546","v":"DWC"},{"$f":"'Bill of Materials'!N546","v":32.97},{"$f":"'Bill of Materials'!P546","v":"DWC"},{"$f":"'Bill of Materials'!C546","v":"INFO-2231"},{"$f":"'Bill of Materials'!H546","v":"HP400"},null,null,null,0,{"$f":"'Bill of Materials'!J546","v":"standard material"},{"$f":"'Bill of Materials'!K546","v":"physical"},0]
[{"$f":"'Bill of Materials'!E547+'Bill of Materials'!F547","v":0},{"$f":"'Bill of Materials'!M547","v":"EA"},{"$f":"'Bill of Materials'!G547","v":"12\" x 12\" x 2.5\" Print Pocket w/Studs"},{"$f":"'Bill of Materials'!L547","v":"Hammond"},{"$f":"'Bill of Materials'!N547","v":10.46},{"$f":"'Bill of Materials'!P547","v":"DWC"},{"$f":"'Bill of Materials'!C547","v":"INFO-2331"},{"$f":"'Bill of Materials'!H547","v":"PKT1212"},null,null,null,0,{"$f":"'Bill of Materials'!J547","v":"standard material"},{"$f":"'Bill of Materials'!K547","v":"physical"},0]
[{"$f":"'Bill of Materials'!E548+'Bill of Materials'!F548","v":0},{"$f":"'Bill of Materials'!M548","v":"EA"},{"$f":"'Bill of Materials'!G548","v":"3\" Grommets for Cabling Pathway between sides of joined Nema 1 cabinets"},{"$f":"'Bill of Materials'!L548","v":"DWC"},{"$f":"'Bill of Materials'!N548","v":1.68},{"$f":"'Bill of Materials'!P548","v":"DWC"},{"$f":"'Bill of Materials'!C548","v":"INFO-2332"},{"$f":"'Bill of Materials'!H548","v":"G3319"},null,null,null,0,{"$f":"'Bill of Materials'!J548","v":"standard material"},{"$f":"'Bill of Materials'!K548","v":"physical"},0]
[{"$f":"'Bill of Materials'!E549+'Bill of Materials'!F549","v":0},{"$f":"'Bill of Materials'!M549","v":"EA"},{"$f":"'Bill of Materials'!G549","v":"Micro Limit Switch-Greenfield"},{"$f":"'Bill of Materials'!L549","v":"Honeywell"},{"$f":"'Bill of Materials'!N549","v":96.62},{"$f":"'Bill of Materials'!P549","v":"DWC"},{"$f":"'Bill of Materials'!C549","v":"INFO-2333"},{"$f":"'Bill of Materials'!H549","v":"DTE6-2RN"},null,null,null,0,{"$f":"'Bill of Materials'!J549","v":"standard material"},{"$f":"'Bill of Materials'!K549","v":"physical"},0]
[{"$f":"'Bill of Materials'!E550+'Bill of Materials'!F550","v":0},{"$f":"'Bill of Materials'!M550","v":"EA"},{"$f":"'Bill of Materials'!G550","v":"Micro Limit Switch-Brownfield"},{"$f":"'Bill of Materials'!L550","v":"Honeywell"},{"$f":"'Bill of Materials'!N550","v":53.01},{"$f":"'Bill of Materials'!P550","v":"DWC"},{"$f":"'Bill of Materials'!C550","v":"INFO-2334"},{"$f":"'Bill of Materials'!H550","v":"BZF6-2RN"},null,null,null,0,{"$f":"'Bill of Materials'!J550","v":"standard material"},{"$f":"'Bill of Materials'!K550","v":"physical"},0]
[{"$f":"'Bill of Materials'!E551+'Bill of Materials'!F551","v":0},{"$f":"'Bill of Materials'!M551","v":"EA"},{"$f":"'Bill of Materials'!G551","v":"Greenfield Door Switch Kit - Includes 1 ea DTE6-2RN, 1 ea Door Switch Bracket, 1 ea Door Switch Square, 1 ea Half Inch Cord Grip Connector, 1 ea Twenty Five Foot Dry Contact Cable"},{"$f":"'Bill of Materials'!L551","v":"DWC"},{"$f":"'Bill of Materials'!N551","v":172.16},{"$f":"'Bill of Materials'!P551","v":"DWC"},{"$f":"'Bill of Materials'!C551","v":"INFO-2336"},{"$f":"'Bill of Materials'!H551","v":"GM- GDSK - 01"},null,null,null,0,{"$f":"'Bill of Materials'!J551","v":"standard material"},{"$f":"'Bill of Materials'!K551","v":"physical"},0]
[{"$f":"'Bill of Materials'!E552+'Bill of Materials'!F552","v":0},{"$f":"'Bill of Materials'!M552","v":"EA"},{"$f":"'Bill of Materials'!G552","v":"Joining kit for NEMA 12 Plant Floor 60\" Cabinets"},{"$f":"'Bill of Materials'!L552","v":"Hammond"},{"$f":"'Bill of Materials'!N552","v":106.38},{"$f":"'Bill of Materials'!P552","v":"DWC"},{"$f":"'Bill of Materials'!C552","v":"INFO-4199"},{"$f":"'Bill of Materials'!H552","v":"SR0300244"},null,null,null,0,{"$f":"'Bill of Materials'!J552","v":"standard material"},{"$f":"'Bill of Materials'!K552","v":"physical"},0]
[{"$f":"'Bill of Materials'!E553+'Bill of Materials'!F553","v":0},{"$f":"'Bill of Materials'!M553","v":"EA"},{"$f":"'Bill of Materials'!G553","v":"4\" Bushed Chase Nipple"},{"$f":"'Bill of Materials'!L553","v":"Bridgeport"},{"$f":"'Bill of Materials'!N553","v":35.89},{"$f":"'Bill of Materials'!P553","v":"DWC"},{"$f":"'Bill of Materials'!C553","v":"INFO-4213"},{"$f":"'Bill of Materials'!H553","v":"1111"},null,null,null,0,{"$f":"'Bill of Materials'!J553","v":"standard material"},{"$f":"'Bill of Materials'!K553","v":"physical"},0]
[{"$f":"'Bill of Materials'!E554+'Bill of Materials'!F554","v":0},{"$f":"'Bill of Materials'!M554","v":"EA"},{"$f":"'Bill of Materials'!G554","v":"4\" Locknut for Bushed Chase Nipple"},{"$f":"'Bill of Materials'!L554","v":"Bridgeport"},{"$f":"'Bill of Materials'!N554","v":1.73},{"$f":"'Bill of Materials'!P554","v":"DWC"},{"$f":"'Bill of Materials'!C554","v":"INFO-4214"},{"$f":"'Bill of Materials'!H554","v":"110"},null,null,null,0,{"$f":"'Bill of Materials'!J554","v":"standard material"},{"$f":"'Bill of Materials'!K554","v":"physical"},0]
[{"$f":"'Bill of Materials'!E555+'Bill of Materials'!F555","v":0},{"$f":"'Bill of Materials'!M555","v":"EA"},{"$f":"'Bill of Materials'!G555","v":"4\" Plastic Insulating Bushing for Bushed Chase Nipple"},{"$f":"'Bill of Materials'!L555","v":"Bridgeport"},{"$f":"'Bill of Materials'!N555","v":0.98},{"$f":"'Bill of Materials'!P555","v":"DWC"},{"$f":"'Bill of Materials'!C555","v":"INFO-4215"},{"$f":"'Bill of Materials'!H555","v":"330"},null,null,null,0,{"$f":"'Bill of Materials'!J555","v":"standard material"},{"$f":"'Bill of Materials'!K555","v":"physical"},0]
[{"$f":"'Bill of Materials'!E556+'Bill of Materials'!F556","v":0},{"$f":"'Bill of Materials'!M556","v":"EA"},{"$f":"'Bill of Materials'!G556","v":"One pair of EIA full height rails (40RU) tapped 10-32 plated zinc/clear, for 78\" Hammond N1 and N12 cabinets "},{"$f":"'Bill of Materials'!L556","v":"Hammond"},{"$f":"'Bill of Materials'!N556","v":71.89},{"$f":"'Bill of Materials'!P556","v":"DWC"},{"$f":"'Bill of Materials'!C556","v":"INFO-4218"},{"$f":"'Bill of Materials'!H556","v":"CCR70TZPL"},null,null,null,0,{"$f":"'Bill of Materials'!J556","v":"standard material"},{"$f":"'Bill of Materials'!K556","v":"physical"},0]
[{"$f":"'Bill of Materials'!E557+'Bill of Materials'!F557","v":0},{"$f":"'Bill of Materials'!M557","v":"EA"},{"$f":"'Bill of Materials'!G557","v":"Hammond Rail reducers 24\"-19\" installation kit "},{"$f":"'Bill of Materials'!L557","v":"Hammond"},{"$f":"'Bill of Materials'!N557","v":29.3},{"$f":"'Bill of Materials'!P557","v":"DWC"},{"$f":"'Bill of Materials'!C557","v":"INFO-4219"},{"$f":"'Bill of Materials'!H557","v":"CAK1924"},null,null,null,0,{"$f":"'Bill of Materials'!J557","v":"standard material"},{"$f":"'Bill of Materials'!K557","v":"physical"},0]
[{"$f":"'Bill of Materials'!E558+'Bill of Materials'!F558","v":0},{"$f":"'Bill of Materials'!M558","v":"EA"},{"$f":"'Bill of Materials'!G558","v":"Hammond Light Kit includes FLK24 Light and FLKMM Magnet Mount"},{"$f":"'Bill of Materials'!L558","v":"Hammond"},{"$f":"'Bill of Materials'!N558","v":119.02},{"$f":"'Bill of Materials'!P558","v":"DWC"},{"$f":"'Bill of Materials'!C558","v":"INFO-4220"},{"$f":"'Bill of Materials'!H558","v":"FLK24-24MM "},null,null,null,0,{"$f":"'Bill of Materials'!J558","v":"standard material"},{"$f":"'Bill of Materials'!K558","v":"physical"},0]
[{"$f":"'Bill of Materials'!E559+'Bill of Materials'!F559","v":0},{"$f":"'Bill of Materials'!M559","v":"EA"},{"$f":"'Bill of Materials'!G559","v":"Joining kit for NEMA 12 Plant Floor 77\" Cabinets"},{"$f":"'Bill of Materials'!L559","v":"Hammond"},{"$f":"'Bill of Materials'!N559","v":100.43},{"$f":"'Bill of Materials'!P559","v":"DWC"},{"$f":"'Bill of Materials'!C559","v":"INFO-4222"},{"$f":"'Bill of Materials'!H559","v":"C3JK7031"},null,null,null,0,{"$f":"'Bill of Materials'!J559","v":"standard material"},{"$f":"'Bill of Materials'!K559","v":"physical"},0]
[{"$f":"'Bill of Materials'!E560+'Bill of Materials'!F560","v":0},{"$f":"'Bill of Materials'!M560","v":"EA"},{"$f":"'Bill of Materials'!G560","v":"4\" x 4\" Wireway Box connector"},{"$f":"'Bill of Materials'!L560","v":"Hammond"},{"$f":"'Bill of Materials'!N560","v":14.1},{"$f":"'Bill of Materials'!P560","v":"DWC"},{"$f":"'Bill of Materials'!C560","v":"INFO-4227"},{"$f":"'Bill of Materials'!H560","v":"1487CK"},null,null,null,0,{"$f":"'Bill of Materials'!J560","v":"standard material"},{"$f":"'Bill of Materials'!K560","v":"physical"},0]
[{"$f":"'Bill of Materials'!E561+'Bill of Materials'!F561","v":0},{"$f":"'Bill of Materials'!M561","v":"EA"},{"$f":"'Bill of Materials'!G561","v":"Feed through wireway 4x4 hinged top (1 Foot section)"},{"$f":"'Bill of Materials'!L561","v":"Hammond"},{"$f":"'Bill of Materials'!N561","v":58.33},{"$f":"'Bill of Materials'!P561","v":"DWC"},{"$f":"'Bill of Materials'!C561","v":"INFO-4228"},{"$f":"'Bill of Materials'!H561","v":"1487C12"},null,null,null,0,{"$f":"'Bill of Materials'!J561","v":"standard material"},{"$f":"'Bill of Materials'!K561","v":"physical"},0]
[{"$f":"'Bill of Materials'!E562+'Bill of Materials'!F562","v":0},{"$f":"'Bill of Materials'!M562","v":"EA"},{"$f":"'Bill of Materials'!G562","v":"Gasket and screws for installation of 4x4 wireway"},{"$f":"'Bill of Materials'!L562","v":"Hammond"},{"$f":"'Bill of Materials'!N562","v":3.53},{"$f":"'Bill of Materials'!P562","v":"DWC"},{"$f":"'Bill of Materials'!C562","v":"INFO-4229"},{"$f":"'Bill of Materials'!H562","v":"1487CS"},null,null,null,0,{"$f":"'Bill of Materials'!J562","v":"standard material"},{"$f":"'Bill of Materials'!K562","v":"physical"},0]
[{"$f":"'Bill of Materials'!E563+'Bill of Materials'!F563","v":0},{"$f":"'Bill of Materials'!M563","v":"EA"},{"$f":"'Bill of Materials'!G563","v":"Feed through wireway 4x4 90 degree elbow"},{"$f":"'Bill of Materials'!L563","v":"Hammond"},{"$f":"'Bill of Materials'!N563","v":65.91},{"$f":"'Bill of Materials'!P563","v":"DWC"},{"$f":"'Bill of Materials'!C563","v":"INFO-4230"},{"$f":"'Bill of Materials'!H563","v":"1487C9P"},null,null,null,0,{"$f":"'Bill of Materials'!J563","v":"standard material"},{"$f":"'Bill of Materials'!K563","v":"physical"},0]
[{"$f":"'Bill of Materials'!E564+'Bill of Materials'!F564","v":0},{"$f":"'Bill of Materials'!M564","v":"EA"},{"$f":"'Bill of Materials'!G564","v":"Feed through wireway 4x4 45 degree elbowTelescope fitting"},{"$f":"'Bill of Materials'!L564","v":"Hammond"},{"$f":"'Bill of Materials'!N564","v":67.89},{"$f":"'Bill of Materials'!P564","v":"DWC"},{"$f":"'Bill of Materials'!C564","v":"INFO-4231"},{"$f":"'Bill of Materials'!H564","v":"1487C4P"},null,null,null,0,{"$f":"'Bill of Materials'!J564","v":"standard material"},{"$f":"'Bill of Materials'!K564","v":"physical"},0]
[{"$f":"'Bill of Materials'!E565+'Bill of Materials'!F565","v":0},{"$f":"'Bill of Materials'!M565","v":"EA"},{"$f":"'Bill of Materials'!G565","v":"Feed through wireway 4x4 Telescope fitting"},{"$f":"'Bill of Materials'!L565","v":"Hammond"},{"$f":"'Bill of Materials'!N565","v":71.400000000000006},{"$f":"'Bill of Materials'!P565","v":"DWC"},{"$f":"'Bill of Materials'!C565","v":"INFO-4232"},{"$f":"'Bill of Materials'!H565","v":"1487CX"},null,null,null,0,{"$f":"'Bill of Materials'!J565","v":"standard material"},{"$f":"'Bill of Materials'!K565","v":"physical"},0]
[{"$f":"'Bill of Materials'!E566+'Bill of Materials'!F566","v":0},{"$f":"'Bill of Materials'!M566","v":"EA"},{"$f":"'Bill of Materials'!G566","v":"Feed through wireway 4x4 flexible fitting"},{"$f":"'Bill of Materials'!L566","v":"Hammond"},{"$f":"'Bill of Materials'!N566","v":115.64},{"$f":"'Bill of Materials'!P566","v":"DWC"},{"$f":"'Bill of Materials'!C566","v":"INFO-4233"},{"$f":"'Bill of Materials'!H566","v":"1485CFF"},null,null,null,0,{"$f":"'Bill of Materials'!J566","v":"standard material"},{"$f":"'Bill of Materials'!K566","v":"physical"},0]
[{"$f":"'Bill of Materials'!E567+'Bill of Materials'!F567","v":0},{"$f":"'Bill of Materials'!M567","v":"EA"},{"$f":"'Bill of Materials'!G567","v":"Feed through wireway 4x4 hinged top (2 Foot section)"},{"$f":"'Bill of Materials'!L567","v":"Hammond"},{"$f":"'Bill of Materials'!N567","v":74.540000000000006},{"$f":"'Bill of Materials'!P567","v":"DWC"},{"$f":"'Bill of Materials'!C567","v":"INFO-4234"},{"$f":"'Bill of Materials'!H567","v":"1487C24"},null,null,null,0,{"$f":"'Bill of Materials'!J567","v":"standard material"},{"$f":"'Bill of Materials'!K567","v":"physical"},0]
[{"$f":"'Bill of Materials'!E568+'Bill of Materials'!F568","v":0},{"$f":"'Bill of Materials'!M568","v":"EA"},{"$f":"'Bill of Materials'!G568","v":"Feed through wireway 4x4 hinged top (3 Foot section)"},{"$f":"'Bill of Materials'!L568","v":"Hammond"},{"$f":"'Bill of Materials'!N568","v":90.79},{"$f":"'Bill of Materials'!P568","v":"DWC"},{"$f":"'Bill of Materials'!C568","v":"INFO-4235"},{"$f":"'Bill of Materials'!H568","v":"1487C36"},null,null,null,0,{"$f":"'Bill of Materials'!J568","v":"standard material"},{"$f":"'Bill of Materials'!K568","v":"physical"},0]
[{"$f":"'Bill of Materials'!E569+'Bill of Materials'!F569","v":0},{"$f":"'Bill of Materials'!M569","v":"EA"},{"$f":"'Bill of Materials'!G569","v":"Feed through wireway 4x4 hinged top (4 Foot section)"},{"$f":"'Bill of Materials'!L569","v":"Hammond"},{"$f":"'Bill of Materials'!N569","v":107.1},{"$f":"'Bill of Materials'!P569","v":"DWC"},{"$f":"'Bill of Materials'!C569","v":"INFO-4236"},{"$f":"'Bill of Materials'!H569","v":"1487C48"},null,null,null,0,{"$f":"'Bill of Materials'!J569","v":"standard material"},{"$f":"'Bill of Materials'!K569","v":"physical"},0]
[{"$f":"'Bill of Materials'!E570+'Bill of Materials'!F570","v":0},{"$f":"'Bill of Materials'!M570","v":"EA"},{"$f":"'Bill of Materials'!G570","v":"Feed through wireway 4x4 hinged top (5 Foot section)"},{"$f":"'Bill of Materials'!L570","v":"Hammond"},{"$f":"'Bill of Materials'!N570","v":122.99},{"$f":"'Bill of Materials'!P570","v":"DWC"},{"$f":"'Bill of Materials'!C570","v":"INFO-4237"},{"$f":"'Bill of Materials'!H570","v":"1487C60"},null,null,null,0,{"$f":"'Bill of Materials'!J570","v":"standard material"},{"$f":"'Bill of Materials'!K570","v":"physical"},0]
[{"$f":"'Bill of Materials'!E571+'Bill of Materials'!F571","v":0},{"$f":"'Bill of Materials'!M571","v":"EA"},{"$f":"'Bill of Materials'!G571","v":"Feed through wireway 4x4 hinged top (10 Foot section)"},{"$f":"'Bill of Materials'!L571","v":"Hammond"},{"$f":"'Bill of Materials'!N571","v":203.62},{"$f":"'Bill of Materials'!P571","v":"DWC"},{"$f":"'Bill of Materials'!C571","v":"INFO-4238"},{"$f":"'Bill of Materials'!H571","v":"1487C120"},null,null,null,0,{"$f":"'Bill of Materials'!J571","v":"standard material"},{"$f":"'Bill of Materials'!K571","v":"physical"},0]
[{"$f":"'Bill of Materials'!E572+'Bill of Materials'!F572","v":0},{"$f":"'Bill of Materials'!M572","v":"EA"},{"$f":"'Bill of Materials'!G572","v":"78  Inch NEMA 12 Enclosure Common Cabinet Assembly, includes Hammond Cabinet (INFO-4821 Less Vert. Powerbars), Gnd. Bar (INFO-4505), Terminal Box Kit (INFO-4818) and accessories - Material Only(MUST ORDER GND. BAR INFO-4505 SEPARATELY)"},{"$f":"'Bill of Materials'!L572","v":"DWC"},{"$f":"'Bill of Materials'!N572","v":2478.83},{"$f":"'Bill of Materials'!P572","v":"DWC"},{"$f":"'Bill of Materials'!C572","v":"INFO-4737"},{"$f":"'Bill of Materials'!H572","v":"78N12CC-H"},null,null,null,0,{"$f":"'Bill of Materials'!J572","v":"standard material"},{"$f":"'Bill of Materials'!K572","v":"physical"},0]
[{"$f":"'Bill of Materials'!E573+'Bill of Materials'!F573","v":0},{"$f":"'Bill of Materials'!M573","v":"EA"},{"$f":"'Bill of Materials'!G573","v":"78  Inch NEMA 12 Enclosure Type 1 Cabinet Assembly, includes Hammond Cabinet (INFO-4821 Less Vert. Powerbars), Gnd. Bar (INFO-4505), (1) Horiz. Powerbar (INFO-2224), Terminal box Kit (INFO-4818), Elec Junction Box Kit (INFO-4819), A/C Unit (INFO-4656) & Accessories (10Kva PDU must be ordered separately) - Material Only"},{"$f":"'Bill of Materials'!L573","v":"DWC"},{"$f":"'Bill of Materials'!N573","v":6252.54},{"$f":"'Bill of Materials'!P573","v":"DWC"},{"$f":"'Bill of Materials'!C573","v":"INFO-4740"},{"$f":"'Bill of Materials'!H573","v":"78N12T1-H"},null,null,null,0,{"$f":"'Bill of Materials'!J573","v":"standard material"},{"$f":"'Bill of Materials'!K573","v":"physical"},0]
[{"$f":"'Bill of Materials'!E574+'Bill of Materials'!F574","v":0},{"$f":"'Bill of Materials'!M574","v":"EA"},{"$f":"'Bill of Materials'!G574","v":"78  Inch NEMA 12 Enclosure Type 2 Cabinet Assembly, includes (2) Hammond Cabinets (INFO-4821 Less Vert. Powerbars), Gnd. Bar (INFO-4505), (1) Horiz. Powerbar (INFO-2224), Terminal box Kit (INFO-4818), Elec Junction Box Kit (INFO-4819), A/C Unit (INFO-4656) & Accessories (10Kva PDU must be ordered separately) - Material Only"},{"$f":"'Bill of Materials'!L574","v":"DWC"},{"$f":"'Bill of Materials'!N574","v":9018.23},{"$f":"'Bill of Materials'!P574","v":"DWC"},{"$f":"'Bill of Materials'!C574","v":"INFO-4743"},{"$f":"'Bill of Materials'!H574","v":"78N12T2-H"},null,null,null,0,{"$f":"'Bill of Materials'!J574","v":"standard material"},{"$f":"'Bill of Materials'!K574","v":"physical"},0]
[{"$f":"'Bill of Materials'!E575+'Bill of Materials'!F575","v":0},{"$f":"'Bill of Materials'!M575","v":"EA"},{"$f":"'Bill of Materials'!G575","v":"78 Inch NEMA 12 Enclosure SPO Warehouse Assembly, includes Hammond Cabinet (INFO-4821 Less Vert. Powerbars), Gnd. Bar (INFO-4505), (1) Horiz. Powerbar (INFO-2224), 10KVA PDU, Filter Fan and accessories - Material Only"},{"$f":"'Bill of Materials'!L575","v":"DWC"},{"$f":"'Bill of Materials'!N575","v":3971.2},{"$f":"'Bill of Materials'!P575","v":"DWC"},{"$f":"'Bill of Materials'!C575","v":"INFO-4749"},{"$f":"'Bill of Materials'!H575","v":"78N12SPO-H"},null,null,null,0,{"$f":"'Bill of Materials'!J575","v":"standard material"},{"$f":"'Bill of Materials'!K575","v":"physical"},0]
[{"$f":"'Bill of Materials'!E576+'Bill of Materials'!F576","v":0},{"$f":"'Bill of Materials'!M576","v":"EA"},{"$f":"'Bill of Materials'!G576","v":"Terminal Box Enclosure and Back Plate for INFO-4818"},{"$f":"'Bill of Materials'!L576","v":"Hammond"},{"$f":"'Bill of Materials'!N576","v":34.03},{"$f":"'Bill of Materials'!P576","v":"DWC"},{"$f":"'Bill of Materials'!C576","v":"INFO-4752"},{"$f":"'Bill of Materials'!H576","v":"1414PHC"},null,null,null,0,{"$f":"'Bill of Materials'!J576","v":"standard material"},{"$f":"'Bill of Materials'!K576","v":"physical"},0]
[{"$f":"'Bill of Materials'!E577+'Bill of Materials'!F577","v":0},{"$f":"'Bill of Materials'!M577","v":"EA"},{"$f":"'Bill of Materials'!G577","v":"Electrical Junction Box Enclosure and Back Plate for INFO-4819, 32\"x10\"x8\""},{"$f":"'Bill of Materials'!L577","v":"Hammond"},{"$f":"'Bill of Materials'!N577","v":177.08},{"$f":"'Bill of Materials'!P577","v":"DWC"},{"$f":"'Bill of Materials'!C577","v":"INFO-4753"},{"$f":"'Bill of Materials'!H577","v":"SE0400102"},null,null,null,0,{"$f":"'Bill of Materials'!J577","v":"standard material"},{"$f":"'Bill of Materials'!K577","v":"physical"},0]
[{"$f":"'Bill of Materials'!E578+'Bill of Materials'!F578","v":0},{"$f":"'Bill of Materials'!M578","v":"EA"},{"$f":"'Bill of Materials'!G578","v":"60\" Cabinet Vertical 7 plug power strip, 15 Amp,  Includes mounting clips, 48\"T, No ON/OFF Switch"},{"$f":"'Bill of Materials'!L578","v":"Hammond"},{"$f":"'Bill of Materials'!N578","v":43.17},{"$f":"'Bill of Materials'!P578","v":"DWC"},{"$f":"'Bill of Materials'!C578","v":"INFO-4757"},{"$f":"'Bill of Materials'!H578","v":"1585T8A1"},null,null,null,{"$f":"E598*A598","v":0},{"$f":"'Bill of Materials'!J578","v":"standard material"},{"$f":"'Bill of Materials'!K578","v":"physical"},{"$f":"IF(A598>0,1,0)","v":0}]
[{"$f":"'Bill of Materials'!E579+'Bill of Materials'!F579","v":0},{"$f":"'Bill of Materials'!M579","v":"EA"},{"$f":"'Bill of Materials'!G579","v":"Terminal Blocks Mounting Rail, Ridged, 36\"L (EJB and Terminal box)"},{"$f":"'Bill of Materials'!L579","v":"Allen Bradley"},{"$f":"'Bill of Materials'!N579","v":6.83},{"$f":"'Bill of Materials'!P579","v":"DWC"},{"$f":"'Bill of Materials'!C579","v":"INFO-4761"},{"$f":"'Bill of Materials'!H579","v":"1492-N22"},null,null,null,0,{"$f":"'Bill of Materials'!J579","v":"standard material"},{"$f":"'Bill of Materials'!K579","v":"physical"},0]
[{"$f":"'Bill of Materials'!E580+'Bill of Materials'!F580","v":0},{"$f":"'Bill of Materials'!M580","v":"EA"},{"$f":"'Bill of Materials'!G580","v":"NEMA-12 cabinet ganging kit, 78\" HE C3JK7031"},{"$f":"'Bill of Materials'!L580","v":"X-Mark"},{"$f":"'Bill of Materials'!N580","v":18.97},{"$f":"'Bill of Materials'!P580","v":"DWC"},{"$f":"'Bill of Materials'!C580","v":"INFO-4785"},{"$f":"'Bill of Materials'!H580","v":"XGN12-782832-CGK"},null,null,null,0,{"$f":"'Bill of Materials'!J580","v":"standard material"},{"$f":"'Bill of Materials'!K580","v":"physical"},0]
[{"$f":"'Bill of Materials'!E581+'Bill of Materials'!F581","v":0},{"$f":"'Bill of Materials'!M581","v":"EA"},{"$f":"'Bill of Materials'!G581","v":"48x36x12 NEMA 12 VTC Voice Termination Cabinet Hammond (Kit includes (2) 300pr blocks, (1) 188B1 WM and (12 S144 Rings) (Additional 100pr blocks & management must be ordered separately) - Material Only"},{"$f":"'Bill of Materials'!L581","v":"DWC"},{"$f":"'Bill of Materials'!N581","v":765.81},{"$f":"'Bill of Materials'!P581","v":"DWC"},{"$f":"'Bill of Materials'!C581","v":"INFO-4792"},{"$f":"'Bill of Materials'!H581","v":"N12VTC-H"},null,null,null,0,{"$f":"'Bill of Materials'!J581","v":"standard material"},{"$f":"'Bill of Materials'!K581","v":"physical"},0]
[{"$f":"'Bill of Materials'!E582+'Bill of Materials'!F582","v":0},{"$f":"'Bill of Materials'!M582","v":"EA"},{"$f":"'Bill of Materials'!G582","v":"60 Inch NEMA 12 Enclosure Common Cabinet Assembly, includes Hammond Cabinet (INFO-4820), Gnd. Bar (INFO-4505), (1) Horiz. Powerbar (INFO-2224), Terminal Box Kit (INFO-4818) and accessories - Material Only"},{"$f":"'Bill of Materials'!L582","v":"DWC"},{"$f":"'Bill of Materials'!N582","v":2458.37},{"$f":"'Bill of Materials'!P582","v":"DWC"},{"$f":"'Bill of Materials'!C582","v":"INFO-4795"},{"$f":"'Bill of Materials'!H582","v":"60N12CC-H"},null,null,null,0,{"$f":"'Bill of Materials'!J582","v":"standard material"},{"$f":"'Bill of Materials'!K582","v":"physical"},0]
[{"$f":"'Bill of Materials'!E583+'Bill of Materials'!F583","v":0},{"$f":"'Bill of Materials'!M583","v":"EA"},{"$f":"'Bill of Materials'!G583","v":"60 Inch NEMA 12 Enclosure Type 1 Cabinet Assembly, includes Hammond Cabinet (INFO-4820), Gnd. Bar (INFO-4505), (1) Horiz. Powerbar (INFO-2224), Terminal Box Kit (INFO-4818), Electrical Junction Box Kit (INFO-4819), A/C Unit (INFO-4656) & Accessories (10Kva PDU must be ordered separately) - Material Only"},{"$f":"'Bill of Materials'!L583","v":"DWC"},{"$f":"'Bill of Materials'!N583","v":6232.03},{"$f":"'Bill of Materials'!P583","v":"DWC"},{"$f":"'Bill of Materials'!C583","v":"INFO-4798"},{"$f":"'Bill of Materials'!H583","v":"60N12T1-H"},null,null,null,0,{"$f":"'Bill of Materials'!J583","v":"standard material"},{"$f":"'Bill of Materials'!K583","v":"physical"},0]
[{"$f":"'Bill of Materials'!E584+'Bill of Materials'!F584","v":0},{"$f":"'Bill of Materials'!M584","v":"EA"},{"$f":"'Bill of Materials'!G584","v":"60 Inch NEMA 12 Enclosure Type 2 Cabinet Assembly, includes (2) Hammond Cabinets (INFO-4820), Gnd. Bars (INFO-4505), (1) Horiz. Powerbar (INFO-2224), (2) Terminal Box Kits (INFO-4818), Electrical Junction Box Kit (INFO-4819), A/C Unit (INFO-4656) & Accessories (10Kva PDU must be ordered separately) - Material Only"},{"$f":"'Bill of Materials'!L584","v":"DWC"},{"$f":"'Bill of Materials'!N584","v":8967.4699999999993},{"$f":"'Bill of Materials'!P584","v":"DWC"},{"$f":"'Bill of Materials'!C584","v":"INFO-4801"},{"$f":"'Bill of Materials'!H584","v":"60N12T2-H"},null,null,null,0,{"$f":"'Bill of Materials'!J584","v":"standard material"},{"$f":"'Bill of Materials'!K584","v":"physical"},0]
[{"$f":"'Bill of Materials'!E585+'Bill of Materials'!F585","v":0},{"$f":"'Bill of Materials'!M585","v":"EA"},{"$f":"'Bill of Materials'!G585","v":"60 Inch NEMA 12 Enclosure Type 3 Cabinet Assembly, includes (3) Hammond Cabinets (INFO-4820), Gnd. Bars (INFO-4505), (2) Horiz. Powerbar (INFO-2224), (3) Terminal Box Kits (INFO-4818), Elec Junction Box Kit (INFO-4819), A/C Unit (INFO-4656) & Accessories (10Kva PDU must be ordered separately) - Material Only"},{"$f":"'Bill of Materials'!L585","v":"DWC"},{"$f":"'Bill of Materials'!N585","v":11476.33},{"$f":"'Bill of Materials'!P585","v":"DWC"},{"$f":"'Bill of Materials'!C585","v":"INFO-4804"},{"$f":"'Bill of Materials'!H585","v":"60N12T3-H"},null,null,null,0,{"$f":"'Bill of Materials'!J585","v":"standard material"},{"$f":"'Bill of Materials'!K585","v":"physical"},0]
[{"$f":"'Bill of Materials'!E586+'Bill of Materials'!F586","v":0},{"$f":"'Bill of Materials'!M586","v":"EA"},{"$f":"'Bill of Materials'!G586","v":"60 Inch NEMA 12 Enclosure Type 4 Cabinet Assembly, includes (4) Hammond Cabinets (INFO-4820), Gnd. Bars (INFO-4505), (2) Horiz. Powerbar (INFO-2224), (4) Terminal Box Kits (INFO-4818), Elec Junction Box Kit (INFO-4819), A/C Unit (INFO-4656) & Accessories (10Kva PDU must be ordered separately) - Material Only"},{"$f":"'Bill of Materials'!L586","v":"DWC"},{"$f":"'Bill of Materials'!N586","v":14007.49},{"$f":"'Bill of Materials'!P586","v":"DWC"},{"$f":"'Bill of Materials'!C586","v":"INFO-4807"},{"$f":"'Bill of Materials'!H586","v":"60N12T4-H"},null,null,null,0,{"$f":"'Bill of Materials'!J586","v":"standard material"},{"$f":"'Bill of Materials'!K586","v":"physical"},0]
[{"$f":"'Bill of Materials'!E587+'Bill of Materials'!F587","v":0},{"$f":"'Bill of Materials'!M587","v":"EA"},{"$f":"'Bill of Materials'!G587","v":"60 Inch NEMA 12 Enclosure Type 5 Cabinet Assembly, includes (5) Hammond Cabinets (INFO-4820), Gnd. Bars (INFO-4505), (2) Horiz. Powerbars (INFO-2224), (5) Terminal Box Kits (INFO-4818), Elec Junction Box Kit (INFO-4819), A/C Unit (INFO-4656) & Accessories (10Kva PDU must be ordered separately) - Material Only"},{"$f":"'Bill of Materials'!L587","v":"DWC"},{"$f":"'Bill of Materials'!N587","v":16540.099999999999},{"$f":"'Bill of Materials'!P587","v":"DWC"},{"$f":"'Bill of Materials'!C587","v":"INFO-4810"},{"$f":"'Bill of Materials'!H587","v":"60N12T5-H"},null,null,null,0,{"$f":"'Bill of Materials'!J587","v":"standard material"},{"$f":"'Bill of Materials'!K587","v":"physical"},0]
[{"$f":"'Bill of Materials'!E588+'Bill of Materials'!F588","v":0},{"$f":"'Bill of Materials'!M588","v":"EA"},{"$f":"'Bill of Materials'!G588","v":"CPTA Terminal Box Kit- Material Only"},{"$f":"'Bill of Materials'!L588","v":"DWC"},{"$f":"'Bill of Materials'!N588","v":932.48},{"$f":"'Bill of Materials'!P588","v":"DWC"},{"$f":"'Bill of Materials'!C588","v":"INFO-4818"},{"$f":"'Bill of Materials'!H588","v":"Term-T12-H"},null,null,null,0,{"$f":"'Bill of Materials'!J588","v":"standard material"},{"$f":"'Bill of Materials'!K588","v":"physical"},0]
[{"$f":"'Bill of Materials'!#REF!+'Bill of Materials'!#REF!","v":{"$error":"#REF!"}},{"$f":"'Bill of Materials'!#REF!","v":{"$error":"#REF!"}},{"$f":"'Bill of Materials'!#REF!","v":{"$error":"#REF!"}},{"$f":"'Bill of Materials'!#REF!","v":{"$error":"#REF!"}},{"$f":"'Bill of Materials'!#REF!","v":{"$error":"#REF!"}},{"$f":"'Bill of Materials'!#REF!","v":{"$error":"#REF!"}},{"$f":"'Bill of Materials'!#REF!","v":{"$error":"#REF!"}},{"$f":"'Bill of Materials'!#REF!","v":{"$error":"#REF!"}},null,null,null,{"$error":"#REF!"},{"$f":"'Bill of Materials'!#REF!","v":{"$error":"#REF!"}},{"$f":"'Bill of Materials'!#REF!","v":{"$error":"#REF!"}},{"$error":"#REF!"}]
[{"$f":"'Bill of Materials'!E589+'Bill of Materials'!F589","v":0},{"$f":"'Bill of Materials'!M589","v":"EA"},{"$f":"'Bill of Materials'!G589","v":"CPTA Electrical Junction Box Kit - Material Only"},{"$f":"'Bill of Materials'!L589","v":"DWC"},{"$f":"'Bill of Materials'!N589","v":2058.75},{"$f":"'Bill of Materials'!P589","v":"DWC"},{"$f":"'Bill of Materials'!C589","v":"INFO-4819"},{"$f":"'Bill of Materials'!H589","v":"EJB-1-H"},null,null,null,0,{"$f":"'Bill of Materials'!J589","v":"standard material"},{"$f":"'Bill of Materials'!K589","v":"physical"},0]
[{"$f":"'Bill of Materials'!E590+'Bill of Materials'!F590","v":0},{"$f":"'Bill of Materials'!M590","v":"EA"},{"$f":"'Bill of Materials'!G590","v":"60 Inch NEMA-12 30RU BASE plant floor cabinet assembly (60\"X28\"X32\"). Includes floor levelers, ground studs/straps, two pair of EIA rails (30RU), two sets rail reducers (INFO-4219) for 19” mounting, bag of EIA rack rail hardware for 24” mounting, bag of (100) 10x32 oval head Phillips screws and finish washers, solid bottom, solid top, solid front door, solid rear door (doors include Dirak lift & turn handle and three point latch keyed 1333), two solid side panels, (1) 24” fluorescent light kit/magnetic (INFO-4220)\r\n(MUST ORDER GND. BAR INFO-4505 SEPARATELY)"},{"$f":"'Bill of Materials'!L590","v":"Hammond"},{"$f":"'Bill of Materials'!N590","v":1458.62},{"$f":"'Bill of Materials'!P590","v":"DWC"},{"$f":"'Bill of Materials'!C590","v":"INFO-4820"},{"$f":"'Bill of Materials'!H590","v":"SR0200391"},null,null,null,0,{"$f":"'Bill of Materials'!J590","v":"standard material"},{"$f":"'Bill of Materials'!K590","v":"physical"},0]
[{"$f":"'Bill of Materials'!E591+'Bill of Materials'!F591","v":0},{"$f":"'Bill of Materials'!M591","v":"EA"},{"$f":"'Bill of Materials'!G591","v":"78 Inch NEMA-12 40RU BASE plant floor cabinet assembly (78\"X28\"X32\"). Includes floor levelers, ground studs/straps, one pair of EIA rails (INFO-4218), rail reducers (INFO-4219) for 19” mounting, bag of EIA rack rail hardware for 24” mounting, bag of (100) 10x32 oval head Phillips screws and finish washers, (2) vertical powerbars (INFO-4652), solid bottom, solid top, solid front door, solid rear door (doors include Dirak lift & turn handle and three point latch keyed 1333), two solid side panels, (1) 24” fluorescent light kit/magnetic (INFO-4220)\r\n(MUST ORDER GND. BAR INFO-4505 SEPARATELY)"},{"$f":"'Bill of Materials'!L591","v":"Hammond"},{"$f":"'Bill of Materials'!N591","v":1708.55},{"$f":"'Bill of Materials'!P591","v":"DWC"},{"$f":"'Bill of Materials'!C591","v":"INFO-4821"},{"$f":"'Bill of Materials'!H591","v":"S87973"},null,null,null,0,{"$f":"'Bill of Materials'!J591","v":"standard material"},{"$f":"'Bill of Materials'!K591","v":"physical"},0]
[{"$f":"'Bill of Materials'!E592+'Bill of Materials'!F592","v":0},{"$f":"'Bill of Materials'!M592","v":"EA"},{"$f":"'Bill of Materials'!G592","v":"78  Inch NEMA 12 Legacy Enclosure includes Hammond Cabinet (INFO-4821), and internal plumbing for outlets/on-off switch  - Material Only  (Does not include the 10kVA PDU or the 4000 BTU Air Conditioner)\r\n(MUST ORDER GND. BAR INFO-4505 SEPARATELY)"},{"$f":"'Bill of Materials'!L592","v":"DWC"},{"$f":"'Bill of Materials'!N592","v":1596.1},{"$f":"'Bill of Materials'!P592","v":"DWC"},{"$f":"'Bill of Materials'!C592","v":"INFO-4836"},{"$f":"'Bill of Materials'!H592","v":"S87973-LE-H"},null,null,null,0,{"$f":"'Bill of Materials'!J592","v":"standard material"},{"$f":"'Bill of Materials'!K592","v":"physical"},0]
[{"$f":"'Bill of Materials'!E594+'Bill of Materials'!F594","v":0},{"$f":"'Bill of Materials'!M594","v":"EA"},{"$f":"'Bill of Materials'!G594","v":"13RU (1) Pair 10-32 Tapped Rails w/Hardware. Matches SWC Series 26.00\" Wall Mount Cabinet"},{"$f":"'Bill of Materials'!L594","v":"Hammond"},{"$f":"'Bill of Materials'!N594","v":51.4},{"$f":"'Bill of Materials'!P594","v":"DWC"},{"$f":"'Bill of Materials'!C594","v":"10083"},{"$f":"'Bill of Materials'!H594","v":"CCR22TZPL"},null,null,null,0,{"$f":"'Bill of Materials'!J594","v":"standard material"},{"$f":"'Bill of Materials'!K594","v":"physical"},0]
[{"$f":"'Bill of Materials'!E595+'Bill of Materials'!F595","v":0},{"$f":"'Bill of Materials'!M595","v":"EA"},{"$f":"'Bill of Materials'!G595","v":"20RU (1) Pair 10-32 Tapped Rails w/Hardware. Matches SWC Series 35.25\" Wall Mount Cabinet"},{"$f":"'Bill of Materials'!L595","v":"Hammond"},{"$f":"'Bill of Materials'!N595","v":62.4},{"$f":"'Bill of Materials'!P595","v":"DWC"},{"$f":"'Bill of Materials'!C595","v":"10084"},{"$f":"'Bill of Materials'!H595","v":"CCR35TZPL"},null,null,null,0,{"$f":"'Bill of Materials'!J595","v":"standard material"},{"$f":"'Bill of Materials'!K595","v":"physical"},0]
[{"$f":"'Bill of Materials'!E596+'Bill of Materials'!F596","v":0},{"$f":"'Bill of Materials'!M596","v":"EA"},{"$f":"'Bill of Materials'!G596","v":"28RU (1) Pair 10-32 Tapped Rails w/Hardware. Matches SWC Series 52.25\" Wall Mount Cabinet"},{"$f":"'Bill of Materials'!L596","v":"Hammond"},{"$f":"'Bill of Materials'!N596","v":66},{"$f":"'Bill of Materials'!P596","v":"DWC"},{"$f":"'Bill of Materials'!C596","v":"10085"},{"$f":"'Bill of Materials'!H596","v":"CCR49TZPL"},null,null,null,0,{"$f":"'Bill of Materials'!J596","v":"standard material"},{"$f":"'Bill of Materials'!K596","v":"physical"},0]
[{"$f":"'Bill of Materials'!E597+'Bill of Materials'!F597","v":0},{"$f":"'Bill of Materials'!M597","v":"EA"},{"$f":"'Bill of Materials'!G597","v":"Daisy Chain for Fans, 24\" with (2) 45 degree plugs for Hammond Wall Mount Cabinet"},{"$f":"'Bill of Materials'!L597","v":"Hammond"},{"$f":"'Bill of Materials'!N597","v":6.55},{"$f":"'Bill of Materials'!P597","v":"DWC"},{"$f":"'Bill of Materials'!C597","v":"10094"},{"$f":"'Bill of Materials'!H597","v":"DNFCDC2P"},null,null,null,0,{"$f":"'Bill of Materials'!J597","v":"standard material"},{"$f":"'Bill of Materials'!K597","v":"physical"},0]
[{"$f":"'Bill of Materials'!E598+'Bill of Materials'!F598","v":0},{"$f":"'Bill of Materials'!M598","v":"EA"},{"$f":"'Bill of Materials'!G598","v":"4.7\" Metal Fan Grille for Hammond Wall Mount Cabinet"},{"$f":"'Bill of Materials'!L598","v":"Hammond"},{"$f":"'Bill of Materials'!N598","v":2.7},{"$f":"'Bill of Materials'!P598","v":"DWC"},{"$f":"'Bill of Materials'!C598","v":"10095"},{"$f":"'Bill of Materials'!H598","v":"DNFG"},null,null,null,0,{"$f":"'Bill of Materials'!J598","v":"standard material"},{"$f":"'Bill of Materials'!K598","v":"physical"},0]
[{"$f":"'Bill of Materials'!E599+'Bill of Materials'!F599","v":0},{"$f":"'Bill of Materials'!M599","v":"EA"},{"$f":"'Bill of Materials'!G599","v":"4.7\" Diameter Fan 100 CFM "},{"$f":"'Bill of Materials'!L599","v":"Hammond"},{"$f":"'Bill of Materials'!N599","v":28.35},{"$f":"'Bill of Materials'!P599","v":"DWC"},{"$f":"'Bill of Materials'!C599","v":"10096"},{"$f":"'Bill of Materials'!H599","v":"DNMF100AC115"},null,null,null,0,{"$f":"'Bill of Materials'!J599","v":"standard material"},{"$f":"'Bill of Materials'!K599","v":"physical"},0]
[{"$f":"'Bill of Materials'!E600+'Bill of Materials'!F600","v":0},{"$f":"'Bill of Materials'!M600","v":"EA"},{"$f":"'Bill of Materials'!G600","v":"Nema 4 Rated Enclosure (Steel/Gray) 36\"h x 30\"w x 10\"d"},{"$f":"'Bill of Materials'!L600","v":"Hammond"},{"$f":"'Bill of Materials'!N600","v":389},{"$f":"'Bill of Materials'!P600","v":"DWC"},{"$f":"'Bill of Materials'!C600","v":"10100"},{"$f":"'Bill of Materials'!H600","v":"EN4SD363010GY"},null,null,null,0,{"$f":"'Bill of Materials'!J600","v":"standard material"},{"$f":"'Bill of Materials'!K600","v":"physical"},0]
[{"$f":"'Bill of Materials'!E601+'Bill of Materials'!F601","v":0},{"$f":"'Bill of Materials'!M601","v":"EA"},{"$f":"'Bill of Materials'!G601","v":"Nema 4 Rated Enclosure Back Mounting Plate"},{"$f":"'Bill of Materials'!L601","v":"Hammond"},{"$f":"'Bill of Materials'!N601","v":97.95},{"$f":"'Bill of Materials'!P601","v":"DWC"},{"$f":"'Bill of Materials'!C601","v":"10101"},{"$f":"'Bill of Materials'!H601","v":"EP3630"},null,null,null,0,{"$f":"'Bill of Materials'!J601","v":"standard material"},{"$f":"'Bill of Materials'!K601","v":"physical"},0]
[{"$f":"'Bill of Materials'!#REF!+'Bill of Materials'!#REF!","v":{"$error":"#REF!"}},{"$f":"'Bill of Materials'!#REF!","v":{"$error":"#REF!"}},{"$f":"'Bill of Materials'!#REF!","v":{"$error":"#REF!"}},{"$f":"'Bill of Materials'!#REF!","v":{"$error":"#REF!"}},{"$f":"'Bill of Materials'!#REF!","v":{"$error":"#REF!"}},{"$f":"'Bill of Materials'!#REF!","v":{"$error":"#REF!"}},{"$f":"'Bill of Materials'!#REF!","v":{"$error":"#REF!"}},{"$f":"'Bill of Materials'!#REF!","v":{"$error":"#REF!"}},null,null,null,{"$error":"#REF!"},{"$f":"'Bill of Materials'!#REF!","v":{"$error":"#REF!"}},{"$f":"'Bill of Materials'!#REF!","v":{"$error":"#REF!"}},{"$error":"#REF!"}]
[{"$f":"'Bill of Materials'!E602+'Bill of Materials'!F602","v":0},{"$f":"'Bill of Materials'!M602","v":"EA"},{"$f":"'Bill of Materials'!G602","v":"SWC Series 26.00\" Tall, 13RU, Swing Out Nema 1 Wall Mounted Cabinet Black w/(3) Hinged Sections. 26.625\" Depth w/Locking Plexi Glass Door, 1 Pair of 10-32 Tapped Rails"},{"$f":"'Bill of Materials'!L602","v":"Hammond"},{"$f":"'Bill of Materials'!N602","v":549.9},{"$f":"'Bill of Materials'!P602","v":"DWC"},{"$f":"'Bill of Materials'!C602","v":"10167"},{"$f":"'Bill of Materials'!H602","v":"SWC192220BK1"},null,null,null,0,{"$f":"'Bill of Materials'!J602","v":"standard material"},{"$f":"'Bill of Materials'!K602","v":"physical"},0]
[{"$f":"'Bill of Materials'!E603+'Bill of Materials'!F603","v":0},{"$f":"'Bill of Materials'!M603","v":"EA"},{"$f":"'Bill of Materials'!G603","v":"SWC Series 35.25\" Tall, 20RU, Swing Out Nema 1 Wall Mounted Cabinet Black w/(3) Hinged Sections. 26.625\" Depth w/Locking Plexi Glass Door, 1 Pair of 10-32 Tapped Rails"},{"$f":"'Bill of Materials'!L603","v":"Hammond"},{"$f":"'Bill of Materials'!N603","v":553.5},{"$f":"'Bill of Materials'!P603","v":"DWC"},{"$f":"'Bill of Materials'!C603","v":"10168"},{"$f":"'Bill of Materials'!H603","v":"SWC193520BK1"},null,null,null,0,{"$f":"'Bill of Materials'!J603","v":"standard material"},{"$f":"'Bill of Materials'!K603","v":"physical"},0]
[{"$f":"'Bill of Materials'!E604+'Bill of Materials'!F604","v":0},{"$f":"'Bill of Materials'!M604","v":"EA"},{"$f":"'Bill of Materials'!G604","v":"SWC Series 52.25\" Tall, 28RU, Swing Out Nema 1 Wall Mounted Cabinet Black w/(3) Hinged Sections. 26.625\" Depth w/Locking Plexi Glass Door, 1 Pair of 10-32 Tapped Rails"},{"$f":"'Bill of Materials'!L604","v":"Hammond"},{"$f":"'Bill of Materials'!N604","v":812.35},{"$f":"'Bill of Materials'!P604","v":"DWC"},{"$f":"'Bill of Materials'!C604","v":"10169"},{"$f":"'Bill of Materials'!H604","v":"SWC194920BK1"},null,null,null,0,{"$f":"'Bill of Materials'!J604","v":"standard material"},{"$f":"'Bill of Materials'!K604","v":"physical"},0]
[{"$f":"'Bill of Materials'!E605+'Bill of Materials'!F605","v":0},{"$f":"'Bill of Materials'!M605","v":"EA"},{"$f":"'Bill of Materials'!G605","v":"Wall Mount Cabinet (Labor ONLY)"},{"$f":"'Bill of Materials'!L605","v":"DWC"},{"$f":"'Bill of Materials'!N605","v":0},{"$f":"'Bill of Materials'!P605","v":"DWC"},{"$f":"'Bill of Materials'!C605","v":"NIS"},{"$f":"'Bill of Materials'!H605","v":"Variable-L"},null,null,null,0,{"$f":"'Bill of Materials'!J605","v":"non-standard material"},{"$f":"'Bill of Materials'!K605","v":"physical"},0]
[{"$f":"'Bill of Materials'!E607+'Bill of Materials'!F607","v":0},{"$f":"'Bill of Materials'!M607","v":"EA"},{"$f":"'Bill of Materials'!G607","v":"Radius Server Monitor, Cabinet Rails Angle Bracket"},{"$f":"'Bill of Materials'!L607","v":"DWC"},{"$f":"'Bill of Materials'!N607","v":16.829999999999998},{"$f":"'Bill of Materials'!P607","v":"DWC"},{"$f":"'Bill of Materials'!C607","v":"0094-49RM"},{"$f":"'Bill of Materials'!H607","v":"RSMAB"},null,null,null,0,{"$f":"'Bill of Materials'!J607","v":"standard material"},{"$f":"'Bill of Materials'!K607","v":"physical"},0]
[{"$f":"'Bill of Materials'!E608+'Bill of Materials'!F608","v":0},{"$f":"'Bill of Materials'!M608","v":"EA"},{"$f":"'Bill of Materials'!G608","v":"Rear Rack Cable/Powercord Management Mounting Kit (includes 10 mounting clips and velcro ties)"},{"$f":"'Bill of Materials'!L608","v":"DWC"},{"$f":"'Bill of Materials'!N608","v":10.199999999999999},{"$f":"'Bill of Materials'!P608","v":"DWC"},{"$f":"'Bill of Materials'!C608","v":"0456-0XRH"},{"$f":"'Bill of Materials'!H608","v":"RRCM"},null,null,null,0,{"$f":"'Bill of Materials'!J608","v":"standard material"},{"$f":"'Bill of Materials'!K608","v":"physical"},0]
[{"$f":"'Bill of Materials'!E609+'Bill of Materials'!F609","v":0},{"$f":"'Bill of Materials'!M609","v":"EA"},{"$f":"'Bill of Materials'!G609","v":"Relay Rack Rail Mounting Screws 12/24 x 5/8\"L, (50/PKG)"},{"$f":"'Bill of Materials'!L609","v":"Homaco"},{"$f":"'Bill of Materials'!N609","v":8.75},{"$f":"'Bill of Materials'!P609","v":"DWC"},{"$f":"'Bill of Materials'!C609","v":"10012"},{"$f":"'Bill of Materials'!H609","v":"60400533"},null,null,null,0,{"$f":"'Bill of Materials'!J609","v":"standard material"},{"$f":"'Bill of Materials'!K609","v":"physical"},0]
[{"$f":"'Bill of Materials'!E610+'Bill of Materials'!F610","v":0},{"$f":"'Bill of Materials'!M610","v":"EA"},{"$f":"'Bill of Materials'!G610","v":"84 Inch Dual Rail Equipment Rack, 19\" EIA Spacing, 45RU - Labor Only"},{"$f":"'Bill of Materials'!L610","v":"DWC"},{"$f":"'Bill of Materials'!N610","v":85.5},{"$f":"'Bill of Materials'!P610","v":"DWC"},{"$f":"'Bill of Materials'!C610","v":"10022"},{"$f":"'Bill of Materials'!H610","v":"1984DER-L"},null,null,null,0,{"$f":"'Bill of Materials'!J610","v":"standard material"},{"$f":"'Bill of Materials'!K610","v":"physical"},0]
[{"$f":"'Bill of Materials'!E611+'Bill of Materials'!F611","v":0},{"$f":"'Bill of Materials'!M611","v":"EA"},{"$f":"'Bill of Materials'!G611","v":"84 Inch Single Rail Equipment Rack, 19\" EIA Spacing, 45RU - Labor Only"},{"$f":"'Bill of Materials'!L611","v":"DWC"},{"$f":"'Bill of Materials'!N611","v":79.2},{"$f":"'Bill of Materials'!P611","v":"DWC"},{"$f":"'Bill of Materials'!C611","v":"10023"},{"$f":"'Bill of Materials'!H611","v":"1984SER-L"},null,null,null,0,{"$f":"'Bill of Materials'!J611","v":"standard material"},{"$f":"'Bill of Materials'!K611","v":"physical"},0]
[{"$f":"'Bill of Materials'!E612+'Bill of Materials'!F612","v":0},{"$f":"'Bill of Materials'!M612","v":"EA"},{"$f":"'Bill of Materials'!G612","v":"Top of Rack Mount Fiber Management Trough, Both FMT and CMUT19 Models - Labor Only"},{"$f":"'Bill of Materials'!L612","v":"DWC"},{"$f":"'Bill of Materials'!N612","v":38.700000000000003},{"$f":"'Bill of Materials'!P612","v":"DWC"},{"$f":"'Bill of Materials'!C612","v":"10088"},{"$f":"'Bill of Materials'!H612","v":"CMUT19-L"},null,null,null,0,{"$f":"'Bill of Materials'!J612","v":"standard material"},{"$f":"'Bill of Materials'!K612","v":"physical"},0]
[{"$f":"'Bill of Materials'!E613+'Bill of Materials'!F613","v":0},{"$f":"'Bill of Materials'!M613","v":"EA"},{"$f":"'Bill of Materials'!G613","v":"Fiber Trough, Replaces Top Angle Bracket on Dual and Single Relay Rack Frames. Utilizes Zero RU"},{"$f":"'Bill of Materials'!L613","v":"Belden"},{"$f":"'Bill of Materials'!N613","v":90.45},{"$f":"'Bill of Materials'!P613","v":"DWC"},{"$f":"'Bill of Materials'!C613","v":"10113"},{"$f":"'Bill of Materials'!H613","v":"FMT"},null,null,null,0,{"$f":"'Bill of Materials'!J613","v":"standard material"},{"$f":"'Bill of Materials'!K613","v":"physical"},0]
[{"$f":"'Bill of Materials'!E614+'Bill of Materials'!F614","v":0},{"$f":"'Bill of Materials'!M614","v":"EA"},{"$f":"'Bill of Materials'!G614","v":"10\" Wide Single-Sided High-Density Vertical Cable Manager w/Door (Flat Black) Requires Separate Back Panel"},{"$f":"'Bill of Materials'!L614","v":"Cooper B-Line"},{"$f":"'Bill of Materials'!N614","v":363.75},{"$f":"'Bill of Materials'!P614","v":"DWC"},{"$f":"'Bill of Materials'!C614","v":"10148"},{"$f":"'Bill of Materials'!H614","v":"SB-860-810S-084FB"},null,null,null,0,{"$f":"'Bill of Materials'!J614","v":"standard material"},{"$f":"'Bill of Materials'!K614","v":"physical"},0]
[{"$f":"'Bill of Materials'!E615+'Bill of Materials'!F615","v":0},{"$f":"'Bill of Materials'!M615","v":"EA"},{"$f":"'Bill of Materials'!G615","v":"12\" Wide Single-Sided High-Density Vertical Cable Manager w/Door (Flat Black) Requires Separate Back Cover"},{"$f":"'Bill of Materials'!L615","v":"Cooper B-Line"},{"$f":"'Bill of Materials'!N615","v":617.25},{"$f":"'Bill of Materials'!P615","v":"DWC"},{"$f":"'Bill of Materials'!C615","v":"10149"},{"$f":"'Bill of Materials'!H615","v":"SB-860-812S-084FB"},null,null,null,0,{"$f":"'Bill of Materials'!J615","v":"standard material"},{"$f":"'Bill of Materials'!K615","v":"physical"},0]
[{"$f":"'Bill of Materials'!E616+'Bill of Materials'!F616","v":0},{"$f":"'Bill of Materials'!M616","v":"EA"},{"$f":"'Bill of Materials'!G616","v":"3\" Wide Single-Sided High-Density Vertical Cable Manager w/Door (Flat Black) Requires Separate Back Cover"},{"$f":"'Bill of Materials'!L616","v":"Cooper B-Line"},{"$f":"'Bill of Materials'!N616","v":289.64999999999998},{"$f":"'Bill of Materials'!P616","v":"DWC"},{"$f":"'Bill of Materials'!C616","v":"10150"},{"$f":"'Bill of Materials'!H616","v":"SB-860-83S-084FB"},null,null,null,0,{"$f":"'Bill of Materials'!J616","v":"standard material"},{"$f":"'Bill of Materials'!K616","v":"physical"},0]
[{"$f":"'Bill of Materials'!E617+'Bill of Materials'!F617","v":0},{"$f":"'Bill of Materials'!M617","v":"EA"},{"$f":"'Bill of Materials'!G617","v":"6\" Wide Single-Sided High-Density Vertical Cable Manager w/Door (Flat Black) Requires Separate Back Cover"},{"$f":"'Bill of Materials'!L617","v":"Cooper B-Line"},{"$f":"'Bill of Materials'!N617","v":310.7},{"$f":"'Bill of Materials'!P617","v":"DWC"},{"$f":"'Bill of Materials'!C617","v":"10151"},{"$f":"'Bill of Materials'!H617","v":"SB-860-86S-084FB"},null,null,null,0,{"$f":"'Bill of Materials'!J617","v":"standard material"},{"$f":"'Bill of Materials'!K617","v":"physical"},0]
[{"$f":"'Bill of Materials'!E618+'Bill of Materials'!F618","v":0},{"$f":"'Bill of Materials'!M618","v":"EA"},{"$f":"'Bill of Materials'!G618","v":"Back Cover for 10\" Single and Double-Sided High-Density Vertical Cable Manager"},{"$f":"'Bill of Materials'!L618","v":"Cooper B-Line"},{"$f":"'Bill of Materials'!N618","v":57.2},{"$f":"'Bill of Materials'!P618","v":"DWC"},{"$f":"'Bill of Materials'!C618","v":"10152"},{"$f":"'Bill of Materials'!H618","v":"SB-862-BRC-10-084FB"},null,null,null,0,{"$f":"'Bill of Materials'!J618","v":"standard material"},{"$f":"'Bill of Materials'!K618","v":"physical"},0]
[{"$f":"'Bill of Materials'!E619+'Bill of Materials'!F619","v":0},{"$f":"'Bill of Materials'!M619","v":"EA"},{"$f":"'Bill of Materials'!G619","v":"Back Cover for 12\" Single and Double-Sided High-Density Vertical Cable Manager"},{"$f":"'Bill of Materials'!L619","v":"Cooper B-Line"},{"$f":"'Bill of Materials'!N619","v":62.6},{"$f":"'Bill of Materials'!P619","v":"DWC"},{"$f":"'Bill of Materials'!C619","v":"10153"},{"$f":"'Bill of Materials'!H619","v":"SB-862-BRC-12-084FB"},null,null,null,0,{"$f":"'Bill of Materials'!J619","v":"standard material"},{"$f":"'Bill of Materials'!K619","v":"physical"},0]
[{"$f":"'Bill of Materials'!E620+'Bill of Materials'!F620","v":0},{"$f":"'Bill of Materials'!M620","v":"EA"},{"$f":"'Bill of Materials'!G620","v":"Back Cover for 3\" Single and Double-Sided High-Density Vertical Cable Manager"},{"$f":"'Bill of Materials'!L620","v":"Cooper B-Line"},{"$f":"'Bill of Materials'!N620","v":32.1},{"$f":"'Bill of Materials'!P620","v":"DWC"},{"$f":"'Bill of Materials'!C620","v":"10154"},{"$f":"'Bill of Materials'!H620","v":"SB-862-BRC-3-084FB"},null,null,null,0,{"$f":"'Bill of Materials'!J620","v":"standard material"},{"$f":"'Bill of Materials'!K620","v":"physical"},0]
[{"$f":"'Bill of Materials'!E621+'Bill of Materials'!F621","v":0},{"$f":"'Bill of Materials'!M621","v":"EA"},{"$f":"'Bill of Materials'!G621","v":"Back Cover for 6\" Single and Double-Sided High-Density Vertical Cable Manager"},{"$f":"'Bill of Materials'!L621","v":"Cooper B-Line"},{"$f":"'Bill of Materials'!N621","v":42.2},{"$f":"'Bill of Materials'!P621","v":"DWC"},{"$f":"'Bill of Materials'!C621","v":"10155"},{"$f":"'Bill of Materials'!H621","v":"SB-862-BRC-6-084FB"},null,null,null,0,{"$f":"'Bill of Materials'!J621","v":"standard material"},{"$f":"'Bill of Materials'!K621","v":"physical"},0]
[{"$f":"'Bill of Materials'!E622+'Bill of Materials'!F622","v":0},{"$f":"'Bill of Materials'!M622","v":"EA"},{"$f":"'Bill of Materials'!G622","v":"10\" Double-Sided High-Density Vertical Cable Manager, w/Doors (Flat Black) Requires Separate Back Cover"},{"$f":"'Bill of Materials'!L622","v":"Cooper B-Line"},{"$f":"'Bill of Materials'!N622","v":392.05},{"$f":"'Bill of Materials'!P622","v":"DWC"},{"$f":"'Bill of Materials'!C622","v":"10156"},{"$f":"'Bill of Materials'!H622","v":"SB-864-810D-084FB"},null,null,null,0,{"$f":"'Bill of Materials'!J622","v":"standard material"},{"$f":"'Bill of Materials'!K622","v":"physical"},0]
[{"$f":"'Bill of Materials'!E623+'Bill of Materials'!F623","v":0},{"$f":"'Bill of Materials'!M623","v":"EA"},{"$f":"'Bill of Materials'!G623","v":"12\" Double-Sided High-Density Vertical Cable Manager, w/Doors (Flat Black) Requires Separate Back Cover"},{"$f":"'Bill of Materials'!L623","v":"Cooper B-Line"},{"$f":"'Bill of Materials'!N623","v":511.6},{"$f":"'Bill of Materials'!P623","v":"DWC"},{"$f":"'Bill of Materials'!C623","v":"10157"},{"$f":"'Bill of Materials'!H623","v":"SB-864-812D-084FB"},null,null,null,0,{"$f":"'Bill of Materials'!J623","v":"standard material"},{"$f":"'Bill of Materials'!K623","v":"physical"},0]
[{"$f":"'Bill of Materials'!E624+'Bill of Materials'!F624","v":0},{"$f":"'Bill of Materials'!M624","v":"EA"},{"$f":"'Bill of Materials'!G624","v":"3\" Double-Sided High-Density Vertical Cable Manager, w/Doors (Flat Black) Requires Separate Back Cover"},{"$f":"'Bill of Materials'!L624","v":"Cooper B-Line"},{"$f":"'Bill of Materials'!N624","v":312.45},{"$f":"'Bill of Materials'!P624","v":"DWC"},{"$f":"'Bill of Materials'!C624","v":"10158"},{"$f":"'Bill of Materials'!H624","v":"SB-864-83D-084FB"},null,null,null,0,{"$f":"'Bill of Materials'!J624","v":"standard material"},{"$f":"'Bill of Materials'!K624","v":"physical"},0]
[{"$f":"'Bill of Materials'!E625+'Bill of Materials'!F625","v":0},{"$f":"'Bill of Materials'!M625","v":"EA"},{"$f":"'Bill of Materials'!G625","v":"6\" Double-Sided High-Density Vertical Cable Manager, w/Doors (Flat Black) Requires Separate Back Cover"},{"$f":"'Bill of Materials'!L625","v":"Cooper B-Line"},{"$f":"'Bill of Materials'!N625","v":334.2},{"$f":"'Bill of Materials'!P625","v":"DWC"},{"$f":"'Bill of Materials'!C625","v":"10159"},{"$f":"'Bill of Materials'!H625","v":"SB-864-86D-084FB"},null,null,null,0,{"$f":"'Bill of Materials'!J625","v":"standard material"},{"$f":"'Bill of Materials'!K625","v":"physical"},0]
[{"$f":"'Bill of Materials'!E626+'Bill of Materials'!F626","v":0},{"$f":"'Bill of Materials'!M626","v":"EA"},{"$f":"'Bill of Materials'!G626","v":"Mount vertical wire manager--------Labor Only"},{"$f":"'Bill of Materials'!L626","v":"DWC"},{"$f":"'Bill of Materials'!N626","v":38.700000000000003},{"$f":"'Bill of Materials'!P626","v":"DWC"},{"$f":"'Bill of Materials'!C626","v":"10173"},{"$f":"'Bill of Materials'!H626","v":"Vertical Wire Manager-L"},null,null,null,0,{"$f":"'Bill of Materials'!J626","v":"standard material"},{"$f":"'Bill of Materials'!K626","v":"physical"},0]
[{"$f":"'Bill of Materials'!E627+'Bill of Materials'!F627","v":0},{"$f":"'Bill of Materials'!M627","v":"KIT"},{"$f":"'Bill of Materials'!G627","v":"84'' Dual Rail Equipment Rack, 19\" EIA Spacing, 21\"-32\" Expandable, 45RU, Assembly Includes EGB Ground Bar and (2) RRCM Kits for Front and Rear Rails. Manf. Model #19-84-T4SDA2132"},{"$f":"'Bill of Materials'!L627","v":"DWC"},{"$f":"'Bill of Materials'!N627","v":440.2},{"$f":"'Bill of Materials'!P627","v":"DWC"},{"$f":"'Bill of Materials'!C627","v":"10250"},{"$f":"'Bill of Materials'!H627","v":"1984XDER"},null,null,null,0,{"$f":"'Bill of Materials'!J627","v":"standard material"},{"$f":"'Bill of Materials'!K627","v":"physical"},0]
[{"$f":"'Bill of Materials'!E628+'Bill of Materials'!F628","v":0},{"$f":"'Bill of Materials'!M628","v":"EA"},{"$f":"'Bill of Materials'!G628","v":"84'' Dual Rail Equipment Rack, 19\" EIA Spacing, 21\"-32\" Expandable, 45RU, Rack Only"},{"$f":"'Bill of Materials'!L628","v":"Ortronics"},{"$f":"'Bill of Materials'!N628","v":432.83},{"$f":"'Bill of Materials'!P628","v":"DWC"},{"$f":"'Bill of Materials'!C628","v":"10273"},{"$f":"'Bill of Materials'!H628","v":"19-84-T4SDA2132"},null,null,null,0,{"$f":"'Bill of Materials'!J628","v":"standard material"},{"$f":"'Bill of Materials'!K628","v":"physical"},0]
[{"$f":"'Bill of Materials'!E629+'Bill of Materials'!F629","v":0},{"$f":"'Bill of Materials'!M629","v":"EA"},{"$f":"'Bill of Materials'!G629","v":"RCM+ Vertical Cable Management Finger Bracket, Rack-Rail Mounted, 11 RU Sections"},{"$f":"'Bill of Materials'!L629","v":"Cooper B-Line"},{"$f":"'Bill of Materials'!N629","v":18.899999999999999},{"$f":"'Bill of Materials'!P629","v":"DWC"},{"$f":"'Bill of Materials'!C629","v":"10312"},{"$f":"'Bill of Materials'!H629","v":"SB860FSFB"},null,null,null,0,{"$f":"'Bill of Materials'!J629","v":"standard material"},{"$f":"'Bill of Materials'!K629","v":"physical"},0]
[{"$f":"'Bill of Materials'!E630+'Bill of Materials'!F630","v":0},{"$f":"'Bill of Materials'!M630","v":"EA"},{"$f":"'Bill of Materials'!G630","v":"Relay Rack BRACKET, Adjustable Dual Equipment, 21-32 Depth, (4) Pcs. Per Pack (1) Pack Req. Per Relay Rack"},{"$f":"'Bill of Materials'!L630","v":"Ortronics"},{"$f":"'Bill of Materials'!N630","v":149.19999999999999},{"$f":"'Bill of Materials'!P630","v":"DWC"},{"$f":"'Bill of Materials'!C630","v":"10317"},{"$f":"'Bill of Materials'!H630","v":"OR-604045811"},null,null,null,0,{"$f":"'Bill of Materials'!J630","v":"standard material"},{"$f":"'Bill of Materials'!K630","v":"physical"},0]
[{"$f":"'Bill of Materials'!E631+'Bill of Materials'!F631","v":0},{"$f":"'Bill of Materials'!M631","v":"EA"},{"$f":"'Bill of Materials'!G631","v":"45 RU Dual Upright Relay Rack - Adjustable from 15' to 20\" w/o Ground Bar"},{"$f":"'Bill of Materials'!L631","v":"Homaco"},{"$f":"'Bill of Materials'!N631","v":347.02},{"$f":"'Bill of Materials'!P631","v":"DWC"},{"$f":"'Bill of Materials'!C631","v":"INFO-4301"},{"$f":"'Bill of Materials'!H631","v":"19-84-T4SD-A1520"},null,null,null,0,{"$f":"'Bill of Materials'!J631","v":"standard material"},{"$f":"'Bill of Materials'!K631","v":"physical"},0]
[{"$f":"'Bill of Materials'!E632+'Bill of Materials'!F632","v":0},{"$f":"'Bill of Materials'!M632","v":"EA"},{"$f":"'Bill of Materials'!G632","v":"45 RU Single Relay Rack w/o Ground Bar"},{"$f":"'Bill of Materials'!L632","v":"Homaco"},{"$f":"'Bill of Materials'!N632","v":118.12},{"$f":"'Bill of Materials'!P632","v":"DWC"},{"$f":"'Bill of Materials'!C632","v":"INFO-4305"},{"$f":"'Bill of Materials'!H632","v":"19-84-T2SD*B"},null,null,null,0,{"$f":"'Bill of Materials'!J632","v":"standard material"},{"$f":"'Bill of Materials'!K632","v":"physical"},0]
[{"$f":"'Bill of Materials'!E633+'Bill of Materials'!F633","v":0},{"$f":"'Bill of Materials'!M633","v":"EA"},{"$f":"'Bill of Materials'!G633","v":"Vertical Wire Organizer - 3\" depth with feed through holes"},{"$f":"'Bill of Materials'!L633","v":"Homaco"},{"$f":"'Bill of Materials'!N633","v":73.41},{"$f":"'Bill of Materials'!P633","v":"DWC"},{"$f":"'Bill of Materials'!C633","v":"INFO-4307"},{"$f":"'Bill of Materials'!H633","v":"VO-84-T3FTE"},null,null,null,0,{"$f":"'Bill of Materials'!J633","v":"standard material"},{"$f":"'Bill of Materials'!K633","v":"physical"},0]
[{"$f":"'Bill of Materials'!#REF!+'Bill of Materials'!#REF!","v":{"$error":"#REF!"}},{"$f":"'Bill of Materials'!#REF!","v":{"$error":"#REF!"}},{"$f":"'Bill of Materials'!#REF!","v":{"$error":"#REF!"}},{"$f":"'Bill of Materials'!#REF!","v":{"$error":"#REF!"}},{"$f":"'Bill of Materials'!#REF!","v":{"$error":"#REF!"}},{"$f":"'Bill of Materials'!#REF!","v":{"$error":"#REF!"}},{"$f":"'Bill of Materials'!#REF!","v":{"$error":"#REF!"}},{"$f":"'Bill of Materials'!#REF!","v":{"$error":"#REF!"}},null,null,null,{"$error":"#REF!"},{"$f":"'Bill of Materials'!#REF!","v":{"$error":"#REF!"}},{"$f":"'Bill of Materials'!#REF!","v":{"$error":"#REF!"}},{"$error":"#REF!"}]
[{"$f":"'Bill of Materials'!E634+'Bill of Materials'!F634","v":0},{"$f":"'Bill of Materials'!M634","v":"EA"},{"$f":"'Bill of Materials'!G634","v":"Vertical Wire Organizer - 6\" depth with feed through holes"},{"$f":"'Bill of Materials'!L634","v":"Homaco"},{"$f":"'Bill of Materials'!N634","v":83.21},{"$f":"'Bill of Materials'!P634","v":"DWC"},{"$f":"'Bill of Materials'!C634","v":"INFO-4309"},{"$f":"'Bill of Materials'!H634","v":"VO-84-T6FTE"},null,null,null,0,{"$f":"'Bill of Materials'!J634","v":"standard material"},{"$f":"'Bill of Materials'!K634","v":"physical"},0]
[{"$f":"'Bill of Materials'!E635+'Bill of Materials'!F635","v":0},{"$f":"'Bill of Materials'!M635","v":"EA"},{"$f":"'Bill of Materials'!G635","v":"6 Inch Vertical Control Bracket (Middle Rack) 3 per INFO 4309"},{"$f":"'Bill of Materials'!L635","v":"Homaco"},{"$f":"'Bill of Materials'!N635","v":13.33},{"$f":"'Bill of Materials'!P635","v":"DWC"},{"$f":"'Bill of Materials'!C635","v":"INFO-4311"},{"$f":"'Bill of Materials'!H635","v":"VCB-93-6H"},null,null,null,0,{"$f":"'Bill of Materials'!J635","v":"standard material"},{"$f":"'Bill of Materials'!K635","v":"physical"},0]
[{"$f":"'Bill of Materials'!E636+'Bill of Materials'!F636","v":0},{"$f":"'Bill of Materials'!M636","v":"EA"},{"$f":"'Bill of Materials'!G636","v":"Heavy Duty Swing-EZ Wall Rack - 11 Rack Spaces"},{"$f":"'Bill of Materials'!L636","v":"Homaco"},{"$f":"'Bill of Materials'!N636","v":244.68},{"$f":"'Bill of Materials'!P636","v":"DWC"},{"$f":"'Bill of Materials'!C636","v":"INFO-4314"},{"$f":"'Bill of Materials'!H636","v":"19-21-T25DHYDT"},null,null,null,0,{"$f":"'Bill of Materials'!J636","v":"standard material"},{"$f":"'Bill of Materials'!K636","v":"physical"},0]
[{"$f":"'Bill of Materials'!E637+'Bill of Materials'!F637","v":0},{"$f":"'Bill of Materials'!M637","v":"EA"},{"$f":"'Bill of Materials'!G637","v":"Heavy Duty Swing-EZ Wall Rack - 19 Rack Spaces"},{"$f":"'Bill of Materials'!L637","v":"Homaco"},{"$f":"'Bill of Materials'!N637","v":28.62},{"$f":"'Bill of Materials'!P637","v":"DWC"},{"$f":"'Bill of Materials'!C637","v":"INFO-4315"},{"$f":"'Bill of Materials'!H637","v":"19-35-T25DHYDT"},null,null,null,0,{"$f":"'Bill of Materials'!J637","v":"standard material"},{"$f":"'Bill of Materials'!K637","v":"physical"},0]
[{"$f":"'Bill of Materials'!#REF!+'Bill of Materials'!#REF!","v":{"$error":"#REF!"}},{"$f":"'Bill of Materials'!#REF!","v":{"$error":"#REF!"}},{"$f":"'Bill of Materials'!#REF!","v":{"$error":"#REF!"}},{"$f":"'Bill of Materials'!#REF!","v":{"$error":"#REF!"}},{"$f":"'Bill of Materials'!#REF!","v":{"$error":"#REF!"}},{"$f":"'Bill of Materials'!#REF!","v":{"$error":"#REF!"}},{"$f":"'Bill of Materials'!#REF!","v":{"$error":"#REF!"}},{"$f":"'Bill of Materials'!#REF!","v":{"$error":"#REF!"}},null,null,null,{"$error":"#REF!"},{"$f":"'Bill of Materials'!#REF!","v":{"$error":"#REF!"}},{"$f":"'Bill of Materials'!#REF!","v":{"$error":"#REF!"}},{"$error":"#REF!"}]
[{"$f":"'Bill of Materials'!E638+'Bill of Materials'!F638","v":0},{"$f":"'Bill of Materials'!M638","v":"EA"},{"$f":"'Bill of Materials'!G638","v":"Relay Rack Bracing Kit (Must order 5/8\" threaded rod separately)"},{"$f":"'Bill of Materials'!L638","v":"Homaco"},{"$f":"'Bill of Materials'!N638","v":25.11},{"$f":"'Bill of Materials'!P638","v":"DWC"},{"$f":"'Bill of Materials'!C638","v":"INFO-4321"},{"$f":"'Bill of Materials'!H638","v":"Z4-RR/WC"},null,null,null,0,{"$f":"'Bill of Materials'!J638","v":"standard material"},{"$f":"'Bill of Materials'!K638","v":"physical"},0]
[{"$f":"'Bill of Materials'!#REF!+'Bill of Materials'!#REF!","v":{"$error":"#REF!"}},{"$f":"'Bill of Materials'!#REF!","v":{"$error":"#REF!"}},{"$f":"'Bill of Materials'!#REF!","v":{"$error":"#REF!"}},{"$f":"'Bill of Materials'!#REF!","v":{"$error":"#REF!"}},{"$f":"'Bill of Materials'!#REF!","v":{"$error":"#REF!"}},{"$f":"'Bill of Materials'!#REF!","v":{"$error":"#REF!"}},{"$f":"'Bill of Materials'!#REF!","v":{"$error":"#REF!"}},{"$f":"'Bill of Materials'!#REF!","v":{"$error":"#REF!"}},null,null,null,{"$error":"#REF!"},{"$f":"'Bill of Materials'!#REF!","v":{"$error":"#REF!"}},{"$f":"'Bill of Materials'!#REF!","v":{"$error":"#REF!"}},{"$error":"#REF!"}]
[{"$f":"'Bill of Materials'!E639+'Bill of Materials'!F639","v":0},{"$f":"'Bill of Materials'!M639","v":"EA"},{"$f":"'Bill of Materials'!G639","v":"6 Inch Vertical Control Bracket (End Rack) 3 per INFO 4309"},{"$f":"'Bill of Materials'!L639","v":"Homaco"},{"$f":"'Bill of Materials'!N639","v":12.86},{"$f":"'Bill of Materials'!P639","v":"DWC"},{"$f":"'Bill of Materials'!C639","v":"INFO-4323"},{"$f":"'Bill of Materials'!H639","v":"VCB-93-6UH"},null,null,null,{"$f":"E662*A662","v":0},{"$f":"'Bill of Materials'!J639","v":"standard material"},{"$f":"'Bill of Materials'!K639","v":"physical"},{"$f":"IF(A662>0,1,0)","v":0}]
[{"$f":"'Bill of Materials'!E640+'Bill of Materials'!F640","v":0},{"$f":"'Bill of Materials'!M640","v":"EA"},{"$f":"'Bill of Materials'!G640","v":"84 Inch Dual Rail Equipment Rack, 19\" EIA Spacing, 15\"-20\" Expandable, 45RU, Assembly Includes Gnd. Bar (INFO 4505 ), RRCM Kit (INFO-0456-0XRH) - Material Only "},{"$f":"'Bill of Materials'!L640","v":"DWC"},{"$f":"'Bill of Materials'!N640","v":418.65},{"$f":"'Bill of Materials'!P640","v":"DWC"},{"$f":"'Bill of Materials'!C640","v":"INFO-4813"},{"$f":"'Bill of Materials'!H640","v":"1984DER"},null,null,null,0,{"$f":"'Bill of Materials'!J640","v":"standard material"},{"$f":"'Bill of Materials'!K640","v":"physical"},0]
[{"$f":"'Bill of Materials'!E641+'Bill of Materials'!F641","v":0},{"$f":"'Bill of Materials'!M641","v":"EA"},{"$f":"'Bill of Materials'!G641","v":"84 Inch Single Rail Equipment Rack, 19\" EIA Spacing, 45RU, Assembly Includes Gnd. Bar (INFO 4505 ), RRCM Kit (INFO-0456-0XRH) - Material Only "},{"$f":"'Bill of Materials'!L641","v":"DWC"},{"$f":"'Bill of Materials'!N641","v":157.1},{"$f":"'Bill of Materials'!P641","v":"DWC"},{"$f":"'Bill of Materials'!C641","v":"INFO-4816"},{"$f":"'Bill of Materials'!H641","v":"1984SER"},null,null,null,0,{"$f":"'Bill of Materials'!J641","v":"standard material"},{"$f":"'Bill of Materials'!K641","v":"physical"},0]
[{"$f":"'Bill of Materials'!E642+'Bill of Materials'!F642","v":0},{"$f":"'Bill of Materials'!M642","v":"EA"},{"$f":"'Bill of Materials'!G642","v":"Rack Mount Wire management Trough Mounts in First 2RU at top of Rack For Fiber Management 2 RU (See Ordering Guidelines)"},{"$f":"'Bill of Materials'!L642","v":"Panduit"},{"$f":"'Bill of Materials'!N642","v":89.55},{"$f":"'Bill of Materials'!P642","v":"DWC"},{"$f":"'Bill of Materials'!C642","v":"INFO-7002"},{"$f":"'Bill of Materials'!H642","v":"CMUT19"},null,null,null,0,{"$f":"'Bill of Materials'!J642","v":"standard material"},{"$f":"'Bill of Materials'!K642","v":"physical"},0]
[{"$f":"'Bill of Materials'!E644+'Bill of Materials'!F644","v":0},{"$f":"'Bill of Materials'!M644","v":"EA"},{"$f":"'Bill of Materials'!G644","v":"6\" Tall Cable Fence For TRC Style Runway (10 Per Pkg.) (Bolt On Stringers)\r\n(TRC = Channeled slats between Stringers) "},{"$f":"'Bill of Materials'!L644","v":"Homaco"},{"$f":"'Bill of Materials'!N644","v":57.14},{"$f":"'Bill of Materials'!P644","v":"DWC"},{"$f":"'Bill of Materials'!C644","v":"0816-17NV"},{"$f":"'Bill of Materials'!H644","v":"CFTRC-6"},null,null,null,0,{"$f":"'Bill of Materials'!J644","v":"standard material"},{"$f":"'Bill of Materials'!K644","v":"physical"},0]
[{"$f":"'Bill of Materials'!E645+'Bill of Materials'!F645","v":0},{"$f":"'Bill of Materials'!M645","v":"EA"},{"$f":"'Bill of Materials'!G645","v":"Straight Splice Clamp Kit for Ladder Tray, (2) Straight Clamps"},{"$f":"'Bill of Materials'!L645","v":"Homaco"},{"$f":"'Bill of Materials'!N645","v":8.91},{"$f":"'Bill of Materials'!P645","v":"DWC"},{"$f":"'Bill of Materials'!C645","v":"10256"},{"$f":"'Bill of Materials'!H645","v":"P820367H"},null,null,null,0,{"$f":"'Bill of Materials'!J645","v":"standard material"},{"$f":"'Bill of Materials'!K645","v":"physical"},0]
[{"$f":"'Bill of Materials'!E646+'Bill of Materials'!F646","v":0},{"$f":"'Bill of Materials'!M646","v":"EA"},{"$f":"'Bill of Materials'!G646","v":"Tubular Runway - 6', 6\" Width (Section)"},{"$f":"'Bill of Materials'!L646","v":"Homaco"},{"$f":"'Bill of Materials'!N646","v":43.85},{"$f":"'Bill of Materials'!P646","v":"DWC"},{"$f":"'Bill of Materials'!C646","v":"INFO-4401"},{"$f":"'Bill of Materials'!H646","v":"TR6-6"},null,null,null,0,{"$f":"'Bill of Materials'!J646","v":"standard material"},{"$f":"'Bill of Materials'!K646","v":"physical"},0]
[{"$f":"'Bill of Materials'!E647+'Bill of Materials'!F647","v":0},{"$f":"'Bill of Materials'!M647","v":"EA"},{"$f":"'Bill of Materials'!G647","v":"Tubular Runway - 6', 12\" Width (Section)"},{"$f":"'Bill of Materials'!L647","v":"Homaco"},{"$f":"'Bill of Materials'!N647","v":43.48},{"$f":"'Bill of Materials'!P647","v":"DWC"},{"$f":"'Bill of Materials'!C647","v":"INFO-4403"},{"$f":"'Bill of Materials'!H647","v":"TR6-12"},null,null,null,0,{"$f":"'Bill of Materials'!J647","v":"standard material"},{"$f":"'Bill of Materials'!K647","v":"physical"},0]
[{"$f":"'Bill of Materials'!E648+'Bill of Materials'!F648","v":0},{"$f":"'Bill of Materials'!M648","v":"EA"},{"$f":"'Bill of Materials'!G648","v":"Tubular Runway - 6', 18\" Width (Section)"},{"$f":"'Bill of Materials'!L648","v":"Homaco"},{"$f":"'Bill of Materials'!N648","v":54.01},{"$f":"'Bill of Materials'!P648","v":"DWC"},{"$f":"'Bill of Materials'!C648","v":"INFO-4405"},{"$f":"'Bill of Materials'!H648","v":"TR6-18"},null,null,null,0,{"$f":"'Bill of Materials'!J648","v":"standard material"},{"$f":"'Bill of Materials'!K648","v":"physical"},0]
[{"$f":"'Bill of Materials'!E649+'Bill of Materials'!F649","v":0},{"$f":"'Bill of Materials'!M649","v":"EA"},{"$f":"'Bill of Materials'!G649","v":"Tubular Runway - 6', 24\" Width (Section)"},{"$f":"'Bill of Materials'!L649","v":"Homaco"},{"$f":"'Bill of Materials'!N649","v":75.77},{"$f":"'Bill of Materials'!P649","v":"DWC"},{"$f":"'Bill of Materials'!C649","v":"INFO-4406"},{"$f":"'Bill of Materials'!H649","v":"TR6-24"},null,null,null,0,{"$f":"'Bill of Materials'!J649","v":"standard material"},{"$f":"'Bill of Materials'!K649","v":"physical"},0]
[{"$f":"'Bill of Materials'!E650+'Bill of Materials'!F650","v":0},{"$f":"'Bill of Materials'!M650","v":"EA"},{"$f":"'Bill of Materials'!G650","v":"Tubular Runway - 10', 6\" Width (Section)"},{"$f":"'Bill of Materials'!L650","v":"Homaco"},{"$f":"'Bill of Materials'!N650","v":61.75},{"$f":"'Bill of Materials'!P650","v":"DWC"},{"$f":"'Bill of Materials'!C650","v":"INFO-4407"},{"$f":"'Bill of Materials'!H650","v":"TR10-6"},null,null,null,0,{"$f":"'Bill of Materials'!J650","v":"standard material"},{"$f":"'Bill of Materials'!K650","v":"physical"},0]
[{"$f":"'Bill of Materials'!E651+'Bill of Materials'!F651","v":0},{"$f":"'Bill of Materials'!M651","v":"EA"},{"$f":"'Bill of Materials'!G651","v":"Tubular Runway - 10', 12\" Width (Section)"},{"$f":"'Bill of Materials'!L651","v":"Homaco"},{"$f":"'Bill of Materials'!N651","v":67.040000000000006},{"$f":"'Bill of Materials'!P651","v":"DWC"},{"$f":"'Bill of Materials'!C651","v":"INFO-4409"},{"$f":"'Bill of Materials'!H651","v":"TR10-12"},null,null,null,0,{"$f":"'Bill of Materials'!J651","v":"standard material"},{"$f":"'Bill of Materials'!K651","v":"physical"},0]
[{"$f":"'Bill of Materials'!E652+'Bill of Materials'!F652","v":0},{"$f":"'Bill of Materials'!M652","v":"EA"},{"$f":"'Bill of Materials'!G652","v":"Tubular Runway - 10', 18\" Width (Section)"},{"$f":"'Bill of Materials'!L652","v":"Homaco"},{"$f":"'Bill of Materials'!N652","v":77.239999999999995},{"$f":"'Bill of Materials'!P652","v":"DWC"},{"$f":"'Bill of Materials'!C652","v":"INFO-4411"},{"$f":"'Bill of Materials'!H652","v":"TR10-18"},null,null,null,0,{"$f":"'Bill of Materials'!J652","v":"standard material"},{"$f":"'Bill of Materials'!K652","v":"physical"},0]
[{"$f":"'Bill of Materials'!E653+'Bill of Materials'!F653","v":0},{"$f":"'Bill of Materials'!M653","v":"EA"},{"$f":"'Bill of Materials'!G653","v":"Tubular Runway - 10', 24\" Width (Section)"},{"$f":"'Bill of Materials'!L653","v":"Homaco"},{"$f":"'Bill of Materials'!N653","v":90.02},{"$f":"'Bill of Materials'!P653","v":"DWC"},{"$f":"'Bill of Materials'!C653","v":"INFO-4412"},{"$f":"'Bill of Materials'!H653","v":"TR10-24"},null,null,null,0,{"$f":"'Bill of Materials'!J653","v":"standard material"},{"$f":"'Bill of Materials'!K653","v":"physical"},0]
[{"$f":"'Bill of Materials'!E654+'Bill of Materials'!F654","v":0},{"$f":"'Bill of Materials'!M654","v":"EA"},{"$f":"'Bill of Materials'!G654","v":"Tubular Runway with Channels - 5'-6\" Width (Section)"},{"$f":"'Bill of Materials'!L654","v":"Homaco"},{"$f":"'Bill of Materials'!N654","v":43.83},{"$f":"'Bill of Materials'!P654","v":"DWC"},{"$f":"'Bill of Materials'!C654","v":"INFO-4413"},{"$f":"'Bill of Materials'!H654","v":"TRC5-6"},null,null,null,0,{"$f":"'Bill of Materials'!J654","v":"standard material"},{"$f":"'Bill of Materials'!K654","v":"physical"},0]
[{"$f":"'Bill of Materials'!E655+'Bill of Materials'!F655","v":0},{"$f":"'Bill of Materials'!M655","v":"EA"},{"$f":"'Bill of Materials'!G655","v":"Tubular Runway with Channels - 5'-12\" Width (Section)"},{"$f":"'Bill of Materials'!L655","v":"Homaco"},{"$f":"'Bill of Materials'!N655","v":43.48},{"$f":"'Bill of Materials'!P655","v":"DWC"},{"$f":"'Bill of Materials'!C655","v":"INFO-4414"},{"$f":"'Bill of Materials'!H655","v":"TRC5-12"},null,null,null,0,{"$f":"'Bill of Materials'!J655","v":"standard material"},{"$f":"'Bill of Materials'!K655","v":"physical"},0]
[{"$f":"'Bill of Materials'!E656+'Bill of Materials'!F656","v":0},{"$f":"'Bill of Materials'!M656","v":"EA"},{"$f":"'Bill of Materials'!G656","v":"Tubular Runway with Channels - 9'-6\" Width (Section)"},{"$f":"'Bill of Materials'!L656","v":"Homaco"},{"$f":"'Bill of Materials'!N656","v":68.430000000000007},{"$f":"'Bill of Materials'!P656","v":"DWC"},{"$f":"'Bill of Materials'!C656","v":"INFO-4416"},{"$f":"'Bill of Materials'!H656","v":"TRC9-6"},null,null,null,0,{"$f":"'Bill of Materials'!J656","v":"standard material"},{"$f":"'Bill of Materials'!K656","v":"physical"},0]
[{"$f":"'Bill of Materials'!E657+'Bill of Materials'!F657","v":0},{"$f":"'Bill of Materials'!M657","v":"EA"},{"$f":"'Bill of Materials'!G657","v":"Tubular Runway with Channels - 9'-12\" Width (Section)"},{"$f":"'Bill of Materials'!L657","v":"Homaco"},{"$f":"'Bill of Materials'!N657","v":67.040000000000006},{"$f":"'Bill of Materials'!P657","v":"DWC"},{"$f":"'Bill of Materials'!C657","v":"INFO-4417"},{"$f":"'Bill of Materials'!H657","v":"TRC9-12"},null,null,null,0,{"$f":"'Bill of Materials'!J657","v":"standard material"},{"$f":"'Bill of Materials'!K657","v":"physical"},0]
[{"$f":"'Bill of Materials'!E658+'Bill of Materials'!F658","v":0},{"$f":"'Bill of Materials'!M658","v":"EA"},{"$f":"'Bill of Materials'!G658","v":"Wall Angle Assembly - 6\""},{"$f":"'Bill of Materials'!L658","v":"Homaco"},{"$f":"'Bill of Materials'!N658","v":14.4},{"$f":"'Bill of Materials'!P658","v":"DWC"},{"$f":"'Bill of Materials'!C658","v":"INFO-4419"},{"$f":"'Bill of Materials'!H658","v":"P128040H"},null,null,null,0,{"$f":"'Bill of Materials'!J658","v":"standard material"},{"$f":"'Bill of Materials'!K658","v":"physical"},0]
[{"$f":"'Bill of Materials'!E659+'Bill of Materials'!F659","v":0},{"$f":"'Bill of Materials'!M659","v":"EA"},{"$f":"'Bill of Materials'!G659","v":"Wall Angle Assembly -12\""},{"$f":"'Bill of Materials'!L659","v":"Homaco"},{"$f":"'Bill of Materials'!N659","v":17.010000000000002},{"$f":"'Bill of Materials'!P659","v":"DWC"},{"$f":"'Bill of Materials'!C659","v":"INFO-4420"},{"$f":"'Bill of Materials'!H659","v":"P128240H"},null,null,null,0,{"$f":"'Bill of Materials'!J659","v":"standard material"},{"$f":"'Bill of Materials'!K659","v":"physical"},0]
[{"$f":"'Bill of Materials'!E660+'Bill of Materials'!F660","v":0},{"$f":"'Bill of Materials'!M660","v":"EA"},{"$f":"'Bill of Materials'!G660","v":"Threaded Rod Protective Sleeve 10' for 5/8 x 11 threaded rod"},{"$f":"'Bill of Materials'!L660","v":"Homaco"},{"$f":"'Bill of Materials'!N660","v":11.21},{"$f":"'Bill of Materials'!P660","v":"DWC"},{"$f":"'Bill of Materials'!C660","v":"INFO-4432"},{"$f":"'Bill of Materials'!H660","v":"2-E2-TRPC"},null,null,null,0,{"$f":"'Bill of Materials'!J660","v":"standard material"},{"$f":"'Bill of Materials'!K660","v":"physical"},0]
[{"$f":"'Bill of Materials'!E661+'Bill of Materials'!F661","v":0},{"$f":"'Bill of Materials'!M661","v":"EA"},{"$f":"'Bill of Materials'!G661","v":"Adjustable Angle Splice Kit (2 Adjustable Angles)"},{"$f":"'Bill of Materials'!L661","v":"Homaco"},{"$f":"'Bill of Materials'!N661","v":19.149999999999999},{"$f":"'Bill of Materials'!P661","v":"DWC"},{"$f":"'Bill of Materials'!C661","v":"INFO-4437"},{"$f":"'Bill of Materials'!H661","v":"P820127HA"},null,null,null,0,{"$f":"'Bill of Materials'!J661","v":"standard material"},{"$f":"'Bill of Materials'!K661","v":"physical"},0]
[{"$f":"'Bill of Materials'!E662+'Bill of Materials'!F662","v":0},{"$f":"'Bill of Materials'!M662","v":"EA"},{"$f":"'Bill of Materials'!G662","v":"Transition Pan - 8\" Width"},{"$f":"'Bill of Materials'!L662","v":"Homaco"},{"$f":"'Bill of Materials'!N662","v":19.48},{"$f":"'Bill of Materials'!P662","v":"DWC"},{"$f":"'Bill of Materials'!C662","v":"INFO-4438"},{"$f":"'Bill of Materials'!H662","v":"TRP8-CM"},null,null,null,0,{"$f":"'Bill of Materials'!J662","v":"standard material"},{"$f":"'Bill of Materials'!K662","v":"physical"},0]
[{"$f":"'Bill of Materials'!E663+'Bill of Materials'!F663","v":0},{"$f":"'Bill of Materials'!M663","v":"EA"},{"$f":"'Bill of Materials'!G663","v":"Transition Pan - 5\" Width"},{"$f":"'Bill of Materials'!L663","v":"Homaco"},{"$f":"'Bill of Materials'!N663","v":16.89},{"$f":"'Bill of Materials'!P663","v":"DWC"},{"$f":"'Bill of Materials'!C663","v":"INFO-4439"},{"$f":"'Bill of Materials'!H663","v":"TRP5-CM"},null,null,null,0,{"$f":"'Bill of Materials'!J663","v":"standard material"},{"$f":"'Bill of Materials'!K663","v":"physical"},0]
[{"$f":"'Bill of Materials'!E664+'Bill of Materials'!F664","v":0},{"$f":"'Bill of Materials'!M664","v":"EA"},{"$f":"'Bill of Materials'!G664","v":"Transition Pan - 7.5\" Width"},{"$f":"'Bill of Materials'!L664","v":"Homaco"},{"$f":"'Bill of Materials'!N664","v":19.78},{"$f":"'Bill of Materials'!P664","v":"DWC"},{"$f":"'Bill of Materials'!C664","v":"INFO-4440"},{"$f":"'Bill of Materials'!H664","v":"TRP8-S"},null,null,null,0,{"$f":"'Bill of Materials'!J664","v":"standard material"},{"$f":"'Bill of Materials'!K664","v":"physical"},0]
[{"$f":"'Bill of Materials'!E665+'Bill of Materials'!F665","v":0},{"$f":"'Bill of Materials'!M665","v":"EA"},{"$f":"'Bill of Materials'!G665","v":"J-Bolt Assembly - 1.75 x .250 x .50 x .75 thread 1/4 - 20"},{"$f":"'Bill of Materials'!L665","v":"Homaco"},{"$f":"'Bill of Materials'!N665","v":1.4},{"$f":"'Bill of Materials'!P665","v":"DWC"},{"$f":"'Bill of Materials'!C665","v":"INFO-4441"},{"$f":"'Bill of Materials'!H665","v":"P987529H"},null,null,null,0,{"$f":"'Bill of Materials'!J665","v":"standard material"},{"$f":"'Bill of Materials'!K665","v":"physical"},0]
[{"$f":"'Bill of Materials'!E666+'Bill of Materials'!F666","v":0},{"$f":"'Bill of Materials'!M666","v":"EA"},{"$f":"'Bill of Materials'!G666","v":"J-Bolt Assembly - 3.25 x .438 x 1.75 x 1.50 thread 1/4 - 20"},{"$f":"'Bill of Materials'!L666","v":"Homaco"},{"$f":"'Bill of Materials'!N666","v":1.4},{"$f":"'Bill of Materials'!P666","v":"DWC"},{"$f":"'Bill of Materials'!C666","v":"INFO-4442"},{"$f":"'Bill of Materials'!H666","v":"P987528H"},null,null,null,0,{"$f":"'Bill of Materials'!J666","v":"standard material"},{"$f":"'Bill of Materials'!K666","v":"physical"},0]
[{"$f":"'Bill of Materials'!E667+'Bill of Materials'!F667","v":0},{"$f":"'Bill of Materials'!M667","v":"EA"},{"$f":"'Bill of Materials'!G667","v":"J-Bolt Assembly - 2.25 x 4.38 x .75 x 1.0 thread 1/4 - 20"},{"$f":"'Bill of Materials'!L667","v":"Homaco"},{"$f":"'Bill of Materials'!N667","v":1.4},{"$f":"'Bill of Materials'!P667","v":"DWC"},{"$f":"'Bill of Materials'!C667","v":"INFO-4443"},{"$f":"'Bill of Materials'!H667","v":"P987527H"},null,null,null,0,{"$f":"'Bill of Materials'!J667","v":"standard material"},{"$f":"'Bill of Materials'!K667","v":"physical"},0]
[{"$f":"'Bill of Materials'!E668+'Bill of Materials'!F668","v":0},{"$f":"'Bill of Materials'!M668","v":"EA"},{"$f":"'Bill of Materials'!G668","v":"J-Bolt Assembly - 3.75 x .313 x .75 x 1.25 thread 5/16 - 18"},{"$f":"'Bill of Materials'!L668","v":"Homaco"},{"$f":"'Bill of Materials'!N668","v":1.54},{"$f":"'Bill of Materials'!P668","v":"DWC"},{"$f":"'Bill of Materials'!C668","v":"INFO-4444"},{"$f":"'Bill of Materials'!H668","v":"P987526H"},null,null,null,0,{"$f":"'Bill of Materials'!J668","v":"standard material"},{"$f":"'Bill of Materials'!K668","v":"physical"},0]
[{"$f":"'Bill of Materials'!E669+'Bill of Materials'!F669","v":0},{"$f":"'Bill of Materials'!M669","v":"EA"},{"$f":"'Bill of Materials'!G669","v":"J-Bolt Assembly - 3.25 x .313 x .75 x .75 thread 5/16 - 18"},{"$f":"'Bill of Materials'!L669","v":"Homaco"},{"$f":"'Bill of Materials'!N669","v":1.66},{"$f":"'Bill of Materials'!P669","v":"DWC"},{"$f":"'Bill of Materials'!C669","v":"INFO-4445"},{"$f":"'Bill of Materials'!H669","v":"P987525H"},null,null,null,0,{"$f":"'Bill of Materials'!J669","v":"standard material"},{"$f":"'Bill of Materials'!K669","v":"physical"},0]
[{"$f":"'Bill of Materials'!E670+'Bill of Materials'!F670","v":0},{"$f":"'Bill of Materials'!M670","v":"EA"},{"$f":"'Bill of Materials'!G670","v":"J-Bolt Assembly - 3.25 x .438 x .75 x 1.50 thread 5/16 - 18"},{"$f":"'Bill of Materials'!L670","v":"Homaco"},{"$f":"'Bill of Materials'!N670","v":1.4},{"$f":"'Bill of Materials'!P670","v":"DWC"},{"$f":"'Bill of Materials'!C670","v":"INFO-4446"},{"$f":"'Bill of Materials'!H670","v":"P987524H"},null,null,null,0,{"$f":"'Bill of Materials'!J670","v":"standard material"},{"$f":"'Bill of Materials'!K670","v":"physical"},0]
[{"$f":"'Bill of Materials'!E671+'Bill of Materials'!F671","v":0},{"$f":"'Bill of Materials'!M671","v":"EA"},{"$f":"'Bill of Materials'!G671","v":"J-Bolt Assembly - 2.25 x .438 x .75 x 1.0 thread 5/16 - 18"},{"$f":"'Bill of Materials'!L671","v":"Homaco"},{"$f":"'Bill of Materials'!N671","v":1.4},{"$f":"'Bill of Materials'!P671","v":"DWC"},{"$f":"'Bill of Materials'!C671","v":"INFO-4447"},{"$f":"'Bill of Materials'!H671","v":"P987523H"},null,null,null,0,{"$f":"'Bill of Materials'!J671","v":"standard material"},{"$f":"'Bill of Materials'!K671","v":"physical"},0]
[{"$f":"'Bill of Materials'!E672+'Bill of Materials'!F672","v":0},{"$f":"'Bill of Materials'!M672","v":"EA"},{"$f":"'Bill of Materials'!G672","v":"Ceiling Hanger Bracket - 1 bracket open or closed used w/threaded rod, gray or black made from 1/4\" x 1/2\" steel bar"},{"$f":"'Bill of Materials'!L672","v":"Homaco"},{"$f":"'Bill of Materials'!N672","v":5.27},{"$f":"'Bill of Materials'!P672","v":"DWC"},{"$f":"'Bill of Materials'!C672","v":"INFO-4450"},{"$f":"'Bill of Materials'!H672","v":"P400298H"},null,null,null,0,{"$f":"'Bill of Materials'!J672","v":"standard material"},{"$f":"'Bill of Materials'!K672","v":"physical"},0]
[{"$f":"'Bill of Materials'!E673+'Bill of Materials'!F673","v":0},{"$f":"'Bill of Materials'!M673","v":"EA"},{"$f":"'Bill of Materials'!G673","v":"Open Clip for 1-1/2\"w Runway Stringers-Threaded Rod Suspension (Part # is one piece. Order in twos)"},{"$f":"'Bill of Materials'!L673","v":"Homaco"},{"$f":"'Bill of Materials'!N673","v":3.67},{"$f":"'Bill of Materials'!P673","v":"DWC"},{"$f":"'Bill of Materials'!C673","v":"INFO-4451"},{"$f":"'Bill of Materials'!H673","v":"P406395H"},null,null,null,0,{"$f":"'Bill of Materials'!J673","v":"standard material"},{"$f":"'Bill of Materials'!K673","v":"physical"},0]
[{"$f":"'Bill of Materials'!E674+'Bill of Materials'!F674","v":0},{"$f":"'Bill of Materials'!M674","v":"EA"},{"$f":"'Bill of Materials'!G674","v":"Closed Clip for 1-1/2\"w Runway Stringers-Threaded Rod Suspension (Part # is one piece. Order in twos)"},{"$f":"'Bill of Materials'!L674","v":"Homaco"},{"$f":"'Bill of Materials'!N674","v":2.2200000000000002},{"$f":"'Bill of Materials'!P674","v":"DWC"},{"$f":"'Bill of Materials'!C674","v":"INFO-4452"},{"$f":"'Bill of Materials'!H674","v":"P429503H"},null,null,null,0,{"$f":"'Bill of Materials'!J674","v":"standard material"},{"$f":"'Bill of Materials'!K674","v":"physical"},0]
[{"$f":"'Bill of Materials'!E675+'Bill of Materials'!F675","v":0},{"$f":"'Bill of Materials'!M675","v":"EA"},{"$f":"'Bill of Materials'!G675","v":"Wall Attachment Shelf Bracket - h 8.13\" runway width 6\""},{"$f":"'Bill of Materials'!L675","v":"Homaco"},{"$f":"'Bill of Materials'!N675","v":20.55},{"$f":"'Bill of Materials'!P675","v":"DWC"},{"$f":"'Bill of Materials'!C675","v":"INFO-4453"},{"$f":"'Bill of Materials'!H675","v":"P139240H"},null,null,null,0,{"$f":"'Bill of Materials'!J675","v":"standard material"},{"$f":"'Bill of Materials'!K675","v":"physical"},0]
[{"$f":"'Bill of Materials'!E676+'Bill of Materials'!F676","v":0},{"$f":"'Bill of Materials'!M676","v":"EA"},{"$f":"'Bill of Materials'!G676","v":"Wall Attachment Shelf Bracket - h 14.13\" runway width 12\""},{"$f":"'Bill of Materials'!L676","v":"Homaco"},{"$f":"'Bill of Materials'!N676","v":22.83},{"$f":"'Bill of Materials'!P676","v":"DWC"},{"$f":"'Bill of Materials'!C676","v":"INFO-4455"},{"$f":"'Bill of Materials'!H676","v":"P139340H"},null,null,null,0,{"$f":"'Bill of Materials'!J676","v":"standard material"},{"$f":"'Bill of Materials'!K676","v":"physical"},0]
[{"$f":"'Bill of Materials'!E677+'Bill of Materials'!F677","v":0},{"$f":"'Bill of Materials'!M677","v":"EA"},{"$f":"'Bill of Materials'!G677","v":"Wall Attachment Shelf Bracket - h 20.13\" runway width 18\""},{"$f":"'Bill of Materials'!L677","v":"Homaco"},{"$f":"'Bill of Materials'!N677","v":25.1},{"$f":"'Bill of Materials'!P677","v":"DWC"},{"$f":"'Bill of Materials'!C677","v":"INFO-4456"},{"$f":"'Bill of Materials'!H677","v":"P139540H"},null,null,null,0,{"$f":"'Bill of Materials'!J677","v":"standard material"},{"$f":"'Bill of Materials'!K677","v":"physical"},0]
[{"$f":"'Bill of Materials'!E678+'Bill of Materials'!F678","v":0},{"$f":"'Bill of Materials'!M678","v":"EA"},{"$f":"'Bill of Materials'!G678","v":"Wall Attachment Shelf Bracket - h 26.13 runway width 24\""},{"$f":"'Bill of Materials'!L678","v":"Homaco"},{"$f":"'Bill of Materials'!N678","v":34.17},{"$f":"'Bill of Materials'!P678","v":"DWC"},{"$f":"'Bill of Materials'!C678","v":"INFO-4457"},{"$f":"'Bill of Materials'!H678","v":"P139740H"},null,null,null,0,{"$f":"'Bill of Materials'!J678","v":"standard material"},{"$f":"'Bill of Materials'!K678","v":"physical"},0]
[{"$f":"'Bill of Materials'!E679+'Bill of Materials'!F679","v":0},{"$f":"'Bill of Materials'!M679","v":"EA"},{"$f":"'Bill of Materials'!G679","v":"Runway End Wall Angle Assembly - 18\""},{"$f":"'Bill of Materials'!L679","v":"Homaco"},{"$f":"'Bill of Materials'!N679","v":17.63},{"$f":"'Bill of Materials'!P679","v":"DWC"},{"$f":"'Bill of Materials'!C679","v":"INFO-4459"},{"$f":"'Bill of Materials'!H679","v":"P128440H"},null,null,null,0,{"$f":"'Bill of Materials'!J679","v":"standard material"},{"$f":"'Bill of Materials'!K679","v":"physical"},0]
[{"$f":"'Bill of Materials'!#REF!+'Bill of Materials'!#REF!","v":{"$error":"#REF!"}},{"$f":"'Bill of Materials'!#REF!","v":{"$error":"#REF!"}},{"$f":"'Bill of Materials'!#REF!","v":{"$error":"#REF!"}},{"$f":"'Bill of Materials'!#REF!","v":{"$error":"#REF!"}},{"$f":"'Bill of Materials'!#REF!","v":{"$error":"#REF!"}},{"$f":"'Bill of Materials'!#REF!","v":{"$error":"#REF!"}},{"$f":"'Bill of Materials'!#REF!","v":{"$error":"#REF!"}},{"$f":"'Bill of Materials'!#REF!","v":{"$error":"#REF!"}},null,null,null,{"$error":"#REF!"},{"$f":"'Bill of Materials'!#REF!","v":{"$error":"#REF!"}},{"$f":"'Bill of Materials'!#REF!","v":{"$error":"#REF!"}},{"$error":"#REF!"}]
[{"$f":"'Bill of Materials'!E680+'Bill of Materials'!F680","v":0},{"$f":"'Bill of Materials'!M680","v":"EA"},{"$f":"'Bill of Materials'!G680","v":"Runway End Wall Angle Assembly - 24\""},{"$f":"'Bill of Materials'!L680","v":"Homaco"},{"$f":"'Bill of Materials'!N680","v":19.760000000000002},{"$f":"'Bill of Materials'!P680","v":"DWC"},{"$f":"'Bill of Materials'!C680","v":"INFO-4460"},{"$f":"'Bill of Materials'!H680","v":"P128640H"},null,null,null,0,{"$f":"'Bill of Materials'!J680","v":"standard material"},{"$f":"'Bill of Materials'!K680","v":"physical"},0]
[{"$f":"'Bill of Materials'!E681+'Bill of Materials'!F681","v":0},{"$f":"'Bill of Materials'!M681","v":"EA"},{"$f":"'Bill of Materials'!G681","v":"6\"h Cable Fence For TR Style Runway (10 Per Pkg.)\r\n(TR = Tubular slats on TOP of Stringers)"},{"$f":"'Bill of Materials'!L681","v":"Homaco"},{"$f":"'Bill of Materials'!N681","v":33.630000000000003},{"$f":"'Bill of Materials'!P681","v":"DWC"},{"$f":"'Bill of Materials'!C681","v":"INFO-4461"},{"$f":"'Bill of Materials'!H681","v":"CF-6"},null,null,null,0,{"$f":"'Bill of Materials'!J681","v":"standard material"},{"$f":"'Bill of Materials'!K681","v":"physical"},0]
[{"$f":"'Bill of Materials'!E682+'Bill of Materials'!F682","v":0},{"$f":"'Bill of Materials'!M682","v":"EA"},{"$f":"'Bill of Materials'!G682","v":"12\"h Cable Fence For TR Style Runway (10 Per Pkg.)\r\n(TR = Tubular slats on TOP of Stringers)"},{"$f":"'Bill of Materials'!L682","v":"Homaco"},{"$f":"'Bill of Materials'!N682","v":43.5},{"$f":"'Bill of Materials'!P682","v":"DWC"},{"$f":"'Bill of Materials'!C682","v":"INFO-4462"},{"$f":"'Bill of Materials'!H682","v":"CF-12"},null,null,null,0,{"$f":"'Bill of Materials'!J682","v":"standard material"},{"$f":"'Bill of Materials'!K682","v":"physical"},0]
[{"$f":"'Bill of Materials'!E683+'Bill of Materials'!F683","v":0},{"$f":"'Bill of Materials'!M683","v":"EA"},{"$f":"'Bill of Materials'!G683","v":"Corner Clamps (2 per kit) for Runways Attachment at Right Angles"},{"$f":"'Bill of Materials'!L683","v":"Homaco"},{"$f":"'Bill of Materials'!N683","v":5.76},{"$f":"'Bill of Materials'!P683","v":"DWC"},{"$f":"'Bill of Materials'!C683","v":"INFO-7001"},{"$f":"'Bill of Materials'!H683","v":"P820147H"},null,null,null,0,{"$f":"'Bill of Materials'!J683","v":"standard material"},{"$f":"'Bill of Materials'!K683","v":"physical"},0]
[{"$f":"'Bill of Materials'!E685+'Bill of Materials'!F685","v":0},{"$f":"'Bill of Materials'!M685","v":"EA"},{"$f":"'Bill of Materials'!G685","v":"2\" Cable Guard for use as Waterfalls on Cablofil Cable Tray.  6 Ft Lengths, Black in color."},{"$f":"'Bill of Materials'!L685","v":"DWC"},{"$f":"'Bill of Materials'!N685","v":5.69},{"$f":"'Bill of Materials'!P685","v":"DWC"},{"$f":"'Bill of Materials'!C685","v":"0399-140A"},{"$f":"'Bill of Materials'!H685","v":"CABLEGUARD2"},null,null,null,0,{"$f":"'Bill of Materials'!J685","v":"standard material"},{"$f":"'Bill of Materials'!K685","v":"physical"},0]
[{"$f":"'Bill of Materials'!E686+'Bill of Materials'!F686","v":0},{"$f":"'Bill of Materials'!M686","v":"EA"},{"$f":"'Bill of Materials'!G686","v":"AS Trapeze Hanging Clip, Cablofil Tray Side/Threaded Rod Support"},{"$f":"'Bill of Materials'!L686","v":"Cablofil"},{"$f":"'Bill of Materials'!N686","v":72.099999999999994},{"$f":"'Bill of Materials'!P686","v":"DWC"},{"$f":"'Bill of Materials'!C686","v":"10077"},{"$f":"'Bill of Materials'!H686","v":"ASPG"},null,null,null,0,{"$f":"'Bill of Materials'!J686","v":"standard material"},{"$f":"'Bill of Materials'!K686","v":"physical"},0]
[{"$f":"'Bill of Materials'!E687+'Bill of Materials'!F687","v":0},{"$f":"'Bill of Materials'!M687","v":"EA"},{"$f":"'Bill of Materials'!G687","v":"2\" deep straight cable tray 10' x 18\" x 2\" (Section)"},{"$f":"'Bill of Materials'!L687","v":"Cablofil"},{"$f":"'Bill of Materials'!N687","v":74.099999999999994},{"$f":"'Bill of Materials'!P687","v":"DWC"},{"$f":"'Bill of Materials'!C687","v":"10086"},{"$f":"'Bill of Materials'!H687","v":"CF 54/450 EZ"},null,null,null,0,{"$f":"'Bill of Materials'!J687","v":"standard material"},{"$f":"'Bill of Materials'!K687","v":"physical"},0]
[{"$f":"'Bill of Materials'!E688+'Bill of Materials'!F688","v":0},{"$f":"'Bill of Materials'!M688","v":"EA"},{"$f":"'Bill of Materials'!G688","v":"Cablofil 4\" Deep Cable Tray Divider Strip 10' L x 4\" H"},{"$f":"'Bill of Materials'!L688","v":"Cablofil"},{"$f":"'Bill of Materials'!N688","v":24.8},{"$f":"'Bill of Materials'!P688","v":"DWC"},{"$f":"'Bill of Materials'!C688","v":"10090"},{"$f":"'Bill of Materials'!H688","v":"COT 105"},null,null,null,0,{"$f":"'Bill of Materials'!J688","v":"standard material"},{"$f":"'Bill of Materials'!K688","v":"physical"},0]
[{"$f":"'Bill of Materials'!E689+'Bill of Materials'!F689","v":0},{"$f":"'Bill of Materials'!M689","v":"EA"},{"$f":"'Bill of Materials'!G689","v":"Cable Tray Divider Strip Coupler (25) Per Package"},{"$f":"'Bill of Materials'!L689","v":"Cablofil"},{"$f":"'Bill of Materials'!N689","v":34.299999999999997},{"$f":"'Bill of Materials'!P689","v":"DWC"},{"$f":"'Bill of Materials'!C689","v":"10091"},{"$f":"'Bill of Materials'!H689","v":"COT J"},null,null,null,0,{"$f":"'Bill of Materials'!J689","v":"standard material"},{"$f":"'Bill of Materials'!K689","v":"physical"},0]
[{"$f":"'Bill of Materials'!E690+'Bill of Materials'!F690","v":0},{"$f":"'Bill of Materials'!M690","v":"EA"},{"$f":"'Bill of Materials'!G690","v":"FAS PROFILE - 22\""},{"$f":"'Bill of Materials'!L690","v":"Cablofil"},{"$f":"'Bill of Materials'!N690","v":10.15},{"$f":"'Bill of Materials'!P690","v":"DWC"},{"$f":"'Bill of Materials'!C690","v":"10105"},{"$f":"'Bill of Materials'!H690","v":"FASP 550"},null,null,null,0,{"$f":"'Bill of Materials'!J690","v":"standard material"},{"$f":"'Bill of Materials'!K690","v":"physical"},0]
[{"$f":"'Bill of Materials'!E691+'Bill of Materials'!F691","v":0},{"$f":"'Bill of Materials'!M691","v":"EA"},{"$f":"'Bill of Materials'!G691","v":"FAS UNIVERSAL BRACKET - 16\""},{"$f":"'Bill of Materials'!L691","v":"Cablofil"},{"$f":"'Bill of Materials'!N691","v":18.600000000000001},{"$f":"'Bill of Materials'!P691","v":"DWC"},{"$f":"'Bill of Materials'!C691","v":"10106"},{"$f":"'Bill of Materials'!H691","v":"FASU 400"},null,null,null,0,{"$f":"'Bill of Materials'!J691","v":"standard material"},{"$f":"'Bill of Materials'!K691","v":"physical"},0]
[{"$f":"'Bill of Materials'!E692+'Bill of Materials'!F692","v":0},{"$f":"'Bill of Materials'!M692","v":"EA"},{"$f":"'Bill of Materials'!G692","v":"FAS UNIVERSAL BRACKET - 20\""},{"$f":"'Bill of Materials'!L692","v":"Cablofil"},{"$f":"'Bill of Materials'!N692","v":27.25},{"$f":"'Bill of Materials'!P692","v":"DWC"},{"$f":"'Bill of Materials'!C692","v":"10266"},{"$f":"'Bill of Materials'!H692","v":"FAS U500PG"},null,null,null,0,{"$f":"'Bill of Materials'!J692","v":"standard material"},{"$f":"'Bill of Materials'!K692","v":"physical"},0]
[{"$f":"'Bill of Materials'!E693+'Bill of Materials'!F693","v":0},{"$f":"'Bill of Materials'!M693","v":"EA"},{"$f":"'Bill of Materials'!G693","v":"18\" Wall or Under Floor Bracket, L-Shape"},{"$f":"'Bill of Materials'!L693","v":"Cablofil"},{"$f":"'Bill of Materials'!N693","v":13.05},{"$f":"'Bill of Materials'!P693","v":"DWC"},{"$f":"'Bill of Materials'!C693","v":"10267"},{"$f":"'Bill of Materials'!H693","v":"FAS L450PG"},null,null,null,0,{"$f":"'Bill of Materials'!J693","v":"standard material"},{"$f":"'Bill of Materials'!K693","v":"physical"},0]
[{"$f":"'Bill of Materials'!E694+'Bill of Materials'!F694","v":0},{"$f":"'Bill of Materials'!M694","v":"EA"},{"$f":"'Bill of Materials'!G694","v":"Wall/Tray Mount Attachment for Electrical Box Support"},{"$f":"'Bill of Materials'!L694","v":"Cablofil"},{"$f":"'Bill of Materials'!N694","v":2.25},{"$f":"'Bill of Materials'!P694","v":"DWC"},{"$f":"'Bill of Materials'!C694","v":"10268"},{"$f":"'Bill of Materials'!H694","v":"C 50PG"},null,null,null,0,{"$f":"'Bill of Materials'!J694","v":"standard material"},{"$f":"'Bill of Materials'!K694","v":"physical"},0]
[{"$f":"'Bill of Materials'!E695+'Bill of Materials'!F695","v":0},{"$f":"'Bill of Materials'!M695","v":"EA"},{"$f":"'Bill of Materials'!G695","v":"Signal Reference Grid Wire Clamp"},{"$f":"'Bill of Materials'!L695","v":"Erico-Caddy"},{"$f":"'Bill of Materials'!N695","v":0.92},{"$f":"'Bill of Materials'!P695","v":"DWC"},{"$f":"'Bill of Materials'!C695","v":"10316"},{"$f":"'Bill of Materials'!H695","v":"RGC"},null,null,null,0,{"$f":"'Bill of Materials'!J695","v":"standard material"},{"$f":"'Bill of Materials'!K695","v":"physical"},0]
[{"$f":"'Bill of Materials'!E696+'Bill of Materials'!F696","v":0},{"$f":"'Bill of Materials'!M696","v":"EA"},{"$f":"'Bill of Materials'!G696","v":"2\" deep straight cable tray 10' x 4\" x 2\" (Section)"},{"$f":"'Bill of Materials'!L696","v":"Cablofil"},{"$f":"'Bill of Materials'!N696","v":37.369999999999997},{"$f":"'Bill of Materials'!P696","v":"DWC"},{"$f":"'Bill of Materials'!C696","v":"INFO-4463"},{"$f":"'Bill of Materials'!H696","v":"CF 54/100 EZ"},null,null,null,0,{"$f":"'Bill of Materials'!J696","v":"standard material"},{"$f":"'Bill of Materials'!K696","v":"physical"},0]
[{"$f":"'Bill of Materials'!E697+'Bill of Materials'!F697","v":0},{"$f":"'Bill of Materials'!M697","v":"EA"},{"$f":"'Bill of Materials'!G697","v":"2\" deep straight cable tray 10' x 6\" x 2\" (Section)"},{"$f":"'Bill of Materials'!L697","v":"Cablofil"},{"$f":"'Bill of Materials'!N697","v":40.99},{"$f":"'Bill of Materials'!P697","v":"DWC"},{"$f":"'Bill of Materials'!C697","v":"INFO-4464"},{"$f":"'Bill of Materials'!H697","v":"CF 54/150 EZ"},null,null,null,0,{"$f":"'Bill of Materials'!J697","v":"standard material"},{"$f":"'Bill of Materials'!K697","v":"physical"},0]
[{"$f":"'Bill of Materials'!E698+'Bill of Materials'!F698","v":0},{"$f":"'Bill of Materials'!M698","v":"EA"},{"$f":"'Bill of Materials'!G698","v":"2\" deep straight cable tray 10' x 12\" x 2\" (Section)"},{"$f":"'Bill of Materials'!L698","v":"Cablofil"},{"$f":"'Bill of Materials'!N698","v":47.47},{"$f":"'Bill of Materials'!P698","v":"DWC"},{"$f":"'Bill of Materials'!C698","v":"INFO-4465"},{"$f":"'Bill of Materials'!H698","v":"CF 54/300 EZ"},null,null,null,0,{"$f":"'Bill of Materials'!J698","v":"standard material"},{"$f":"'Bill of Materials'!K698","v":"physical"},0]
[{"$f":"'Bill of Materials'!E699+'Bill of Materials'!F699","v":0},{"$f":"'Bill of Materials'!M699","v":"EA"},{"$f":"'Bill of Materials'!G699","v":"2\" deep straight cable tray 10' x 24\" x 2\" (Section)"},{"$f":"'Bill of Materials'!L699","v":"Cablofil"},{"$f":"'Bill of Materials'!N699","v":56.43},{"$f":"'Bill of Materials'!P699","v":"DWC"},{"$f":"'Bill of Materials'!C699","v":"INFO-4466"},{"$f":"'Bill of Materials'!H699","v":"CF 54/600 EZ"},null,null,null,0,{"$f":"'Bill of Materials'!J699","v":"standard material"},{"$f":"'Bill of Materials'!K699","v":"physical"},0]
[{"$f":"'Bill of Materials'!E700+'Bill of Materials'!F700","v":0},{"$f":"'Bill of Materials'!M700","v":"EA"},{"$f":"'Bill of Materials'!G700","v":"4\" deep straight cable tray 10' x 12\" x 4\" (Section)"},{"$f":"'Bill of Materials'!L700","v":"Cablofil"},{"$f":"'Bill of Materials'!N700","v":54.19},{"$f":"'Bill of Materials'!P700","v":"DWC"},{"$f":"'Bill of Materials'!C700","v":"INFO-4467"},{"$f":"'Bill of Materials'!H700","v":"CF 105/300 EZ"},null,null,null,0,{"$f":"'Bill of Materials'!J700","v":"standard material"},{"$f":"'Bill of Materials'!K700","v":"physical"},0]
[{"$f":"'Bill of Materials'!E701+'Bill of Materials'!F701","v":0},{"$f":"'Bill of Materials'!M701","v":"EA"},{"$f":"'Bill of Materials'!G701","v":"4\" deep straight cable tray 10' x 18\" x 4\" (Section)"},{"$f":"'Bill of Materials'!L701","v":"Cablofil"},{"$f":"'Bill of Materials'!N701","v":64.37},{"$f":"'Bill of Materials'!P701","v":"DWC"},{"$f":"'Bill of Materials'!C701","v":"INFO-4468"},{"$f":"'Bill of Materials'!H701","v":"CF 105/450 EZ"},null,null,null,0,{"$f":"'Bill of Materials'!J701","v":"standard material"},{"$f":"'Bill of Materials'!K701","v":"physical"},0]
[{"$f":"'Bill of Materials'!E702+'Bill of Materials'!F702","v":0},{"$f":"'Bill of Materials'!M702","v":"EA"},{"$f":"'Bill of Materials'!G702","v":"4\" deep straight cable tray 10' x 24\" x 4\" (Section)"},{"$f":"'Bill of Materials'!L702","v":"Cablofil"},{"$f":"'Bill of Materials'!N702","v":74.7},{"$f":"'Bill of Materials'!P702","v":"DWC"},{"$f":"'Bill of Materials'!C702","v":"INFO-4469"},{"$f":"'Bill of Materials'!H702","v":"CF 105/600 EZ"},null,null,null,0,{"$f":"'Bill of Materials'!J702","v":"standard material"},{"$f":"'Bill of Materials'!K702","v":"physical"},0]
[{"$f":"'Bill of Materials'!E703+'Bill of Materials'!F703","v":0},{"$f":"'Bill of Materials'!M703","v":"EA"},{"$f":"'Bill of Materials'!G703","v":"Kit for two 90's or one \"T\""},{"$f":"'Bill of Materials'!L703","v":"Cablofil"},{"$f":"'Bill of Materials'!N703","v":10.54},{"$f":"'Bill of Materials'!P703","v":"DWC"},{"$f":"'Bill of Materials'!C703","v":"INFO-4470"},{"$f":"'Bill of Materials'!H703","v":"EZ T90"},null,null,null,0,{"$f":"'Bill of Materials'!J703","v":"standard material"},{"$f":"'Bill of Materials'!K703","v":"physical"},0]
[{"$f":"'Bill of Materials'!E704+'Bill of Materials'!F704","v":0},{"$f":"'Bill of Materials'!M704","v":"EA"},{"$f":"'Bill of Materials'!G704","v":"Bag of 50 universal splice bars"},{"$f":"'Bill of Materials'!L704","v":"Cablofil"},{"$f":"'Bill of Materials'!N704","v":81.97},{"$f":"'Bill of Materials'!P704","v":"DWC"},{"$f":"'Bill of Materials'!C704","v":"INFO-4471"},{"$f":"'Bill of Materials'!H704","v":"ED 275 EZ B"},null,null,null,{"$f":"E726*A726","v":0},{"$f":"'Bill of Materials'!J704","v":"standard material"},{"$f":"'Bill of Materials'!K704","v":"physical"},{"$f":"IF(A726>0,1,0)","v":0}]
[{"$f":"'Bill of Materials'!E705+'Bill of Materials'!F705","v":0},{"$f":"'Bill of Materials'!M705","v":"EA"},{"$f":"'Bill of Materials'!G705","v":"1/4\" round head nut, bolt, clamp assy. Bag of 50"},{"$f":"'Bill of Materials'!L705","v":"Cablofil"},{"$f":"'Bill of Materials'!N705","v":3.32},{"$f":"'Bill of Materials'!P705","v":"DWC"},{"$f":"'Bill of Materials'!C705","v":"INFO-4472"},{"$f":"'Bill of Materials'!H705","v":"EZ BN 1/4\""},null,null,null,0,{"$f":"'Bill of Materials'!J705","v":"standard material"},{"$f":"'Bill of Materials'!K705","v":"physical"},0]
[{"$f":"'Bill of Materials'!#REF!+'Bill of Materials'!#REF!","v":{"$error":"#REF!"}},{"$f":"'Bill of Materials'!#REF!","v":{"$error":"#REF!"}},{"$f":"'Bill of Materials'!#REF!","v":{"$error":"#REF!"}},{"$f":"'Bill of Materials'!#REF!","v":{"$error":"#REF!"}},{"$f":"'Bill of Materials'!#REF!","v":{"$error":"#REF!"}},{"$f":"'Bill of Materials'!#REF!","v":{"$error":"#REF!"}},{"$f":"'Bill of Materials'!#REF!","v":{"$error":"#REF!"}},{"$f":"'Bill of Materials'!#REF!","v":{"$error":"#REF!"}},null,null,null,{"$error":"#REF!"},{"$f":"'Bill of Materials'!#REF!","v":{"$error":"#REF!"}},{"$f":"'Bill of Materials'!#REF!","v":{"$error":"#REF!"}},{"$error":"#REF!"}]
[{"$f":"'Bill of Materials'!E706+'Bill of Materials'!F706","v":0},{"$f":"'Bill of Materials'!M706","v":"EA"},{"$f":"'Bill of Materials'!G706","v":"Trapeze hanger 39\" in Length"},{"$f":"'Bill of Materials'!L706","v":"Cablofil"},{"$f":"'Bill of Materials'!N706","v":12.18},{"$f":"'Bill of Materials'!P706","v":"DWC"},{"$f":"'Bill of Materials'!C706","v":"INFO-4474"},{"$f":"'Bill of Materials'!H706","v":"PRO CS 1000"},null,null,null,0,{"$f":"'Bill of Materials'!J706","v":"standard material"},{"$f":"'Bill of Materials'!K706","v":"physical"},0]
[{"$f":"'Bill of Materials'!E707+'Bill of Materials'!F707","v":0},{"$f":"'Bill of Materials'!M707","v":"EA"},{"$f":"'Bill of Materials'!G707","v":"Under floor support clamp"},{"$f":"'Bill of Materials'!L707","v":"Cablofil"},{"$f":"'Bill of Materials'!N707","v":3.42},{"$f":"'Bill of Materials'!P707","v":"DWC"},{"$f":"'Bill of Materials'!C707","v":"INFO-4480"},{"$f":"'Bill of Materials'!H707","v":"UFC"},null,null,null,0,{"$f":"'Bill of Materials'!J707","v":"standard material"},{"$f":"'Bill of Materials'!K707","v":"physical"},0]
[{"$f":"'Bill of Materials'!E708+'Bill of Materials'!F708","v":0},{"$f":"'Bill of Materials'!M708","v":"EA"},{"$f":"'Bill of Materials'!G708","v":"Mounts tray to rack. Bag of two \"J\" anchor bolts with nuts"},{"$f":"'Bill of Materials'!L708","v":"Cablofil"},{"$f":"'Bill of Materials'!N708","v":3.12},{"$f":"'Bill of Materials'!P708","v":"DWC"},{"$f":"'Bill of Materials'!C708","v":"INFO-4481"},{"$f":"'Bill of Materials'!H708","v":"EZ JB 5/16 B"},null,null,null,0,{"$f":"'Bill of Materials'!J708","v":"standard material"},{"$f":"'Bill of Materials'!K708","v":"physical"},0]
[{"$f":"'Bill of Materials'!E709+'Bill of Materials'!F709","v":0},{"$f":"'Bill of Materials'!M709","v":"EA"},{"$f":"'Bill of Materials'!G709","v":"Splicing hardware. Bag of 50 with tool"},{"$f":"'Bill of Materials'!L709","v":"Cablofil"},{"$f":"'Bill of Materials'!N709","v":71.58},{"$f":"'Bill of Materials'!P709","v":"DWC"},{"$f":"'Bill of Materials'!C709","v":"INFO-4483"},{"$f":"'Bill of Materials'!H709","v":"EDRN"},null,null,null,0,{"$f":"'Bill of Materials'!J709","v":"standard material"},{"$f":"'Bill of Materials'!K709","v":"physical"},0]
[{"$f":"'Bill of Materials'!E710+'Bill of Materials'!F710","v":0},{"$f":"'Bill of Materials'!M710","v":"EA"},{"$f":"'Bill of Materials'!G710","v":"Cable label clip. Bag of 50"},{"$f":"'Bill of Materials'!L710","v":"Cablofil"},{"$f":"'Bill of Materials'!N710","v":9.9},{"$f":"'Bill of Materials'!P710","v":"DWC"},{"$f":"'Bill of Materials'!C710","v":"INFO-4486"},{"$f":"'Bill of Materials'!H710","v":"EZ CLPK"},null,null,null,0,{"$f":"'Bill of Materials'!J710","v":"standard material"},{"$f":"'Bill of Materials'!K710","v":"physical"},0]
[{"$f":"'Bill of Materials'!E711+'Bill of Materials'!F711","v":0},{"$f":"'Bill of Materials'!M711","v":"EA"},{"$f":"'Bill of Materials'!G711","v":"Side cable exit waterfall 4\" Width"},{"$f":"'Bill of Materials'!L711","v":"Cablofil"},{"$f":"'Bill of Materials'!N711","v":3.37},{"$f":"'Bill of Materials'!P711","v":"DWC"},{"$f":"'Bill of Materials'!C711","v":"INFO-4487"},{"$f":"'Bill of Materials'!H711","v":"CABLEXIT KIT"},null,null,null,0,{"$f":"'Bill of Materials'!J711","v":"standard material"},{"$f":"'Bill of Materials'!K711","v":"physical"},0]
[{"$f":"'Bill of Materials'!E712+'Bill of Materials'!F712","v":0},{"$f":"'Bill of Materials'!M712","v":"EA"},{"$f":"'Bill of Materials'!G712","v":"WALL TERMINATION BRACKET"},{"$f":"'Bill of Materials'!L712","v":"Cablofil"},{"$f":"'Bill of Materials'!N712","v":1.94},{"$f":"'Bill of Materials'!P712","v":"DWC"},{"$f":"'Bill of Materials'!C712","v":"INFO-4488"},{"$f":"'Bill of Materials'!H712","v":"GM HB2"},null,null,null,0,{"$f":"'Bill of Materials'!J712","v":"standard material"},{"$f":"'Bill of Materials'!K712","v":"physical"},0]
[{"$f":"'Bill of Materials'!E713+'Bill of Materials'!F713","v":0},{"$f":"'Bill of Materials'!M713","v":"EA"},{"$f":"'Bill of Materials'!G713","v":"NUT/BOLT/CLAMPS  PKG OF 50"},{"$f":"'Bill of Materials'!L713","v":"Cablofil"},{"$f":"'Bill of Materials'!N713","v":34.299999999999997},{"$f":"'Bill of Materials'!P713","v":"DWC"},{"$f":"'Bill of Materials'!C713","v":"INFO-4489"},{"$f":"'Bill of Materials'!H713","v":"GM SWK B"},null,null,null,0,{"$f":"'Bill of Materials'!J713","v":"standard material"},{"$f":"'Bill of Materials'!K713","v":"physical"},0]
[{"$f":"'Bill of Materials'!E714+'Bill of Materials'!F714","v":0},{"$f":"'Bill of Materials'!M714","v":"EA"},{"$f":"'Bill of Materials'!G714","v":"FAS PROFILE - 8\""},{"$f":"'Bill of Materials'!L714","v":"Cablofil"},{"$f":"'Bill of Materials'!N714","v":3.27},{"$f":"'Bill of Materials'!P714","v":"DWC"},{"$f":"'Bill of Materials'!C714","v":"INFO-4490"},{"$f":"'Bill of Materials'!H714","v":"FASP200"},null,null,null,0,{"$f":"'Bill of Materials'!J714","v":"standard material"},{"$f":"'Bill of Materials'!K714","v":"physical"},0]
[{"$f":"'Bill of Materials'!E715+'Bill of Materials'!F715","v":0},{"$f":"'Bill of Materials'!M715","v":"EA"},{"$f":"'Bill of Materials'!G715","v":"FAS PROFILE - 12\""},{"$f":"'Bill of Materials'!L715","v":"Cablofil"},{"$f":"'Bill of Materials'!N715","v":4.91},{"$f":"'Bill of Materials'!P715","v":"DWC"},{"$f":"'Bill of Materials'!C715","v":"INFO-4491"},{"$f":"'Bill of Materials'!H715","v":"FASP300"},null,null,null,0,{"$f":"'Bill of Materials'!J715","v":"standard material"},{"$f":"'Bill of Materials'!K715","v":"physical"},0]
[{"$f":"'Bill of Materials'!E716+'Bill of Materials'!F716","v":0},{"$f":"'Bill of Materials'!M716","v":"EA"},{"$f":"'Bill of Materials'!G716","v":"FAS PROFILE - 16\""},{"$f":"'Bill of Materials'!L716","v":"Cablofil"},{"$f":"'Bill of Materials'!N716","v":5.94},{"$f":"'Bill of Materials'!P716","v":"DWC"},{"$f":"'Bill of Materials'!C716","v":"INFO-4492"},{"$f":"'Bill of Materials'!H716","v":"FASP400"},null,null,null,0,{"$f":"'Bill of Materials'!J716","v":"standard material"},{"$f":"'Bill of Materials'!K716","v":"physical"},0]
[{"$f":"'Bill of Materials'!E717+'Bill of Materials'!F717","v":0},{"$f":"'Bill of Materials'!M717","v":"EA"},{"$f":"'Bill of Materials'!G717","v":"FAS PROFILE - 20\""},{"$f":"'Bill of Materials'!L717","v":"Cablofil"},{"$f":"'Bill of Materials'!N717","v":8.2200000000000006},{"$f":"'Bill of Materials'!P717","v":"DWC"},{"$f":"'Bill of Materials'!C717","v":"INFO-4493"},{"$f":"'Bill of Materials'!H717","v":"FASP500"},null,null,null,0,{"$f":"'Bill of Materials'!J717","v":"standard material"},{"$f":"'Bill of Materials'!K717","v":"physical"},0]
[{"$f":"'Bill of Materials'!E718+'Bill of Materials'!F718","v":0},{"$f":"'Bill of Materials'!M718","v":"EA"},{"$f":"'Bill of Materials'!G718","v":"SBD DIVERSION BOX"},{"$f":"'Bill of Materials'!L718","v":"Cablofil"},{"$f":"'Bill of Materials'!N718","v":2},{"$f":"'Bill of Materials'!P718","v":"DWC"},{"$f":"'Bill of Materials'!C718","v":"INFO-4494"},{"$f":"'Bill of Materials'!H718","v":"SBD"},null,null,null,0,{"$f":"'Bill of Materials'!J718","v":"standard material"},{"$f":"'Bill of Materials'!K718","v":"physical"},0]
[{"$f":"'Bill of Materials'!E719+'Bill of Materials'!F719","v":0},{"$f":"'Bill of Materials'!M719","v":"EA"},{"$f":"'Bill of Materials'!G719","v":"UNDER FLOOR SUPPORT CLAMP AND 12 INCH PROFILE"},{"$f":"'Bill of Materials'!L719","v":"Cablofil"},{"$f":"'Bill of Materials'!N719","v":4.5999999999999996},{"$f":"'Bill of Materials'!P719","v":"DWC"},{"$f":"'Bill of Materials'!C719","v":"INFO-4495"},{"$f":"'Bill of Materials'!H719","v":"UFCN300"},null,null,null,0,{"$f":"'Bill of Materials'!J719","v":"standard material"},{"$f":"'Bill of Materials'!K719","v":"physical"},0]
[{"$f":"'Bill of Materials'!E720+'Bill of Materials'!F720","v":0},{"$f":"'Bill of Materials'!M720","v":"EA"},{"$f":"'Bill of Materials'!G720","v":"CABLE DROP OUT - 12\" Width"},{"$f":"'Bill of Materials'!L720","v":"Cablofil"},{"$f":"'Bill of Materials'!N720","v":9.98},{"$f":"'Bill of Materials'!P720","v":"DWC"},{"$f":"'Bill of Materials'!C720","v":"INFO-4496"},{"$f":"'Bill of Materials'!H720","v":"GM12 DROPOUT"},null,null,null,0,{"$f":"'Bill of Materials'!J720","v":"standard material"},{"$f":"'Bill of Materials'!K720","v":"physical"},0]
[{"$f":"'Bill of Materials'!E721+'Bill of Materials'!F721","v":0},{"$f":"'Bill of Materials'!M721","v":"EA"},{"$f":"'Bill of Materials'!G721","v":"CABLE DROP OUT - 06\" Width"},{"$f":"'Bill of Materials'!L721","v":"Cablofil"},{"$f":"'Bill of Materials'!N721","v":8.9700000000000006},{"$f":"'Bill of Materials'!P721","v":"DWC"},{"$f":"'Bill of Materials'!C721","v":"INFO-4497"},{"$f":"'Bill of Materials'!H721","v":"GM6 DROPOUT"},null,null,null,0,{"$f":"'Bill of Materials'!J721","v":"standard material"},{"$f":"'Bill of Materials'!K721","v":"physical"},0]
[{"$f":"'Bill of Materials'!E722+'Bill of Materials'!F722","v":0},{"$f":"'Bill of Materials'!M722","v":"EA"},{"$f":"'Bill of Materials'!G722","v":"FAS UNIVERSAL BRACKET - 6\""},{"$f":"'Bill of Materials'!L722","v":"Cablofil"},{"$f":"'Bill of Materials'!N722","v":4.2300000000000004},{"$f":"'Bill of Materials'!P722","v":"DWC"},{"$f":"'Bill of Materials'!C722","v":"INFO-4498"},{"$f":"'Bill of Materials'!H722","v":"FAS U150"},null,null,null,0,{"$f":"'Bill of Materials'!J722","v":"standard material"},{"$f":"'Bill of Materials'!K722","v":"physical"},0]
[{"$f":"'Bill of Materials'!E723+'Bill of Materials'!F723","v":0},{"$f":"'Bill of Materials'!M723","v":"EA"},{"$f":"'Bill of Materials'!G723","v":"FAS UNIVERSAL BRACKET - 12\""},{"$f":"'Bill of Materials'!L723","v":"Cablofil"},{"$f":"'Bill of Materials'!N723","v":6.14},{"$f":"'Bill of Materials'!P723","v":"DWC"},{"$f":"'Bill of Materials'!C723","v":"INFO-4499"},{"$f":"'Bill of Materials'!H723","v":"FAS U300"},null,null,null,0,{"$f":"'Bill of Materials'!J723","v":"standard material"},{"$f":"'Bill of Materials'!K723","v":"physical"},0]
[{"$f":"'Bill of Materials'!#REF!+'Bill of Materials'!#REF!","v":{"$error":"#REF!"}},{"$f":"'Bill of Materials'!#REF!","v":{"$error":"#REF!"}},{"$f":"'Bill of Materials'!#REF!","v":{"$error":"#REF!"}},{"$f":"'Bill of Materials'!#REF!","v":{"$error":"#REF!"}},{"$f":"'Bill of Materials'!#REF!","v":{"$error":"#REF!"}},{"$f":"'Bill of Materials'!#REF!","v":{"$error":"#REF!"}},{"$f":"'Bill of Materials'!#REF!","v":{"$error":"#REF!"}},{"$f":"'Bill of Materials'!#REF!","v":{"$error":"#REF!"}},null,null,null,{"$error":"#REF!"},{"$f":"'Bill of Materials'!#REF!","v":{"$error":"#REF!"}},{"$f":"'Bill of Materials'!#REF!","v":{"$error":"#REF!"}},{"$error":"#REF!"}]
[{"$f":"'Bill of Materials'!E724+'Bill of Materials'!F724","v":0},{"$f":"'Bill of Materials'!M724","v":"EA"},{"$f":"'Bill of Materials'!G724","v":"FAS UNIVERSAL BRACKET - 24\""},{"$f":"'Bill of Materials'!L724","v":"Cablofil"},{"$f":"'Bill of Materials'!N724","v":19.55},{"$f":"'Bill of Materials'!P724","v":"DWC"},{"$f":"'Bill of Materials'!C724","v":"INFO-4701"},{"$f":"'Bill of Materials'!H724","v":"FAS U600"},null,null,null,0,{"$f":"'Bill of Materials'!J724","v":"standard material"},{"$f":"'Bill of Materials'!K724","v":"physical"},0]
[{"$f":"'Bill of Materials'!E725+'Bill of Materials'!F725","v":0},{"$f":"'Bill of Materials'!M725","v":"EA"},{"$f":"'Bill of Materials'!G725","v":"FAS PROFILE - 28\""},{"$f":"'Bill of Materials'!L725","v":"Cablofil"},{"$f":"'Bill of Materials'!N725","v":11.44},{"$f":"'Bill of Materials'!P725","v":"DWC"},{"$f":"'Bill of Materials'!C725","v":"INFO-4703"},{"$f":"'Bill of Materials'!H725","v":"FASP700"},null,null,null,0,{"$f":"'Bill of Materials'!J725","v":"standard material"},{"$f":"'Bill of Materials'!K725","v":"physical"},0]
[{"$f":"'Bill of Materials'!E726+'Bill of Materials'!F726","v":0},{"$f":"'Bill of Materials'!M726","v":"EA"},{"$f":"'Bill of Materials'!G726","v":"8\" wall or under floor bracket"},{"$f":"'Bill of Materials'!L726","v":"Cablofil"},{"$f":"'Bill of Materials'!N726","v":4.2699999999999996},{"$f":"'Bill of Materials'!P726","v":"DWC"},{"$f":"'Bill of Materials'!C726","v":"INFO-4704"},{"$f":"'Bill of Materials'!H726","v":"FAS L200"},null,null,null,0,{"$f":"'Bill of Materials'!J726","v":"standard material"},{"$f":"'Bill of Materials'!K726","v":"physical"},0]
[{"$f":"'Bill of Materials'!E727+'Bill of Materials'!F727","v":0},{"$f":"'Bill of Materials'!M727","v":"EA"},{"$f":"'Bill of Materials'!G727","v":"12\" wall or under floor bracket"},{"$f":"'Bill of Materials'!L727","v":"Cablofil"},{"$f":"'Bill of Materials'!N727","v":5.56},{"$f":"'Bill of Materials'!P727","v":"DWC"},{"$f":"'Bill of Materials'!C727","v":"INFO-4705"},{"$f":"'Bill of Materials'!H727","v":"FAS L300"},null,null,null,0,{"$f":"'Bill of Materials'!J727","v":"standard material"},{"$f":"'Bill of Materials'!K727","v":"physical"},0]
[{"$f":"'Bill of Materials'!E729+'Bill of Materials'!F729","v":0},{"$f":"'Bill of Materials'!M729","v":"EA"},{"$f":"'Bill of Materials'!G729","v":"TERMINAL BLOCK, EA & ED 300-600v Tubular Screw Type with Pressure Plate (EJB and Terminal box)"},{"$f":"'Bill of Materials'!L729","v":"Electro-Matic"},{"$f":"'Bill of Materials'!N729","v":2.0299999999999998},{"$f":"'Bill of Materials'!P729","v":"DWC"},{"$f":"'Bill of Materials'!C729","v":"0076-6541"},{"$f":"'Bill of Materials'!H729","v":"EA1"},null,null,null,0,{"$f":"'Bill of Materials'!J729","v":"standard material"},{"$f":"'Bill of Materials'!K729","v":"physical"},0]
[{"$f":"'Bill of Materials'!E730+'Bill of Materials'!F730","v":0},{"$f":"'Bill of Materials'!M730","v":"EA"},{"$f":"'Bill of Materials'!G730","v":"Beam/Purlin Flange Bonding Clamp. Up to 1\" Thick Beam Flange. Accommodates #2awg thru #6awg Copper, UL Approved"},{"$f":"'Bill of Materials'!L730","v":"Erico-Caddy"},{"$f":"'Bill of Materials'!N730","v":38.25},{"$f":"'Bill of Materials'!P730","v":"DWC"},{"$f":"'Bill of Materials'!C730","v":"0174-9C5F"},{"$f":"'Bill of Materials'!H730","v":"LPC557"},null,null,null,0,{"$f":"'Bill of Materials'!J730","v":"standard material"},{"$f":"'Bill of Materials'!K730","v":"physical"},0]
[{"$f":"'Bill of Materials'!E731+'Bill of Materials'!F731","v":0},{"$f":"'Bill of Materials'!M731","v":"EA"},{"$f":"'Bill of Materials'!G731","v":"Gnd./Bonding Clamp, wire type cable tray section-section, 2ga/6ga bonding conductor size, UL Approved  "},{"$f":"'Bill of Materials'!L731","v":"Senior Industries"},{"$f":"'Bill of Materials'!N731","v":3.27},{"$f":"'Bill of Materials'!P731","v":"DWC"},{"$f":"'Bill of Materials'!C731","v":"0174-9C61"},{"$f":"'Bill of Materials'!H731","v":2174},null,null,null,0,{"$f":"'Bill of Materials'!J731","v":"standard material"},{"$f":"'Bill of Materials'!K731","v":"physical"},0]
[{"$f":"'Bill of Materials'!E732+'Bill of Materials'!F732","v":0},{"$f":"'Bill of Materials'!M732","v":"EA"},{"$f":"'Bill of Materials'!G732","v":"H-TAP, 3/0 awg to 3/0 awg, Crimp type "},{"$f":"'Bill of Materials'!L732","v":"FCI-Burndy"},{"$f":"'Bill of Materials'!N732","v":24.26},{"$f":"'Bill of Materials'!P732","v":"DWC"},{"$f":"'Bill of Materials'!C732","v":"0456-0XFL"},{"$f":"'Bill of Materials'!H732","v":"YH2929WC"},null,null,null,0,{"$f":"'Bill of Materials'!J732","v":"standard material"},{"$f":"'Bill of Materials'!K732","v":"physical"},0]
[{"$f":"'Bill of Materials'!E733+'Bill of Materials'!F733","v":0},{"$f":"'Bill of Materials'!M733","v":"EA"},{"$f":"'Bill of Materials'!G733","v":"H-TAP, 2/0 thru #2 awg to 2/0 thru #2 awg, Crimp type "},{"$f":"'Bill of Materials'!L733","v":"FCI-Burndy"},{"$f":"'Bill of Materials'!N733","v":28.12},{"$f":"'Bill of Materials'!P733","v":"DWC"},{"$f":"'Bill of Materials'!C733","v":"0456-0XFM"},{"$f":"'Bill of Materials'!H733","v":"YH292CWC"},null,null,null,0,{"$f":"'Bill of Materials'!J733","v":"standard material"},{"$f":"'Bill of Materials'!K733","v":"physical"},0]
[{"$f":"'Bill of Materials'!E734+'Bill of Materials'!F734","v":0},{"$f":"'Bill of Materials'!M734","v":"EA"},{"$f":"'Bill of Materials'!G734","v":"Telecom Grounding and Bonding Conductor Label Ground Attachment Warning Kit (10 per pak)"},{"$f":"'Bill of Materials'!L734","v":"Panduit"},{"$f":"'Bill of Materials'!N734","v":8.66},{"$f":"'Bill of Materials'!P734","v":"DWC"},{"$f":"'Bill of Materials'!C734","v":"0456-0XFN"},{"$f":"'Bill of Materials'!H734","v":"LTYK"},null,null,null,0,{"$f":"'Bill of Materials'!J734","v":"standard material"},{"$f":"'Bill of Materials'!K734","v":"physical"},0]
[{"$f":"'Bill of Materials'!E735+'Bill of Materials'!F735","v":0},{"$f":"'Bill of Materials'!M735","v":"EA"},{"$f":"'Bill of Materials'!G735","v":"Ground Strap with lugs and hardware, Runway Type Cable Tray Section Bonding"},{"$f":"'Bill of Materials'!L735","v":"Homaco"},{"$f":"'Bill of Materials'!N735","v":14.79},{"$f":"'Bill of Materials'!P735","v":"DWC"},{"$f":"'Bill of Materials'!C735","v":"0456-0XFR"},{"$f":"'Bill of Materials'!H735","v":"GS-8"},null,null,null,0,{"$f":"'Bill of Materials'!J735","v":"standard material"},{"$f":"'Bill of Materials'!K735","v":"physical"},0]
[{"$f":"'Bill of Materials'!E736+'Bill of Materials'!F736","v":0},{"$f":"'Bill of Materials'!M736","v":"EA"},{"$f":"'Bill of Materials'!G736","v":"Cabinet/Rack Grounding Kit, Includes; H-TAP #2awg to #6awg, Pre-connectorized 10ft. #6awg THHN green, lugs and attachment hardware. "},{"$f":"'Bill of Materials'!L736","v":"DWC"},{"$f":"'Bill of Materials'!N736","v":27.13},{"$f":"'Bill of Materials'!P736","v":"DWC"},{"$f":"'Bill of Materials'!C736","v":"0456-0XRJ"},{"$f":"'Bill of Materials'!H736","v":"EBC-KIT"},null,null,null,0,{"$f":"'Bill of Materials'!J736","v":"standard material"},{"$f":"'Bill of Materials'!K736","v":"physical"},0]
[{"$f":"'Bill of Materials'!E737+'Bill of Materials'!F737","v":0},{"$f":"'Bill of Materials'!M737","v":"EA"},{"$f":"'Bill of Materials'!G737","v":"Crimp Lug Connector, 3/0awg, (2) Holes, Long Barrel"},{"$f":"'Bill of Materials'!L737","v":"FCI-Burndy"},{"$f":"'Bill of Materials'!N737","v":9.31},{"$f":"'Bill of Materials'!P737","v":"DWC"},{"$f":"'Bill of Materials'!C737","v":"0844-44DW"},{"$f":"'Bill of Materials'!H737","v":"YA272TC38"},null,null,null,0,{"$f":"'Bill of Materials'!J737","v":"standard material"},{"$f":"'Bill of Materials'!K737","v":"physical"},0]
[{"$f":"'Bill of Materials'!E738+'Bill of Materials'!F738","v":0},{"$f":"'Bill of Materials'!M738","v":"EA"},{"$f":"'Bill of Materials'!G738","v":"Crimp Lug Connector, #6awg, (2) Hole, Long Barrel"},{"$f":"'Bill of Materials'!L738","v":"FCI-Burndy"},{"$f":"'Bill of Materials'!N738","v":5.84},{"$f":"'Bill of Materials'!P738","v":"DWC"},{"$f":"'Bill of Materials'!C738","v":"0844-45KJ"},{"$f":"'Bill of Materials'!H738","v":"YA6C2TC14"},null,null,null,0,{"$f":"'Bill of Materials'!J738","v":"standard material"},{"$f":"'Bill of Materials'!K738","v":"physical"},0]
[{"$f":"'Bill of Materials'!E739+'Bill of Materials'!F739","v":0},{"$f":"'Bill of Materials'!M739","v":"EA"},{"$f":"'Bill of Materials'!G739","v":"Crimp Lug Connector, #2awg, (2) Holes, Long Barrel"},{"$f":"'Bill of Materials'!L739","v":"FCI-Burndy"},{"$f":"'Bill of Materials'!N739","v":7.77},{"$f":"'Bill of Materials'!P739","v":"DWC"},{"$f":"'Bill of Materials'!C739","v":"0844-45KK"},{"$f":"'Bill of Materials'!H739","v":"YA2C2TC38"},null,null,null,0,{"$f":"'Bill of Materials'!J739","v":"standard material"},{"$f":"'Bill of Materials'!K739","v":"physical"},0]
[{"$f":"'Bill of Materials'!E740+'Bill of Materials'!F740","v":0},{"$f":"'Bill of Materials'!M740","v":"EA"},{"$f":"'Bill of Materials'!G740","v":"Crimp Lug Connector, #6awg, (1) Hole, Long Barrel"},{"$f":"'Bill of Materials'!L740","v":"FCI-Burndy"},{"$f":"'Bill of Materials'!N740","v":2.13},{"$f":"'Bill of Materials'!P740","v":"DWC"},{"$f":"'Bill of Materials'!C740","v":"0844-45KR"},{"$f":"'Bill of Materials'!H740","v":"YA6C"},null,null,null,0,{"$f":"'Bill of Materials'!J740","v":"standard material"},{"$f":"'Bill of Materials'!K740","v":"physical"},0]
[{"$f":"'Bill of Materials'!E741+'Bill of Materials'!F741","v":0},{"$f":"'Bill of Materials'!M741","v":"FT"},{"$f":"'Bill of Materials'!G741","v":"#2awg, Bare Stranded Ground Cable - Cable is sold in FT"},{"$f":"'Bill of Materials'!L741","v":"DWC"},{"$f":"'Bill of Materials'!N741","v":1.2},{"$f":"'Bill of Materials'!P741","v":"DWC"},{"$f":"'Bill of Materials'!C741","v":"10024"},{"$f":"'Bill of Materials'!H741","v":"1A-0201"},null,null,null,0,{"$f":"'Bill of Materials'!J741","v":"standard material"},{"$f":"'Bill of Materials'!K741","v":"horizontal"},0]
[{"$f":"'Bill of Materials'!E742+'Bill of Materials'!F742","v":0},{"$f":"'Bill of Materials'!M742","v":"FT"},{"$f":"'Bill of Materials'!G742","v":"2/0awg, Bare Stranded Ground Cable - Cable is sold in FT"},{"$f":"'Bill of Materials'!L742","v":"DWC"},{"$f":"'Bill of Materials'!N742","v":1.91},{"$f":"'Bill of Materials'!P742","v":"DWC"},{"$f":"'Bill of Materials'!C742","v":"10025"},{"$f":"'Bill of Materials'!H742","v":"1A-2021"},null,null,null,0,{"$f":"'Bill of Materials'!J742","v":"standard material"},{"$f":"'Bill of Materials'!K742","v":"horizontal"},0]
[{"$f":"'Bill of Materials'!E743+'Bill of Materials'!F743","v":0},{"$f":"'Bill of Materials'!M743","v":"FT"},{"$f":"'Bill of Materials'!G743","v":"3/0awg, Bare Stranded Ground Cable - Cable is sold in FT"},{"$f":"'Bill of Materials'!L743","v":"DWC"},{"$f":"'Bill of Materials'!N743","v":3.35},{"$f":"'Bill of Materials'!P743","v":"DWC"},{"$f":"'Bill of Materials'!C743","v":"10026"},{"$f":"'Bill of Materials'!H743","v":"1A-3031"},null,null,null,0,{"$f":"'Bill of Materials'!J743","v":"standard material"},{"$f":"'Bill of Materials'!K743","v":"horizontal"},0]
[{"$f":"'Bill of Materials'!E744+'Bill of Materials'!F744","v":0},{"$f":"'Bill of Materials'!M744","v":"FT"},{"$f":"'Bill of Materials'!G744","v":"#2awg THHN, Green Jacketed Stranded Ground Cable - Cable is sold in FT"},{"$f":"'Bill of Materials'!L744","v":"DWC"},{"$f":"'Bill of Materials'!N744","v":1.55},{"$f":"'Bill of Materials'!P744","v":"DWC"},{"$f":"'Bill of Materials'!C744","v":"10027"},{"$f":"'Bill of Materials'!H744","v":"1E-0201-05"},null,null,null,0,{"$f":"'Bill of Materials'!J744","v":"standard material"},{"$f":"'Bill of Materials'!K744","v":"horizontal"},0]
[{"$f":"'Bill of Materials'!E745+'Bill of Materials'!F745","v":0},{"$f":"'Bill of Materials'!M745","v":"FT"},{"$f":"'Bill of Materials'!G745","v":"#6awg THHN, Green Jacketed Stranded Ground Cable - Cable is sold in FT"},{"$f":"'Bill of Materials'!L745","v":"DWC"},{"$f":"'Bill of Materials'!N745","v":0.8},{"$f":"'Bill of Materials'!P745","v":"DWC"},{"$f":"'Bill of Materials'!C745","v":"10028"},{"$f":"'Bill of Materials'!H745","v":"1E-0601-05"},null,null,null,0,{"$f":"'Bill of Materials'!J745","v":"standard material"},{"$f":"'Bill of Materials'!K745","v":"horizontal"},0]
[{"$f":"'Bill of Materials'!E746+'Bill of Materials'!F746","v":0},{"$f":"'Bill of Materials'!M746","v":"FT"},{"$f":"'Bill of Materials'!G746","v":"2/0awg THHN, Green Jacketed Stranded Ground Cable - Cable is sold in FT"},{"$f":"'Bill of Materials'!L746","v":"DWC"},{"$f":"'Bill of Materials'!N746","v":2.4500000000000002},{"$f":"'Bill of Materials'!P746","v":"DWC"},{"$f":"'Bill of Materials'!C746","v":"10029"},{"$f":"'Bill of Materials'!H746","v":"1E-2021-05"},null,null,null,0,{"$f":"'Bill of Materials'!J746","v":"standard material"},{"$f":"'Bill of Materials'!K746","v":"horizontal"},0]
[{"$f":"'Bill of Materials'!E747+'Bill of Materials'!F747","v":0},{"$f":"'Bill of Materials'!M747","v":"FT"},{"$f":"'Bill of Materials'!G747","v":"3/0awg THHN, Green Jacketed Stranded Ground Cable - Cable is sold in FT"},{"$f":"'Bill of Materials'!L747","v":"DWC"},{"$f":"'Bill of Materials'!N747","v":3.85},{"$f":"'Bill of Materials'!P747","v":"DWC"},{"$f":"'Bill of Materials'!C747","v":"10030"},{"$f":"'Bill of Materials'!H747","v":"1E-3031-05"},null,null,null,0,{"$f":"'Bill of Materials'!J747","v":"standard material"},{"$f":"'Bill of Materials'!K747","v":"horizontal"},0]
[{"$f":"'Bill of Materials'!E748+'Bill of Materials'!F748","v":0},{"$f":"'Bill of Materials'!M748","v":"EA"},{"$f":"'Bill of Materials'!G748","v":"D167 Small Panel Mounted Ground Bar (12) Position for Panel Enclosures"},{"$f":"'Bill of Materials'!L748","v":"Ilsco"},{"$f":"'Bill of Materials'!N748","v":35.9},{"$f":"'Bill of Materials'!P748","v":"DWC"},{"$f":"'Bill of Materials'!C748","v":"10092"},{"$f":"'Bill of Materials'!H748","v":"D167-12"},null,null,null,0,{"$f":"'Bill of Materials'!J748","v":"standard material"},{"$f":"'Bill of Materials'!K748","v":"physical"},0]
[{"$f":"'Bill of Materials'!E749+'Bill of Materials'!F749","v":0},{"$f":"'Bill of Materials'!M749","v":"EA"},{"$f":"'Bill of Materials'!G749","v":"EGB – Equipment Ground Bar, Rack/Cabinet 19”"},{"$f":"'Bill of Materials'!L749","v":"Harger"},{"$f":"'Bill of Materials'!N749","v":25.5},{"$f":"'Bill of Materials'!P749","v":"DWC"},{"$f":"'Bill of Materials'!C749","v":"10114"},{"$f":"'Bill of Materials'!H749","v":"GB316-7520DWC"},null,null,null,0,{"$f":"'Bill of Materials'!J749","v":"standard material"},{"$f":"'Bill of Materials'!K749","v":"physical"},0]
[{"$f":"'Bill of Materials'!E750+'Bill of Materials'!F750","v":0},{"$f":"'Bill of Materials'!M750","v":"EA"},{"$f":"'Bill of Materials'!G750","v":"Antioxidant Compound for Ground Connections, 8 oz. Bottle, Copper Color"},{"$f":"'Bill of Materials'!L750","v":"Harger"},{"$f":"'Bill of Materials'!N750","v":15.8},{"$f":"'Bill of Materials'!P750","v":"DWC"},{"$f":"'Bill of Materials'!C750","v":"10119"},{"$f":"'Bill of Materials'!H750","v":"HCAJC8"},null,null,null,0,{"$f":"'Bill of Materials'!J750","v":"standard material"},{"$f":"'Bill of Materials'!K750","v":"physical"},0]
[{"$f":"'Bill of Materials'!E751+'Bill of Materials'!F751","v":0},{"$f":"'Bill of Materials'!M751","v":"EA"},{"$f":"'Bill of Materials'!G751","v":"Labor to install EGB Bar in NIS Racks/Cabinets"},{"$f":"'Bill of Materials'!L751","v":"DWC"},{"$f":"'Bill of Materials'!N751","v":38.700000000000003},{"$f":"'Bill of Materials'!P751","v":"DWC"},{"$f":"'Bill of Materials'!C751","v":"10260"},{"$f":"'Bill of Materials'!H751","v":"EGB-L"},null,null,null,0,{"$f":"'Bill of Materials'!J751","v":"standard material"},{"$f":"'Bill of Materials'!K751","v":"physical"},0]
[{"$f":"'Bill of Materials'!E752+'Bill of Materials'!F752","v":0},{"$f":"'Bill of Materials'!M752","v":"EA"},{"$f":"'Bill of Materials'!G752","v":"DataLogger Grounding Kit - Includes 12 Inches of # 6 AWG Coated Ground Wire w/Green Jacket, and Terminal Connector on One End"},{"$f":"'Bill of Materials'!L752","v":"DWC"},{"$f":"'Bill of Materials'!N752","v":3.27},{"$f":"'Bill of Materials'!P752","v":"DWC"},{"$f":"'Bill of Materials'!C752","v":"INFO-2338"},{"$f":"'Bill of Materials'!H752","v":"GM-DLOG-KIT"},null,null,null,0,{"$f":"'Bill of Materials'!J752","v":"standard material"},{"$f":"'Bill of Materials'!K752","v":"physical"},0]
[{"$f":"'Bill of Materials'!E753+'Bill of Materials'!F753","v":0},{"$f":"'Bill of Materials'!M753","v":"EA"},{"$f":"'Bill of Materials'!G753","v":"Insulated Ground Bar 1/4\" X 4\" X 20\" (Copper)"},{"$f":"'Bill of Materials'!L753","v":"Newton"},{"$f":"'Bill of Materials'!N753","v":142.4},{"$f":"'Bill of Materials'!P753","v":"DWC"},{"$f":"'Bill of Materials'!C753","v":"INFO-4504"},{"$f":"'Bill of Materials'!H753","v":"FIGURE 3056"},null,null,null,0,{"$f":"'Bill of Materials'!J753","v":"standard material"},{"$f":"'Bill of Materials'!K753","v":"physical"},0]
[{"$f":"'Bill of Materials'!#REF!+'Bill of Materials'!#REF!","v":{"$error":"#REF!"}},{"$f":"'Bill of Materials'!#REF!","v":{"$error":"#REF!"}},{"$f":"'Bill of Materials'!#REF!","v":{"$error":"#REF!"}},{"$f":"'Bill of Materials'!#REF!","v":{"$error":"#REF!"}},{"$f":"'Bill of Materials'!#REF!","v":{"$error":"#REF!"}},{"$f":"'Bill of Materials'!#REF!","v":{"$error":"#REF!"}},{"$f":"'Bill of Materials'!#REF!","v":{"$error":"#REF!"}},{"$f":"'Bill of Materials'!#REF!","v":{"$error":"#REF!"}},null,null,null,{"$error":"#REF!"},{"$f":"'Bill of Materials'!#REF!","v":{"$error":"#REF!"}},{"$f":"'Bill of Materials'!#REF!","v":{"$error":"#REF!"}},{"$error":"#REF!"}]
[{"$f":"'Bill of Materials'!E754+'Bill of Materials'!F754","v":0},{"$f":"'Bill of Materials'!M754","v":"EA"},{"$f":"'Bill of Materials'!G754","v":"Braided Ground Strap w/eyelets (25'/roll)"},{"$f":"'Bill of Materials'!L754","v":"3M"},{"$f":"'Bill of Materials'!N754","v":49.75},{"$f":"'Bill of Materials'!P754","v":"DWC"},{"$f":"'Bill of Materials'!C754","v":"INFO-4764"},{"$f":"'Bill of Materials'!H754","v":"25T-BBE6"},null,null,null,0,{"$f":"'Bill of Materials'!J754","v":"standard material"},{"$f":"'Bill of Materials'!K754","v":"physical"},0]
[{"$f":"'Bill of Materials'!E755+'Bill of Materials'!F755","v":0},{"$f":"'Bill of Materials'!M755","v":"EA"},{"$f":"'Bill of Materials'!G755","v":"Beam/Purlin/Tray Flange Bonding Clamp. Up to 1/2\" Thick Beam Flange. Accommodates #2awg thru #6awg Copper, UL Approved"},{"$f":"'Bill of Materials'!L755","v":"OZ Gedney"},{"$f":"'Bill of Materials'!N755","v":9.31},{"$f":"'Bill of Materials'!P755","v":"DWC"},{"$f":"'Bill of Materials'!C755","v":"INFO-7018"},{"$f":"'Bill of Materials'!H755","v":"CTGC-6-25A"},null,null,null,0,{"$f":"'Bill of Materials'!J755","v":"standard material"},{"$f":"'Bill of Materials'!K755","v":"physical"},0]
[{"$f":"'Bill of Materials'!E756+'Bill of Materials'!F756","v":0},{"$f":"'Bill of Materials'!M756","v":"EA"},{"$f":"'Bill of Materials'!G756","v":"Required ground Kit for Cisco 65XX, 45XX series chassis. Includes two hole crimp-on chassis ground lug, 10 feet of #6 green stranded cable, one hole copper mechanical connector, two M4 stainless screws, one stainless bolt, nut, washer, tie wraps, label, instructions. Crimp-on chassis ground lug comes  factory assembled to the #6 stranded cable."},{"$f":"'Bill of Materials'!L756","v":"DWC"},{"$f":"'Bill of Materials'!N756","v":36.200000000000003},{"$f":"'Bill of Materials'!P756","v":"DWC"},{"$f":"'Bill of Materials'!C756","v":"INFO-8657"},{"$f":"'Bill of Materials'!H756","v":"CISCO/GRND-KIT"},null,null,null,0,{"$f":"'Bill of Materials'!J756","v":"standard material"},{"$f":"'Bill of Materials'!K756","v":"physical"},0]
[{"$f":"'Bill of Materials'!E757+'Bill of Materials'!F757","v":0},{"$f":"'Bill of Materials'!M757","v":"EA"},{"$f":"'Bill of Materials'!G757","v":"Manual Crimp Tool - Crimps PANDUIT® #8 - #2 AWG non-insulated tubular terminals (S series), #8 - #1 AWG copper lugs and splices, #6 - #4 AWG aluminum lugs and splices, and CTAPF copper taps for #14 - #3 AWG. Includes 5 position, color coded rotating die. "},{"$f":"'Bill of Materials'!L757","v":"OZ Gedney"},{"$f":"'Bill of Materials'!N757","v":177.01},{"$f":"'Bill of Materials'!P757","v":"DWC"},{"$f":"'Bill of Materials'!C757","v":"INFO-8658"},{"$f":"'Bill of Materials'!H757","v":"CT-1700"},null,null,null,0,{"$f":"'Bill of Materials'!J757","v":"standard material"},{"$f":"'Bill of Materials'!K757","v":"physical"},0]
[{"$f":"'Bill of Materials'!E759+'Bill of Materials'!F759","v":0},{"$f":"'Bill of Materials'!M759","v":"EA"},{"$f":"'Bill of Materials'!G759","v":"CIRCUIT BREAKER, 20AMP, 120V, 1 POLE"},{"$f":"'Bill of Materials'!L759","v":"Altech Corp."},{"$f":"'Bill of Materials'!N759","v":35.44},{"$f":"'Bill of Materials'!P759","v":"DWC"},{"$f":"'Bill of Materials'!C759","v":"0098-26G0"},{"$f":"'Bill of Materials'!H759","v":"1GU20"},null,null,null,0,{"$f":"'Bill of Materials'!J759","v":"standard material"},{"$f":"'Bill of Materials'!K759","v":"physical"},0]
[{"$f":"'Bill of Materials'!E760+'Bill of Materials'!F760","v":0},{"$f":"'Bill of Materials'!M760","v":"EA"},{"$f":"'Bill of Materials'!G760","v":"QUICK DISCONNECT SWITCH, (FOR EJB BOX)"},{"$f":"'Bill of Materials'!L760","v":"DWC"},{"$f":"'Bill of Materials'!N760","v":151.37},{"$f":"'Bill of Materials'!P760","v":"DWC"},{"$f":"'Bill of Materials'!C760","v":"0119-C5M0"},{"$f":"'Bill of Materials'!H760","v":"H28421"},null,null,null,0,{"$f":"'Bill of Materials'!J760","v":"standard material"},{"$f":"'Bill of Materials'!K760","v":"physical"},0]
[{"$f":"'Bill of Materials'!E761+'Bill of Materials'!F761","v":0},{"$f":"'Bill of Materials'!M761","v":"EA"},{"$f":"'Bill of Materials'!G761","v":"1RU Rack-Mounted 20A, 125VAC Breaker Horiz. Power Strip, Six (6) Rear Facing Receptacles, WITH On/Off Switch, 15' Power Cord-Straight Plug"},{"$f":"'Bill of Materials'!L761","v":"Hammond"},{"$f":"'Bill of Materials'!N761","v":39.380000000000003},{"$f":"'Bill of Materials'!P761","v":"DWC"},{"$f":"'Bill of Materials'!C761","v":"0628-092M"},{"$f":"'Bill of Materials'!H761","v":"1589H6G1BKRR"},null,null,null,0,{"$f":"'Bill of Materials'!J761","v":"standard material"},{"$f":"'Bill of Materials'!K761","v":"physical"},0]
[{"$f":"'Bill of Materials'!E762+'Bill of Materials'!F762","v":0},{"$f":"'Bill of Materials'!M762","v":"EA"},{"$f":"'Bill of Materials'!G762","v":"UCE Comm. Power Distribution Unit (PDU) Version 1"},{"$f":"'Bill of Materials'!L762","v":"DWC"},{"$f":"'Bill of Materials'!N762","v":661.44},{"$f":"'Bill of Materials'!P762","v":"DWC"},{"$f":"'Bill of Materials'!C762","v":"0886-02N6"},{"$f":"'Bill of Materials'!H762","v":"UCE-PDU-V1"},null,null,null,0,{"$f":"'Bill of Materials'!J762","v":"standard material"},{"$f":"'Bill of Materials'!K762","v":"physical"},0]
[{"$f":"'Bill of Materials'!E763+'Bill of Materials'!F763","v":0},{"$f":"'Bill of Materials'!M763","v":"EA"},{"$f":"'Bill of Materials'!G763","v":"Wall/Panel-Mounted 20A, 125VAC Breaker Horiz. Power Strip, Six (6) Right Angled Outlets, WITHOUT On/Off Switch, 6' Power Cord"},{"$f":"'Bill of Materials'!L763","v":"Hammond"},{"$f":"'Bill of Materials'!N763","v":31.6},{"$f":"'Bill of Materials'!P763","v":"DWC"},{"$f":"'Bill of Materials'!C763","v":"10013"},{"$f":"'Bill of Materials'!H763","v":"1584T6A1RA"},null,null,null,0,{"$f":"'Bill of Materials'!J763","v":"standard material"},{"$f":"'Bill of Materials'!K763","v":"physical"},0]
[{"$f":"'Bill of Materials'!E764+'Bill of Materials'!F764","v":0},{"$f":"'Bill of Materials'!M764","v":"EA"},{"$f":"'Bill of Materials'!G764","v":"Wall/Panel-Mounted 20A, 125VAC Breaker Horiz. Power Strip, Six (6) Standard Position Outlets, WITHOUT On/Off Switch, 6' Power Cord"},{"$f":"'Bill of Materials'!L764","v":"Hammond"},{"$f":"'Bill of Materials'!N764","v":43.4},{"$f":"'Bill of Materials'!P764","v":"DWC"},{"$f":"'Bill of Materials'!C764","v":"10014"},{"$f":"'Bill of Materials'!H764","v":"1589T6F1"},null,null,null,0,{"$f":"'Bill of Materials'!J764","v":"standard material"},{"$f":"'Bill of Materials'!K764","v":"physical"},0]
[{"$f":"'Bill of Materials'!E765+'Bill of Materials'!F765","v":0},{"$f":"'Bill of Materials'!M765","v":"EA"},{"$f":"'Bill of Materials'!G765","v":"1RU Rack-Mounted 20A, 125VAC Breaker Horiz. Power Strip, Six (6) Front Facing Receptacles, WITHOUT On/Off Switch, 6' Power Cord-Straight Plug"},{"$f":"'Bill of Materials'!L765","v":"Hammond"},{"$f":"'Bill of Materials'!N765","v":41.1},{"$f":"'Bill of Materials'!P765","v":"DWC"},{"$f":"'Bill of Materials'!C765","v":"10015"},{"$f":"'Bill of Materials'!H765","v":"1589T6F1BKRF"},null,null,null,0,{"$f":"'Bill of Materials'!J765","v":"standard material"},{"$f":"'Bill of Materials'!K765","v":"physical"},0]
[{"$f":"'Bill of Materials'!E766+'Bill of Materials'!F766","v":0},{"$f":"'Bill of Materials'!M766","v":"EA"},{"$f":"'Bill of Materials'!G766","v":"1RU Rack-Mounted 20A, 125VAC Breaker Horiz. Power Strip, Six (6) Rear Facing Receptacles, WITHOUT On/Off Switch, 6' Power Cord-Straight Plug"},{"$f":"'Bill of Materials'!L766","v":"Hammond"},{"$f":"'Bill of Materials'!N766","v":41.1},{"$f":"'Bill of Materials'!P766","v":"DWC"},{"$f":"'Bill of Materials'!C766","v":"10016"},{"$f":"'Bill of Materials'!H766","v":"1589T6F1BKRR"},null,null,null,0,{"$f":"'Bill of Materials'!J766","v":"standard material"},{"$f":"'Bill of Materials'!K766","v":"physical"},0]
[{"$f":"'Bill of Materials'!E767+'Bill of Materials'!F767","v":0},{"$f":"'Bill of Materials'!M767","v":"EA"},{"$f":"'Bill of Materials'!G767","v":"1RU Rack-Mounted 20A, 125VAC Breaker Horiz. Power Strip, Six (6) Front Facing Receptacles, WITHOUT On/Off Switch, 15' Power Cord-Straight Plug"},{"$f":"'Bill of Materials'!L767","v":"Hammond"},{"$f":"'Bill of Materials'!N767","v":45.68},{"$f":"'Bill of Materials'!P767","v":"DWC"},{"$f":"'Bill of Materials'!C767","v":"10017"},{"$f":"'Bill of Materials'!H767","v":"1589T6G1BKRF"},null,null,null,{"$f":"E790*A790","v":0},{"$f":"'Bill of Materials'!J767","v":"standard material"},{"$f":"'Bill of Materials'!K767","v":"physical"},{"$f":"IF(A790>0,1,0)","v":0}]
[{"$f":"'Bill of Materials'!E768+'Bill of Materials'!F768","v":0},{"$f":"'Bill of Materials'!M768","v":"EA"},{"$f":"'Bill of Materials'!G768","v":"1RU Rack-Mounted 20A, 125VAC Breaker Horiz. Power Strip, Six (6) Rear Facing Receptacles, WITHOUT On/Off Switch, 15' Power Cord-Straight Plug"},{"$f":"'Bill of Materials'!L768","v":"Hammond"},{"$f":"'Bill of Materials'!N768","v":45.68},{"$f":"'Bill of Materials'!P768","v":"DWC"},{"$f":"'Bill of Materials'!C768","v":"10018"},{"$f":"'Bill of Materials'!H768","v":"1589T6G1BKRR"},null,null,null,0,{"$f":"'Bill of Materials'!J768","v":"standard material"},{"$f":"'Bill of Materials'!K768","v":"physical"},0]
[{"$f":"'Bill of Materials'!E769+'Bill of Materials'!F769","v":0},{"$f":"'Bill of Materials'!M769","v":"EA"},{"$f":"'Bill of Materials'!G769","v":"6-20P 20AMP 250V Single Plug"},{"$f":"'Bill of Materials'!L769","v":"DWC"},{"$f":"'Bill of Materials'!N769","v":33.9},{"$f":"'Bill of Materials'!P769","v":"DWC"},{"$f":"'Bill of Materials'!C769","v":"10054"},{"$f":"'Bill of Materials'!H769","v":"6-20P"},null,null,null,0,{"$f":"'Bill of Materials'!J769","v":"standard material"},{"$f":"'Bill of Materials'!K769","v":"physical"},0]
[{"$f":"'Bill of Materials'!E770+'Bill of Materials'!F770","v":0},{"$f":"'Bill of Materials'!M770","v":"EA"},{"$f":"'Bill of Materials'!G770","v":"6-20R 20AMP 250V Simplex Receptacle"},{"$f":"'Bill of Materials'!L770","v":"DWC"},{"$f":"'Bill of Materials'!N770","v":16.05},{"$f":"'Bill of Materials'!P770","v":"DWC"},{"$f":"'Bill of Materials'!C770","v":"10055"},{"$f":"'Bill of Materials'!H770","v":"6-20R"},null,null,null,0,{"$f":"'Bill of Materials'!J770","v":"standard material"},{"$f":"'Bill of Materials'!K770","v":"physical"},0]
[{"$f":"'Bill of Materials'!E771+'Bill of Materials'!F771","v":0},{"$f":"'Bill of Materials'!M771","v":"EA"},{"$f":"'Bill of Materials'!G771","v":"6-30P 30AMP 250V Single Plug"},{"$f":"'Bill of Materials'!L771","v":"DWC"},{"$f":"'Bill of Materials'!N771","v":39.299999999999997},{"$f":"'Bill of Materials'!P771","v":"DWC"},{"$f":"'Bill of Materials'!C771","v":"10056"},{"$f":"'Bill of Materials'!H771","v":"6-30P"},null,null,null,0,{"$f":"'Bill of Materials'!J771","v":"standard material"},{"$f":"'Bill of Materials'!K771","v":"physical"},0]
[{"$f":"'Bill of Materials'!E772+'Bill of Materials'!F772","v":0},{"$f":"'Bill of Materials'!M772","v":"EA"},{"$f":"'Bill of Materials'!G772","v":"6-30R 30AMP 250V Simplex Receptacle"},{"$f":"'Bill of Materials'!L772","v":"DWC"},{"$f":"'Bill of Materials'!N772","v":20.6},{"$f":"'Bill of Materials'!P772","v":"DWC"},{"$f":"'Bill of Materials'!C772","v":"10057"},{"$f":"'Bill of Materials'!H772","v":"6-30R"},null,null,null,0,{"$f":"'Bill of Materials'!J772","v":"standard material"},{"$f":"'Bill of Materials'!K772","v":"physical"},0]
[{"$f":"'Bill of Materials'!E773+'Bill of Materials'!F773","v":0},{"$f":"'Bill of Materials'!M773","v":"EA"},{"$f":"'Bill of Materials'!G773","v":"Mount and connect  air conditioner---------Labor Only"},{"$f":"'Bill of Materials'!L773","v":"DWC"},{"$f":"'Bill of Materials'!N773","v":106.2},{"$f":"'Bill of Materials'!P773","v":"DWC"},{"$f":"'Bill of Materials'!C773","v":"10067"},{"$f":"'Bill of Materials'!H773","v":"AC-L"},null,null,null,0,{"$f":"'Bill of Materials'!J773","v":"standard material"},{"$f":"'Bill of Materials'!K773","v":"physical"},0]
[{"$f":"'Bill of Materials'!E774+'Bill of Materials'!F774","v":0},{"$f":"'Bill of Materials'!M774","v":"EA"},{"$f":"'Bill of Materials'!G774","v":"BR20 20AMP Duplex Receptacle (Brown)"},{"$f":"'Bill of Materials'!L774","v":"DWC"},{"$f":"'Bill of Materials'!N774","v":3.95},{"$f":"'Bill of Materials'!P774","v":"DWC"},{"$f":"'Bill of Materials'!C774","v":"10079"},{"$f":"'Bill of Materials'!H774","v":"BR20"},null,null,null,0,{"$f":"'Bill of Materials'!J774","v":"standard material"},{"$f":"'Bill of Materials'!K774","v":"physical"},0]
[{"$f":"'Bill of Materials'!E775+'Bill of Materials'!F775","v":0},{"$f":"'Bill of Materials'!M775","v":"EA"},{"$f":"'Bill of Materials'!G775","v":"Mount and connect PDU - 10 KVA-------Labor Only"},{"$f":"'Bill of Materials'!L775","v":"DWC"},{"$f":"'Bill of Materials'!N775","v":335.7},{"$f":"'Bill of Materials'!P775","v":"DWC"},{"$f":"'Bill of Materials'!C775","v":"10082"},{"$f":"'Bill of Materials'!H775","v":"CCI-PP-480-10K-0K-L"},null,null,null,0,{"$f":"'Bill of Materials'!J775","v":"standard material"},{"$f":"'Bill of Materials'!K775","v":"physical"},0]
[{"$f":"'Bill of Materials'!E776+'Bill of Materials'!F776","v":0},{"$f":"'Bill of Materials'!M776","v":"EA"},{"$f":"'Bill of Materials'!G776","v":"L6-20P 20AMP Twist Lock Single Plug"},{"$f":"'Bill of Materials'!L776","v":"DWC"},{"$f":"'Bill of Materials'!N776","v":13.75},{"$f":"'Bill of Materials'!P776","v":"DWC"},{"$f":"'Bill of Materials'!C776","v":"10122"},{"$f":"'Bill of Materials'!H776","v":"L6-20P"},null,null,null,0,{"$f":"'Bill of Materials'!J776","v":"standard material"},{"$f":"'Bill of Materials'!K776","v":"physical"},0]
[{"$f":"'Bill of Materials'!E777+'Bill of Materials'!F777","v":0},{"$f":"'Bill of Materials'!M777","v":"EA"},{"$f":"'Bill of Materials'!G777","v":"L6-20R 20AMP Twist Lock Simplex Receptacle"},{"$f":"'Bill of Materials'!L777","v":"DWC"},{"$f":"'Bill of Materials'!N777","v":16.2},{"$f":"'Bill of Materials'!P777","v":"DWC"},{"$f":"'Bill of Materials'!C777","v":"10123"},{"$f":"'Bill of Materials'!H777","v":"L6-20R"},null,null,null,0,{"$f":"'Bill of Materials'!J777","v":"standard material"},{"$f":"'Bill of Materials'!K777","v":"physical"},0]
[{"$f":"'Bill of Materials'!E778+'Bill of Materials'!F778","v":0},{"$f":"'Bill of Materials'!M778","v":"EA"},{"$f":"'Bill of Materials'!G778","v":"L6-30P 30AMP Twist Lock Single Plug"},{"$f":"'Bill of Materials'!L778","v":"DWC"},{"$f":"'Bill of Materials'!N778","v":20.8},{"$f":"'Bill of Materials'!P778","v":"DWC"},{"$f":"'Bill of Materials'!C778","v":"10124"},{"$f":"'Bill of Materials'!H778","v":"L6-30P"},null,null,null,0,{"$f":"'Bill of Materials'!J778","v":"standard material"},{"$f":"'Bill of Materials'!K778","v":"physical"},0]
[{"$f":"'Bill of Materials'!E779+'Bill of Materials'!F779","v":0},{"$f":"'Bill of Materials'!M779","v":"EA"},{"$f":"'Bill of Materials'!G779","v":"L6-30R 30AMP Twist Lock Simplex Receptacle"},{"$f":"'Bill of Materials'!L779","v":"DWC"},{"$f":"'Bill of Materials'!N779","v":26.5},{"$f":"'Bill of Materials'!P779","v":"DWC"},{"$f":"'Bill of Materials'!C779","v":"10125"},{"$f":"'Bill of Materials'!H779","v":"L6-30R"},null,null,null,0,{"$f":"'Bill of Materials'!J779","v":"standard material"},{"$f":"'Bill of Materials'!K779","v":"physical"},0]
[{"$f":"'Bill of Materials'!E780+'Bill of Materials'!F780","v":0},{"$f":"'Bill of Materials'!M780","v":"EA"},{"$f":"'Bill of Materials'!G780","v":"Label Print Labor (Each project will need 1 L-P-L Labor for Power Cords)"},{"$f":"'Bill of Materials'!L780","v":"DWC"},{"$f":"'Bill of Materials'!N780","v":28.35},{"$f":"'Bill of Materials'!P780","v":"DWC"},{"$f":"'Bill of Materials'!C780","v":"10127"},{"$f":"'Bill of Materials'!H780","v":"L-P-L"},null,null,null,0,{"$f":"'Bill of Materials'!J780","v":"standard material"},{"$f":"'Bill of Materials'!K780","v":"physical"},0]
[{"$f":"'Bill of Materials'!E781+'Bill of Materials'!F781","v":0},{"$f":"'Bill of Materials'!M781","v":"EA"},{"$f":"'Bill of Materials'!G781","v":"Mount and connect NetBotz in CPTA cabinet--------Labor Only"},{"$f":"'Bill of Materials'!L781","v":"DWC"},{"$f":"'Bill of Materials'!N781","v":56.7},{"$f":"'Bill of Materials'!P781","v":"DWC"},{"$f":"'Bill of Materials'!C781","v":"10136"},{"$f":"'Bill of Materials'!H781","v":"NBRK0400e-L"},null,null,null,0,{"$f":"'Bill of Materials'!J781","v":"standard material"},{"$f":"'Bill of Materials'!K781","v":"physical"},0]
[{"$f":"'Bill of Materials'!E782+'Bill of Materials'!F782","v":0},{"$f":"'Bill of Materials'!M782","v":"EA"},{"$f":"'Bill of Materials'!G782","v":"Configure NetBotz - Labor Only"},{"$f":"'Bill of Materials'!L782","v":"DWC"},{"$f":"'Bill of Materials'!N782","v":90},{"$f":"'Bill of Materials'!P782","v":"DWC"},{"$f":"'Bill of Materials'!C782","v":"10137"},{"$f":"'Bill of Materials'!H782","v":"NETBOTZ-C-L"},null,null,null,0,{"$f":"'Bill of Materials'!J782","v":"standard material"},{"$f":"'Bill of Materials'!K782","v":"physical"},0]
[{"$f":"'Bill of Materials'!E783+'Bill of Materials'!F783","v":0},{"$f":"'Bill of Materials'!M783","v":"EA"},{"$f":"'Bill of Materials'!G783","v":"Mount and connect power strip----------Labor Only"},{"$f":"'Bill of Materials'!L783","v":"DWC"},{"$f":"'Bill of Materials'!N783","v":38.700000000000003},{"$f":"'Bill of Materials'!P783","v":"DWC"},{"$f":"'Bill of Materials'!C783","v":"10141"},{"$f":"'Bill of Materials'!H783","v":"Power Strip-L"},null,null,null,0,{"$f":"'Bill of Materials'!J783","v":"standard material"},{"$f":"'Bill of Materials'!K783","v":"physical"},0]
[{"$f":"'Bill of Materials'!E784+'Bill of Materials'!F784","v":0},{"$f":"'Bill of Materials'!M784","v":"EA"},{"$f":"'Bill of Materials'!G784","v":"6-15R 15AMP 250V Simplex Receptacle"},{"$f":"'Bill of Materials'!L784","v":"DWC"},{"$f":"'Bill of Materials'!N784","v":16},{"$f":"'Bill of Materials'!P784","v":"DWC"},{"$f":"'Bill of Materials'!C784","v":"10269"},{"$f":"'Bill of Materials'!H784","v":"6-15R"},null,null,null,0,{"$f":"'Bill of Materials'!J784","v":"standard material"},{"$f":"'Bill of Materials'!K784","v":"physical"},0]
[{"$f":"'Bill of Materials'!E785+'Bill of Materials'!F785","v":0},{"$f":"'Bill of Materials'!M785","v":"EA"},{"$f":"'Bill of Materials'!G785","v":"6-15P 15AMP 250V Single Plug"},{"$f":"'Bill of Materials'!L785","v":"DWC"},{"$f":"'Bill of Materials'!N785","v":15},{"$f":"'Bill of Materials'!P785","v":"DWC"},{"$f":"'Bill of Materials'!C785","v":"10270"},{"$f":"'Bill of Materials'!H785","v":"6-15P"},null,null,null,0,{"$f":"'Bill of Materials'!J785","v":"standard material"},{"$f":"'Bill of Materials'!K785","v":"physical"},0]
[{"$f":"'Bill of Materials'!E786+'Bill of Materials'!F786","v":0},{"$f":"'Bill of Materials'!M786","v":"EA"},{"$f":"'Bill of Materials'!G786","v":"Rack Mounted Powerbar 1RU, 120V/15A, (2) Front and (4) Rear Outlets, Straight 15ft. Cord, With On/Off Switch"},{"$f":"'Bill of Materials'!L786","v":"Hammond"},{"$f":"'Bill of Materials'!N786","v":49.2},{"$f":"'Bill of Materials'!P786","v":"DWC"},{"$f":"'Bill of Materials'!C786","v":"10271"},{"$f":"'Bill of Materials'!H786","v":"1583H6B1BKX"},null,null,null,0,{"$f":"'Bill of Materials'!J786","v":"standard material"},{"$f":"'Bill of Materials'!K786","v":"physical"},0]
[{"$f":"'Bill of Materials'!E787+'Bill of Materials'!F787","v":0},{"$f":"'Bill of Materials'!M787","v":"EA"},{"$f":"'Bill of Materials'!G787","v":"Power Splitter/Y Cord, 5-15P to 2x 5-15R, 10A-125V, 12\" Long"},{"$f":"'Bill of Materials'!L787","v":"Infinite Cable"},{"$f":"'Bill of Materials'!N787","v":28.2},{"$f":"'Bill of Materials'!P787","v":"DWC"},{"$f":"'Bill of Materials'!C787","v":"10287"},{"$f":"'Bill of Materials'!H787","v":"PW-210B-01"},null,null,null,0,{"$f":"'Bill of Materials'!J787","v":"standard material"},{"$f":"'Bill of Materials'!K787","v":"physical"},0]
[{"$f":"'Bill of Materials'!E788+'Bill of Materials'!F788","v":0},{"$f":"'Bill of Materials'!M788","v":"EA"},{"$f":"'Bill of Materials'!G788","v":"1RU Rack-Mounted 20A, 125VAC Breaker Horiz. Power Strip, Six (6) Rear Facing Receptacles, WITH On/Off Switch, 6' Power Cord-Straight Plug"},{"$f":"'Bill of Materials'!L788","v":"Hammond"},{"$f":"'Bill of Materials'!N788","v":35.44},{"$f":"'Bill of Materials'!P788","v":"DWC"},{"$f":"'Bill of Materials'!C788","v":"INFO-2224"},{"$f":"'Bill of Materials'!H788","v":"1589H6F1BKRR"},null,null,null,0,{"$f":"'Bill of Materials'!J788","v":"standard material"},{"$f":"'Bill of Materials'!K788","v":"physical"},0]
[{"$f":"'Bill of Materials'!E789+'Bill of Materials'!F789","v":0},{"$f":"'Bill of Materials'!M789","v":"EA"},{"$f":"'Bill of Materials'!G789","v":"Receptacle panel with 3 (20 Amp) Twist Locks and 1 (20 Amp) Duplex, Front to Rear Rail Mounted "},{"$f":"'Bill of Materials'!L789","v":"Hammond"},{"$f":"'Bill of Materials'!N789","v":195.97},{"$f":"'Bill of Materials'!P789","v":"DWC"},{"$f":"'Bill of Materials'!C789","v":"INFO-2228"},{"$f":"'Bill of Materials'!H789","v":"SR0400041"},null,null,null,0,{"$f":"'Bill of Materials'!J789","v":"standard material"},{"$f":"'Bill of Materials'!K789","v":"physical"},0]
[{"$f":"'Bill of Materials'!E790+'Bill of Materials'!F790","v":0},{"$f":"'Bill of Materials'!M790","v":"EA"},{"$f":"'Bill of Materials'!G790","v":"Filter Fan, NEMA 12, 94.2CFM Free Flow, 115V "},{"$f":"'Bill of Materials'!L790","v":"Hammond"},{"$f":"'Bill of Materials'!N790","v":166.18},{"$f":"'Bill of Materials'!P790","v":"DWC"},{"$f":"'Bill of Materials'!C790","v":"INFO-4604"},{"$f":"'Bill of Materials'!H790","v":"PF3000"},null,null,null,0,{"$f":"'Bill of Materials'!J790","v":"standard material"},{"$f":"'Bill of Materials'!K790","v":"physical"},0]
[{"$f":"'Bill of Materials'!E791+'Bill of Materials'!F791","v":0},{"$f":"'Bill of Materials'!M791","v":"EA"},{"$f":"'Bill of Materials'!G791","v":"Sealing gasket for PF3000 filter fan"},{"$f":"'Bill of Materials'!L791","v":"Hammond"},{"$f":"'Bill of Materials'!N791","v":5.49},{"$f":"'Bill of Materials'!P791","v":"DWC"},{"$f":"'Bill of Materials'!C791","v":"INFO-4605"},{"$f":"'Bill of Materials'!H791","v":"PFG3000"},null,null,null,0,{"$f":"'Bill of Materials'!J791","v":"standard material"},{"$f":"'Bill of Materials'!K791","v":"physical"},0]
[{"$f":"'Bill of Materials'!E792+'Bill of Materials'!F792","v":0},{"$f":"'Bill of Materials'!M792","v":"EA"},{"$f":"'Bill of Materials'!G792","v":"Standard replacement filter for PF3000 outlet filter, 5/Pkg."},{"$f":"'Bill of Materials'!L792","v":"Hammond"},{"$f":"'Bill of Materials'!N792","v":9.1},{"$f":"'Bill of Materials'!P792","v":"DWC"},{"$f":"'Bill of Materials'!C792","v":"INFO-4606"},{"$f":"'Bill of Materials'!H792","v":"PFF3000"},null,null,null,0,{"$f":"'Bill of Materials'!J792","v":"standard material"},{"$f":"'Bill of Materials'!K792","v":"physical"},0]
[{"$f":"'Bill of Materials'!E793+'Bill of Materials'!F793","v":0},{"$f":"'Bill of Materials'!M793","v":"EA"},{"$f":"'Bill of Materials'!G793","v":"Outlet filter"},{"$f":"'Bill of Materials'!L793","v":"Hammond"},{"$f":"'Bill of Materials'!N793","v":40.29},{"$f":"'Bill of Materials'!P793","v":"DWC"},{"$f":"'Bill of Materials'!C793","v":"INFO-4607"},{"$f":"'Bill of Materials'!H793","v":"PFA3000"},null,null,null,0,{"$f":"'Bill of Materials'!J793","v":"standard material"},{"$f":"'Bill of Materials'!K793","v":"physical"},0]
[{"$f":"'Bill of Materials'!E794+'Bill of Materials'!F794","v":0},{"$f":"'Bill of Materials'!M794","v":"EA"},{"$f":"'Bill of Materials'!G794","v":"Disposable filter for top mount 2600 BTU air conditioner"},{"$f":"'Bill of Materials'!L794","v":"McLean"},{"$f":"'Bill of Materials'!N794","v":7.43},{"$f":"'Bill of Materials'!P794","v":"DWC"},{"$f":"'Bill of Materials'!C794","v":"INFO-4608"},{"$f":"'Bill of Materials'!H794","v":"10-1000-21"},null,null,null,0,{"$f":"'Bill of Materials'!J794","v":"standard material"},{"$f":"'Bill of Materials'!K794","v":"physical"},0]
[{"$f":"'Bill of Materials'!E795+'Bill of Materials'!F795","v":0},{"$f":"'Bill of Materials'!M795","v":"EA"},{"$f":"'Bill of Materials'!G795","v":"Disposable filter for side mount 3000 BTU (INFO-4602) or 1000 BTU (INFO-4610) air conditioners"},{"$f":"'Bill of Materials'!L795","v":"McLean"},{"$f":"'Bill of Materials'!N795","v":7.43},{"$f":"'Bill of Materials'!P795","v":"DWC"},{"$f":"'Bill of Materials'!C795","v":"INFO-4609"},{"$f":"'Bill of Materials'!H795","v":"10-1000-17"},null,null,null,0,{"$f":"'Bill of Materials'!J795","v":"standard material"},{"$f":"'Bill of Materials'!K795","v":"physical"},0]
[{"$f":"'Bill of Materials'!E796+'Bill of Materials'!F796","v":0},{"$f":"'Bill of Materials'!M796","v":"EA"},{"$f":"'Bill of Materials'!G796","v":"Side Mount Cabinet Air Conditioner - 1000 BTU, NEMA 12 silicon and CFC free Factory installed thermostat inside unit"},{"$f":"'Bill of Materials'!L796","v":"McLean"},{"$f":"'Bill of Materials'!N796","v":1342.7},{"$f":"'Bill of Materials'!P796","v":"DWC"},{"$f":"'Bill of Materials'!C796","v":"INFO-4644"},{"$f":"'Bill of Materials'!H796","v":"M13-0116-G1014"},null,null,null,0,{"$f":"'Bill of Materials'!J796","v":"standard material"},{"$f":"'Bill of Materials'!K796","v":"physical"},0]
[{"$f":"'Bill of Materials'!E797+'Bill of Materials'!F797","v":0},{"$f":"'Bill of Materials'!M797","v":"EA"},{"$f":"'Bill of Materials'!G797","v":"Surge Suppression NEMA 5-20 Duplex Receptacle"},{"$f":"'Bill of Materials'!L797","v":"Leviton"},{"$f":"'Bill of Materials'!N797","v":40.590000000000003},{"$f":"'Bill of Materials'!P797","v":"DWC"},{"$f":"'Bill of Materials'!C797","v":"INFO-4649"},{"$f":"'Bill of Materials'!H797","v":"5380-I"},null,null,null,0,{"$f":"'Bill of Materials'!J797","v":"standard material"},{"$f":"'Bill of Materials'!K797","v":"physical"},0]
[{"$f":"'Bill of Materials'!E798+'Bill of Materials'!F798","v":0},{"$f":"'Bill of Materials'!M798","v":"EA"},{"$f":"'Bill of Materials'!G798","v":"Surge Suppression, 1RU Rack-Mounted 20A, 125VAC Breaker Horiz. Power Strip, (2) N5-15R (front) & (10) N5-20R (rear), WITH Guarded On/Off Switch, 15' Power Cord-Straight Plug"},{"$f":"'Bill of Materials'!L798","v":"Tripp-Lite"},{"$f":"'Bill of Materials'!N798","v":124.8},{"$f":"'Bill of Materials'!P798","v":"DWC"},{"$f":"'Bill of Materials'!C798","v":"INFO-4650"},{"$f":"'Bill of Materials'!H798","v":"IBAR 12-20 ULTRA"},null,null,null,0,{"$f":"'Bill of Materials'!J798","v":"standard material"},{"$f":"'Bill of Materials'!K798","v":"physical"},0]
[{"$f":"'Bill of Materials'!E799+'Bill of Materials'!F799","v":0},{"$f":"'Bill of Materials'!M799","v":"EA"},{"$f":"'Bill of Materials'!G799","v":"Plant floor cabinet vertical 10 plug power strip with 6' cord.  Includes mounting clips.  No on/off switch."},{"$f":"'Bill of Materials'!L799","v":"Hammond"},{"$f":"'Bill of Materials'!N799","v":47.7},{"$f":"'Bill of Materials'!P799","v":"DWC"},{"$f":"'Bill of Materials'!C799","v":"INFO-4652"},{"$f":"'Bill of Materials'!H799","v":"1587T10A1"},null,null,null,0,{"$f":"'Bill of Materials'!J799","v":"standard material"},{"$f":"'Bill of Materials'!K799","v":"physical"},0]
[{"$f":"'Bill of Materials'!E800+'Bill of Materials'!F800","v":0},{"$f":"'Bill of Materials'!M800","v":"EA"},{"$f":"'Bill of Materials'!G800","v":"Power Distribution Box 480VAC to 120VAC,10.0 KVA clean power transformer (includes fuses and circuit breakers).  Bus Plug NOT included. (INFO# 4654)  "},{"$f":"'Bill of Materials'!L800","v":"ONEAC"},{"$f":"'Bill of Materials'!N800","v":4348.8500000000004},{"$f":"'Bill of Materials'!P800","v":"DWC"},{"$f":"'Bill of Materials'!C800","v":"INFO-4654"},{"$f":"'Bill of Materials'!H800","v":"CCI-PP-480-10K-0K"},null,null,null,0,{"$f":"'Bill of Materials'!J800","v":"standard material"},{"$f":"'Bill of Materials'!K800","v":"physical"},0]
[{"$f":"'Bill of Materials'!E801+'Bill of Materials'!F801","v":0},{"$f":"'Bill of Materials'!M801","v":"EA"},{"$f":"'Bill of Materials'!G801","v":"1RU Rack-Mounted 15A, 125VAC Breaker Horiz. Power Strip, Six (6) Rear Facing Receptacles, WITH On/Off Switch, 6' Power Cord-Straight Plug"},{"$f":"'Bill of Materials'!L801","v":"Hammond"},{"$f":"'Bill of Materials'!N801","v":36.340000000000003},{"$f":"'Bill of Materials'!P801","v":"DWC"},{"$f":"'Bill of Materials'!C801","v":"INFO-4655"},{"$f":"'Bill of Materials'!H801","v":"1583H6A1BK"},null,null,null,0,{"$f":"'Bill of Materials'!J801","v":"standard material"},{"$f":"'Bill of Materials'!K801","v":"physical"},0]
[{"$f":"'Bill of Materials'!E802+'Bill of Materials'!F802","v":0},{"$f":"'Bill of Materials'!M802","v":"EA"},{"$f":"'Bill of Materials'!G802","v":"4000 BTU Air Conditioning Unit with Active Evaporator (78\" Nema 12 Cabinets)"},{"$f":"'Bill of Materials'!L802","v":"McLean"},{"$f":"'Bill of Materials'!N802","v":1531.2},{"$f":"'Bill of Materials'!P802","v":"DWC"},{"$f":"'Bill of Materials'!C802","v":"INFO-4656"},{"$f":"'Bill of Materials'!H802","v":"M33-0416-G010E"},null,null,null,0,{"$f":"'Bill of Materials'!J802","v":"standard material"},{"$f":"'Bill of Materials'!K802","v":"physical"},0]
[{"$f":"'Bill of Materials'!E803+'Bill of Materials'!F803","v":0},{"$f":"'Bill of Materials'!M803","v":"EA"},{"$f":"'Bill of Materials'!G803","v":"5-15R 15AMP Simplex Receptacle"},{"$f":"'Bill of Materials'!L803","v":"DWC"},{"$f":"'Bill of Materials'!N803","v":5.4},{"$f":"'Bill of Materials'!P803","v":"DWC"},{"$f":"'Bill of Materials'!C803","v":"INFO-8648"},{"$f":"'Bill of Materials'!H803","v":"5-15R"},null,null,null,0,{"$f":"'Bill of Materials'!J803","v":"standard material"},{"$f":"'Bill of Materials'!K803","v":"physical"},0]
[{"$f":"'Bill of Materials'!E804+'Bill of Materials'!F804","v":0},{"$f":"'Bill of Materials'!M804","v":"EA"},{"$f":"'Bill of Materials'!G804","v":"5-15P 15AMP Single Plug"},{"$f":"'Bill of Materials'!L804","v":"DWC"},{"$f":"'Bill of Materials'!N804","v":6.19},{"$f":"'Bill of Materials'!P804","v":"DWC"},{"$f":"'Bill of Materials'!C804","v":"INFO-8649"},{"$f":"'Bill of Materials'!H804","v":"5-15P"},null,null,null,0,{"$f":"'Bill of Materials'!J804","v":"standard material"},{"$f":"'Bill of Materials'!K804","v":"physical"},0]
[{"$f":"'Bill of Materials'!E805+'Bill of Materials'!F805","v":0},{"$f":"'Bill of Materials'!M805","v":"EA"},{"$f":"'Bill of Materials'!G805","v":"L5-15R 15AMP Twist Lock Simplex Receptacle"},{"$f":"'Bill of Materials'!L805","v":"DWC"},{"$f":"'Bill of Materials'!N805","v":7.97},{"$f":"'Bill of Materials'!P805","v":"DWC"},{"$f":"'Bill of Materials'!C805","v":"INFO-8650"},{"$f":"'Bill of Materials'!H805","v":"L5-15R"},null,null,null,0,{"$f":"'Bill of Materials'!J805","v":"standard material"},{"$f":"'Bill of Materials'!K805","v":"physical"},0]
[{"$f":"'Bill of Materials'!E806+'Bill of Materials'!F806","v":0},{"$f":"'Bill of Materials'!M806","v":"EA"},{"$f":"'Bill of Materials'!G806","v":"L5-15P 15AMP Twist Lock Single Plug"},{"$f":"'Bill of Materials'!L806","v":"DWC"},{"$f":"'Bill of Materials'!N806","v":5.84},{"$f":"'Bill of Materials'!P806","v":"DWC"},{"$f":"'Bill of Materials'!C806","v":"INFO-8651"},{"$f":"'Bill of Materials'!H806","v":"L5-15P"},null,null,null,0,{"$f":"'Bill of Materials'!J806","v":"standard material"},{"$f":"'Bill of Materials'!K806","v":"physical"},0]
[{"$f":"'Bill of Materials'!#REF!+'Bill of Materials'!#REF!","v":{"$error":"#REF!"}},{"$f":"'Bill of Materials'!#REF!","v":{"$error":"#REF!"}},{"$f":"'Bill of Materials'!#REF!","v":{"$error":"#REF!"}},{"$f":"'Bill of Materials'!#REF!","v":{"$error":"#REF!"}},{"$f":"'Bill of Materials'!#REF!","v":{"$error":"#REF!"}},{"$f":"'Bill of Materials'!#REF!","v":{"$error":"#REF!"}},{"$f":"'Bill of Materials'!#REF!","v":{"$error":"#REF!"}},{"$f":"'Bill of Materials'!#REF!","v":{"$error":"#REF!"}},null,null,null,{"$error":"#REF!"},{"$f":"'Bill of Materials'!#REF!","v":{"$error":"#REF!"}},{"$f":"'Bill of Materials'!#REF!","v":{"$error":"#REF!"}},{"$error":"#REF!"}]
[{"$f":"'Bill of Materials'!E807+'Bill of Materials'!F807","v":0},{"$f":"'Bill of Materials'!M807","v":"EA"},{"$f":"'Bill of Materials'!G807","v":"5-20R 20AMP Simplex Receptacle"},{"$f":"'Bill of Materials'!L807","v":"DWC"},{"$f":"'Bill of Materials'!N807","v":6.93},{"$f":"'Bill of Materials'!P807","v":"DWC"},{"$f":"'Bill of Materials'!C807","v":"INFO-8652"},{"$f":"'Bill of Materials'!H807","v":"5-20R"},null,null,null,0,{"$f":"'Bill of Materials'!J807","v":"standard material"},{"$f":"'Bill of Materials'!K807","v":"physical"},0]
[{"$f":"'Bill of Materials'!E808+'Bill of Materials'!F808","v":0},{"$f":"'Bill of Materials'!M808","v":"EA"},{"$f":"'Bill of Materials'!G808","v":"5-20P 20AMP Single Plug"},{"$f":"'Bill of Materials'!L808","v":"DWC"},{"$f":"'Bill of Materials'!N808","v":10.69},{"$f":"'Bill of Materials'!P808","v":"DWC"},{"$f":"'Bill of Materials'!C808","v":"INFO-8653"},{"$f":"'Bill of Materials'!H808","v":"5-20P"},null,null,null,0,{"$f":"'Bill of Materials'!J808","v":"standard material"},{"$f":"'Bill of Materials'!K808","v":"physical"},0]
[{"$f":"'Bill of Materials'!E809+'Bill of Materials'!F809","v":0},{"$f":"'Bill of Materials'!M809","v":"EA"},{"$f":"'Bill of Materials'!G809","v":"L5-20R 20AMP Twist Lock Simplex Receptacle"},{"$f":"'Bill of Materials'!L809","v":"DWC"},{"$f":"'Bill of Materials'!N809","v":9.26},{"$f":"'Bill of Materials'!P809","v":"DWC"},{"$f":"'Bill of Materials'!C809","v":"INFO-8654"},{"$f":"'Bill of Materials'!H809","v":"L5-20R"},null,null,null,0,{"$f":"'Bill of Materials'!J809","v":"standard material"},{"$f":"'Bill of Materials'!K809","v":"physical"},0]
[{"$f":"'Bill of Materials'!E810+'Bill of Materials'!F810","v":0},{"$f":"'Bill of Materials'!M810","v":"EA"},{"$f":"'Bill of Materials'!G810","v":"L5-20P 20AMP Twist Lock Single Plug"},{"$f":"'Bill of Materials'!L810","v":"DWC"},{"$f":"'Bill of Materials'!N810","v":10.15},{"$f":"'Bill of Materials'!P810","v":"DWC"},{"$f":"'Bill of Materials'!C810","v":"INFO-8655"},{"$f":"'Bill of Materials'!H810","v":"L5-20P"},null,null,null,0,{"$f":"'Bill of Materials'!J810","v":"standard material"},{"$f":"'Bill of Materials'!K810","v":"physical"},0]
[{"$f":"'Bill of Materials'!E812+'Bill of Materials'!F812","v":0},{"$f":"'Bill of Materials'!M812","v":"EA"},{"$f":"'Bill of Materials'!G812","v":"UPS Unit Rear of Chassis Support Bracket w/Leveling Feet"},{"$f":"'Bill of Materials'!L812","v":"DWC"},{"$f":"'Bill of Materials'!N812","v":123.75},{"$f":"'Bill of Materials'!P812","v":"DWC"},{"$f":"'Bill of Materials'!C812","v":"0094-49R3"},{"$f":"'Bill of Materials'!H812","v":"UPS-SUPP-BRKT"},null,null,null,0,{"$f":"'Bill of Materials'!J812","v":"standard material"},{"$f":"'Bill of Materials'!K812","v":"physical"},0]
[{"$f":"'Bill of Materials'!E813+'Bill of Materials'!F813","v":0},{"$f":"'Bill of Materials'!M813","v":"EA"},{"$f":"'Bill of Materials'!G813","v":"APC Rack Automatic Transfer Switch , Input: 100V/120V, Input Connections: (2) 5-15P , Cord Length: 8 feet, Output: 100V/120V , Output Connections: (8) 5-15R, 1RU\r\n"},{"$f":"'Bill of Materials'!L813","v":"APC"},{"$f":"'Bill of Materials'!N813","v":568.65},{"$f":"'Bill of Materials'!P813","v":"DWC"},{"$f":"'Bill of Materials'!C813","v":"10071"},{"$f":"'Bill of Materials'!H813","v":"AP7750"},null,null,null,0,{"$f":"'Bill of Materials'!J813","v":"standard material"},{"$f":"'Bill of Materials'!K813","v":"physical"},0]
[{"$f":"'Bill of Materials'!E814+'Bill of Materials'!F814","v":0},{"$f":"'Bill of Materials'!M814","v":"EA"},{"$f":"'Bill of Materials'!G814","v":"Rack Automatic Transfer Switch ATS, 120V, 20A, L5-20 IN, (10) 5-20R OUT, 1RU"},{"$f":"'Bill of Materials'!L814","v":"APC"},{"$f":"'Bill of Materials'!N814","v":737.95},{"$f":"'Bill of Materials'!P814","v":"DWC"},{"$f":"'Bill of Materials'!C814","v":"10072"},{"$f":"'Bill of Materials'!H814","v":"AP7752"},null,null,null,0,{"$f":"'Bill of Materials'!J814","v":"standard material"},{"$f":"'Bill of Materials'!K814","v":"physical"},0]
[{"$f":"'Bill of Materials'!E815+'Bill of Materials'!F815","v":0},{"$f":"'Bill of Materials'!M815","v":"EA"},{"$f":"'Bill of Materials'!G815","v":"APC Smart-UPS RT 208-120V Step-Down Transformer, 2RU"},{"$f":"'Bill of Materials'!L815","v":"APC"},{"$f":"'Bill of Materials'!N815","v":536.4},{"$f":"'Bill of Materials'!P815","v":"DWC"},{"$f":"'Bill of Materials'!C815","v":"10073"},{"$f":"'Bill of Materials'!H815","v":"AP9626"},null,null,null,0,{"$f":"'Bill of Materials'!J815","v":"standard material"},{"$f":"'Bill of Materials'!K815","v":"physical"},0]
[{"$f":"'Bill of Materials'!E816+'Bill of Materials'!F816","v":0},{"$f":"'Bill of Materials'!M816","v":"EA"},{"$f":"'Bill of Materials'!G816","v":"APC Backplate kit with (1) L5-30R and (6) 5-15R for SUA 2200 and 3000VA 3U/5U Models "},{"$f":"'Bill of Materials'!L816","v":"APC"},{"$f":"'Bill of Materials'!N816","v":82.1},{"$f":"'Bill of Materials'!P816","v":"DWC"},{"$f":"'Bill of Materials'!C816","v":"10163"},{"$f":"'Bill of Materials'!H816","v":"SUA027RM"},null,null,null,0,{"$f":"'Bill of Materials'!J816","v":"standard material"},{"$f":"'Bill of Materials'!K816","v":"physical"},0]
[{"$f":"'Bill of Materials'!#REF!+'Bill of Materials'!#REF!","v":{"$error":"#REF!"}},{"$f":"'Bill of Materials'!#REF!","v":{"$error":"#REF!"}},{"$f":"'Bill of Materials'!#REF!","v":{"$error":"#REF!"}},{"$f":"'Bill of Materials'!#REF!","v":{"$error":"#REF!"}},{"$f":"'Bill of Materials'!#REF!","v":{"$error":"#REF!"}},{"$f":"'Bill of Materials'!#REF!","v":{"$error":"#REF!"}},{"$f":"'Bill of Materials'!#REF!","v":{"$error":"#REF!"}},{"$f":"'Bill of Materials'!#REF!","v":{"$error":"#REF!"}},null,null,null,{"$error":"#REF!"},{"$f":"'Bill of Materials'!#REF!","v":{"$error":"#REF!"}},{"$f":"'Bill of Materials'!#REF!","v":{"$error":"#REF!"}},{"$error":"#REF!"}]
[{"$f":"'Bill of Materials'!E817+'Bill of Materials'!F817","v":0},{"$f":"'Bill of Materials'!M817","v":"EA"},{"$f":"'Bill of Materials'!G817","v":"APC Smart-UPS RT 48V RM Battery Pack for SUA2200RMXL3U, 3RU"},{"$f":"'Bill of Materials'!L817","v":"APC"},{"$f":"'Bill of Materials'!N817","v":669.75},{"$f":"'Bill of Materials'!P817","v":"DWC"},{"$f":"'Bill of Materials'!C817","v":"10165"},{"$f":"'Bill of Materials'!H817","v":"SUA48RMXLBP3U"},null,null,null,0,{"$f":"'Bill of Materials'!J817","v":"standard material"},{"$f":"'Bill of Materials'!K817","v":"physical"},0]
[{"$f":"'Bill of Materials'!E818+'Bill of Materials'!F818","v":0},{"$f":"'Bill of Materials'!M818","v":"EA"},{"$f":"'Bill of Materials'!G818","v":"APC Smart-UPS RT 48V RM Battery Pack for SURTA1500RMXL2U, 2RU"},{"$f":"'Bill of Materials'!L818","v":"APC"},{"$f":"'Bill of Materials'!N818","v":584.4},{"$f":"'Bill of Materials'!P818","v":"DWC"},{"$f":"'Bill of Materials'!C818","v":"10166"},{"$f":"'Bill of Materials'!H818","v":"SURTA48RMXLBP2U"},null,null,null,0,{"$f":"'Bill of Materials'!J818","v":"standard material"},{"$f":"'Bill of Materials'!K818","v":"physical"},0]
[{"$f":"'Bill of Materials'!E819+'Bill of Materials'!F819","v":0},{"$f":"'Bill of Materials'!M819","v":"EA"},{"$f":"'Bill of Materials'!G819","v":"Configure 1500-5000 UPS Units - Labor Only"},{"$f":"'Bill of Materials'!L819","v":"DWC"},{"$f":"'Bill of Materials'!N819","v":101.25},{"$f":"'Bill of Materials'!P819","v":"DWC"},{"$f":"'Bill of Materials'!C819","v":"10172"},{"$f":"'Bill of Materials'!H819","v":"UPS-C-L"},null,null,null,0,{"$f":"'Bill of Materials'!J819","v":"standard material"},{"$f":"'Bill of Materials'!K819","v":"physical"},0]
[{"$f":"'Bill of Materials'!E820+'Bill of Materials'!F820","v":0},{"$f":"'Bill of Materials'!M820","v":"EA"},{"$f":"'Bill of Materials'!G820","v":"1 year Extended Warranty (for concurrent sales) SUA1500RM2U (Brings total warranty to 3 years)"},{"$f":"'Bill of Materials'!L820","v":"APC"},{"$f":"'Bill of Materials'!N820","v":75.8},{"$f":"'Bill of Materials'!P820","v":"DWC"},{"$f":"'Bill of Materials'!C820","v":"10174"},{"$f":"'Bill of Materials'!H820","v":"WBEXTWAR1YR-SP-03"},null,null,null,0,{"$f":"'Bill of Materials'!J820","v":"standard material"},{"$f":"'Bill of Materials'!K820","v":"physical"},0]
[{"$f":"'Bill of Materials'!E821+'Bill of Materials'!F821","v":0},{"$f":"'Bill of Materials'!M821","v":"EA"},{"$f":"'Bill of Materials'!G821","v":"1 year Extended Warranty (for concurrent sales) SUA2200RMXL3U (Brings total warranty to 3 years)"},{"$f":"'Bill of Materials'!L821","v":"APC"},{"$f":"'Bill of Materials'!N821","v":145.19999999999999},{"$f":"'Bill of Materials'!P821","v":"DWC"},{"$f":"'Bill of Materials'!C821","v":"10175"},{"$f":"'Bill of Materials'!H821","v":"WBEXTWAR1YR-SP-04"},null,null,null,0,{"$f":"'Bill of Materials'!J821","v":"standard material"},{"$f":"'Bill of Materials'!K821","v":"physical"},0]
[{"$f":"'Bill of Materials'!E822+'Bill of Materials'!F822","v":0},{"$f":"'Bill of Materials'!M822","v":"EA"},{"$f":"'Bill of Materials'!G822","v":"1 Year Extended Warranty (for concurrent sales) SURTA1500RMXL2U or SURTD5000RMXLT (Brings total warranty to 3 years)"},{"$f":"'Bill of Materials'!L822","v":"APC"},{"$f":"'Bill of Materials'!N822","v":284.10000000000002},{"$f":"'Bill of Materials'!P822","v":"DWC"},{"$f":"'Bill of Materials'!C822","v":"10176"},{"$f":"'Bill of Materials'!H822","v":"WBEXTWAR1YR-SP-05"},null,null,null,0,{"$f":"'Bill of Materials'!J822","v":"standard material"},{"$f":"'Bill of Materials'!K822","v":"physical"},0]
[{"$f":"'Bill of Materials'!E823+'Bill of Materials'!F823","v":0},{"$f":"'Bill of Materials'!M823","v":"EA"},{"$f":"'Bill of Materials'!G823","v":"APC smart -UPS RT, 5000VA/3500W, Input 208V, Interface port DB-25 RS-232, Smart Slot, Extended runtime model, 3 RU."},{"$f":"'Bill of Materials'!L823","v":"APC"},{"$f":"'Bill of Materials'!N823","v":3064.05},{"$f":"'Bill of Materials'!P823","v":"DWC"},{"$f":"'Bill of Materials'!C823","v":"1018-1CLW"},{"$f":"'Bill of Materials'!H823","v":"SURTD5000RMXLT"},null,null,null,0,{"$f":"'Bill of Materials'!J823","v":"standard material"},{"$f":"'Bill of Materials'!K823","v":"physical"},0]
[{"$f":"'Bill of Materials'!E824+'Bill of Materials'!F824","v":0},{"$f":"'Bill of Materials'!M824","v":"EA"},{"$f":"'Bill of Materials'!G824","v":"APC Smart-UPS RT, 1050 Watts / 1500 VA, Input 120V / Output 120V, Interface Port DB-9 RS-232, Smart-Slot, USB, Extended runtime model, Rack Height 2RU"},{"$f":"'Bill of Materials'!L824","v":"APC"},{"$f":"'Bill of Materials'!N824","v":900.9},{"$f":"'Bill of Materials'!P824","v":"DWC"},{"$f":"'Bill of Materials'!C824","v":"1018-1CLX"},{"$f":"'Bill of Materials'!H824","v":"SURTA1500RMXL2U"},null,null,null,0,{"$f":"'Bill of Materials'!J824","v":"standard material"},{"$f":"'Bill of Materials'!K824","v":"physical"},0]
[{"$f":"'Bill of Materials'!E825+'Bill of Materials'!F825","v":0},{"$f":"'Bill of Materials'!M825","v":"EA"},{"$f":"'Bill of Materials'!G825","v":"APC Smart-UPS RT, 2100 Watts/3000VA, Rack Mount/Tower Mount, Input 120V, L5-30P/Output 120V, (6) 5-15R, (2) 5-20R, Smart Slot-NO Card, Order WEB/SNMP Card #AP9630, Rack Height 3RU"},{"$f":"'Bill of Materials'!L825","v":"APC"},{"$f":"'Bill of Materials'!N825","v":1980},{"$f":"'Bill of Materials'!P825","v":"DWC"},{"$f":"'Bill of Materials'!C825","v":"10274"},{"$f":"'Bill of Materials'!H825","v":"SURTA3000RMXL3U"},null,null,null,0,{"$f":"'Bill of Materials'!J825","v":"standard material"},{"$f":"'Bill of Materials'!K825","v":"physical"},0]
[{"$f":"'Bill of Materials'!E826+'Bill of Materials'!F826","v":0},{"$f":"'Bill of Materials'!M826","v":"EA"},{"$f":"'Bill of Materials'!G826","v":"APC Smart-UPS RT, 4000 Watts/5000VA, Rack Mount/Tower Mount, Input 208V, L14-30P/Output 120V, (4) 5-15R, (1) L14-30R, (1) L6-30, Smart Slot-Inclds Card WEB/SNMP Card #AP9619, Rack Height 3RU"},{"$f":"'Bill of Materials'!L826","v":"APC"},{"$f":"'Bill of Materials'!N826","v":3690},{"$f":"'Bill of Materials'!P826","v":"DWC"},{"$f":"'Bill of Materials'!C826","v":"10275"},{"$f":"'Bill of Materials'!H826","v":"SURTD5000RMXLP3U"},null,null,null,0,{"$f":"'Bill of Materials'!J826","v":"standard material"},{"$f":"'Bill of Materials'!K826","v":"physical"},0]
[{"$f":"'Bill of Materials'!E827+'Bill of Materials'!F827","v":0},{"$f":"'Bill of Materials'!M827","v":"EA"},{"$f":"'Bill of Materials'!G827","v":"APC Smart-UPS RT, 2100 Watts/3000VA, Rack Mount/Tower Mount, Input 208V, L6-30P/Output 208V, (2) L6-20R, (2) L6-30R,Smart Slot-No Card, Order WEB/SNMP Card #AP9630, Rack Height 3RU"},{"$f":"'Bill of Materials'!L827","v":"APC"},{"$f":"'Bill of Materials'!N827","v":1980},{"$f":"'Bill of Materials'!P827","v":"DWC"},{"$f":"'Bill of Materials'!C827","v":"10276"},{"$f":"'Bill of Materials'!H827","v":"SURTD3000RMXLT3U"},null,null,null,0,{"$f":"'Bill of Materials'!J827","v":"standard material"},{"$f":"'Bill of Materials'!K827","v":"physical"},0]
[{"$f":"'Bill of Materials'!E828+'Bill of Materials'!F828","v":0},{"$f":"'Bill of Materials'!M828","v":"EA"},{"$f":"'Bill of Materials'!G828","v":"APC Smart-UPS RT, 4000 Watts/5000VA, Rack Mount/Tower Mount, Input 208V, L6-30P/Output 208V, (2) L6-20R, (2) L6-30R, Smart Slot-Inclds Card WEB/SNMP Card #AP9619, Rack Height 3RU"},{"$f":"'Bill of Materials'!L828","v":"APC"},{"$f":"'Bill of Materials'!N828","v":3195},{"$f":"'Bill of Materials'!P828","v":"DWC"},{"$f":"'Bill of Materials'!C828","v":"10277"},{"$f":"'Bill of Materials'!H828","v":"SURTD5000RMXLT3U"},null,null,null,0,{"$f":"'Bill of Materials'!J828","v":"standard material"},{"$f":"'Bill of Materials'!K828","v":"physical"},0]
[{"$f":"'Bill of Materials'!E829+'Bill of Materials'!F829","v":0},{"$f":"'Bill of Materials'!M829","v":"EA"},{"$f":"'Bill of Materials'!G829","v":"APC Smart-UPS RT, 4200 Watts/6000VA, Rack Mount/Tower Mount, Input 208V, L6-30P/Output 208V, (2) L6-20R, (2) L6-30R, Smart Slot-Inclds Card WEB/SNMP Card #AP9619, Rack Height 3RU"},{"$f":"'Bill of Materials'!L829","v":"APC"},{"$f":"'Bill of Materials'!N829","v":3510},{"$f":"'Bill of Materials'!P829","v":"DWC"},{"$f":"'Bill of Materials'!C829","v":"10278"},{"$f":"'Bill of Materials'!H829","v":"SURT6000RMXLT3U"},null,null,null,0,{"$f":"'Bill of Materials'!J829","v":"standard material"},{"$f":"'Bill of Materials'!K829","v":"physical"},0]
[{"$f":"'Bill of Materials'!E830+'Bill of Materials'!F830","v":0},{"$f":"'Bill of Materials'!M830","v":"EA"},{"$f":"'Bill of Materials'!G830","v":"APC Smart-UPS RT, 6400 Watts/8000VA, Rack Mount/Tower Mount, Input 208V-240V, Hard Wire, 3 Wire-2PH + G/Output 208V, (1) Hard Wire, 3 Wire-2PH + G, (2) L6-20R, (2) L6-30R, Smart Slot-Inclds Card WEB/SNMP Card #AP9619, Rack Height 6RU"},{"$f":"'Bill of Materials'!L830","v":"APC"},{"$f":"'Bill of Materials'!N830","v":4455},{"$f":"'Bill of Materials'!P830","v":"DWC"},{"$f":"'Bill of Materials'!C830","v":"10279"},{"$f":"'Bill of Materials'!H830","v":"SURT8000RMXLT6U"},null,null,null,{"$f":"E854*A854","v":0},{"$f":"'Bill of Materials'!J830","v":"standard material"},{"$f":"'Bill of Materials'!K830","v":"physical"},{"$f":"IF(A854>0,1,0)","v":0}]
[{"$f":"'Bill of Materials'!E831+'Bill of Materials'!F831","v":0},{"$f":"'Bill of Materials'!M831","v":"EA"},{"$f":"'Bill of Materials'!G831","v":"APC Smart-UPS RT, 8000 Watts/10000VA, Rack Mount/Tower Mount, Input 208V-240V, Hard Wire, 3 Wire-2PH + G/Output 208V, (1) Hard Wire, 3 Wire-2PH + G, (2) L6-20R, (2) L6-30R, Smart Slot-Inclds Card WEB/SNMP Card #AP9619, Rack Height 6RU"},{"$f":"'Bill of Materials'!L831","v":"APC"},{"$f":"'Bill of Materials'!N831","v":5265},{"$f":"'Bill of Materials'!P831","v":"DWC"},{"$f":"'Bill of Materials'!C831","v":"10280"},{"$f":"'Bill of Materials'!H831","v":"SURT10000RMXLT6U"},null,null,null,0,{"$f":"'Bill of Materials'!J831","v":"standard material"},{"$f":"'Bill of Materials'!K831","v":"physical"},0]
[{"$f":"'Bill of Materials'!E832+'Bill of Materials'!F832","v":0},{"$f":"'Bill of Materials'!M832","v":"EA"},{"$f":"'Bill of Materials'!G832","v":"APC Smart-UPS RT, 12kW/15kVA, Rack Mount, Input 208V-240V, Hard Wire, 3 Wire-2PH + G/Output 208V, (1) Hard Wire, 3 Wire-2PH + G, (4) L6-20R, (2) L6-30R, Smart Slot-Inclds Card WEB/SNMP Card #AP9631, Rack Height 12RU"},{"$f":"'Bill of Materials'!L832","v":"APC"},{"$f":"'Bill of Materials'!N832","v":9180},{"$f":"'Bill of Materials'!P832","v":"DWC"},{"$f":"'Bill of Materials'!C832","v":"10281"},{"$f":"'Bill of Materials'!H832","v":"SURT15KRMXLT"},null,null,null,0,{"$f":"'Bill of Materials'!J832","v":"standard material"},{"$f":"'Bill of Materials'!K832","v":"physical"},0]
[{"$f":"'Bill of Materials'!E833+'Bill of Materials'!F833","v":0},{"$f":"'Bill of Materials'!M833","v":"EA"},{"$f":"'Bill of Materials'!G833","v":"APC Smart-UPS RT, 16kW/20kVA, Rack Mount, Input 208V-240V, Hard Wire, 3 Wire-2PH + G/Output 208V, (1) Hard Wire, 3 Wire-2PH + G, (4) L6-20R, (2) L6-30R, Smart Slot-Inclds Card WEB/SNMP Card #AP9631, Rack Height 12RU"},{"$f":"'Bill of Materials'!L833","v":"APC"},{"$f":"'Bill of Materials'!N833","v":10350},{"$f":"'Bill of Materials'!P833","v":"DWC"},{"$f":"'Bill of Materials'!C833","v":"10282"},{"$f":"'Bill of Materials'!H833","v":"SURT20KRMXLT"},null,null,null,0,{"$f":"'Bill of Materials'!J833","v":"standard material"},{"$f":"'Bill of Materials'!K833","v":"physical"},0]
[{"$f":"'Bill of Materials'!E834+'Bill of Materials'!F834","v":0},{"$f":"'Bill of Materials'!M834","v":"EA"},{"$f":"'Bill of Materials'!G834","v":"Service Pack 1 Year Warranty Extension (for new product purchases)"},{"$f":"'Bill of Materials'!L834","v":"APC"},{"$f":"'Bill of Materials'!N834","v":593.1},{"$f":"'Bill of Materials'!P834","v":"DWC"},{"$f":"'Bill of Materials'!C834","v":"10283"},{"$f":"'Bill of Materials'!H834","v":"WBEXTWAR1YR-SP-06"},null,null,null,0,{"$f":"'Bill of Materials'!J834","v":"standard material"},{"$f":"'Bill of Materials'!K834","v":"physical"},0]
[{"$f":"'Bill of Materials'!#REF!+'Bill of Materials'!#REF!","v":{"$error":"#REF!"}},{"$f":"'Bill of Materials'!#REF!","v":{"$error":"#REF!"}},{"$f":"'Bill of Materials'!#REF!","v":{"$error":"#REF!"}},{"$f":"'Bill of Materials'!#REF!","v":{"$error":"#REF!"}},{"$f":"'Bill of Materials'!#REF!","v":{"$error":"#REF!"}},{"$f":"'Bill of Materials'!#REF!","v":{"$error":"#REF!"}},{"$f":"'Bill of Materials'!#REF!","v":{"$error":"#REF!"}},{"$f":"'Bill of Materials'!#REF!","v":{"$error":"#REF!"}},null,null,null,{"$error":"#REF!"},{"$f":"'Bill of Materials'!#REF!","v":{"$error":"#REF!"}},{"$f":"'Bill of Materials'!#REF!","v":{"$error":"#REF!"}},{"$error":"#REF!"}]
[{"$f":"'Bill of Materials'!E835+'Bill of Materials'!F835","v":0},{"$f":"'Bill of Materials'!M835","v":"EA"},{"$f":"'Bill of Materials'!G835","v":"Service Pack 1 Year Warranty Extension (for new product purchases)"},{"$f":"'Bill of Materials'!L835","v":"APC"},{"$f":"'Bill of Materials'!N835","v":990},{"$f":"'Bill of Materials'!P835","v":"DWC"},{"$f":"'Bill of Materials'!C835","v":"10284"},{"$f":"'Bill of Materials'!H835","v":"WBEXTWAR1YR-SP-07"},null,null,null,0,{"$f":"'Bill of Materials'!J835","v":"standard material"},{"$f":"'Bill of Materials'!K835","v":"physical"},0]
[{"$f":"'Bill of Materials'!E836+'Bill of Materials'!F836","v":0},{"$f":"'Bill of Materials'!M836","v":"EA"},{"$f":"'Bill of Materials'!G836","v":"UPS APC WEB/SNMP Management Card"},{"$f":"'Bill of Materials'!L836","v":"APC"},{"$f":"'Bill of Materials'!N836","v":255.87},{"$f":"'Bill of Materials'!P836","v":"DWC"},{"$f":"'Bill of Materials'!C836","v":"10286"},{"$f":"'Bill of Materials'!H836","v":"AP9630"},null,null,null,0,{"$f":"'Bill of Materials'!J836","v":"standard material"},{"$f":"'Bill of Materials'!K836","v":"physical"},0]
[{"$f":"'Bill of Materials'!E837+'Bill of Materials'!F837","v":0},{"$f":"'Bill of Materials'!M837","v":"EA"},{"$f":"'Bill of Materials'!G837","v":"APC Smart-UPS X 2000VA Rack/Tower LCD 100-127V"},{"$f":"'Bill of Materials'!L837","v":"APC"},{"$f":"'Bill of Materials'!N837","v":1242.5},{"$f":"'Bill of Materials'!P837","v":"DWC"},{"$f":"'Bill of Materials'!C837","v":"10517"},{"$f":"'Bill of Materials'!H837","v":"SMX2000RMLV2U"},null,null,null,0,{"$f":"'Bill of Materials'!J837","v":"standard material"},{"$f":"'Bill of Materials'!K837","v":"physical"},0]
[{"$f":"'Bill of Materials'!E838+'Bill of Materials'!F838","v":0},{"$f":"'Bill of Materials'!M838","v":"EA"},{"$f":"'Bill of Materials'!G838","v":"Extended Run Time Battery Pack, APC Smart-UPS RT 192V Rack Mounted 3RU"},{"$f":"'Bill of Materials'!L838","v":"APC"},{"$f":"'Bill of Materials'!N838","v":930.6},{"$f":"'Bill of Materials'!P838","v":"DWC"},{"$f":"'Bill of Materials'!C838","v":"1063-0197"},{"$f":"'Bill of Materials'!H838","v":"SURT192RMXLBP3U"},null,null,null,0,{"$f":"'Bill of Materials'!J838","v":"standard material"},{"$f":"'Bill of Materials'!K838","v":"physical"},0]
[{"$f":"'Bill of Materials'!E839+'Bill of Materials'!F839","v":0},{"$f":"'Bill of Materials'!M839","v":"EA"},{"$f":"'Bill of Materials'!G839","v":"APC Smart- UPS 1500VA, 2RU Rack Mounted, 120V (6) NEMA 5-15 outlets for use with Cisco 3750"},{"$f":"'Bill of Materials'!L839","v":"APC"},{"$f":"'Bill of Materials'!N839","v":596.08000000000004},{"$f":"'Bill of Materials'!P839","v":"DWC"},{"$f":"'Bill of Materials'!C839","v":"INFO-8716"},{"$f":"'Bill of Materials'!H839","v":"SUA1500RM2U"},null,null,null,0,{"$f":"'Bill of Materials'!J839","v":"standard material"},{"$f":"'Bill of Materials'!K839","v":"physical"},0]
[{"$f":"'Bill of Materials'!E841+'Bill of Materials'!F841","v":0},{"$f":"'Bill of Materials'!M841","v":"EA"},{"$f":"'Bill of Materials'!G841","v":"Multipair Cable Shield Bond Connector (Alligator Type)"},{"$f":"'Bill of Materials'!L841","v":"3M"},{"$f":"'Bill of Materials'!N841","v":1.45},{"$f":"'Bill of Materials'!P841","v":"DWC"},{"$f":"'Bill of Materials'!C841","v":"10036"},{"$f":"'Bill of Materials'!H841","v":"4460-S"},null,null,null,0,{"$f":"'Bill of Materials'!J841","v":"standard material"},{"$f":"'Bill of Materials'!K841","v":"physical"},0]
[{"$f":"'Bill of Materials'!E842+'Bill of Materials'!F842","v":0},{"$f":"'Bill of Materials'!M842","v":"EA"},{"$f":"'Bill of Materials'!G842","v":"40ft. Cat 3 25 Pair Telco Cable, 180 male/dead end"},{"$f":"'Bill of Materials'!L842","v":"DWC"},{"$f":"'Bill of Materials'!N842","v":59.2},{"$f":"'Bill of Materials'!P842","v":"DWC"},{"$f":"'Bill of Materials'!C842","v":"10098"},{"$f":"'Bill of Materials'!H842","v":"DWT-25CAT3M/B-40"},null,null,null,0,{"$f":"'Bill of Materials'!J842","v":"standard material"},{"$f":"'Bill of Materials'!K842","v":"horizontal"},0]
[{"$f":"'Bill of Materials'!E843+'Bill of Materials'!F843","v":0},{"$f":"'Bill of Materials'!M843","v":"EA"},{"$f":"'Bill of Materials'!G843","v":"50ft. Cat 3 25 Pair Telco Cable, 180 male/dead end"},{"$f":"'Bill of Materials'!L843","v":"DWC"},{"$f":"'Bill of Materials'!N843","v":67.7},{"$f":"'Bill of Materials'!P843","v":"DWC"},{"$f":"'Bill of Materials'!C843","v":"10099"},{"$f":"'Bill of Materials'!H843","v":"DWT-25CAT3M/B-50"},null,null,null,0,{"$f":"'Bill of Materials'!J843","v":"standard material"},{"$f":"'Bill of Materials'!K843","v":"horizontal"},0]
[{"$f":"'Bill of Materials'!E844+'Bill of Materials'!F844","v":0},{"$f":"'Bill of Materials'!M844","v":"EA"},{"$f":"'Bill of Materials'!G844","v":"20ft Cat 3 25 pair Cable, 180 male/dead end"},{"$f":"'Bill of Materials'!L844","v":"Leviton"},{"$f":"'Bill of Materials'!N844","v":8.81},{"$f":"'Bill of Materials'!P844","v":"DWC"},{"$f":"'Bill of Materials'!C844","v":"INFO-2478"},{"$f":"'Bill of Materials'!H844","v":"G32-V25PR-20G"},null,null,null,0,{"$f":"'Bill of Materials'!J844","v":"standard material"},{"$f":"'Bill of Materials'!K844","v":"physical"},0]
[{"$f":"'Bill of Materials'!E845+'Bill of Materials'!F845","v":0},{"$f":"'Bill of Materials'!M845","v":"EA"},{"$f":"'Bill of Materials'!G845","v":"25ft Cat 3 25 pair Cable, 180 male/dead end"},{"$f":"'Bill of Materials'!L845","v":"Leviton"},{"$f":"'Bill of Materials'!N845","v":9.01},{"$f":"'Bill of Materials'!P845","v":"DWC"},{"$f":"'Bill of Materials'!C845","v":"INFO-2479"},{"$f":"'Bill of Materials'!H845","v":"G33-V25PR-25G"},null,null,null,0,{"$f":"'Bill of Materials'!J845","v":"standard material"},{"$f":"'Bill of Materials'!K845","v":"physical"},0]
[{"$f":"'Bill of Materials'!E846+'Bill of Materials'!F846","v":0},{"$f":"'Bill of Materials'!M846","v":"EA"},{"$f":"'Bill of Materials'!G846","v":"30ft Cat 3 25 pair Cable, 180 male/dead end"},{"$f":"'Bill of Materials'!L846","v":"Leviton"},{"$f":"'Bill of Materials'!N846","v":11.1},{"$f":"'Bill of Materials'!P846","v":"DWC"},{"$f":"'Bill of Materials'!C846","v":"INFO-2480"},{"$f":"'Bill of Materials'!H846","v":"G34-V25PR-30G"},null,null,null,0,{"$f":"'Bill of Materials'!J846","v":"standard material"},{"$f":"'Bill of Materials'!K846","v":"physical"},0]
[{"$f":"'Bill of Materials'!E847+'Bill of Materials'!F847","v":0},{"$f":"'Bill of Materials'!M847","v":"FT"},{"$f":"'Bill of Materials'!G847","v":"24 AWG ANMW-25 PAIR OUTDOOR RATED CABLE"},{"$f":"'Bill of Materials'!L847","v":"Superior Essex"},{"$f":"'Bill of Materials'!N847","v":0.8},{"$f":"'Bill of Materials'!P847","v":"DWC"},{"$f":"'Bill of Materials'!C847","v":"INFO-5101"},{"$f":"'Bill of Materials'!H847","v":"22-097-83"},null,null,null,0,{"$f":"'Bill of Materials'!J847","v":"standard material"},{"$f":"'Bill of Materials'!K847","v":"physical"},0]
[{"$f":"'Bill of Materials'!E848+'Bill of Materials'!F848","v":0},{"$f":"'Bill of Materials'!M848","v":"FT"},{"$f":"'Bill of Materials'!G848","v":"24 AWG ARMM-25 PAIR RISER RATED CABLE"},{"$f":"'Bill of Materials'!L848","v":"Superior Essex"},{"$f":"'Bill of Materials'!N848","v":0.77},{"$f":"'Bill of Materials'!P848","v":"DWC"},{"$f":"'Bill of Materials'!C848","v":"INFO-5102"},{"$f":"'Bill of Materials'!H848","v":"02-097-03"},null,null,null,0,{"$f":"'Bill of Materials'!J848","v":"standard material"},{"$f":"'Bill of Materials'!K848","v":"physical"},0]
[{"$f":"'Bill of Materials'!E849+'Bill of Materials'!F849","v":0},{"$f":"'Bill of Materials'!M849","v":"FT"},{"$f":"'Bill of Materials'!G849","v":"24 AWG ARMM-50 PAIR RISER RATED CABLE"},{"$f":"'Bill of Materials'!L849","v":"Superior Essex"},{"$f":"'Bill of Materials'!N849","v":1.33},{"$f":"'Bill of Materials'!P849","v":"DWC"},{"$f":"'Bill of Materials'!C849","v":"INFO-5103"},{"$f":"'Bill of Materials'!H849","v":"02-100-03"},null,null,null,0,{"$f":"'Bill of Materials'!J849","v":"standard material"},{"$f":"'Bill of Materials'!K849","v":"physical"},0]
[{"$f":"'Bill of Materials'!E850+'Bill of Materials'!F850","v":0},{"$f":"'Bill of Materials'!M850","v":"FT"},{"$f":"'Bill of Materials'!G850","v":"24 AWG ARMM-100 PAIR RISER RATED CABLE"},{"$f":"'Bill of Materials'!L850","v":"Superior Essex"},{"$f":"'Bill of Materials'!N850","v":2.4900000000000002},{"$f":"'Bill of Materials'!P850","v":"DWC"},{"$f":"'Bill of Materials'!C850","v":"INFO-5104"},{"$f":"'Bill of Materials'!H850","v":"02-104-03"},null,null,null,0,{"$f":"'Bill of Materials'!J850","v":"standard material"},{"$f":"'Bill of Materials'!K850","v":"physical"},0]
[{"$f":"'Bill of Materials'!E851+'Bill of Materials'!F851","v":0},{"$f":"'Bill of Materials'!M851","v":"FT"},{"$f":"'Bill of Materials'!G851","v":"24 AWG ARMM-200 PAIR RISER RATED CABLE"},{"$f":"'Bill of Materials'!L851","v":"Superior Essex"},{"$f":"'Bill of Materials'!N851","v":4.8499999999999996},{"$f":"'Bill of Materials'!P851","v":"DWC"},{"$f":"'Bill of Materials'!C851","v":"INFO-5105"},{"$f":"'Bill of Materials'!H851","v":"02-108-03"},null,null,null,0,{"$f":"'Bill of Materials'!J851","v":"standard material"},{"$f":"'Bill of Materials'!K851","v":"physical"},0]
[{"$f":"'Bill of Materials'!E852+'Bill of Materials'!F852","v":0},{"$f":"'Bill of Materials'!M852","v":"FT"},{"$f":"'Bill of Materials'!G852","v":"24 AWG ARMM-300 PAIR RISER RATED CABLE"},{"$f":"'Bill of Materials'!L852","v":"Superior Essex"},{"$f":"'Bill of Materials'!N852","v":7.13},{"$f":"'Bill of Materials'!P852","v":"DWC"},{"$f":"'Bill of Materials'!C852","v":"INFO-5106"},{"$f":"'Bill of Materials'!H852","v":"02-110-03"},null,null,null,0,{"$f":"'Bill of Materials'!J852","v":"standard material"},{"$f":"'Bill of Materials'!K852","v":"physical"},0]
[{"$f":"'Bill of Materials'!E853+'Bill of Materials'!F853","v":0},{"$f":"'Bill of Materials'!M853","v":"FT"},{"$f":"'Bill of Materials'!G853","v":"24 AWG ARMM-600 PAIR RISER RATED CABLE"},{"$f":"'Bill of Materials'!L853","v":"Superior Essex"},{"$f":"'Bill of Materials'!N853","v":13.51},{"$f":"'Bill of Materials'!P853","v":"DWC"},{"$f":"'Bill of Materials'!C853","v":"INFO-5107"},{"$f":"'Bill of Materials'!H853","v":"02-116-03"},null,null,null,0,{"$f":"'Bill of Materials'!J853","v":"standard material"},{"$f":"'Bill of Materials'!K853","v":"physical"},0]
[{"$f":"'Bill of Materials'!E854+'Bill of Materials'!F854","v":0},{"$f":"'Bill of Materials'!M854","v":"FT"},{"$f":"'Bill of Materials'!G854","v":"24 AWG ARMM-900 PAIR RISER RATED CABLE"},{"$f":"'Bill of Materials'!L854","v":"Superior Essex"},{"$f":"'Bill of Materials'!N854","v":20.87},{"$f":"'Bill of Materials'!P854","v":"DWC"},{"$f":"'Bill of Materials'!C854","v":"INFO-5108"},{"$f":"'Bill of Materials'!H854","v":"02-118-03"},null,null,null,0,{"$f":"'Bill of Materials'!J854","v":"standard material"},{"$f":"'Bill of Materials'!K854","v":"physical"},0]
[{"$f":"'Bill of Materials'!E855+'Bill of Materials'!F855","v":0},{"$f":"'Bill of Materials'!M855","v":"FT"},{"$f":"'Bill of Materials'!G855","v":"24 AWG ARMM-1200 PAIR RISER RATED CABLE"},{"$f":"'Bill of Materials'!L855","v":"Superior Essex"},{"$f":"'Bill of Materials'!N855","v":27.55},{"$f":"'Bill of Materials'!P855","v":"DWC"},{"$f":"'Bill of Materials'!C855","v":"INFO-5109"},{"$f":"'Bill of Materials'!H855","v":"02-120-03"},null,null,null,0,{"$f":"'Bill of Materials'!J855","v":"standard material"},{"$f":"'Bill of Materials'!K855","v":"physical"},0]
[{"$f":"'Bill of Materials'!E856+'Bill of Materials'!F856","v":0},{"$f":"'Bill of Materials'!M856","v":"FT"},{"$f":"'Bill of Materials'!G856","v":"24 AWG ARMM-1800 PAIR RISER RATED CABLE"},{"$f":"'Bill of Materials'!L856","v":"Superior Essex"},{"$f":"'Bill of Materials'!N856","v":40.4},{"$f":"'Bill of Materials'!P856","v":"DWC"},{"$f":"'Bill of Materials'!C856","v":"INFO-5110"},{"$f":"'Bill of Materials'!H856","v":"02-124-03"},null,null,null,0,{"$f":"'Bill of Materials'!J856","v":"standard material"},{"$f":"'Bill of Materials'!K856","v":"physical"},0]
[{"$f":"'Bill of Materials'!E857+'Bill of Materials'!F857","v":0},{"$f":"'Bill of Materials'!M857","v":"FT"},{"$f":"'Bill of Materials'!G857","v":"24 AWG PLENUM 25PR VOICE CABLE"},{"$f":"'Bill of Materials'!L857","v":"Superior Essex"},{"$f":"'Bill of Materials'!N857","v":0.82},{"$f":"'Bill of Materials'!P857","v":"DWC"},{"$f":"'Bill of Materials'!C857","v":"INFO-5111"},{"$f":"'Bill of Materials'!H857","v":"18-475-36"},null,null,null,0,{"$f":"'Bill of Materials'!J857","v":"standard material"},{"$f":"'Bill of Materials'!K857","v":"physical"},0]
[{"$f":"'Bill of Materials'!#REF!+'Bill of Materials'!#REF!","v":{"$error":"#REF!"}},{"$f":"'Bill of Materials'!#REF!","v":{"$error":"#REF!"}},{"$f":"'Bill of Materials'!#REF!","v":{"$error":"#REF!"}},{"$f":"'Bill of Materials'!#REF!","v":{"$error":"#REF!"}},{"$f":"'Bill of Materials'!#REF!","v":{"$error":"#REF!"}},{"$f":"'Bill of Materials'!#REF!","v":{"$error":"#REF!"}},{"$f":"'Bill of Materials'!#REF!","v":{"$error":"#REF!"}},{"$f":"'Bill of Materials'!#REF!","v":{"$error":"#REF!"}},null,null,null,{"$error":"#REF!"},{"$f":"'Bill of Materials'!#REF!","v":{"$error":"#REF!"}},{"$f":"'Bill of Materials'!#REF!","v":{"$error":"#REF!"}},{"$error":"#REF!"}]
[{"$f":"'Bill of Materials'!E858+'Bill of Materials'!F858","v":0},{"$f":"'Bill of Materials'!M858","v":"FT"},{"$f":"'Bill of Materials'!G858","v":"24 AWG PLENUM 50PR VOICE CABLE"},{"$f":"'Bill of Materials'!L858","v":"Superior Essex"},{"$f":"'Bill of Materials'!N858","v":1.58},{"$f":"'Bill of Materials'!P858","v":"DWC"},{"$f":"'Bill of Materials'!C858","v":"INFO-5112"},{"$f":"'Bill of Materials'!H858","v":"18-599-86"},null,null,null,0,{"$f":"'Bill of Materials'!J858","v":"standard material"},{"$f":"'Bill of Materials'!K858","v":"physical"},0]
[{"$f":"'Bill of Materials'!E859+'Bill of Materials'!F859","v":0},{"$f":"'Bill of Materials'!M859","v":"FT"},{"$f":"'Bill of Materials'!G859","v":"24 AWG PLENUM 100PR VOICE CABLE"},{"$f":"'Bill of Materials'!L859","v":"Superior Essex"},{"$f":"'Bill of Materials'!N859","v":3.17},{"$f":"'Bill of Materials'!P859","v":"DWC"},{"$f":"'Bill of Materials'!C859","v":"INFO-5113"},{"$f":"'Bill of Materials'!H859","v":"18-799-86"},null,null,null,0,{"$f":"'Bill of Materials'!J859","v":"standard material"},{"$f":"'Bill of Materials'!K859","v":"physical"},0]
[{"$f":"'Bill of Materials'!E860+'Bill of Materials'!F860","v":0},{"$f":"'Bill of Materials'!M860","v":"FT"},{"$f":"'Bill of Materials'!G860","v":"24 AWG PLENUM 200PR VOICE CABLE"},{"$f":"'Bill of Materials'!L860","v":"Superior Essex"},{"$f":"'Bill of Materials'!N860","v":5.96},{"$f":"'Bill of Materials'!P860","v":"DWC"},{"$f":"'Bill of Materials'!C860","v":"INFO-5114"},{"$f":"'Bill of Materials'!H860","v":"18-A99-86"},null,null,null,0,{"$f":"'Bill of Materials'!J860","v":"standard material"},{"$f":"'Bill of Materials'!K860","v":"physical"},0]
[{"$f":"'Bill of Materials'!E861+'Bill of Materials'!F861","v":0},{"$f":"'Bill of Materials'!M861","v":"FT"},{"$f":"'Bill of Materials'!G861","v":"24 AWG PLENUM 300PR VOICE CABLE"},{"$f":"'Bill of Materials'!L861","v":"Superior Essex"},{"$f":"'Bill of Materials'!N861","v":9.0500000000000007},{"$f":"'Bill of Materials'!P861","v":"DWC"},{"$f":"'Bill of Materials'!C861","v":"INFO-5115"},{"$f":"'Bill of Materials'!H861","v":"18-B99-86"},null,null,null,0,{"$f":"'Bill of Materials'!J861","v":"standard material"},{"$f":"'Bill of Materials'!K861","v":"physical"},0]
[{"$f":"'Bill of Materials'!E862+'Bill of Materials'!F862","v":0},{"$f":"'Bill of Materials'!M862","v":"FT"},{"$f":"'Bill of Materials'!G862","v":"24 AWG PLENUM 400PR VOICE CABLE"},{"$f":"'Bill of Materials'!L862","v":"Berk-Tek"},{"$f":"'Bill of Materials'!N862","v":15.95},{"$f":"'Bill of Materials'!P862","v":"DWC"},{"$f":"'Bill of Materials'!C862","v":"INFO-5116"},{"$f":"'Bill of Materials'!H862","v":"230806"},null,null,null,0,{"$f":"'Bill of Materials'!J862","v":"standard material"},{"$f":"'Bill of Materials'!K862","v":"physical"},0]
[{"$f":"'Bill of Materials'!E864+'Bill of Materials'!F864","v":0},{"$f":"'Bill of Materials'!M864","v":"EA"},{"$f":"'Bill of Materials'!G864","v":"Building Entrance Protected Terminal, 100 Pair/110in/110out"},{"$f":"'Bill of Materials'!L864","v":"Circa"},{"$f":"'Bill of Materials'!N864","v":355.3},{"$f":"'Bill of Materials'!P864","v":"DWC"},{"$f":"'Bill of Materials'!C864","v":"10019"},{"$f":"'Bill of Materials'!H864","v":"1880ENA1/NSC-100"},null,null,null,0,{"$f":"'Bill of Materials'!J864","v":"standard material"},{"$f":"'Bill of Materials'!K864","v":"horizontal"},0]
[{"$f":"'Bill of Materials'!E865+'Bill of Materials'!F865","v":0},{"$f":"'Bill of Materials'!M865","v":"EA"},{"$f":"'Bill of Materials'!G865","v":"Building Entrance Terminal, 25 Pair/110in/110out"},{"$f":"'Bill of Materials'!L865","v":"Circa"},{"$f":"'Bill of Materials'!N865","v":103.6},{"$f":"'Bill of Materials'!P865","v":"DWC"},{"$f":"'Bill of Materials'!C865","v":"10020"},{"$f":"'Bill of Materials'!H865","v":"1880ENA1/NSC-25"},null,null,null,0,{"$f":"'Bill of Materials'!J865","v":"standard material"},{"$f":"'Bill of Materials'!K865","v":"horizontal"},0]
[{"$f":"'Bill of Materials'!E866+'Bill of Materials'!F866","v":0},{"$f":"'Bill of Materials'!M866","v":"EA"},{"$f":"'Bill of Materials'!G866","v":"Building Entrance Terminal, 50 Pair/110in/110out"},{"$f":"'Bill of Materials'!L866","v":"Circa"},{"$f":"'Bill of Materials'!N866","v":257.95},{"$f":"'Bill of Materials'!P866","v":"DWC"},{"$f":"'Bill of Materials'!C866","v":"10021"},{"$f":"'Bill of Materials'!H866","v":"1880ENA1/NSC-50"},null,null,null,0,{"$f":"'Bill of Materials'!J866","v":"standard material"},{"$f":"'Bill of Materials'!K866","v":"horizontal"},0]
[{"$f":"'Bill of Materials'!E867+'Bill of Materials'!F867","v":0},{"$f":"'Bill of Materials'!M867","v":"EA"},{"$f":"'Bill of Materials'!G867","v":"Nema 4 (6) pair OSP 4000 Series Multipair Service Entrance Protector 110 Style. 110in/110out"},{"$f":"'Bill of Materials'!L867","v":"Circa"},{"$f":"'Bill of Materials'!N867","v":175.1},{"$f":"'Bill of Materials'!P867","v":"DWC"},{"$f":"'Bill of Materials'!C867","v":"10032"},{"$f":"'Bill of Materials'!H867","v":"4006-110"},null,null,null,0,{"$f":"'Bill of Materials'!J867","v":"standard material"},{"$f":"'Bill of Materials'!K867","v":"horizontal"},0]
[{"$f":"'Bill of Materials'!E868+'Bill of Materials'!F868","v":0},{"$f":"'Bill of Materials'!M868","v":"EA"},{"$f":"'Bill of Materials'!G868","v":"Nema 4 (25) pair OSP 4000 Series Multipair Service Entrance Protector 110 Style. 110in/110out"},{"$f":"'Bill of Materials'!L868","v":"Circa"},{"$f":"'Bill of Materials'!N868","v":225.2},{"$f":"'Bill of Materials'!P868","v":"DWC"},{"$f":"'Bill of Materials'!C868","v":"10033"},{"$f":"'Bill of Materials'!H868","v":"4025-110"},null,null,null,0,{"$f":"'Bill of Materials'!J868","v":"standard material"},{"$f":"'Bill of Materials'!K868","v":"horizontal"},0]
[{"$f":"'Bill of Materials'!E869+'Bill of Materials'!F869","v":0},{"$f":"'Bill of Materials'!M869","v":"EA"},{"$f":"'Bill of Materials'!G869","v":"4-Pair Cat5e Building Entrance Surge/Lightning Protector"},{"$f":"'Bill of Materials'!L869","v":"Altelicon"},{"$f":"'Bill of Materials'!N869","v":68.5},{"$f":"'Bill of Materials'!P869","v":"DWC"},{"$f":"'Bill of Materials'!C869","v":"10069"},{"$f":"'Bill of Materials'!H869","v":"AL-CAT5EW"},null,null,null,0,{"$f":"'Bill of Materials'!J869","v":"standard material"},{"$f":"'Bill of Materials'!K869","v":"horizontal"},0]
[{"$f":"'Bill of Materials'!E870+'Bill of Materials'!F870","v":0},{"$f":"'Bill of Materials'!M870","v":"EA"},{"$f":"'Bill of Materials'!G870","v":"Surge Protection Modules Solid State Low Voltage Series Data Applications (Red)"},{"$f":"'Bill of Materials'!L870","v":"Circa"},{"$f":"'Bill of Materials'!N870","v":9.0500000000000007},{"$f":"'Bill of Materials'!P870","v":"DWC"},{"$f":"'Bill of Materials'!C870","v":"10087"},{"$f":"'Bill of Materials'!H870","v":"CIR-3B3S-30"},null,null,null,0,{"$f":"'Bill of Materials'!J870","v":"standard material"},{"$f":"'Bill of Materials'!K870","v":"horizontal"},0]
[{"$f":"'Bill of Materials'!E871+'Bill of Materials'!F871","v":0},{"$f":"'Bill of Materials'!M871","v":"EA"},{"$f":"'Bill of Materials'!G871","v":"20ft. CAT 3 24awg 25 Pair Telco Cable, 90 Female/Blunt (Only for Shumway)"},{"$f":"'Bill of Materials'!L871","v":"DWC"},{"$f":"'Bill of Materials'!N871","v":29.4},{"$f":"'Bill of Materials'!P871","v":"DWC"},{"$f":"'Bill of Materials'!C871","v":"10097"},{"$f":"'Bill of Materials'!H871","v":"DWT-25CAT3F/B-20"},null,null,null,0,{"$f":"'Bill of Materials'!J871","v":"standard material"},{"$f":"'Bill of Materials'!K871","v":"horizontal"},0]
[{"$f":"'Bill of Materials'!E872+'Bill of Materials'!F872","v":0},{"$f":"'Bill of Materials'!M872","v":"EA"},{"$f":"'Bill of Materials'!G872","v":"25 Pair, Category 5e Building Entrance Surge/Lightning Protector "},{"$f":"'Bill of Materials'!L872","v":"ITWLINX Communications Products"},{"$f":"'Bill of Materials'!N872","v":444.7},{"$f":"'Bill of Materials'!P872","v":"DWC"},{"$f":"'Bill of Materials'!C872","v":"10132"},{"$f":"'Bill of Materials'!H872","v":"ML25-CAT5-LAN"},null,null,null,0,{"$f":"'Bill of Materials'!J872","v":"standard material"},{"$f":"'Bill of Materials'!K872","v":"horizontal"},0]
[{"$f":"'Bill of Materials'!#REF!+'Bill of Materials'!#REF!","v":{"$error":"#REF!"}},{"$f":"'Bill of Materials'!#REF!","v":{"$error":"#REF!"}},{"$f":"'Bill of Materials'!#REF!","v":{"$error":"#REF!"}},{"$f":"'Bill of Materials'!#REF!","v":{"$error":"#REF!"}},{"$f":"'Bill of Materials'!#REF!","v":{"$error":"#REF!"}},{"$f":"'Bill of Materials'!#REF!","v":{"$error":"#REF!"}},{"$f":"'Bill of Materials'!#REF!","v":{"$error":"#REF!"}},{"$f":"'Bill of Materials'!#REF!","v":{"$error":"#REF!"}},null,null,null,{"$error":"#REF!"},{"$f":"'Bill of Materials'!#REF!","v":{"$error":"#REF!"}},{"$f":"'Bill of Materials'!#REF!","v":{"$error":"#REF!"}},{"$error":"#REF!"}]
[{"$f":"'Bill of Materials'!E873+'Bill of Materials'!F873","v":0},{"$f":"'Bill of Materials'!M873","v":"EA"},{"$f":"'Bill of Materials'!G873","v":"\"Shumway\" Telephone Fuse and Power Panel 24VDC 25 Outputs - via 50 pin male telco connector."},{"$f":"'Bill of Materials'!L873","v":"Shumway Brothers"},{"$f":"'Bill of Materials'!N873","v":525},{"$f":"'Bill of Materials'!P873","v":"DWC"},{"$f":"'Bill of Materials'!C873","v":"10160"},{"$f":"'Bill of Materials'!H873","v":"SBI 176-25-24"},null,null,null,0,{"$f":"'Bill of Materials'!J873","v":"standard material"},{"$f":"'Bill of Materials'!K873","v":"horizontal"},0]
[{"$f":"'Bill of Materials'!E874+'Bill of Materials'!F874","v":0},{"$f":"'Bill of Materials'!M874","v":"EA"},{"$f":"'Bill of Materials'!G874","v":"Building Entrance Protected Terminal, 25 Pair/110  25FT. STUB"},{"$f":"'Bill of Materials'!L874","v":"Circa"},{"$f":"'Bill of Materials'!N874","v":174.49},{"$f":"'Bill of Materials'!P874","v":"DWC"},{"$f":"'Bill of Materials'!C874","v":"INFO-5201"},{"$f":"'Bill of Materials'!H874","v":"1880B1-25"},null,null,null,0,{"$f":"'Bill of Materials'!J874","v":"standard material"},{"$f":"'Bill of Materials'!K874","v":"physical"},0]
[{"$f":"'Bill of Materials'!E875+'Bill of Materials'!F875","v":0},{"$f":"'Bill of Materials'!M875","v":"EA"},{"$f":"'Bill of Materials'!G875","v":"Building Entrance Protected Terminal, 6 Pair/110 In 110 Out"},{"$f":"'Bill of Materials'!L875","v":"Circa"},{"$f":"'Bill of Materials'!N875","v":47.03},{"$f":"'Bill of Materials'!P875","v":"DWC"},{"$f":"'Bill of Materials'!C875","v":"INFO-5202"},{"$f":"'Bill of Materials'!H875","v":"1880110US-6"},null,null,null,0,{"$f":"'Bill of Materials'!J875","v":"standard material"},{"$f":"'Bill of Materials'!K875","v":"physical"},0]
[{"$f":"'Bill of Materials'!E876+'Bill of Materials'!F876","v":0},{"$f":"'Bill of Materials'!M876","v":"EA"},{"$f":"'Bill of Materials'!G876","v":"Building Entrance Protected Terminal, 100 Pair/110  25FT. STUB"},{"$f":"'Bill of Materials'!L876","v":"Circa"},{"$f":"'Bill of Materials'!N876","v":381.15},{"$f":"'Bill of Materials'!P876","v":"DWC"},{"$f":"'Bill of Materials'!C876","v":"INFO-5203"},{"$f":"'Bill of Materials'!H876","v":"1880B1-100"},null,null,null,0,{"$f":"'Bill of Materials'!J876","v":"standard material"},{"$f":"'Bill of Materials'!K876","v":"physical"},0]
[{"$f":"'Bill of Materials'!E877+'Bill of Materials'!F877","v":0},{"$f":"'Bill of Materials'!M877","v":"EA"},{"$f":"'Bill of Materials'!G877","v":"3 Stage Gas Tube Surge Protector Unit"},{"$f":"'Bill of Materials'!L877","v":"Circa"},{"$f":"'Bill of Materials'!N877","v":2.5299999999999998},{"$f":"'Bill of Materials'!P877","v":"DWC"},{"$f":"'Bill of Materials'!C877","v":"INFO-5204"},{"$f":"'Bill of Materials'!H877","v":"CT4B1E-BAL/PTC"},null,null,null,0,{"$f":"'Bill of Materials'!J877","v":"standard material"},{"$f":"'Bill of Materials'!K877","v":"physical"},0]
[{"$f":"'Bill of Materials'!E879+'Bill of Materials'!F879","v":0},{"$f":"'Bill of Materials'!M879","v":"EA"},{"$f":"'Bill of Materials'!G879","v":"Non Plenum, RG-6, 3GHz, 75Ohm Coaxial Cable Series 1, 18 awg, Sheilded, PVC, Cable comes in 1000' reel "},{"$f":"'Bill of Materials'!L879","v":"CommScope"},{"$f":"'Bill of Materials'!N879","v":74.25},{"$f":"'Bill of Materials'!P879","v":"DWC"},{"$f":"'Bill of Materials'!C879","v":"0119-C50F"},{"$f":"'Bill of Materials'!H879","v":5730},null,null,null,0,{"$f":"'Bill of Materials'!J879","v":"standard material"},{"$f":"'Bill of Materials'!K879","v":"physical"},0]
[{"$f":"'Bill of Materials'!E880+'Bill of Materials'!F880","v":0},{"$f":"'Bill of Materials'!M880","v":"EA"},{"$f":"'Bill of Materials'!G880","v":"Non-Plenum, RG-11 Satellite 75 Ohm Coaxial Cable, 14 awg, Sheilded, PVC, Cable comes in 1000' reel "},{"$f":"'Bill of Materials'!L880","v":"CommScope"},{"$f":"'Bill of Materials'!N880","v":207.9},{"$f":"'Bill of Materials'!P880","v":"DWC"},{"$f":"'Bill of Materials'!C880","v":"0119-C50G"},{"$f":"'Bill of Materials'!H880","v":5916},null,null,null,0,{"$f":"'Bill of Materials'!J880","v":"standard material"},{"$f":"'Bill of Materials'!K880","v":"physical"},0]
[{"$f":"'Bill of Materials'!E881+'Bill of Materials'!F881","v":0},{"$f":"'Bill of Materials'!M881","v":"EA"},{"$f":"'Bill of Materials'!G881","v":"Plenum, RG-11 Satellite 75 Ohm Coaxial Cable, 14 awg, Sheilded, CMP, Cable comes in 1000' reel "},{"$f":"'Bill of Materials'!L881","v":"CommScope"},{"$f":"'Bill of Materials'!N881","v":1128.5999999999999},{"$f":"'Bill of Materials'!P881","v":"DWC"},{"$f":"'Bill of Materials'!C881","v":"0119-C50H"},{"$f":"'Bill of Materials'!H881","v":"2285K"},null,null,null,0,{"$f":"'Bill of Materials'!J881","v":"standard material"},{"$f":"'Bill of Materials'!K881","v":"physical"},0]
[{"$f":"'Bill of Materials'!E882+'Bill of Materials'!F882","v":0},{"$f":"'Bill of Materials'!M882","v":"EA"},{"$f":"'Bill of Materials'!G882","v":"Plenum, RG6, 3Ghz, 75Ohm Coaxial Cable, 18 awg, Sheilded, CMP, Cable comes in 1000' reel "},{"$f":"'Bill of Materials'!L882","v":"CommScope"},{"$f":"'Bill of Materials'!N882","v":358.38},{"$f":"'Bill of Materials'!P882","v":"DWC"},{"$f":"'Bill of Materials'!C882","v":"0119-C50J"},{"$f":"'Bill of Materials'!H882","v":"2275V"},null,null,null,0,{"$f":"'Bill of Materials'!J882","v":"standard material"},{"$f":"'Bill of Materials'!K882","v":"physical"},0]
[{"$f":"'Bill of Materials'!E883+'Bill of Materials'!F883","v":0},{"$f":"'Bill of Materials'!M883","v":"EA"},{"$f":"'Bill of Materials'!G883","v":"Angle Polished ASC, SM, Video Fiber Pigtail, 900 um, 2Meter, Simplex"},{"$f":"'Bill of Materials'!L883","v":"AFL"},{"$f":"'Bill of Materials'!N883","v":9.31},{"$f":"'Bill of Materials'!P883","v":"DWC"},{"$f":"'Bill of Materials'!C883","v":"0119-C50K"},{"$f":"'Bill of Materials'!H883","v":"C203278-002"},null,null,null,0,{"$f":"'Bill of Materials'!J883","v":"standard material"},{"$f":"'Bill of Materials'!K883","v":"physical"},0]
[{"$f":"'Bill of Materials'!E884+'Bill of Materials'!F884","v":0},{"$f":"'Bill of Materials'!M884","v":"EA"},{"$f":"'Bill of Materials'!G884","v":"RG-6 & RG-59 Replacement Blades for SCPT-6591PL Cable Stripping Tool, 10/PKG, used for  Plenum Cable ONLY"},{"$f":"'Bill of Materials'!L884","v":"Cable Prep"},{"$f":"'Bill of Materials'!N884","v":5.35},{"$f":"'Bill of Materials'!P884","v":"DWC"},{"$f":"'Bill of Materials'!C884","v":"0139-439Y"},{"$f":"'Bill of Materials'!H884","v":"RBC-6590PL"},null,null,null,0,{"$f":"'Bill of Materials'!J884","v":"standard material"},{"$f":"'Bill of Materials'!K884","v":"physical"},0]
[{"$f":"'Bill of Materials'!E885+'Bill of Materials'!F885","v":0},{"$f":"'Bill of Materials'!M885","v":"EA"},{"$f":"'Bill of Materials'!G885","v":"RG-11 Replacement Blades for SCPT-6591PL Cable Stripping Tool, 10/PKG, Plenum Cable ONLY"},{"$f":"'Bill of Materials'!L885","v":"Cable Prep"},{"$f":"'Bill of Materials'!N885","v":6.02},{"$f":"'Bill of Materials'!P885","v":"DWC"},{"$f":"'Bill of Materials'!C885","v":"0139-43A0"},{"$f":"'Bill of Materials'!H885","v":"RBC-1100PL"},null,null,null,0,{"$f":"'Bill of Materials'!J885","v":"standard material"},{"$f":"'Bill of Materials'!K885","v":"physical"},0]
[{"$f":"'Bill of Materials'!E886+'Bill of Materials'!F886","v":0},{"$f":"'Bill of Materials'!M886","v":"EA"},{"$f":"'Bill of Materials'!G886","v":"RG-11 Replacement Blades for SCPT-6591PL Cable Stripping Tool, 10/PKG, Non-Plenum Cable ONLY"},{"$f":"'Bill of Materials'!L886","v":"Cable Prep"},{"$f":"'Bill of Materials'!N886","v":55.69},{"$f":"'Bill of Materials'!P886","v":"DWC"},{"$f":"'Bill of Materials'!C886","v":"0139-43A1"},{"$f":"'Bill of Materials'!H886","v":"RBC-1100"},null,null,null,0,{"$f":"'Bill of Materials'!J886","v":"standard material"},{"$f":"'Bill of Materials'!K886","v":"physical"},0]
[{"$f":"'Bill of Materials'!E887+'Bill of Materials'!F887","v":0},{"$f":"'Bill of Materials'!M887","v":"EA"},{"$f":"'Bill of Materials'!G887","v":"RG-6 Connector, 1-piece male crimp-on, for Commscope 2275V RG-6 Plenum cable"},{"$f":"'Bill of Materials'!L887","v":"Thomas & Betts Corp."},{"$f":"'Bill of Materials'!N887","v":0.39},{"$f":"'Bill of Materials'!P887","v":"DWC"},{"$f":"'Bill of Materials'!C887","v":"0207-GD29"},{"$f":"'Bill of Materials'!H887","v":"PL56CS"},null,null,null,0,{"$f":"'Bill of Materials'!J887","v":"standard material"},{"$f":"'Bill of Materials'!K887","v":"physical"},0]
[{"$f":"'Bill of Materials'!E888+'Bill of Materials'!F888","v":0},{"$f":"'Bill of Materials'!M888","v":"EA"},{"$f":"'Bill of Materials'!G888","v":"Multi-Fit \"F\" type connectors are designed to fit a wide range of manufacturers RG-6 and RG-59 coax cables."},{"$f":"'Bill of Materials'!L888","v":"Thomas & Betts Corp."},{"$f":"'Bill of Materials'!N888","v":0.24},{"$f":"'Bill of Materials'!P888","v":"DWC"},{"$f":"'Bill of Materials'!C888","v":"0207-GD2A"},{"$f":"'Bill of Materials'!H888","v":"AMF6"},null,null,null,0,{"$f":"'Bill of Materials'!J888","v":"standard material"},{"$f":"'Bill of Materials'!K888","v":"physical"},0]
[{"$f":"'Bill of Materials'!E889+'Bill of Materials'!F889","v":0},{"$f":"'Bill of Materials'!M889","v":"EA"},{"$f":"'Bill of Materials'!G889","v":"RG-11 Connector, 1-piece male crimp-on, for Commscope 2285K RG-11 Plenum cable"},{"$f":"'Bill of Materials'!L889","v":"Thomas & Betts Corp."},{"$f":"'Bill of Materials'!N889","v":2.0299999999999998},{"$f":"'Bill of Materials'!P889","v":"DWC"},{"$f":"'Bill of Materials'!C889","v":"0207-GD2F"},{"$f":"'Bill of Materials'!H889","v":"PL11CS"},null,null,null,0,{"$f":"'Bill of Materials'!J889","v":"standard material"},{"$f":"'Bill of Materials'!K889","v":"physical"},0]
[{"$f":"'Bill of Materials'!E890+'Bill of Materials'!F890","v":0},{"$f":"'Bill of Materials'!M890","v":"EA"},{"$f":"'Bill of Materials'!G890","v":"RG-11 Connector, 1-piece male crimp-on. for Commscope 5916 RG-11 Non-Plenum cable"},{"$f":"'Bill of Materials'!L890","v":"Thomas & Betts Corp."},{"$f":"'Bill of Materials'!N890","v":1.63},{"$f":"'Bill of Materials'!P890","v":"DWC"},{"$f":"'Bill of Materials'!C890","v":"0207-GD2G"},{"$f":"'Bill of Materials'!H890","v":"F11QS"},null,null,null,0,{"$f":"'Bill of Materials'!J890","v":"standard material"},{"$f":"'Bill of Materials'!K890","v":"physical"},0]
[{"$f":"'Bill of Materials'!E891+'Bill of Materials'!F891","v":0},{"$f":"'Bill of Materials'!M891","v":"EA"},{"$f":"'Bill of Materials'!G891","v":"RG-6/RG-59, Hex Crimp Tool for Thomas&Betts/LRC PL56CS & F56CH connectors"},{"$f":"'Bill of Materials'!L891","v":"Cable Prep"},{"$f":"'Bill of Materials'!N891","v":25.59},{"$f":"'Bill of Materials'!P891","v":"DWC"},{"$f":"'Bill of Materials'!C891","v":"0236-027K"},{"$f":"'Bill of Materials'!H891","v":"HCT-659"},null,null,null,0,{"$f":"'Bill of Materials'!J891","v":"standard material"},{"$f":"'Bill of Materials'!K891","v":"physical"},0]
[{"$f":"'Bill of Materials'!E892+'Bill of Materials'!F892","v":0},{"$f":"'Bill of Materials'!M892","v":"EA"},{"$f":"'Bill of Materials'!G892","v":"RG-11, Hex Crimp Tool for Thomas&Betts/LRC PL11CS & PL11QS RG-11 connectors"},{"$f":"'Bill of Materials'!L892","v":"Cable Prep"},{"$f":"'Bill of Materials'!N892","v":29.81},{"$f":"'Bill of Materials'!P892","v":"DWC"},{"$f":"'Bill of Materials'!C892","v":"0236-027L"},{"$f":"'Bill of Materials'!H892","v":"HCT-211"},null,null,null,0,{"$f":"'Bill of Materials'!J892","v":"standard material"},{"$f":"'Bill of Materials'!K892","v":"physical"},0]
[{"$f":"'Bill of Materials'!E893+'Bill of Materials'!F893","v":0},{"$f":"'Bill of Materials'!M893","v":"EA"},{"$f":"'Bill of Materials'!G893","v":"Module, Cassette Splice, (3) APC/SC SM Green Duplex Bulkhead Coupler PoliMod Patch & Splice Module for 6 fiber splices and terminations, includes (6) 40mm splice protectors"},{"$f":"'Bill of Materials'!L893","v":"AFL"},{"$f":"'Bill of Materials'!N893","v":139.59},{"$f":"'Bill of Materials'!P893","v":"DWC"},{"$f":"'Bill of Materials'!C893","v":"0528-5K2A"},{"$f":"'Bill of Materials'!H893","v":"FM000711"},null,null,null,0,{"$f":"'Bill of Materials'!J893","v":"standard material"},{"$f":"'Bill of Materials'!K893","v":"physical"},0]
[{"$f":"'Bill of Materials'!E894+'Bill of Materials'!F894","v":0},{"$f":"'Bill of Materials'!M894","v":"EA"},{"$f":"'Bill of Materials'!G894","v":"Module, Cassette Splice, (6) APC/SC SM Green Duplex Bulkhead Coupler PoliMod Patch & Splice Module for 12 fiber splices and terminations, includes (12) 40mm splice protectors"},{"$f":"'Bill of Materials'!L894","v":"AFL"},{"$f":"'Bill of Materials'!N894","v":177.31},{"$f":"'Bill of Materials'!P894","v":"DWC"},{"$f":"'Bill of Materials'!C894","v":"0528-5K2F"},{"$f":"'Bill of Materials'!H894","v":"FM000712"},null,null,null,{"$f":"E918*A918","v":0},{"$f":"'Bill of Materials'!J894","v":"standard material"},{"$f":"'Bill of Materials'!K894","v":"physical"},{"$f":"IF(A918>0,1,0)","v":0}]
[{"$f":"'Bill of Materials'!E895+'Bill of Materials'!F895","v":0},{"$f":"'Bill of Materials'!M895","v":"EA"},{"$f":"'Bill of Materials'!G895","v":"Module, Cassette Splice, (9) APC/SC SM Green Duplex Bulkhead Coupler Double-Wide PoliMod Patch & Splice Module for 18 fiber splices and terminations, includes (18) splice protectors"},{"$f":"'Bill of Materials'!L895","v":"AFL"},{"$f":"'Bill of Materials'!N895","v":291.26},{"$f":"'Bill of Materials'!P895","v":"DWC"},{"$f":"'Bill of Materials'!C895","v":"0528-5K2G"},{"$f":"'Bill of Materials'!H895","v":"FM000713"},null,null,null,0,{"$f":"'Bill of Materials'!J895","v":"standard material"},{"$f":"'Bill of Materials'!K895","v":"physical"},0]
[{"$f":"'Bill of Materials'!E896+'Bill of Materials'!F896","v":0},{"$f":"'Bill of Materials'!M896","v":"EA"},{"$f":"'Bill of Materials'!G896","v":"Strip Tool for RG-6 and RG-11 Plenum coaxial cable"},{"$f":"'Bill of Materials'!L896","v":"Cable Prep"},{"$f":"'Bill of Materials'!N896","v":39.94},{"$f":"'Bill of Materials'!P896","v":"DWC"},{"$f":"'Bill of Materials'!C896","v":"0811-085X"},{"$f":"'Bill of Materials'!H896","v":"SCPT-6591PL"},null,null,null,0,{"$f":"'Bill of Materials'!J896","v":"standard material"},{"$f":"'Bill of Materials'!K896","v":"physical"},0]
[{"$f":"'Bill of Materials'!E897+'Bill of Materials'!F897","v":0},{"$f":"'Bill of Materials'!M897","v":"BOX"},{"$f":"'Bill of Materials'!G897","v":"Cat. 5e UTP Station Wire, 1000' reel plenum in box 350 MHz. (Green for Video)"},{"$f":"'Bill of Materials'!L897","v":"CommScope"},{"$f":"'Bill of Materials'!N897","v":187.75},{"$f":"'Bill of Materials'!P897","v":"DWC"},{"$f":"'Bill of Materials'!C897","v":"10040"},{"$f":"'Bill of Materials'!H897","v":"5504M-GREEN"},null,null,null,0,{"$f":"'Bill of Materials'!J897","v":"standard material"},{"$f":"'Bill of Materials'!K897","v":"horizontal"},0]
[{"$f":"'Bill of Materials'!E898+'Bill of Materials'!F898","v":0},{"$f":"'Bill of Materials'!M898","v":"BOX"},{"$f":"'Bill of Materials'!G898","v":"Cat. 5e UTP Station Wire, 1000' reel non-plenum in box 350 MHz. (Green for Video)"},{"$f":"'Bill of Materials'!L898","v":"CommScope"},{"$f":"'Bill of Materials'!N898","v":98.14},{"$f":"'Bill of Materials'!P898","v":"DWC"},{"$f":"'Bill of Materials'!C898","v":"10042"},{"$f":"'Bill of Materials'!H898","v":"55N4R-GREEN"},null,null,null,0,{"$f":"'Bill of Materials'!J898","v":"standard material"},{"$f":"'Bill of Materials'!K898","v":"horizontal"},0]
[{"$f":"'Bill of Materials'!E899+'Bill of Materials'!F899","v":0},{"$f":"'Bill of Materials'!M899","v":"EA"},{"$f":"'Bill of Materials'!G899","v":"Quickport Cat 5e+ Jack, GREEN (Video)"},{"$f":"'Bill of Materials'!L899","v":"Leviton"},{"$f":"'Bill of Materials'!N899","v":3.11},{"$f":"'Bill of Materials'!P899","v":"DWC"},{"$f":"'Bill of Materials'!C899","v":"10044"},{"$f":"'Bill of Materials'!H899","v":"5G110-RV5"},null,null,null,0,{"$f":"'Bill of Materials'!J899","v":"standard material"},{"$f":"'Bill of Materials'!K899","v":"horizontal"},0]
[{"$f":"'Bill of Materials'!E900+'Bill of Materials'!F900","v":0},{"$f":"'Bill of Materials'!M900","v":"EA"},{"$f":"'Bill of Materials'!G900","v":"\"Fuse Connect\", Fusion Spliced Field Terminated Connector, ASC, SM, 900um, Green"},{"$f":"'Bill of Materials'!L900","v":"AFL"},{"$f":"'Bill of Materials'!N900","v":16.8},{"$f":"'Bill of Materials'!P900","v":"DWC"},{"$f":"'Bill of Materials'!C900","v":"10321"},{"$f":"'Bill of Materials'!H900","v":"CS004517"},null,null,null,0,{"$f":"'Bill of Materials'!J900","v":"standard material"},{"$f":"'Bill of Materials'!K900","v":"physical"},0]
[{"$f":"'Bill of Materials'!#REF!+'Bill of Materials'!#REF!","v":{"$error":"#REF!"}},{"$f":"'Bill of Materials'!#REF!","v":{"$error":"#REF!"}},{"$f":"'Bill of Materials'!#REF!","v":{"$error":"#REF!"}},{"$f":"'Bill of Materials'!#REF!","v":{"$error":"#REF!"}},{"$f":"'Bill of Materials'!#REF!","v":{"$error":"#REF!"}},{"$f":"'Bill of Materials'!#REF!","v":{"$error":"#REF!"}},{"$f":"'Bill of Materials'!#REF!","v":{"$error":"#REF!"}},{"$f":"'Bill of Materials'!#REF!","v":{"$error":"#REF!"}},null,null,null,{"$error":"#REF!"},{"$f":"'Bill of Materials'!#REF!","v":{"$error":"#REF!"}},{"$f":"'Bill of Materials'!#REF!","v":{"$error":"#REF!"}},{"$error":"#REF!"}]
[{"$f":"'Bill of Materials'!E901+'Bill of Materials'!F901","v":0},{"$f":"'Bill of Materials'!M901","v":"EA"},{"$f":"'Bill of Materials'!G901","v":"ASC Coupler Panel 12 Position 12 Simplex, LGX 170, - Green Angle Polish for 5RU, Fiber Panel, White"},{"$f":"'Bill of Materials'!L901","v":"AFL"},{"$f":"'Bill of Materials'!N901","v":46.95},{"$f":"'Bill of Materials'!P901","v":"DWC"},{"$f":"'Bill of Materials'!C901","v":"10322"},{"$f":"'Bill of Materials'!H901","v":"C215854"},null,null,null,0,{"$f":"'Bill of Materials'!J901","v":"standard material"},{"$f":"'Bill of Materials'!K901","v":"physical"},0]
[{"$f":"'Bill of Materials'!E902+'Bill of Materials'!F902","v":0},{"$f":"'Bill of Materials'!M902","v":"EA"},{"$f":"'Bill of Materials'!G902","v":"ASC Coupler Panel 12 Position 6 Duplex, LGX 118, - Green Angle Polish for 3RU, Fiber Panel, White"},{"$f":"'Bill of Materials'!L902","v":"AFL"},{"$f":"'Bill of Materials'!N902","v":47.9},{"$f":"'Bill of Materials'!P902","v":"DWC"},{"$f":"'Bill of Materials'!C902","v":"10323"},{"$f":"'Bill of Materials'!H902","v":"FM002634"},null,null,null,0,{"$f":"'Bill of Materials'!J902","v":"standard material"},{"$f":"'Bill of Materials'!K902","v":"physical"},0]
[{"$f":"'Bill of Materials'!E903+'Bill of Materials'!F903","v":0},{"$f":"'Bill of Materials'!M903","v":"EA"},{"$f":"'Bill of Materials'!G903","v":"Adapter Plate, 6-position (3-duplex), ASC, angle polished, green (Video) (Non Polimod Coupler Panels)"},{"$f":"'Bill of Materials'!L903","v":"AFL"},{"$f":"'Bill of Materials'!N903","v":21.73},{"$f":"'Bill of Materials'!P903","v":"DWC"},{"$f":"'Bill of Materials'!C903","v":"10326"},{"$f":"'Bill of Materials'!H903","v":"FM000115"},null,null,null,0,{"$f":"'Bill of Materials'!J903","v":"standard material"},{"$f":"'Bill of Materials'!K903","v":"physical"},0]
[{"$f":"'Bill of Materials'!E904+'Bill of Materials'!F904","v":0},{"$f":"'Bill of Materials'!M904","v":"EA"},{"$f":"'Bill of Materials'!G904","v":"Green Angle Polished APC/SC Duplex Flangeless Bulkhead for Polimod\r\n(Replaces Blue Duplex Bulkhead for CATV Use)"},{"$f":"'Bill of Materials'!L904","v":"AFL"},{"$f":"'Bill of Materials'!N904","v":6.53},{"$f":"'Bill of Materials'!P904","v":"DWC"},{"$f":"'Bill of Materials'!C904","v":"1317-000W"},{"$f":"'Bill of Materials'!H904","v":"CS000470"},null,null,null,0,{"$f":"'Bill of Materials'!J904","v":"standard material"},{"$f":"'Bill of Materials'!K904","v":"physical"},0]
[{"$f":"'Bill of Materials'!E905+'Bill of Materials'!F905","v":0},{"$f":"'Bill of Materials'!M905","v":"FT"},{"$f":"'Bill of Materials'!G905","v":"RG-59 Plenum Coaxial Cable"},{"$f":"'Bill of Materials'!L905","v":"CommScope"},{"$f":"'Bill of Materials'!N905","v":0.26},{"$f":"'Bill of Materials'!P905","v":"DWC"},{"$f":"'Bill of Materials'!C905","v":"INFO-6103"},{"$f":"'Bill of Materials'!H905","v":"2020K"},null,null,null,0,{"$f":"'Bill of Materials'!J905","v":"standard material"},{"$f":"'Bill of Materials'!K905","v":"physical"},0]
[{"$f":"'Bill of Materials'!E907+'Bill of Materials'!F907","v":0},{"$f":"'Bill of Materials'!M907","v":"EA"},{"$f":"'Bill of Materials'!G907","v":"APC/SC Laser Optic Port Terminator"},{"$f":"'Bill of Materials'!L907","v":"AFL"},{"$f":"'Bill of Materials'!N907","v":12.08},{"$f":"'Bill of Materials'!P907","v":"DWC"},{"$f":"'Bill of Materials'!C907","v":"0978-006T"},{"$f":"'Bill of Materials'!H907","v":"C148828"},null,null,null,0,{"$f":"'Bill of Materials'!J907","v":"standard material"},{"$f":"'Bill of Materials'!K907","v":"physical"},0]
[{"$f":"'Bill of Materials'!E908+'Bill of Materials'!F908","v":0},{"$f":"'Bill of Materials'!M908","v":"EA"},{"$f":"'Bill of Materials'!G908","v":"Clip-On Variable Fiber Optic Attenuator, Adjustable Attenuation of 0 to >47dB at 1550nm"},{"$f":"'Bill of Materials'!L908","v":"Fiber Instruments"},{"$f":"'Bill of Materials'!N908","v":61.2},{"$f":"'Bill of Materials'!P908","v":"DWC"},{"$f":"'Bill of Materials'!C908","v":"10103"},{"$f":"'Bill of Materials'!H908","v":"F10045"},null,null,null,0,{"$f":"'Bill of Materials'!J908","v":"standard material"},{"$f":"'Bill of Materials'!K908","v":"physical"},0]
[{"$f":"'Bill of Materials'!E909+'Bill of Materials'!F909","v":0},{"$f":"'Bill of Materials'!M909","v":"EA"},{"$f":"'Bill of Materials'!G909","v":"LightLink LANSystem CON0144P 12 pack 6 duplex APC green adapters SM ceramic White Panel/Video"},{"$f":"'Bill of Materials'!L909","v":"AFL"},{"$f":"'Bill of Materials'!N909","v":47.52},{"$f":"'Bill of Materials'!P909","v":"DWC"},{"$f":"'Bill of Materials'!C909","v":"INFO-4520"},{"$f":"'Bill of Materials'!H909","v":"FM000153"},null,null,null,0,{"$f":"'Bill of Materials'!J909","v":"standard material"},{"$f":"'Bill of Materials'!K909","v":"physical"},0]
[{"$f":"'Bill of Materials'!E910+'Bill of Materials'!F910","v":0},{"$f":"'Bill of Materials'!M910","v":"EA"},{"$f":"'Bill of Materials'!G910","v":"6 Strand, SM Fiber Pigtail, Circular Premise Cable, Riser, APC/SC-Blunt, 3Meter"},{"$f":"'Bill of Materials'!L910","v":"AFL"},{"$f":"'Bill of Materials'!N910","v":32.619999999999997},{"$f":"'Bill of Materials'!P910","v":"DWC"},{"$f":"'Bill of Materials'!C910","v":"INFO-6105"},{"$f":"'Bill of Materials'!H910","v":"ASC-XXX-RC-006-Q-0003"},null,null,null,0,{"$f":"'Bill of Materials'!J910","v":"standard material"},{"$f":"'Bill of Materials'!K910","v":"physical"},0]
[{"$f":"'Bill of Materials'!E911+'Bill of Materials'!F911","v":0},{"$f":"'Bill of Materials'!M911","v":"EA"},{"$f":"'Bill of Materials'!G911","v":"2 Strand SM, Duplex Fiber Pigtail 3.0mm Plenum zipcord, APC/SC-Blunt, 3Meter, "},{"$f":"'Bill of Materials'!L911","v":"AFL"},{"$f":"'Bill of Materials'!N911","v":17.57},{"$f":"'Bill of Materials'!P911","v":"DWC"},{"$f":"'Bill of Materials'!C911","v":"INFO-6106"},{"$f":"'Bill of Materials'!H911","v":"ASC-XXX-PZ-002-Q-0003"},null,null,null,0,{"$f":"'Bill of Materials'!J911","v":"standard material"},{"$f":"'Bill of Materials'!K911","v":"physical"},0]
[{"$f":"'Bill of Materials'!E912+'Bill of Materials'!F912","v":0},{"$f":"'Bill of Materials'!M912","v":"EA"},{"$f":"'Bill of Materials'!G912","v":"L-Band Fiber Receiver 1550nm Trunk System, 1RU"},{"$f":"'Bill of Materials'!L912","v":"Onepathnet"},{"$f":"'Bill of Materials'!N912","v":1927.53},{"$f":"'Bill of Materials'!P912","v":"DWC"},{"$f":"'Bill of Materials'!C912","v":"INFO-6202"},{"$f":"'Bill of Materials'!H912","v":"DN1R"},null,null,null,0,{"$f":"'Bill of Materials'!J912","v":"standard material"},{"$f":"'Bill of Materials'!K912","v":"physical"},0]
[{"$f":"'Bill of Materials'!E913+'Bill of Materials'!F913","v":0},{"$f":"'Bill of Materials'!M913","v":"EA"},{"$f":"'Bill of Materials'!G913","v":"SM Simplex Video Fiber Patch Cord, 3.0mm Plenum, ASC/ASC, Angle Polished, 5 Meters "},{"$f":"'Bill of Materials'!L913","v":"AFL"},{"$f":"'Bill of Materials'!N913","v":11.14},{"$f":"'Bill of Materials'!P913","v":"DWC"},{"$f":"'Bill of Materials'!C913","v":"INFO-6203"},{"$f":"'Bill of Materials'!H913","v":"ASC-ASC-PS-001-Q-0005"},null,null,null,0,{"$f":"'Bill of Materials'!J913","v":"standard material"},{"$f":"'Bill of Materials'!K913","v":"physical"},0]
[{"$f":"'Bill of Materials'!E914+'Bill of Materials'!F914","v":0},{"$f":"'Bill of Materials'!M914","v":"EA"},{"$f":"'Bill of Materials'!G914","v":"Terminator, FC/APC for Old Model 5508-X (CATV Optical Fiber Transmitters)"},{"$f":"'Bill of Materials'!L914","v":"AFL"},{"$f":"'Bill of Materials'!N914","v":8.4600000000000009},{"$f":"'Bill of Materials'!P914","v":"DWC"},{"$f":"'Bill of Materials'!C914","v":"INFO-6205"},{"$f":"'Bill of Materials'!H914","v":"C082562"},null,null,null,0,{"$f":"'Bill of Materials'!J914","v":"standard material"},{"$f":"'Bill of Materials'!K914","v":"physical"},0]
[{"$f":"'Bill of Materials'!E915+'Bill of Materials'!F915","v":0},{"$f":"'Bill of Materials'!M915","v":"EA"},{"$f":"'Bill of Materials'!G915","v":"4 Port CATV Optical Fiber Transmitter, 2.4 Ghz - High Power Singlemode SC/APC, 2RU"},{"$f":"'Bill of Materials'!L915","v":"Onepathnet"},{"$f":"'Bill of Materials'!N915","v":5140.08},{"$f":"'Bill of Materials'!P915","v":"DWC"},{"$f":"'Bill of Materials'!C915","v":"INFO-6206"},{"$f":"'Bill of Materials'!H915","v":"5508-4HP"},null,null,null,0,{"$f":"'Bill of Materials'!J915","v":"standard material"},{"$f":"'Bill of Materials'!K915","v":"physical"},0]
[{"$f":"'Bill of Materials'!#REF!+'Bill of Materials'!#REF!","v":{"$error":"#REF!"}},{"$f":"'Bill of Materials'!#REF!","v":{"$error":"#REF!"}},{"$f":"'Bill of Materials'!#REF!","v":{"$error":"#REF!"}},{"$f":"'Bill of Materials'!#REF!","v":{"$error":"#REF!"}},{"$f":"'Bill of Materials'!#REF!","v":{"$error":"#REF!"}},{"$f":"'Bill of Materials'!#REF!","v":{"$error":"#REF!"}},{"$f":"'Bill of Materials'!#REF!","v":{"$error":"#REF!"}},{"$f":"'Bill of Materials'!#REF!","v":{"$error":"#REF!"}},null,null,null,{"$error":"#REF!"},{"$f":"'Bill of Materials'!#REF!","v":{"$error":"#REF!"}},{"$f":"'Bill of Materials'!#REF!","v":{"$error":"#REF!"}},{"$error":"#REF!"}]
[{"$f":"'Bill of Materials'!E916+'Bill of Materials'!F916","v":0},{"$f":"'Bill of Materials'!M916","v":"EA"},{"$f":"'Bill of Materials'!G916","v":"24-Port Video Receiver, SM, APC/FC, 24 port fiber to coax cable distribution hub, 3RU"},{"$f":"'Bill of Materials'!L916","v":"Satellite Tracking Systems"},{"$f":"'Bill of Materials'!N916","v":1509.75},{"$f":"'Bill of Materials'!P916","v":"DWC"},{"$f":"'Bill of Materials'!C916","v":"INFO-6207"},{"$f":"'Bill of Materials'!H916","v":"PFC24"},null,null,null,0,{"$f":"'Bill of Materials'!J916","v":"standard material"},{"$f":"'Bill of Materials'!K916","v":"physical"},0]
[{"$f":"'Bill of Materials'!E917+'Bill of Materials'!F917","v":0},{"$f":"'Bill of Materials'!M917","v":"EA"},{"$f":"'Bill of Materials'!G917","v":"SM Simplex Video Fiber Pigtail, 3.0mm Plenum, ASC/Blunt, Angle Polished, 10 Meters "},{"$f":"'Bill of Materials'!L917","v":"AFL"},{"$f":"'Bill of Materials'!N917","v":9.06},{"$f":"'Bill of Materials'!P917","v":"DWC"},{"$f":"'Bill of Materials'!C917","v":"INFO-6208"},{"$f":"'Bill of Materials'!H917","v":"AFC-XXX-PS-001-Q-0010"},null,null,null,0,{"$f":"'Bill of Materials'!J917","v":"standard material"},{"$f":"'Bill of Materials'!K917","v":"physical"},0]
[{"$f":"'Bill of Materials'!#REF!+'Bill of Materials'!#REF!","v":{"$error":"#REF!"}},{"$f":"'Bill of Materials'!#REF!","v":{"$error":"#REF!"}},{"$f":"'Bill of Materials'!#REF!","v":{"$error":"#REF!"}},{"$f":"'Bill of Materials'!#REF!","v":{"$error":"#REF!"}},{"$f":"'Bill of Materials'!#REF!","v":{"$error":"#REF!"}},{"$f":"'Bill of Materials'!#REF!","v":{"$error":"#REF!"}},{"$f":"'Bill of Materials'!#REF!","v":{"$error":"#REF!"}},{"$f":"'Bill of Materials'!#REF!","v":{"$error":"#REF!"}},null,null,null,{"$error":"#REF!"},{"$f":"'Bill of Materials'!#REF!","v":{"$error":"#REF!"}},{"$f":"'Bill of Materials'!#REF!","v":{"$error":"#REF!"}},{"$error":"#REF!"}]
[{"$f":"'Bill of Materials'!E918+'Bill of Materials'!F918","v":0},{"$f":"'Bill of Materials'!M918","v":"EA"},{"$f":"'Bill of Materials'!G918","v":"8 Port CATV Optical Fiber Transmitter, 2.4 Ghz - Low Power Singlemode SC/APC, 2RU"},{"$f":"'Bill of Materials'!L918","v":"Onepathnet"},{"$f":"'Bill of Materials'!N918","v":5140.08},{"$f":"'Bill of Materials'!P918","v":"DWC"},{"$f":"'Bill of Materials'!C918","v":"INFO-6210"},{"$f":"'Bill of Materials'!H918","v":"5508-8"},null,null,null,0,{"$f":"'Bill of Materials'!J918","v":"standard material"},{"$f":"'Bill of Materials'!K918","v":"physical"},0]
[{"$f":"'Bill of Materials'!E919+'Bill of Materials'!F919","v":0},{"$f":"'Bill of Materials'!M919","v":"EA"},{"$f":"'Bill of Materials'!G919","v":"Self-Terminating QuickPort \"F\" Connector adapter, ivory"},{"$f":"'Bill of Materials'!L919","v":"Leviton"},{"$f":"'Bill of Materials'!N919","v":4.6399999999999997},{"$f":"'Bill of Materials'!P919","v":"DWC"},{"$f":"'Bill of Materials'!C919","v":"INFO-6211"},{"$f":"'Bill of Materials'!H919","v":"G37-FCNTR-FIP"},null,null,null,0,{"$f":"'Bill of Materials'!J919","v":"standard material"},{"$f":"'Bill of Materials'!K919","v":"physical"},0]
[{"$f":"'Bill of Materials'!E920+'Bill of Materials'!F920","v":0},{"$f":"'Bill of Materials'!M920","v":"EA"},{"$f":"'Bill of Materials'!G920","v":"ASC Duplex bulkhead couplers, angle polished, green (Video) (Non Polimod Coupler Panels)"},{"$f":"'Bill of Materials'!L920","v":"AFL"},{"$f":"'Bill of Materials'!N920","v":3.59},{"$f":"'Bill of Materials'!P920","v":"DWC"},{"$f":"'Bill of Materials'!C920","v":"INFO-8801"},{"$f":"'Bill of Materials'!H920","v":"CS000099"},null,null,null,0,{"$f":"'Bill of Materials'!J920","v":"standard material"},{"$f":"'Bill of Materials'!K920","v":"physical"},0]
[{"$f":"'Bill of Materials'!E922+'Bill of Materials'!F922","v":0},{"$f":"'Bill of Materials'!M922","v":"EA"},{"$f":"'Bill of Materials'!G922","v":"HP A5800-24G-PoE Switch"},{"$f":"'Bill of Materials'!L922","v":"HP"},{"$f":"'Bill of Materials'!N922","v":3070},{"$f":"'Bill of Materials'!P922","v":"HP"},{"$f":"'Bill of Materials'!C922","v":"10466"},{"$f":"'Bill of Materials'!H922","v":"JC099A"},null,null,null,0,{"$f":"'Bill of Materials'!J922","v":"standard material"},{"$f":"'Bill of Materials'!K922","v":"electronic"},0]
[{"$f":"'Bill of Materials'!#REF!+'Bill of Materials'!#REF!","v":{"$error":"#REF!"}},{"$f":"'Bill of Materials'!#REF!","v":{"$error":"#REF!"}},{"$f":"'Bill of Materials'!#REF!","v":{"$error":"#REF!"}},{"$f":"'Bill of Materials'!#REF!","v":{"$error":"#REF!"}},{"$f":"'Bill of Materials'!#REF!","v":{"$error":"#REF!"}},{"$f":"'Bill of Materials'!#REF!","v":{"$error":"#REF!"}},{"$f":"'Bill of Materials'!#REF!","v":{"$error":"#REF!"}},{"$f":"'Bill of Materials'!#REF!","v":{"$error":"#REF!"}},null,null,null,{"$error":"#REF!"},{"$f":"'Bill of Materials'!#REF!","v":{"$error":"#REF!"}},{"$f":"'Bill of Materials'!#REF!","v":{"$error":"#REF!"}},{"$error":"#REF!"}]
[{"$f":"'Bill of Materials'!E923+'Bill of Materials'!F923","v":0},{"$f":"'Bill of Materials'!M923","v":"EA"},{"$f":"'Bill of Materials'!G923","v":"HP 5800-48G-PoE Switch"},{"$f":"'Bill of Materials'!L923","v":"HP"},{"$f":"'Bill of Materials'!N923","v":5758},{"$f":"'Bill of Materials'!P923","v":"HP"},{"$f":"'Bill of Materials'!C923","v":"10467"},{"$f":"'Bill of Materials'!H923","v":"JC104A"},null,null,null,0,{"$f":"'Bill of Materials'!J923","v":"standard material"},{"$f":"'Bill of Materials'!K923","v":"electronic"},0]
[{"$f":"'Bill of Materials'!E924+'Bill of Materials'!F924","v":0},{"$f":"'Bill of Materials'!M924","v":"EA"},{"$f":"'Bill of Materials'!G924","v":"HP RPS1600 Redundant Power System"},{"$f":"'Bill of Materials'!L924","v":"HP"},{"$f":"'Bill of Materials'!N924","v":795},{"$f":"'Bill of Materials'!P924","v":"HP"},{"$f":"'Bill of Materials'!C924","v":"10468"},{"$f":"'Bill of Materials'!H924","v":"JG136A"},null,null,null,0,{"$f":"'Bill of Materials'!J924","v":"standard material"},{"$f":"'Bill of Materials'!K924","v":"electronic"},0]
[{"$f":"'Bill of Materials'!E925+'Bill of Materials'!F925","v":0},{"$f":"'Bill of Materials'!M925","v":"EA"},{"$f":"'Bill of Materials'!G925","v":"HP RPS1600 1600W AC Power Supply"},{"$f":"'Bill of Materials'!L925","v":"HP"},{"$f":"'Bill of Materials'!N925","v":604},{"$f":"'Bill of Materials'!P925","v":"HP"},{"$f":"'Bill of Materials'!C925","v":"10469"},{"$f":"'Bill of Materials'!H925","v":"JG137A"},null,null,null,0,{"$f":"'Bill of Materials'!J925","v":"standard material"},{"$f":"'Bill of Materials'!K925","v":"electronic"},0]
[{"$f":"'Bill of Materials'!E926+'Bill of Materials'!F926","v":0},{"$f":"'Bill of Materials'!M926","v":"EA"},{"$f":"'Bill of Materials'!G926","v":"HP X290 1000 A JD5 2m RPS Cable"},{"$f":"'Bill of Materials'!L926","v":"HP"},{"$f":"'Bill of Materials'!N926","v":11},{"$f":"'Bill of Materials'!P926","v":"HP"},{"$f":"'Bill of Materials'!C926","v":"10470"},{"$f":"'Bill of Materials'!H926","v":"JD187A"},null,null,null,0,{"$f":"'Bill of Materials'!J926","v":"standard material"},{"$f":"'Bill of Materials'!K926","v":"electronic"},0]
[{"$f":"'Bill of Materials'!E927+'Bill of Materials'!F927","v":0},{"$f":"'Bill of Materials'!M927","v":"EA"},{"$f":"'Bill of Materials'!G927","v":"HP 5500 150WAC Power Supply"},{"$f":"'Bill of Materials'!L927","v":"HP"},{"$f":"'Bill of Materials'!N927","v":172},{"$f":"'Bill of Materials'!P927","v":"HP"},{"$f":"'Bill of Materials'!C927","v":"10503"},{"$f":"'Bill of Materials'!H927","v":"JD362A"},null,null,null,0,{"$f":"'Bill of Materials'!J927","v":"standard material"},{"$f":"'Bill of Materials'!K927","v":"electronic"},0]
[{"$f":"'Bill of Materials'!E928+'Bill of Materials'!F928","v":0},{"$f":"'Bill of Materials'!M928","v":"EA"},{"$f":"'Bill of Materials'!G928","v":"HP 5800-24G-SFP Switch"},{"$f":"'Bill of Materials'!L928","v":"HP"},{"$f":"'Bill of Materials'!N928","v":4989},{"$f":"'Bill of Materials'!P928","v":"HP"},{"$f":"'Bill of Materials'!C928","v":"10504"},{"$f":"'Bill of Materials'!H928","v":"JC103A"},null,null,null,0,{"$f":"'Bill of Materials'!J928","v":"standard material"},{"$f":"'Bill of Materials'!K928","v":"electronic"},0]
[{"$f":"'Bill of Materials'!E930+'Bill of Materials'!F930","v":0},{"$f":"'Bill of Materials'!M930","v":"EA"},{"$f":"'Bill of Materials'!G930","v":"HP A7500 2800W AC Power Supply"},{"$f":"'Bill of Materials'!L930","v":"HP"},{"$f":"'Bill of Materials'!N930","v":1150},{"$f":"'Bill of Materials'!P930","v":"HP"},{"$f":"'Bill of Materials'!C930","v":"10505"},{"$f":"'Bill of Materials'!H930","v":"JD219A"},null,null,null,0,{"$f":"'Bill of Materials'!J930","v":"standard material"},{"$f":"'Bill of Materials'!K930","v":"electronic"},0]
[{"$f":"'Bill of Materials'!E931+'Bill of Materials'!F931","v":0},{"$f":"'Bill of Materials'!M931","v":"EA"},{"$f":"'Bill of Materials'!G931","v":"HP A7500 48-Port GbE SFP Module"},{"$f":"'Bill of Materials'!L931","v":"HP"},{"$f":"'Bill of Materials'!N931","v":4989},{"$f":"'Bill of Materials'!P931","v":"HP"},{"$f":"'Bill of Materials'!C931","v":"10506"},{"$f":"'Bill of Materials'!H931","v":"JD211B"},null,null,null,0,{"$f":"'Bill of Materials'!J931","v":"standard material"},{"$f":"'Bill of Materials'!K931","v":"electronic"},0]
[{"$f":"'Bill of Materials'!E932+'Bill of Materials'!F932","v":0},{"$f":"'Bill of Materials'!M932","v":"EA"},{"$f":"'Bill of Materials'!G932","v":"HP 7500 1400W AC Power Supply"},{"$f":"'Bill of Materials'!L932","v":"HP"},{"$f":"'Bill of Materials'!N932","v":764},{"$f":"'Bill of Materials'!P932","v":"HP"},{"$f":"'Bill of Materials'!C932","v":"10507"},{"$f":"'Bill of Materials'!H932","v":"JD218A"},null,null,null,0,{"$f":"'Bill of Materials'!J932","v":"standard material"},{"$f":"'Bill of Materials'!K932","v":"electronic"},0]
[{"$f":"'Bill of Materials'!#REF!+'Bill of Materials'!#REF!","v":{"$error":"#REF!"}},{"$f":"'Bill of Materials'!#REF!","v":{"$error":"#REF!"}},{"$f":"'Bill of Materials'!#REF!","v":{"$error":"#REF!"}},{"$f":"'Bill of Materials'!#REF!","v":{"$error":"#REF!"}},{"$f":"'Bill of Materials'!#REF!","v":{"$error":"#REF!"}},{"$f":"'Bill of Materials'!#REF!","v":{"$error":"#REF!"}},{"$f":"'Bill of Materials'!#REF!","v":{"$error":"#REF!"}},{"$f":"'Bill of Materials'!#REF!","v":{"$error":"#REF!"}},null,null,null,{"$error":"#REF!"},{"$f":"'Bill of Materials'!#REF!","v":{"$error":"#REF!"}},{"$f":"'Bill of Materials'!#REF!","v":{"$error":"#REF!"}},{"$error":"#REF!"}]
[{"$f":"'Bill of Materials'!E933+'Bill of Materials'!F933","v":0},{"$f":"'Bill of Materials'!M933","v":"EA"},{"$f":"'Bill of Materials'!G933","v":"HP 7500 8-port 10G SFP+ Module"},{"$f":"'Bill of Materials'!L933","v":"HP"},{"$f":"'Bill of Materials'!N933","v":6526},{"$f":"'Bill of Materials'!P933","v":"HP"},{"$f":"'Bill of Materials'!C933","v":"10508"},{"$f":"'Bill of Materials'!H933","v":"JF290A"},null,null,null,0,{"$f":"'Bill of Materials'!J933","v":"standard material"},{"$f":"'Bill of Materials'!K933","v":"electronic"},0]
[{"$f":"'Bill of Materials'!E934+'Bill of Materials'!F934","v":0},{"$f":"'Bill of Materials'!M934","v":"EA"},{"$f":"'Bill of Materials'!G934","v":"HP 7500 768Gbps Fabric Module"},{"$f":"'Bill of Materials'!L934","v":"HP"},{"$f":"'Bill of Materials'!N934","v":6144},{"$f":"'Bill of Materials'!P934","v":"HP"},{"$f":"'Bill of Materials'!C934","v":"10509"},{"$f":"'Bill of Materials'!H934","v":"JD220A"},null,null,null,0,{"$f":"'Bill of Materials'!J934","v":"standard material"},{"$f":"'Bill of Materials'!K934","v":"electronic"},0]
[{"$f":"'Bill of Materials'!E935+'Bill of Materials'!F935","v":0},{"$f":"'Bill of Materials'!M935","v":"EA"},{"$f":"'Bill of Materials'!G935","v":"HP 7500 24-port GbE SFP Module"},{"$f":"'Bill of Materials'!L935","v":"HP"},{"$f":"'Bill of Materials'!N935","v":2877},{"$f":"'Bill of Materials'!P935","v":"HP"},{"$f":"'Bill of Materials'!C935","v":"10510"},{"$f":"'Bill of Materials'!H935","v":"JD203B"},null,null,null,0,{"$f":"'Bill of Materials'!J935","v":"standard material"},{"$f":"'Bill of Materials'!K935","v":"electronic"},0]
[{"$f":"'Bill of Materials'!E936+'Bill of Materials'!F936","v":0},{"$f":"'Bill of Materials'!M936","v":"EA"},{"$f":"'Bill of Materials'!G936","v":"HP 7500 48-port Gig-T Module"},{"$f":"'Bill of Materials'!L936","v":"HP"},{"$f":"'Bill of Materials'!N936","v":3687},{"$f":"'Bill of Materials'!P936","v":"HP"},{"$f":"'Bill of Materials'!C936","v":"10511"},{"$f":"'Bill of Materials'!H936","v":"JD210A"},null,null,null,0,{"$f":"'Bill of Materials'!J936","v":"standard material"},{"$f":"'Bill of Materials'!K936","v":"electronic"},0]
[{"$f":"'Bill of Materials'!E937+'Bill of Materials'!F937","v":0},{"$f":"'Bill of Materials'!M937","v":"EA"},{"$f":"'Bill of Materials'!G937","v":"HP A7506 Switch Chassis"},{"$f":"'Bill of Materials'!L937","v":"HP"},{"$f":"'Bill of Materials'!N937","v":2688},{"$f":"'Bill of Materials'!P937","v":"HP"},{"$f":"'Bill of Materials'!C937","v":"10512"},{"$f":"'Bill of Materials'!H937","v":"JD239B"},null,null,null,0,{"$f":"'Bill of Materials'!J937","v":"standard material"},{"$f":"'Bill of Materials'!K937","v":"electronic"},0]
[{"$f":"'Bill of Materials'!E938+'Bill of Materials'!F938","v":0},{"$f":"'Bill of Materials'!M938","v":"EA"},{"$f":"'Bill of Materials'!G938","v":"HP 7510 Switch Chassis"},{"$f":"'Bill of Materials'!L938","v":"HP"},{"$f":"'Bill of Materials'!N938","v":3456},{"$f":"'Bill of Materials'!P938","v":"HP"},{"$f":"'Bill of Materials'!C938","v":"10513"},{"$f":"'Bill of Materials'!H938","v":"JD238B"},null,null,null,0,{"$f":"'Bill of Materials'!J938","v":"standard material"},{"$f":"'Bill of Materials'!K938","v":"electronic"},0]
[{"$f":"'Bill of Materials'!#REF!+'Bill of Materials'!#REF!","v":{"$error":"#REF!"}},{"$f":"'Bill of Materials'!#REF!","v":{"$error":"#REF!"}},{"$f":"'Bill of Materials'!#REF!","v":{"$error":"#REF!"}},{"$f":"'Bill of Materials'!#REF!","v":{"$error":"#REF!"}},{"$f":"'Bill of Materials'!#REF!","v":{"$error":"#REF!"}},{"$f":"'Bill of Materials'!#REF!","v":{"$error":"#REF!"}},{"$f":"'Bill of Materials'!#REF!","v":{"$error":"#REF!"}},{"$f":"'Bill of Materials'!#REF!","v":{"$error":"#REF!"}},null,null,null,{"$error":"#REF!"},{"$f":"'Bill of Materials'!#REF!","v":{"$error":"#REF!"}},{"$f":"'Bill of Materials'!#REF!","v":{"$error":"#REF!"}},{"$error":"#REF!"}]
[{"$f":"'Bill of Materials'!E940+'Bill of Materials'!F940","v":0},{"$f":"'Bill of Materials'!M940","v":"EA"},{"$f":"'Bill of Materials'!G940","v":"HP X120 1G SFP LC LX Transceiver"},{"$f":"'Bill of Materials'!L940","v":"HP"},{"$f":"'Bill of Materials'!N940","v":323},{"$f":"'Bill of Materials'!P940","v":"HP"},{"$f":"'Bill of Materials'!C940","v":"10471"},{"$f":"'Bill of Materials'!H940","v":"JD119B"},null,null,null,0,{"$f":"'Bill of Materials'!J940","v":"standard material"},{"$f":"'Bill of Materials'!K940","v":"electronic"},0]
[{"$f":"'Bill of Materials'!E941+'Bill of Materials'!F941","v":0},{"$f":"'Bill of Materials'!M941","v":"EA"},{"$f":"'Bill of Materials'!G941","v":"HP X240 10G SFP+ to SFP+ 0.65m Direct Attach Copper Cable"},{"$f":"'Bill of Materials'!L941","v":"HP"},{"$f":"'Bill of Materials'!N941","v":71},{"$f":"'Bill of Materials'!P941","v":"HP"},{"$f":"'Bill of Materials'!C941","v":"10472"},{"$f":"'Bill of Materials'!H941","v":"JD095B"},null,null,null,0,{"$f":"'Bill of Materials'!J941","v":"standard material"},{"$f":"'Bill of Materials'!K941","v":"electronic"},0]
[{"$f":"'Bill of Materials'!#REF!+'Bill of Materials'!#REF!","v":{"$error":"#REF!"}},{"$f":"'Bill of Materials'!#REF!","v":{"$error":"#REF!"}},{"$f":"'Bill of Materials'!#REF!","v":{"$error":"#REF!"}},{"$f":"'Bill of Materials'!#REF!","v":{"$error":"#REF!"}},{"$f":"'Bill of Materials'!#REF!","v":{"$error":"#REF!"}},{"$f":"'Bill of Materials'!#REF!","v":{"$error":"#REF!"}},{"$f":"'Bill of Materials'!#REF!","v":{"$error":"#REF!"}},{"$f":"'Bill of Materials'!#REF!","v":{"$error":"#REF!"}},null,null,null,{"$error":"#REF!"},{"$f":"'Bill of Materials'!#REF!","v":{"$error":"#REF!"}},{"$f":"'Bill of Materials'!#REF!","v":{"$error":"#REF!"}},{"$error":"#REF!"}]
[{"$f":"'Bill of Materials'!E942+'Bill of Materials'!F942","v":0},{"$f":"'Bill of Materials'!M942","v":"EA"},{"$f":"'Bill of Materials'!G942","v":"HP X120 1G SFP LC SX Transceiver"},{"$f":"'Bill of Materials'!L942","v":"HP"},{"$f":"'Bill of Materials'!N942","v":163},{"$f":"'Bill of Materials'!P942","v":"HP"},{"$f":"'Bill of Materials'!C942","v":"10500"},{"$f":"'Bill of Materials'!H942","v":"JD118B"},null,null,null,0,{"$f":"'Bill of Materials'!J942","v":"standard material"},{"$f":"'Bill of Materials'!K942","v":"electronic"},0]
[{"$f":"'Bill of Materials'!E943+'Bill of Materials'!F943","v":0},{"$f":"'Bill of Materials'!M943","v":"EA"},{"$f":"'Bill of Materials'!G943","v":"HP X130 10G SFP+ LC SR Transceiver"},{"$f":"'Bill of Materials'!L943","v":"HP"},{"$f":"'Bill of Materials'!N943","v":726},{"$f":"'Bill of Materials'!P943","v":"HP"},{"$f":"'Bill of Materials'!C943","v":"10501"},{"$f":"'Bill of Materials'!H943","v":"JD092B"},null,null,null,0,{"$f":"'Bill of Materials'!J943","v":"standard material"},{"$f":"'Bill of Materials'!K943","v":"electronic"},0]
[{"$f":"'Bill of Materials'!E944+'Bill of Materials'!F944","v":0},{"$f":"'Bill of Materials'!M944","v":"EA"},{"$f":"'Bill of Materials'!G944","v":"HP X240 10G SFP+ to SFP+ 1.2m Direct Attach Copper Cable"},{"$f":"'Bill of Materials'!L944","v":"HP"},{"$f":"'Bill of Materials'!N944","v":79},{"$f":"'Bill of Materials'!P944","v":"HP"},{"$f":"'Bill of Materials'!C944","v":"10502"},{"$f":"'Bill of Materials'!H944","v":"JD096B"},null,null,null,0,{"$f":"'Bill of Materials'!J944","v":"standard material"},{"$f":"'Bill of Materials'!K944","v":"electronic"},0]
[{"$f":"'Bill of Materials'!E946+'Bill of Materials'!F946","v":0},{"$f":"'Bill of Materials'!M946","v":"EA"},{"$f":"'Bill of Materials'!G946","v":"HP 1G Compact Flash"},{"$f":"'Bill of Materials'!L946","v":"HP"},{"$f":"'Bill of Materials'!N946","v":126},{"$f":"'Bill of Materials'!P946","v":"HP"},{"$f":"'Bill of Materials'!C946","v":"10498"},{"$f":"'Bill of Materials'!H946","v":"JD276A"},null,null,null,0,{"$f":"'Bill of Materials'!J946","v":"standard material"},{"$f":"'Bill of Materials'!K946","v":"electronic"},0]
[{"$f":"'Bill of Materials'!E947+'Bill of Materials'!F947","v":0},{"$f":"'Bill of Materials'!M947","v":"EA"},{"$f":"'Bill of Materials'!G947","v":"HP S200 512M Compact Flash"},{"$f":"'Bill of Materials'!L947","v":"HP"},{"$f":"'Bill of Materials'!N947","v":67},{"$f":"'Bill of Materials'!P947","v":"HP"},{"$f":"'Bill of Materials'!C947","v":"10499"},{"$f":"'Bill of Materials'!H947","v":"JD277A"},null,null,null,0,{"$f":"'Bill of Materials'!J947","v":"standard material"},{"$f":"'Bill of Materials'!K947","v":"electronic"},0]
[{"$f":"'Bill of Materials'!E949+'Bill of Materials'!F949","v":0},{"$f":"'Bill of Materials'!M949","v":"EA"},{"$f":"'Bill of Materials'!G949","v":"2Units ACE 4710 Hardware-1Gbps-1K SSL-100MbpsComp-5VC- 50App"},{"$f":"'Bill of Materials'!L949","v":"Cisco"},{"$f":"'Bill of Materials'!N949","v":23997.599999999999},{"$f":"'Bill of Materials'!P949","v":"HP"},{"$f":"'Bill of Materials'!C949","v":"10183"},{"$f":"'Bill of Materials'!H949","v":"ACE-4710-BAS-2PAK"},null,null,null,0,{"$f":"'Bill of Materials'!J949","v":"standard material"},{"$f":"'Bill of Materials'!K949","v":"electronic"},0]
[{"$f":"'Bill of Materials'!E950+'Bill of Materials'!F950","v":0},{"$f":"'Bill of Materials'!M950","v":"EA"},{"$f":"'Bill of Materials'!G950","v":"Cisco NAM 2204 Appliance, 4x1GbE, RJ45"},{"$f":"'Bill of Materials'!L950","v":"Cisco"},{"$f":"'Bill of Materials'!N950","v":12147.75},{"$f":"'Bill of Materials'!P950","v":"HP"},{"$f":"'Bill of Materials'!C950","v":"10214"},{"$f":"'Bill of Materials'!H950","v":"NAM2204-RJ45"},null,null,null,0,{"$f":"'Bill of Materials'!J950","v":"standard material"},{"$f":"'Bill of Materials'!K950","v":"electronic"},0]
[{"$f":"'Bill of Materials'!E951+'Bill of Materials'!F951","v":0},{"$f":"'Bill of Materials'!M951","v":"EA"},{"$f":"'Bill of Materials'!G951","v":"CISCO 2 units of ACE 4710 Hardware-1Gbps-7500SSL-1GComp-20VC"},{"$f":"'Bill of Materials'!L951","v":"Cisco"},{"$f":"'Bill of Materials'!N951","v":22497.75},{"$f":"'Bill of Materials'!P951","v":"HP"},{"$f":"'Bill of Materials'!C951","v":"10496"},{"$f":"'Bill of Materials'!H951","v":"ACE-4710-2PAK"},null,null,null,0,{"$f":"'Bill of Materials'!J951","v":"standard material"},{"$f":"'Bill of Materials'!K951","v":"electronic"},0]
[{"$f":"'Bill of Materials'!E953+'Bill of Materials'!F953","v":0},{"$f":"'Bill of Materials'!M953","v":"EA"},{"$f":"'Bill of Materials'!G953","v":"ASA 5540 Appliance with SW, HA, 4GE+1FE, 3DES/AES"},{"$f":"'Bill of Materials'!L953","v":"Cisco"},{"$f":"'Bill of Materials'!N953","v":6798},{"$f":"'Bill of Materials'!P953","v":"HP"},{"$f":"'Bill of Materials'!C953","v":"10210"},{"$f":"'Bill of Materials'!H953","v":"ASA5540-BUN-K9"},null,null,null,0,{"$f":"'Bill of Materials'!J953","v":"standard material"},{"$f":"'Bill of Materials'!K953","v":"electronic"},0]
[{"$f":"'Bill of Materials'!E954+'Bill of Materials'!F954","v":0},{"$f":"'Bill of Materials'!M954","v":"EA"},{"$f":"'Bill of Materials'!G954","v":"ASA 5500 Advanced Endpoint Assessment License for SSL VPN"},{"$f":"'Bill of Materials'!L954","v":"Cisco"},{"$f":"'Bill of Materials'!N954","v":398},{"$f":"'Bill of Materials'!P954","v":"HP"},{"$f":"'Bill of Materials'!C954","v":"10211"},{"$f":"'Bill of Materials'!H954","v":"ASA-ADV-END-SEC"},null,null,null,0,{"$f":"'Bill of Materials'!J954","v":"standard material"},{"$f":"'Bill of Materials'!K954","v":"electronic"},0]
[{"$f":"'Bill of Materials'!E955+'Bill of Materials'!F955","v":0},{"$f":"'Bill of Materials'!M955","v":"EA"},{"$f":"'Bill of Materials'!G955","v":"ASA 5500 5 Security Contexts License"},{"$f":"'Bill of Materials'!L955","v":"Cisco"},{"$f":"'Bill of Materials'!N955","v":1500},{"$f":"'Bill of Materials'!P955","v":"HP"},{"$f":"'Bill of Materials'!C955","v":"10212"},{"$f":"'Bill of Materials'!H955","v":"ASA5500-SC-5"},null,null,null,0,{"$f":"'Bill of Materials'!J955","v":"standard material"},{"$f":"'Bill of Materials'!K955","v":"electronic"},0]
[{"$f":"'Bill of Materials'!E956+'Bill of Materials'!F956","v":0},{"$f":"'Bill of Materials'!M956","v":"EA"},{"$f":"'Bill of Materials'!G956","v":"ASA 5500 4-Port Gigabit Ethernet SSM (RJ-45+SFP)"},{"$f":"'Bill of Materials'!L956","v":"Cisco"},{"$f":"'Bill of Materials'!N956","v":2000},{"$f":"'Bill of Materials'!P956","v":"HP"},{"$f":"'Bill of Materials'!C956","v":"10213"},{"$f":"'Bill of Materials'!H956","v":"SSM-4GE"},null,null,null,0,{"$f":"'Bill of Materials'!J956","v":"standard material"},{"$f":"'Bill of Materials'!K956","v":"electronic"},0]
[{"$f":"'Bill of Materials'!E958+'Bill of Materials'!F958","v":0},{"$f":"'Bill of Materials'!M958","v":"EA"},{"$f":"'Bill of Materials'!G958","v":"Cisco IE 3000 Switch, 8 10/100 + 2 T/SFP"},{"$f":"'Bill of Materials'!L958","v":"Cisco"},{"$f":"'Bill of Materials'!N958","v":798},{"$f":"'Bill of Materials'!P958","v":"HP"},{"$f":"'Bill of Materials'!C958","v":"10288"},{"$f":"'Bill of Materials'!H958","v":"IE-3000-8TC"},null,null,null,0,{"$f":"'Bill of Materials'!J958","v":"standard material"},{"$f":"'Bill of Materials'!K958","v":"electronic"},0]
[{"$f":"'Bill of Materials'!E959+'Bill of Materials'!F959","v":0},{"$f":"'Bill of Materials'!M959","v":"EA"},{"$f":"'Bill of Materials'!G959","v":"Cisco IE 3000 LAN BASE W/O CRYPTO WITH WEB BASED DEV MGR"},{"$f":"'Bill of Materials'!L959","v":"Cisco"},{"$f":"'Bill of Materials'!N959","v":0},{"$f":"'Bill of Materials'!P959","v":"HP"},{"$f":"'Bill of Materials'!C959","v":"10289"},{"$f":"'Bill of Materials'!H959","v":"SIESLBT-12255SE"},null,null,null,{"$f":"E982*A982","v":0},{"$f":"'Bill of Materials'!J959","v":"standard material"},{"$f":"'Bill of Materials'!K959","v":"electronic"},{"$f":"IF(A982>0,1,0)","v":0}]
[{"$f":"'Bill of Materials'!E960+'Bill of Materials'!F960","v":0},{"$f":"'Bill of Materials'!M960","v":"EA"},{"$f":"'Bill of Materials'!G960","v":"Cisco IE 3000 8-Port Base Switch w/ Layer 3"},{"$f":"'Bill of Materials'!L960","v":"Cisco"},{"$f":"'Bill of Materials'!N960","v":3436},{"$f":"'Bill of Materials'!P960","v":"HP"},{"$f":"'Bill of Materials'!C960","v":"10290"},{"$f":"'Bill of Materials'!H960","v":"IE-3000-8TC-E"},null,null,null,0,{"$f":"'Bill of Materials'!J960","v":"standard material"},{"$f":"'Bill of Materials'!K960","v":"electronic"},0]
[{"$f":"'Bill of Materials'!E961+'Bill of Materials'!F961","v":0},{"$f":"'Bill of Materials'!M961","v":"EA"},{"$f":"'Bill of Materials'!G961","v":"Cisco IE 3000 IP SERVICES W/O CRYPTO WITH WEB BASED DEV MGR"},{"$f":"'Bill of Materials'!L961","v":"Cisco"},{"$f":"'Bill of Materials'!N961","v":0},{"$f":"'Bill of Materials'!P961","v":"HP"},{"$f":"'Bill of Materials'!C961","v":"10291"},{"$f":"'Bill of Materials'!H961","v":"SIESSPST-12255SE"},null,null,null,0,{"$f":"'Bill of Materials'!J961","v":"standard material"},{"$f":"'Bill of Materials'!K961","v":"electronic"},0]
[{"$f":"'Bill of Materials'!E962+'Bill of Materials'!F962","v":0},{"$f":"'Bill of Materials'!M962","v":"EA"},{"$f":"'Bill of Materials'!G962","v":"Cisco IE 3000 Expansion Module, 8 10/100"},{"$f":"'Bill of Materials'!L962","v":"Cisco"},{"$f":"'Bill of Materials'!N962","v":478},{"$f":"'Bill of Materials'!P962","v":"HP"},{"$f":"'Bill of Materials'!C962","v":"10292"},{"$f":"'Bill of Materials'!H962","v":"IEM-3000-8TM="},null,null,null,0,{"$f":"'Bill of Materials'!J962","v":"standard material"},{"$f":"'Bill of Materials'!K962","v":"electronic"},0]
[{"$f":"'Bill of Materials'!#REF!+'Bill of Materials'!#REF!","v":{"$error":"#REF!"}},{"$f":"'Bill of Materials'!#REF!","v":{"$error":"#REF!"}},{"$f":"'Bill of Materials'!#REF!","v":{"$error":"#REF!"}},{"$f":"'Bill of Materials'!#REF!","v":{"$error":"#REF!"}},{"$f":"'Bill of Materials'!#REF!","v":{"$error":"#REF!"}},{"$f":"'Bill of Materials'!#REF!","v":{"$error":"#REF!"}},{"$f":"'Bill of Materials'!#REF!","v":{"$error":"#REF!"}},{"$f":"'Bill of Materials'!#REF!","v":{"$error":"#REF!"}},null,null,null,{"$error":"#REF!"},{"$f":"'Bill of Materials'!#REF!","v":{"$error":"#REF!"}},{"$f":"'Bill of Materials'!#REF!","v":{"$error":"#REF!"}},{"$error":"#REF!"}]
[{"$f":"'Bill of Materials'!E963+'Bill of Materials'!F963","v":0},{"$f":"'Bill of Materials'!M963","v":"EA"},{"$f":"'Bill of Materials'!G963","v":"Cisco IE 3000 Expansion Module, 8 100FX"},{"$f":"'Bill of Materials'!L963","v":"Cisco"},{"$f":"'Bill of Materials'!N963","v":998},{"$f":"'Bill of Materials'!P963","v":"HP"},{"$f":"'Bill of Materials'!C963","v":"10293"},{"$f":"'Bill of Materials'!H963","v":"IEM-3000-8FM="},null,null,null,0,{"$f":"'Bill of Materials'!J963","v":"standard material"},{"$f":"'Bill of Materials'!K963","v":"electronic"},0]
[{"$f":"'Bill of Materials'!E964+'Bill of Materials'!F964","v":0},{"$f":"'Bill of Materials'!M964","v":"EA"},{"$f":"'Bill of Materials'!G964","v":"Cisco IE 3000 Power transformer"},{"$f":"'Bill of Materials'!L964","v":"Cisco"},{"$f":"'Bill of Materials'!N964","v":158},{"$f":"'Bill of Materials'!P964","v":"HP"},{"$f":"'Bill of Materials'!C964","v":"10294"},{"$f":"'Bill of Materials'!H964","v":"PWR-IE3000-AC="},null,null,null,0,{"$f":"'Bill of Materials'!J964","v":"standard material"},{"$f":"'Bill of Materials'!K964","v":"electronic"},0]
[{"$f":"'Bill of Materials'!E965+'Bill of Materials'!F965","v":0},{"$f":"'Bill of Materials'!M965","v":"EA"},{"$f":"'Bill of Materials'!G965","v":"Cisco IE 3000 Spare Connector Power Transformer"},{"$f":"'Bill of Materials'!L965","v":"Cisco"},{"$f":"'Bill of Materials'!N965","v":6},{"$f":"'Bill of Materials'!P965","v":"HP"},{"$f":"'Bill of Materials'!C965","v":"10295"},{"$f":"'Bill of Materials'!H965","v":"PWR-IE3000-CLP=\t"},null,null,null,0,{"$f":"'Bill of Materials'!J965","v":"standard material"},{"$f":"'Bill of Materials'!K965","v":"electronic"},0]
[{"$f":"'Bill of Materials'!E966+'Bill of Materials'!F966","v":0},{"$f":"'Bill of Materials'!M966","v":"EA"},{"$f":"'Bill of Materials'!G966","v":"Cisco IE 3000 Spare Power Connector"},{"$f":"'Bill of Materials'!L966","v":"Cisco"},{"$f":"'Bill of Materials'!N966","v":10},{"$f":"'Bill of Materials'!P966","v":"HP"},{"$f":"'Bill of Materials'!C966","v":"10296"},{"$f":"'Bill of Materials'!H966","v":"PWR-IE3000-CNCT="},null,null,null,0,{"$f":"'Bill of Materials'!J966","v":"standard material"},{"$f":"'Bill of Materials'!K966","v":"electronic"},0]
[{"$f":"'Bill of Materials'!E968+'Bill of Materials'!F968","v":0},{"$f":"'Bill of Materials'!M968","v":"EA"},{"$f":"'Bill of Materials'!G968","v":"10GBASE-SR SFP Module"},{"$f":"'Bill of Materials'!L968","v":"Cisco"},{"$f":"'Bill of Materials'!N968","v":672.75},{"$f":"'Bill of Materials'!P968","v":"HP"},{"$f":"'Bill of Materials'!C968","v":"10197"},{"$f":"'Bill of Materials'!H968","v":"SFP-10G-SR"},null,null,null,0,{"$f":"'Bill of Materials'!J968","v":"standard material"},{"$f":"'Bill of Materials'!K968","v":"electronic"},0]
[{"$f":"'Bill of Materials'!E969+'Bill of Materials'!F969","v":0},{"$f":"'Bill of Materials'!M969","v":"EA"},{"$f":"'Bill of Materials'!G969","v":"10GBASE-LR SFP Module"},{"$f":"'Bill of Materials'!L969","v":"Cisco"},{"$f":"'Bill of Materials'!N969","v":1598},{"$f":"'Bill of Materials'!P969","v":"HP"},{"$f":"'Bill of Materials'!C969","v":"10237"},{"$f":"'Bill of Materials'!H969","v":"SFP-10G-LR"},null,null,null,0,{"$f":"'Bill of Materials'!J969","v":"standard material"},{"$f":"'Bill of Materials'!K969","v":"electronic"},0]
[{"$f":"'Bill of Materials'!E970+'Bill of Materials'!F970","v":0},{"$f":"'Bill of Materials'!M970","v":"EA"},{"$f":"'Bill of Materials'!G970","v":"10GBASE-CU SFP+ Cable 1 Meter"},{"$f":"'Bill of Materials'!L970","v":"Cisco"},{"$f":"'Bill of Materials'!N970","v":60},{"$f":"'Bill of Materials'!P970","v":"HP"},{"$f":"'Bill of Materials'!C970","v":"10241"},{"$f":"'Bill of Materials'!H970","v":"SFP-H10GB-CU1M"},null,null,null,0,{"$f":"'Bill of Materials'!J970","v":"standard material"},{"$f":"'Bill of Materials'!K970","v":"electronic"},0]
[{"$f":"'Bill of Materials'!E971+'Bill of Materials'!F971","v":0},{"$f":"'Bill of Materials'!M971","v":"EA"},{"$f":"'Bill of Materials'!G971","v":"10GBASE-CU SFP+ Cable 3 Meter"},{"$f":"'Bill of Materials'!L971","v":"Cisco"},{"$f":"'Bill of Materials'!N971","v":84},{"$f":"'Bill of Materials'!P971","v":"HP"},{"$f":"'Bill of Materials'!C971","v":"10242"},{"$f":"'Bill of Materials'!H971","v":"SFP-H10GB-CU3M"},null,null,null,0,{"$f":"'Bill of Materials'!J971","v":"standard material"},{"$f":"'Bill of Materials'!K971","v":"electronic"},0]
[{"$f":"'Bill of Materials'!#REF!+'Bill of Materials'!#REF!","v":{"$error":"#REF!"}},{"$f":"'Bill of Materials'!#REF!","v":{"$error":"#REF!"}},{"$f":"'Bill of Materials'!#REF!","v":{"$error":"#REF!"}},{"$f":"'Bill of Materials'!#REF!","v":{"$error":"#REF!"}},{"$f":"'Bill of Materials'!#REF!","v":{"$error":"#REF!"}},{"$f":"'Bill of Materials'!#REF!","v":{"$error":"#REF!"}},{"$f":"'Bill of Materials'!#REF!","v":{"$error":"#REF!"}},{"$f":"'Bill of Materials'!#REF!","v":{"$error":"#REF!"}},null,null,null,{"$error":"#REF!"},{"$f":"'Bill of Materials'!#REF!","v":{"$error":"#REF!"}},{"$f":"'Bill of Materials'!#REF!","v":{"$error":"#REF!"}},{"$error":"#REF!"}]
[{"$f":"'Bill of Materials'!#REF!+'Bill of Materials'!#REF!","v":{"$error":"#REF!"}},{"$f":"'Bill of Materials'!#REF!","v":{"$error":"#REF!"}},{"$f":"'Bill of Materials'!#REF!","v":{"$error":"#REF!"}},{"$f":"'Bill of Materials'!#REF!","v":{"$error":"#REF!"}},{"$f":"'Bill of Materials'!#REF!","v":{"$error":"#REF!"}},{"$f":"'Bill of Materials'!#REF!","v":{"$error":"#REF!"}},{"$f":"'Bill of Materials'!#REF!","v":{"$error":"#REF!"}},{"$f":"'Bill of Materials'!#REF!","v":{"$error":"#REF!"}},null,null,null,{"$error":"#REF!"},{"$f":"'Bill of Materials'!#REF!","v":{"$error":"#REF!"}},{"$f":"'Bill of Materials'!#REF!","v":{"$error":"#REF!"}},{"$error":"#REF!"}]
[{"$f":"'Bill of Materials'!E972+'Bill of Materials'!F972","v":0},{"$f":"'Bill of Materials'!M972","v":"EA"},{"$f":"'Bill of Materials'!G972","v":"10GBASE-CU SFP+ Cable 5 Meter"},{"$f":"'Bill of Materials'!L972","v":"Cisco"},{"$f":"'Bill of Materials'!N972","v":104},{"$f":"'Bill of Materials'!P972","v":"HP"},{"$f":"'Bill of Materials'!C972","v":"10243"},{"$f":"'Bill of Materials'!H972","v":"SFP-H10GB-CU5M"},null,null,null,0,{"$f":"'Bill of Materials'!J972","v":"standard material"},{"$f":"'Bill of Materials'!K972","v":"electronic"},0]
[{"$f":"'Bill of Materials'!E973+'Bill of Materials'!F973","v":0},{"$f":"'Bill of Materials'!M973","v":"EA"},{"$f":"'Bill of Materials'!G973","v":"10GBASE-LRM SFP Module"},{"$f":"'Bill of Materials'!L973","v":"Cisco"},{"$f":"'Bill of Materials'!N973","v":518},{"$f":"'Bill of Materials'!P973","v":"HP"},{"$f":"'Bill of Materials'!C973","v":"10343"},{"$f":"'Bill of Materials'!H973","v":"SFP-10G-LRM="},null,null,null,0,{"$f":"'Bill of Materials'!J973","v":"standard material"},{"$f":"'Bill of Materials'!K973","v":"electronic"},0]
[{"$f":"'Bill of Materials'!#REF!+'Bill of Materials'!#REF!","v":{"$error":"#REF!"}},{"$f":"'Bill of Materials'!#REF!","v":{"$error":"#REF!"}},{"$f":"'Bill of Materials'!#REF!","v":{"$error":"#REF!"}},{"$f":"'Bill of Materials'!#REF!","v":{"$error":"#REF!"}},{"$f":"'Bill of Materials'!#REF!","v":{"$error":"#REF!"}},{"$f":"'Bill of Materials'!#REF!","v":{"$error":"#REF!"}},{"$f":"'Bill of Materials'!#REF!","v":{"$error":"#REF!"}},{"$f":"'Bill of Materials'!#REF!","v":{"$error":"#REF!"}},null,null,null,{"$error":"#REF!"},{"$f":"'Bill of Materials'!#REF!","v":{"$error":"#REF!"}},{"$f":"'Bill of Materials'!#REF!","v":{"$error":"#REF!"}},{"$error":"#REF!"}]
[{"$f":"'Bill of Materials'!#REF!+'Bill of Materials'!#REF!","v":{"$error":"#REF!"}},{"$f":"'Bill of Materials'!#REF!","v":{"$error":"#REF!"}},{"$f":"'Bill of Materials'!#REF!","v":{"$error":"#REF!"}},{"$f":"'Bill of Materials'!#REF!","v":{"$error":"#REF!"}},{"$f":"'Bill of Materials'!#REF!","v":{"$error":"#REF!"}},{"$f":"'Bill of Materials'!#REF!","v":{"$error":"#REF!"}},{"$f":"'Bill of Materials'!#REF!","v":{"$error":"#REF!"}},{"$f":"'Bill of Materials'!#REF!","v":{"$error":"#REF!"}},null,null,null,{"$error":"#REF!"},{"$f":"'Bill of Materials'!#REF!","v":{"$error":"#REF!"}},{"$f":"'Bill of Materials'!#REF!","v":{"$error":"#REF!"}},{"$error":"#REF!"}]
[{"$f":"'Bill of Materials'!#REF!+'Bill of Materials'!#REF!","v":{"$error":"#REF!"}},{"$f":"'Bill of Materials'!#REF!","v":{"$error":"#REF!"}},{"$f":"'Bill of Materials'!#REF!","v":{"$error":"#REF!"}},{"$f":"'Bill of Materials'!#REF!","v":{"$error":"#REF!"}},{"$f":"'Bill of Materials'!#REF!","v":{"$error":"#REF!"}},{"$f":"'Bill of Materials'!#REF!","v":{"$error":"#REF!"}},{"$f":"'Bill of Materials'!#REF!","v":{"$error":"#REF!"}},{"$f":"'Bill of Materials'!#REF!","v":{"$error":"#REF!"}},null,null,null,{"$error":"#REF!"},{"$f":"'Bill of Materials'!#REF!","v":{"$error":"#REF!"}},{"$f":"'Bill of Materials'!#REF!","v":{"$error":"#REF!"}},{"$error":"#REF!"}]
[{"$f":"'Bill of Materials'!#REF!+'Bill of Materials'!#REF!","v":{"$error":"#REF!"}},{"$f":"'Bill of Materials'!#REF!","v":{"$error":"#REF!"}},{"$f":"'Bill of Materials'!#REF!","v":{"$error":"#REF!"}},{"$f":"'Bill of Materials'!#REF!","v":{"$error":"#REF!"}},{"$f":"'Bill of Materials'!#REF!","v":{"$error":"#REF!"}},{"$f":"'Bill of Materials'!#REF!","v":{"$error":"#REF!"}},{"$f":"'Bill of Materials'!#REF!","v":{"$error":"#REF!"}},{"$f":"'Bill of Materials'!#REF!","v":{"$error":"#REF!"}},null,null,null,{"$error":"#REF!"},{"$f":"'Bill of Materials'!#REF!","v":{"$error":"#REF!"}},{"$f":"'Bill of Materials'!#REF!","v":{"$error":"#REF!"}},{"$error":"#REF!"}]
[{"$f":"'Bill of Materials'!#REF!+'Bill of Materials'!#REF!","v":{"$error":"#REF!"}},{"$f":"'Bill of Materials'!#REF!","v":{"$error":"#REF!"}},{"$f":"'Bill of Materials'!#REF!","v":{"$error":"#REF!"}},{"$f":"'Bill of Materials'!#REF!","v":{"$error":"#REF!"}},{"$f":"'Bill of Materials'!#REF!","v":{"$error":"#REF!"}},{"$f":"'Bill of Materials'!#REF!","v":{"$error":"#REF!"}},{"$f":"'Bill of Materials'!#REF!","v":{"$error":"#REF!"}},{"$f":"'Bill of Materials'!#REF!","v":{"$error":"#REF!"}},null,null,null,{"$error":"#REF!"},{"$f":"'Bill of Materials'!#REF!","v":{"$error":"#REF!"}},{"$f":"'Bill of Materials'!#REF!","v":{"$error":"#REF!"}},{"$error":"#REF!"}]
[{"$f":"'Bill of Materials'!#REF!+'Bill of Materials'!#REF!","v":{"$error":"#REF!"}},{"$f":"'Bill of Materials'!#REF!","v":{"$error":"#REF!"}},{"$f":"'Bill of Materials'!#REF!","v":{"$error":"#REF!"}},{"$f":"'Bill of Materials'!#REF!","v":{"$error":"#REF!"}},{"$f":"'Bill of Materials'!#REF!","v":{"$error":"#REF!"}},{"$f":"'Bill of Materials'!#REF!","v":{"$error":"#REF!"}},{"$f":"'Bill of Materials'!#REF!","v":{"$error":"#REF!"}},{"$f":"'Bill of Materials'!#REF!","v":{"$error":"#REF!"}},null,null,null,{"$error":"#REF!"},{"$f":"'Bill of Materials'!#REF!","v":{"$error":"#REF!"}},{"$f":"'Bill of Materials'!#REF!","v":{"$error":"#REF!"}},{"$error":"#REF!"}]
[{"$f":"'Bill of Materials'!#REF!+'Bill of Materials'!#REF!","v":{"$error":"#REF!"}},{"$f":"'Bill of Materials'!#REF!","v":{"$error":"#REF!"}},{"$f":"'Bill of Materials'!#REF!","v":{"$error":"#REF!"}},{"$f":"'Bill of Materials'!#REF!","v":{"$error":"#REF!"}},{"$f":"'Bill of Materials'!#REF!","v":{"$error":"#REF!"}},{"$f":"'Bill of Materials'!#REF!","v":{"$error":"#REF!"}},{"$f":"'Bill of Materials'!#REF!","v":{"$error":"#REF!"}},{"$f":"'Bill of Materials'!#REF!","v":{"$error":"#REF!"}},null,null,null,{"$error":"#REF!"},{"$f":"'Bill of Materials'!#REF!","v":{"$error":"#REF!"}},{"$f":"'Bill of Materials'!#REF!","v":{"$error":"#REF!"}},{"$error":"#REF!"}]
[{"$f":"'Bill of Materials'!E974+'Bill of Materials'!F974","v":0},{"$f":"'Bill of Materials'!M974","v":"EA"},{"$f":"'Bill of Materials'!G974","v":"CISCO 10G Line Extender for FEX"},{"$f":"'Bill of Materials'!L974","v":"Cisco"},{"$f":"'Bill of Materials'!N974","v":672.75},{"$f":"'Bill of Materials'!P974","v":"HP"},{"$f":"'Bill of Materials'!C974","v":"10474"},{"$f":"'Bill of Materials'!H974","v":"FET-10G"},null,null,null,0,{"$f":"'Bill of Materials'!J974","v":"standard material"},{"$f":"'Bill of Materials'!K974","v":"electronic"},0]
[{"$f":"'Bill of Materials'!#REF!+'Bill of Materials'!#REF!","v":{"$error":"#REF!"}},{"$f":"'Bill of Materials'!#REF!","v":{"$error":"#REF!"}},{"$f":"'Bill of Materials'!#REF!","v":{"$error":"#REF!"}},{"$f":"'Bill of Materials'!#REF!","v":{"$error":"#REF!"}},{"$f":"'Bill of Materials'!#REF!","v":{"$error":"#REF!"}},{"$f":"'Bill of Materials'!#REF!","v":{"$error":"#REF!"}},{"$f":"'Bill of Materials'!#REF!","v":{"$error":"#REF!"}},{"$f":"'Bill of Materials'!#REF!","v":{"$error":"#REF!"}},null,null,null,{"$error":"#REF!"},{"$f":"'Bill of Materials'!#REF!","v":{"$error":"#REF!"}},{"$f":"'Bill of Materials'!#REF!","v":{"$error":"#REF!"}},{"$error":"#REF!"}]
[{"$f":"'Bill of Materials'!E976+'Bill of Materials'!F976","v":0},{"$f":"'Bill of Materials'!M976","v":"EA"},{"$f":"'Bill of Materials'!G976","v":"CISCO Nexus 2248TP with 8 FET (2 AC PS, 1 Fan (Std Airflow))"},{"$f":"'Bill of Materials'!L976","v":"Cisco"},{"$f":"'Bill of Materials'!N976","v":4950},{"$f":"'Bill of Materials'!P976","v":"HP"},{"$f":"'Bill of Materials'!C976","v":"10473"},{"$f":"'Bill of Materials'!H976","v":"N2K-C2248TF-1GE"},null,null,null,0,{"$f":"'Bill of Materials'!J976","v":"standard material"},{"$f":"'Bill of Materials'!K976","v":"electronic"},0]
[{"$f":"'Bill of Materials'!#REF!+'Bill of Materials'!#REF!","v":{"$error":"#REF!"}},{"$f":"'Bill of Materials'!#REF!","v":{"$error":"#REF!"}},{"$f":"'Bill of Materials'!#REF!","v":{"$error":"#REF!"}},{"$f":"'Bill of Materials'!#REF!","v":{"$error":"#REF!"}},{"$f":"'Bill of Materials'!#REF!","v":{"$error":"#REF!"}},{"$f":"'Bill of Materials'!#REF!","v":{"$error":"#REF!"}},{"$f":"'Bill of Materials'!#REF!","v":{"$error":"#REF!"}},{"$f":"'Bill of Materials'!#REF!","v":{"$error":"#REF!"}},null,null,null,{"$error":"#REF!"},{"$f":"'Bill of Materials'!#REF!","v":{"$error":"#REF!"}},{"$f":"'Bill of Materials'!#REF!","v":{"$error":"#REF!"}},{"$error":"#REF!"}]
[{"$f":"'Bill of Materials'!#REF!+'Bill of Materials'!#REF!","v":{"$error":"#REF!"}},{"$f":"'Bill of Materials'!#REF!","v":{"$error":"#REF!"}},{"$f":"'Bill of Materials'!#REF!","v":{"$error":"#REF!"}},{"$f":"'Bill of Materials'!#REF!","v":{"$error":"#REF!"}},{"$f":"'Bill of Materials'!#REF!","v":{"$error":"#REF!"}},{"$f":"'Bill of Materials'!#REF!","v":{"$error":"#REF!"}},{"$f":"'Bill of Materials'!#REF!","v":{"$error":"#REF!"}},{"$f":"'Bill of Materials'!#REF!","v":{"$error":"#REF!"}},null,null,null,{"$error":"#REF!"},{"$f":"'Bill of Materials'!#REF!","v":{"$error":"#REF!"}},{"$f":"'Bill of Materials'!#REF!","v":{"$error":"#REF!"}},{"$error":"#REF!"}]
[{"$f":"'Bill of Materials'!#REF!+'Bill of Materials'!#REF!","v":{"$error":"#REF!"}},{"$f":"'Bill of Materials'!#REF!","v":{"$error":"#REF!"}},{"$f":"'Bill of Materials'!#REF!","v":{"$error":"#REF!"}},{"$f":"'Bill of Materials'!#REF!","v":{"$error":"#REF!"}},{"$f":"'Bill of Materials'!#REF!","v":{"$error":"#REF!"}},{"$f":"'Bill of Materials'!#REF!","v":{"$error":"#REF!"}},{"$f":"'Bill of Materials'!#REF!","v":{"$error":"#REF!"}},{"$f":"'Bill of Materials'!#REF!","v":{"$error":"#REF!"}},null,null,null,{"$error":"#REF!"},{"$f":"'Bill of Materials'!#REF!","v":{"$error":"#REF!"}},{"$f":"'Bill of Materials'!#REF!","v":{"$error":"#REF!"}},{"$error":"#REF!"}]
[{"$f":"'Bill of Materials'!#REF!+'Bill of Materials'!#REF!","v":{"$error":"#REF!"}},{"$f":"'Bill of Materials'!#REF!","v":{"$error":"#REF!"}},{"$f":"'Bill of Materials'!#REF!","v":{"$error":"#REF!"}},{"$f":"'Bill of Materials'!#REF!","v":{"$error":"#REF!"}},{"$f":"'Bill of Materials'!#REF!","v":{"$error":"#REF!"}},{"$f":"'Bill of Materials'!#REF!","v":{"$error":"#REF!"}},{"$f":"'Bill of Materials'!#REF!","v":{"$error":"#REF!"}},{"$f":"'Bill of Materials'!#REF!","v":{"$error":"#REF!"}},null,null,null,{"$error":"#REF!"},{"$f":"'Bill of Materials'!#REF!","v":{"$error":"#REF!"}},{"$f":"'Bill of Materials'!#REF!","v":{"$error":"#REF!"}},{"$error":"#REF!"}]
[{"$f":"'Bill of Materials'!#REF!+'Bill of Materials'!#REF!","v":{"$error":"#REF!"}},{"$f":"'Bill of Materials'!#REF!","v":{"$error":"#REF!"}},{"$f":"'Bill of Materials'!#REF!","v":{"$error":"#REF!"}},{"$f":"'Bill of Materials'!#REF!","v":{"$error":"#REF!"}},{"$f":"'Bill of Materials'!#REF!","v":{"$error":"#REF!"}},{"$f":"'Bill of Materials'!#REF!","v":{"$error":"#REF!"}},{"$f":"'Bill of Materials'!#REF!","v":{"$error":"#REF!"}},{"$f":"'Bill of Materials'!#REF!","v":{"$error":"#REF!"}},null,null,null,{"$error":"#REF!"},{"$f":"'Bill of Materials'!#REF!","v":{"$error":"#REF!"}},{"$f":"'Bill of Materials'!#REF!","v":{"$error":"#REF!"}},{"$error":"#REF!"}]
[{"$f":"'Bill of Materials'!#REF!+'Bill of Materials'!#REF!","v":{"$error":"#REF!"}},{"$f":"'Bill of Materials'!#REF!","v":{"$error":"#REF!"}},{"$f":"'Bill of Materials'!#REF!","v":{"$error":"#REF!"}},{"$f":"'Bill of Materials'!#REF!","v":{"$error":"#REF!"}},{"$f":"'Bill of Materials'!#REF!","v":{"$error":"#REF!"}},{"$f":"'Bill of Materials'!#REF!","v":{"$error":"#REF!"}},{"$f":"'Bill of Materials'!#REF!","v":{"$error":"#REF!"}},{"$f":"'Bill of Materials'!#REF!","v":{"$error":"#REF!"}},null,null,null,{"$error":"#REF!"},{"$f":"'Bill of Materials'!#REF!","v":{"$error":"#REF!"}},{"$f":"'Bill of Materials'!#REF!","v":{"$error":"#REF!"}},{"$error":"#REF!"}]
[{"$f":"'Bill of Materials'!#REF!+'Bill of Materials'!#REF!","v":{"$error":"#REF!"}},{"$f":"'Bill of Materials'!#REF!","v":{"$error":"#REF!"}},{"$f":"'Bill of Materials'!#REF!","v":{"$error":"#REF!"}},{"$f":"'Bill of Materials'!#REF!","v":{"$error":"#REF!"}},{"$f":"'Bill of Materials'!#REF!","v":{"$error":"#REF!"}},{"$f":"'Bill of Materials'!#REF!","v":{"$error":"#REF!"}},{"$f":"'Bill of Materials'!#REF!","v":{"$error":"#REF!"}},{"$f":"'Bill of Materials'!#REF!","v":{"$error":"#REF!"}},null,null,null,{"$error":"#REF!"},{"$f":"'Bill of Materials'!#REF!","v":{"$error":"#REF!"}},{"$f":"'Bill of Materials'!#REF!","v":{"$error":"#REF!"}},{"$error":"#REF!"}]
[{"$f":"'Bill of Materials'!#REF!+'Bill of Materials'!#REF!","v":{"$error":"#REF!"}},{"$f":"'Bill of Materials'!#REF!","v":{"$error":"#REF!"}},{"$f":"'Bill of Materials'!#REF!","v":{"$error":"#REF!"}},{"$f":"'Bill of Materials'!#REF!","v":{"$error":"#REF!"}},{"$f":"'Bill of Materials'!#REF!","v":{"$error":"#REF!"}},{"$f":"'Bill of Materials'!#REF!","v":{"$error":"#REF!"}},{"$f":"'Bill of Materials'!#REF!","v":{"$error":"#REF!"}},{"$f":"'Bill of Materials'!#REF!","v":{"$error":"#REF!"}},null,null,null,{"$error":"#REF!"},{"$f":"'Bill of Materials'!#REF!","v":{"$error":"#REF!"}},{"$f":"'Bill of Materials'!#REF!","v":{"$error":"#REF!"}},{"$error":"#REF!"}]
[{"$f":"'Bill of Materials'!#REF!+'Bill of Materials'!#REF!","v":{"$error":"#REF!"}},{"$f":"'Bill of Materials'!#REF!","v":{"$error":"#REF!"}},{"$f":"'Bill of Materials'!#REF!","v":{"$error":"#REF!"}},{"$f":"'Bill of Materials'!#REF!","v":{"$error":"#REF!"}},{"$f":"'Bill of Materials'!#REF!","v":{"$error":"#REF!"}},{"$f":"'Bill of Materials'!#REF!","v":{"$error":"#REF!"}},{"$f":"'Bill of Materials'!#REF!","v":{"$error":"#REF!"}},{"$f":"'Bill of Materials'!#REF!","v":{"$error":"#REF!"}},null,null,null,{"$error":"#REF!"},{"$f":"'Bill of Materials'!#REF!","v":{"$error":"#REF!"}},{"$f":"'Bill of Materials'!#REF!","v":{"$error":"#REF!"}},{"$error":"#REF!"}]
[{"$f":"'Bill of Materials'!E977+'Bill of Materials'!F977","v":0},{"$f":"'Bill of Materials'!M977","v":"EA"},{"$f":"'Bill of Materials'!G977","v":"CISCO N2K GE, 2 AC PS, 1 Fan (Std Air), 24x100/1000-T+2x10GE"},{"$f":"'Bill of Materials'!L977","v":"Cisco"},{"$f":"'Bill of Materials'!N977","v":3150},{"$f":"'Bill of Materials'!P977","v":"HP"},{"$f":"'Bill of Materials'!C977","v":"10475"},{"$f":"'Bill of Materials'!H977","v":"N2K-C2224TP-1GE"},null,null,null,0,{"$f":"'Bill of Materials'!J977","v":"standard material"},{"$f":"'Bill of Materials'!K977","v":"electronic"},0]
[{"$f":"'Bill of Materials'!E979+'Bill of Materials'!F979","v":0},{"$f":"'Bill of Materials'!M979","v":"EA"},{"$f":"'Bill of Materials'!G979","v":"Power Cord, 250V 6A North America, NEMA 6-15\r\n"},{"$f":"'Bill of Materials'!L979","v":"Cisco"},{"$f":"'Bill of Materials'!N979","v":24},{"$f":"'Bill of Materials'!P979","v":"HP"},{"$f":"'Bill of Materials'!C979","v":"10217"},{"$f":"'Bill of Materials'!H979","v":"CAB-N5K6A-NA"},null,null,null,0,{"$f":"'Bill of Materials'!J979","v":"standard material"},{"$f":"'Bill of Materials'!K979","v":"electronic"},0]
[{"$f":"'Bill of Materials'!E980+'Bill of Materials'!F980","v":0},{"$f":"'Bill of Materials'!M980","v":"EA"},{"$f":"'Bill of Materials'!G980","v":"Power Cord, 125VAC 13A North America,  NEMA 5-15 \r\n"},{"$f":"'Bill of Materials'!L980","v":"Cisco"},{"$f":"'Bill of Materials'!N980","v":12},{"$f":"'Bill of Materials'!P980","v":"HP"},{"$f":"'Bill of Materials'!C980","v":"10219"},{"$f":"'Bill of Materials'!H980","v":"CAB-9K12A-NA"},null,null,null,0,{"$f":"'Bill of Materials'!J980","v":"standard material"},{"$f":"'Bill of Materials'!K980","v":"electronic"},0]
[{"$f":"'Bill of Materials'!E981+'Bill of Materials'!F981","v":0},{"$f":"'Bill of Materials'!M981","v":"EA"},{"$f":"'Bill of Materials'!G981","v":"CISCO Nexus 5500 Platform Layer 3 License"},{"$f":"'Bill of Materials'!L981","v":"Cisco"},{"$f":"'Bill of Materials'!N981","v":4500},{"$f":"'Bill of Materials'!P981","v":"HP"},{"$f":"'Bill of Materials'!C981","v":"10477"},{"$f":"'Bill of Materials'!H981","v":"N55-LAN1K9"},null,null,null,0,{"$f":"'Bill of Materials'!J981","v":"standard material"},{"$f":"'Bill of Materials'!K981","v":"electronic"},0]
[{"$f":"'Bill of Materials'!E982+'Bill of Materials'!F982","v":0},{"$f":"'Bill of Materials'!M982","v":"EA"},{"$f":"'Bill of Materials'!G982","v":"CISCO Nexus 5500 Unified Mod 16p 10GE Eth/FCoE OR 16p 8/4/2/1GFC"},{"$f":"'Bill of Materials'!L982","v":"Cisco"},{"$f":"'Bill of Materials'!N982","v":5040},{"$f":"'Bill of Materials'!P982","v":"HP"},{"$f":"'Bill of Materials'!C982","v":"10478"},{"$f":"'Bill of Materials'!H982","v":"N55-M16UP"},null,null,null,0,{"$f":"'Bill of Materials'!J982","v":"standard material"},{"$f":"'Bill of Materials'!K982","v":"electronic"},0]
[{"$f":"'Bill of Materials'!E983+'Bill of Materials'!F983","v":0},{"$f":"'Bill of Materials'!M983","v":"EA"},{"$f":"'Bill of Materials'!G983","v":"CISCO Nexus 5548 UP Chassis, 32 10GbE Ports, 2 PS, 2 Fans"},{"$f":"'Bill of Materials'!L983","v":"Cisco"},{"$f":"'Bill of Materials'!N983","v":11520},{"$f":"'Bill of Materials'!P983","v":"HP"},{"$f":"'Bill of Materials'!C983","v":"10479"},{"$f":"'Bill of Materials'!H983","v":"N5K-C5548UP-FA"},null,null,null,0,{"$f":"'Bill of Materials'!J983","v":"standard material"},{"$f":"'Bill of Materials'!K983","v":"electronic"},0]
[{"$f":"'Bill of Materials'!E984+'Bill of Materials'!F984","v":0},{"$f":"'Bill of Materials'!M984","v":"EA"},{"$f":"'Bill of Materials'!G984","v":"CISCO Nexus 5596UP 2RU Chassis, 2PS, 4 Fans, 48 Fixed 10GE Ports"},{"$f":"'Bill of Materials'!L984","v":"Cisco"},{"$f":"'Bill of Materials'!N984","v":16560},{"$f":"'Bill of Materials'!P984","v":"HP"},{"$f":"'Bill of Materials'!C984","v":"10480"},{"$f":"'Bill of Materials'!H984","v":"N5K-C5596UP-FA"},null,null,null,0,{"$f":"'Bill of Materials'!J984","v":"standard material"},{"$f":"'Bill of Materials'!K984","v":"electronic"},0]
[{"$f":"'Bill of Materials'!E985+'Bill of Materials'!F985","v":0},{"$f":"'Bill of Materials'!M985","v":"EA"},{"$f":"'Bill of Materials'!G985","v":"CISCO Nexus 5596 Layer 3 Expansion Module"},{"$f":"'Bill of Materials'!L985","v":"Cisco"},{"$f":"'Bill of Materials'!N985","v":2250},{"$f":"'Bill of Materials'!P985","v":"HP"},{"$f":"'Bill of Materials'!C985","v":"10481"},{"$f":"'Bill of Materials'!H985","v":"N55-M160L3"},null,null,null,0,{"$f":"'Bill of Materials'!J985","v":"standard material"},{"$f":"'Bill of Materials'!K985","v":"electronic"},0]
[{"$f":"'Bill of Materials'!E987+'Bill of Materials'!F987","v":0},{"$f":"'Bill of Materials'!M987","v":"EA"},{"$f":"'Bill of Materials'!G987","v":"Nexus 7000 Advanced LAN Enterprise License (VDC, CTS ONLY)"},{"$f":"'Bill of Materials'!L987","v":"Cisco"},{"$f":"'Bill of Materials'!N987","v":9000},{"$f":"'Bill of Materials'!P987","v":"HP"},{"$f":"'Bill of Materials'!C987","v":"10187"},{"$f":"'Bill of Materials'!H987","v":"N7K-ADV1K9"},null,null,null,0,{"$f":"'Bill of Materials'!J987","v":"standard material"},{"$f":"'Bill of Materials'!K987","v":"electronic"},0]
[{"$f":"'Bill of Materials'!E988+'Bill of Materials'!F988","v":0},{"$f":"'Bill of Materials'!M988","v":"EA"},{"$f":"'Bill of Materials'!G988","v":"Nexus 7010 Air Filter"},{"$f":"'Bill of Materials'!L988","v":"Cisco"},{"$f":"'Bill of Materials'!N988","v":225},{"$f":"'Bill of Materials'!P988","v":"HP"},{"$f":"'Bill of Materials'!C988","v":"10188"},{"$f":"'Bill of Materials'!H988","v":"N7K-C7010-AFLT"},null,null,null,0,{"$f":"'Bill of Materials'!J988","v":"standard material"},{"$f":"'Bill of Materials'!K988","v":"electronic"},0]
[{"$f":"'Bill of Materials'!E989+'Bill of Materials'!F989","v":0},{"$f":"'Bill of Materials'!M989","v":"EA"},{"$f":"'Bill of Materials'!G989","v":"Nexus 7010 Bundle (Chassis, SUP1, (3) FAB1, (2) AC-6KW PSU)"},{"$f":"'Bill of Materials'!L989","v":"Cisco"},{"$f":"'Bill of Materials'!N989","v":21600},{"$f":"'Bill of Materials'!P989","v":"HP"},{"$f":"'Bill of Materials'!C989","v":"10189"},{"$f":"'Bill of Materials'!H989","v":"N7K-C7010-BUN"},null,null,null,0,{"$f":"'Bill of Materials'!J989","v":"standard material"},{"$f":"'Bill of Materials'!K989","v":"electronic"},0]
[{"$f":"'Bill of Materials'!E990+'Bill of Materials'!F990","v":0},{"$f":"'Bill of Materials'!M990","v":"EA"},{"$f":"'Bill of Materials'!G990","v":"Nexus 7010 Front Door Kit"},{"$f":"'Bill of Materials'!L990","v":"Cisco"},{"$f":"'Bill of Materials'!N990","v":675},{"$f":"'Bill of Materials'!P990","v":"HP"},{"$f":"'Bill of Materials'!C990","v":"10190"},{"$f":"'Bill of Materials'!H990","v":"N7K-C7010-FD-MB"},null,null,null,0,{"$f":"'Bill of Materials'!J990","v":"standard material"},{"$f":"'Bill of Materials'!K990","v":"electronic"},0]
[{"$f":"'Bill of Materials'!E991+'Bill of Materials'!F991","v":0},{"$f":"'Bill of Materials'!M991","v":"EA"},{"$f":"'Bill of Materials'!G991","v":"Nexus 7000 Compact Flash Memory 2GB (Expansion Flash - Slot 0)"},{"$f":"'Bill of Materials'!L991","v":"Cisco"},{"$f":"'Bill of Materials'!N991","v":540},{"$f":"'Bill of Materials'!P991","v":"HP"},{"$f":"'Bill of Materials'!C991","v":"10191"},{"$f":"'Bill of Materials'!H991","v":"N7K-CPF-2GB"},null,null,null,0,{"$f":"'Bill of Materials'!J991","v":"standard material"},{"$f":"'Bill of Materials'!K991","v":"electronic"},0]
[{"$f":"'Bill of Materials'!E992+'Bill of Materials'!F992","v":0},{"$f":"'Bill of Materials'!M992","v":"EA"},{"$f":"'Bill of Materials'!G992","v":"Nexus 7000 LAN Enterprise License (L3 Protocols)"},{"$f":"'Bill of Materials'!L992","v":"Cisco"},{"$f":"'Bill of Materials'!N992","v":6750},{"$f":"'Bill of Materials'!P992","v":"HP"},{"$f":"'Bill of Materials'!C992","v":"10192"},{"$f":"'Bill of Materials'!H992","v":"N7K-LAN1K9"},null,null,null,0,{"$f":"'Bill of Materials'!J992","v":"standard material"},{"$f":"'Bill of Materials'!K992","v":"electronic"},0]
[{"$f":"'Bill of Materials'!E993+'Bill of Materials'!F993","v":0},{"$f":"'Bill of Materials'!M993","v":"EA"},{"$f":"'Bill of Materials'!G993","v":"Nexus 7000 32 Port, 10GbE, 80G Fabric (req SFP+)"},{"$f":"'Bill of Materials'!L993","v":"Cisco"},{"$f":"'Bill of Materials'!N993","v":31500},{"$f":"'Bill of Materials'!P993","v":"HP"},{"$f":"'Bill of Materials'!C993","v":"10193"},{"$f":"'Bill of Materials'!H993","v":"N7K-M132XP-12L"},null,null,null,0,{"$f":"'Bill of Materials'!J993","v":"standard material"},{"$f":"'Bill of Materials'!K993","v":"electronic"},0]
[{"$f":"'Bill of Materials'!E994+'Bill of Materials'!F994","v":0},{"$f":"'Bill of Materials'!M994","v":"EA"},{"$f":"'Bill of Materials'!G994","v":"Nexus 7000 48 Port, 1G, SFP"},{"$f":"'Bill of Materials'!L994","v":"Cisco"},{"$f":"'Bill of Materials'!N994","v":12150},{"$f":"'Bill of Materials'!P994","v":"HP"},{"$f":"'Bill of Materials'!C994","v":"10194"},{"$f":"'Bill of Materials'!H994","v":"N7K-M148GS-11L"},null,null,null,0,{"$f":"'Bill of Materials'!J994","v":"standard material"},{"$f":"'Bill of Materials'!K994","v":"electronic"},0]
[{"$f":"'Bill of Materials'!E995+'Bill of Materials'!F995","v":0},{"$f":"'Bill of Materials'!M995","v":"EA"},{"$f":"'Bill of Materials'!G995","v":"Nexus 7000 48 Port, 10/100/1000, RJ-45"},{"$f":"'Bill of Materials'!L995","v":"Cisco"},{"$f":"'Bill of Materials'!N995","v":6750},{"$f":"'Bill of Materials'!P995","v":"HP"},{"$f":"'Bill of Materials'!C995","v":"10195"},{"$f":"'Bill of Materials'!H995","v":"N7K-M148GT-11L"},null,null,null,0,{"$f":"'Bill of Materials'!J995","v":"standard material"},{"$f":"'Bill of Materials'!K995","v":"electronic"},0]
[{"$f":"'Bill of Materials'!E996+'Bill of Materials'!F996","v":0},{"$f":"'Bill of Materials'!M996","v":"EA"},{"$f":"'Bill of Materials'!G996","v":"Nexus 7000 Supervisor, Includes External 8GB Log Flash"},{"$f":"'Bill of Materials'!L996","v":"Cisco"},{"$f":"'Bill of Materials'!N996","v":11250},{"$f":"'Bill of Materials'!P996","v":"HP"},{"$f":"'Bill of Materials'!C996","v":"10196"},{"$f":"'Bill of Materials'!H996","v":"N7K-SUP1"},null,null,null,0,{"$f":"'Bill of Materials'!J996","v":"standard material"},{"$f":"'Bill of Materials'!K996","v":"electronic"},0]
[{"$f":"'Bill of Materials'!E997+'Bill of Materials'!F997","v":0},{"$f":"'Bill of Materials'!M997","v":"EA"},{"$f":"'Bill of Materials'!G997","v":"Nexus 7000 7.5kW AC Power Supply Module US (Cable Included)"},{"$f":"'Bill of Materials'!L997","v":"Cisco"},{"$f":"'Bill of Materials'!N997","v":3375},{"$f":"'Bill of Materials'!P997","v":"HP"},{"$f":"'Bill of Materials'!C997","v":"10215"},{"$f":"'Bill of Materials'!H997","v":"N7K-AC-7.5KW-US"},null,null,null,0,{"$f":"'Bill of Materials'!J997","v":"standard material"},{"$f":"'Bill of Materials'!K997","v":"electronic"},0]
[{"$f":"'Bill of Materials'!E998+'Bill of Materials'!F998","v":0},{"$f":"'Bill of Materials'!M998","v":"EA"},{"$f":"'Bill of Materials'!G998","v":"Nexus 7000 6.0kW AC Power Supply Module"},{"$f":"'Bill of Materials'!L998","v":"Cisco"},{"$f":"'Bill of Materials'!N998","v":2880},{"$f":"'Bill of Materials'!P998","v":"HP"},{"$f":"'Bill of Materials'!C998","v":"10216"},{"$f":"'Bill of Materials'!H998","v":"N7K-AC-6.0KW"},null,null,null,0,{"$f":"'Bill of Materials'!J998","v":"standard material"},{"$f":"'Bill of Materials'!K998","v":"electronic"},0]
[{"$f":"'Bill of Materials'!E999+'Bill of Materials'!F999","v":0},{"$f":"'Bill of Materials'!M999","v":"EA"},{"$f":"'Bill of Materials'!G999","v":"Nexus 7010 Base Chassis (No Power Supplies), Fans included"},{"$f":"'Bill of Materials'!L999","v":"Cisco"},{"$f":"'Bill of Materials'!N999","v":9000},{"$f":"'Bill of Materials'!P999","v":"HP"},{"$f":"'Bill of Materials'!C999","v":"10238"},{"$f":"'Bill of Materials'!H999","v":"N7K-C7010"},null,null,null,0,{"$f":"'Bill of Materials'!J999","v":"standard material"},{"$f":"'Bill of Materials'!K999","v":"electronic"},0]
[{"$f":"'Bill of Materials'!E1000+'Bill of Materials'!F1000","v":0},{"$f":"'Bill of Materials'!M1000","v":"EA"},{"$f":"'Bill of Materials'!G1000","v":"Nexus 7000 NX-OS Release 4.2"},{"$f":"'Bill of Materials'!L1000","v":"Cisco"},{"$f":"'Bill of Materials'!N1000","v":0},{"$f":"'Bill of Materials'!P1000","v":"HP"},{"$f":"'Bill of Materials'!C1000","v":"10239"},{"$f":"'Bill of Materials'!H1000","v":"N7KS1K9-42"},null,null,null,0,{"$f":"'Bill of Materials'!J1000","v":"standard material"},{"$f":"'Bill of Materials'!K1000","v":"electronic"},0]
[{"$f":"'Bill of Materials'!E1001+'Bill of Materials'!F1001","v":0},{"$f":"'Bill of Materials'!M1001","v":"EA"},{"$f":"'Bill of Materials'!G1001","v":"Nexus 7010 46Gbps / Slot Fabric Module"},{"$f":"'Bill of Materials'!L1001","v":"Cisco"},{"$f":"'Bill of Materials'!N1001","v":2700},{"$f":"'Bill of Materials'!P1001","v":"HP"},{"$f":"'Bill of Materials'!C1001","v":"10240"},{"$f":"'Bill of Materials'!H1001","v":"N7k-C7010-FAB-1"},null,null,null,0,{"$f":"'Bill of Materials'!J1001","v":"standard material"},{"$f":"'Bill of Materials'!K1001","v":"electronic"},0]
[{"$f":"'Bill of Materials'!E1003+'Bill of Materials'!F1003","v":0},{"$f":"'Bill of Materials'!M1003","v":"EA"},{"$f":"'Bill of Materials'!G1003","v":"1000 Mbps SM, Rugged SFP "},{"$f":"'Bill of Materials'!L1003","v":"Cisco"},{"$f":"'Bill of Materials'!N1003","v":438},{"$f":"'Bill of Materials'!P1003","v":"HP"},{"$f":"'Bill of Materials'!C1003","v":"10004"},{"$f":"'Bill of Materials'!H1003","v":"GLC-LX-SM-RGD="},null,null,null,0,{"$f":"'Bill of Materials'!J1003","v":"standard material"},{"$f":"'Bill of Materials'!K1003","v":"electronic"},0]
[{"$f":"'Bill of Materials'!E1004+'Bill of Materials'!F1004","v":0},{"$f":"'Bill of Materials'!M1004","v":"EA"},{"$f":"'Bill of Materials'!G1004","v":"1000 Mbps MM, Rugged SFP"},{"$f":"'Bill of Materials'!L1004","v":"Cisco"},{"$f":"'Bill of Materials'!N1004","v":220},{"$f":"'Bill of Materials'!P1004","v":"HP"},{"$f":"'Bill of Materials'!C1004","v":"10297"},{"$f":"'Bill of Materials'!H1004","v":"GLC-SX-MM-RGD="},null,null,null,0,{"$f":"'Bill of Materials'!J1004","v":"standard material"},{"$f":"'Bill of Materials'!K1004","v":"electronic"},0]
[{"$f":"'Bill of Materials'!E1005+'Bill of Materials'!F1005","v":0},{"$f":"'Bill of Materials'!M1005","v":"EA"},{"$f":"'Bill of Materials'!G1005","v":"100Base-FX MM, Rugged SFP"},{"$f":"'Bill of Materials'!L1005","v":"Cisco"},{"$f":"'Bill of Materials'!N1005","v":110},{"$f":"'Bill of Materials'!P1005","v":"HP"},{"$f":"'Bill of Materials'!C1005","v":"10298"},{"$f":"'Bill of Materials'!H1005","v":"GLC-FE-100FX-RGD="},null,null,null,0,{"$f":"'Bill of Materials'!J1005","v":"standard material"},{"$f":"'Bill of Materials'!K1005","v":"electronic"},0]
[{"$f":"'Bill of Materials'!E1006+'Bill of Materials'!F1006","v":0},{"$f":"'Bill of Materials'!M1006","v":"EA"},{"$f":"'Bill of Materials'!G1006","v":"100 Mbps SM,Rugged SFP"},{"$f":"'Bill of Materials'!L1006","v":"Cisco"},{"$f":"'Bill of Materials'!N1006","v":176},{"$f":"'Bill of Materials'!P1006","v":"HP"},{"$f":"'Bill of Materials'!C1006","v":"10299"},{"$f":"'Bill of Materials'!H1006","v":"GLC-FE-100LX-RGD="},null,null,null,0,{"$f":"'Bill of Materials'!J1006","v":"standard material"},{"$f":"'Bill of Materials'!K1006","v":"electronic"},0]
[{"$f":"'Bill of Materials'!E1007+'Bill of Materials'!F1007","v":0},{"$f":"'Bill of Materials'!M1007","v":"EA"},{"$f":"'Bill of Materials'!G1007","v":"1000Base LX/LH GBIC for GE Module Single or Multimode Fiber"},{"$f":"'Bill of Materials'!L1007","v":"Cisco"},{"$f":"'Bill of Materials'!N1007","v":447.75},{"$f":"'Bill of Materials'!P1007","v":"HP"},{"$f":"'Bill of Materials'!C1007","v":"8140"},{"$f":"'Bill of Materials'!H1007","v":"WS-G5486="},null,null,null,0,{"$f":"'Bill of Materials'!J1007","v":"standard material"},{"$f":"'Bill of Materials'!K1007","v":"electronic"},0]
[{"$f":"'Bill of Materials'!E1008+'Bill of Materials'!F1008","v":0},{"$f":"'Bill of Materials'!M1008","v":"EA"},{"$f":"'Bill of Materials'!G1008","v":"1000Base SX GBIC for GE Module Multimode Fiber"},{"$f":"'Bill of Materials'!L1008","v":"Cisco"},{"$f":"'Bill of Materials'!N1008","v":225},{"$f":"'Bill of Materials'!P1008","v":"HP"},{"$f":"'Bill of Materials'!C1008","v":"8141"},{"$f":"'Bill of Materials'!H1008","v":"WS-G5484="},null,null,null,{"$f":"E1046*A1046","v":0},{"$f":"'Bill of Materials'!J1008","v":"standard material"},{"$f":"'Bill of Materials'!K1008","v":"electronic"},{"$f":"IF(A1046>0,1,0)","v":0}]
[{"$f":"'Bill of Materials'!E1009+'Bill of Materials'!F1009","v":0},{"$f":"'Bill of Materials'!M1009","v":"EA"},{"$f":"'Bill of Materials'!G1009","v":"1000Base ZX GBIC extended reach ( Single mode)"},{"$f":"'Bill of Materials'!L1009","v":"Cisco"},{"$f":"'Bill of Materials'!N1009","v":1797.75},{"$f":"'Bill of Materials'!P1009","v":"HP"},{"$f":"'Bill of Materials'!C1009","v":"8407"},{"$f":"'Bill of Materials'!H1009","v":"WS-G5487="},null,null,null,0,{"$f":"'Bill of Materials'!J1009","v":"standard material"},{"$f":"'Bill of Materials'!K1009","v":"electronic"},0]
[{"$f":"'Bill of Materials'!E1010+'Bill of Materials'!F1010","v":0},{"$f":"'Bill of Materials'!M1010","v":"EA"},{"$f":"'Bill of Materials'!G1010","v":"GE SFP, LC connector SX transceiver"},{"$f":"'Bill of Materials'!L1010","v":"Cisco"},{"$f":"'Bill of Materials'!N1010","v":200},{"$f":"'Bill of Materials'!P1010","v":"HP"},{"$f":"'Bill of Materials'!C1010","v":"8766"},{"$f":"'Bill of Materials'!H1010","v":"GLC-SX-MM="},null,null,null,0,{"$f":"'Bill of Materials'!J1010","v":"standard material"},{"$f":"'Bill of Materials'!K1010","v":"electronic"},0]
[{"$f":"'Bill of Materials'!E1011+'Bill of Materials'!F1011","v":0},{"$f":"'Bill of Materials'!M1011","v":"EA"},{"$f":"'Bill of Materials'!G1011","v":"GE SFP, LC connector LX/LH transceiver"},{"$f":"'Bill of Materials'!L1011","v":"Cisco"},{"$f":"'Bill of Materials'!N1011","v":398},{"$f":"'Bill of Materials'!P1011","v":"HP"},{"$f":"'Bill of Materials'!C1011","v":"8771"},{"$f":"'Bill of Materials'!H1011","v":"GLC-LH-SM="},null,null,null,0,{"$f":"'Bill of Materials'!J1011","v":"standard material"},{"$f":"'Bill of Materials'!K1011","v":"electronic"},0]
[{"$f":"'Bill of Materials'!E1012+'Bill of Materials'!F1012","v":0},{"$f":"'Bill of Materials'!M1012","v":"EA"},{"$f":"'Bill of Materials'!G1012","v":"1000BASE ZX SFP GLC-ZX-SM"},{"$f":"'Bill of Materials'!L1012","v":"Cisco"},{"$f":"'Bill of Materials'!N1012","v":1598},{"$f":"'Bill of Materials'!P1012","v":"HP"},{"$f":"'Bill of Materials'!C1012","v":"8813"},{"$f":"'Bill of Materials'!H1012","v":"GLC-ZX-SM="},null,null,null,0,{"$f":"'Bill of Materials'!J1012","v":"standard material"},{"$f":"'Bill of Materials'!K1012","v":"electronic"},0]
[{"$f":"'Bill of Materials'!E1013+'Bill of Materials'!F1013","v":0},{"$f":"'Bill of Materials'!M1013","v":"EA"},{"$f":"'Bill of Materials'!G1013","v":"100FX SFP on GE SFP ports on Catalyst 3750"},{"$f":"'Bill of Materials'!L1013","v":"Cisco"},{"$f":"'Bill of Materials'!N1013","v":100},{"$f":"'Bill of Materials'!P1013","v":"HP"},{"$f":"'Bill of Materials'!C1013","v":"8822"},{"$f":"'Bill of Materials'!H1013","v":"GLC-GE-100FX="},null,null,null,0,{"$f":"'Bill of Materials'!J1013","v":"standard material"},{"$f":"'Bill of Materials'!K1013","v":"electronic"},0]
[{"$f":"'Bill of Materials'!#REF!+'Bill of Materials'!#REF!","v":{"$error":"#REF!"}},{"$f":"'Bill of Materials'!#REF!","v":{"$error":"#REF!"}},{"$f":"'Bill of Materials'!#REF!","v":{"$error":"#REF!"}},{"$f":"'Bill of Materials'!#REF!","v":{"$error":"#REF!"}},{"$f":"'Bill of Materials'!#REF!","v":{"$error":"#REF!"}},{"$f":"'Bill of Materials'!#REF!","v":{"$error":"#REF!"}},{"$f":"'Bill of Materials'!#REF!","v":{"$error":"#REF!"}},{"$f":"'Bill of Materials'!#REF!","v":{"$error":"#REF!"}},null,null,null,{"$error":"#REF!"},{"$f":"'Bill of Materials'!#REF!","v":{"$error":"#REF!"}},{"$f":"'Bill of Materials'!#REF!","v":{"$error":"#REF!"}},{"$error":"#REF!"}]
[{"$f":"'Bill of Materials'!E1014+'Bill of Materials'!F1014","v":0},{"$f":"'Bill of Materials'!M1014","v":"EA"},{"$f":"'Bill of Materials'!G1014","v":"10GBASE-ER Xenpak module with DOM Support"},{"$f":"'Bill of Materials'!L1014","v":"Cisco"},{"$f":"'Bill of Materials'!N1014","v":4000},{"$f":"'Bill of Materials'!P1014","v":"HP"},{"$f":"'Bill of Materials'!C1014","v":"8895"},{"$f":"'Bill of Materials'!H1014","v":"XENPAK-10GB-ER+="},null,null,null,0,{"$f":"'Bill of Materials'!J1014","v":"standard material"},{"$f":"'Bill of Materials'!K1014","v":"electronic"},0]
[{"$f":"'Bill of Materials'!E1015+'Bill of Materials'!F1015","v":0},{"$f":"'Bill of Materials'!M1015","v":"EA"},{"$f":"'Bill of Materials'!G1015","v":"10GBASE-LR Xenpak module with DOM Support"},{"$f":"'Bill of Materials'!L1015","v":"Cisco"},{"$f":"'Bill of Materials'!N1015","v":1600},{"$f":"'Bill of Materials'!P1015","v":"HP"},{"$f":"'Bill of Materials'!C1015","v":"8896"},{"$f":"'Bill of Materials'!H1015","v":"XENPAK-10GB-LR+="},null,null,null,0,{"$f":"'Bill of Materials'!J1015","v":"standard material"},{"$f":"'Bill of Materials'!K1015","v":"electronic"},0]
[{"$f":"'Bill of Materials'!E1017+'Bill of Materials'!F1017","v":0},{"$f":"'Bill of Materials'!M1017","v":"EA"},{"$f":"'Bill of Materials'!G1017","v":"Catalyst 6504-E High-Speed Fan module"},{"$f":"'Bill of Materials'!L1017","v":"Cisco"},{"$f":"'Bill of Materials'!N1017","v":200},{"$f":"'Bill of Materials'!P1017","v":"HP"},{"$f":"'Bill of Materials'!C1017","v":"10104"},{"$f":"'Bill of Materials'!H1017","v":"FAN-MOD-4HS="},null,null,null,0,{"$f":"'Bill of Materials'!J1017","v":"standard material"},{"$f":"'Bill of Materials'!K1017","v":"electronic"},0]
[{"$f":"'Bill of Materials'!E1018+'Bill of Materials'!F1018","v":0},{"$f":"'Bill of Materials'!M1018","v":"EA"},{"$f":"'Bill of Materials'!G1018","v":"Catalyst 6504-E  AC Power Supply 2700W"},{"$f":"'Bill of Materials'!L1018","v":"Cisco"},{"$f":"'Bill of Materials'!N1018","v":1200},{"$f":"'Bill of Materials'!P1018","v":"HP"},{"$f":"'Bill of Materials'!C1018","v":"10144"},{"$f":"'Bill of Materials'!H1018","v":"PWR-2700-AC/4"},null,null,null,0,{"$f":"'Bill of Materials'!J1018","v":"standard material"},{"$f":"'Bill of Materials'!K1018","v":"electronic"},0]
[{"$f":"'Bill of Materials'!E1019+'Bill of Materials'!F1019","v":0},{"$f":"'Bill of Materials'!M1019","v":"EA"},{"$f":"'Bill of Materials'!G1019","v":"Change Plug on Power Cord - LABOR ONLY"},{"$f":"'Bill of Materials'!L1019","v":"DWC"},{"$f":"'Bill of Materials'!N1019","v":28.35},{"$f":"'Bill of Materials'!P1019","v":"DWC"},{"$f":"'Bill of Materials'!C1019","v":"10170"},{"$f":"'Bill of Materials'!H1019","v":"TLPC-L"},null,null,null,0,{"$f":"'Bill of Materials'!J1019","v":"standard material"},{"$f":"'Bill of Materials'!K1019","v":"physical"},0]
[{"$f":"'Bill of Materials'!E1020+'Bill of Materials'!F1020","v":0},{"$f":"'Bill of Materials'!M1020","v":"EA"},{"$f":"'Bill of Materials'!G1020","v":"Catalyst 6500 Enhanced A/C Power Supply 8700W "},{"$f":"'Bill of Materials'!L1020","v":"Cisco"},{"$f":"'Bill of Materials'!N1020","v":2800},{"$f":"'Bill of Materials'!P1020","v":"HP"},{"$f":"'Bill of Materials'!C1020","v":"10177"},{"$f":"'Bill of Materials'!H1020","v":"WS-CAC-8700W-E"},null,null,null,0,{"$f":"'Bill of Materials'!J1020","v":"standard material"},{"$f":"'Bill of Materials'!K1020","v":"electronic"},0]
[{"$f":"'Bill of Materials'!#REF!+'Bill of Materials'!#REF!","v":{"$error":"#REF!"}},{"$f":"'Bill of Materials'!#REF!","v":{"$error":"#REF!"}},{"$f":"'Bill of Materials'!#REF!","v":{"$error":"#REF!"}},{"$f":"'Bill of Materials'!#REF!","v":{"$error":"#REF!"}},{"$f":"'Bill of Materials'!#REF!","v":{"$error":"#REF!"}},{"$f":"'Bill of Materials'!#REF!","v":{"$error":"#REF!"}},{"$f":"'Bill of Materials'!#REF!","v":{"$error":"#REF!"}},{"$f":"'Bill of Materials'!#REF!","v":{"$error":"#REF!"}},null,null,null,{"$error":"#REF!"},{"$f":"'Bill of Materials'!#REF!","v":{"$error":"#REF!"}},{"$f":"'Bill of Materials'!#REF!","v":{"$error":"#REF!"}},{"$error":"#REF!"}]
[{"$f":"'Bill of Materials'!E1021+'Bill of Materials'!F1021","v":0},{"$f":"'Bill of Materials'!M1021","v":"EA"},{"$f":"'Bill of Materials'!G1021","v":"Catalyst 6500 Dist Fwd Card, 256k+Routes for WS-x67xx"},{"$f":"'Bill of Materials'!L1021","v":"Cisco"},{"$f":"'Bill of Materials'!N1021","v":3000},{"$f":"'Bill of Materials'!P1021","v":"HP"},{"$f":"'Bill of Materials'!C1021","v":"10178"},{"$f":"'Bill of Materials'!H1021","v":"WS-F6700-DFC38="},null,null,null,0,{"$f":"'Bill of Materials'!J1021","v":"standard material"},{"$f":"'Bill of Materials'!K1021","v":"electronic"},0]
[{"$f":"'Bill of Materials'!E1022+'Bill of Materials'!F1022","v":0},{"$f":"'Bill of Materials'!M1022","v":"EA"},{"$f":"'Bill of Materials'!G1022","v":"Catalyst 6500 Compact Flash Memory 1GB"},{"$f":"'Bill of Materials'!L1022","v":"Cisco"},{"$f":"'Bill of Materials'!N1022","v":438},{"$f":"'Bill of Materials'!P1022","v":"HP"},{"$f":"'Bill of Materials'!C1022","v":"10236"},{"$f":"'Bill of Materials'!H1022","v":"MEM-C6K-CPTFL1GB"},null,null,null,0,{"$f":"'Bill of Materials'!J1022","v":"standard material"},{"$f":"'Bill of Materials'!K1022","v":"electronic"},0]
[{"$f":"'Bill of Materials'!#REF!+'Bill of Materials'!#REF!","v":{"$error":"#REF!"}},{"$f":"'Bill of Materials'!#REF!","v":{"$error":"#REF!"}},{"$f":"'Bill of Materials'!#REF!","v":{"$error":"#REF!"}},{"$f":"'Bill of Materials'!#REF!","v":{"$error":"#REF!"}},{"$f":"'Bill of Materials'!#REF!","v":{"$error":"#REF!"}},{"$f":"'Bill of Materials'!#REF!","v":{"$error":"#REF!"}},{"$f":"'Bill of Materials'!#REF!","v":{"$error":"#REF!"}},{"$f":"'Bill of Materials'!#REF!","v":{"$error":"#REF!"}},null,null,null,{"$error":"#REF!"},{"$f":"'Bill of Materials'!#REF!","v":{"$error":"#REF!"}},{"$f":"'Bill of Materials'!#REF!","v":{"$error":"#REF!"}},{"$error":"#REF!"}]
[{"$f":"'Bill of Materials'!#REF!+'Bill of Materials'!#REF!","v":{"$error":"#REF!"}},{"$f":"'Bill of Materials'!#REF!","v":{"$error":"#REF!"}},{"$f":"'Bill of Materials'!#REF!","v":{"$error":"#REF!"}},{"$f":"'Bill of Materials'!#REF!","v":{"$error":"#REF!"}},{"$f":"'Bill of Materials'!#REF!","v":{"$error":"#REF!"}},{"$f":"'Bill of Materials'!#REF!","v":{"$error":"#REF!"}},{"$f":"'Bill of Materials'!#REF!","v":{"$error":"#REF!"}},{"$f":"'Bill of Materials'!#REF!","v":{"$error":"#REF!"}},null,null,null,{"$error":"#REF!"},{"$f":"'Bill of Materials'!#REF!","v":{"$error":"#REF!"}},{"$f":"'Bill of Materials'!#REF!","v":{"$error":"#REF!"}},{"$error":"#REF!"}]
[{"$f":"'Bill of Materials'!#REF!+'Bill of Materials'!#REF!","v":{"$error":"#REF!"}},{"$f":"'Bill of Materials'!#REF!","v":{"$error":"#REF!"}},{"$f":"'Bill of Materials'!#REF!","v":{"$error":"#REF!"}},{"$f":"'Bill of Materials'!#REF!","v":{"$error":"#REF!"}},{"$f":"'Bill of Materials'!#REF!","v":{"$error":"#REF!"}},{"$f":"'Bill of Materials'!#REF!","v":{"$error":"#REF!"}},{"$f":"'Bill of Materials'!#REF!","v":{"$error":"#REF!"}},{"$f":"'Bill of Materials'!#REF!","v":{"$error":"#REF!"}},null,null,null,{"$error":"#REF!"},{"$f":"'Bill of Materials'!#REF!","v":{"$error":"#REF!"}},{"$f":"'Bill of Materials'!#REF!","v":{"$error":"#REF!"}},{"$error":"#REF!"}]
[{"$f":"'Bill of Materials'!E1023+'Bill of Materials'!F1023","v":0},{"$f":"'Bill of Materials'!M1023","v":"EA"},{"$f":"'Bill of Materials'!G1023","v":"Cisco CAT6000-SUP720 IOS IP SERVICES SSH"},{"$f":"'Bill of Materials'!L1023","v":"Cisco"},{"$f":"'Bill of Materials'!N1023","v":0},{"$f":"'Bill of Materials'!P1023","v":"HP"},{"$f":"'Bill of Materials'!C1023","v":"10311"},{"$f":"'Bill of Materials'!H1023","v":"S733ISK9-12233SXI"},null,null,null,0,{"$f":"'Bill of Materials'!J1023","v":"standard material"},{"$f":"'Bill of Materials'!K1023","v":"electronic"},0]
[{"$f":"'Bill of Materials'!#REF!+'Bill of Materials'!#REF!","v":{"$error":"#REF!"}},{"$f":"'Bill of Materials'!#REF!","v":{"$error":"#REF!"}},{"$f":"'Bill of Materials'!#REF!","v":{"$error":"#REF!"}},{"$f":"'Bill of Materials'!#REF!","v":{"$error":"#REF!"}},{"$f":"'Bill of Materials'!#REF!","v":{"$error":"#REF!"}},{"$f":"'Bill of Materials'!#REF!","v":{"$error":"#REF!"}},{"$f":"'Bill of Materials'!#REF!","v":{"$error":"#REF!"}},{"$f":"'Bill of Materials'!#REF!","v":{"$error":"#REF!"}},null,null,null,{"$error":"#REF!"},{"$f":"'Bill of Materials'!#REF!","v":{"$error":"#REF!"}},{"$f":"'Bill of Materials'!#REF!","v":{"$error":"#REF!"}},{"$error":"#REF!"}]
[{"$f":"'Bill of Materials'!E1024+'Bill of Materials'!F1024","v":0},{"$f":"'Bill of Materials'!M1024","v":"EA"},{"$f":"'Bill of Materials'!G1024","v":"Catalyst 6500 48-port GigE module; Fabric enabled (Req. SFP)"},{"$f":"'Bill of Materials'!L1024","v":"Cisco"},{"$f":"'Bill of Materials'!N1024","v":10000},{"$f":"'Bill of Materials'!P1024","v":"HP"},{"$f":"'Bill of Materials'!C1024","v":"8005"},{"$f":"'Bill of Materials'!H1024","v":"WS-X6748-SFP"},null,null,null,0,{"$f":"'Bill of Materials'!J1024","v":"standard material"},{"$f":"'Bill of Materials'!K1024","v":"electronic"},0]
[{"$f":"'Bill of Materials'!E1025+'Bill of Materials'!F1025","v":0},{"$f":"'Bill of Materials'!M1025","v":"EA"},{"$f":"'Bill of Materials'!G1025","v":"Catalyst 6504-E 4-slot chassis 5RU's"},{"$f":"'Bill of Materials'!L1025","v":"Cisco"},{"$f":"'Bill of Materials'!N1025","v":1200},{"$f":"'Bill of Materials'!P1025","v":"HP"},{"$f":"'Bill of Materials'!C1025","v":"8014"},{"$f":"'Bill of Materials'!H1025","v":"WS-C6504-E"},null,null,null,0,{"$f":"'Bill of Materials'!J1025","v":"standard material"},{"$f":"'Bill of Materials'!K1025","v":"electronic"},0]
[{"$f":"'Bill of Materials'!E1026+'Bill of Materials'!F1026","v":0},{"$f":"'Bill of Materials'!M1026","v":"EA"},{"$f":"'Bill of Materials'!G1026","v":"Catalyst 6500 Firewall blade"},{"$f":"'Bill of Materials'!L1026","v":"Cisco"},{"$f":"'Bill of Materials'!N1026","v":13998},{"$f":"'Bill of Materials'!P1026","v":"HP"},{"$f":"'Bill of Materials'!C1026","v":"8211"},{"$f":"'Bill of Materials'!H1026","v":"WS-SVC-FWM-1-K9"},null,null,null,0,{"$f":"'Bill of Materials'!J1026","v":"standard material"},{"$f":"'Bill of Materials'!K1026","v":"electronic"},0]
[{"$f":"'Bill of Materials'!E1027+'Bill of Materials'!F1027","v":0},{"$f":"'Bill of Materials'!M1027","v":"EA"},{"$f":"'Bill of Materials'!G1027","v":"Catalyst 6513 Chassis"},{"$f":"'Bill of Materials'!L1027","v":"Cisco"},{"$f":"'Bill of Materials'!N1027","v":6100},{"$f":"'Bill of Materials'!P1027","v":"HP"},{"$f":"'Bill of Materials'!C1027","v":"8459"},{"$f":"'Bill of Materials'!H1027","v":"WS-C6513"},null,null,null,0,{"$f":"'Bill of Materials'!J1027","v":"standard material"},{"$f":"'Bill of Materials'!K1027","v":"electronic"},0]
[{"$f":"'Bill of Materials'!E1028+'Bill of Materials'!F1028","v":0},{"$f":"'Bill of Materials'!M1028","v":"EA"},{"$f":"'Bill of Materials'!G1028","v":"Catalyst 6500 AC power supply 4000W "},{"$f":"'Bill of Materials'!L1028","v":"Cisco"},{"$f":"'Bill of Materials'!N1028","v":2000},{"$f":"'Bill of Materials'!P1028","v":"HP"},{"$f":"'Bill of Materials'!C1028","v":"8471"},{"$f":"'Bill of Materials'!H1028","v":"WS-CAC-4000W-US"},null,null,null,0,{"$f":"'Bill of Materials'!J1028","v":"standard material"},{"$f":"'Bill of Materials'!K1028","v":"electronic"},0]
[{"$f":"'Bill of Materials'!E1029+'Bill of Materials'!F1029","v":0},{"$f":"'Bill of Materials'!M1029","v":"EA"},{"$f":"'Bill of Materials'!G1029","v":"Catalyst 6500 16-port GigE Mod, fabric-enabled (Req. GBICs)"},{"$f":"'Bill of Materials'!L1029","v":"Cisco"},{"$f":"'Bill of Materials'!N1029","v":6000},{"$f":"'Bill of Materials'!P1029","v":"HP"},{"$f":"'Bill of Materials'!C1029","v":"8777"},{"$f":"'Bill of Materials'!H1029","v":"WS-X6516A-GBIC"},null,null,null,0,{"$f":"'Bill of Materials'!J1029","v":"standard material"},{"$f":"'Bill of Materials'!K1029","v":"electronic"},0]
[{"$f":"'Bill of Materials'!E1030+'Bill of Materials'!F1030","v":0},{"$f":"'Bill of Materials'!M1030","v":"EA"},{"$f":"'Bill of Materials'!G1030","v":"Catalyst 6500 Supervisor 720 Fabric MSFC3 PFC3B"},{"$f":"'Bill of Materials'!L1030","v":"Cisco"},{"$f":"'Bill of Materials'!N1030","v":11200},{"$f":"'Bill of Materials'!P1030","v":"HP"},{"$f":"'Bill of Materials'!C1030","v":"8804"},{"$f":"'Bill of Materials'!H1030","v":"WS-SUP720-3B"},null,null,null,0,{"$f":"'Bill of Materials'!J1030","v":"standard material"},{"$f":"'Bill of Materials'!K1030","v":"electronic"},0]
[{"$f":"'Bill of Materials'!E1031+'Bill of Materials'!F1031","v":0},{"$f":"'Bill of Materials'!M1031","v":"EA"},{"$f":"'Bill of Materials'!G1031","v":"Catalyst 6513 High Speed Fan Tray"},{"$f":"'Bill of Materials'!L1031","v":"Cisco"},{"$f":"'Bill of Materials'!N1031","v":298},{"$f":"'Bill of Materials'!P1031","v":"HP"},{"$f":"'Bill of Materials'!C1031","v":"8806"},{"$f":"'Bill of Materials'!H1031","v":"WS-C6K-13SLT-FAN2"},null,null,null,0,{"$f":"'Bill of Materials'!J1031","v":"standard material"},{"$f":"'Bill of Materials'!K1031","v":"electronic"},0]
[{"$f":"'Bill of Materials'!E1032+'Bill of Materials'!F1032","v":0},{"$f":"'Bill of Materials'!M1032","v":"EA"},{"$f":"'Bill of Materials'!G1032","v":"Catalyst 6500 AC power supply 3000W "},{"$f":"'Bill of Materials'!L1032","v":"Cisco"},{"$f":"'Bill of Materials'!N1032","v":1200},{"$f":"'Bill of Materials'!P1032","v":"HP"},{"$f":"'Bill of Materials'!C1032","v":"8807"},{"$f":"'Bill of Materials'!H1032","v":"WS-CAC-3000-W"},null,null,null,0,{"$f":"'Bill of Materials'!J1032","v":"standard material"},{"$f":"'Bill of Materials'!K1032","v":"electronic"},0]
[{"$f":"'Bill of Materials'!E1033+'Bill of Materials'!F1033","v":0},{"$f":"'Bill of Materials'!M1033","v":"EA"},{"$f":"'Bill of Materials'!G1033","v":"Catalyst 6509 High Speed Fan Tray"},{"$f":"'Bill of Materials'!L1033","v":"Cisco"},{"$f":"'Bill of Materials'!N1033","v":198},{"$f":"'Bill of Materials'!P1033","v":"HP"},{"$f":"'Bill of Materials'!C1033","v":"8809"},{"$f":"'Bill of Materials'!H1033","v":"WS-C6509-E-FAN"},null,null,null,0,{"$f":"'Bill of Materials'!J1033","v":"standard material"},{"$f":"'Bill of Materials'!K1033","v":"electronic"},0]
[{"$f":"'Bill of Materials'!E1034+'Bill of Materials'!F1034","v":0},{"$f":"'Bill of Materials'!M1034","v":"EA"},{"$f":"'Bill of Materials'!G1034","v":"Catalyst 6509-E CHASSIS 9 SLOT 15 RU NO POWER SUPPLY NO FAN"},{"$f":"'Bill of Materials'!L1034","v":"Cisco"},{"$f":"'Bill of Materials'!N1034","v":3800},{"$f":"'Bill of Materials'!P1034","v":"HP"},{"$f":"'Bill of Materials'!C1034","v":"8810"},{"$f":"'Bill of Materials'!H1034","v":"WS-C6509-E"},null,null,null,0,{"$f":"'Bill of Materials'!J1034","v":"standard material"},{"$f":"'Bill of Materials'!K1034","v":"electronic"},0]
[{"$f":"'Bill of Materials'!E1035+'Bill of Materials'!F1035","v":0},{"$f":"'Bill of Materials'!M1035","v":"EA"},{"$f":"'Bill of Materials'!G1035","v":"Catalyst 6500 256mb ddr,xcef720 mem-xcef720"},{"$f":"'Bill of Materials'!L1035","v":"Cisco"},{"$f":"'Bill of Materials'!N1035","v":6000},{"$f":"'Bill of Materials'!P1035","v":"HP"},{"$f":"'Bill of Materials'!C1035","v":"8811"},{"$f":"'Bill of Materials'!H1035","v":"WS-X6748-GE-TX"},null,null,null,0,{"$f":"'Bill of Materials'!J1035","v":"standard material"},{"$f":"'Bill of Materials'!K1035","v":"electronic"},0]
[{"$f":"'Bill of Materials'!E1036+'Bill of Materials'!F1036","v":0},{"$f":"'Bill of Materials'!M1036","v":"EA"},{"$f":"'Bill of Materials'!G1036","v":"Catalyst 6500 24-port GigE Mod: fabric-enabled (Req. SFPs)"},{"$f":"'Bill of Materials'!L1036","v":"Cisco"},{"$f":"'Bill of Materials'!N1036","v":6000},{"$f":"'Bill of Materials'!P1036","v":"HP"},{"$f":"'Bill of Materials'!C1036","v":"8812"},{"$f":"'Bill of Materials'!H1036","v":"WS-X6724-SFP="},null,null,null,0,{"$f":"'Bill of Materials'!J1036","v":"standard material"},{"$f":"'Bill of Materials'!K1036","v":"electronic"},0]
[{"$f":"'Bill of Materials'!E1037+'Bill of Materials'!F1037","v":0},{"$f":"'Bill of Materials'!M1037","v":"EA"},{"$f":"'Bill of Materials'!G1037","v":"Catalyst 6506-E CHASSIS 6 SLOT 12 RU NO POWER SUPPLY NO FAN TRAY"},{"$f":"'Bill of Materials'!L1037","v":"Cisco"},{"$f":"'Bill of Materials'!N1037","v":2200},{"$f":"'Bill of Materials'!P1037","v":"HP"},{"$f":"'Bill of Materials'!C1037","v":"8818"},{"$f":"'Bill of Materials'!H1037","v":"WS-C6506-E"},null,null,null,0,{"$f":"'Bill of Materials'!J1037","v":"standard material"},{"$f":"'Bill of Materials'!K1037","v":"electronic"},0]
[{"$f":"'Bill of Materials'!E1038+'Bill of Materials'!F1038","v":0},{"$f":"'Bill of Materials'!M1038","v":"EA"},{"$f":"'Bill of Materials'!G1038","v":"Catalyst 6506-E CHASSIS FAN TRAY"},{"$f":"'Bill of Materials'!L1038","v":"Cisco"},{"$f":"'Bill of Materials'!N1038","v":198},{"$f":"'Bill of Materials'!P1038","v":"HP"},{"$f":"'Bill of Materials'!C1038","v":"8821"},{"$f":"'Bill of Materials'!H1038","v":"WS-C6506-E-FAN"},null,null,null,0,{"$f":"'Bill of Materials'!J1038","v":"standard material"},{"$f":"'Bill of Materials'!K1038","v":"electronic"},0]
[{"$f":"'Bill of Materials'!E1039+'Bill of Materials'!F1039","v":0},{"$f":"'Bill of Materials'!M1039","v":"EA"},{"$f":"'Bill of Materials'!G1039","v":"U.S. Power Cord, Non-Twist Lock, NEMA 6-20 Plug"},{"$f":"'Bill of Materials'!L1039","v":"Cisco"},{"$f":"'Bill of Materials'!N1039","v":0},{"$f":"'Bill of Materials'!P1039","v":"HP"},{"$f":"'Bill of Materials'!C1039","v":"8828"},{"$f":"'Bill of Materials'!H1039","v":"CAB-AC-2500W-US1"},null,null,null,0,{"$f":"'Bill of Materials'!J1039","v":"standard material"},{"$f":"'Bill of Materials'!K1039","v":"electronic"},0]
[{"$f":"'Bill of Materials'!E1040+'Bill of Materials'!F1040","v":0},{"$f":"'Bill of Materials'!M1040","v":"EA"},{"$f":"'Bill of Materials'!G1040","v":"Catalyst 6000-SUP720 IOS ENT W/IPV6/SSH/3DES"},{"$f":"'Bill of Materials'!L1040","v":"Cisco"},{"$f":"'Bill of Materials'!N1040","v":3840},{"$f":"'Bill of Materials'!P1040","v":"HP"},{"$f":"'Bill of Materials'!C1040","v":"8832"},{"$f":"'Bill of Materials'!H1040","v":"S733ESK9-12218SXF"},null,null,null,0,{"$f":"'Bill of Materials'!J1040","v":"standard material"},{"$f":"'Bill of Materials'!K1040","v":"electronic"},0]
[{"$f":"'Bill of Materials'!#REF!+'Bill of Materials'!#REF!","v":{"$error":"#REF!"}},{"$f":"'Bill of Materials'!#REF!","v":{"$error":"#REF!"}},{"$f":"'Bill of Materials'!#REF!","v":{"$error":"#REF!"}},{"$f":"'Bill of Materials'!#REF!","v":{"$error":"#REF!"}},{"$f":"'Bill of Materials'!#REF!","v":{"$error":"#REF!"}},{"$f":"'Bill of Materials'!#REF!","v":{"$error":"#REF!"}},{"$f":"'Bill of Materials'!#REF!","v":{"$error":"#REF!"}},{"$f":"'Bill of Materials'!#REF!","v":{"$error":"#REF!"}},null,null,null,{"$error":"#REF!"},{"$f":"'Bill of Materials'!#REF!","v":{"$error":"#REF!"}},{"$f":"'Bill of Materials'!#REF!","v":{"$error":"#REF!"}},{"$error":"#REF!"}]
[{"$f":"'Bill of Materials'!E1041+'Bill of Materials'!F1041","v":0},{"$f":"'Bill of Materials'!M1041","v":"EA"},{"$f":"'Bill of Materials'!G1041","v":"Catalyst 6500 Sup720 Compact Flash Mem 512mb"},{"$f":"'Bill of Materials'!L1041","v":"Cisco"},{"$f":"'Bill of Materials'!N1041","v":398},{"$f":"'Bill of Materials'!P1041","v":"HP"},{"$f":"'Bill of Materials'!C1041","v":"8834"},{"$f":"'Bill of Materials'!H1041","v":"MEM-C6K-CPTFL512M"},null,null,null,0,{"$f":"'Bill of Materials'!J1041","v":"standard material"},{"$f":"'Bill of Materials'!K1041","v":"electronic"},0]
[{"$f":"'Bill of Materials'!E1042+'Bill of Materials'!F1042","v":0},{"$f":"'Bill of Materials'!M1042","v":"EA"},{"$f":"'Bill of Materials'!G1042","v":"Catalyst 6500 AC power supply 6000W "},{"$f":"'Bill of Materials'!L1042","v":"Cisco"},{"$f":"'Bill of Materials'!N1042","v":2000},{"$f":"'Bill of Materials'!P1042","v":"HP"},{"$f":"'Bill of Materials'!C1042","v":"8870"},{"$f":"'Bill of Materials'!H1042","v":"WS-CAC-6000W"},null,null,null,0,{"$f":"'Bill of Materials'!J1042","v":"standard material"},{"$f":"'Bill of Materials'!K1042","v":"electronic"},0]
[{"$f":"'Bill of Materials'!E1043+'Bill of Materials'!F1043","v":0},{"$f":"'Bill of Materials'!M1043","v":"EA"},{"$f":"'Bill of Materials'!G1043","v":"Catalyst 6500 PoE 802.3af 10/100/1000 48-port(RJ45)CEF256 card"},{"$f":"'Bill of Materials'!L1043","v":"Cisco"},{"$f":"'Bill of Materials'!N1043","v":5600},{"$f":"'Bill of Materials'!P1043","v":"HP"},{"$f":"'Bill of Materials'!C1043","v":"8874"},{"$f":"'Bill of Materials'!H1043","v":"WS-X6548-GE-45AF"},null,null,null,0,{"$f":"'Bill of Materials'!J1043","v":"standard material"},{"$f":"'Bill of Materials'!K1043","v":"electronic"},0]
[{"$f":"'Bill of Materials'!E1044+'Bill of Materials'!F1044","v":0},{"$f":"'Bill of Materials'!M1044","v":"EA"},{"$f":"'Bill of Materials'!G1044","v":"Catalyst 6500 48-Port PoE 802.3af 10/100 card w/ TDR"},{"$f":"'Bill of Materials'!L1044","v":"Cisco"},{"$f":"'Bill of Materials'!N1044","v":3200},{"$f":"'Bill of Materials'!P1044","v":"HP"},{"$f":"'Bill of Materials'!C1044","v":"8891"},{"$f":"'Bill of Materials'!H1044","v":"WS-X6148A-45AF"},null,null,null,0,{"$f":"'Bill of Materials'!J1044","v":"standard material"},{"$f":"'Bill of Materials'!K1044","v":"electronic"},0]
[{"$f":"'Bill of Materials'!E1045+'Bill of Materials'!F1045","v":0},{"$f":"'Bill of Materials'!M1045","v":"EA"},{"$f":"'Bill of Materials'!G1045","v":"Catalyst 6500 4-port 10 Gigabit Ethernet Module (req xenpaks)"},{"$f":"'Bill of Materials'!L1045","v":"Cisco"},{"$f":"'Bill of Materials'!N1045","v":8000},{"$f":"'Bill of Materials'!P1045","v":"HP"},{"$f":"'Bill of Materials'!C1045","v":"8892"},{"$f":"'Bill of Materials'!H1045","v":"WS-X6704-10GE"},null,null,null,0,{"$f":"'Bill of Materials'!J1045","v":"standard material"},{"$f":"'Bill of Materials'!K1045","v":"electronic"},0]
[{"$f":"'Bill of Materials'!E1046+'Bill of Materials'!F1046","v":0},{"$f":"'Bill of Materials'!M1046","v":"EA"},{"$f":"'Bill of Materials'!G1046","v":"Catalyst 6500 8 port 10 Gigabit Ethernet module with DFC3C (req.x2) "},{"$f":"'Bill of Materials'!L1046","v":"Cisco"},{"$f":"'Bill of Materials'!N1046","v":15000},{"$f":"'Bill of Materials'!P1046","v":"HP"},{"$f":"'Bill of Materials'!C1046","v":"8893"},{"$f":"'Bill of Materials'!H1046","v":"WS-X6708-10G-3C"},null,null,null,0,{"$f":"'Bill of Materials'!J1046","v":"standard material"},{"$f":"'Bill of Materials'!K1046","v":"electronic"},0]
[{"$f":"'Bill of Materials'!E1047+'Bill of Materials'!F1047","v":0},{"$f":"'Bill of Materials'!M1047","v":"EA"},{"$f":"'Bill of Materials'!G1047","v":"Power cord, 250vac 16A,twist lock NEMA L6-20 plug, US"},{"$f":"'Bill of Materials'!L1047","v":"Cisco"},{"$f":"'Bill of Materials'!N1047","v":21.6},{"$f":"'Bill of Materials'!P1047","v":"HP"},{"$f":"'Bill of Materials'!C1047","v":"8894"},{"$f":"'Bill of Materials'!H1047","v":"CAB-AC-C6K-TWLK"},null,null,null,0,{"$f":"'Bill of Materials'!J1047","v":"standard material"},{"$f":"'Bill of Materials'!K1047","v":"electronic"},0]
[{"$f":"'Bill of Materials'!E1049+'Bill of Materials'!F1049","v":0},{"$f":"'Bill of Materials'!M1049","v":"EA"},{"$f":"'Bill of Materials'!G1049","v":"CISCO Power Cord Jumper, C13-C14 Connectors, 2 Meter Length\t"},{"$f":"'Bill of Materials'!L1049","v":"Cisco"},{"$f":"'Bill of Materials'!N1049","v":22.5},{"$f":"'Bill of Materials'!P1049","v":"HP"},{"$f":"'Bill of Materials'!C1049","v":"10476"},{"$f":"'Bill of Materials'!H1049","v":"CAB-C13-C14-2M"},null,null,null,0,{"$f":"'Bill of Materials'!J1049","v":"standard material"},{"$f":"'Bill of Materials'!K1049","v":"electronic"},0]
[{"$f":"'Bill of Materials'!E1051+'Bill of Materials'!F1051","v":0},{"$f":"'Bill of Materials'!M1051","v":"EA"},{"$f":"'Bill of Materials'!G1051","v":"BRACKET, DIN RAIL, 3 IN RECESSED"},{"$f":"'Bill of Materials'!L1051","v":"Hammond"},{"$f":"'Bill of Materials'!N1051","v":63.64},{"$f":"'Bill of Materials'!P1051","v":"DWC"},{"$f":"'Bill of Materials'!C1051","v":"0094-49HK"},{"$f":"'Bill of Materials'!H1051","v":"SR0600375"},null,null,null,0,{"$f":"'Bill of Materials'!J1051","v":"standard material"},{"$f":"'Bill of Materials'!K1051","v":"physical"},0]
[{"$f":"'Bill of Materials'!E1052+'Bill of Materials'!F1052","v":0},{"$f":"'Bill of Materials'!M1052","v":"EA"},{"$f":"'Bill of Materials'!G1052","v":"BRACKET, DIN RAIL, 5 IN RECESSED"},{"$f":"'Bill of Materials'!L1052","v":"Hammond"},{"$f":"'Bill of Materials'!N1052","v":57.12},{"$f":"'Bill of Materials'!P1052","v":"DWC"},{"$f":"'Bill of Materials'!C1052","v":"0094-49HL"},{"$f":"'Bill of Materials'!H1052","v":"SR0700191"},null,null,null,0,{"$f":"'Bill of Materials'!J1052","v":"standard material"},{"$f":"'Bill of Materials'!K1052","v":"physical"},0]
[{"$f":"'Bill of Materials'!E1053+'Bill of Materials'!F1053","v":0},{"$f":"'Bill of Materials'!M1053","v":"EA"},{"$f":"'Bill of Materials'!G1053","v":"BRACKET, DIN RAIL, 5 IN DEEP"},{"$f":"'Bill of Materials'!L1053","v":"DWC"},{"$f":"'Bill of Materials'!N1053","v":60.89},{"$f":"'Bill of Materials'!P1053","v":"DWC"},{"$f":"'Bill of Materials'!C1053","v":"0094-49R1"},{"$f":"'Bill of Materials'!H1053","v":"DDRB5"},null,null,null,0,{"$f":"'Bill of Materials'!J1053","v":"standard material"},{"$f":"'Bill of Materials'!K1053","v":"physical"},0]
[{"$f":"'Bill of Materials'!E1054+'Bill of Materials'!F1054","v":0},{"$f":"'Bill of Materials'!M1054","v":"EA"},{"$f":"'Bill of Materials'!G1054","v":"Catalyst 2955 Sola Power Supply Cable (2) Conductor, 18 AWG, 19 X 30 Strand, Sheilded, PVC, Twisted Pair Power Cable (UL,CSA)"},{"$f":"'Bill of Materials'!L1054","v":"Belden"},{"$f":"'Bill of Materials'!N1054","v":1.19},{"$f":"'Bill of Materials'!P1054","v":"DWC"},{"$f":"'Bill of Materials'!C1054","v":"0119-0932"},{"$f":"'Bill of Materials'!H1054","v":9318},null,null,null,0,{"$f":"'Bill of Materials'!J1054","v":"standard material"},{"$f":"'Bill of Materials'!K1054","v":"physical"},0]
[{"$f":"'Bill of Materials'!E1055+'Bill of Materials'!F1055","v":0},{"$f":"'Bill of Materials'!M1055","v":"EA"},{"$f":"'Bill of Materials'!G1055","v":"Sola Power Supply Cord with molded three prong plug on one end and stripped on the other end, (UL) SJT 16 AWG, 3 conductor 15A/120V, UL CSA approved, 6 ft long."},{"$f":"'Bill of Materials'!L1055","v":"Volex Interconnect"},{"$f":"'Bill of Materials'!N1055","v":14.6},{"$f":"'Bill of Materials'!P1055","v":"DWC"},{"$f":"'Bill of Materials'!C1055","v":"0217-1387"},{"$f":"'Bill of Materials'!H1055","v":17255},null,null,null,0,{"$f":"'Bill of Materials'!J1055","v":"standard material"},{"$f":"'Bill of Materials'!K1055","v":"physical"},0]
[{"$f":"'Bill of Materials'!E1056+'Bill of Materials'!F1056","v":0},{"$f":"'Bill of Materials'!M1056","v":"EA"},{"$f":"'Bill of Materials'!G1056","v":"Catalyst 2955 and Sola Power Supply DIN Rail Adapter Kit for 19\" Rack Mounted "},{"$f":"'Bill of Materials'!L1056","v":"Cisco"},{"$f":"'Bill of Materials'!N1056","v":56.25},{"$f":"'Bill of Materials'!P1056","v":"DWC"},{"$f":"'Bill of Materials'!C1056","v":"10162"},{"$f":"'Bill of Materials'!H1056","v":"STK-RACKMNT-2955="},null,null,null,0,{"$f":"'Bill of Materials'!J1056","v":"standard material"},{"$f":"'Bill of Materials'!K1056","v":"physical"},0]
[{"$f":"'Bill of Materials'!E1057+'Bill of Materials'!F1057","v":0},{"$f":"'Bill of Materials'!M1057","v":"EA"},{"$f":"'Bill of Materials'!G1057","v":"Catalyst 2955 and Sola Power Supply- Input voltage -115/230 AC, Max Output - 24V DC"},{"$f":"'Bill of Materials'!L1057","v":"Sola / HeviDuty"},{"$f":"'Bill of Materials'!N1057","v":162.16},{"$f":"'Bill of Materials'!P1057","v":"DWC"},{"$f":"'Bill of Materials'!C1057","v":"1018-1AJX"},{"$f":"'Bill of Materials'!H1057","v":"SDN 2.5-24-100P"},null,null,null,0,{"$f":"'Bill of Materials'!J1057","v":"standard material"},{"$f":"'Bill of Materials'!K1057","v":"physical"},0]
[{"$f":"'Bill of Materials'!#REF!+'Bill of Materials'!#REF!","v":{"$error":"#REF!"}},{"$f":"'Bill of Materials'!#REF!","v":{"$error":"#REF!"}},{"$f":"'Bill of Materials'!#REF!","v":{"$error":"#REF!"}},{"$f":"'Bill of Materials'!#REF!","v":{"$error":"#REF!"}},{"$f":"'Bill of Materials'!#REF!","v":{"$error":"#REF!"}},{"$f":"'Bill of Materials'!#REF!","v":{"$error":"#REF!"}},{"$f":"'Bill of Materials'!#REF!","v":{"$error":"#REF!"}},{"$f":"'Bill of Materials'!#REF!","v":{"$error":"#REF!"}},null,null,null,{"$error":"#REF!"},{"$f":"'Bill of Materials'!#REF!","v":{"$error":"#REF!"}},{"$f":"'Bill of Materials'!#REF!","v":{"$error":"#REF!"}},{"$error":"#REF!"}]
[{"$f":"'Bill of Materials'!E1058+'Bill of Materials'!F1058","v":0},{"$f":"'Bill of Materials'!M1058","v":"EA"},{"$f":"'Bill of Materials'!G1058","v":"Catalyst 2960 10/100 + 2 T/SFP LAN Base image"},{"$f":"'Bill of Materials'!L1058","v":"Cisco"},{"$f":"'Bill of Materials'!N1058","v":998},{"$f":"'Bill of Materials'!P1058","v":"HP"},{"$f":"'Bill of Materials'!C1058","v":"8013"},{"$f":"'Bill of Materials'!H1058","v":"WS-C2960-48TC-L"},null,null,null,0,{"$f":"'Bill of Materials'!J1058","v":"standard material"},{"$f":"'Bill of Materials'!K1058","v":"electronic"},0]
[{"$f":"'Bill of Materials'!E1059+'Bill of Materials'!F1059","v":0},{"$f":"'Bill of Materials'!M1059","v":"EA"},{"$f":"'Bill of Materials'!G1059","v":"Catalyst 2960 48 10/100/1000, 4 T/SFP LAN Base image"},{"$f":"'Bill of Materials'!L1059","v":"Cisco"},{"$f":"'Bill of Materials'!N1059","v":2398},{"$f":"'Bill of Materials'!P1059","v":"HP"},{"$f":"'Bill of Materials'!C1059","v":"8016"},{"$f":"'Bill of Materials'!H1059","v":"WS-C2960G-48TC-L"},null,null,null,0,{"$f":"'Bill of Materials'!J1059","v":"standard material"},{"$f":"'Bill of Materials'!K1059","v":"electronic"},0]
[{"$f":"'Bill of Materials'!E1060+'Bill of Materials'!F1060","v":0},{"$f":"'Bill of Materials'!M1060","v":"EA"},{"$f":"'Bill of Materials'!G1060","v":"Catalyst 2955 12 port 10/100 TX w/ (2) copper uplinks"},{"$f":"'Bill of Materials'!L1060","v":"Cisco"},{"$f":"'Bill of Materials'!N1060","v":672.75},{"$f":"'Bill of Materials'!P1060","v":"HP"},{"$f":"'Bill of Materials'!C1060","v":"8713"},{"$f":"'Bill of Materials'!H1060","v":"WS-C2955T-12"},null,null,null,0,{"$f":"'Bill of Materials'!J1060","v":"standard material"},{"$f":"'Bill of Materials'!K1060","v":"electronic"},0]
[{"$f":"'Bill of Materials'!E1061+'Bill of Materials'!F1061","v":0},{"$f":"'Bill of Materials'!M1061","v":"EA"},{"$f":"'Bill of Materials'!G1061","v":"Catalyst 2955 12 port 10/100 TX w/ (2) Fixed MMF UPLINK interfaces. (MTRJ)"},{"$f":"'Bill of Materials'!L1061","v":"Cisco"},{"$f":"'Bill of Materials'!N1061","v":897.75},{"$f":"'Bill of Materials'!P1061","v":"HP"},{"$f":"'Bill of Materials'!C1061","v":"8877"},{"$f":"'Bill of Materials'!H1061","v":"WS-C2955C-12"},null,null,null,0,{"$f":"'Bill of Materials'!J1061","v":"standard material"},{"$f":"'Bill of Materials'!K1061","v":"electronic"},0]
[{"$f":"'Bill of Materials'!E1062+'Bill of Materials'!F1062","v":0},{"$f":"'Bill of Materials'!M1062","v":"EA"},{"$f":"'Bill of Materials'!G1062","v":"Catalyst 2955 12 port 10/100 TX w/ (2) Fixed SMF UPLINK Interfaces (LC)"},{"$f":"'Bill of Materials'!L1062","v":"Cisco"},{"$f":"'Bill of Materials'!N1062","v":1101.5999999999999},{"$f":"'Bill of Materials'!P1062","v":"HP"},{"$f":"'Bill of Materials'!C1062","v":"8878"},{"$f":"'Bill of Materials'!H1062","v":"WS-C2955S-12"},null,null,null,0,{"$f":"'Bill of Materials'!J1062","v":"standard material"},{"$f":"'Bill of Materials'!K1062","v":"electronic"},0]
[{"$f":"'Bill of Materials'!E1064+'Bill of Materials'!F1064","v":0},{"$f":"'Bill of Materials'!M1064","v":"EA"},{"$f":"'Bill of Materials'!G1064","v":"Catalyst 3750V2 24 10/100 PoE + 2 SFP Enhanced Image"},{"$f":"'Bill of Materials'!L1064","v":"Cisco"},{"$f":"'Bill of Materials'!N1064","v":2716},{"$f":"'Bill of Materials'!P1064","v":"HP"},{"$f":"'Bill of Materials'!C1064","v":"10307\t"},{"$f":"'Bill of Materials'!H1064","v":"WS-C3750V2-24PS-E"},null,null,null,0,{"$f":"'Bill of Materials'!J1064","v":"standard material"},{"$f":"'Bill of Materials'!K1064","v":"electronic"},0]
[{"$f":"'Bill of Materials'!E1065+'Bill of Materials'!F1065","v":0},{"$f":"'Bill of Materials'!M1065","v":"EA"},{"$f":"'Bill of Materials'!G1065","v":"Catalyst 3750V2 24 10/100 + 2 SFP Enhanced Image"},{"$f":"'Bill of Materials'!L1065","v":"Cisco"},{"$f":"'Bill of Materials'!N1065","v":2396},{"$f":"'Bill of Materials'!P1065","v":"HP"},{"$f":"'Bill of Materials'!C1065","v":"10308"},{"$f":"'Bill of Materials'!H1065","v":"WS-C3750V2-24TS-E"},null,null,null,0,{"$f":"'Bill of Materials'!J1065","v":"standard material"},{"$f":"'Bill of Materials'!K1065","v":"electronic"},0]
[{"$f":"'Bill of Materials'!#REF!+'Bill of Materials'!#REF!","v":{"$error":"#REF!"}},{"$f":"'Bill of Materials'!#REF!","v":{"$error":"#REF!"}},{"$f":"'Bill of Materials'!#REF!","v":{"$error":"#REF!"}},{"$f":"'Bill of Materials'!#REF!","v":{"$error":"#REF!"}},{"$f":"'Bill of Materials'!#REF!","v":{"$error":"#REF!"}},{"$f":"'Bill of Materials'!#REF!","v":{"$error":"#REF!"}},{"$f":"'Bill of Materials'!#REF!","v":{"$error":"#REF!"}},{"$f":"'Bill of Materials'!#REF!","v":{"$error":"#REF!"}},null,null,null,{"$error":"#REF!"},{"$f":"'Bill of Materials'!#REF!","v":{"$error":"#REF!"}},{"$f":"'Bill of Materials'!#REF!","v":{"$error":"#REF!"}},{"$error":"#REF!"}]
[{"$f":"'Bill of Materials'!E1066+'Bill of Materials'!F1066","v":0},{"$f":"'Bill of Materials'!M1066","v":"EA"},{"$f":"'Bill of Materials'!G1066","v":"Catalyst 3750V2 48 10/100 PoE + 4 SFP Enhanced Image"},{"$f":"'Bill of Materials'!L1066","v":"Cisco"},{"$f":"'Bill of Materials'!N1066","v":4196},{"$f":"'Bill of Materials'!P1066","v":"HP"},{"$f":"'Bill of Materials'!C1066","v":"10309"},{"$f":"'Bill of Materials'!H1066","v":"WS-C3750V2-48PS-E"},null,null,null,0,{"$f":"'Bill of Materials'!J1066","v":"standard material"},{"$f":"'Bill of Materials'!K1066","v":"electronic"},0]
[{"$f":"'Bill of Materials'!E1067+'Bill of Materials'!F1067","v":0},{"$f":"'Bill of Materials'!M1067","v":"EA"},{"$f":"'Bill of Materials'!G1067","v":"Catalyst 3750V2 48 10/100 + 4 SFP Enhanced Image"},{"$f":"'Bill of Materials'!L1067","v":"Cisco"},{"$f":"'Bill of Materials'!N1067","v":3596},{"$f":"'Bill of Materials'!P1067","v":"HP"},{"$f":"'Bill of Materials'!C1067","v":"10310"},{"$f":"'Bill of Materials'!H1067","v":"WS-C3750V2-48TS-E"},null,null,null,{"$f":"E1110*A1110","v":0},{"$f":"'Bill of Materials'!J1067","v":"standard material"},{"$f":"'Bill of Materials'!K1067","v":"electronic"},{"$f":"IF(A1110>0,1,0)","v":0}]
[{"$f":"'Bill of Materials'!E1068+'Bill of Materials'!F1068","v":0},{"$f":"'Bill of Materials'!M1068","v":"EA"},{"$f":"'Bill of Materials'!G1068","v":"Catalyst 3750X 24 Port PoE IP Base"},{"$f":"'Bill of Materials'!L1068","v":"Cisco"},{"$f":"'Bill of Materials'!N1068","v":2920},{"$f":"'Bill of Materials'!P1068","v":"HP"},{"$f":"'Bill of Materials'!C1068","v":"10328"},{"$f":"'Bill of Materials'!H1068","v":"WS-C3750X-24P-S"},null,null,null,0,{"$f":"'Bill of Materials'!J1068","v":"standard material"},{"$f":"'Bill of Materials'!K1068","v":"electronic"},0]
[{"$f":"'Bill of Materials'!E1069+'Bill of Materials'!F1069","v":0},{"$f":"'Bill of Materials'!M1069","v":"EA"},{"$f":"'Bill of Materials'!G1069","v":"C3750X-24 IP Base to IP Services factory IOS Upgrade"},{"$f":"'Bill of Materials'!L1069","v":"Cisco"},{"$f":"'Bill of Materials'!N1069","v":1400},{"$f":"'Bill of Materials'!P1069","v":"HP"},{"$f":"'Bill of Materials'!C1069","v":"10329"},{"$f":"'Bill of Materials'!H1069","v":"C3750X-24-IOS-S-E"},null,null,null,0,{"$f":"'Bill of Materials'!J1069","v":"standard material"},{"$f":"'Bill of Materials'!K1069","v":"electronic"},0]
[{"$f":"'Bill of Materials'!E1070+'Bill of Materials'!F1070","v":0},{"$f":"'Bill of Materials'!M1070","v":"EA"},{"$f":"'Bill of Materials'!G1070","v":"Catalyst 3750X 48 Port PoE IP Base"},{"$f":"'Bill of Materials'!L1070","v":"Cisco"},{"$f":"'Bill of Materials'!N1070","v":6240},{"$f":"'Bill of Materials'!P1070","v":"HP"},{"$f":"'Bill of Materials'!C1070","v":"10330"},{"$f":"'Bill of Materials'!H1070","v":"WS-C3750X-48P-S\t"},null,null,null,0,{"$f":"'Bill of Materials'!J1070","v":"standard material"},{"$f":"'Bill of Materials'!K1070","v":"electronic"},0]
[{"$f":"'Bill of Materials'!E1071+'Bill of Materials'!F1071","v":0},{"$f":"'Bill of Materials'!M1071","v":"EA"},{"$f":"'Bill of Materials'!G1071","v":"C3750X-48 IP Base to IP Services factory IOS Upgrade"},{"$f":"'Bill of Materials'!L1071","v":"Cisco"},{"$f":"'Bill of Materials'!N1071","v":3840},{"$f":"'Bill of Materials'!P1071","v":"HP"},{"$f":"'Bill of Materials'!C1071","v":"10331"},{"$f":"'Bill of Materials'!H1071","v":"C3750X-48-IOS-S-E"},null,null,null,0,{"$f":"'Bill of Materials'!J1071","v":"standard material"},{"$f":"'Bill of Materials'!K1071","v":"electronic"},0]
[{"$f":"'Bill of Materials'!E1072+'Bill of Materials'!F1072","v":0},{"$f":"'Bill of Materials'!M1072","v":"EA"},{"$f":"'Bill of Materials'!G1072","v":"Catalyst 3750X 48 Port Full PoE IP Base"},{"$f":"'Bill of Materials'!L1072","v":"Cisco"},{"$f":"'Bill of Materials'!N1072","v":5600},{"$f":"'Bill of Materials'!P1072","v":"HP"},{"$f":"'Bill of Materials'!C1072","v":"10332"},{"$f":"'Bill of Materials'!H1072","v":"WS-C3750X-48PF-S"},null,null,null,0,{"$f":"'Bill of Materials'!J1072","v":"standard material"},{"$f":"'Bill of Materials'!K1072","v":"electronic"},0]
[{"$f":"'Bill of Materials'!E1073+'Bill of Materials'!F1073","v":0},{"$f":"'Bill of Materials'!M1073","v":"EA"},{"$f":"'Bill of Materials'!G1073","v":"Catalyst 3K-X 1G Network Module\t"},{"$f":"'Bill of Materials'!L1073","v":"Cisco"},{"$f":"'Bill of Materials'!N1073","v":200},{"$f":"'Bill of Materials'!P1073","v":"HP"},{"$f":"'Bill of Materials'!C1073","v":"10333"},{"$f":"'Bill of Materials'!H1073","v":"C3KX-NM-1G="},null,null,null,0,{"$f":"'Bill of Materials'!J1073","v":"standard material"},{"$f":"'Bill of Materials'!K1073","v":"electronic"},0]
[{"$f":"'Bill of Materials'!E1074+'Bill of Materials'!F1074","v":0},{"$f":"'Bill of Materials'!M1074","v":"EA"},{"$f":"'Bill of Materials'!G1074","v":"Catalyst 3K-X 10G Network Module"},{"$f":"'Bill of Materials'!L1074","v":"Cisco"},{"$f":"'Bill of Materials'!N1074","v":1000},{"$f":"'Bill of Materials'!P1074","v":"HP"},{"$f":"'Bill of Materials'!C1074","v":"10334"},{"$f":"'Bill of Materials'!H1074","v":"C3KX-NM-10G="},null,null,null,0,{"$f":"'Bill of Materials'!J1074","v":"standard material"},{"$f":"'Bill of Materials'!K1074","v":"electronic"},0]
[{"$f":"'Bill of Materials'!E1075+'Bill of Materials'!F1075","v":0},{"$f":"'Bill of Materials'!M1075","v":"EA"},{"$f":"'Bill of Materials'!G1075","v":"Catalyst 3K-X 715W AC Power Supply"},{"$f":"'Bill of Materials'!L1075","v":"Cisco"},{"$f":"'Bill of Materials'!N1075","v":400},{"$f":"'Bill of Materials'!P1075","v":"HP"},{"$f":"'Bill of Materials'!C1075","v":"10335"},{"$f":"'Bill of Materials'!H1075","v":"C3KX-PWR-715WAC="},null,null,null,0,{"$f":"'Bill of Materials'!J1075","v":"standard material"},{"$f":"'Bill of Materials'!K1075","v":"electronic"},0]
[{"$f":"'Bill of Materials'!E1076+'Bill of Materials'!F1076","v":0},{"$f":"'Bill of Materials'!M1076","v":"EA"},{"$f":"'Bill of Materials'!G1076","v":"Catalyst 3K-X 1100W AC Power Supply"},{"$f":"'Bill of Materials'!L1076","v":"Cisco"},{"$f":"'Bill of Materials'!N1076","v":600},{"$f":"'Bill of Materials'!P1076","v":"HP"},{"$f":"'Bill of Materials'!C1076","v":"10336"},{"$f":"'Bill of Materials'!H1076","v":"C3KX-PWR-1100WAC="},null,null,null,0,{"$f":"'Bill of Materials'!J1076","v":"standard material"},{"$f":"'Bill of Materials'!K1076","v":"electronic"},0]
[{"$f":"'Bill of Materials'!E1077+'Bill of Materials'!F1077","v":0},{"$f":"'Bill of Materials'!M1077","v":"EA"},{"$f":"'Bill of Materials'!G1077","v":"Catalyst 3K-X Fan Module Spare"},{"$f":"'Bill of Materials'!L1077","v":"Cisco"},{"$f":"'Bill of Materials'!N1077","v":118},{"$f":"'Bill of Materials'!P1077","v":"HP"},{"$f":"'Bill of Materials'!C1077","v":"10337"},{"$f":"'Bill of Materials'!H1077","v":"C3KX-FAN-23CFM="},null,null,null,0,{"$f":"'Bill of Materials'!J1077","v":"standard material"},{"$f":"'Bill of Materials'!K1077","v":"electronic"},0]
[{"$f":"'Bill of Materials'!E1078+'Bill of Materials'!F1078","v":0},{"$f":"'Bill of Materials'!M1078","v":"EA"},{"$f":"'Bill of Materials'!G1078","v":"Cisco StackWise 50CM Non-Halogen Lead Free Stacking Cable"},{"$f":"'Bill of Materials'!L1078","v":"Cisco"},{"$f":"'Bill of Materials'!N1078","v":60},{"$f":"'Bill of Materials'!P1078","v":"HP"},{"$f":"'Bill of Materials'!C1078","v":"10338"},{"$f":"'Bill of Materials'!H1078","v":"CAB-STACK-50CM-NH="},null,null,null,0,{"$f":"'Bill of Materials'!J1078","v":"standard material"},{"$f":"'Bill of Materials'!K1078","v":"electronic"},0]
[{"$f":"'Bill of Materials'!E1079+'Bill of Materials'!F1079","v":0},{"$f":"'Bill of Materials'!M1079","v":"EA"},{"$f":"'Bill of Materials'!G1079","v":"Cisco StackWise 1M Non-Halogen Lead Free Stacking Cable\t"},{"$f":"'Bill of Materials'!L1079","v":"Cisco"},{"$f":"'Bill of Materials'!N1079","v":100},{"$f":"'Bill of Materials'!P1079","v":"HP"},{"$f":"'Bill of Materials'!C1079","v":"10339"},{"$f":"'Bill of Materials'!H1079","v":"CAB-STACK-1M-NH="},null,null,null,0,{"$f":"'Bill of Materials'!J1079","v":"standard material"},{"$f":"'Bill of Materials'!K1079","v":"electronic"},0]
[{"$f":"'Bill of Materials'!E1080+'Bill of Materials'!F1080","v":0},{"$f":"'Bill of Materials'!M1080","v":"EA"},{"$f":"'Bill of Materials'!G1080","v":"Cisco StackWise 3M Non-Halogen Lead Free Stacking Cable"},{"$f":"'Bill of Materials'!L1080","v":"Cisco"},{"$f":"'Bill of Materials'!N1080","v":140},{"$f":"'Bill of Materials'!P1080","v":"HP"},{"$f":"'Bill of Materials'!C1080","v":"10340"},{"$f":"'Bill of Materials'!H1080","v":"CAB-STACK-3M-NH="},null,null,null,0,{"$f":"'Bill of Materials'!J1080","v":"standard material"},{"$f":"'Bill of Materials'!K1080","v":"electronic"},0]
[{"$f":"'Bill of Materials'!E1081+'Bill of Materials'!F1081","v":0},{"$f":"'Bill of Materials'!M1081","v":"EA"},{"$f":"'Bill of Materials'!G1081","v":"Catalyst 3750X Stack Power Cable 30 CM Spare"},{"$f":"'Bill of Materials'!L1081","v":"Cisco"},{"$f":"'Bill of Materials'!N1081","v":38},{"$f":"'Bill of Materials'!P1081","v":"HP"},{"$f":"'Bill of Materials'!C1081","v":"10341"},{"$f":"'Bill of Materials'!H1081","v":"CAB-SPWR-30CM="},null,null,null,0,{"$f":"'Bill of Materials'!J1081","v":"standard material"},{"$f":"'Bill of Materials'!K1081","v":"electronic"},0]
[{"$f":"'Bill of Materials'!E1082+'Bill of Materials'!F1082","v":0},{"$f":"'Bill of Materials'!M1082","v":"EA"},{"$f":"'Bill of Materials'!G1082","v":"Catalyst 3750X Stack Power Cable 150 CM Spare"},{"$f":"'Bill of Materials'!L1082","v":"Cisco"},{"$f":"'Bill of Materials'!N1082","v":78},{"$f":"'Bill of Materials'!P1082","v":"HP"},{"$f":"'Bill of Materials'!C1082","v":"10342"},{"$f":"'Bill of Materials'!H1082","v":"CAB-SPWR-150CM="},null,null,null,0,{"$f":"'Bill of Materials'!J1082","v":"standard material"},{"$f":"'Bill of Materials'!K1082","v":"electronic"},0]
[{"$f":"'Bill of Materials'!E1083+'Bill of Materials'!F1083","v":0},{"$f":"'Bill of Materials'!M1083","v":"EA"},{"$f":"'Bill of Materials'!G1083","v":"Catalyst 3750X 12 Port Stackable GE SFP Ethernet ports, IP Services feature set"},{"$f":"'Bill of Materials'!L1083","v":"Cisco"},{"$f":"'Bill of Materials'!N1083","v":5600},{"$f":"'Bill of Materials'!P1083","v":"HP"},{"$f":"'Bill of Materials'!C1083","v":"10465"},{"$f":"'Bill of Materials'!H1083","v":"WS-C3750X-12S-E"},null,null,null,0,{"$f":"'Bill of Materials'!J1083","v":"standard material"},{"$f":"'Bill of Materials'!K1083","v":"electronic"},0]
[{"$f":"'Bill of Materials'!E1084+'Bill of Materials'!F1084","v":0},{"$f":"'Bill of Materials'!M1084","v":"EA"},{"$f":"'Bill of Materials'!G1084","v":"CISCO Catalyst 3750X 24 Port Stackable GE SFP Ethernet ports, IP Services feature set"},{"$f":"'Bill of Materials'!L1084","v":"Cisco"},{"$f":"'Bill of Materials'!N1084","v":12000},{"$f":"'Bill of Materials'!P1084","v":"HP"},{"$f":"'Bill of Materials'!C1084","v":"10516"},{"$f":"'Bill of Materials'!H1084","v":"WS-C3750X-24S-E  "},null,null,null,0,{"$f":"'Bill of Materials'!J1084","v":"standard material"},{"$f":"'Bill of Materials'!K1084","v":"electronic"},0]
[{"$f":"'Bill of Materials'!E1085+'Bill of Materials'!F1085","v":0},{"$f":"'Bill of Materials'!M1085","v":"EA"},{"$f":"'Bill of Materials'!G1085","v":"Cisco AC Power Cord (North America),110V Nema 5-15 amp"},{"$f":"'Bill of Materials'!L1085","v":"Cisco"},{"$f":"'Bill of Materials'!N1085","v":20},{"$f":"'Bill of Materials'!P1085","v":"HP"},{"$f":"'Bill of Materials'!C1085","v":"8199"},{"$f":"'Bill of Materials'!H1085","v":"CAB-AC"},null,null,null,0,{"$f":"'Bill of Materials'!J1085","v":"standard material"},{"$f":"'Bill of Materials'!K1085","v":"electronic"},0]
[{"$f":"'Bill of Materials'!E1086+'Bill of Materials'!F1086","v":0},{"$f":"'Bill of Materials'!M1086","v":"EA"},{"$f":"'Bill of Materials'!G1086","v":"Cisco StackWise 3M Stacking Cable"},{"$f":"'Bill of Materials'!L1086","v":"Cisco"},{"$f":"'Bill of Materials'!N1086","v":120},{"$f":"'Bill of Materials'!P1086","v":"HP"},{"$f":"'Bill of Materials'!C1086","v":"8660"},{"$f":"'Bill of Materials'!H1086","v":"CAB-STACK-3M"},null,null,null,0,{"$f":"'Bill of Materials'!J1086","v":"standard material"},{"$f":"'Bill of Materials'!K1086","v":"electronic"},0]
[{"$f":"'Bill of Materials'!E1087+'Bill of Materials'!F1087","v":0},{"$f":"'Bill of Materials'!M1087","v":"EA"},{"$f":"'Bill of Materials'!G1087","v":"Catalyst 3750 24 10/100 PoE + 2 SFP "},{"$f":"'Bill of Materials'!L1087","v":"Cisco"},{"$f":"'Bill of Materials'!N1087","v":2920},{"$f":"'Bill of Materials'!P1087","v":"HP"},{"$f":"'Bill of Materials'!C1087","v":"8730"},{"$f":"'Bill of Materials'!H1087","v":"WS-C3750-24PS-E"},null,null,null,0,{"$f":"'Bill of Materials'!J1087","v":"standard material"},{"$f":"'Bill of Materials'!K1087","v":"electronic"},0]
[{"$f":"'Bill of Materials'!E1088+'Bill of Materials'!F1088","v":0},{"$f":"'Bill of Materials'!M1088","v":"EA"},{"$f":"'Bill of Materials'!G1088","v":"Cisco StackWise 50CM Stacking Cable"},{"$f":"'Bill of Materials'!L1088","v":"Cisco"},{"$f":"'Bill of Materials'!N1088","v":0},{"$f":"'Bill of Materials'!P1088","v":"HP"},{"$f":"'Bill of Materials'!C1088","v":"8776"},{"$f":"'Bill of Materials'!H1088","v":"CAB-STACK-50CM"},null,null,null,0,{"$f":"'Bill of Materials'!J1088","v":"standard material"},{"$f":"'Bill of Materials'!K1088","v":"electronic"},0]
[{"$f":"'Bill of Materials'!E1089+'Bill of Materials'!F1089","v":0},{"$f":"'Bill of Materials'!M1089","v":"EA"},{"$f":"'Bill of Materials'!G1089","v":"Catalyst 3750 48 10/100 PoE + 4 SFP Enhanced Image"},{"$f":"'Bill of Materials'!L1089","v":"Cisco"},{"$f":"'Bill of Materials'!N1089","v":5035.2},{"$f":"'Bill of Materials'!P1089","v":"HP"},{"$f":"'Bill of Materials'!C1089","v":"8799"},{"$f":"'Bill of Materials'!H1089","v":"WS-C3750-48PS-E"},null,null,null,0,{"$f":"'Bill of Materials'!J1089","v":"standard material"},{"$f":"'Bill of Materials'!K1089","v":"electronic"},0]
[{"$f":"'Bill of Materials'!#REF!+'Bill of Materials'!#REF!","v":{"$error":"#REF!"}},{"$f":"'Bill of Materials'!#REF!","v":{"$error":"#REF!"}},{"$f":"'Bill of Materials'!#REF!","v":{"$error":"#REF!"}},{"$f":"'Bill of Materials'!#REF!","v":{"$error":"#REF!"}},{"$f":"'Bill of Materials'!#REF!","v":{"$error":"#REF!"}},{"$f":"'Bill of Materials'!#REF!","v":{"$error":"#REF!"}},{"$f":"'Bill of Materials'!#REF!","v":{"$error":"#REF!"}},{"$f":"'Bill of Materials'!#REF!","v":{"$error":"#REF!"}},null,null,null,{"$error":"#REF!"},{"$f":"'Bill of Materials'!#REF!","v":{"$error":"#REF!"}},{"$f":"'Bill of Materials'!#REF!","v":{"$error":"#REF!"}},{"$error":"#REF!"}]
[{"$f":"'Bill of Materials'!E1090+'Bill of Materials'!F1090","v":0},{"$f":"'Bill of Materials'!M1090","v":"EA"},{"$f":"'Bill of Materials'!G1090","v":"Catalyst 3750 12 SFP Enhanced Multilayer Image "},{"$f":"'Bill of Materials'!L1090","v":"Cisco"},{"$f":"'Bill of Materials'!N1090","v":4796},{"$f":"'Bill of Materials'!P1090","v":"HP"},{"$f":"'Bill of Materials'!C1090","v":"8803"},{"$f":"'Bill of Materials'!H1090","v":"WS-C3750G-12S-E"},null,null,null,0,{"$f":"'Bill of Materials'!J1090","v":"standard material"},{"$f":"'Bill of Materials'!K1090","v":"electronic"},0]
[{"$f":"'Bill of Materials'!E1091+'Bill of Materials'!F1091","v":0},{"$f":"'Bill of Materials'!M1091","v":"EA"},{"$f":"'Bill of Materials'!G1091","v":"Catalyst 3750 48 10/100/1000T PoE + 4 SFP Enhanced Image"},{"$f":"'Bill of Materials'!L1091","v":"Cisco"},{"$f":"'Bill of Materials'!N1091","v":9396},{"$f":"'Bill of Materials'!P1091","v":"HP"},{"$f":"'Bill of Materials'!C1091","v":"8819"},{"$f":"'Bill of Materials'!H1091","v":"WS-C3750G-48PS-E"},null,null,null,0,{"$f":"'Bill of Materials'!J1091","v":"standard material"},{"$f":"'Bill of Materials'!K1091","v":"electronic"},0]
[{"$f":"'Bill of Materials'!E1092+'Bill of Materials'!F1092","v":0},{"$f":"'Bill of Materials'!M1092","v":"EA"},{"$f":"'Bill of Materials'!G1092","v":"Redundant Power System 2300 and Blower, No Power Supply"},{"$f":"'Bill of Materials'!L1092","v":"Cisco"},{"$f":"'Bill of Materials'!N1092","v":480},{"$f":"'Bill of Materials'!P1092","v":"HP"},{"$f":"'Bill of Materials'!C1092","v":"8823"},{"$f":"'Bill of Materials'!H1092","v":"PWR-RPS2300"},null,null,null,0,{"$f":"'Bill of Materials'!J1092","v":"standard material"},{"$f":"'Bill of Materials'!K1092","v":"electronic"},0]
[{"$f":"'Bill of Materials'!E1093+'Bill of Materials'!F1093","v":0},{"$f":"'Bill of Materials'!M1093","v":"EA"},{"$f":"'Bill of Materials'!G1093","v":"Cisco StackWise 1M Stacking Cable"},{"$f":"'Bill of Materials'!L1093","v":"Cisco"},{"$f":"'Bill of Materials'!N1093","v":40},{"$f":"'Bill of Materials'!P1093","v":"HP"},{"$f":"'Bill of Materials'!C1093","v":"8824"},{"$f":"'Bill of Materials'!H1093","v":"CAB-STACK-1M"},null,null,null,0,{"$f":"'Bill of Materials'!J1093","v":"standard material"},{"$f":"'Bill of Materials'!K1093","v":"electronic"},0]
[{"$f":"'Bill of Materials'!E1094+'Bill of Materials'!F1094","v":0},{"$f":"'Bill of Materials'!M1094","v":"EA"},{"$f":"'Bill of Materials'!G1094","v":"Redundant Power System 2300 750WAC power supply"},{"$f":"'Bill of Materials'!L1094","v":"Cisco"},{"$f":"'Bill of Materials'!N1094","v":398},{"$f":"'Bill of Materials'!P1094","v":"HP"},{"$f":"'Bill of Materials'!C1094","v":"8825"},{"$f":"'Bill of Materials'!H1094","v":"C3K-PWR-750WAC"},null,null,null,0,{"$f":"'Bill of Materials'!J1094","v":"standard material"},{"$f":"'Bill of Materials'!K1094","v":"electronic"},0]
[{"$f":"'Bill of Materials'!E1095+'Bill of Materials'!F1095","v":0},{"$f":"'Bill of Materials'!M1095","v":"EA"},{"$f":"'Bill of Materials'!G1095","v":"Redundant Power System 2300 Spare Cable for Devices other than E-Series Switches"},{"$f":"'Bill of Materials'!L1095","v":"Cisco"},{"$f":"'Bill of Materials'!N1095","v":72},{"$f":"'Bill of Materials'!P1095","v":"HP"},{"$f":"'Bill of Materials'!C1095","v":"8826"},{"$f":"'Bill of Materials'!H1095","v":"CAB-RPS2300="},null,null,null,0,{"$f":"'Bill of Materials'!J1095","v":"standard material"},{"$f":"'Bill of Materials'!K1095","v":"electronic"},0]
[{"$f":"'Bill of Materials'!E1096+'Bill of Materials'!F1096","v":0},{"$f":"'Bill of Materials'!M1096","v":"EA"},{"$f":"'Bill of Materials'!G1096","v":"Catalyst 3750 24 10/100/1000T PoE + 4 SFP Enhanced Image"},{"$f":"'Bill of Materials'!L1096","v":"Cisco"},{"$f":"'Bill of Materials'!N1096","v":4716},{"$f":"'Bill of Materials'!P1096","v":"HP"},{"$f":"'Bill of Materials'!C1096","v":"8827"},{"$f":"'Bill of Materials'!H1096","v":"WS-C3750G-24PS-E"},null,null,null,0,{"$f":"'Bill of Materials'!J1096","v":"standard material"},{"$f":"'Bill of Materials'!K1096","v":"electronic"},0]
[{"$f":"'Bill of Materials'!E1097+'Bill of Materials'!F1097","v":0},{"$f":"'Bill of Materials'!M1097","v":"EA"},{"$f":"'Bill of Materials'!G1097","v":"Catalyst 3750 24 10/100 + 2 SFP Enhanced Image"},{"$f":"'Bill of Materials'!L1097","v":"Cisco"},{"$f":"'Bill of Materials'!N1097","v":2875.2},{"$f":"'Bill of Materials'!P1097","v":"HP"},{"$f":"'Bill of Materials'!C1097","v":"8886"},{"$f":"'Bill of Materials'!H1097","v":"WS-C3750-24TS-E"},null,null,null,0,{"$f":"'Bill of Materials'!J1097","v":"standard material"},{"$f":"'Bill of Materials'!K1097","v":"electronic"},0]
[{"$f":"'Bill of Materials'!E1098+'Bill of Materials'!F1098","v":0},{"$f":"'Bill of Materials'!M1098","v":"EA"},{"$f":"'Bill of Materials'!G1098","v":"Catalyst 3750 24 10/100/1000 + 4 SFP"},{"$f":"'Bill of Materials'!L1098","v":"Cisco"},{"$f":"'Bill of Materials'!N1098","v":4396},{"$f":"'Bill of Materials'!P1098","v":"HP"},{"$f":"'Bill of Materials'!C1098","v":"8897"},{"$f":"'Bill of Materials'!H1098","v":"WS-C3750G-24TS-E"},null,null,null,0,{"$f":"'Bill of Materials'!J1098","v":"standard material"},{"$f":"'Bill of Materials'!K1098","v":"electronic"},0]
[{"$f":"'Bill of Materials'!E1100+'Bill of Materials'!F1100","v":0},{"$f":"'Bill of Materials'!M1100","v":"EA"},{"$f":"'Bill of Materials'!G1100","v":"CISCO 7200 Network Processing Engine with 3 GE/FE/E ports"},{"$f":"'Bill of Materials'!L1100","v":"Cisco"},{"$f":"'Bill of Materials'!N1100","v":6750},{"$f":"'Bill of Materials'!P1100","v":"HP"},{"$f":"'Bill of Materials'!C1100","v":"10497"},{"$f":"'Bill of Materials'!H1100","v":"NPE-G1"},null,null,null,0,{"$f":"'Bill of Materials'!J1100","v":"standard material"},{"$f":"'Bill of Materials'!K1100","v":"electronic"},0]
[{"$f":"'Bill of Materials'!E1101+'Bill of Materials'!F1101","v":0},{"$f":"'Bill of Materials'!M1101","v":"EA"},{"$f":"'Bill of Materials'!G1101","v":"Cisco7204: Cisco 7200 4-slot Modular Router-AC with IP Software"},{"$f":"'Bill of Materials'!L1101","v":"Cisco"},{"$f":"'Bill of Materials'!N1101","v":2700},{"$f":"'Bill of Materials'!P1101","v":"HP"},{"$f":"'Bill of Materials'!C1101","v":"8419"},{"$f":"'Bill of Materials'!H1101","v":"CISCO7204VXR"},null,null,null,0,{"$f":"'Bill of Materials'!J1101","v":"standard material"},{"$f":"'Bill of Materials'!K1101","v":"electronic"},0]
[{"$f":"'Bill of Materials'!E1103+'Bill of Materials'!F1103","v":0},{"$f":"'Bill of Materials'!M1103","v":"EA"},{"$f":"'Bill of Materials'!G1103","v":"CISCO Catalyst 4500 6000W AC dual input Power Supply (Data + PoE)"},{"$f":"'Bill of Materials'!L1103","v":"Cisco"},{"$f":"'Bill of Materials'!N1103","v":1797.75},{"$f":"'Bill of Materials'!P1103","v":"HP"},{"$f":"'Bill of Materials'!C1103","v":"10484"},{"$f":"'Bill of Materials'!H1103","v":"PWR-C45-6000ACV\t"},null,null,null,0,{"$f":"'Bill of Materials'!J1103","v":"standard material"},{"$f":"'Bill of Materials'!K1103","v":"electronic"},0]
[{"$f":"'Bill of Materials'!E1104+'Bill of Materials'!F1104","v":0},{"$f":"'Bill of Materials'!M1104","v":"EA"},{"$f":"'Bill of Materials'!G1104","v":"CISCO Catalyst 4500 2GB SD Memory Card for Sup7-E"},{"$f":"'Bill of Materials'!L1104","v":"Cisco"},{"$f":"'Bill of Materials'!N1104","v":225},{"$f":"'Bill of Materials'!P1104","v":"HP"},{"$f":"'Bill of Materials'!C1104","v":"10485"},{"$f":"'Bill of Materials'!H1104","v":"SD-X45-2GB-E"},null,null,null,0,{"$f":"'Bill of Materials'!J1104","v":"standard material"},{"$f":"'Bill of Materials'!K1104","v":"electronic"},0]
[{"$f":"'Bill of Materials'!E1105+'Bill of Materials'!F1105","v":0},{"$f":"'Bill of Materials'!M1105","v":"EA"},{"$f":"'Bill of Materials'!G1105","v":"CISCO Catalyst 4500 40 SFP/80 C-SFP ports 1000BaseX(SFPs Optional)"},{"$f":"'Bill of Materials'!L1105","v":"Cisco"},{"$f":"'Bill of Materials'!N1105","v":8977.5},{"$f":"'Bill of Materials'!P1105","v":"HP"},{"$f":"'Bill of Materials'!C1105","v":"10486"},{"$f":"'Bill of Materials'!H1105","v":"WS-X4640-CSFP-E"},null,null,null,0,{"$f":"'Bill of Materials'!J1105","v":"standard material"},{"$f":"'Bill of Materials'!K1105","v":"electronic"},0]
[{"$f":"'Bill of Materials'!E1106+'Bill of Materials'!F1106","v":0},{"$f":"'Bill of Materials'!M1106","v":"EA"},{"$f":"'Bill of Materials'!G1106","v":"CISCO Catalyst 4500E Supervisor LE, 520Gbps"},{"$f":"'Bill of Materials'!L1106","v":"Cisco"},{"$f":"'Bill of Materials'!N1106","v":5397.75},{"$f":"'Bill of Materials'!P1106","v":"HP"},{"$f":"'Bill of Materials'!C1106","v":"10487"},{"$f":"'Bill of Materials'!H1106","v":"WS-X45-SUP7L-E"},null,null,null,0,{"$f":"'Bill of Materials'!J1106","v":"standard material"},{"$f":"'Bill of Materials'!K1106","v":"electronic"},0]
[{"$f":"'Bill of Materials'!E1107+'Bill of Materials'!F1107","v":0},{"$f":"'Bill of Materials'!M1107","v":"EA"},{"$f":"'Bill of Materials'!G1107","v":"CISCO Catalyst 4500E 48-Port PoE 802.3at 10/100/1000(RJ45)"},{"$f":"'Bill of Materials'!L1107","v":"Cisco"},{"$f":"'Bill of Materials'!N1107","v":4047.75},{"$f":"'Bill of Materials'!P1107","v":"HP"},{"$f":"'Bill of Materials'!C1107","v":"10488"},{"$f":"'Bill of Materials'!H1107","v":"WS-X4748-RJ45V+E"},null,null,null,0,{"$f":"'Bill of Materials'!J1107","v":"standard material"},{"$f":"'Bill of Materials'!K1107","v":"electronic"},0]
[{"$f":"'Bill of Materials'!E1108+'Bill of Materials'!F1108","v":0},{"$f":"'Bill of Materials'!M1108","v":"EA"},{"$f":"'Bill of Materials'!G1108","v":"CISCO Catalyst 4500E Paper IP to Ent Services License"},{"$f":"'Bill of Materials'!L1108","v":"Cisco"},{"$f":"'Bill of Materials'!N1108","v":4497.75},{"$f":"'Bill of Materials'!P1108","v":"HP"},{"$f":"'Bill of Materials'!C1108","v":"10489"},{"$f":"'Bill of Materials'!H1108","v":"C4500E-IP-ES"},null,null,null,0,{"$f":"'Bill of Materials'!J1108","v":"standard material"},{"$f":"'Bill of Materials'!K1108","v":"electronic"},0]
[{"$f":"'Bill of Materials'!E1109+'Bill of Materials'!F1109","v":0},{"$f":"'Bill of Materials'!M1109","v":"EA"},{"$f":"'Bill of Materials'!G1109","v":"CISCO Catalyst 4500E 48-Port UPOE 10/100/1000(RJ45)"},{"$f":"'Bill of Materials'!L1109","v":"Cisco"},{"$f":"'Bill of Materials'!N1109","v":4047.75},{"$f":"'Bill of Materials'!P1109","v":"HP"},{"$f":"'Bill of Materials'!C1109","v":"10490"},{"$f":"'Bill of Materials'!H1109","v":"WS-X4748-UPOE+E\t"},null,null,null,0,{"$f":"'Bill of Materials'!J1109","v":"standard material"},{"$f":"'Bill of Materials'!K1109","v":"electronic"},0]
[{"$f":"'Bill of Materials'!E1110+'Bill of Materials'!F1110","v":0},{"$f":"'Bill of Materials'!M1110","v":"EA"},{"$f":"'Bill of Materials'!G1110","v":"CISCO Catalyst 4500E 12-Port GE (SFP)"},{"$f":"'Bill of Materials'!L1110","v":"Cisco"},{"$f":"'Bill of Materials'!N1110","v":2697.75},{"$f":"'Bill of Materials'!P1110","v":"HP"},{"$f":"'Bill of Materials'!C1110","v":"10491"},{"$f":"'Bill of Materials'!H1110","v":"WS-X4612-SFP-E"},null,null,null,0,{"$f":"'Bill of Materials'!J1110","v":"standard material"},{"$f":"'Bill of Materials'!K1110","v":"electronic"},0]
[{"$f":"'Bill of Materials'!E1111+'Bill of Materials'!F1111","v":0},{"$f":"'Bill of Materials'!M1111","v":"EA"},{"$f":"'Bill of Materials'!G1111","v":"CISCO Catalyst 4500E 24-Port GE (SFP)"},{"$f":"'Bill of Materials'!L1111","v":"Cisco"},{"$f":"'Bill of Materials'!N1111","v":9000},{"$f":"'Bill of Materials'!P1111","v":"HP"},{"$f":"'Bill of Materials'!C1111","v":"10492"},{"$f":"'Bill of Materials'!H1111","v":"WS-X4624-SFP-E"},null,null,null,0,{"$f":"'Bill of Materials'!J1111","v":"standard material"},{"$f":"'Bill of Materials'!K1111","v":"electronic"},0]
[{"$f":"'Bill of Materials'!E1112+'Bill of Materials'!F1112","v":0},{"$f":"'Bill of Materials'!M1112","v":"EA"},{"$f":"'Bill of Materials'!G1112","v":"CISCO Catalyst 4500E 48-Port 10/100/1000"},{"$f":"'Bill of Materials'!L1112","v":"Cisco"},{"$f":"'Bill of Materials'!N1112","v":3147.75},{"$f":"'Bill of Materials'!P1112","v":"HP"},{"$f":"'Bill of Materials'!C1112","v":"10493"},{"$f":"'Bill of Materials'!H1112","v":"WS-X4748-RJ45-E"},null,null,null,0,{"$f":"'Bill of Materials'!J1112","v":"standard material"},{"$f":"'Bill of Materials'!K1112","v":"electronic"},0]
[{"$f":"'Bill of Materials'!E1113+'Bill of Materials'!F1113","v":0},{"$f":"'Bill of Materials'!M1113","v":"EA"},{"$f":"'Bill of Materials'!G1113","v":"CISCO Catalyst 4500E 10 slot chassis for 48Gbps/slot\t"},{"$f":"'Bill of Materials'!L1113","v":"Cisco"},{"$f":"'Bill of Materials'!N1113","v":4497.75},{"$f":"'Bill of Materials'!P1113","v":"HP"},{"$f":"'Bill of Materials'!C1113","v":"10494"},{"$f":"'Bill of Materials'!H1113","v":"WS-C4510R+E"},null,null,null,0,{"$f":"'Bill of Materials'!J1113","v":"standard material"},{"$f":"'Bill of Materials'!K1113","v":"electronic"},0]
[{"$f":"'Bill of Materials'!#REF!+'Bill of Materials'!#REF!","v":{"$error":"#REF!"}},{"$f":"'Bill of Materials'!#REF!","v":{"$error":"#REF!"}},{"$f":"'Bill of Materials'!#REF!","v":{"$error":"#REF!"}},{"$f":"'Bill of Materials'!#REF!","v":{"$error":"#REF!"}},{"$f":"'Bill of Materials'!#REF!","v":{"$error":"#REF!"}},{"$f":"'Bill of Materials'!#REF!","v":{"$error":"#REF!"}},{"$f":"'Bill of Materials'!#REF!","v":{"$error":"#REF!"}},{"$f":"'Bill of Materials'!#REF!","v":{"$error":"#REF!"}},null,null,null,{"$error":"#REF!"},{"$f":"'Bill of Materials'!#REF!","v":{"$error":"#REF!"}},{"$f":"'Bill of Materials'!#REF!","v":{"$error":"#REF!"}},{"$error":"#REF!"}]
[{"$f":"'Bill of Materials'!#REF!+'Bill of Materials'!#REF!","v":{"$error":"#REF!"}},{"$f":"'Bill of Materials'!#REF!","v":{"$error":"#REF!"}},{"$f":"'Bill of Materials'!#REF!","v":{"$error":"#REF!"}},{"$f":"'Bill of Materials'!#REF!","v":{"$error":"#REF!"}},{"$f":"'Bill of Materials'!#REF!","v":{"$error":"#REF!"}},{"$f":"'Bill of Materials'!#REF!","v":{"$error":"#REF!"}},{"$f":"'Bill of Materials'!#REF!","v":{"$error":"#REF!"}},{"$f":"'Bill of Materials'!#REF!","v":{"$error":"#REF!"}},null,null,null,{"$error":"#REF!"},{"$f":"'Bill of Materials'!#REF!","v":{"$error":"#REF!"}},{"$f":"'Bill of Materials'!#REF!","v":{"$error":"#REF!"}},{"$error":"#REF!"}]
[{"$f":"'Bill of Materials'!E1114+'Bill of Materials'!F1114","v":0},{"$f":"'Bill of Materials'!M1114","v":"EA"},{"$f":"'Bill of Materials'!G1114","v":"CISCO Catalyst 4500 E-Series Supervisor, 848Gbps\t"},{"$f":"'Bill of Materials'!L1114","v":"Cisco"},{"$f":"'Bill of Materials'!N1114","v":8997.75},{"$f":"'Bill of Materials'!P1114","v":"HP"},{"$f":"'Bill of Materials'!C1114","v":"10495"},{"$f":"'Bill of Materials'!H1114","v":"WS-X45-SUP7-E"},null,null,null,0,{"$f":"'Bill of Materials'!J1114","v":"standard material"},{"$f":"'Bill of Materials'!K1114","v":"electronic"},0]
[{"$f":"'Bill of Materials'!E1115+'Bill of Materials'!F1115","v":0},{"$f":"'Bill of Materials'!M1115","v":"EA"},{"$f":"'Bill of Materials'!G1115","v":"CISCO Catalyst WS-C4507R+E Chassis, two WS-X4648-RJ45V+E, Sup7L-E, LAN Base\t"},{"$f":"'Bill of Materials'!L1115","v":"Cisco"},{"$f":"'Bill of Materials'!N1115","v":12147.75},{"$f":"'Bill of Materials'!P1115","v":"HP"},{"$f":"'Bill of Materials'!C1115","v":"10514"},{"$f":"'Bill of Materials'!H1115","v":"WS-C4507RE+96V+"},null,null,null,0,{"$f":"'Bill of Materials'!J1115","v":"standard material"},{"$f":"'Bill of Materials'!K1115","v":"electronic"},0]
[{"$f":"'Bill of Materials'!E1116+'Bill of Materials'!F1116","v":0},{"$f":"'Bill of Materials'!M1116","v":"EA"},{"$f":"'Bill of Materials'!G1116","v":"CISCO Catalyst 4510R+E Chassis, Two WS-X4748-RJ45V+E, Sup7-E"},{"$f":"'Bill of Materials'!L1116","v":"Cisco"},{"$f":"'Bill of Materials'!N1116","v":24745.5},{"$f":"'Bill of Materials'!P1116","v":"HP"},{"$f":"'Bill of Materials'!C1116","v":"10515"},{"$f":"'Bill of Materials'!H1116","v":"WS-C4510RE-S7+96V+"},null,null,null,0,{"$f":"'Bill of Materials'!J1116","v":"standard material"},{"$f":"'Bill of Materials'!K1116","v":"electronic"},0]
[{"$f":"'Bill of Materials'!E1117+'Bill of Materials'!F1117","v":0},{"$f":"'Bill of Materials'!M1117","v":"EA"},{"$f":"'Bill of Materials'!G1117","v":"Catalyst 4500 Chassis (7-Slot), fan, No p/s,Red Sup Capable"},{"$f":"'Bill of Materials'!L1117","v":"Cisco"},{"$f":"'Bill of Materials'!N1117","v":3147.75},{"$f":"'Bill of Materials'!P1117","v":"HP"},{"$f":"'Bill of Materials'!C1117","v":"8619"},{"$f":"'Bill of Materials'!H1117","v":"WS-C4507R"},null,null,null,0,{"$f":"'Bill of Materials'!J1117","v":"standard material"},{"$f":"'Bill of Materials'!K1117","v":"electronic"},0]
[{"$f":"'Bill of Materials'!E1119+'Bill of Materials'!F1119","v":0},{"$f":"'Bill of Materials'!M1119","v":"EA"},{"$f":"'Bill of Materials'!G1119","v":"Cisco 5508 Series Wireless Controller for up to 12 APs"},{"$f":"'Bill of Materials'!L1119","v":"Cisco"},{"$f":"'Bill of Materials'!N1119","v":4398},{"$f":"'Bill of Materials'!P1119","v":"HP"},{"$f":"'Bill of Materials'!C1119","v":"10450"},{"$f":"'Bill of Materials'!H1119","v":"AIR-CT5508-12-K9"},null,null,null,0,{"$f":"'Bill of Materials'!J1119","v":"standard material"},{"$f":"'Bill of Materials'!K1119","v":"electronic"},0]
[{"$f":"'Bill of Materials'!E1120+'Bill of Materials'!F1120","v":0},{"$f":"'Bill of Materials'!M1120","v":"EA"},{"$f":"'Bill of Materials'!G1120","v":"Cisco 5508 Series Wireless Controller for up to 25 APs"},{"$f":"'Bill of Materials'!L1120","v":"Cisco"},{"$f":"'Bill of Materials'!N1120","v":6398},{"$f":"'Bill of Materials'!P1120","v":"HP"},{"$f":"'Bill of Materials'!C1120","v":"10451"},{"$f":"'Bill of Materials'!H1120","v":"AIR-CT5508-25-K9"},null,null,null,0,{"$f":"'Bill of Materials'!J1120","v":"standard material"},{"$f":"'Bill of Materials'!K1120","v":"electronic"},0]
[{"$f":"'Bill of Materials'!E1121+'Bill of Materials'!F1121","v":0},{"$f":"'Bill of Materials'!M1121","v":"EA"},{"$f":"'Bill of Materials'!G1121","v":"Cisco 5508 Series Wireless Controller for up to 50 APs"},{"$f":"'Bill of Materials'!L1121","v":"Cisco"},{"$f":"'Bill of Materials'!N1121","v":8998},{"$f":"'Bill of Materials'!P1121","v":"HP"},{"$f":"'Bill of Materials'!C1121","v":"10452"},{"$f":"'Bill of Materials'!H1121","v":"AIR-CT5508-50-K9"},null,null,null,0,{"$f":"'Bill of Materials'!J1121","v":"standard material"},{"$f":"'Bill of Materials'!K1121","v":"electronic"},0]
[{"$f":"'Bill of Materials'!E1122+'Bill of Materials'!F1122","v":0},{"$f":"'Bill of Materials'!M1122","v":"EA"},{"$f":"'Bill of Materials'!G1122","v":"Cisco 5508 Series Wireless Controller for up to 100 APs"},{"$f":"'Bill of Materials'!L1122","v":"Cisco"},{"$f":"'Bill of Materials'!N1122","v":15998},{"$f":"'Bill of Materials'!P1122","v":"HP"},{"$f":"'Bill of Materials'!C1122","v":"10453"},{"$f":"'Bill of Materials'!H1122","v":"AIR-CT5508-100-K9"},null,null,null,0,{"$f":"'Bill of Materials'!J1122","v":"standard material"},{"$f":"'Bill of Materials'!K1122","v":"electronic"},0]
[{"$f":"'Bill of Materials'!E1123+'Bill of Materials'!F1123","v":0},{"$f":"'Bill of Materials'!M1123","v":"EA"},{"$f":"'Bill of Materials'!G1123","v":"Cisco 5508 Series Wireless Controller for up to 250 APs"},{"$f":"'Bill of Materials'!L1123","v":"Cisco"},{"$f":"'Bill of Materials'!N1123","v":25998},{"$f":"'Bill of Materials'!P1123","v":"HP"},{"$f":"'Bill of Materials'!C1123","v":"10454"},{"$f":"'Bill of Materials'!H1123","v":"AIR-CT5508-250-K9"},null,null,null,0,{"$f":"'Bill of Materials'!J1123","v":"standard material"},{"$f":"'Bill of Materials'!K1123","v":"electronic"},0]
[{"$f":"'Bill of Materials'!E1124+'Bill of Materials'!F1124","v":0},{"$f":"'Bill of Materials'!M1124","v":"EA"},{"$f":"'Bill of Materials'!G1124","v":"Cisco 5508 Series Wireless Controller for up to 500 APs"},{"$f":"'Bill of Materials'!L1124","v":"Cisco"},{"$f":"'Bill of Materials'!N1124","v":41998},{"$f":"'Bill of Materials'!P1124","v":"HP"},{"$f":"'Bill of Materials'!C1124","v":"10455"},{"$f":"'Bill of Materials'!H1124","v":"AIR-CT5508-500-K9"},null,null,null,0,{"$f":"'Bill of Materials'!J1124","v":"standard material"},{"$f":"'Bill of Materials'!K1124","v":"electronic"},0]
[{"$f":"'Bill of Materials'!E1125+'Bill of Materials'!F1125","v":0},{"$f":"'Bill of Materials'!M1125","v":"EA"},{"$f":"'Bill of Materials'!G1125","v":"Cisco 5500 Series Wireless Controller Redundant Power Supply"},{"$f":"'Bill of Materials'!L1125","v":"Cisco"},{"$f":"'Bill of Materials'!N1125","v":598},{"$f":"'Bill of Materials'!P1125","v":"HP"},{"$f":"'Bill of Materials'!C1125","v":"10456"},{"$f":"'Bill of Materials'!H1125","v":"AIR-PWR-5500-AC"},null,null,null,0,{"$f":"'Bill of Materials'!J1125","v":"standard material"},{"$f":"'Bill of Materials'!K1125","v":"electronic"},0]
[{"$f":"'Bill of Materials'!E1126+'Bill of Materials'!F1126","v":0},{"$f":"'Bill of Materials'!M1126","v":"EA"},{"$f":"'Bill of Materials'!G1126","v":"Cisco 5500 Series Field Replaceable Fan Tray"},{"$f":"'Bill of Materials'!L1126","v":"Cisco"},{"$f":"'Bill of Materials'!N1126","v":118},{"$f":"'Bill of Materials'!P1126","v":"HP"},{"$f":"'Bill of Materials'!C1126","v":"10457"},{"$f":"'Bill of Materials'!H1126","v":"AIR-FAN-5500="},null,null,null,0,{"$f":"'Bill of Materials'!J1126","v":"standard material"},{"$f":"'Bill of Materials'!K1126","v":"electronic"},0]
[{"$f":"'Bill of Materials'!E1127+'Bill of Materials'!F1127","v":0},{"$f":"'Bill of Materials'!M1127","v":"EA"},{"$f":"'Bill of Materials'!G1127","v":"Cisco 5508 Series Wireless Controller 25 AP Adder License"},{"$f":"'Bill of Materials'!L1127","v":"Cisco"},{"$f":"'Bill of Materials'!N1127","v":5997.6},{"$f":"'Bill of Materials'!P1127","v":"HP"},{"$f":"'Bill of Materials'!C1127","v":"10458"},{"$f":"'Bill of Materials'!H1127","v":"LIC-CT5508-25A"},null,null,null,0,{"$f":"'Bill of Materials'!J1127","v":"standard material"},{"$f":"'Bill of Materials'!K1127","v":"electronic"},0]
[{"$f":"'Bill of Materials'!E1128+'Bill of Materials'!F1128","v":0},{"$f":"'Bill of Materials'!M1128","v":"EA"},{"$f":"'Bill of Materials'!G1128","v":"Cisco 5508 Series Wireless Controller 50 AP Adder License"},{"$f":"'Bill of Materials'!L1128","v":"Cisco"},{"$f":"'Bill of Materials'!N1128","v":10317.6},{"$f":"'Bill of Materials'!P1128","v":"HP"},{"$f":"'Bill of Materials'!C1128","v":"10459"},{"$f":"'Bill of Materials'!H1128","v":"LIC-CT5508-50A"},null,null,null,0,{"$f":"'Bill of Materials'!J1128","v":"standard material"},{"$f":"'Bill of Materials'!K1128","v":"electronic"},0]
[{"$f":"'Bill of Materials'!E1129+'Bill of Materials'!F1129","v":0},{"$f":"'Bill of Materials'!M1129","v":"EA"},{"$f":"'Bill of Materials'!G1129","v":"Cisco 5508 Series Wireless Controller 100 AP Adder License"},{"$f":"'Bill of Materials'!L1129","v":"Cisco"},{"$f":"'Bill of Materials'!N1129","v":15597.6},{"$f":"'Bill of Materials'!P1129","v":"HP"},{"$f":"'Bill of Materials'!C1129","v":"10460"},{"$f":"'Bill of Materials'!H1129","v":"LIC-CT5508-100A"},null,null,null,0,{"$f":"'Bill of Materials'!J1129","v":"standard material"},{"$f":"'Bill of Materials'!K1129","v":"electronic"},0]
[{"$f":"'Bill of Materials'!E1130+'Bill of Materials'!F1130","v":0},{"$f":"'Bill of Materials'!M1130","v":"EA"},{"$f":"'Bill of Materials'!G1130","v":"Cisco 5508 Series Wireless Controller 250 AP Adder License"},{"$f":"'Bill of Materials'!L1130","v":"Cisco"},{"$f":"'Bill of Materials'!N1130","v":28077.599999999999},{"$f":"'Bill of Materials'!P1130","v":"HP"},{"$f":"'Bill of Materials'!C1130","v":"10461"},{"$f":"'Bill of Materials'!H1130","v":"LIC-CT5508-250A"},null,null,null,0,{"$f":"'Bill of Materials'!J1130","v":"standard material"},{"$f":"'Bill of Materials'!K1130","v":"electronic"},0]
[{"$f":"'Bill of Materials'!E1131+'Bill of Materials'!F1131","v":0},{"$f":"'Bill of Materials'!M1131","v":"EA"},{"$f":"'Bill of Materials'!G1131","v":"CISCO Wireless Services Module: WiSM-2"},{"$f":"'Bill of Materials'!L1131","v":"Cisco"},{"$f":"'Bill of Materials'!N1131","v":11998},{"$f":"'Bill of Materials'!P1131","v":"HP"},{"$f":"'Bill of Materials'!C1131","v":"10482"},{"$f":"'Bill of Materials'!H1131","v":"WS-SVC-WISM2-K9"},null,null,null,{"$f":"E1174*A1174","v":0},{"$f":"'Bill of Materials'!J1131","v":"standard material"},{"$f":"'Bill of Materials'!K1131","v":"electronic"},{"$f":"IF(A1174>0,1,0)","v":0}]
[{"$f":"'Bill of Materials'!E1132+'Bill of Materials'!F1132","v":0},{"$f":"'Bill of Materials'!M1132","v":"EA"},{"$f":"'Bill of Materials'!G1132","v":"CISCO WIRELESS SERVICES MODULE (WISM)"},{"$f":"'Bill of Materials'!L1132","v":"Cisco"},{"$f":"'Bill of Materials'!N1132","v":18398},{"$f":"'Bill of Materials'!P1132","v":"HP"},{"$f":"'Bill of Materials'!C1132","v":"8006"},{"$f":"'Bill of Materials'!H1132","v":"WS-SVC-WISM-1-K9="},null,null,null,0,{"$f":"'Bill of Materials'!J1132","v":"standard material"},{"$f":"'Bill of Materials'!K1132","v":"electronic"},0]
[{"$f":"'Bill of Materials'!#REF!+'Bill of Materials'!#REF!","v":{"$error":"#REF!"}},{"$f":"'Bill of Materials'!#REF!","v":{"$error":"#REF!"}},{"$f":"'Bill of Materials'!#REF!","v":{"$error":"#REF!"}},{"$f":"'Bill of Materials'!#REF!","v":{"$error":"#REF!"}},{"$f":"'Bill of Materials'!#REF!","v":{"$error":"#REF!"}},{"$f":"'Bill of Materials'!#REF!","v":{"$error":"#REF!"}},{"$f":"'Bill of Materials'!#REF!","v":{"$error":"#REF!"}},{"$f":"'Bill of Materials'!#REF!","v":{"$error":"#REF!"}},null,null,null,{"$error":"#REF!"},{"$f":"'Bill of Materials'!#REF!","v":{"$error":"#REF!"}},{"$f":"'Bill of Materials'!#REF!","v":{"$error":"#REF!"}},{"$error":"#REF!"}]
[{"$f":"'Bill of Materials'!E1134+'Bill of Materials'!F1134","v":0},{"$f":"'Bill of Materials'!M1134","v":"EA"},{"$f":"'Bill of Materials'!G1134","v":"Catalyst 4900M Base system with 8 X2 ports and 2 half slots"},{"$f":"'Bill of Materials'!L1134","v":"Cisco"},{"$f":"'Bill of Materials'!N1134","v":7200},{"$f":"'Bill of Materials'!P1134","v":"HP"},{"$f":"'Bill of Materials'!C1134","v":"10199"},{"$f":"'Bill of Materials'!H1134","v":"WS-C4900M"},null,null,null,0,{"$f":"'Bill of Materials'!J1134","v":"standard material"},{"$f":"'Bill of Materials'!K1134","v":"electronic"},0]
[{"$f":"'Bill of Materials'!E1135+'Bill of Materials'!F1135","v":0},{"$f":"'Bill of Materials'!M1135","v":"EA"},{"$f":"'Bill of Materials'!G1135","v":"Catalyst 4900M IOS ENTERPRISE SERVICES SSH"},{"$f":"'Bill of Materials'!L1135","v":"Cisco"},{"$f":"'Bill of Materials'!N1135","v":5400},{"$f":"'Bill of Materials'!P1135","v":"HP"},{"$f":"'Bill of Materials'!C1135","v":"10200"},{"$f":"'Bill of Materials'!H1135","v":"S49MESK9-12254SG"},null,null,null,0,{"$f":"'Bill of Materials'!J1135","v":"standard material"},{"$f":"'Bill of Materials'!K1135","v":"electronic"},0]
[{"$f":"'Bill of Materials'!E1136+'Bill of Materials'!F1136","v":0},{"$f":"'Bill of Materials'!M1136","v":"EA"},{"$f":"'Bill of Materials'!G1136","v":"10GBASE-SR X2 Module"},{"$f":"'Bill of Materials'!L1136","v":"Cisco"},{"$f":"'Bill of Materials'!N1136","v":897.75},{"$f":"'Bill of Materials'!P1136","v":"HP"},{"$f":"'Bill of Materials'!C1136","v":"10201"},{"$f":"'Bill of Materials'!H1136","v":"X2-10GB-SR"},null,null,null,0,{"$f":"'Bill of Materials'!J1136","v":"standard material"},{"$f":"'Bill of Materials'!K1136","v":"electronic"},0]
[{"$f":"'Bill of Materials'!E1137+'Bill of Materials'!F1137","v":0},{"$f":"'Bill of Materials'!M1137","v":"EA"},{"$f":"'Bill of Materials'!G1137","v":"Catalyst 4900M 20 port, 10/100/1000 RJ45"},{"$f":"'Bill of Materials'!L1137","v":"Cisco"},{"$f":"'Bill of Materials'!N1137","v":1575},{"$f":"'Bill of Materials'!P1137","v":"HP"},{"$f":"'Bill of Materials'!C1137","v":"10202"},{"$f":"'Bill of Materials'!H1137","v":"WS-X4920-GB-RJ45"},null,null,null,0,{"$f":"'Bill of Materials'!J1137","v":"standard material"},{"$f":"'Bill of Materials'!K1137","v":"electronic"},0]
[{"$f":"'Bill of Materials'!E1138+'Bill of Materials'!F1138","v":0},{"$f":"'Bill of Materials'!M1138","v":"EA"},{"$f":"'Bill of Materials'!G1138","v":"Catalyst 4900M AC power supply, 1000 watts"},{"$f":"'Bill of Materials'!L1138","v":"Cisco"},{"$f":"'Bill of Materials'!N1138","v":450},{"$f":"'Bill of Materials'!P1138","v":"HP"},{"$f":"'Bill of Materials'!C1138","v":"10203"},{"$f":"'Bill of Materials'!H1138","v":"PWR-C49M-1000AC"},null,null,null,0,{"$f":"'Bill of Materials'!J1138","v":"standard material"},{"$f":"'Bill of Materials'!K1138","v":"electronic"},0]
[{"$f":"'Bill of Materials'!E1139+'Bill of Materials'!F1139","v":0},{"$f":"'Bill of Materials'!M1139","v":"EA"},{"$f":"'Bill of Materials'!G1139","v":"Catalyst 4900M Redundant AC PS"},{"$f":"'Bill of Materials'!L1139","v":"Cisco"},{"$f":"'Bill of Materials'!N1139","v":450},{"$f":"'Bill of Materials'!P1139","v":"HP"},{"$f":"'Bill of Materials'!C1139","v":"10204"},{"$f":"'Bill of Materials'!H1139","v":"PWR-C49M-1000AC/2"},null,null,null,0,{"$f":"'Bill of Materials'!J1139","v":"standard material"},{"$f":"'Bill of Materials'!K1139","v":"electronic"},0]
[{"$f":"'Bill of Materials'!E1140+'Bill of Materials'!F1140","v":0},{"$f":"'Bill of Materials'!M1140","v":"EA"},{"$f":"'Bill of Materials'!G1140","v":"Catalyst 4900M Compact Flash, 128MB Option"},{"$f":"'Bill of Materials'!L1140","v":"Cisco"},{"$f":"'Bill of Materials'!N1140","v":315},{"$f":"'Bill of Materials'!P1140","v":"HP"},{"$f":"'Bill of Materials'!C1140","v":"10205"},{"$f":"'Bill of Materials'!H1140","v":"MEM-C4K-FLD128M"},null,null,null,0,{"$f":"'Bill of Materials'!J1140","v":"standard material"},{"$f":"'Bill of Materials'!K1140","v":"electronic"},0]
[{"$f":"'Bill of Materials'!E1142+'Bill of Materials'!F1142","v":0},{"$f":"'Bill of Materials'!M1142","v":"EA"},{"$f":"'Bill of Materials'!G1142","v":"LABEL, LASER, WHITE, 1.900 IN WIDE, 0.750 IN LG, SELF ADHESIVE, 12/SHEET 84 SHEETS/PKG"},{"$f":"'Bill of Materials'!L1142","v":"Hellermann Tyton"},{"$f":"'Bill of Materials'!N1142","v":158.19999999999999},{"$f":"'Bill of Materials'!P1142","v":"DWC"},{"$f":"'Bill of Materials'!C1142","v":"0463-088M"},{"$f":"'Bill of Materials'!H1142","v":"TAG1L-105"},null,null,null,0,{"$f":"'Bill of Materials'!J1142","v":"standard material"},{"$f":"'Bill of Materials'!K1142","v":"physical"},0]
[{"$f":"'Bill of Materials'!E1143+'Bill of Materials'!F1143","v":0},{"$f":"'Bill of Materials'!M1143","v":"EA"},{"$f":"'Bill of Materials'!G1143","v":"Label-printing Software"},{"$f":"'Bill of Materials'!L1143","v":"Hellermann Tyton"},{"$f":"'Bill of Materials'!N1143","v":298.88},{"$f":"'Bill of Materials'!P1143","v":"DWC"},{"$f":"'Bill of Materials'!C1143","v":"10325"},{"$f":"'Bill of Materials'!H1143","v":"556-00022"},null,null,null,0,{"$f":"'Bill of Materials'!J1143","v":"standard material"},{"$f":"'Bill of Materials'!K1143","v":"physical"},0]
[{"$f":"'Bill of Materials'!E1144+'Bill of Materials'!F1144","v":0},{"$f":"'Bill of Materials'!M1144","v":"EA"},{"$f":"'Bill of Materials'!G1144","v":"Cable Lube F-100/ 5 Gallon Pail"},{"$f":"'Bill of Materials'!L1144","v":"Arnco"},{"$f":"'Bill of Materials'!N1144","v":29.55},{"$f":"'Bill of Materials'!P1144","v":"DWC"},{"$f":"'Bill of Materials'!C1144","v":"INFO-3176"},{"$f":"'Bill of Materials'!H1144","v":"1-400058"},null,null,null,0,{"$f":"'Bill of Materials'!J1144","v":"standard material"},{"$f":"'Bill of Materials'!K1144","v":"physical"},0]
[{"$f":"'Bill of Materials'!E1145+'Bill of Materials'!F1145","v":0},{"$f":"'Bill of Materials'!M1145","v":"EA"},{"$f":"'Bill of Materials'!G1145","v":"Cable Lube F-128 / 1 Gallon Pail"},{"$f":"'Bill of Materials'!L1145","v":"Polywater"},{"$f":"'Bill of Materials'!N1145","v":15.94},{"$f":"'Bill of Materials'!P1145","v":"DWC"},{"$f":"'Bill of Materials'!C1145","v":"INFO-3182"},{"$f":"'Bill of Materials'!H1145","v":"F-128"},null,null,null,0,{"$f":"'Bill of Materials'!J1145","v":"standard material"},{"$f":"'Bill of Materials'!K1145","v":"physical"},0]
[{"$f":"'Bill of Materials'!E1146+'Bill of Materials'!F1146","v":0},{"$f":"'Bill of Materials'!M1146","v":"EA"},{"$f":"'Bill of Materials'!G1146","v":"Tyton Labels for wire and patch cords 1.5\"x.38\" - 2500 /pack"},{"$f":"'Bill of Materials'!L1146","v":"Hellermann Tyton"},{"$f":"'Bill of Materials'!N1146","v":123.52},{"$f":"'Bill of Materials'!P1146","v":"DWC"},{"$f":"'Bill of Materials'!C1146","v":"INFO-9004"},{"$f":"'Bill of Materials'!H1146","v":"TAG63L-105"},null,null,null,0,{"$f":"'Bill of Materials'!J1146","v":"standard material"},{"$f":"'Bill of Materials'!K1146","v":"physical"},0]
[{"$f":"'Bill of Materials'!E1147+'Bill of Materials'!F1147","v":0},{"$f":"'Bill of Materials'!M1147","v":"EA"},{"$f":"'Bill of Materials'!G1147","v":"Tyton Labels for equipment - 1000 /pack (xx width)"},{"$f":"'Bill of Materials'!L1147","v":"Hellermann Tyton"},{"$f":"'Bill of Materials'!N1147","v":46.02},{"$f":"'Bill of Materials'!P1147","v":"DWC"},{"$f":"'Bill of Materials'!C1147","v":"INFO-9005"},{"$f":"'Bill of Materials'!H1147","v":"TAG62L-788"},null,null,null,0,{"$f":"'Bill of Materials'!J1147","v":"standard material"},{"$f":"'Bill of Materials'!K1147","v":"physical"},0]
[{"$f":"'Bill of Materials'!E1148+'Bill of Materials'!F1148","v":0},{"$f":"'Bill of Materials'!M1148","v":"EA"},{"$f":"'Bill of Materials'!G1148","v":"3M 1 x 1.5 Lettering Kit"},{"$f":"'Bill of Materials'!L1148","v":"3M"},{"$f":"'Bill of Materials'!N1148","v":113.6},{"$f":"'Bill of Materials'!P1148","v":"DWC"},{"$f":"'Bill of Materials'!C1148","v":"INFO-9006"},{"$f":"'Bill of Materials'!H1148","v":"5005"},null,null,null,0,{"$f":"'Bill of Materials'!J1148","v":"standard material"},{"$f":"'Bill of Materials'!K1148","v":"physical"},0]
[{"$f":"'Bill of Materials'!E1149+'Bill of Materials'!F1149","v":0},{"$f":"'Bill of Materials'!M1149","v":"EA"},{"$f":"'Bill of Materials'!G1149","v":"3M 1 x 3 Lettering Kit"},{"$f":"'Bill of Materials'!L1149","v":"3M"},{"$f":"'Bill of Materials'!N1149","v":359.32},{"$f":"'Bill of Materials'!P1149","v":"DWC"},{"$f":"'Bill of Materials'!C1149","v":"INFO-9007"},{"$f":"'Bill of Materials'!H1149","v":"5025"},null,null,null,0,{"$f":"'Bill of Materials'!J1149","v":"standard material"},{"$f":"'Bill of Materials'!K1149","v":"physical"},0]
[{"$f":"'Bill of Materials'!E1150+'Bill of Materials'!F1150","v":0},{"$f":"'Bill of Materials'!M1150","v":"EA"},{"$f":"'Bill of Materials'!G1150","v":"Firestop Putty - 1 bar"},{"$f":"'Bill of Materials'!L1150","v":"Nelson"},{"$f":"'Bill of Materials'!N1150","v":18.66},{"$f":"'Bill of Materials'!P1150","v":"DWC"},{"$f":"'Bill of Materials'!C1150","v":"INFO-9008"},{"$f":"'Bill of Materials'!H1150","v":"AA445"},null,null,null,0,{"$f":"'Bill of Materials'!J1150","v":"standard material"},{"$f":"'Bill of Materials'!K1150","v":"physical"},0]
[{"$f":"'Bill of Materials'!E1151+'Bill of Materials'!F1151","v":0},{"$f":"'Bill of Materials'!M1151","v":"EA"},{"$f":"'Bill of Materials'!G1151","v":"Strap cable marker"},{"$f":"'Bill of Materials'!L1151","v":"Panduit"},{"$f":"'Bill of Materials'!N1151","v":0.67},{"$f":"'Bill of Materials'!P1151","v":"DWC"},{"$f":"'Bill of Materials'!C1151","v":"INFO-9013"},{"$f":"'Bill of Materials'!H1151","v":"CM4S-L2"},null,null,null,0,{"$f":"'Bill of Materials'!J1151","v":"standard material"},{"$f":"'Bill of Materials'!K1151","v":"physical"},0]
[{"$f":"'Bill of Materials'!E1152+'Bill of Materials'!F1152","v":0},{"$f":"'Bill of Materials'!M1152","v":"EA"},{"$f":"'Bill of Materials'!G1152","v":"Tyton Labels for equipment - 1000 /pack (xx width)"},{"$f":"'Bill of Materials'!L1152","v":"Hellermann Tyton"},{"$f":"'Bill of Materials'!N1152","v":184.76},{"$f":"'Bill of Materials'!P1152","v":"DWC"},{"$f":"'Bill of Materials'!C1152","v":"INFO-9027"},{"$f":"'Bill of Materials'!H1152","v":"TAG57L-788"},null,null,null,0,{"$f":"'Bill of Materials'!J1152","v":"standard material"},{"$f":"'Bill of Materials'!K1152","v":"physical"},0]
[{"$f":"'Bill of Materials'!E1153+'Bill of Materials'!F1153","v":0},{"$f":"'Bill of Materials'!M1153","v":"EA"},{"$f":"'Bill of Materials'!G1153","v":"Brady stand alone label maker"},{"$f":"'Bill of Materials'!L1153","v":"Brady"},{"$f":"'Bill of Materials'!N1153","v":776.72},{"$f":"'Bill of Materials'!P1153","v":"DWC"},{"$f":"'Bill of Materials'!C1153","v":"INFO-9028"},{"$f":"'Bill of Materials'!H1153","v":"TLS 2200"},null,null,null,0,{"$f":"'Bill of Materials'!J1153","v":"standard material"},{"$f":"'Bill of Materials'!K1153","v":"physical"},0]
[{"$f":"'Bill of Materials'!E1154+'Bill of Materials'!F1154","v":0},{"$f":"'Bill of Materials'!M1154","v":"EA"},{"$f":"'Bill of Materials'!G1154","v":"Brady labels MAX/CT Facep;late for TLS2200"},{"$f":"'Bill of Materials'!L1154","v":"Brady"},{"$f":"'Bill of Materials'!N1154","v":52.47},{"$f":"'Bill of Materials'!P1154","v":"DWC"},{"$f":"'Bill of Materials'!C1154","v":"INFO-9029"},{"$f":"'Bill of Materials'!H1154","v":"PTL-40-412"},null,null,null,0,{"$f":"'Bill of Materials'!J1154","v":"standard material"},{"$f":"'Bill of Materials'!K1154","v":"physical"},0]
[{"$f":"'Bill of Materials'!E1155+'Bill of Materials'!F1155","v":0},{"$f":"'Bill of Materials'!M1155","v":"EA"},{"$f":"'Bill of Materials'!G1155","v":"Brady labels MAX/CT Facep;late for laser printer"},{"$f":"'Bill of Materials'!L1155","v":"Brady"},{"$f":"'Bill of Materials'!N1155","v":34.79},{"$f":"'Bill of Materials'!P1155","v":"DWC"},{"$f":"'Bill of Materials'!C1155","v":"INFO-9030"},{"$f":"'Bill of Materials'!H1155","v":"LAT-176-124"},null,null,null,0,{"$f":"'Bill of Materials'!J1155","v":"standard material"},{"$f":"'Bill of Materials'!K1155","v":"physical"},0]
[{"$f":"'Bill of Materials'!E1156+'Bill of Materials'!F1156","v":0},{"$f":"'Bill of Materials'!M1156","v":"EA"},{"$f":"'Bill of Materials'!G1156","v":"Brady label for HD-5 patch panel for TLS2200"},{"$f":"'Bill of Materials'!L1156","v":"Brady"},{"$f":"'Bill of Materials'!N1156","v":31.67},{"$f":"'Bill of Materials'!P1156","v":"DWC"},{"$f":"'Bill of Materials'!C1156","v":"INFO-9031"},{"$f":"'Bill of Materials'!H1156","v":"PTL-44-422"},null,null,null,0,{"$f":"'Bill of Materials'!J1156","v":"standard material"},{"$f":"'Bill of Materials'!K1156","v":"physical"},0]
[{"$f":"'Bill of Materials'!E1157+'Bill of Materials'!F1157","v":0},{"$f":"'Bill of Materials'!M1157","v":"EA"},{"$f":"'Bill of Materials'!G1157","v":"Brady label for HD-5 patch panel for laser printer"},{"$f":"'Bill of Materials'!L1157","v":"Brady"},{"$f":"'Bill of Materials'!N1157","v":147.4},{"$f":"'Bill of Materials'!P1157","v":"DWC"},{"$f":"'Bill of Materials'!C1157","v":"INFO-9032"},{"$f":"'Bill of Materials'!H1157","v":"LAT-45-707"},null,null,null,0,{"$f":"'Bill of Materials'!J1157","v":"standard material"},{"$f":"'Bill of Materials'!K1157","v":"physical"},0]
[{"$f":"'Bill of Materials'!E1158+'Bill of Materials'!F1158","v":0},{"$f":"'Bill of Materials'!M1158","v":"EA"},{"$f":"'Bill of Materials'!G1158","v":"Brady label for Cat-5e cable for TLS2200"},{"$f":"'Bill of Materials'!L1158","v":"Brady"},{"$f":"'Bill of Materials'!N1158","v":39.32},{"$f":"'Bill of Materials'!P1158","v":"DWC"},{"$f":"'Bill of Materials'!C1158","v":"INFO-9033"},{"$f":"'Bill of Materials'!H1158","v":"PTL-31-427"},null,null,null,0,{"$f":"'Bill of Materials'!J1158","v":"standard material"},{"$f":"'Bill of Materials'!K1158","v":"physical"},0]
[{"$f":"'Bill of Materials'!E1159+'Bill of Materials'!F1159","v":0},{"$f":"'Bill of Materials'!M1159","v":"EA"},{"$f":"'Bill of Materials'!G1159","v":"Brady label for Cat-5e cable for laser printer"},{"$f":"'Bill of Materials'!L1159","v":"Brady"},{"$f":"'Bill of Materials'!N1159","v":84.08},{"$f":"'Bill of Materials'!P1159","v":"DWC"},{"$f":"'Bill of Materials'!C1159","v":"INFO-9034"},{"$f":"'Bill of Materials'!H1159","v":"LAT-18-361"},null,null,null,0,{"$f":"'Bill of Materials'!J1159","v":"standard material"},{"$f":"'Bill of Materials'!K1159","v":"physical"},0]
[{"$f":"'Bill of Materials'!E1160+'Bill of Materials'!F1160","v":0},{"$f":"'Bill of Materials'!M1160","v":"EA"},{"$f":"'Bill of Materials'!G1160","v":"Brady label for 25 pair copper for TLS2200"},{"$f":"'Bill of Materials'!L1160","v":"Brady"},{"$f":"'Bill of Materials'!N1160","v":23.48},{"$f":"'Bill of Materials'!P1160","v":"DWC"},{"$f":"'Bill of Materials'!C1160","v":"INFO-9035"},{"$f":"'Bill of Materials'!H1160","v":"PTL-21-427"},null,null,null,0,{"$f":"'Bill of Materials'!J1160","v":"standard material"},{"$f":"'Bill of Materials'!K1160","v":"physical"},0]
[{"$f":"'Bill of Materials'!E1161+'Bill of Materials'!F1161","v":0},{"$f":"'Bill of Materials'!M1161","v":"EA"},{"$f":"'Bill of Materials'!G1161","v":"Brady label for 25 pair copper for laser printer"},{"$f":"'Bill of Materials'!L1161","v":"Brady"},{"$f":"'Bill of Materials'!N1161","v":155.83000000000001},{"$f":"'Bill of Materials'!P1161","v":"DWC"},{"$f":"'Bill of Materials'!C1161","v":"INFO-9036"},{"$f":"'Bill of Materials'!H1161","v":"LAT-19-361"},null,null,null,0,{"$f":"'Bill of Materials'!J1161","v":"standard material"},{"$f":"'Bill of Materials'!K1161","v":"physical"},0]
[{"$f":"'Bill of Materials'!E1162+'Bill of Materials'!F1162","v":0},{"$f":"'Bill of Materials'!M1162","v":"EA"},{"$f":"'Bill of Materials'!G1162","v":"Brady label for 2 pair fiber for TLS2200"},{"$f":"'Bill of Materials'!L1162","v":"Brady"},{"$f":"'Bill of Materials'!N1162","v":30.68},{"$f":"'Bill of Materials'!P1162","v":"DWC"},{"$f":"'Bill of Materials'!C1162","v":"INFO-9037"},{"$f":"'Bill of Materials'!H1162","v":"PTL-19-427"},null,null,null,0,{"$f":"'Bill of Materials'!J1162","v":"standard material"},{"$f":"'Bill of Materials'!K1162","v":"physical"},0]
[{"$f":"'Bill of Materials'!E1163+'Bill of Materials'!F1163","v":0},{"$f":"'Bill of Materials'!M1163","v":"EA"},{"$f":"'Bill of Materials'!G1163","v":"Brady label for 2 pair fiber for  laser printer"},{"$f":"'Bill of Materials'!L1163","v":"Brady"},{"$f":"'Bill of Materials'!N1163","v":72.95},{"$f":"'Bill of Materials'!P1163","v":"DWC"},{"$f":"'Bill of Materials'!C1163","v":"INFO-9038"},{"$f":"'Bill of Materials'!H1163","v":"LAT-17-361"},null,null,null,0,{"$f":"'Bill of Materials'!J1163","v":"standard material"},{"$f":"'Bill of Materials'!K1163","v":"physical"},0]
[{"$f":"'Bill of Materials'!E1164+'Bill of Materials'!F1164","v":0},{"$f":"'Bill of Materials'!M1164","v":"EA"},{"$f":"'Bill of Materials'!G1164","v":"2\" Bridle Ring"},{"$f":"'Bill of Materials'!L1164","v":"Garvin"},{"$f":"'Bill of Materials'!N1164","v":0.52},{"$f":"'Bill of Materials'!P1164","v":"DWC"},{"$f":"'Bill of Materials'!C1164","v":"INFO-9040"},{"$f":"'Bill of Materials'!H1164","v":"BR-200"},null,null,null,0,{"$f":"'Bill of Materials'!J1164","v":"standard material"},{"$f":"'Bill of Materials'!K1164","v":"physical"},0]
[{"$f":"'Bill of Materials'!E1165+'Bill of Materials'!F1165","v":0},{"$f":"'Bill of Materials'!M1165","v":"EA"},{"$f":"'Bill of Materials'!G1165","v":"4\" Bridle Ring"},{"$f":"'Bill of Materials'!L1165","v":"Garvin"},{"$f":"'Bill of Materials'!N1165","v":1.08},{"$f":"'Bill of Materials'!P1165","v":"DWC"},{"$f":"'Bill of Materials'!C1165","v":"INFO-9041"},{"$f":"'Bill of Materials'!H1165","v":"BR-400"},null,null,null,0,{"$f":"'Bill of Materials'!J1165","v":"standard material"},{"$f":"'Bill of Materials'!K1165","v":"physical"},0]
[{"$f":"'Bill of Materials'!E1167+'Bill of Materials'!F1167","v":0},{"$f":"'Bill of Materials'!M1167","v":"EA"},{"$f":"'Bill of Materials'!G1167","v":"2.4 GHz 802.11b/g/n 3.0 dBi Omnidirectional Ceiling Mount, 3 coax connection leads 3 integrated antennas in one unit)"},{"$f":"'Bill of Materials'!L1167","v":"Cisco"},{"$f":"'Bill of Materials'!N1167","v":99.6},{"$f":"'Bill of Materials'!P1167","v":"HP"},{"$f":"'Bill of Materials'!C1167","v":"10225"},{"$f":"'Bill of Materials'!H1167","v":"AIR-ANT2430V-R"},null,null,null,0,{"$f":"'Bill of Materials'!J1167","v":"standard material"},{"$f":"'Bill of Materials'!K1167","v":"electronic"},0]
[{"$f":"'Bill of Materials'!E1168+'Bill of Materials'!F1168","v":0},{"$f":"'Bill of Materials'!M1168","v":"EA"},{"$f":"'Bill of Materials'!G1168","v":"5.0 GHz 802.11a/n 4.0 dBi Omnidirectional Ceiling Mount, 3 coax connection leads (3 integrated antennas in one unit)"},{"$f":"'Bill of Materials'!L1168","v":"Cisco"},{"$f":"'Bill of Materials'!N1168","v":99.6},{"$f":"'Bill of Materials'!P1168","v":"HP"},{"$f":"'Bill of Materials'!C1168","v":"10226"},{"$f":"'Bill of Materials'!H1168","v":"AIR-ANT5140V-R"},null,null,null,0,{"$f":"'Bill of Materials'!J1168","v":"standard material"},{"$f":"'Bill of Materials'!K1168","v":"electronic"},0]
[{"$f":"'Bill of Materials'!E1169+'Bill of Materials'!F1169","v":0},{"$f":"'Bill of Materials'!M1169","v":"EA"},{"$f":"'Bill of Materials'!G1169","v":"2.4 GHz 5.2 dBi Mast Mount Omnidirectional RP-TNC connectors"},{"$f":"'Bill of Materials'!L1169","v":"Cisco"},{"$f":"'Bill of Materials'!N1169","v":63.6},{"$f":"'Bill of Materials'!P1169","v":"HP"},{"$f":"'Bill of Materials'!C1169","v":"10227"},{"$f":"'Bill of Materials'!H1169","v":"AIR-ANT2506"},null,null,null,0,{"$f":"'Bill of Materials'!J1169","v":"standard material"},{"$f":"'Bill of Materials'!K1169","v":"electronic"},0]
[{"$f":"'Bill of Materials'!E1170+'Bill of Materials'!F1170","v":0},{"$f":"'Bill of Materials'!M1170","v":"EA"},{"$f":"'Bill of Materials'!G1170","v":"2.4 GHz 5.2 dBi Dipole Ceiling mount Omnidirectional"},{"$f":"'Bill of Materials'!L1170","v":"Cisco"},{"$f":"'Bill of Materials'!N1170","v":63.6},{"$f":"'Bill of Materials'!P1170","v":"HP"},{"$f":"'Bill of Materials'!C1170","v":"10228"},{"$f":"'Bill of Materials'!H1170","v":"AIR-ANT1728"},null,null,null,0,{"$f":"'Bill of Materials'!J1170","v":"standard material"},{"$f":"'Bill of Materials'!K1170","v":"electronic"},0]
[{"$f":"'Bill of Materials'!#REF!+'Bill of Materials'!#REF!","v":{"$error":"#REF!"}},{"$f":"'Bill of Materials'!#REF!","v":{"$error":"#REF!"}},{"$f":"'Bill of Materials'!#REF!","v":{"$error":"#REF!"}},{"$f":"'Bill of Materials'!#REF!","v":{"$error":"#REF!"}},{"$f":"'Bill of Materials'!#REF!","v":{"$error":"#REF!"}},{"$f":"'Bill of Materials'!#REF!","v":{"$error":"#REF!"}},{"$f":"'Bill of Materials'!#REF!","v":{"$error":"#REF!"}},{"$f":"'Bill of Materials'!#REF!","v":{"$error":"#REF!"}},null,null,null,{"$error":"#REF!"},{"$f":"'Bill of Materials'!#REF!","v":{"$error":"#REF!"}},{"$f":"'Bill of Materials'!#REF!","v":{"$error":"#REF!"}},{"$error":"#REF!"}]
[{"$f":"'Bill of Materials'!E1171+'Bill of Materials'!F1171","v":0},{"$f":"'Bill of Materials'!M1171","v":"EA"},{"$f":"'Bill of Materials'!G1171","v":"5.0 GHz 9.0 dBi Single Non-Diversity Patch antenna (one coax lead)"},{"$f":"'Bill of Materials'!L1171","v":"Cisco"},{"$f":"'Bill of Materials'!N1171","v":95.6},{"$f":"'Bill of Materials'!P1171","v":"HP"},{"$f":"'Bill of Materials'!C1171","v":"10229"},{"$f":"'Bill of Materials'!H1171","v":"AIR-ANT5195P-R"},null,null,null,0,{"$f":"'Bill of Materials'!J1171","v":"standard material"},{"$f":"'Bill of Materials'!K1171","v":"electronic"},0]
[{"$f":"'Bill of Materials'!E1172+'Bill of Materials'!F1172","v":0},{"$f":"'Bill of Materials'!M1172","v":"EA"},{"$f":"'Bill of Materials'!G1172","v":"2.4 GHz 6.0 dBi Single Non-Diversity Patch antenna (one coax lead)"},{"$f":"'Bill of Materials'!L1172","v":"Cisco"},{"$f":"'Bill of Materials'!N1172","v":87.6},{"$f":"'Bill of Materials'!P1172","v":"HP"},{"$f":"'Bill of Materials'!C1172","v":"10230"},{"$f":"'Bill of Materials'!H1172","v":"AIR-ANT2460P-R"},null,null,null,0,{"$f":"'Bill of Materials'!J1172","v":"standard material"},{"$f":"'Bill of Materials'!K1172","v":"electronic"},0]
[{"$f":"'Bill of Materials'!E1173+'Bill of Materials'!F1173","v":0},{"$f":"'Bill of Materials'!M1173","v":"EA"},{"$f":"'Bill of Materials'!G1173","v":"2.4 GHz 6.0 dBi MIMO 802.11n directional antenna"},{"$f":"'Bill of Materials'!L1173","v":"Cisco"},{"$f":"'Bill of Materials'!N1173","v":140},{"$f":"'Bill of Materials'!P1173","v":"HP"},{"$f":"'Bill of Materials'!C1173","v":"10300"},{"$f":"'Bill of Materials'!H1173","v":"AIR-ANT2460NP-R"},null,null,null,0,{"$f":"'Bill of Materials'!J1173","v":"standard material"},{"$f":"'Bill of Materials'!K1173","v":"electronic"},0]
[{"$f":"'Bill of Materials'!E1174+'Bill of Materials'!F1174","v":0},{"$f":"'Bill of Materials'!M1174","v":"EA"},{"$f":"'Bill of Materials'!G1174","v":"5.0 GHz 6.0 dBi MIMO 802.11n directional antenna"},{"$f":"'Bill of Materials'!L1174","v":"Cisco"},{"$f":"'Bill of Materials'!N1174","v":140},{"$f":"'Bill of Materials'!P1174","v":"HP"},{"$f":"'Bill of Materials'!C1174","v":"10301"},{"$f":"'Bill of Materials'!H1174","v":"AIR-ANT5160NP-R"},null,null,null,0,{"$f":"'Bill of Materials'!J1174","v":"standard material"},{"$f":"'Bill of Materials'!K1174","v":"electronic"},0]
[{"$f":"'Bill of Materials'!E1175+'Bill of Materials'!F1175","v":0},{"$f":"'Bill of Materials'!M1175","v":"EA"},{"$f":"'Bill of Materials'!G1175","v":"2.4GHz Ceiling-Mount Diversity Indoor Antenna with RP-TNC Connectors 2dBI OMNIDIRECTIONAL. Antenna comes with a clip that permits it to be mounted to a drop-ceiling cross member."},{"$f":"'Bill of Materials'!L1175","v":"Cisco"},{"$f":"'Bill of Materials'!N1175","v":111.6},{"$f":"'Bill of Materials'!P1175","v":"HP"},{"$f":"'Bill of Materials'!C1175","v":"10304"},{"$f":"'Bill of Materials'!H1175","v":"AIR-ANT24020V-R="},null,null,null,0,{"$f":"'Bill of Materials'!J1175","v":"standard material"},{"$f":"'Bill of Materials'!K1175","v":"electronic"},0]
[{"$f":"'Bill of Materials'!E1176+'Bill of Materials'!F1176","v":0},{"$f":"'Bill of Materials'!M1176","v":"EA"},{"$f":"'Bill of Materials'!G1176","v":"5 GHz Indoor or outdoor use omnidirectional Antenna, 6dBi (Pipe Bombs). For Use with the 1200 Series. Can be Mast or Ceiling Mounted."},{"$f":"'Bill of Materials'!L1176","v":"Cisco"},{"$f":"'Bill of Materials'!N1176","v":83.6},{"$f":"'Bill of Materials'!P1176","v":"HP"},{"$f":"'Bill of Materials'!C1176","v":"1102-009G"},{"$f":"'Bill of Materials'!H1176","v":"AIR-ANT5160V-R"},null,null,null,0,{"$f":"'Bill of Materials'!J1176","v":"standard material"},{"$f":"'Bill of Materials'!K1176","v":"electronic"},0]
[{"$f":"'Bill of Materials'!E1177+'Bill of Materials'!F1177","v":0},{"$f":"'Bill of Materials'!M1177","v":"EA"},{"$f":"'Bill of Materials'!G1177","v":"5 GHz Indoor-only Diversity Omnidirectional Ceiling Mount 4.5 dBi Antenna. For use with the 1200 Series"},{"$f":"'Bill of Materials'!L1177","v":"Cisco"},{"$f":"'Bill of Materials'!N1177","v":111.6},{"$f":"'Bill of Materials'!P1177","v":"HP"},{"$f":"'Bill of Materials'!C1177","v":"1102-009H"},{"$f":"'Bill of Materials'!H1177","v":"AIR-ANT5145V-R"},null,null,null,0,{"$f":"'Bill of Materials'!J1177","v":"standard material"},{"$f":"'Bill of Materials'!K1177","v":"electronic"},0]
[{"$f":"'Bill of Materials'!E1178+'Bill of Materials'!F1178","v":0},{"$f":"'Bill of Materials'!M1178","v":"EA"},{"$f":"'Bill of Materials'!G1178","v":"5 GHz Single Black 3.5 dBi Dipole Antenna (Rubber Duck) with an RP-TNC Connector. Provides Indoor Omindirectional Area of Coverage."},{"$f":"'Bill of Materials'!L1178","v":"Cisco"},{"$f":"'Bill of Materials'!N1178","v":7.6},{"$f":"'Bill of Materials'!P1178","v":"HP"},{"$f":"'Bill of Materials'!C1178","v":"1102-009J"},{"$f":"'Bill of Materials'!H1178","v":"AIR-ANT5135D-R"},null,null,null,0,{"$f":"'Bill of Materials'!J1178","v":"standard material"},{"$f":"'Bill of Materials'!K1178","v":"electronic"},0]
[{"$f":"'Bill of Materials'!E1179+'Bill of Materials'!F1179","v":0},{"$f":"'Bill of Materials'!M1179","v":"EA"},{"$f":"'Bill of Materials'!G1179","v":"5 GHz Wall Mount Diversity Patch Antenna with RP-TNC Connectors-Designed for use in both Indoor and Outdoor Applications. Antenna Comes with Wall Mount Hardware, and has a Gain of 7 dBi. Plenum Rated Pigtail Cable of 36\""},{"$f":"'Bill of Materials'!L1179","v":"Cisco"},{"$f":"'Bill of Materials'!N1179","v":159.6},{"$f":"'Bill of Materials'!P1179","v":"HP"},{"$f":"'Bill of Materials'!C1179","v":"1102-009K"},{"$f":"'Bill of Materials'!H1179","v":"AIR-ANT5170P-R"},null,null,null,0,{"$f":"'Bill of Materials'!J1179","v":"standard material"},{"$f":"'Bill of Materials'!K1179","v":"electronic"},0]
[{"$f":"'Bill of Materials'!E1180+'Bill of Materials'!F1180","v":0},{"$f":"'Bill of Materials'!M1180","v":"EA"},{"$f":"'Bill of Materials'!G1180","v":"2.4 GHz Wall-mount Diversity Patch Antenna with RP-TNC connectors. Designed for Use in Both Indoor and Outdoor Applications. Antenna Comes with Wall Mount Hardware, and has a Gain of 6.5 dBi. Plenum Rated Pigtail Cable of 36\"."},{"$f":"'Bill of Materials'!L1180","v":"Cisco"},{"$f":"'Bill of Materials'!N1180","v":159.6},{"$f":"'Bill of Materials'!P1180","v":"HP"},{"$f":"'Bill of Materials'!C1180","v":"1102-009L"},{"$f":"'Bill of Materials'!H1180","v":"AIR-ANT2465P-R"},null,null,null,0,{"$f":"'Bill of Materials'!J1180","v":"standard material"},{"$f":"'Bill of Materials'!K1180","v":"electronic"},0]
[{"$f":"'Bill of Materials'!E1181+'Bill of Materials'!F1181","v":0},{"$f":"'Bill of Materials'!M1181","v":"EA"},{"$f":"'Bill of Materials'!G1181","v":"2.4 GHz Single Black 2.2 dBi Dipole Antenna (Rubber Duck) with an RP-TNC Connector. Provides Indoor Omindirectional Area of Coverage."},{"$f":"'Bill of Materials'!L1181","v":"Cisco"},{"$f":"'Bill of Materials'!N1181","v":7.6},{"$f":"'Bill of Materials'!P1181","v":"HP"},{"$f":"'Bill of Materials'!C1181","v":"INRF-0001"},{"$f":"'Bill of Materials'!H1181","v":"AIR-ANT4941"},null,null,null,0,{"$f":"'Bill of Materials'!J1181","v":"standard material"},{"$f":"'Bill of Materials'!K1181","v":"electronic"},0]
[{"$f":"'Bill of Materials'!#REF!+'Bill of Materials'!#REF!","v":{"$error":"#REF!"}},{"$f":"'Bill of Materials'!#REF!","v":{"$error":"#REF!"}},{"$f":"'Bill of Materials'!#REF!","v":{"$error":"#REF!"}},{"$f":"'Bill of Materials'!#REF!","v":{"$error":"#REF!"}},{"$f":"'Bill of Materials'!#REF!","v":{"$error":"#REF!"}},{"$f":"'Bill of Materials'!#REF!","v":{"$error":"#REF!"}},{"$f":"'Bill of Materials'!#REF!","v":{"$error":"#REF!"}},{"$f":"'Bill of Materials'!#REF!","v":{"$error":"#REF!"}},null,null,null,{"$error":"#REF!"},{"$f":"'Bill of Materials'!#REF!","v":{"$error":"#REF!"}},{"$f":"'Bill of Materials'!#REF!","v":{"$error":"#REF!"}},{"$error":"#REF!"}]
[{"$f":"'Bill of Materials'!E1182+'Bill of Materials'!F1182","v":0},{"$f":"'Bill of Materials'!M1182","v":"EA"},{"$f":"'Bill of Materials'!G1182","v":"2.4 GHz 13.5 dBi YAGI Mast Mount Antenna. High-gain outdoor directional antenna with a RP-TNC connector-antenna is a completely enclosed 16-element yagi. "},{"$f":"'Bill of Materials'!L1182","v":"Cisco"},{"$f":"'Bill of Materials'!N1182","v":147.6},{"$f":"'Bill of Materials'!P1182","v":"HP"},{"$f":"'Bill of Materials'!C1182","v":"INRF-0004"},{"$f":"'Bill of Materials'!H1182","v":"AIR-ANT1949"},null,null,null,0,{"$f":"'Bill of Materials'!J1182","v":"standard material"},{"$f":"'Bill of Materials'!K1182","v":"electronic"},0]
[{"$f":"'Bill of Materials'!E1183+'Bill of Materials'!F1183","v":0},{"$f":"'Bill of Materials'!M1183","v":"EA"},{"$f":"'Bill of Materials'!G1183","v":"YAGI Antenna Articulating Mount. "},{"$f":"'Bill of Materials'!L1183","v":"Cisco"},{"$f":"'Bill of Materials'!N1183","v":27.6},{"$f":"'Bill of Materials'!P1183","v":"DWC"},{"$f":"'Bill of Materials'!C1183","v":"INRF-0007"},{"$f":"'Bill of Materials'!H1183","v":"AIR-ACC2662"},null,null,null,0,{"$f":"'Bill of Materials'!J1183","v":"standard material"},{"$f":"'Bill of Materials'!K1183","v":"physical"},0]
[{"$f":"'Bill of Materials'!E1184+'Bill of Materials'!F1184","v":0},{"$f":"'Bill of Materials'!M1184","v":"EA"},{"$f":"'Bill of Materials'!G1184","v":"2.4GHz Indoor Pillar-mount Omni Directional 5.2 dBi antenna with two RP-TNC connectors."},{"$f":"'Bill of Materials'!L1184","v":"Cisco"},{"$f":"'Bill of Materials'!N1184","v":83.6},{"$f":"'Bill of Materials'!P1184","v":"HP"},{"$f":"'Bill of Materials'!C1184","v":"INRF-0037"},{"$f":"'Bill of Materials'!H1184","v":"AIR-ANT2452V-R="},null,null,null,0,{"$f":"'Bill of Materials'!J1184","v":"standard material"},{"$f":"'Bill of Materials'!K1184","v":"electronic"},0]
[{"$f":"'Bill of Materials'!E1185+'Bill of Materials'!F1185","v":0},{"$f":"'Bill of Materials'!M1185","v":"EA"},{"$f":"'Bill of Materials'!G1185","v":"2' ANTENNA EXTENSION CABLE"},{"$f":"'Bill of Materials'!L1185","v":"DWC"},{"$f":"'Bill of Materials'!N1185","v":30.89},{"$f":"'Bill of Materials'!P1185","v":"DWC"},{"$f":"'Bill of Materials'!C1185","v":"INRF-0210"},{"$f":"'Bill of Materials'!H1185","v":"DWC-121603-002"},null,null,null,0,{"$f":"'Bill of Materials'!J1185","v":"standard material"},{"$f":"'Bill of Materials'!K1185","v":"physical"},0]
[{"$f":"'Bill of Materials'!E1186+'Bill of Materials'!F1186","v":0},{"$f":"'Bill of Materials'!M1186","v":"EA"},{"$f":"'Bill of Materials'!G1186","v":"5' ANTENNA EXTENSION CABLE - Low Loss"},{"$f":"'Bill of Materials'!L1186","v":"DWC"},{"$f":"'Bill of Materials'!N1186","v":36.880000000000003},{"$f":"'Bill of Materials'!P1186","v":"DWC"},{"$f":"'Bill of Materials'!C1186","v":"INRF-0211"},{"$f":"'Bill of Materials'!H1186","v":"DWC-121602-005"},null,null,null,0,{"$f":"'Bill of Materials'!J1186","v":"standard material"},{"$f":"'Bill of Materials'!K1186","v":"physical"},0]
[{"$f":"'Bill of Materials'!E1187+'Bill of Materials'!F1187","v":0},{"$f":"'Bill of Materials'!M1187","v":"EA"},{"$f":"'Bill of Materials'!G1187","v":"10' ANTENNA EXTENSION CABLE - Low Loss"},{"$f":"'Bill of Materials'!L1187","v":"DWC"},{"$f":"'Bill of Materials'!N1187","v":40.840000000000003},{"$f":"'Bill of Materials'!P1187","v":"DWC"},{"$f":"'Bill of Materials'!C1187","v":"INRF-0212"},{"$f":"'Bill of Materials'!H1187","v":"DWC-121602-010"},null,null,null,0,{"$f":"'Bill of Materials'!J1187","v":"standard material"},{"$f":"'Bill of Materials'!K1187","v":"physical"},0]
[{"$f":"'Bill of Materials'!E1188+'Bill of Materials'!F1188","v":0},{"$f":"'Bill of Materials'!M1188","v":"EA"},{"$f":"'Bill of Materials'!G1188","v":"20' ANTENNA EXTENSION CABLE - Low Loss"},{"$f":"'Bill of Materials'!L1188","v":"DWC"},{"$f":"'Bill of Materials'!N1188","v":48.81},{"$f":"'Bill of Materials'!P1188","v":"DWC"},{"$f":"'Bill of Materials'!C1188","v":"INRF-0213"},{"$f":"'Bill of Materials'!H1188","v":"DWC-121602-020"},null,null,null,0,{"$f":"'Bill of Materials'!J1188","v":"standard material"},{"$f":"'Bill of Materials'!K1188","v":"physical"},0]
[{"$f":"'Bill of Materials'!E1190+'Bill of Materials'!F1190","v":0},{"$f":"'Bill of Materials'!M1190","v":"EA"},{"$f":"'Bill of Materials'!G1190","v":"Cisco Media Convertor/Power Injector for 1200 Series Access Points."},{"$f":"'Bill of Materials'!L1190","v":"Cisco"},{"$f":"'Bill of Materials'!N1190","v":119.6},{"$f":"'Bill of Materials'!P1190","v":"DWC"},{"$f":"'Bill of Materials'!C1190","v":"10068"},{"$f":"'Bill of Materials'!H1190","v":"AIR-PWRINJ-FIB"},null,null,null,0,{"$f":"'Bill of Materials'!J1190","v":"standard material"},{"$f":"'Bill of Materials'!K1190","v":"physical"},0]
[{"$f":"'Bill of Materials'!#REF!+'Bill of Materials'!#REF!","v":{"$error":"#REF!"}},{"$f":"'Bill of Materials'!#REF!","v":{"$error":"#REF!"}},{"$f":"'Bill of Materials'!#REF!","v":{"$error":"#REF!"}},{"$f":"'Bill of Materials'!#REF!","v":{"$error":"#REF!"}},{"$f":"'Bill of Materials'!#REF!","v":{"$error":"#REF!"}},{"$f":"'Bill of Materials'!#REF!","v":{"$error":"#REF!"}},{"$f":"'Bill of Materials'!#REF!","v":{"$error":"#REF!"}},{"$f":"'Bill of Materials'!#REF!","v":{"$error":"#REF!"}},null,null,null,{"$error":"#REF!"},{"$f":"'Bill of Materials'!#REF!","v":{"$error":"#REF!"}},{"$f":"'Bill of Materials'!#REF!","v":{"$error":"#REF!"}},{"$error":"#REF!"}]
[{"$f":"'Bill of Materials'!E1191+'Bill of Materials'!F1191","v":0},{"$f":"'Bill of Materials'!M1191","v":"EA"},{"$f":"'Bill of Materials'!G1191","v":"Power Injector for 1140 and 1250 Series"},{"$f":"'Bill of Materials'!L1191","v":"Cisco"},{"$f":"'Bill of Materials'!N1191","v":59.6},{"$f":"'Bill of Materials'!P1191","v":"HP"},{"$f":"'Bill of Materials'!C1191","v":"10231"},{"$f":"'Bill of Materials'!H1191","v":"AIR-PWRINJ4"},null,null,null,0,{"$f":"'Bill of Materials'!J1191","v":"standard material"},{"$f":"'Bill of Materials'!K1191","v":"electronic"},0]
[{"$f":"'Bill of Materials'!E1192+'Bill of Materials'!F1192","v":0},{"$f":"'Bill of Materials'!M1192","v":"EA"},{"$f":"'Bill of Materials'!G1192","v":"Cisco 1140 - 802.11a/g/n Fixed Unified AP; Int Ant; A Reg Domain"},{"$f":"'Bill of Materials'!L1192","v":"Cisco"},{"$f":"'Bill of Materials'!N1192","v":398},{"$f":"'Bill of Materials'!P1192","v":"HP"},{"$f":"'Bill of Materials'!C1192","v":"10232"},{"$f":"'Bill of Materials'!H1192","v":"AIR-LAP1142N-A-K9"},null,null,null,0,{"$f":"'Bill of Materials'!J1192","v":"standard material"},{"$f":"'Bill of Materials'!K1192","v":"electronic"},0]
[{"$f":"'Bill of Materials'!E1193+'Bill of Materials'!F1193","v":0},{"$f":"'Bill of Materials'!M1193","v":"EA"},{"$f":"'Bill of Materials'!G1193","v":"Cisco 1252 - 802.11a/g/n-d2.0 2.4/5-GHz Mod Auto AP; 6 RP-TNC; FCC"},{"$f":"'Bill of Materials'!L1193","v":"Cisco"},{"$f":"'Bill of Materials'!N1193","v":519.6},{"$f":"'Bill of Materials'!P1193","v":"HP"},{"$f":"'Bill of Materials'!C1193","v":"10233"},{"$f":"'Bill of Materials'!H1193","v":"AIR-AP1252AG-A-K9"},null,null,null,0,{"$f":"'Bill of Materials'!J1193","v":"standard material"},{"$f":"'Bill of Materials'!K1193","v":"electronic"},0]
[{"$f":"'Bill of Materials'!E1194+'Bill of Materials'!F1194","v":0},{"$f":"'Bill of Materials'!M1194","v":"EA"},{"$f":"'Bill of Materials'!G1194","v":"Cisco 1140 Series IOS Wireless LAN LWAPP Recovery"},{"$f":"'Bill of Materials'!L1194","v":"Cisco"},{"$f":"'Bill of Materials'!N1194","v":0},{"$f":"'Bill of Materials'!P1194","v":"HP"},{"$f":"'Bill of Materials'!C1194","v":"10234"},{"$f":"'Bill of Materials'!H1194","v":"S114RK9W-12418JA"},null,null,null,0,{"$f":"'Bill of Materials'!J1194","v":"standard material"},{"$f":"'Bill of Materials'!K1194","v":"electronic"},0]
[{"$f":"'Bill of Materials'!E1195+'Bill of Materials'!F1195","v":0},{"$f":"'Bill of Materials'!M1195","v":"EA"},{"$f":"'Bill of Materials'!G1195","v":"Cisco 1250 Series IOS Wireless LAN LWAPP Recovery"},{"$f":"'Bill of Materials'!L1195","v":"Cisco"},{"$f":"'Bill of Materials'!N1195","v":0},{"$f":"'Bill of Materials'!P1195","v":"HP"},{"$f":"'Bill of Materials'!C1195","v":"10235"},{"$f":"'Bill of Materials'!H1195","v":"S125W7K9-12410JA"},null,null,null,{"$f":"E1238*A1238","v":0},{"$f":"'Bill of Materials'!J1195","v":"standard material"},{"$f":"'Bill of Materials'!K1195","v":"electronic"},{"$f":"IF(A1238>0,1,0)","v":0}]
[{"$f":"'Bill of Materials'!E1196+'Bill of Materials'!F1196","v":0},{"$f":"'Bill of Materials'!M1196","v":"EA"},{"$f":"'Bill of Materials'!G1196","v":"Cisco 1252 - 802.11a/g/n-d2.0 2.4/5-GHz Unified AP; 6 RP-TNC; FCC"},{"$f":"'Bill of Materials'!L1196","v":"Cisco"},{"$f":"'Bill of Materials'!N1196","v":519.6},{"$f":"'Bill of Materials'!P1196","v":"HP"},{"$f":"'Bill of Materials'!C1196","v":"10327"},{"$f":"'Bill of Materials'!H1196","v":"AIR-LAP1252AG-A-K9"},null,null,null,0,{"$f":"'Bill of Materials'!J1196","v":"standard material"},{"$f":"'Bill of Materials'!K1196","v":"electronic"},0]
[{"$f":"'Bill of Materials'!#REF!+'Bill of Materials'!#REF!","v":{"$error":"#REF!"}},{"$f":"'Bill of Materials'!#REF!","v":{"$error":"#REF!"}},{"$f":"'Bill of Materials'!#REF!","v":{"$error":"#REF!"}},{"$f":"'Bill of Materials'!#REF!","v":{"$error":"#REF!"}},{"$f":"'Bill of Materials'!#REF!","v":{"$error":"#REF!"}},{"$f":"'Bill of Materials'!#REF!","v":{"$error":"#REF!"}},{"$f":"'Bill of Materials'!#REF!","v":{"$error":"#REF!"}},{"$f":"'Bill of Materials'!#REF!","v":{"$error":"#REF!"}},null,null,null,{"$error":"#REF!"},{"$f":"'Bill of Materials'!#REF!","v":{"$error":"#REF!"}},{"$f":"'Bill of Materials'!#REF!","v":{"$error":"#REF!"}},{"$error":"#REF!"}]
[{"$f":"'Bill of Materials'!#REF!+'Bill of Materials'!#REF!","v":{"$error":"#REF!"}},{"$f":"'Bill of Materials'!#REF!","v":{"$error":"#REF!"}},{"$f":"'Bill of Materials'!#REF!","v":{"$error":"#REF!"}},{"$f":"'Bill of Materials'!#REF!","v":{"$error":"#REF!"}},{"$f":"'Bill of Materials'!#REF!","v":{"$error":"#REF!"}},{"$f":"'Bill of Materials'!#REF!","v":{"$error":"#REF!"}},{"$f":"'Bill of Materials'!#REF!","v":{"$error":"#REF!"}},{"$f":"'Bill of Materials'!#REF!","v":{"$error":"#REF!"}},null,null,null,{"$error":"#REF!"},{"$f":"'Bill of Materials'!#REF!","v":{"$error":"#REF!"}},{"$f":"'Bill of Materials'!#REF!","v":{"$error":"#REF!"}},{"$error":"#REF!"}]
[{"$f":"'Bill of Materials'!#REF!+'Bill of Materials'!#REF!","v":{"$error":"#REF!"}},{"$f":"'Bill of Materials'!#REF!","v":{"$error":"#REF!"}},{"$f":"'Bill of Materials'!#REF!","v":{"$error":"#REF!"}},{"$f":"'Bill of Materials'!#REF!","v":{"$error":"#REF!"}},{"$f":"'Bill of Materials'!#REF!","v":{"$error":"#REF!"}},{"$f":"'Bill of Materials'!#REF!","v":{"$error":"#REF!"}},{"$f":"'Bill of Materials'!#REF!","v":{"$error":"#REF!"}},{"$f":"'Bill of Materials'!#REF!","v":{"$error":"#REF!"}},null,null,null,{"$error":"#REF!"},{"$f":"'Bill of Materials'!#REF!","v":{"$error":"#REF!"}},{"$f":"'Bill of Materials'!#REF!","v":{"$error":"#REF!"}},{"$error":"#REF!"}]
[{"$f":"'Bill of Materials'!#REF!+'Bill of Materials'!#REF!","v":{"$error":"#REF!"}},{"$f":"'Bill of Materials'!#REF!","v":{"$error":"#REF!"}},{"$f":"'Bill of Materials'!#REF!","v":{"$error":"#REF!"}},{"$f":"'Bill of Materials'!#REF!","v":{"$error":"#REF!"}},{"$f":"'Bill of Materials'!#REF!","v":{"$error":"#REF!"}},{"$f":"'Bill of Materials'!#REF!","v":{"$error":"#REF!"}},{"$f":"'Bill of Materials'!#REF!","v":{"$error":"#REF!"}},{"$f":"'Bill of Materials'!#REF!","v":{"$error":"#REF!"}},null,null,null,{"$error":"#REF!"},{"$f":"'Bill of Materials'!#REF!","v":{"$error":"#REF!"}},{"$f":"'Bill of Materials'!#REF!","v":{"$error":"#REF!"}},{"$error":"#REF!"}]
[{"$f":"'Bill of Materials'!#REF!+'Bill of Materials'!#REF!","v":{"$error":"#REF!"}},{"$f":"'Bill of Materials'!#REF!","v":{"$error":"#REF!"}},{"$f":"'Bill of Materials'!#REF!","v":{"$error":"#REF!"}},{"$f":"'Bill of Materials'!#REF!","v":{"$error":"#REF!"}},{"$f":"'Bill of Materials'!#REF!","v":{"$error":"#REF!"}},{"$f":"'Bill of Materials'!#REF!","v":{"$error":"#REF!"}},{"$f":"'Bill of Materials'!#REF!","v":{"$error":"#REF!"}},{"$f":"'Bill of Materials'!#REF!","v":{"$error":"#REF!"}},null,null,null,{"$error":"#REF!"},{"$f":"'Bill of Materials'!#REF!","v":{"$error":"#REF!"}},{"$f":"'Bill of Materials'!#REF!","v":{"$error":"#REF!"}},{"$error":"#REF!"}]
[{"$f":"'Bill of Materials'!E1197+'Bill of Materials'!F1197","v":0},{"$f":"'Bill of Materials'!M1197","v":"EA"},{"$f":"'Bill of Materials'!G1197","v":"Cisco 1262 - 802.11a/g/n-d2.0 2.4/5-GHz Unified AP; 6 RP-TNC; FCC"},{"$f":"'Bill of Materials'!L1197","v":"Cisco"},{"$f":"'Bill of Materials'!N1197","v":478},{"$f":"'Bill of Materials'!P1197","v":"HP"},{"$f":"'Bill of Materials'!C1197","v":"10464"},{"$f":"'Bill of Materials'!H1197","v":"AIR-LAP1262N-A-K9"},null,null,null,0,{"$f":"'Bill of Materials'!J1197","v":"standard material"},{"$f":"'Bill of Materials'!K1197","v":"electronic"},0]
[{"$f":"'Bill of Materials'!E1198+'Bill of Materials'!F1198","v":0},{"$f":"'Bill of Materials'!M1198","v":"EA"},{"$f":"'Bill of Materials'!G1198","v":"CISCO CAP 3502I 802.11a/g/n Ctrlr-based AP w/CleanAir; Int Ant; A Reg Domain"},{"$f":"'Bill of Materials'!L1198","v":"Cisco"},{"$f":"'Bill of Materials'!N1198","v":518},{"$f":"'Bill of Materials'!P1198","v":"HP"},{"$f":"'Bill of Materials'!C1198","v":"10483"},{"$f":"'Bill of Materials'!H1198","v":"AIR-CAP3502I-A-K9"},null,null,null,0,{"$f":"'Bill of Materials'!J1198","v":"standard material"},{"$f":"'Bill of Materials'!K1198","v":"electronic"},0]
[{"$f":"'Bill of Materials'!E1199+'Bill of Materials'!F1199","v":0},{"$f":"'Bill of Materials'!M1199","v":"EA"},{"$f":"'Bill of Materials'!G1199","v":"802.11a/g Non-modular IOS AP; RP-TNC; FCC Cnfg (Cisco 1242 Ap)"},{"$f":"'Bill of Materials'!L1199","v":"Cisco"},{"$f":"'Bill of Materials'!N1199","v":359.6},{"$f":"'Bill of Materials'!P1199","v":"HP"},{"$f":"'Bill of Materials'!C1199","v":"8835"},{"$f":"'Bill of Materials'!H1199","v":"AIR-AP1242AG-A-K9"},null,null,null,0,{"$f":"'Bill of Materials'!J1199","v":"standard material"},{"$f":"'Bill of Materials'!K1199","v":"electronic"},0]
[{"$f":"'Bill of Materials'!E1201+'Bill of Materials'!F1201","v":0},{"$f":"'Bill of Materials'!M1201","v":"EA"},{"$f":"'Bill of Materials'!G1201","v":"BRACKET, ANTENNA, A, B, G, OMNI, INCLUDES 2 BEAM CLAMPS"},{"$f":"'Bill of Materials'!L1201","v":"DWC"},{"$f":"'Bill of Materials'!N1201","v":23.76},{"$f":"'Bill of Materials'!P1201","v":"DWC"},{"$f":"'Bill of Materials'!C1201","v":"0094-49R2"},{"$f":"'Bill of Materials'!H1201","v":"DWC-ANT-BRKT"},null,null,null,0,{"$f":"'Bill of Materials'!J1201","v":"standard material"},{"$f":"'Bill of Materials'!K1201","v":"physical"},0]
[{"$f":"'Bill of Materials'!E1202+'Bill of Materials'!F1202","v":0},{"$f":"'Bill of Materials'!M1202","v":"EA"},{"$f":"'Bill of Materials'!G1202","v":"CABLE, ASSEMBLY, ANTENNA, 50 FT LG, EXTENSION, BELDEN 9913F NON-PLENUM, 1XM RP-TNC, 1XF RP-TNC CONNECTORS, 50 OHM RG8/U COAX"},{"$f":"'Bill of Materials'!L1202","v":"DWC"},{"$f":"'Bill of Materials'!N1202","v":102.86},{"$f":"'Bill of Materials'!P1202","v":"DWC"},{"$f":"'Bill of Materials'!C1202","v":"0119-C5L7"},{"$f":"'Bill of Materials'!H1202","v":"DWC-121602-050"},null,null,null,0,{"$f":"'Bill of Materials'!J1202","v":"standard material"},{"$f":"'Bill of Materials'!K1202","v":"physical"},0]
[{"$f":"'Bill of Materials'!E1203+'Bill of Materials'!F1203","v":0},{"$f":"'Bill of Materials'!M1203","v":"EA"},{"$f":"'Bill of Materials'!G1203","v":"CABLE, ASSEMBLY, ANTENNA, 75 FT LG, EXTENSION, BELDEN 9913F NON-PLENUM, 1XM RP-TNC, 1XF RP-TNC CONNECTORS, 50 OHM RG8/U COAX"},{"$f":"'Bill of Materials'!L1203","v":"DWC"},{"$f":"'Bill of Materials'!N1203","v":123.35},{"$f":"'Bill of Materials'!P1203","v":"DWC"},{"$f":"'Bill of Materials'!C1203","v":"0119-C5L8"},{"$f":"'Bill of Materials'!H1203","v":"DWC-121602-075"},null,null,null,0,{"$f":"'Bill of Materials'!J1203","v":"standard material"},{"$f":"'Bill of Materials'!K1203","v":"physical"},0]
[{"$f":"'Bill of Materials'!E1204+'Bill of Materials'!F1204","v":0},{"$f":"'Bill of Materials'!M1204","v":"EA"},{"$f":"'Bill of Materials'!G1204","v":"CABLE, ASSEMBLY, ANTENNA, 100 FT LG, EXTENSION, BELDEN 9913F NON-PLENUM, 1XM RP-TNC, 1XF RP-TNC CONNECTORS, 50 OHM RG8/U COAX"},{"$f":"'Bill of Materials'!L1204","v":"DWC"},{"$f":"'Bill of Materials'!N1204","v":146.62},{"$f":"'Bill of Materials'!P1204","v":"DWC"},{"$f":"'Bill of Materials'!C1204","v":"0119-C5L9"},{"$f":"'Bill of Materials'!H1204","v":"DWC-121602-100"},null,null,null,0,{"$f":"'Bill of Materials'!J1204","v":"standard material"},{"$f":"'Bill of Materials'!K1204","v":"physical"},0]
[{"$f":"'Bill of Materials'!E1205+'Bill of Materials'!F1205","v":0},{"$f":"'Bill of Materials'!M1205","v":"EA"},{"$f":"'Bill of Materials'!G1205","v":"Typical Administration or Office Space AP Installation Kit for Dipole or Clip on Ceiling Mounted Antennas. For Cisco 1242 and 1252 AP's. Kit includes Threaded Rod, J-Hooks, Beam Clamps, Mulberry Box, Face Plate w/(2) RJ-45 Jacks, 3 Foot Violet Patch Cord, Nuts and Bolts. NEC to Provide Cisco 1242 Mounting Bracket. "},{"$f":"'Bill of Materials'!L1205","v":"DWC"},{"$f":"'Bill of Materials'!N1205","v":84.94},{"$f":"'Bill of Materials'!P1205","v":"DWC"},{"$f":"'Bill of Materials'!C1205","v":"0456-0XT0"},{"$f":"'Bill of Materials'!H1205","v":"AP-OFF-TH"},null,null,null,0,{"$f":"'Bill of Materials'!J1205","v":"standard material"},{"$f":"'Bill of Materials'!K1205","v":"physical"},0]
[{"$f":"'Bill of Materials'!E1206+'Bill of Materials'!F1206","v":0},{"$f":"'Bill of Materials'!M1206","v":"EA"},{"$f":"'Bill of Materials'!G1206","v":"Typical Administration or Office Space Installation Kit for 2.4 and 5 GHz Patch Antennas. Threaded Rod, J-Hooks, Beam Clamps, Mulberry Box, Face Plate w/(2) RJ-45 Jacks, 3 Foot Violet Patch Cord, Patch2 Bracket, Nuts and Bolts. NEC to Provide Cisco 1242 Mounting Bracket."},{"$f":"'Bill of Materials'!L1206","v":"DWC"},{"$f":"'Bill of Materials'!N1206","v":92},{"$f":"'Bill of Materials'!P1206","v":"DWC"},{"$f":"'Bill of Materials'!C1206","v":"0456-0XT1"},{"$f":"'Bill of Materials'!H1206","v":"PATCH2-KIT"},null,null,null,0,{"$f":"'Bill of Materials'!J1206","v":"standard material"},{"$f":"'Bill of Materials'!K1206","v":"physical"},0]
[{"$f":"'Bill of Materials'!E1207+'Bill of Materials'!F1207","v":0},{"$f":"'Bill of Materials'!M1207","v":"EA"},{"$f":"'Bill of Materials'!G1207","v":"Inside/Outside 2.4 & 5.0 GHz Patch Antenna Articulating Mount Kit.  Kit Includes Cisco Articulating Mount (AIR-ACC2662), Patch2 Bracket, and Beam Clamps"},{"$f":"'Bill of Materials'!L1207","v":"DWC"},{"$f":"'Bill of Materials'!N1207","v":92},{"$f":"'Bill of Materials'!P1207","v":"DWC"},{"$f":"'Bill of Materials'!C1207","v":"10074"},{"$f":"'Bill of Materials'!H1207","v":"APAB"},null,null,null,0,{"$f":"'Bill of Materials'!J1207","v":"standard material"},{"$f":"'Bill of Materials'!K1207","v":"physical"},0]
[{"$f":"'Bill of Materials'!E1208+'Bill of Materials'!F1208","v":0},{"$f":"'Bill of Materials'!M1208","v":"EA"},{"$f":"'Bill of Materials'!G1208","v":"Articulating Mount AP Antenna Bracket- Build Labor"},{"$f":"'Bill of Materials'!L1208","v":"DWC"},{"$f":"'Bill of Materials'!N1208","v":40.5},{"$f":"'Bill of Materials'!P1208","v":"DWC"},{"$f":"'Bill of Materials'!C1208","v":"10075"},{"$f":"'Bill of Materials'!H1208","v":"APAB-L"},null,null,null,0,{"$f":"'Bill of Materials'!J1208","v":"standard material"},{"$f":"'Bill of Materials'!K1208","v":"physical"},0]
[{"$f":"'Bill of Materials'!E1209+'Bill of Materials'!F1209","v":0},{"$f":"'Bill of Materials'!M1209","v":"EA"},{"$f":"'Bill of Materials'!G1209","v":"Labor to Assemble AP-OFF-TH Kit"},{"$f":"'Bill of Materials'!L1209","v":"DWC"},{"$f":"'Bill of Materials'!N1209","v":14.2},{"$f":"'Bill of Materials'!P1209","v":"DWC"},{"$f":"'Bill of Materials'!C1209","v":"10076"},{"$f":"'Bill of Materials'!H1209","v":"AP-OFF-TH-L"},null,null,null,0,{"$f":"'Bill of Materials'!J1209","v":"standard material"},{"$f":"'Bill of Materials'!K1209","v":"physical"},0]
[{"$f":"'Bill of Materials'!E1210+'Bill of Materials'!F1210","v":0},{"$f":"'Bill of Materials'!M1210","v":"EA"},{"$f":"'Bill of Materials'!G1210","v":"Patch Antenna Mounting Bracket (1\" x 1\" x 21\") Predrilled and Tapped for 2.4 and 5.0 GHz Patch Antennas."},{"$f":"'Bill of Materials'!L1210","v":"DWC"},{"$f":"'Bill of Materials'!N1210","v":26.2},{"$f":"'Bill of Materials'!P1210","v":"DWC"},{"$f":"'Bill of Materials'!C1210","v":"10139"},{"$f":"'Bill of Materials'!H1210","v":"PATCH-2-BRKT"},null,null,null,0,{"$f":"'Bill of Materials'!J1210","v":"standard material"},{"$f":"'Bill of Materials'!K1210","v":"physical"},0]
[{"$f":"'Bill of Materials'!E1211+'Bill of Materials'!F1211","v":0},{"$f":"'Bill of Materials'!M1211","v":"EA"},{"$f":"'Bill of Materials'!G1211","v":"Labor to Assemble PATCH2-KIT"},{"$f":"'Bill of Materials'!L1211","v":"DWC"},{"$f":"'Bill of Materials'!N1211","v":17.010000000000002},{"$f":"'Bill of Materials'!P1211","v":"DWC"},{"$f":"'Bill of Materials'!C1211","v":"10140"},{"$f":"'Bill of Materials'!H1211","v":"PATCH2-KIT-L"},null,null,null,0,{"$f":"'Bill of Materials'!J1211","v":"standard material"},{"$f":"'Bill of Materials'!K1211","v":"physical"},0]
[{"$f":"'Bill of Materials'!E1212+'Bill of Materials'!F1212","v":0},{"$f":"'Bill of Materials'!M1212","v":"EA"},{"$f":"'Bill of Materials'!G1212","v":"Inside Plant/Administration/Office Space Cisco 1242 2RU Power Shelf With Terminal blocks. Kit Includes 2RU Shelf, Terminal Blocks, End Barrier, Mounting Channel, End Anchor and Cover Plate."},{"$f":"'Bill of Materials'!L1212","v":"DWC"},{"$f":"'Bill of Materials'!N1212","v":240.2},{"$f":"'Bill of Materials'!P1212","v":"DWC"},{"$f":"'Bill of Materials'!C1212","v":"10145"},{"$f":"'Bill of Materials'!H1212","v":"RFPW-SHELF"},null,null,null,0,{"$f":"'Bill of Materials'!J1212","v":"standard material"},{"$f":"'Bill of Materials'!K1212","v":"physical"},0]
[{"$f":"'Bill of Materials'!E1213+'Bill of Materials'!F1213","v":0},{"$f":"'Bill of Materials'!M1213","v":"EA"},{"$f":"'Bill of Materials'!G1213","v":"Inside Plant/Administration/Office Space Cisco 1242 2RU Power Shelf With Terminal blocks - Labor Only"},{"$f":"'Bill of Materials'!L1213","v":"DWC"},{"$f":"'Bill of Materials'!N1213","v":99},{"$f":"'Bill of Materials'!P1213","v":"DWC"},{"$f":"'Bill of Materials'!C1213","v":"10146"},{"$f":"'Bill of Materials'!H1213","v":"RFPW-SHELF-L"},null,null,null,0,{"$f":"'Bill of Materials'!J1213","v":"standard material"},{"$f":"'Bill of Materials'!K1213","v":"physical"},0]
[{"$f":"'Bill of Materials'!E1214+'Bill of Materials'!F1214","v":0},{"$f":"'Bill of Materials'!M1214","v":"EA"},{"$f":"'Bill of Materials'!G1214","v":"1242 / 1252 Access Point mounting plate. Kit includes (1)  G04-5ESM1-1IP – 1-port Surface Mount Box, (1)  3’ Violet Cat 5e Patch Cable, (1) Mount Plate with drilled holes for AP, (1) 14” Unistrut, 7/8”x1 5/8” Galvanized, (2) Unistrut Clamps, (2) 3/8” Spring Nuts."},{"$f":"'Bill of Materials'!L1214","v":"DWC"},{"$f":"'Bill of Materials'!N1214","v":55.75},{"$f":"'Bill of Materials'!P1214","v":"DWC"},{"$f":"'Bill of Materials'!C1214","v":"10302"},{"$f":"'Bill of Materials'!H1214","v":"NPAPP"},null,null,null,0,{"$f":"'Bill of Materials'!J1214","v":"standard material"},{"$f":"'Bill of Materials'!K1214","v":"physical"},0]
[{"$f":"'Bill of Materials'!E1215+'Bill of Materials'!F1215","v":0},{"$f":"'Bill of Materials'!M1215","v":"EA"},{"$f":"'Bill of Materials'!G1215","v":"1242 / 1252 Access Point mounting plate - LABOR ONLY"},{"$f":"'Bill of Materials'!L1215","v":"DWC"},{"$f":"'Bill of Materials'!N1215","v":58.5},{"$f":"'Bill of Materials'!P1215","v":"DWC"},{"$f":"'Bill of Materials'!C1215","v":"10303"},{"$f":"'Bill of Materials'!H1215","v":"NPAPP-L"},null,null,null,0,{"$f":"'Bill of Materials'!J1215","v":"standard material"},{"$f":"'Bill of Materials'!K1215","v":"physical"},0]
[{"$f":"'Bill of Materials'!E1216+'Bill of Materials'!F1216","v":0},{"$f":"'Bill of Materials'!M1216","v":"EA"},{"$f":"'Bill of Materials'!G1216","v":"AP Flange Mount Kit (For 1142's)"},{"$f":"'Bill of Materials'!L1216","v":"DWC"},{"$f":"'Bill of Materials'!N1216","v":41.2},{"$f":"'Bill of Materials'!P1216","v":"DWC"},{"$f":"'Bill of Materials'!C1216","v":"10305"},{"$f":"'Bill of Materials'!H1216","v":"AP-FM-KIT"},null,null,null,0,{"$f":"'Bill of Materials'!J1216","v":"standard material"},{"$f":"'Bill of Materials'!K1216","v":"physical"},0]
[{"$f":"'Bill of Materials'!E1217+'Bill of Materials'!F1217","v":0},{"$f":"'Bill of Materials'!M1217","v":"EA"},{"$f":"'Bill of Materials'!G1217","v":"AP Flange Mount Kit (For 1142's) - LABOR ONLY"},{"$f":"'Bill of Materials'!L1217","v":"DWC"},{"$f":"'Bill of Materials'!N1217","v":15.75},{"$f":"'Bill of Materials'!P1217","v":"DWC"},{"$f":"'Bill of Materials'!C1217","v":"10306"},{"$f":"'Bill of Materials'!H1217","v":"AP-FM-KIT-L"},null,null,null,0,{"$f":"'Bill of Materials'!J1217","v":"standard material"},{"$f":"'Bill of Materials'!K1217","v":"physical"},0]
[{"$f":"'Bill of Materials'!E1218+'Bill of Materials'!F1218","v":0},{"$f":"'Bill of Materials'!M1218","v":"EA"},{"$f":"'Bill of Materials'!G1218","v":"1142 T-Rail Channel Adapter for Mounting"},{"$f":"'Bill of Materials'!L1218","v":"Cisco"},{"$f":"'Bill of Materials'!N1218","v":2},{"$f":"'Bill of Materials'!P1218","v":"HP"},{"$f":"'Bill of Materials'!C1218","v":"10349"},{"$f":"'Bill of Materials'!H1218","v":"AIR-CHNL-ADAPTER "},null,null,null,0,{"$f":"'Bill of Materials'!J1218","v":"standard material"},{"$f":"'Bill of Materials'!K1218","v":"electronic"},0]
[{"$f":"'Bill of Materials'!E1219+'Bill of Materials'!F1219","v":0},{"$f":"'Bill of Materials'!M1219","v":"EA"},{"$f":"'Bill of Materials'!G1219","v":"Typical Administration or Office Space AP Installation Kit for Non T-Grid Drop Ceiling. For Cisco 1142 AP's. Kit includes Threaded Rod, J-Hooks, Beam Clamps, Mulberry Box, Face Plate w/(1) RJ-45 Jack, 3 Foot Violet Patch Cord, Steel Plates, 90 Degree Bracket, Coupler, Safety Cable, Nuts and Bolts. NEC to Provide Cisco 1142 Mounting Bracket."},{"$f":"'Bill of Materials'!L1219","v":"DWC"},{"$f":"'Bill of Materials'!N1219","v":99.1},{"$f":"'Bill of Materials'!P1219","v":"DWC"},{"$f":"'Bill of Materials'!C1219","v":"10430"},{"$f":"'Bill of Materials'!H1219","v":"AP-UNIKIT-TH"},null,null,null,0,{"$f":"'Bill of Materials'!J1219","v":"standard material"},{"$f":"'Bill of Materials'!K1219","v":"physical"},0]
[{"$f":"'Bill of Materials'!E1220+'Bill of Materials'!F1220","v":0},{"$f":"'Bill of Materials'!M1220","v":"EA"},{"$f":"'Bill of Materials'!G1220","v":"Labor to Assemble AP-UNIKIT-TH Kit"},{"$f":"'Bill of Materials'!L1220","v":"DWC"},{"$f":"'Bill of Materials'!N1220","v":47.2},{"$f":"'Bill of Materials'!P1220","v":"DWC"},{"$f":"'Bill of Materials'!C1220","v":"10431"},{"$f":"'Bill of Materials'!H1220","v":"AP-UNIKIT-TH-L"},null,null,null,0,{"$f":"'Bill of Materials'!J1220","v":"standard material"},{"$f":"'Bill of Materials'!K1220","v":"physical"},0]
[{"$f":"'Bill of Materials'!E1221+'Bill of Materials'!F1221","v":0},{"$f":"'Bill of Materials'!M1221","v":"EA"},{"$f":"'Bill of Materials'!G1221","v":"Typical Administration or Office Space AP Installation Kit for Mounting Cisco 1142 AP's on Wall or Column. Kit includes Steel Plates, 90 Degree Bracket, Quickport Surface Mount SM1 Box, Safety Cable, 3 Foot Violet Patch Cord, Nuts and Bolts. NEC to Provide Cisco 1142 Mounting Bracket."},{"$f":"'Bill of Materials'!L1221","v":"DWC"},{"$f":"'Bill of Materials'!N1221","v":85.5},{"$f":"'Bill of Materials'!P1221","v":"DWC"},{"$f":"'Bill of Materials'!C1221","v":"10432"},{"$f":"'Bill of Materials'!H1221","v":"AP-UNIKIT-WB"},null,null,null,0,{"$f":"'Bill of Materials'!J1221","v":"standard material"},{"$f":"'Bill of Materials'!K1221","v":"physical"},0]
[{"$f":"'Bill of Materials'!E1222+'Bill of Materials'!F1222","v":0},{"$f":"'Bill of Materials'!M1222","v":"EA"},{"$f":"'Bill of Materials'!G1222","v":"Labor to Assemble AP-UNIKIT-WB"},{"$f":"'Bill of Materials'!L1222","v":"DWC"},{"$f":"'Bill of Materials'!N1222","v":31.5},{"$f":"'Bill of Materials'!P1222","v":"DWC"},{"$f":"'Bill of Materials'!C1222","v":"10433"},{"$f":"'Bill of Materials'!H1222","v":"AP-UNIKIT-WB-L"},null,null,null,0,{"$f":"'Bill of Materials'!J1222","v":"standard material"},{"$f":"'Bill of Materials'!K1222","v":"physical"},0]
[{"$f":"'Bill of Materials'!E1223+'Bill of Materials'!F1223","v":0},{"$f":"'Bill of Materials'!M1223","v":"EA"},{"$f":"'Bill of Materials'!G1223","v":"Panduit Base Raceway, Off White, 10' Stick"},{"$f":"'Bill of Materials'!L1223","v":"Panduit"},{"$f":"'Bill of Materials'!N1223","v":25.7},{"$f":"'Bill of Materials'!P1223","v":"DWC"},{"$f":"'Bill of Materials'!C1223","v":"10434"},{"$f":"'Bill of Materials'!H1223","v":"T45BIW10-A"},null,null,null,0,{"$f":"'Bill of Materials'!J1223","v":"standard material"},{"$f":"'Bill of Materials'!K1223","v":"physical"},0]
[{"$f":"'Bill of Materials'!E1224+'Bill of Materials'!F1224","v":0},{"$f":"'Bill of Materials'!M1224","v":"EA"},{"$f":"'Bill of Materials'!G1224","v":"Panduit Cover Raceway, Off White, 10' Stick"},{"$f":"'Bill of Materials'!L1224","v":"Panduit"},{"$f":"'Bill of Materials'!N1224","v":11.4},{"$f":"'Bill of Materials'!P1224","v":"DWC"},{"$f":"'Bill of Materials'!C1224","v":"10435"},{"$f":"'Bill of Materials'!H1224","v":"T45CIW10"},null,null,null,0,{"$f":"'Bill of Materials'!J1224","v":"standard material"},{"$f":"'Bill of Materials'!K1224","v":"physical"},0]
[{"$f":"'Bill of Materials'!E1225+'Bill of Materials'!F1225","v":0},{"$f":"'Bill of Materials'!M1225","v":"EA"},{"$f":"'Bill of Materials'!G1225","v":"Panduit Entrance End Fitting, Off White, For UTP Cable Bend Radius Transition from Ceiling to Wall."},{"$f":"'Bill of Materials'!L1225","v":"Panduit"},{"$f":"'Bill of Materials'!N1225","v":10.35},{"$f":"'Bill of Materials'!P1225","v":"DWC"},{"$f":"'Bill of Materials'!C1225","v":"10436"},{"$f":"'Bill of Materials'!H1225","v":"T45EEIW\t"},null,null,null,0,{"$f":"'Bill of Materials'!J1225","v":"standard material"},{"$f":"'Bill of Materials'!K1225","v":"physical"},0]
[{"$f":"'Bill of Materials'!E1226+'Bill of Materials'!F1226","v":0},{"$f":"'Bill of Materials'!M1226","v":"EA"},{"$f":"'Bill of Materials'!G1226","v":"Typical Administration or Office Space AP Installation Kit for 1142 AP's Where an Existing Cisco 1252 AP-OFF-TH Kit Resides. Kit includes Steel Plates, 90 degree Bracket Threaded Rod Coupler, Safety Cable, Nuts and Bolts. NEC to Provide Cisco 1142 Mounting Bracket."},{"$f":"'Bill of Materials'!L1226","v":"DWC"},{"$f":"'Bill of Materials'!N1226","v":85.8},{"$f":"'Bill of Materials'!P1226","v":"DWC"},{"$f":"'Bill of Materials'!C1226","v":"10437"},{"$f":"'Bill of Materials'!H1226","v":"AP-UNIKIT-EXOFF"},null,null,null,0,{"$f":"'Bill of Materials'!J1226","v":"standard material"},{"$f":"'Bill of Materials'!K1226","v":"physical"},0]
[{"$f":"'Bill of Materials'!E1227+'Bill of Materials'!F1227","v":0},{"$f":"'Bill of Materials'!M1227","v":"EA"},{"$f":"'Bill of Materials'!G1227","v":"Labor to Assemble AP-UNIKIT-EXOFF Kit"},{"$f":"'Bill of Materials'!L1227","v":"DWC"},{"$f":"'Bill of Materials'!N1227","v":47.2},{"$f":"'Bill of Materials'!P1227","v":"DWC"},{"$f":"'Bill of Materials'!C1227","v":"10438"},{"$f":"'Bill of Materials'!H1227","v":"AP-UNIKIT-EXOFF-L"},null,null,null,0,{"$f":"'Bill of Materials'!J1227","v":"standard material"},{"$f":"'Bill of Materials'!K1227","v":"physical"},0]
[{"$f":"'Bill of Materials'!E1228+'Bill of Materials'!F1228","v":0},{"$f":"'Bill of Materials'!M1228","v":"EA"},{"$f":"'Bill of Materials'!G1228","v":"Speed Link Safety Cable, 2mm Wire Size, 5 Meters, with ring terminal"},{"$f":"'Bill of Materials'!L1228","v":"DWC"},{"$f":"'Bill of Materials'!N1228","v":10.1},{"$f":"'Bill of Materials'!P1228","v":"DWC"},{"$f":"'Bill of Materials'!C1228","v":"10439"},{"$f":"'Bill of Materials'!H1228","v":"16GASUPPORT"},null,null,null,0,{"$f":"'Bill of Materials'!J1228","v":"standard material"},{"$f":"'Bill of Materials'!K1228","v":"physical"},0]
[{"$f":"'Bill of Materials'!E1229+'Bill of Materials'!F1229","v":0},{"$f":"'Bill of Materials'!M1229","v":"EA"},{"$f":"'Bill of Materials'!G1229","v":"2.4GHz Indoor Pillar-mount Omni Directional 5.2 dBi antenna (AIR-ANT2452V-R=) Mounting Hardware Kit. Kit Includes W Bracket, Tubing, 6\" Eye Bolt, Washer, Hex Head Nut, Beam Clamps, and Sheet Metal Screws."},{"$f":"'Bill of Materials'!L1229","v":"DWC"},{"$f":"'Bill of Materials'!N1229","v":28.24},{"$f":"'Bill of Materials'!P1229","v":"DWC"},{"$f":"'Bill of Materials'!C1229","v":"INRF-0054"},{"$f":"'Bill of Materials'!H1229","v":"TC-MNT-3213"},null,null,null,0,{"$f":"'Bill of Materials'!J1229","v":"standard material"},{"$f":"'Bill of Materials'!K1229","v":"physical"},0]
[{"$f":"'Bill of Materials'!E1230+'Bill of Materials'!F1230","v":0},{"$f":"'Bill of Materials'!M1230","v":"BOX"},{"$f":"'Bill of Materials'!G1230","v":"Cat 5e UTP Station wire, 1000'  plenum in box 350 megahertz (Violet for RF)"},{"$f":"'Bill of Materials'!L1230","v":"CommScope"},{"$f":"'Bill of Materials'!N1230","v":211.2},{"$f":"'Bill of Materials'!P1230","v":"DWC"},{"$f":"'Bill of Materials'!C1230","v":"INRF-0095"},{"$f":"'Bill of Materials'!H1230","v":"5504M-VIOLET"},null,null,null,0,{"$f":"'Bill of Materials'!J1230","v":"standard material"},{"$f":"'Bill of Materials'!K1230","v":"horizontal"},0]
[{"$f":"'Bill of Materials'!E1231+'Bill of Materials'!F1231","v":0},{"$f":"'Bill of Materials'!M1231","v":"BOX"},{"$f":"'Bill of Materials'!G1231","v":"Cat.5e UTP station wire, 1000' non-plenum in box 350 MHz. (Violet for RF)"},{"$f":"'Bill of Materials'!L1231","v":"CommScope"},{"$f":"'Bill of Materials'!N1231","v":115.8},{"$f":"'Bill of Materials'!P1231","v":"DWC"},{"$f":"'Bill of Materials'!C1231","v":"INRF-0096"},{"$f":"'Bill of Materials'!H1231","v":"55N4R-VIOLET"},null,null,null,0,{"$f":"'Bill of Materials'!J1231","v":"standard material"},{"$f":"'Bill of Materials'!K1231","v":"horizontal"},0]
[{"$f":"'Bill of Materials'!E1232+'Bill of Materials'!F1232","v":0},{"$f":"'Bill of Materials'!M1232","v":"EA"},{"$f":"'Bill of Materials'!G1232","v":"Cat.5e RJ-45 Patch Cord - 3 ft. - Violet Jacket"},{"$f":"'Bill of Materials'!L1232","v":"Leviton"},{"$f":"'Bill of Materials'!N1232","v":2.67},{"$f":"'Bill of Materials'!P1232","v":"DWC"},{"$f":"'Bill of Materials'!C1232","v":"INRF-0104"},{"$f":"'Bill of Materials'!H1232","v":"G22-05EPC-03V"},null,null,null,0,{"$f":"'Bill of Materials'!J1232","v":"standard material"},{"$f":"'Bill of Materials'!K1232","v":"horizontal"},0]
[{"$f":"'Bill of Materials'!E1233+'Bill of Materials'!F1233","v":0},{"$f":"'Bill of Materials'!M1233","v":"EA"},{"$f":"'Bill of Materials'!G1233","v":"Cat.5e RJ-45 Patch Cord - 6 ft. - Violet Jacket"},{"$f":"'Bill of Materials'!L1233","v":"Leviton"},{"$f":"'Bill of Materials'!N1233","v":3.32},{"$f":"'Bill of Materials'!P1233","v":"DWC"},{"$f":"'Bill of Materials'!C1233","v":"INRF-0105"},{"$f":"'Bill of Materials'!H1233","v":"G23-05EPC-06V"},null,null,null,0,{"$f":"'Bill of Materials'!J1233","v":"standard material"},{"$f":"'Bill of Materials'!K1233","v":"horizontal"},0]
[{"$f":"'Bill of Materials'!E1234+'Bill of Materials'!F1234","v":0},{"$f":"'Bill of Materials'!M1234","v":"EA"},{"$f":"'Bill of Materials'!G1234","v":"Cat.5e RJ-45 Patch Cord - 10 ft. - Violet Jacket"},{"$f":"'Bill of Materials'!L1234","v":"Leviton"},{"$f":"'Bill of Materials'!N1234","v":4.34},{"$f":"'Bill of Materials'!P1234","v":"DWC"},{"$f":"'Bill of Materials'!C1234","v":"INRF-0106"},{"$f":"'Bill of Materials'!H1234","v":"G24-05EPC-10V"},null,null,null,0,{"$f":"'Bill of Materials'!J1234","v":"standard material"},{"$f":"'Bill of Materials'!K1234","v":"horizontal"},0]
[{"$f":"'Bill of Materials'!E1235+'Bill of Materials'!F1235","v":0},{"$f":"'Bill of Materials'!M1235","v":"EA"},{"$f":"'Bill of Materials'!G1235","v":"Cat.5e RJ-45 Patch Cord - 15 ft. - Violet Jacket"},{"$f":"'Bill of Materials'!L1235","v":"Leviton"},{"$f":"'Bill of Materials'!N1235","v":6.28},{"$f":"'Bill of Materials'!P1235","v":"DWC"},{"$f":"'Bill of Materials'!C1235","v":"INRF-0107"},{"$f":"'Bill of Materials'!H1235","v":"G25-05EPC-15V"},null,null,null,0,{"$f":"'Bill of Materials'!J1235","v":"standard material"},{"$f":"'Bill of Materials'!K1235","v":"horizontal"},0]
[{"$f":"'Bill of Materials'!E1237+'Bill of Materials'!F1237","v":0},{"$f":"'Bill of Materials'!M1237","v":"EA"},{"$f":"'Bill of Materials'!G1237","v":"Typical Inside Plant NON-POWERED Cisco 1242 AP Policarbonate Wireless Enclosure Kit (14\"h x 12\"w x 6\"d) See Ordering Guidelines. Kit Includes Box, Back Plate, 1 Port Surface Mount Box, Machine Screws, Cord Grip Connectors with Seal Rings and Lock Nut, Lamicoid Tags, (1) 3 Foot Violet Patch Cable, 2.4 and 5.0 GHz Bulkhead Extension and Velcro Straps"},{"$f":"'Bill of Materials'!L1237","v":"DWC"},{"$f":"'Bill of Materials'!N1237","v":187.21},{"$f":"'Bill of Materials'!P1237","v":"DWC"},{"$f":"'Bill of Materials'!C1237","v":"0092-1AWT"},{"$f":"'Bill of Materials'!H1237","v":"NPW14126-ISP"},null,null,null,0,{"$f":"'Bill of Materials'!J1237","v":"standard material"},{"$f":"'Bill of Materials'!K1237","v":"physical"},0]
[{"$f":"'Bill of Materials'!E1238+'Bill of Materials'!F1238","v":0},{"$f":"'Bill of Materials'!M1238","v":"EA"},{"$f":"'Bill of Materials'!G1238","v":"Inside Plant NON-POWERED Cisco 1242 AP Policarbonate Wireless Enclosure Kit (20\"h x 16\"w x 8\"d) See Ordering Guidelines. Kit Includes Box, Back Plate, 1 Port Surface Mount Box, Machine Screws, Lamicoid Tags, (1) 3 Foot Violet Patch Cable, and Velcro Straps. Knock Outs are Field Located by Contractor. Contractor Shall Provide 3/4\" and 2\" Insulated Grounding Bushing."},{"$f":"'Bill of Materials'!L1238","v":"DWC"},{"$f":"'Bill of Materials'!N1238","v":228.39},{"$f":"'Bill of Materials'!P1238","v":"DWC"},{"$f":"'Bill of Materials'!C1238","v":"0092-1AWW"},{"$f":"'Bill of Materials'!H1238","v":"NPW20168-ISP-C"},null,null,null,0,{"$f":"'Bill of Materials'!J1238","v":"standard material"},{"$f":"'Bill of Materials'!K1238","v":"physical"},0]
[{"$f":"'Bill of Materials'!E1239+'Bill of Materials'!F1239","v":0},{"$f":"'Bill of Materials'!M1239","v":"EA"},{"$f":"'Bill of Materials'!G1239","v":"Outside Plant NON-POWERED Cisco 1242 AP Policarbonate Wireless Enclosure Kit (20\"h x 16\"w x 8\"d) See Ordering Guidelines. Kit Includes Box, Back Plate, 1 Port Surface Mount Box, Machine Screws, Cord Grip Connectors with Seal Rings and Lock Nut, Lamicoid Tags, (1) 3 Foot Violet Patch Cable, 2.4 and 5.0 GHz Extension Cables, Lighting Surge Arrester, Velcro Straps, Ground straps and Ground Strip. "},{"$f":"'Bill of Materials'!L1239","v":"DWC"},{"$f":"'Bill of Materials'!N1239","v":419.56},{"$f":"'Bill of Materials'!P1239","v":"DWC"},{"$f":"'Bill of Materials'!C1239","v":"0092-1AWX"},{"$f":"'Bill of Materials'!H1239","v":"NPW20168-OSP"},null,null,null,0,{"$f":"'Bill of Materials'!J1239","v":"standard material"},{"$f":"'Bill of Materials'!K1239","v":"physical"},0]
[{"$f":"'Bill of Materials'!E1240+'Bill of Materials'!F1240","v":0},{"$f":"'Bill of Materials'!M1240","v":"EA"},{"$f":"'Bill of Materials'!G1240","v":"BEP Outside Plant NON-POWERED Cisco 1242 AP Policarbonate Wireless Enclosure Kit (20\"h x 16\"w x 8\"d) See Ordering Guidelines. Kit Includes Box, Back Plate, 1 Port Surface Mount Box, Machine Screws, Cord Grip Connectors with Seal Rings and Lock Nut, Lamicoid Tags, (1) 3 Foot Violet Patch Cable, 2.4 and 5.0 GHz Extension Cables, Lighting Surge Arrester, BLDG. Entrance Protector 65V, Velcro Straps, Ground straps and Ground Strip. "},{"$f":"'Bill of Materials'!L1240","v":"DWC"},{"$f":"'Bill of Materials'!N1240","v":497.92},{"$f":"'Bill of Materials'!P1240","v":"DWC"},{"$f":"'Bill of Materials'!C1240","v":"0092-1AWY"},{"$f":"'Bill of Materials'!H1240","v":"NPW20168-OSP-BEP"},null,null,null,0,{"$f":"'Bill of Materials'!J1240","v":"standard material"},{"$f":"'Bill of Materials'!K1240","v":"physical"},0]
[{"$f":"'Bill of Materials'!E1241+'Bill of Materials'!F1241","v":0},{"$f":"'Bill of Materials'!M1241","v":"EA"},{"$f":"'Bill of Materials'!G1241","v":"Outside Plant NON-POWERED Cisco 1242 AP Policarbonate Wireless Enclosure (20\"h x 16\"w x 8\"d) See Ordering Guidelines. Kit Includes Box, Back Plate, 1 Port Surface Mount Box, Machine Screws, Lamicoid Tags, (1) 3 Foot Violet Patch Cable, 2.4 and 5.0 GHz Extension Cables, Lighting Surge Arrester, Velcro Straps, Ground straps and Ground Strip. Knock Outs are Field Located by Contractor. Contractor Shall Provide 3/4\" and 2\" Insulated Grounding Bushing. "},{"$f":"'Bill of Materials'!L1241","v":"DWC"},{"$f":"'Bill of Materials'!N1241","v":437.78},{"$f":"'Bill of Materials'!P1241","v":"DWC"},{"$f":"'Bill of Materials'!C1241","v":"0092-1AX0"},{"$f":"'Bill of Materials'!H1241","v":"NPW20168-OSP-C"},null,null,null,0,{"$f":"'Bill of Materials'!J1241","v":"standard material"},{"$f":"'Bill of Materials'!K1241","v":"physical"},0]
[{"$f":"'Bill of Materials'!E1242+'Bill of Materials'!F1242","v":0},{"$f":"'Bill of Materials'!M1242","v":"EA"},{"$f":"'Bill of Materials'!G1242","v":"Inside Plant POWERED Cisco 1242 AP Policarbonate Fiber Optic Wireless Enclosure kit (24\"h x 20\"w x 8\"d) See Ordering Guidelines. Kit Includes Box, Back Plate, 4 Port Surface Mount Box, ST Fiber Adapters, Machine Screws, Cord Grip Connectors with Seal Rings and Lock Nut, Single Gang Box with 120VAC Duplex Recep., Lamicoid Tags, (1) 3 Foot Violet Patch Cable, 2.4 and 5.0 GHz Bulkhead Extension, Velcro Straps, Velcro Mounting Bracket, and 1 Meter ST to St Pacth Cable. "},{"$f":"'Bill of Materials'!L1242","v":"DWC"},{"$f":"'Bill of Materials'!N1242","v":451.39},{"$f":"'Bill of Materials'!P1242","v":"DWC"},{"$f":"'Bill of Materials'!C1242","v":"0092-1AX1"},{"$f":"'Bill of Materials'!H1242","v":"PW24208-ISP"},null,null,null,0,{"$f":"'Bill of Materials'!J1242","v":"standard material"},{"$f":"'Bill of Materials'!K1242","v":"physical"},0]
[{"$f":"'Bill of Materials'!E1243+'Bill of Materials'!F1243","v":0},{"$f":"'Bill of Materials'!M1243","v":"EA"},{"$f":"'Bill of Materials'!G1243","v":"Inside Plant POWERED Cisco 1242 AP Policarbonate Fiber Optic Wireless Enclosure (24\"h x 20\"w x 8\"d) See Ordering Guidelines. Kit Includes Box, Back Plate, 4 Port Surface Mount Box, ST Fiber Adapters, Machine Screws, Single Gang Box with 120VAC Duplex Recep., Lamicoid Tags, (1) 3 Foot Violet Patch Cable, Velcro Straps, Velcro Mounting Bracket, and 1 Meter ST to St Pacth Cable. Knock Outs are Field Located by Contractor. Contractor Shall Provide 3/4\" and 2\" Insulated Grounding Bushing. "},{"$f":"'Bill of Materials'!L1243","v":"DWC"},{"$f":"'Bill of Materials'!N1243","v":411.64},{"$f":"'Bill of Materials'!P1243","v":"DWC"},{"$f":"'Bill of Materials'!C1243","v":"0092-1AX2"},{"$f":"'Bill of Materials'!H1243","v":"PW24208-ISP-C"},null,null,null,0,{"$f":"'Bill of Materials'!J1243","v":"standard material"},{"$f":"'Bill of Materials'!K1243","v":"physical"},0]
[{"$f":"'Bill of Materials'!E1244+'Bill of Materials'!F1244","v":0},{"$f":"'Bill of Materials'!M1244","v":"EA"},{"$f":"'Bill of Materials'!G1244","v":"Inside/Outside Plant POWERED Cisco 1242 AP Policarbonate Fiber Optic Wireless Enclosure (24\"h x 20w x 8\"d) See Ordering Guidelines. Kit Includes Box, Back Plate, 4 Port Surface Mount Box, ST Fiber Adapters,  Machine Screws, Cord Grip Connectors with Seal Rings and Lock Nut, Lamicoid Tags, Single Gang Box with 120VAC Duplex Recep., (1) 3 Foot Violet Patch Cable, 1 Meter ST to St Pacth Cable, 2.4 and 5.0 GHz Extension Cables, Lighting Surge Arrester, Velcro Straps, Ground straps and Ground Strip. "},{"$f":"'Bill of Materials'!L1244","v":"DWC"},{"$f":"'Bill of Materials'!N1244","v":574.99},{"$f":"'Bill of Materials'!P1244","v":"DWC"},{"$f":"'Bill of Materials'!C1244","v":"0092-1AX3"},{"$f":"'Bill of Materials'!H1244","v":"PW24208-OSP"},null,null,null,0,{"$f":"'Bill of Materials'!J1244","v":"standard material"},{"$f":"'Bill of Materials'!K1244","v":"physical"},0]
[{"$f":"'Bill of Materials'!E1245+'Bill of Materials'!F1245","v":0},{"$f":"'Bill of Materials'!M1245","v":"EA"},{"$f":"'Bill of Materials'!G1245","v":"Inside/Outside Plant POWERED Cisco 1242 AP Policarbonate Fiber Optic Wireless Enclosure (24\"h x 20\"w x 8\"d) See Ordering Guidelines. Kit Includes Box, Back Plate, 4 Port Surface Mount Box, ST Fiber Adapters,  Machine Screws, Single Gang Box with 120VAC Duplex Recep., (1) 3 Foot Violet Patch Cable, 1 Meter ST to St Pacth Cable, 2.4 and 5.0 GHz Extension Cables, Lighting Surge Arrester, Velcro Straps, Ground straps and Ground Strip. Knock Outs are Field Located by Contractor. Contractor Shall Provide 3/4\" and 2\" Insulated Grounding Bushing. "},{"$f":"'Bill of Materials'!L1245","v":"DWC"},{"$f":"'Bill of Materials'!N1245","v":622.41},{"$f":"'Bill of Materials'!P1245","v":"DWC"},{"$f":"'Bill of Materials'!C1245","v":"0092-1AX4"},{"$f":"'Bill of Materials'!H1245","v":"PW24208-OSP-C"},null,null,null,0,{"$f":"'Bill of Materials'!J1245","v":"standard material"},{"$f":"'Bill of Materials'!K1245","v":"physical"},0]
[{"$f":"'Bill of Materials'!E1246+'Bill of Materials'!F1246","v":0},{"$f":"'Bill of Materials'!M1246","v":"EA"},{"$f":"'Bill of Materials'!G1246","v":"Media Converter 100BASE-TX TO 100BASE-FX  SC MM"},{"$f":"'Bill of Materials'!L1246","v":"Transition Networks"},{"$f":"'Bill of Materials'!N1246","v":260.2},{"$f":"'Bill of Materials'!P1246","v":"DWC"},{"$f":"'Bill of Materials'!C1246","v":"0211-03LL"},{"$f":"'Bill of Materials'!H1246","v":"E-100BTX-FX-05(SC)"},null,null,null,0,{"$f":"'Bill of Materials'!J1246","v":"standard material"},{"$f":"'Bill of Materials'!K1246","v":"physical"},0]
[{"$f":"'Bill of Materials'!E1247+'Bill of Materials'!F1247","v":0},{"$f":"'Bill of Materials'!M1247","v":"EA"},{"$f":"'Bill of Materials'!G1247","v":"Media Converter 10/100 SC MM"},{"$f":"'Bill of Materials'!L1247","v":"Transition Networks"},{"$f":"'Bill of Materials'!N1247","v":274.10000000000002},{"$f":"'Bill of Materials'!P1247","v":"DWC"},{"$f":"'Bill of Materials'!C1247","v":"0211-03LM"},{"$f":"'Bill of Materials'!H1247","v":"SBFTF1013-100"},null,null,null,0,{"$f":"'Bill of Materials'!J1247","v":"standard material"},{"$f":"'Bill of Materials'!K1247","v":"physical"},0]
[{"$f":"'Bill of Materials'!E1248+'Bill of Materials'!F1248","v":0},{"$f":"'Bill of Materials'!M1248","v":"EA"},{"$f":"'Bill of Materials'!G1248","v":"Administration/Office Space Wiremold Enclosure Kit for Wireless Applications Where Access Point Must be Installed Below Drop Ceiling in Cosmetically Appealing Areas. Utilizing Dipole Antenna's. Kit Includes Wall Mount Box, 1 Port Surface Mount Box, 3 Foot Violet Patch Cord, Misc. Nuts and Screws, Bulkhead Brackets, Bulkhead Extension Cable, and Label. "},{"$f":"'Bill of Materials'!L1248","v":"DWC"},{"$f":"'Bill of Materials'!N1248","v":285},{"$f":"'Bill of Materials'!P1248","v":"DWC"},{"$f":"'Bill of Materials'!C1248","v":"10115"},{"$f":"'Bill of Materials'!H1248","v":"GM-NMAPME-DDA"},null,null,null,0,{"$f":"'Bill of Materials'!J1248","v":"standard material"},{"$f":"'Bill of Materials'!K1248","v":"physical"},0]
[{"$f":"'Bill of Materials'!E1249+'Bill of Materials'!F1249","v":0},{"$f":"'Bill of Materials'!M1249","v":"EA"},{"$f":"'Bill of Materials'!G1249","v":"Administration/Office Space Wiremold Enclosure Kit for Wireless Applications Where Access Point Must be Installed Below Drop Ceiling in Cosmetically Appealing Areas. Utilizing Diversity Patch Antenna's. . Kit Includes Wall Mount Box, 1 Port Surface Mount Box, 3 Foot Violet Patch Cord, and Label. "},{"$f":"'Bill of Materials'!L1249","v":"DWC"},{"$f":"'Bill of Materials'!N1249","v":255},{"$f":"'Bill of Materials'!P1249","v":"DWC"},{"$f":"'Bill of Materials'!C1249","v":"10116"},{"$f":"'Bill of Materials'!H1249","v":"GM-NMAPME-DPA"},null,null,null,0,{"$f":"'Bill of Materials'!J1249","v":"standard material"},{"$f":"'Bill of Materials'!K1249","v":"physical"},0]
[{"$f":"'Bill of Materials'!E1250+'Bill of Materials'!F1250","v":0},{"$f":"'Bill of Materials'!M1250","v":"EA"},{"$f":"'Bill of Materials'!G1250","v":"Labor for Assembling Administration/Office Space Wiremold Enclosure Kit"},{"$f":"'Bill of Materials'!L1250","v":"DWC"},{"$f":"'Bill of Materials'!N1250","v":99},{"$f":"'Bill of Materials'!P1250","v":"DWC"},{"$f":"'Bill of Materials'!C1250","v":"10117"},{"$f":"'Bill of Materials'!H1250","v":"GM-NMAPME-L"},null,null,null,0,{"$f":"'Bill of Materials'!J1250","v":"standard material"},{"$f":"'Bill of Materials'!K1250","v":"physical"},0]
[{"$f":"'Bill of Materials'!E1251+'Bill of Materials'!F1251","v":0},{"$f":"'Bill of Materials'!M1251","v":"EA"},{"$f":"'Bill of Materials'!G1251","v":"All AP Wireless Enclosures Build - Labor Only\r\n"},{"$f":"'Bill of Materials'!L1251","v":"DWC"},{"$f":"'Bill of Materials'!N1251","v":99},{"$f":"'Bill of Materials'!P1251","v":"DWC"},{"$f":"'Bill of Materials'!C1251","v":"10118"},{"$f":"'Bill of Materials'!H1251","v":"GM-POLYRF-L"},null,null,null,0,{"$f":"'Bill of Materials'!J1251","v":"standard material"},{"$f":"'Bill of Materials'!K1251","v":"physical"},0]
[{"$f":"'Bill of Materials'!E1252+'Bill of Materials'!F1252","v":0},{"$f":"'Bill of Materials'!M1252","v":"EA"},{"$f":"'Bill of Materials'!G1252","v":"Gas Fuse Replacement for Coaxial Antenna Cable Lighning Protector, Model #AL-RTPRTJB-9"},{"$f":"'Bill of Materials'!L1252","v":"HyperLink/L-Com"},{"$f":"'Bill of Materials'!N1252","v":7.1},{"$f":"'Bill of Materials'!P1252","v":"DWC"},{"$f":"'Bill of Materials'!C1252","v":"10128"},{"$f":"'Bill of Materials'!H1252","v":"LPX090"},null,null,null,0,{"$f":"'Bill of Materials'!J1252","v":"standard material"},{"$f":"'Bill of Materials'!K1252","v":"physical"},0]
[{"$f":"'Bill of Materials'!E1253+'Bill of Materials'!F1253","v":0},{"$f":"'Bill of Materials'!M1253","v":"EA"},{"$f":"'Bill of Materials'!G1253","v":"Inside Plant/Administration/Office Space Cisco 1242 AP Policarbonate Composite 14awg & Fiber Wireless Enclosure Kit (24\"h x 20\"w x 8\"d). Kit Includes Box, Back Plate, Machine Screws, 4 Port Surface Mount Box, ST Fiber Adapters, Lamicoid Tags, Terminal Blocks, End Barrier, Mounting Channel, End Anchor, Velcro, ST to MTRJ Patch Cord, (1) 3 Foot Violet Patch Cord, and Velcro Mounting Bracket. Knock Outs are Field Located by Contractor. Contractor Shall Provide 3/4\" and 2\" Insulated Grounding Bushing. "},{"$f":"'Bill of Materials'!L1253","v":"DWC"},{"$f":"'Bill of Materials'!N1253","v":560.20000000000005},{"$f":"'Bill of Materials'!P1253","v":"DWC"},{"$f":"'Bill of Materials'!C1253","v":"10142"},{"$f":"'Bill of Materials'!H1253","v":"PW24208-ISP-C-CF"},null,null,null,0,{"$f":"'Bill of Materials'!J1253","v":"standard material"},{"$f":"'Bill of Materials'!K1253","v":"physical"},0]
[{"$f":"'Bill of Materials'!E1254+'Bill of Materials'!F1254","v":0},{"$f":"'Bill of Materials'!M1254","v":"EA"},{"$f":"'Bill of Materials'!G1254","v":"Inside Plant/Administration/Office Space Cisco 1242 AP Policarbonate Composite 14awg & Fiber Wireless Enclosure Kit (24\"h x 20\"w x 8\"d). Kit Includes Box, Back Platupe, Machine Screws, 4 Port Surface Mount Box, ST Fiber Adapters, Cord Grip Connectors with Seal Rings and Lock Nut, Lamicoid Tags, Terminal Blocks, End Barrier, Mounting Channel, End Anchor, Velcro, 2.4 and 5.0 GHz Bulkhead Extension Cables, ST to MTRJ Patch Cord, (1) 3 Foot Violet Patch Cord, and Velcro Mounting Bracket. "},{"$f":"'Bill of Materials'!L1254","v":"DWC"},{"$f":"'Bill of Materials'!N1254","v":580.79999999999995},{"$f":"'Bill of Materials'!P1254","v":"DWC"},{"$f":"'Bill of Materials'!C1254","v":"10143"},{"$f":"'Bill of Materials'!H1254","v":"PW24208-ISP-CF"},null,null,null,0,{"$f":"'Bill of Materials'!J1254","v":"standard material"},{"$f":"'Bill of Materials'!K1254","v":"physical"},0]
[{"$f":"'Bill of Materials'!#REF!+'Bill of Materials'!#REF!","v":{"$error":"#REF!"}},{"$f":"'Bill of Materials'!#REF!","v":{"$error":"#REF!"}},{"$f":"'Bill of Materials'!#REF!","v":{"$error":"#REF!"}},{"$f":"'Bill of Materials'!#REF!","v":{"$error":"#REF!"}},{"$f":"'Bill of Materials'!#REF!","v":{"$error":"#REF!"}},{"$f":"'Bill of Materials'!#REF!","v":{"$error":"#REF!"}},{"$f":"'Bill of Materials'!#REF!","v":{"$error":"#REF!"}},{"$f":"'Bill of Materials'!#REF!","v":{"$error":"#REF!"}},null,null,null,{"$error":"#REF!"},{"$f":"'Bill of Materials'!#REF!","v":{"$error":"#REF!"}},{"$f":"'Bill of Materials'!#REF!","v":{"$error":"#REF!"}},{"$error":"#REF!"}]
[{"$f":"'Bill of Materials'!E1255+'Bill of Materials'!F1255","v":0},{"$f":"'Bill of Materials'!M1255","v":"EA"},{"$f":"'Bill of Materials'!G1255","v":"3M Rubber Mastic Sealing Tape, 2\"x3'"},{"$f":"'Bill of Materials'!L1255","v":"3M"},{"$f":"'Bill of Materials'!N1255","v":10.8},{"$f":"'Bill of Materials'!P1255","v":"DWC"},{"$f":"'Bill of Materials'!C1255","v":"10314"},{"$f":"'Bill of Materials'!H1255","v":"2228-2x3"},null,null,null,{"$f":"E1302*A1302","v":0},{"$f":"'Bill of Materials'!J1255","v":"standard material"},{"$f":"'Bill of Materials'!K1255","v":"physical"},{"$f":"IF(A1302>0,1,0)","v":0}]
[{"$f":"'Bill of Materials'!E1256+'Bill of Materials'!F1256","v":0},{"$f":"'Bill of Materials'!M1256","v":"EA"},{"$f":"'Bill of Materials'!G1256","v":"0-6 GHz Lightning Protector with RPTNC Plug to RPTNC Bulkhead Jack Connectors. Includes L Shaped Mounting Bracket"},{"$f":"'Bill of Materials'!L1256","v":"Tessco"},{"$f":"'Bill of Materials'!N1256","v":25.4},{"$f":"'Bill of Materials'!P1256","v":"DWC"},{"$f":"'Bill of Materials'!C1256","v":"10315"},{"$f":"'Bill of Materials'!H1256","v":"TW-LP-RPTNC-P-BHJ"},null,null,null,0,{"$f":"'Bill of Materials'!J1256","v":"standard material"},{"$f":"'Bill of Materials'!K1256","v":"physical"},0]
[{"$f":"'Bill of Materials'!#REF!+'Bill of Materials'!#REF!","v":{"$error":"#REF!"}},{"$f":"'Bill of Materials'!#REF!","v":{"$error":"#REF!"}},{"$f":"'Bill of Materials'!#REF!","v":{"$error":"#REF!"}},{"$f":"'Bill of Materials'!#REF!","v":{"$error":"#REF!"}},{"$f":"'Bill of Materials'!#REF!","v":{"$error":"#REF!"}},{"$f":"'Bill of Materials'!#REF!","v":{"$error":"#REF!"}},{"$f":"'Bill of Materials'!#REF!","v":{"$error":"#REF!"}},{"$f":"'Bill of Materials'!#REF!","v":{"$error":"#REF!"}},null,null,null,{"$error":"#REF!"},{"$f":"'Bill of Materials'!#REF!","v":{"$error":"#REF!"}},{"$f":"'Bill of Materials'!#REF!","v":{"$error":"#REF!"}},{"$error":"#REF!"}]
[{"$f":"'Bill of Materials'!#REF!+'Bill of Materials'!#REF!","v":{"$error":"#REF!"}},{"$f":"'Bill of Materials'!#REF!","v":{"$error":"#REF!"}},{"$f":"'Bill of Materials'!#REF!","v":{"$error":"#REF!"}},{"$f":"'Bill of Materials'!#REF!","v":{"$error":"#REF!"}},{"$f":"'Bill of Materials'!#REF!","v":{"$error":"#REF!"}},{"$f":"'Bill of Materials'!#REF!","v":{"$error":"#REF!"}},{"$f":"'Bill of Materials'!#REF!","v":{"$error":"#REF!"}},{"$f":"'Bill of Materials'!#REF!","v":{"$error":"#REF!"}},null,null,null,{"$error":"#REF!"},{"$f":"'Bill of Materials'!#REF!","v":{"$error":"#REF!"}},{"$f":"'Bill of Materials'!#REF!","v":{"$error":"#REF!"}},{"$error":"#REF!"}]
[{"$f":"'Bill of Materials'!#REF!+'Bill of Materials'!#REF!","v":{"$error":"#REF!"}},{"$f":"'Bill of Materials'!#REF!","v":{"$error":"#REF!"}},{"$f":"'Bill of Materials'!#REF!","v":{"$error":"#REF!"}},{"$f":"'Bill of Materials'!#REF!","v":{"$error":"#REF!"}},{"$f":"'Bill of Materials'!#REF!","v":{"$error":"#REF!"}},{"$f":"'Bill of Materials'!#REF!","v":{"$error":"#REF!"}},{"$f":"'Bill of Materials'!#REF!","v":{"$error":"#REF!"}},{"$f":"'Bill of Materials'!#REF!","v":{"$error":"#REF!"}},null,null,null,{"$error":"#REF!"},{"$f":"'Bill of Materials'!#REF!","v":{"$error":"#REF!"}},{"$f":"'Bill of Materials'!#REF!","v":{"$error":"#REF!"}},{"$error":"#REF!"}]
[{"$f":"'Bill of Materials'!E1258+'Bill of Materials'!F1258","v":0},{"$f":"'Bill of Materials'!M1258","v":"EA"},{"$f":"'Bill of Materials'!G1258","v":"2.4 GHz ANTENNA , 5.2 dBi OMNIDIRECTIONAL MAST MOUNT ANTENNA"},{"$f":"'Bill of Materials'!L1258","v":"Cisco"},{"$f":"'Bill of Materials'!N1258","v":126.08},{"$f":"'Bill of Materials'!P1258","v":"DWC"},{"$f":"'Bill of Materials'!C1258","v":"0010"},{"$f":"'Bill of Materials'!H1258","v":"AIR-ANT 2506"},null,null,null,0,{"$f":"'Bill of Materials'!J1258","v":"standard material"},{"$f":"'Bill of Materials'!K1258","v":"electronic"},0]
[{"$f":"'Bill of Materials'!#REF!+'Bill of Materials'!#REF!","v":{"$error":"#REF!"}},{"$f":"'Bill of Materials'!#REF!","v":{"$error":"#REF!"}},{"$f":"'Bill of Materials'!#REF!","v":{"$error":"#REF!"}},{"$f":"'Bill of Materials'!#REF!","v":{"$error":"#REF!"}},{"$f":"'Bill of Materials'!#REF!","v":{"$error":"#REF!"}},{"$f":"'Bill of Materials'!#REF!","v":{"$error":"#REF!"}},{"$f":"'Bill of Materials'!#REF!","v":{"$error":"#REF!"}},{"$f":"'Bill of Materials'!#REF!","v":{"$error":"#REF!"}},null,null,null,{"$error":"#REF!"},{"$f":"'Bill of Materials'!#REF!","v":{"$error":"#REF!"}},{"$f":"'Bill of Materials'!#REF!","v":{"$error":"#REF!"}},{"$error":"#REF!"}]
[{"$f":"'Bill of Materials'!E1259+'Bill of Materials'!F1259","v":0},{"$f":"'Bill of Materials'!M1259","v":"EA"},{"$f":"'Bill of Materials'!G1259","v":"Motorola 2 watt 2 channel radio"},{"$f":"'Bill of Materials'!L1259","v":"Motorola"},{"$f":"'Bill of Materials'!N1259","v":236.46},{"$f":"'Bill of Materials'!P1259","v":"HP"},{"$f":"'Bill of Materials'!C1259","v":"1120"},{"$f":"'Bill of Materials'!H1259","v":"XU2600"},null,null,null,0,{"$f":"'Bill of Materials'!J1259","v":"standard material"},{"$f":"'Bill of Materials'!K1259","v":"physical"},0]
[{"$f":"'Bill of Materials'!E1260+'Bill of Materials'!F1260","v":0},{"$f":"'Bill of Materials'!M1260","v":"EA"},{"$f":"'Bill of Materials'!G1260","v":"Motorola earpiece w/microphone for radio"},{"$f":"'Bill of Materials'!L1260","v":"Motorola"},{"$f":"'Bill of Materials'!N1260","v":53.12},{"$f":"'Bill of Materials'!P1260","v":"HP"},{"$f":"'Bill of Materials'!C1260","v":"1121"},{"$f":"'Bill of Materials'!H1260","v":"HMN9039"},null,null,null,0,{"$f":"'Bill of Materials'!J1260","v":"standard material"},{"$f":"'Bill of Materials'!K1260","v":"physical"},0]
[{"$f":"'Bill of Materials'!E1261+'Bill of Materials'!F1261","v":0},{"$f":"'Bill of Materials'!M1261","v":"EA"},{"$f":"'Bill of Materials'!G1261","v":"MSFC2 Memory Option 512 MB (Primary and Redundant MSFC's"},{"$f":"'Bill of Materials'!L1261","v":"Cisco"},{"$f":"'Bill of Materials'!N1261","v":0},{"$f":"'Bill of Materials'!P1261","v":"HP"},{"$f":"'Bill of Materials'!C1261","v":"8168"},{"$f":"'Bill of Materials'!H1261","v":"MEM-MSFC2-512MB"},null,null,null,{"$f":"E1311*A1311","v":0},{"$f":"'Bill of Materials'!J1261","v":"standard material"},{"$f":"'Bill of Materials'!K1261","v":"electronic"},{"$f":"IF(A1311>0,1,0)","v":0}]
[{"$f":"'Bill of Materials'!E1262+'Bill of Materials'!F1262","v":0},{"$f":"'Bill of Materials'!M1262","v":"EA"},{"$f":"'Bill of Materials'!G1262","v":"Catalyst 6506 Rack Mount Kit and Cable Organizer, Spare"},{"$f":"'Bill of Materials'!L1262","v":"Cisco"},{"$f":"'Bill of Materials'!N1262","v":38},{"$f":"'Bill of Materials'!P1262","v":"HP"},{"$f":"'Bill of Materials'!C1262","v":"8175"},{"$f":"'Bill of Materials'!H1262","v":"WS-C6X06-RACK="},null,null,null,0,{"$f":"'Bill of Materials'!J1262","v":"standard material"},{"$f":"'Bill of Materials'!K1262","v":"electronic"},0]
[{"$f":"'Bill of Materials'!E1263+'Bill of Materials'!F1263","v":0},{"$f":"'Bill of Materials'!M1263","v":"EA"},{"$f":"'Bill of Materials'!G1263","v":"Catalyst 6509 Rack Mount Kit and Cable Organizer, Spare"},{"$f":"'Bill of Materials'!L1263","v":"Cisco"},{"$f":"'Bill of Materials'!N1263","v":50},{"$f":"'Bill of Materials'!P1263","v":"HP"},{"$f":"'Bill of Materials'!C1263","v":"8176"},{"$f":"'Bill of Materials'!H1263","v":"WS-C6X09-RACK="},null,null,null,0,{"$f":"'Bill of Materials'!J1263","v":"standard material"},{"$f":"'Bill of Materials'!K1263","v":"electronic"},0]
[{"$f":"'Bill of Materials'!E1264+'Bill of Materials'!F1264","v":0},{"$f":"'Bill of Materials'!M1264","v":"EA"},{"$f":"'Bill of Materials'!G1264","v":"North America (nonlocking) 200-240V AC operation"},{"$f":"'Bill of Materials'!L1264","v":"Cisco"},{"$f":"'Bill of Materials'!N1264","v":20.25},{"$f":"'Bill of Materials'!P1264","v":"HP"},{"$f":"'Bill of Materials'!C1264","v":"8490"},{"$f":"'Bill of Materials'!H1264","v":"CAB-AC-2500W-US1="},null,null,null,0,{"$f":"'Bill of Materials'!J1264","v":"standard material"},{"$f":"'Bill of Materials'!K1264","v":"electronic"},0]
[{"$f":"'Bill of Materials'!E1265+'Bill of Materials'!F1265","v":0},{"$f":"'Bill of Materials'!M1265","v":"EA"},{"$f":"'Bill of Materials'!G1265","v":"1 RPS 675 connector cable 16/14"},{"$f":"'Bill of Materials'!L1265","v":"Cisco"},{"$f":"'Bill of Materials'!N1265","v":33.75},{"$f":"'Bill of Materials'!P1265","v":"HP"},{"$f":"'Bill of Materials'!C1265","v":"8498"},{"$f":"'Bill of Materials'!H1265","v":"CAB-RPS-1614="},null,null,null,0,{"$f":"'Bill of Materials'!J1265","v":"standard material"},{"$f":"'Bill of Materials'!K1265","v":"electronic"},0]
[{"$f":"'Bill of Materials'!E1266+'Bill of Materials'!F1266","v":0},{"$f":"'Bill of Materials'!M1266","v":"EA"},{"$f":"'Bill of Materials'!G1266","v":"1 Year Smartnet for 6509 8x5x4"},{"$f":"'Bill of Materials'!L1266","v":"Cisco"},{"$f":"'Bill of Materials'!N1266","v":5937.6},{"$f":"'Bill of Materials'!P1266","v":"HP"},{"$f":"'Bill of Materials'!C1266","v":"8510"},{"$f":"'Bill of Materials'!H1266","v":"CON-SNTE-WS-C6509"},null,null,null,0,{"$f":"'Bill of Materials'!J1266","v":"standard material"},{"$f":"'Bill of Materials'!K1266","v":"electronic"},0]
[{"$f":"'Bill of Materials'!E1267+'Bill of Materials'!F1267","v":0},{"$f":"'Bill of Materials'!M1267","v":"EA"},{"$f":"'Bill of Materials'!G1267","v":"1 Year Smartnet for 6506 8x5x4"},{"$f":"'Bill of Materials'!L1267","v":"Cisco"},{"$f":"'Bill of Materials'!N1267","v":4796.3999999999996},{"$f":"'Bill of Materials'!P1267","v":"HP"},{"$f":"'Bill of Materials'!C1267","v":"8513"},{"$f":"'Bill of Materials'!H1267","v":"CON-SNTE-WS-C6506"},null,null,null,0,{"$f":"'Bill of Materials'!J1267","v":"standard material"},{"$f":"'Bill of Materials'!K1267","v":"electronic"},0]
[{"$f":"'Bill of Materials'!E1268+'Bill of Materials'!F1268","v":0},{"$f":"'Bill of Materials'!M1268","v":"EA"},{"$f":"'Bill of Materials'!G1268","v":"1 Year Smartnet for 6513 8x5x4"},{"$f":"'Bill of Materials'!L1268","v":"Cisco"},{"$f":"'Bill of Materials'!N1268","v":8788.7999999999993},{"$f":"'Bill of Materials'!P1268","v":"HP"},{"$f":"'Bill of Materials'!C1268","v":"8520"},{"$f":"'Bill of Materials'!H1268","v":"CON-SNTE-WS-C6513"},null,null,null,0,{"$f":"'Bill of Materials'!J1268","v":"standard material"},{"$f":"'Bill of Materials'!K1268","v":"electronic"},0]
[{"$f":"'Bill of Materials'!E1269+'Bill of Materials'!F1269","v":0},{"$f":"'Bill of Materials'!M1269","v":"EA"},{"$f":"'Bill of Materials'!G1269","v":"SMARTNET 8X5XNBD Catalyst 3750 48 10/"},{"$f":"'Bill of Materials'!L1269","v":"Cisco"},{"$f":"'Bill of Materials'!N1269","v":402.6},{"$f":"'Bill of Materials'!P1269","v":"HP"},{"$f":"'Bill of Materials'!C1269","v":"8521"},{"$f":"'Bill of Materials'!H1269","v":"CON-SNT-375048PE"},null,null,null,0,{"$f":"'Bill of Materials'!J1269","v":"standard material"},{"$f":"'Bill of Materials'!K1269","v":"electronic"},0]
[{"$f":"'Bill of Materials'!E1270+'Bill of Materials'!F1270","v":0},{"$f":"'Bill of Materials'!M1270","v":"EA"},{"$f":"'Bill of Materials'!G1270","v":"1 Year Smartnet for 4507 8x5x4"},{"$f":"'Bill of Materials'!L1270","v":"Cisco"},{"$f":"'Bill of Materials'!N1270","v":2410.1999999999998},{"$f":"'Bill of Materials'!P1270","v":"HP"},{"$f":"'Bill of Materials'!C1270","v":"8522"},{"$f":"'Bill of Materials'!H1270","v":"CON-SNTE-WS-C4507"},null,null,null,0,{"$f":"'Bill of Materials'!J1270","v":"standard material"},{"$f":"'Bill of Materials'!K1270","v":"electronic"},0]
[{"$f":"'Bill of Materials'!E1271+'Bill of Materials'!F1271","v":0},{"$f":"'Bill of Materials'!M1271","v":"EA"},{"$f":"'Bill of Materials'!G1271","v":"1 Year Warranty Extension For UPS 2200/1500MXL"},{"$f":"'Bill of Materials'!L1271","v":"APC"},{"$f":"'Bill of Materials'!N1271","v":95.8},{"$f":"'Bill of Materials'!P1271","v":"DWC"},{"$f":"'Bill of Materials'!C1271","v":"8647"},{"$f":"'Bill of Materials'!H1271","v":"WEXTWAR1YR-SB-13"},null,null,null,0,{"$f":"'Bill of Materials'!J1271","v":"standard material"},{"$f":"'Bill of Materials'!K1271","v":"electronic"},0]
[{"$f":"'Bill of Materials'!E1272+'Bill of Materials'!F1272","v":0},{"$f":"'Bill of Materials'!M1272","v":"EA"},{"$f":"'Bill of Materials'!G1272","v":"Catalyst 6500 16-Port GigE Mod (Req. GBIC's)"},{"$f":"'Bill of Materials'!L1272","v":"Cisco"},{"$f":"'Bill of Materials'!N1272","v":6768},{"$f":"'Bill of Materials'!P1272","v":"HP"},{"$f":"'Bill of Materials'!C1272","v":"8712"},{"$f":"'Bill of Materials'!H1272","v":"WS-X6516-GBIC"},null,null,null,0,{"$f":"'Bill of Materials'!J1272","v":"standard material"},{"$f":"'Bill of Materials'!K1272","v":"electronic"},0]
[{"$f":"'Bill of Materials'!E1273+'Bill of Materials'!F1273","v":0},{"$f":"'Bill of Materials'!M1273","v":"EA"},{"$f":"'Bill of Materials'!G1273","v":"Cat6500 Sup2, ATA Type1 Flash Mem Card, 64 MB Option"},{"$f":"'Bill of Materials'!L1273","v":"Cisco"},{"$f":"'Bill of Materials'!N1273","v":160},{"$f":"'Bill of Materials'!P1273","v":"HP"},{"$f":"'Bill of Materials'!C1273","v":"8778"},{"$f":"'Bill of Materials'!H1273","v":"MEM-C6K-ATA-1-64M"},null,null,null,0,{"$f":"'Bill of Materials'!J1273","v":"standard material"},{"$f":"'Bill of Materials'!K1273","v":"electronic"},0]
[{"$f":"'Bill of Materials'!E1274+'Bill of Materials'!F1274","v":0},{"$f":"'Bill of Materials'!M1274","v":"EA"},{"$f":"'Bill of Materials'!G1274","v":"SUP720 COMPACT FLASH MEM 256MB"},{"$f":"'Bill of Materials'!L1274","v":"Cisco"},{"$f":"'Bill of Materials'!N1274","v":360},{"$f":"'Bill of Materials'!P1274","v":"HP"},{"$f":"'Bill of Materials'!C1274","v":"8805"},{"$f":"'Bill of Materials'!H1274","v":"MEM-C6K-CPTFL256M"},null,null,null,0,{"$f":"'Bill of Materials'!J1274","v":"standard material"},{"$f":"'Bill of Materials'!K1274","v":"electronic"},0]
[{"$f":"'Bill of Materials'!E1275+'Bill of Materials'!F1275","v":0},{"$f":"'Bill of Materials'!M1275","v":"EA"},{"$f":"'Bill of Materials'!G1275","v":"DC POWER SUPPLY 2500 Watt"},{"$f":"'Bill of Materials'!L1275","v":"Cisco"},{"$f":"'Bill of Materials'!N1275","v":2000},{"$f":"'Bill of Materials'!P1275","v":"HP"},{"$f":"'Bill of Materials'!C1275","v":"8817"},{"$f":"'Bill of Materials'!H1275","v":"WS-CDC-2500W"},null,null,null,0,{"$f":"'Bill of Materials'!J1275","v":"standard material"},{"$f":"'Bill of Materials'!K1275","v":"electronic"},0]
[{"$f":"'Bill of Materials'!E1276+'Bill of Materials'!F1276","v":0},{"$f":"'Bill of Materials'!M1276","v":"EA"},{"$f":"'Bill of Materials'!G1276","v":"Checkpoint VPN-1 Pro Gateway Unlimited"},{"$f":"'Bill of Materials'!L1276","v":"Nokia"},{"$f":"'Bill of Materials'!N1276","v":6222.49},{"$f":"'Bill of Materials'!P1276","v":"HP"},{"$f":"'Bill of Materials'!C1276","v":"8845"},{"$f":"'Bill of Materials'!H1276","v":"CPMP-VPG-U-NG"},null,null,null,0,{"$f":"'Bill of Materials'!J1276","v":"standard material"},{"$f":"'Bill of Materials'!K1276","v":"electronic"},0]
[{"$f":"'Bill of Materials'!E1277+'Bill of Materials'!F1277","v":0},{"$f":"'Bill of Materials'!M1277","v":"EA"},{"$f":"'Bill of Materials'!G1277","v":"Nokia IP-380 Base Systems"},{"$f":"'Bill of Materials'!L1277","v":"Nokia"},{"$f":"'Bill of Materials'!N1277","v":5565.22},{"$f":"'Bill of Materials'!P1277","v":"HP"},{"$f":"'Bill of Materials'!C1277","v":"8848"},{"$f":"'Bill of Materials'!H1277","v":"NBB3880000"},null,null,null,0,{"$f":"'Bill of Materials'!J1277","v":"standard material"},{"$f":"'Bill of Materials'!K1277","v":"electronic"},0]
[{"$f":"'Bill of Materials'!E1278+'Bill of Materials'!F1278","v":0},{"$f":"'Bill of Materials'!M1278","v":"EA"},{"$f":"'Bill of Materials'!G1278","v":"4400 Series WLAN Controller for up to 12 Cisco lightweight APs"},{"$f":"'Bill of Materials'!L1278","v":"Cisco"},{"$f":"'Bill of Materials'!N1278","v":0},{"$f":"'Bill of Materials'!P1278","v":"HP"},{"$f":"'Bill of Materials'!C1278","v":"8865"},{"$f":"'Bill of Materials'!H1278","v":"AIR-WLC4402-12-K9"},null,null,null,0,{"$f":"'Bill of Materials'!J1278","v":"standard material"},{"$f":"'Bill of Materials'!K1278","v":"electronic"},0]
[{"$f":"'Bill of Materials'!E1279+'Bill of Materials'!F1279","v":0},{"$f":"'Bill of Materials'!M1279","v":"EA"},{"$f":"'Bill of Materials'!G1279","v":"4400 Series WLAN Controller for up to 100 Lightweight APs"},{"$f":"'Bill of Materials'!L1279","v":"Cisco"},{"$f":"'Bill of Materials'!N1279","v":0},{"$f":"'Bill of Materials'!P1279","v":"HP"},{"$f":"'Bill of Materials'!C1279","v":"8866"},{"$f":"'Bill of Materials'!H1279","v":"AIR-WLC4404-100-K9"},null,null,null,0,{"$f":"'Bill of Materials'!J1279","v":"standard material"},{"$f":"'Bill of Materials'!K1279","v":"electronic"},0]
[{"$f":"'Bill of Materials'!E1280+'Bill of Materials'!F1280","v":0},{"$f":"'Bill of Materials'!M1280","v":"EA"},{"$f":"'Bill of Materials'!G1280","v":"4400 Series WLAN Controller AC Power Supply (redundant)"},{"$f":"'Bill of Materials'!L1280","v":"Cisco"},{"$f":"'Bill of Materials'!N1280","v":0},{"$f":"'Bill of Materials'!P1280","v":"HP"},{"$f":"'Bill of Materials'!C1280","v":"8867"},{"$f":"'Bill of Materials'!H1280","v":"AIR-PWR-4400-AC="},null,null,null,0,{"$f":"'Bill of Materials'!J1280","v":"standard material"},{"$f":"'Bill of Materials'!K1280","v":"electronic"},0]
[{"$f":"'Bill of Materials'!E1281+'Bill of Materials'!F1281","v":0},{"$f":"'Bill of Materials'!M1281","v":"EA"},{"$f":"'Bill of Materials'!G1281","v":"4400 Series WLAN Controller for up to 50 Lightweight APs"},{"$f":"'Bill of Materials'!L1281","v":"Cisco"},{"$f":"'Bill of Materials'!N1281","v":0},{"$f":"'Bill of Materials'!P1281","v":"HP"},{"$f":"'Bill of Materials'!C1281","v":"8875"},{"$f":"'Bill of Materials'!H1281","v":"AIR-WLC4402-50-K9"},null,null,null,0,{"$f":"'Bill of Materials'!J1281","v":"standard material"},{"$f":"'Bill of Materials'!K1281","v":"electronic"},0]
[{"$f":"'Bill of Materials'!E1282+'Bill of Materials'!F1282","v":0},{"$f":"'Bill of Materials'!M1282","v":"EA"},{"$f":"'Bill of Materials'!G1282","v":"4400 Series WLAN Controller for up to 25 Lightweight APs"},{"$f":"'Bill of Materials'!L1282","v":"Cisco"},{"$f":"'Bill of Materials'!N1282","v":0},{"$f":"'Bill of Materials'!P1282","v":"HP"},{"$f":"'Bill of Materials'!C1282","v":"8876"},{"$f":"'Bill of Materials'!H1282","v":"AIR-WLC4402-25-K9"},null,null,null,0,{"$f":"'Bill of Materials'!J1282","v":"standard material"},{"$f":"'Bill of Materials'!K1282","v":"electronic"},0]
[{"$f":"'Bill of Materials'!E1283+'Bill of Materials'!F1283","v":0},{"$f":"'Bill of Materials'!M1283","v":"EA"},{"$f":"'Bill of Materials'!G1283","v":"19\" Cable Manager w/ D Rings on end - 2RMS"},{"$f":"'Bill of Materials'!L1283","v":"Homaco"},{"$f":"'Bill of Materials'!N1283","v":36.380000000000003},{"$f":"'Bill of Materials'!P1283","v":"DWC"},{"$f":"'Bill of Materials'!C1283","v":"INFO-2362"},{"$f":"'Bill of Materials'!H1283","v":"FCM-19-2DXL"},null,null,null,0,{"$f":"'Bill of Materials'!J1283","v":"standard material"},{"$f":"'Bill of Materials'!K1283","v":"horizontal"},0]
[{"$f":"'Bill of Materials'!#REF!+'Bill of Materials'!#REF!","v":{"$error":"#REF!"}},{"$f":"'Bill of Materials'!#REF!","v":{"$error":"#REF!"}},{"$f":"'Bill of Materials'!#REF!","v":{"$error":"#REF!"}},{"$f":"'Bill of Materials'!#REF!","v":{"$error":"#REF!"}},{"$f":"'Bill of Materials'!#REF!","v":{"$error":"#REF!"}},{"$f":"'Bill of Materials'!#REF!","v":{"$error":"#REF!"}},{"$f":"'Bill of Materials'!#REF!","v":{"$error":"#REF!"}},{"$f":"'Bill of Materials'!#REF!","v":{"$error":"#REF!"}},null,null,null,{"$error":"#REF!"},{"$f":"'Bill of Materials'!#REF!","v":{"$error":"#REF!"}},{"$f":"'Bill of Materials'!#REF!","v":{"$error":"#REF!"}},{"$error":"#REF!"}]
[{"$f":"'Bill of Materials'!E1288+'Bill of Materials'!F1288","v":0},{"$f":"'Bill of Materials'!M1288","v":0},{"$f":"'Bill of Materials'!G1288","v":0},{"$f":"'Bill of Materials'!L1288","v":0},{"$f":"'Bill of Materials'!N1288","v":0},{"$f":"'Bill of Materials'!P1288","v":0},{"$f":"'Bill of Materials'!C1288","v":0},{"$f":"'Bill of Materials'!H1288","v":0},null,null,null,0,{"$f":"'Bill of Materials'!J1288","v":0},{"$f":"'Bill of Materials'!K1288","v":0},0]
[{"$f":"'Bill of Materials'!E1289+'Bill of Materials'!F1289","v":0},{"$f":"'Bill of Materials'!M1289","v":0},{"$f":"'Bill of Materials'!G1289","v":0},{"$f":"'Bill of Materials'!L1289","v":0},{"$f":"'Bill of Materials'!N1289","v":0},{"$f":"'Bill of Materials'!P1289","v":0},{"$f":"'Bill of Materials'!C1289","v":0},{"$f":"'Bill of Materials'!H1289","v":0},null,null,null,0,{"$f":"'Bill of Materials'!J1289","v":0},{"$f":"'Bill of Materials'!K1289","v":0},0]
[{"$f":"'Bill of Materials'!E1290+'Bill of Materials'!F1290","v":0},{"$f":"'Bill of Materials'!M1290","v":0},{"$f":"'Bill of Materials'!G1290","v":0},{"$f":"'Bill of Materials'!L1290","v":0},{"$f":"'Bill of Materials'!N1290","v":0},{"$f":"'Bill of Materials'!P1290","v":0},{"$f":"'Bill of Materials'!C1290","v":0},{"$f":"'Bill of Materials'!H1290","v":0},null,null,null,0,{"$f":"'Bill of Materials'!J1290","v":0},{"$f":"'Bill of Materials'!K1290","v":0},0]
[{"$f":"'Bill of Materials'!E1291+'Bill of Materials'!F1291","v":0},{"$f":"'Bill of Materials'!M1291","v":0},{"$f":"'Bill of Materials'!G1291","v":0},{"$f":"'Bill of Materials'!L1291","v":0},{"$f":"'Bill of Materials'!N1291","v":0},{"$f":"'Bill of Materials'!P1291","v":0},{"$f":"'Bill of Materials'!C1291","v":0},{"$f":"'Bill of Materials'!H1291","v":0},null,null,null,0,{"$f":"'Bill of Materials'!J1291","v":0},{"$f":"'Bill of Materials'!K1291","v":0},0]
[{"$f":"'Bill of Materials'!E1292+'Bill of Materials'!F1292","v":0},{"$f":"'Bill of Materials'!M1292","v":0},{"$f":"'Bill of Materials'!G1292","v":0},{"$f":"'Bill of Materials'!L1292","v":0},{"$f":"'Bill of Materials'!N1292","v":0},{"$f":"'Bill of Materials'!P1292","v":0},{"$f":"'Bill of Materials'!C1292","v":0},{"$f":"'Bill of Materials'!H1292","v":0},null,null,null,0,{"$f":"'Bill of Materials'!J1292","v":0},{"$f":"'Bill of Materials'!K1292","v":0},0]
[{"$f":"'Bill of Materials'!E1293+'Bill of Materials'!F1293","v":0},{"$f":"'Bill of Materials'!M1293","v":0},{"$f":"'Bill of Materials'!G1293","v":0},{"$f":"'Bill of Materials'!L1293","v":0},{"$f":"'Bill of Materials'!N1293","v":0},{"$f":"'Bill of Materials'!P1293","v":0},{"$f":"'Bill of Materials'!C1293","v":0},{"$f":"'Bill of Materials'!H1293","v":0},null,null,null,0,{"$f":"'Bill of Materials'!J1293","v":0},{"$f":"'Bill of Materials'!K1293","v":0},0]
[{"$f":"'Bill of Materials'!E1294+'Bill of Materials'!F1294","v":0},{"$f":"'Bill of Materials'!M1294","v":0},{"$f":"'Bill of Materials'!G1294","v":0},{"$f":"'Bill of Materials'!L1294","v":0},{"$f":"'Bill of Materials'!N1294","v":0},{"$f":"'Bill of Materials'!P1294","v":0},{"$f":"'Bill of Materials'!C1294","v":0},{"$f":"'Bill of Materials'!H1294","v":0},null,null,null,0,{"$f":"'Bill of Materials'!J1294","v":0},{"$f":"'Bill of Materials'!K1294","v":0},0]
[{"$f":"'Bill of Materials'!E1295+'Bill of Materials'!F1295","v":0},{"$f":"'Bill of Materials'!M1295","v":0},{"$f":"'Bill of Materials'!G1295","v":0},{"$f":"'Bill of Materials'!L1295","v":0},{"$f":"'Bill of Materials'!N1295","v":0},{"$f":"'Bill of Materials'!P1295","v":0},{"$f":"'Bill of Materials'!C1295","v":0},{"$f":"'Bill of Materials'!H1295","v":0},null,null,null,0,{"$f":"'Bill of Materials'!J1295","v":0},{"$f":"'Bill of Materials'!K1295","v":0},0]
[{"$f":"'Bill of Materials'!E1296+'Bill of Materials'!F1296","v":0},{"$f":"'Bill of Materials'!M1296","v":0},{"$f":"'Bill of Materials'!G1296","v":0},{"$f":"'Bill of Materials'!L1296","v":0},{"$f":"'Bill of Materials'!N1296","v":0},{"$f":"'Bill of Materials'!P1296","v":0},{"$f":"'Bill of Materials'!C1296","v":0},{"$f":"'Bill of Materials'!H1296","v":0},null,null,null,0,{"$f":"'Bill of Materials'!J1296","v":0},{"$f":"'Bill of Materials'!K1296","v":0},0]
[{"$f":"'Bill of Materials'!E1297+'Bill of Materials'!F1297","v":0},{"$f":"'Bill of Materials'!M1297","v":0},{"$f":"'Bill of Materials'!G1297","v":0},{"$f":"'Bill of Materials'!L1297","v":0},{"$f":"'Bill of Materials'!N1297","v":0},{"$f":"'Bill of Materials'!P1297","v":0},{"$f":"'Bill of Materials'!C1297","v":0},{"$f":"'Bill of Materials'!H1297","v":0},null,null,null,0,{"$f":"'Bill of Materials'!J1297","v":0},{"$f":"'Bill of Materials'!K1297","v":0},0]
[{"$f":"'Bill of Materials'!E1298+'Bill of Materials'!F1298","v":0},{"$f":"'Bill of Materials'!M1298","v":0},{"$f":"'Bill of Materials'!G1298","v":0},{"$f":"'Bill of Materials'!L1298","v":0},{"$f":"'Bill of Materials'!N1298","v":0},{"$f":"'Bill of Materials'!P1298","v":0},{"$f":"'Bill of Materials'!C1298","v":0},{"$f":"'Bill of Materials'!H1298","v":0},null,null,null,0,{"$f":"'Bill of Materials'!J1298","v":0},{"$f":"'Bill of Materials'!K1298","v":0},0]
[{"$f":"'Bill of Materials'!E1299+'Bill of Materials'!F1299","v":0},{"$f":"'Bill of Materials'!M1299","v":0},{"$f":"'Bill of Materials'!G1299","v":0},{"$f":"'Bill of Materials'!L1299","v":0},{"$f":"'Bill of Materials'!N1299","v":0},{"$f":"'Bill of Materials'!P1299","v":0},{"$f":"'Bill of Materials'!C1299","v":0},{"$f":"'Bill of Materials'!H1299","v":0},null,null,null,0,{"$f":"'Bill of Materials'!J1299","v":0},{"$f":"'Bill of Materials'!K1299","v":0},0]
[{"$f":"'Bill of Materials'!E1300+'Bill of Materials'!F1300","v":0},{"$f":"'Bill of Materials'!M1300","v":0},{"$f":"'Bill of Materials'!G1300","v":0},{"$f":"'Bill of Materials'!L1300","v":0},{"$f":"'Bill of Materials'!N1300","v":0},{"$f":"'Bill of Materials'!P1300","v":0},{"$f":"'Bill of Materials'!C1300","v":0},{"$f":"'Bill of Materials'!H1300","v":0},null,null,null,0,{"$f":"'Bill of Materials'!J1300","v":0},{"$f":"'Bill of Materials'!K1300","v":0},0]
[{"$f":"'Bill of Materials'!E1301+'Bill of Materials'!F1301","v":0},{"$f":"'Bill of Materials'!M1301","v":0},{"$f":"'Bill of Materials'!G1301","v":0},{"$f":"'Bill of Materials'!L1301","v":0},{"$f":"'Bill of Materials'!N1301","v":0},{"$f":"'Bill of Materials'!P1301","v":0},{"$f":"'Bill of Materials'!C1301","v":0},{"$f":"'Bill of Materials'!H1301","v":0},null,null,null,0,{"$f":"'Bill of Materials'!J1301","v":0},{"$f":"'Bill of Materials'!K1301","v":0},0]
[{"$f":"'Bill of Materials'!E1302+'Bill of Materials'!F1302","v":0},{"$f":"'Bill of Materials'!M1302","v":0},{"$f":"'Bill of Materials'!G1302","v":0},{"$f":"'Bill of Materials'!L1302","v":0},{"$f":"'Bill of Materials'!N1302","v":0},{"$f":"'Bill of Materials'!P1302","v":0},{"$f":"'Bill of Materials'!C1302","v":0},{"$f":"'Bill of Materials'!H1302","v":0},null,null,null,0,{"$f":"'Bill of Materials'!J1302","v":0},{"$f":"'Bill of Materials'!K1302","v":0},0]
[{"$f":"'Bill of Materials'!E1303+'Bill of Materials'!F1303","v":0},{"$f":"'Bill of Materials'!M1303","v":0},{"$f":"'Bill of Materials'!G1303","v":0},{"$f":"'Bill of Materials'!L1303","v":0},{"$f":"'Bill of Materials'!N1303","v":0},{"$f":"'Bill of Materials'!P1303","v":0},{"$f":"'Bill of Materials'!C1303","v":0},{"$f":"'Bill of Materials'!H1303","v":0},null,null,null,0,{"$f":"'Bill of Materials'!J1303","v":0},{"$f":"'Bill of Materials'!K1303","v":0},0]
[{"$f":"'Bill of Materials'!E1304+'Bill of Materials'!F1304","v":0},{"$f":"'Bill of Materials'!M1304","v":0},{"$f":"'Bill of Materials'!G1304","v":0},{"$f":"'Bill of Materials'!L1304","v":0},{"$f":"'Bill of Materials'!N1304","v":0},{"$f":"'Bill of Materials'!P1304","v":0},{"$f":"'Bill of Materials'!C1304","v":0},{"$f":"'Bill of Materials'!H1304","v":0},null,null,null,0,{"$f":"'Bill of Materials'!J1304","v":0},{"$f":"'Bill of Materials'!K1304","v":0},0]
[{"$f":"'Bill of Materials'!E1305+'Bill of Materials'!F1305","v":0},{"$f":"'Bill of Materials'!M1305","v":0},{"$f":"'Bill of Materials'!G1305","v":0},{"$f":"'Bill of Materials'!L1305","v":0},{"$f":"'Bill of Materials'!N1305","v":0},{"$f":"'Bill of Materials'!P1305","v":0},{"$f":"'Bill of Materials'!C1305","v":0},{"$f":"'Bill of Materials'!H1305","v":0},null,null,null,0,{"$f":"'Bill of Materials'!J1305","v":0},{"$f":"'Bill of Materials'!K1305","v":0},0]
[{"$f":"'Bill of Materials'!E1306+'Bill of Materials'!F1306","v":0},{"$f":"'Bill of Materials'!M1306","v":0},{"$f":"'Bill of Materials'!G1306","v":0},{"$f":"'Bill of Materials'!L1306","v":0},{"$f":"'Bill of Materials'!N1306","v":0},{"$f":"'Bill of Materials'!P1306","v":0},{"$f":"'Bill of Materials'!C1306","v":0},{"$f":"'Bill of Materials'!H1306","v":0},null,null,null,0,{"$f":"'Bill of Materials'!J1306","v":0},{"$f":"'Bill of Materials'!K1306","v":0},0]
[{"$f":"'Bill of Materials'!E1307+'Bill of Materials'!F1307","v":0},{"$f":"'Bill of Materials'!M1307","v":0},{"$f":"'Bill of Materials'!G1307","v":0},{"$f":"'Bill of Materials'!L1307","v":0},{"$f":"'Bill of Materials'!N1307","v":0},{"$f":"'Bill of Materials'!P1307","v":0},{"$f":"'Bill of Materials'!C1307","v":0},{"$f":"'Bill of Materials'!H1307","v":0},null,null,null,0,{"$f":"'Bill of Materials'!J1307","v":0},{"$f":"'Bill of Materials'!K1307","v":0},0]
[{"$f":"'Bill of Materials'!E1308+'Bill of Materials'!F1308","v":0},{"$f":"'Bill of Materials'!M1308","v":0},{"$f":"'Bill of Materials'!G1308","v":0},{"$f":"'Bill of Materials'!L1308","v":0},{"$f":"'Bill of Materials'!N1308","v":0},{"$f":"'Bill of Materials'!P1308","v":0},{"$f":"'Bill of Materials'!C1308","v":0},{"$f":"'Bill of Materials'!H1308","v":0},null,null,null,0,{"$f":"'Bill of Materials'!J1308","v":0},{"$f":"'Bill of Materials'!K1308","v":0},0]
[{"$f":"'Bill of Materials'!E1309+'Bill of Materials'!F1309","v":0},{"$f":"'Bill of Materials'!M1309","v":0},{"$f":"'Bill of Materials'!G1309","v":0},{"$f":"'Bill of Materials'!L1309","v":0},{"$f":"'Bill of Materials'!N1309","v":0},{"$f":"'Bill of Materials'!P1309","v":0},{"$f":"'Bill of Materials'!C1309","v":0},{"$f":"'Bill of Materials'!H1309","v":0},null,null,null,0,{"$f":"'Bill of Materials'!J1309","v":0},{"$f":"'Bill of Materials'!K1309","v":0},0]
[{"$f":"'Bill of Materials'!E1310+'Bill of Materials'!F1310","v":0},{"$f":"'Bill of Materials'!M1310","v":0},{"$f":"'Bill of Materials'!G1310","v":0},{"$f":"'Bill of Materials'!L1310","v":0},{"$f":"'Bill of Materials'!N1310","v":0},{"$f":"'Bill of Materials'!P1310","v":0},{"$f":"'Bill of Materials'!C1310","v":0},{"$f":"'Bill of Materials'!H1310","v":0},null,null,null,0,{"$f":"'Bill of Materials'!J1310","v":0},{"$f":"'Bill of Materials'!K1310","v":0},0]
[{"$f":"'Bill of Materials'!E1311+'Bill of Materials'!F1311","v":0},{"$f":"'Bill of Materials'!M1311","v":0},{"$f":"'Bill of Materials'!G1311","v":0},{"$f":"'Bill of Materials'!L1311","v":0},{"$f":"'Bill of Materials'!N1311","v":0},{"$f":"'Bill of Materials'!P1311","v":0},{"$f":"'Bill of Materials'!C1311","v":0},{"$f":"'Bill of Materials'!H1311","v":0},null,null,null,0,{"$f":"'Bill of Materials'!J1311","v":0},{"$f":"'Bill of Materials'!K1311","v":0},0]
[{"$f":"'Bill of Materials'!E1312+'Bill of Materials'!F1312","v":0},{"$f":"'Bill of Materials'!M1312","v":0},{"$f":"'Bill of Materials'!G1312","v":0},{"$f":"'Bill of Materials'!L1312","v":0},{"$f":"'Bill of Materials'!N1312","v":0},{"$f":"'Bill of Materials'!P1312","v":0},{"$f":"'Bill of Materials'!C1312","v":0},{"$f":"'Bill of Materials'!H1312","v":0},null,null,null,0,{"$f":"'Bill of Materials'!J1312","v":0},{"$f":"'Bill of Materials'!K1312","v":0},0]
[{"$f":"'Bill of Materials'!E1313+'Bill of Materials'!F1313","v":0},{"$f":"'Bill of Materials'!M1313","v":0},{"$f":"'Bill of Materials'!G1313","v":0},{"$f":"'Bill of Materials'!L1313","v":0},{"$f":"'Bill of Materials'!N1313","v":0},{"$f":"'Bill of Materials'!P1313","v":0},{"$f":"'Bill of Materials'!C1313","v":0},{"$f":"'Bill of Materials'!H1313","v":0},null,null,null,0,{"$f":"'Bill of Materials'!J1313","v":0},{"$f":"'Bill of Materials'!K1313","v":0},0]
[{"$f":"'Bill of Materials'!E1314+'Bill of Materials'!F1314","v":0},{"$f":"'Bill of Materials'!M1314","v":0},{"$f":"'Bill of Materials'!G1314","v":0},{"$f":"'Bill of Materials'!L1314","v":0},{"$f":"'Bill of Materials'!N1314","v":0},{"$f":"'Bill of Materials'!P1314","v":0},{"$f":"'Bill of Materials'!C1314","v":0},{"$f":"'Bill of Materials'!H1314","v":0},null,null,null,0,{"$f":"'Bill of Materials'!J1314","v":0},{"$f":"'Bill of Materials'!K1314","v":0},0]
[{"$f":"'Bill of Materials'!E1315+'Bill of Materials'!F1315","v":0},{"$f":"'Bill of Materials'!M1315","v":0},{"$f":"'Bill of Materials'!G1315","v":0},{"$f":"'Bill of Materials'!L1315","v":0},{"$f":"'Bill of Materials'!N1315","v":0},{"$f":"'Bill of Materials'!P1315","v":0},{"$f":"'Bill of Materials'!C1315","v":0},{"$f":"'Bill of Materials'!H1315","v":0},null,null,null,0,{"$f":"'Bill of Materials'!J1315","v":0},{"$f":"'Bill of Materials'!K1315","v":0},0]
[{"$f":"'Bill of Materials'!E1316+'Bill of Materials'!F1316","v":0},{"$f":"'Bill of Materials'!M1316","v":0},{"$f":"'Bill of Materials'!G1316","v":0},{"$f":"'Bill of Materials'!L1316","v":0},{"$f":"'Bill of Materials'!N1316","v":0},{"$f":"'Bill of Materials'!P1316","v":0},{"$f":"'Bill of Materials'!C1316","v":0},{"$f":"'Bill of Materials'!H1316","v":0},null,null,null,0,{"$f":"'Bill of Materials'!J1316","v":0},{"$f":"'Bill of Materials'!K1316","v":0},0]
[{"$f":"'Bill of Materials'!E1317+'Bill of Materials'!F1317","v":0},{"$f":"'Bill of Materials'!M1317","v":0},{"$f":"'Bill of Materials'!G1317","v":0},{"$f":"'Bill of Materials'!L1317","v":0},{"$f":"'Bill of Materials'!N1317","v":0},{"$f":"'Bill of Materials'!P1317","v":0},{"$f":"'Bill of Materials'!C1317","v":0},{"$f":"'Bill of Materials'!H1317","v":0},null,null,null,0,{"$f":"'Bill of Materials'!J1317","v":0},{"$f":"'Bill of Materials'!K1317","v":0},0]
[{"$f":"'Bill of Materials'!E1318+'Bill of Materials'!F1318","v":0},{"$f":"'Bill of Materials'!M1318","v":0},{"$f":"'Bill of Materials'!G1318","v":0},{"$f":"'Bill of Materials'!L1318","v":0},{"$f":"'Bill of Materials'!N1318","v":0},{"$f":"'Bill of Materials'!P1318","v":0},{"$f":"'Bill of Materials'!C1318","v":0},{"$f":"'Bill of Materials'!H1318","v":0},null,null,null,0,{"$f":"'Bill of Materials'!J1318","v":0},{"$f":"'Bill of Materials'!K1318","v":0},0]
[{"$f":"'Bill of Materials'!E1319+'Bill of Materials'!F1319","v":0},{"$f":"'Bill of Materials'!M1319","v":0},{"$f":"'Bill of Materials'!G1319","v":0},{"$f":"'Bill of Materials'!L1319","v":0},{"$f":"'Bill of Materials'!N1319","v":0},{"$f":"'Bill of Materials'!P1319","v":0},{"$f":"'Bill of Materials'!C1319","v":0},{"$f":"'Bill of Materials'!H1319","v":0},null,null,null,0,{"$f":"'Bill of Materials'!J1319","v":0},{"$f":"'Bill of Materials'!K1319","v":0},0]
[{"$f":"'Bill of Materials'!E1320+'Bill of Materials'!F1320","v":0},{"$f":"'Bill of Materials'!M1320","v":0},{"$f":"'Bill of Materials'!G1320","v":0},{"$f":"'Bill of Materials'!L1320","v":0},{"$f":"'Bill of Materials'!N1320","v":0},{"$f":"'Bill of Materials'!P1320","v":0},{"$f":"'Bill of Materials'!C1320","v":0},{"$f":"'Bill of Materials'!H1320","v":0},null,null,null,0,{"$f":"'Bill of Materials'!J1320","v":0},{"$f":"'Bill of Materials'!K1320","v":0},0]
[{"$f":"'Bill of Materials'!E1321+'Bill of Materials'!F1321","v":0},{"$f":"'Bill of Materials'!M1321","v":0},{"$f":"'Bill of Materials'!G1321","v":0},{"$f":"'Bill of Materials'!L1321","v":0},{"$f":"'Bill of Materials'!N1321","v":0},{"$f":"'Bill of Materials'!P1321","v":0},{"$f":"'Bill of Materials'!C1321","v":0},{"$f":"'Bill of Materials'!H1321","v":0},null,null,null,0,{"$f":"'Bill of Materials'!J1321","v":0},{"$f":"'Bill of Materials'!K1321","v":0},0]
[{"$f":"'Bill of Materials'!E1322+'Bill of Materials'!F1322","v":0},{"$f":"'Bill of Materials'!M1322","v":0},{"$f":"'Bill of Materials'!G1322","v":0},{"$f":"'Bill of Materials'!L1322","v":0},{"$f":"'Bill of Materials'!N1322","v":0},{"$f":"'Bill of Materials'!P1322","v":0},{"$f":"'Bill of Materials'!C1322","v":0},{"$f":"'Bill of Materials'!H1322","v":0},null,null,null,0,{"$f":"'Bill of Materials'!J1322","v":0},{"$f":"'Bill of Materials'!K1322","v":0},0]
[{"$f":"'Bill of Materials'!E1323+'Bill of Materials'!F1323","v":0},{"$f":"'Bill of Materials'!M1323","v":0},{"$f":"'Bill of Materials'!G1323","v":0},{"$f":"'Bill of Materials'!L1323","v":0},{"$f":"'Bill of Materials'!N1323","v":0},{"$f":"'Bill of Materials'!P1323","v":0},{"$f":"'Bill of Materials'!C1323","v":0},{"$f":"'Bill of Materials'!H1323","v":0},null,null,null,0,{"$f":"'Bill of Materials'!J1323","v":0},{"$f":"'Bill of Materials'!K1323","v":0},0]
[{"$f":"'Bill of Materials'!E1324+'Bill of Materials'!F1324","v":0},{"$f":"'Bill of Materials'!M1324","v":0},{"$f":"'Bill of Materials'!G1324","v":0},{"$f":"'Bill of Materials'!L1324","v":0},{"$f":"'Bill of Materials'!N1324","v":0},{"$f":"'Bill of Materials'!P1324","v":0},{"$f":"'Bill of Materials'!C1324","v":0},{"$f":"'Bill of Materials'!H1324","v":0},null,null,null,0,{"$f":"'Bill of Materials'!J1324","v":0},{"$f":"'Bill of Materials'!K1324","v":0},0]
[{"$f":"'Bill of Materials'!E1325+'Bill of Materials'!F1325","v":0},{"$f":"'Bill of Materials'!M1325","v":0},{"$f":"'Bill of Materials'!G1325","v":0},{"$f":"'Bill of Materials'!L1325","v":0},{"$f":"'Bill of Materials'!N1325","v":0},{"$f":"'Bill of Materials'!P1325","v":0},{"$f":"'Bill of Materials'!C1325","v":0},{"$f":"'Bill of Materials'!H1325","v":0},null,null,null,0,{"$f":"'Bill of Materials'!J1325","v":0},{"$f":"'Bill of Materials'!K1325","v":0},0]
[{"$f":"'Bill of Materials'!E1326+'Bill of Materials'!F1326","v":0},{"$f":"'Bill of Materials'!M1326","v":0},{"$f":"'Bill of Materials'!G1326","v":0},{"$f":"'Bill of Materials'!L1326","v":0},{"$f":"'Bill of Materials'!N1326","v":0},{"$f":"'Bill of Materials'!P1326","v":0},{"$f":"'Bill of Materials'!C1326","v":0},{"$f":"'Bill of Materials'!H1326","v":0},null,null,null,0,{"$f":"'Bill of Materials'!J1326","v":0},{"$f":"'Bill of Materials'!K1326","v":0},0]
[{"$f":"'Bill of Materials'!E1327+'Bill of Materials'!F1327","v":0},{"$f":"'Bill of Materials'!M1327","v":0},{"$f":"'Bill of Materials'!G1327","v":0},{"$f":"'Bill of Materials'!L1327","v":0},{"$f":"'Bill of Materials'!N1327","v":0},{"$f":"'Bill of Materials'!P1327","v":0},{"$f":"'Bill of Materials'!C1327","v":0},{"$f":"'Bill of Materials'!H1327","v":0},null,null,null,0,{"$f":"'Bill of Materials'!J1327","v":0},{"$f":"'Bill of Materials'!K1327","v":0},0]
[{"$f":"'Bill of Materials'!E1328+'Bill of Materials'!F1328","v":0},{"$f":"'Bill of Materials'!M1328","v":0},{"$f":"'Bill of Materials'!G1328","v":0},{"$f":"'Bill of Materials'!L1328","v":0},{"$f":"'Bill of Materials'!N1328","v":0},{"$f":"'Bill of Materials'!P1328","v":0},{"$f":"'Bill of Materials'!C1328","v":0},{"$f":"'Bill of Materials'!H1328","v":0},null,null,null,{"$f":"E1375*A1375","v":0},{"$f":"'Bill of Materials'!J1328","v":0},{"$f":"'Bill of Materials'!K1328","v":0},{"$f":"IF(A1375>0,1,0)","v":0}]
[{"$f":"'Bill of Materials'!E1329+'Bill of Materials'!F1329","v":0},{"$f":"'Bill of Materials'!M1329","v":0},{"$f":"'Bill of Materials'!G1329","v":0},{"$f":"'Bill of Materials'!L1329","v":0},{"$f":"'Bill of Materials'!N1329","v":0},{"$f":"'Bill of Materials'!P1329","v":0},{"$f":"'Bill of Materials'!C1329","v":0},{"$f":"'Bill of Materials'!H1329","v":0},null,null,null,0,{"$f":"'Bill of Materials'!J1329","v":0},{"$f":"'Bill of Materials'!K1329","v":0},0]
[{"$f":"'Bill of Materials'!E1330+'Bill of Materials'!F1330","v":0},{"$f":"'Bill of Materials'!M1330","v":0},{"$f":"'Bill of Materials'!G1330","v":0},{"$f":"'Bill of Materials'!L1330","v":0},{"$f":"'Bill of Materials'!N1330","v":0},{"$f":"'Bill of Materials'!P1330","v":0},{"$f":"'Bill of Materials'!C1330","v":0},{"$f":"'Bill of Materials'!H1330","v":0},null,null,null,0,{"$f":"'Bill of Materials'!J1330","v":0},{"$f":"'Bill of Materials'!K1330","v":0},0]
[{"$f":"'Bill of Materials'!E1331+'Bill of Materials'!F1331","v":0},{"$f":"'Bill of Materials'!M1331","v":0},{"$f":"'Bill of Materials'!G1331","v":0},{"$f":"'Bill of Materials'!L1331","v":0},{"$f":"'Bill of Materials'!N1331","v":0},{"$f":"'Bill of Materials'!P1331","v":0},{"$f":"'Bill of Materials'!C1331","v":0},{"$f":"'Bill of Materials'!H1331","v":0},null,null,null,0,{"$f":"'Bill of Materials'!J1331","v":0},{"$f":"'Bill of Materials'!K1331","v":0},0]
[{"$f":"'Bill of Materials'!E1332+'Bill of Materials'!F1332","v":0},{"$f":"'Bill of Materials'!M1332","v":0},{"$f":"'Bill of Materials'!G1332","v":0},{"$f":"'Bill of Materials'!L1332","v":0},{"$f":"'Bill of Materials'!N1332","v":0},{"$f":"'Bill of Materials'!P1332","v":0},{"$f":"'Bill of Materials'!C1332","v":0},{"$f":"'Bill of Materials'!H1332","v":0},null,null,null,0,{"$f":"'Bill of Materials'!J1332","v":0},{"$f":"'Bill of Materials'!K1332","v":0},0]
[{"$f":"'Bill of Materials'!E1333+'Bill of Materials'!F1333","v":0},{"$f":"'Bill of Materials'!M1333","v":0},{"$f":"'Bill of Materials'!G1333","v":0},{"$f":"'Bill of Materials'!L1333","v":0},{"$f":"'Bill of Materials'!N1333","v":0},{"$f":"'Bill of Materials'!P1333","v":0},{"$f":"'Bill of Materials'!C1333","v":0},{"$f":"'Bill of Materials'!H1333","v":0},null,null,null,0,{"$f":"'Bill of Materials'!J1333","v":0},{"$f":"'Bill of Materials'!K1333","v":0},0]
[{"$f":"'Bill of Materials'!E1334+'Bill of Materials'!F1334","v":0},{"$f":"'Bill of Materials'!M1334","v":0},{"$f":"'Bill of Materials'!G1334","v":0},{"$f":"'Bill of Materials'!L1334","v":0},{"$f":"'Bill of Materials'!N1334","v":0},{"$f":"'Bill of Materials'!P1334","v":0},{"$f":"'Bill of Materials'!C1334","v":0},{"$f":"'Bill of Materials'!H1334","v":0},null,null,null,0,{"$f":"'Bill of Materials'!J1334","v":0},{"$f":"'Bill of Materials'!K1334","v":0},0]
[{"$f":"'Bill of Materials'!E1335+'Bill of Materials'!F1335","v":0},{"$f":"'Bill of Materials'!M1335","v":0},{"$f":"'Bill of Materials'!G1335","v":0},{"$f":"'Bill of Materials'!L1335","v":0},{"$f":"'Bill of Materials'!N1335","v":0},{"$f":"'Bill of Materials'!P1335","v":0},{"$f":"'Bill of Materials'!C1335","v":0},{"$f":"'Bill of Materials'!H1335","v":0},null,null,null,0,{"$f":"'Bill of Materials'!J1335","v":0},{"$f":"'Bill of Materials'!K1335","v":0},0]
[{"$f":"'Bill of Materials'!E1336+'Bill of Materials'!F1336","v":0},{"$f":"'Bill of Materials'!M1336","v":0},{"$f":"'Bill of Materials'!G1336","v":0},{"$f":"'Bill of Materials'!L1336","v":0},{"$f":"'Bill of Materials'!N1336","v":0},{"$f":"'Bill of Materials'!P1336","v":0},{"$f":"'Bill of Materials'!C1336","v":0},{"$f":"'Bill of Materials'!H1336","v":0},null,null,null,0,{"$f":"'Bill of Materials'!J1336","v":0},{"$f":"'Bill of Materials'!K1336","v":0},0]
[{"$f":"'Bill of Materials'!E1337+'Bill of Materials'!F1337","v":0},{"$f":"'Bill of Materials'!M1337","v":0},{"$f":"'Bill of Materials'!G1337","v":0},{"$f":"'Bill of Materials'!L1337","v":0},{"$f":"'Bill of Materials'!N1337","v":0},{"$f":"'Bill of Materials'!P1337","v":0},{"$f":"'Bill of Materials'!C1337","v":0},{"$f":"'Bill of Materials'!H1337","v":0},null,null,null,0,{"$f":"'Bill of Materials'!J1337","v":0},{"$f":"'Bill of Materials'!K1337","v":0},0]
[{"$f":"'Bill of Materials'!E1338+'Bill of Materials'!F1338","v":0},{"$f":"'Bill of Materials'!M1338","v":0},{"$f":"'Bill of Materials'!G1338","v":0},{"$f":"'Bill of Materials'!L1338","v":0},{"$f":"'Bill of Materials'!N1338","v":0},{"$f":"'Bill of Materials'!P1338","v":0},{"$f":"'Bill of Materials'!C1338","v":0},{"$f":"'Bill of Materials'!H1338","v":0},null,null,null,0,{"$f":"'Bill of Materials'!J1338","v":0},{"$f":"'Bill of Materials'!K1338","v":0},0]
[{"$f":"'Bill of Materials'!E1339+'Bill of Materials'!F1339","v":0},{"$f":"'Bill of Materials'!M1339","v":0},{"$f":"'Bill of Materials'!G1339","v":0},{"$f":"'Bill of Materials'!L1339","v":0},{"$f":"'Bill of Materials'!N1339","v":0},{"$f":"'Bill of Materials'!P1339","v":0},{"$f":"'Bill of Materials'!C1339","v":0},{"$f":"'Bill of Materials'!H1339","v":0},null,null,null,0,{"$f":"'Bill of Materials'!J1339","v":0},{"$f":"'Bill of Materials'!K1339","v":0},0]
[{"$f":"'Bill of Materials'!E1340+'Bill of Materials'!F1340","v":0},{"$f":"'Bill of Materials'!M1340","v":0},{"$f":"'Bill of Materials'!G1340","v":0},{"$f":"'Bill of Materials'!L1340","v":0},{"$f":"'Bill of Materials'!N1340","v":0},{"$f":"'Bill of Materials'!P1340","v":0},{"$f":"'Bill of Materials'!C1340","v":0},{"$f":"'Bill of Materials'!H1340","v":0},null,null,null,0,{"$f":"'Bill of Materials'!J1340","v":0},{"$f":"'Bill of Materials'!K1340","v":0},0]
[{"$f":"'Bill of Materials'!E1341+'Bill of Materials'!F1341","v":0},{"$f":"'Bill of Materials'!M1341","v":0},{"$f":"'Bill of Materials'!G1341","v":0},{"$f":"'Bill of Materials'!L1341","v":0},{"$f":"'Bill of Materials'!N1341","v":0},{"$f":"'Bill of Materials'!P1341","v":0},{"$f":"'Bill of Materials'!C1341","v":0},{"$f":"'Bill of Materials'!H1341","v":0},null,null,null,0,{"$f":"'Bill of Materials'!J1341","v":0},{"$f":"'Bill of Materials'!K1341","v":0},0]
[{"$f":"'Bill of Materials'!E1342+'Bill of Materials'!F1342","v":0},{"$f":"'Bill of Materials'!M1342","v":0},{"$f":"'Bill of Materials'!G1342","v":0},{"$f":"'Bill of Materials'!L1342","v":0},{"$f":"'Bill of Materials'!N1342","v":0},{"$f":"'Bill of Materials'!P1342","v":0},{"$f":"'Bill of Materials'!C1342","v":0},{"$f":"'Bill of Materials'!H1342","v":0},null,null,null,0,{"$f":"'Bill of Materials'!J1342","v":0},{"$f":"'Bill of Materials'!K1342","v":0},0]
[{"$f":"'Bill of Materials'!E1343+'Bill of Materials'!F1343","v":0},{"$f":"'Bill of Materials'!M1343","v":0},{"$f":"'Bill of Materials'!G1343","v":0},{"$f":"'Bill of Materials'!L1343","v":0},{"$f":"'Bill of Materials'!N1343","v":0},{"$f":"'Bill of Materials'!P1343","v":0},{"$f":"'Bill of Materials'!C1343","v":0},{"$f":"'Bill of Materials'!H1343","v":0},null,null,null,0,{"$f":"'Bill of Materials'!J1343","v":0},{"$f":"'Bill of Materials'!K1343","v":0},0]
[{"$f":"'Bill of Materials'!E1344+'Bill of Materials'!F1344","v":0},{"$f":"'Bill of Materials'!M1344","v":0},{"$f":"'Bill of Materials'!G1344","v":0},{"$f":"'Bill of Materials'!L1344","v":0},{"$f":"'Bill of Materials'!N1344","v":0},{"$f":"'Bill of Materials'!P1344","v":0},{"$f":"'Bill of Materials'!C1344","v":0},{"$f":"'Bill of Materials'!H1344","v":0},null,null,null,0,{"$f":"'Bill of Materials'!J1344","v":0},{"$f":"'Bill of Materials'!K1344","v":0},0]
[{"$f":"'Bill of Materials'!E1345+'Bill of Materials'!F1345","v":0},{"$f":"'Bill of Materials'!M1345","v":0},{"$f":"'Bill of Materials'!G1345","v":0},{"$f":"'Bill of Materials'!L1345","v":0},{"$f":"'Bill of Materials'!N1345","v":0},{"$f":"'Bill of Materials'!P1345","v":0},{"$f":"'Bill of Materials'!C1345","v":0},{"$f":"'Bill of Materials'!H1345","v":0},null,null,null,0,{"$f":"'Bill of Materials'!J1345","v":0},{"$f":"'Bill of Materials'!K1345","v":0},0]
[{"$f":"'Bill of Materials'!E1346+'Bill of Materials'!F1346","v":0},{"$f":"'Bill of Materials'!M1346","v":0},{"$f":"'Bill of Materials'!G1346","v":0},{"$f":"'Bill of Materials'!L1346","v":0},{"$f":"'Bill of Materials'!N1346","v":0},{"$f":"'Bill of Materials'!P1346","v":0},{"$f":"'Bill of Materials'!C1346","v":0},{"$f":"'Bill of Materials'!H1346","v":0},null,null,null,0,{"$f":"'Bill of Materials'!J1346","v":0},{"$f":"'Bill of Materials'!K1346","v":0},0]
[{"$f":"'Bill of Materials'!E1347+'Bill of Materials'!F1347","v":0},{"$f":"'Bill of Materials'!M1347","v":0},{"$f":"'Bill of Materials'!G1347","v":0},{"$f":"'Bill of Materials'!L1347","v":0},{"$f":"'Bill of Materials'!N1347","v":0},{"$f":"'Bill of Materials'!P1347","v":0},{"$f":"'Bill of Materials'!C1347","v":0},{"$f":"'Bill of Materials'!H1347","v":0},null,null,null,0,{"$f":"'Bill of Materials'!J1347","v":0},{"$f":"'Bill of Materials'!K1347","v":0},0]
[{"$f":"'Bill of Materials'!E1348+'Bill of Materials'!F1348","v":0},{"$f":"'Bill of Materials'!M1348","v":0},{"$f":"'Bill of Materials'!G1348","v":0},{"$f":"'Bill of Materials'!L1348","v":0},{"$f":"'Bill of Materials'!N1348","v":0},{"$f":"'Bill of Materials'!P1348","v":0},{"$f":"'Bill of Materials'!C1348","v":0},{"$f":"'Bill of Materials'!H1348","v":0},null,null,null,0,{"$f":"'Bill of Materials'!J1348","v":0},{"$f":"'Bill of Materials'!K1348","v":0},0]
[{"$f":"'Bill of Materials'!E1349+'Bill of Materials'!F1349","v":0},{"$f":"'Bill of Materials'!M1349","v":0},{"$f":"'Bill of Materials'!G1349","v":0},{"$f":"'Bill of Materials'!L1349","v":0},{"$f":"'Bill of Materials'!N1349","v":0},{"$f":"'Bill of Materials'!P1349","v":0},{"$f":"'Bill of Materials'!C1349","v":0},{"$f":"'Bill of Materials'!H1349","v":0},null,null,null,0,{"$f":"'Bill of Materials'!J1349","v":0},{"$f":"'Bill of Materials'!K1349","v":0},0]
[{"$f":"'Bill of Materials'!E1350+'Bill of Materials'!F1350","v":0},{"$f":"'Bill of Materials'!M1350","v":0},{"$f":"'Bill of Materials'!G1350","v":0},{"$f":"'Bill of Materials'!L1350","v":0},{"$f":"'Bill of Materials'!N1350","v":0},{"$f":"'Bill of Materials'!P1350","v":0},{"$f":"'Bill of Materials'!C1350","v":0},{"$f":"'Bill of Materials'!H1350","v":0},null,null,null,0,{"$f":"'Bill of Materials'!J1350","v":0},{"$f":"'Bill of Materials'!K1350","v":0},0]
[{"$f":"'Bill of Materials'!E1351+'Bill of Materials'!F1351","v":0},{"$f":"'Bill of Materials'!M1351","v":0},{"$f":"'Bill of Materials'!G1351","v":0},{"$f":"'Bill of Materials'!L1351","v":0},{"$f":"'Bill of Materials'!N1351","v":0},{"$f":"'Bill of Materials'!P1351","v":0},{"$f":"'Bill of Materials'!C1351","v":0},{"$f":"'Bill of Materials'!H1351","v":0},null,null,null,0,{"$f":"'Bill of Materials'!J1351","v":0},{"$f":"'Bill of Materials'!K1351","v":0},0]
[{"$f":"'Bill of Materials'!E1352+'Bill of Materials'!F1352","v":0},{"$f":"'Bill of Materials'!M1352","v":0},{"$f":"'Bill of Materials'!G1352","v":0},{"$f":"'Bill of Materials'!L1352","v":0},{"$f":"'Bill of Materials'!N1352","v":0},{"$f":"'Bill of Materials'!P1352","v":0},{"$f":"'Bill of Materials'!C1352","v":0},{"$f":"'Bill of Materials'!H1352","v":0},null,null,null,0,{"$f":"'Bill of Materials'!J1352","v":0},{"$f":"'Bill of Materials'!K1352","v":0},0]
[{"$f":"'Bill of Materials'!E1353+'Bill of Materials'!F1353","v":0},{"$f":"'Bill of Materials'!M1353","v":0},{"$f":"'Bill of Materials'!G1353","v":0},{"$f":"'Bill of Materials'!L1353","v":0},{"$f":"'Bill of Materials'!N1353","v":0},{"$f":"'Bill of Materials'!P1353","v":0},{"$f":"'Bill of Materials'!C1353","v":0},{"$f":"'Bill of Materials'!H1353","v":0},null,null,null,0,{"$f":"'Bill of Materials'!J1353","v":0},{"$f":"'Bill of Materials'!K1353","v":0},0]
[{"$f":"'Bill of Materials'!E1354+'Bill of Materials'!F1354","v":0},{"$f":"'Bill of Materials'!M1354","v":0},{"$f":"'Bill of Materials'!G1354","v":0},{"$f":"'Bill of Materials'!L1354","v":0},{"$f":"'Bill of Materials'!N1354","v":0},{"$f":"'Bill of Materials'!P1354","v":0},{"$f":"'Bill of Materials'!C1354","v":0},{"$f":"'Bill of Materials'!H1354","v":0},null,null,null,0,{"$f":"'Bill of Materials'!J1354","v":0},{"$f":"'Bill of Materials'!K1354","v":0},0]
[{"$f":"'Bill of Materials'!E1355+'Bill of Materials'!F1355","v":0},{"$f":"'Bill of Materials'!M1355","v":0},{"$f":"'Bill of Materials'!G1355","v":0},{"$f":"'Bill of Materials'!L1355","v":0},{"$f":"'Bill of Materials'!N1355","v":0},{"$f":"'Bill of Materials'!P1355","v":0},{"$f":"'Bill of Materials'!C1355","v":0},{"$f":"'Bill of Materials'!H1355","v":0},null,null,null,0,{"$f":"'Bill of Materials'!J1355","v":0},{"$f":"'Bill of Materials'!K1355","v":0},0]
[{"$f":"'Bill of Materials'!E1356+'Bill of Materials'!F1356","v":0},{"$f":"'Bill of Materials'!M1356","v":0},{"$f":"'Bill of Materials'!G1356","v":0},{"$f":"'Bill of Materials'!L1356","v":0},{"$f":"'Bill of Materials'!N1356","v":0},{"$f":"'Bill of Materials'!P1356","v":0},{"$f":"'Bill of Materials'!C1356","v":0},{"$f":"'Bill of Materials'!H1356","v":0},null,null,null,0,{"$f":"'Bill of Materials'!J1356","v":0},{"$f":"'Bill of Materials'!K1356","v":0},0]
[{"$f":"'Bill of Materials'!E1357+'Bill of Materials'!F1357","v":0},{"$f":"'Bill of Materials'!M1357","v":0},{"$f":"'Bill of Materials'!G1357","v":0},{"$f":"'Bill of Materials'!L1357","v":0},{"$f":"'Bill of Materials'!N1357","v":0},{"$f":"'Bill of Materials'!P1357","v":0},{"$f":"'Bill of Materials'!C1357","v":0},{"$f":"'Bill of Materials'!H1357","v":0},null,null,null,0,{"$f":"'Bill of Materials'!J1357","v":0},{"$f":"'Bill of Materials'!K1357","v":0},0]
[{"$f":"'Bill of Materials'!E1358+'Bill of Materials'!F1358","v":0},{"$f":"'Bill of Materials'!M1358","v":0},{"$f":"'Bill of Materials'!G1358","v":0},{"$f":"'Bill of Materials'!L1358","v":0},{"$f":"'Bill of Materials'!N1358","v":0},{"$f":"'Bill of Materials'!P1358","v":0},{"$f":"'Bill of Materials'!C1358","v":0},{"$f":"'Bill of Materials'!H1358","v":0},null,null,null,0,{"$f":"'Bill of Materials'!J1358","v":0},{"$f":"'Bill of Materials'!K1358","v":0},0]
[{"$f":"'Bill of Materials'!E1359+'Bill of Materials'!F1359","v":0},{"$f":"'Bill of Materials'!M1359","v":0},{"$f":"'Bill of Materials'!G1359","v":0},{"$f":"'Bill of Materials'!L1359","v":0},{"$f":"'Bill of Materials'!N1359","v":0},{"$f":"'Bill of Materials'!P1359","v":0},{"$f":"'Bill of Materials'!C1359","v":0},{"$f":"'Bill of Materials'!H1359","v":0},null,null,null,0,{"$f":"'Bill of Materials'!J1359","v":0},{"$f":"'Bill of Materials'!K1359","v":0},0]
[{"$f":"'Bill of Materials'!E1360+'Bill of Materials'!F1360","v":0},{"$f":"'Bill of Materials'!M1360","v":0},{"$f":"'Bill of Materials'!G1360","v":0},{"$f":"'Bill of Materials'!L1360","v":0},{"$f":"'Bill of Materials'!N1360","v":0},{"$f":"'Bill of Materials'!P1360","v":0},{"$f":"'Bill of Materials'!C1360","v":0},{"$f":"'Bill of Materials'!H1360","v":0},null,null,null,0,{"$f":"'Bill of Materials'!J1360","v":0},{"$f":"'Bill of Materials'!K1360","v":0},0]
[{"$f":"'Bill of Materials'!E1361+'Bill of Materials'!F1361","v":0},{"$f":"'Bill of Materials'!M1361","v":0},{"$f":"'Bill of Materials'!G1361","v":0},{"$f":"'Bill of Materials'!L1361","v":0},{"$f":"'Bill of Materials'!N1361","v":0},{"$f":"'Bill of Materials'!P1361","v":0},{"$f":"'Bill of Materials'!C1361","v":0},{"$f":"'Bill of Materials'!H1361","v":0},null,null,null,0,{"$f":"'Bill of Materials'!J1361","v":0},{"$f":"'Bill of Materials'!K1361","v":0},0]
[{"$f":"'Bill of Materials'!E1362+'Bill of Materials'!F1362","v":0},{"$f":"'Bill of Materials'!M1362","v":0},{"$f":"'Bill of Materials'!G1362","v":0},{"$f":"'Bill of Materials'!L1362","v":0},{"$f":"'Bill of Materials'!N1362","v":0},{"$f":"'Bill of Materials'!P1362","v":0},{"$f":"'Bill of Materials'!C1362","v":0},{"$f":"'Bill of Materials'!H1362","v":0},null,null,null,0,{"$f":"'Bill of Materials'!J1362","v":0},{"$f":"'Bill of Materials'!K1362","v":0},0]
[{"$f":"'Bill of Materials'!E1363+'Bill of Materials'!F1363","v":0},{"$f":"'Bill of Materials'!M1363","v":0},{"$f":"'Bill of Materials'!G1363","v":0},{"$f":"'Bill of Materials'!L1363","v":0},{"$f":"'Bill of Materials'!N1363","v":0},{"$f":"'Bill of Materials'!P1363","v":0},{"$f":"'Bill of Materials'!C1363","v":0},{"$f":"'Bill of Materials'!H1363","v":0},null,null,null,0,{"$f":"'Bill of Materials'!J1363","v":0},{"$f":"'Bill of Materials'!K1363","v":0},0]
[{"$f":"'Bill of Materials'!E1364+'Bill of Materials'!F1364","v":0},{"$f":"'Bill of Materials'!M1364","v":0},{"$f":"'Bill of Materials'!G1364","v":0},{"$f":"'Bill of Materials'!L1364","v":0},{"$f":"'Bill of Materials'!N1364","v":0},{"$f":"'Bill of Materials'!P1364","v":0},{"$f":"'Bill of Materials'!C1364","v":0},{"$f":"'Bill of Materials'!H1364","v":0},null,null,null,0,{"$f":"'Bill of Materials'!J1364","v":0},{"$f":"'Bill of Materials'!K1364","v":0},0]
[{"$f":"'Bill of Materials'!E1365+'Bill of Materials'!F1365","v":0},{"$f":"'Bill of Materials'!M1365","v":0},{"$f":"'Bill of Materials'!G1365","v":0},{"$f":"'Bill of Materials'!L1365","v":0},{"$f":"'Bill of Materials'!N1365","v":0},{"$f":"'Bill of Materials'!P1365","v":0},{"$f":"'Bill of Materials'!C1365","v":0},{"$f":"'Bill of Materials'!H1365","v":0},null,null,null,0,{"$f":"'Bill of Materials'!J1365","v":0},{"$f":"'Bill of Materials'!K1365","v":0},0]
[{"$f":"'Bill of Materials'!E1366+'Bill of Materials'!F1366","v":0},{"$f":"'Bill of Materials'!M1366","v":0},{"$f":"'Bill of Materials'!G1366","v":0},{"$f":"'Bill of Materials'!L1366","v":0},{"$f":"'Bill of Materials'!N1366","v":0},{"$f":"'Bill of Materials'!P1366","v":0},{"$f":"'Bill of Materials'!C1366","v":0},{"$f":"'Bill of Materials'!H1366","v":0},null,null,null,0,{"$f":"'Bill of Materials'!J1366","v":0},{"$f":"'Bill of Materials'!K1366","v":0},0]
[{"$f":"'Bill of Materials'!E1367+'Bill of Materials'!F1367","v":0},{"$f":"'Bill of Materials'!M1367","v":0},{"$f":"'Bill of Materials'!G1367","v":0},{"$f":"'Bill of Materials'!L1367","v":0},{"$f":"'Bill of Materials'!N1367","v":0},{"$f":"'Bill of Materials'!P1367","v":0},{"$f":"'Bill of Materials'!C1367","v":0},{"$f":"'Bill of Materials'!H1367","v":0},null,null,null,0,{"$f":"'Bill of Materials'!J1367","v":0},{"$f":"'Bill of Materials'!K1367","v":0},0]
[{"$f":"'Bill of Materials'!E1368+'Bill of Materials'!F1368","v":0},{"$f":"'Bill of Materials'!M1368","v":0},{"$f":"'Bill of Materials'!G1368","v":0},{"$f":"'Bill of Materials'!L1368","v":0},{"$f":"'Bill of Materials'!N1368","v":0},{"$f":"'Bill of Materials'!P1368","v":0},{"$f":"'Bill of Materials'!C1368","v":0},{"$f":"'Bill of Materials'!H1368","v":0},null,null,null,0,{"$f":"'Bill of Materials'!J1368","v":0},{"$f":"'Bill of Materials'!K1368","v":0},0]
[{"$f":"'Bill of Materials'!E1369+'Bill of Materials'!F1369","v":0},{"$f":"'Bill of Materials'!M1369","v":0},{"$f":"'Bill of Materials'!G1369","v":0},{"$f":"'Bill of Materials'!L1369","v":0},{"$f":"'Bill of Materials'!N1369","v":0},{"$f":"'Bill of Materials'!P1369","v":0},{"$f":"'Bill of Materials'!C1369","v":0},{"$f":"'Bill of Materials'!H1369","v":0},null,null,null,0,{"$f":"'Bill of Materials'!J1369","v":0},{"$f":"'Bill of Materials'!K1369","v":0},0]
[{"$f":"'Bill of Materials'!E1370+'Bill of Materials'!F1370","v":0},{"$f":"'Bill of Materials'!M1370","v":0},{"$f":"'Bill of Materials'!G1370","v":0},{"$f":"'Bill of Materials'!L1370","v":0},{"$f":"'Bill of Materials'!N1370","v":0},{"$f":"'Bill of Materials'!P1370","v":0},{"$f":"'Bill of Materials'!C1370","v":0},{"$f":"'Bill of Materials'!H1370","v":0},null,null,null,0,{"$f":"'Bill of Materials'!J1370","v":0},{"$f":"'Bill of Materials'!K1370","v":0},0]
[{"$f":"'Bill of Materials'!E1371+'Bill of Materials'!F1371","v":0},{"$f":"'Bill of Materials'!M1371","v":0},{"$f":"'Bill of Materials'!G1371","v":0},{"$f":"'Bill of Materials'!L1371","v":0},{"$f":"'Bill of Materials'!N1371","v":0},{"$f":"'Bill of Materials'!P1371","v":0},{"$f":"'Bill of Materials'!C1371","v":0},{"$f":"'Bill of Materials'!H1371","v":0},null,null,null,0,{"$f":"'Bill of Materials'!J1371","v":0},{"$f":"'Bill of Materials'!K1371","v":0},0]
[{"$f":"'Bill of Materials'!E1372+'Bill of Materials'!F1372","v":0},{"$f":"'Bill of Materials'!M1372","v":0},{"$f":"'Bill of Materials'!G1372","v":0},{"$f":"'Bill of Materials'!L1372","v":0},{"$f":"'Bill of Materials'!N1372","v":0},{"$f":"'Bill of Materials'!P1372","v":0},{"$f":"'Bill of Materials'!C1372","v":0},{"$f":"'Bill of Materials'!H1372","v":0},null,null,null,0,{"$f":"'Bill of Materials'!J1372","v":0},{"$f":"'Bill of Materials'!K1372","v":0},0]
[{"$f":"'Bill of Materials'!E1373+'Bill of Materials'!F1373","v":0},{"$f":"'Bill of Materials'!M1373","v":0},{"$f":"'Bill of Materials'!G1373","v":0},{"$f":"'Bill of Materials'!L1373","v":0},{"$f":"'Bill of Materials'!N1373","v":0},{"$f":"'Bill of Materials'!P1373","v":0},{"$f":"'Bill of Materials'!C1373","v":0},{"$f":"'Bill of Materials'!H1373","v":0},null,null,null,0,{"$f":"'Bill of Materials'!J1373","v":0},{"$f":"'Bill of Materials'!K1373","v":0},0]
[{"$f":"'Bill of Materials'!E1374+'Bill of Materials'!F1374","v":0},{"$f":"'Bill of Materials'!M1374","v":0},{"$f":"'Bill of Materials'!G1374","v":0},{"$f":"'Bill of Materials'!L1374","v":0},{"$f":"'Bill of Materials'!N1374","v":0},{"$f":"'Bill of Materials'!P1374","v":0},{"$f":"'Bill of Materials'!C1374","v":0},{"$f":"'Bill of Materials'!H1374","v":0},null,null,null,0,{"$f":"'Bill of Materials'!J1374","v":0},{"$f":"'Bill of Materials'!K1374","v":0},0]
[{"$f":"'Bill of Materials'!E1375+'Bill of Materials'!F1375","v":0},{"$f":"'Bill of Materials'!M1375","v":0},{"$f":"'Bill of Materials'!G1375","v":0},{"$f":"'Bill of Materials'!L1375","v":0},{"$f":"'Bill of Materials'!N1375","v":0},{"$f":"'Bill of Materials'!P1375","v":0},{"$f":"'Bill of Materials'!C1375","v":0},{"$f":"'Bill of Materials'!H1375","v":0},null,null,null,0,{"$f":"'Bill of Materials'!J1375","v":0},{"$f":"'Bill of Materials'!K1375","v":0},0]
[{"$f":"'Bill of Materials'!E1376+'Bill of Materials'!F1376","v":0},{"$f":"'Bill of Materials'!M1376","v":0},{"$f":"'Bill of Materials'!G1376","v":0},{"$f":"'Bill of Materials'!L1376","v":0},{"$f":"'Bill of Materials'!N1376","v":0},{"$f":"'Bill of Materials'!P1376","v":0},{"$f":"'Bill of Materials'!C1376","v":0},{"$f":"'Bill of Materials'!H1376","v":0},null,null,null,0,{"$f":"'Bill of Materials'!J1376","v":0},{"$f":"'Bill of Materials'!K1376","v":0},0]
[{"$f":"'Bill of Materials'!E1377+'Bill of Materials'!F1377","v":0},{"$f":"'Bill of Materials'!M1377","v":0},{"$f":"'Bill of Materials'!G1377","v":0},{"$f":"'Bill of Materials'!L1377","v":0},{"$f":"'Bill of Materials'!N1377","v":0},{"$f":"'Bill of Materials'!P1377","v":0},{"$f":"'Bill of Materials'!C1377","v":0},{"$f":"'Bill of Materials'!H1377","v":0},null,null,null,0,{"$f":"'Bill of Materials'!J1377","v":0},{"$f":"'Bill of Materials'!K1377","v":0},0]
[{"$f":"'Bill of Materials'!E1378+'Bill of Materials'!F1378","v":0},{"$f":"'Bill of Materials'!M1378","v":0},{"$f":"'Bill of Materials'!G1378","v":0},{"$f":"'Bill of Materials'!L1378","v":0},{"$f":"'Bill of Materials'!N1378","v":0},{"$f":"'Bill of Materials'!P1378","v":0},{"$f":"'Bill of Materials'!C1378","v":0},{"$f":"'Bill of Materials'!H1378","v":0},null,null,null,0,{"$f":"'Bill of Materials'!J1378","v":0},{"$f":"'Bill of Materials'!K1378","v":0},0]
[{"$f":"'Bill of Materials'!E1379+'Bill of Materials'!F1379","v":0},{"$f":"'Bill of Materials'!M1379","v":0},{"$f":"'Bill of Materials'!G1379","v":0},{"$f":"'Bill of Materials'!L1379","v":0},{"$f":"'Bill of Materials'!N1379","v":0},{"$f":"'Bill of Materials'!P1379","v":0},{"$f":"'Bill of Materials'!C1379","v":0},{"$f":"'Bill of Materials'!H1379","v":0},null,null,null,0,{"$f":"'Bill of Materials'!J1379","v":0},{"$f":"'Bill of Materials'!K1379","v":0},0]
[{"$f":"'Bill of Materials'!E1380+'Bill of Materials'!F1380","v":0},{"$f":"'Bill of Materials'!M1380","v":0},{"$f":"'Bill of Materials'!G1380","v":0},{"$f":"'Bill of Materials'!L1380","v":0},{"$f":"'Bill of Materials'!N1380","v":0},{"$f":"'Bill of Materials'!P1380","v":0},{"$f":"'Bill of Materials'!C1380","v":0},{"$f":"'Bill of Materials'!H1380","v":0},null,null,null,0,{"$f":"'Bill of Materials'!J1380","v":0},{"$f":"'Bill of Materials'!K1380","v":0},0]
[{"$f":"'Bill of Materials'!E1381+'Bill of Materials'!F1381","v":0},{"$f":"'Bill of Materials'!M1381","v":0},{"$f":"'Bill of Materials'!G1381","v":0},{"$f":"'Bill of Materials'!L1381","v":0},{"$f":"'Bill of Materials'!N1381","v":0},{"$f":"'Bill of Materials'!P1381","v":0},{"$f":"'Bill of Materials'!C1381","v":0},{"$f":"'Bill of Materials'!H1381","v":0},null,null,null,0,{"$f":"'Bill of Materials'!J1381","v":0},{"$f":"'Bill of Materials'!K1381","v":0},0]
[{"$f":"'Bill of Materials'!E1382+'Bill of Materials'!F1382","v":0},{"$f":"'Bill of Materials'!M1382","v":0},{"$f":"'Bill of Materials'!G1382","v":0},{"$f":"'Bill of Materials'!L1382","v":0},{"$f":"'Bill of Materials'!N1382","v":0},{"$f":"'Bill of Materials'!P1382","v":0},{"$f":"'Bill of Materials'!C1382","v":0},{"$f":"'Bill of Materials'!H1382","v":0},null,null,null,0,{"$f":"'Bill of Materials'!J1382","v":0},{"$f":"'Bill of Materials'!K1382","v":0},0]
[{"$f":"'Bill of Materials'!E1383+'Bill of Materials'!F1383","v":0},{"$f":"'Bill of Materials'!M1383","v":0},{"$f":"'Bill of Materials'!G1383","v":0},{"$f":"'Bill of Materials'!L1383","v":0},{"$f":"'Bill of Materials'!N1383","v":0},{"$f":"'Bill of Materials'!P1383","v":0},{"$f":"'Bill of Materials'!C1383","v":0},{"$f":"'Bill of Materials'!H1383","v":0},null,null,null,0,{"$f":"'Bill of Materials'!J1383","v":0},{"$f":"'Bill of Materials'!K1383","v":0},0]
[{"$f":"'Bill of Materials'!E1384+'Bill of Materials'!F1384","v":0},{"$f":"'Bill of Materials'!M1384","v":0},{"$f":"'Bill of Materials'!G1384","v":0},{"$f":"'Bill of Materials'!L1384","v":0},{"$f":"'Bill of Materials'!N1384","v":0},{"$f":"'Bill of Materials'!P1384","v":0},{"$f":"'Bill of Materials'!C1384","v":0},{"$f":"'Bill of Materials'!H1384","v":0},null,null,null,0,{"$f":"'Bill of Materials'!J1384","v":0},{"$f":"'Bill of Materials'!K1384","v":0},0]
[{"$f":"'Bill of Materials'!E1385+'Bill of Materials'!F1385","v":0},{"$f":"'Bill of Materials'!M1385","v":0},{"$f":"'Bill of Materials'!G1385","v":0},{"$f":"'Bill of Materials'!L1385","v":0},{"$f":"'Bill of Materials'!N1385","v":0},{"$f":"'Bill of Materials'!P1385","v":0},{"$f":"'Bill of Materials'!C1385","v":0},{"$f":"'Bill of Materials'!H1385","v":0},null,null,null,0,{"$f":"'Bill of Materials'!J1385","v":0},{"$f":"'Bill of Materials'!K1385","v":0},0]
[{"$f":"'Bill of Materials'!E1386+'Bill of Materials'!F1386","v":0},{"$f":"'Bill of Materials'!M1386","v":0},{"$f":"'Bill of Materials'!G1386","v":0},{"$f":"'Bill of Materials'!L1386","v":0},{"$f":"'Bill of Materials'!N1386","v":0},{"$f":"'Bill of Materials'!P1386","v":0},{"$f":"'Bill of Materials'!C1386","v":0},{"$f":"'Bill of Materials'!H1386","v":0},null,null,null,0,{"$f":"'Bill of Materials'!J1386","v":0},{"$f":"'Bill of Materials'!K1386","v":0},0]
[{"$f":"'Bill of Materials'!E1387+'Bill of Materials'!F1387","v":0},{"$f":"'Bill of Materials'!M1387","v":0},{"$f":"'Bill of Materials'!G1387","v":0},{"$f":"'Bill of Materials'!L1387","v":0},{"$f":"'Bill of Materials'!N1387","v":0},{"$f":"'Bill of Materials'!P1387","v":0},{"$f":"'Bill of Materials'!C1387","v":0},{"$f":"'Bill of Materials'!H1387","v":0},null,null,null,0,{"$f":"'Bill of Materials'!J1387","v":0},{"$f":"'Bill of Materials'!K1387","v":0},0]
[{"$f":"'Bill of Materials'!E1388+'Bill of Materials'!F1388","v":0},{"$f":"'Bill of Materials'!M1388","v":0},{"$f":"'Bill of Materials'!G1388","v":0},{"$f":"'Bill of Materials'!L1388","v":0},{"$f":"'Bill of Materials'!N1388","v":0},{"$f":"'Bill of Materials'!P1388","v":0},{"$f":"'Bill of Materials'!C1388","v":0},{"$f":"'Bill of Materials'!H1388","v":0},null,null,null,0,{"$f":"'Bill of Materials'!J1388","v":0},{"$f":"'Bill of Materials'!K1388","v":0},0]
[{"$f":"'Bill of Materials'!E1389+'Bill of Materials'!F1389","v":0},{"$f":"'Bill of Materials'!M1389","v":0},{"$f":"'Bill of Materials'!G1389","v":0},{"$f":"'Bill of Materials'!L1389","v":0},{"$f":"'Bill of Materials'!N1389","v":0},{"$f":"'Bill of Materials'!P1389","v":0},{"$f":"'Bill of Materials'!C1389","v":0},{"$f":"'Bill of Materials'!H1389","v":0},null,null,null,0,{"$f":"'Bill of Materials'!J1389","v":0},{"$f":"'Bill of Materials'!K1389","v":0},0]
[{"$f":"'Bill of Materials'!E1390+'Bill of Materials'!F1390","v":0},{"$f":"'Bill of Materials'!M1390","v":0},{"$f":"'Bill of Materials'!G1390","v":0},{"$f":"'Bill of Materials'!L1390","v":0},{"$f":"'Bill of Materials'!N1390","v":0},{"$f":"'Bill of Materials'!P1390","v":0},{"$f":"'Bill of Materials'!C1390","v":0},{"$f":"'Bill of Materials'!H1390","v":0},null,null,null,0,{"$f":"'Bill of Materials'!J1390","v":0},{"$f":"'Bill of Materials'!K1390","v":0},0]
[{"$f":"'Bill of Materials'!E1391+'Bill of Materials'!F1391","v":0},{"$f":"'Bill of Materials'!M1391","v":0},{"$f":"'Bill of Materials'!G1391","v":0},{"$f":"'Bill of Materials'!L1391","v":0},{"$f":"'Bill of Materials'!N1391","v":0},{"$f":"'Bill of Materials'!P1391","v":0},{"$f":"'Bill of Materials'!C1391","v":0},{"$f":"'Bill of Materials'!H1391","v":0},null,null,null,0,{"$f":"'Bill of Materials'!J1391","v":0},{"$f":"'Bill of Materials'!K1391","v":0},0]
[{"$f":"'Bill of Materials'!E1392+'Bill of Materials'!F1392","v":0},{"$f":"'Bill of Materials'!M1392","v":0},{"$f":"'Bill of Materials'!G1392","v":0},{"$f":"'Bill of Materials'!L1392","v":0},{"$f":"'Bill of Materials'!N1392","v":0},{"$f":"'Bill of Materials'!P1392","v":0},{"$f":"'Bill of Materials'!C1392","v":0},{"$f":"'Bill of Materials'!H1392","v":0},null,null,null,{"$f":"E1439*A1439","v":0},{"$f":"'Bill of Materials'!J1392","v":0},{"$f":"'Bill of Materials'!K1392","v":0},{"$f":"IF(A1439>0,1,0)","v":0}]
[{"$f":"'Bill of Materials'!E1393+'Bill of Materials'!F1393","v":0},{"$f":"'Bill of Materials'!M1393","v":0},{"$f":"'Bill of Materials'!G1393","v":0},{"$f":"'Bill of Materials'!L1393","v":0},{"$f":"'Bill of Materials'!N1393","v":0},{"$f":"'Bill of Materials'!P1393","v":0},{"$f":"'Bill of Materials'!C1393","v":0},{"$f":"'Bill of Materials'!H1393","v":0},null,null,null,0,{"$f":"'Bill of Materials'!J1393","v":0},{"$f":"'Bill of Materials'!K1393","v":0},0]
[{"$f":"'Bill of Materials'!E1394+'Bill of Materials'!F1394","v":0},{"$f":"'Bill of Materials'!M1394","v":0},{"$f":"'Bill of Materials'!G1394","v":0},{"$f":"'Bill of Materials'!L1394","v":0},{"$f":"'Bill of Materials'!N1394","v":0},{"$f":"'Bill of Materials'!P1394","v":0},{"$f":"'Bill of Materials'!C1394","v":0},{"$f":"'Bill of Materials'!H1394","v":0},null,null,null,0,{"$f":"'Bill of Materials'!J1394","v":0},{"$f":"'Bill of Materials'!K1394","v":0},0]
[{"$f":"'Bill of Materials'!E1395+'Bill of Materials'!F1395","v":0},{"$f":"'Bill of Materials'!M1395","v":0},{"$f":"'Bill of Materials'!G1395","v":0},{"$f":"'Bill of Materials'!L1395","v":0},{"$f":"'Bill of Materials'!N1395","v":0},{"$f":"'Bill of Materials'!P1395","v":0},{"$f":"'Bill of Materials'!C1395","v":0},{"$f":"'Bill of Materials'!H1395","v":0},null,null,null,0,{"$f":"'Bill of Materials'!J1395","v":0},{"$f":"'Bill of Materials'!K1395","v":0},0]
[{"$f":"'Bill of Materials'!E1396+'Bill of Materials'!F1396","v":0},{"$f":"'Bill of Materials'!M1396","v":0},{"$f":"'Bill of Materials'!G1396","v":0},{"$f":"'Bill of Materials'!L1396","v":0},{"$f":"'Bill of Materials'!N1396","v":0},{"$f":"'Bill of Materials'!P1396","v":0},{"$f":"'Bill of Materials'!C1396","v":0},{"$f":"'Bill of Materials'!H1396","v":0},null,null,null,0,{"$f":"'Bill of Materials'!J1396","v":0},{"$f":"'Bill of Materials'!K1396","v":0},0]
[{"$f":"'Bill of Materials'!E1397+'Bill of Materials'!F1397","v":0},{"$f":"'Bill of Materials'!M1397","v":0},{"$f":"'Bill of Materials'!G1397","v":0},{"$f":"'Bill of Materials'!L1397","v":0},{"$f":"'Bill of Materials'!N1397","v":0},{"$f":"'Bill of Materials'!P1397","v":0},{"$f":"'Bill of Materials'!C1397","v":0},{"$f":"'Bill of Materials'!H1397","v":0},null,null,null,0,{"$f":"'Bill of Materials'!J1397","v":0},{"$f":"'Bill of Materials'!K1397","v":0},0]
[{"$f":"'Bill of Materials'!E1398+'Bill of Materials'!F1398","v":0},{"$f":"'Bill of Materials'!M1398","v":0},{"$f":"'Bill of Materials'!G1398","v":0},{"$f":"'Bill of Materials'!L1398","v":0},{"$f":"'Bill of Materials'!N1398","v":0},{"$f":"'Bill of Materials'!P1398","v":0},{"$f":"'Bill of Materials'!C1398","v":0},{"$f":"'Bill of Materials'!H1398","v":0},null,null,null,0,{"$f":"'Bill of Materials'!J1398","v":0},{"$f":"'Bill of Materials'!K1398","v":0},0]
[{"$f":"'Bill of Materials'!E1399+'Bill of Materials'!F1399","v":0},{"$f":"'Bill of Materials'!M1399","v":0},{"$f":"'Bill of Materials'!G1399","v":0},{"$f":"'Bill of Materials'!L1399","v":0},{"$f":"'Bill of Materials'!N1399","v":0},{"$f":"'Bill of Materials'!P1399","v":0},{"$f":"'Bill of Materials'!C1399","v":0},{"$f":"'Bill of Materials'!H1399","v":0},null,null,null,0,{"$f":"'Bill of Materials'!J1399","v":0},{"$f":"'Bill of Materials'!K1399","v":0},0]
[{"$f":"'Bill of Materials'!E1400+'Bill of Materials'!F1400","v":0},{"$f":"'Bill of Materials'!M1400","v":0},{"$f":"'Bill of Materials'!G1400","v":0},{"$f":"'Bill of Materials'!L1400","v":0},{"$f":"'Bill of Materials'!N1400","v":0},{"$f":"'Bill of Materials'!P1400","v":0},{"$f":"'Bill of Materials'!C1400","v":0},{"$f":"'Bill of Materials'!H1400","v":0},null,null,null,0,{"$f":"'Bill of Materials'!J1400","v":0},{"$f":"'Bill of Materials'!K1400","v":0},0]
[{"$f":"'Bill of Materials'!E1401+'Bill of Materials'!F1401","v":0},{"$f":"'Bill of Materials'!M1401","v":0},{"$f":"'Bill of Materials'!G1401","v":0},{"$f":"'Bill of Materials'!L1401","v":0},{"$f":"'Bill of Materials'!N1401","v":0},{"$f":"'Bill of Materials'!P1401","v":0},{"$f":"'Bill of Materials'!C1401","v":0},{"$f":"'Bill of Materials'!H1401","v":0},null,null,null,0,{"$f":"'Bill of Materials'!J1401","v":0},{"$f":"'Bill of Materials'!K1401","v":0},0]
[{"$f":"'Bill of Materials'!E1402+'Bill of Materials'!F1402","v":0},{"$f":"'Bill of Materials'!M1402","v":0},{"$f":"'Bill of Materials'!G1402","v":0},{"$f":"'Bill of Materials'!L1402","v":0},{"$f":"'Bill of Materials'!N1402","v":0},{"$f":"'Bill of Materials'!P1402","v":0},{"$f":"'Bill of Materials'!C1402","v":0},{"$f":"'Bill of Materials'!H1402","v":0},null,null,null,0,{"$f":"'Bill of Materials'!J1402","v":0},{"$f":"'Bill of Materials'!K1402","v":0},0]
[{"$f":"'Bill of Materials'!E1403+'Bill of Materials'!F1403","v":0},{"$f":"'Bill of Materials'!M1403","v":0},{"$f":"'Bill of Materials'!G1403","v":0},{"$f":"'Bill of Materials'!L1403","v":0},{"$f":"'Bill of Materials'!N1403","v":0},{"$f":"'Bill of Materials'!P1403","v":0},{"$f":"'Bill of Materials'!C1403","v":0},{"$f":"'Bill of Materials'!H1403","v":0},null,null,null,0,{"$f":"'Bill of Materials'!J1403","v":0},{"$f":"'Bill of Materials'!K1403","v":0},0]
[{"$f":"'Bill of Materials'!E1404+'Bill of Materials'!F1404","v":0},{"$f":"'Bill of Materials'!M1404","v":0},{"$f":"'Bill of Materials'!G1404","v":0},{"$f":"'Bill of Materials'!L1404","v":0},{"$f":"'Bill of Materials'!N1404","v":0},{"$f":"'Bill of Materials'!P1404","v":0},{"$f":"'Bill of Materials'!C1404","v":0},{"$f":"'Bill of Materials'!H1404","v":0},null,null,null,0,{"$f":"'Bill of Materials'!J1404","v":0},{"$f":"'Bill of Materials'!K1404","v":0},0]
[{"$f":"'Bill of Materials'!E1405+'Bill of Materials'!F1405","v":0},{"$f":"'Bill of Materials'!M1405","v":0},{"$f":"'Bill of Materials'!G1405","v":0},{"$f":"'Bill of Materials'!L1405","v":0},{"$f":"'Bill of Materials'!N1405","v":0},{"$f":"'Bill of Materials'!P1405","v":0},{"$f":"'Bill of Materials'!C1405","v":0},{"$f":"'Bill of Materials'!H1405","v":0},null,null,null,0,{"$f":"'Bill of Materials'!J1405","v":0},{"$f":"'Bill of Materials'!K1405","v":0},0]
[{"$f":"'Bill of Materials'!E1406+'Bill of Materials'!F1406","v":0},{"$f":"'Bill of Materials'!M1406","v":0},{"$f":"'Bill of Materials'!G1406","v":0},{"$f":"'Bill of Materials'!L1406","v":0},{"$f":"'Bill of Materials'!N1406","v":0},{"$f":"'Bill of Materials'!P1406","v":0},{"$f":"'Bill of Materials'!C1406","v":0},{"$f":"'Bill of Materials'!H1406","v":0},null,null,null,0,{"$f":"'Bill of Materials'!J1406","v":0},{"$f":"'Bill of Materials'!K1406","v":0},0]
[{"$f":"'Bill of Materials'!E1407+'Bill of Materials'!F1407","v":0},{"$f":"'Bill of Materials'!M1407","v":0},{"$f":"'Bill of Materials'!G1407","v":0},{"$f":"'Bill of Materials'!L1407","v":0},{"$f":"'Bill of Materials'!N1407","v":0},{"$f":"'Bill of Materials'!P1407","v":0},{"$f":"'Bill of Materials'!C1407","v":0},{"$f":"'Bill of Materials'!H1407","v":0},null,null,null,0,{"$f":"'Bill of Materials'!J1407","v":0},{"$f":"'Bill of Materials'!K1407","v":0},0]
[{"$f":"'Bill of Materials'!E1408+'Bill of Materials'!F1408","v":0},{"$f":"'Bill of Materials'!M1408","v":0},{"$f":"'Bill of Materials'!G1408","v":0},{"$f":"'Bill of Materials'!L1408","v":0},{"$f":"'Bill of Materials'!N1408","v":0},{"$f":"'Bill of Materials'!P1408","v":0},{"$f":"'Bill of Materials'!C1408","v":0},{"$f":"'Bill of Materials'!H1408","v":0},null,null,null,0,{"$f":"'Bill of Materials'!J1408","v":0},{"$f":"'Bill of Materials'!K1408","v":0},0]
[{"$f":"'Bill of Materials'!E1409+'Bill of Materials'!F1409","v":0},{"$f":"'Bill of Materials'!M1409","v":0},{"$f":"'Bill of Materials'!G1409","v":0},{"$f":"'Bill of Materials'!L1409","v":0},{"$f":"'Bill of Materials'!N1409","v":0},{"$f":"'Bill of Materials'!P1409","v":0},{"$f":"'Bill of Materials'!C1409","v":0},{"$f":"'Bill of Materials'!H1409","v":0},null,null,null,0,{"$f":"'Bill of Materials'!J1409","v":0},{"$f":"'Bill of Materials'!K1409","v":0},0]
[{"$f":"'Bill of Materials'!E1410+'Bill of Materials'!F1410","v":0},{"$f":"'Bill of Materials'!M1410","v":0},{"$f":"'Bill of Materials'!G1410","v":0},{"$f":"'Bill of Materials'!L1410","v":0},{"$f":"'Bill of Materials'!N1410","v":0},{"$f":"'Bill of Materials'!P1410","v":0},{"$f":"'Bill of Materials'!C1410","v":0},{"$f":"'Bill of Materials'!H1410","v":0},null,null,null,0,{"$f":"'Bill of Materials'!J1410","v":0},{"$f":"'Bill of Materials'!K1410","v":0},0]
[{"$f":"'Bill of Materials'!E1411+'Bill of Materials'!F1411","v":0},{"$f":"'Bill of Materials'!M1411","v":0},{"$f":"'Bill of Materials'!G1411","v":0},{"$f":"'Bill of Materials'!L1411","v":0},{"$f":"'Bill of Materials'!N1411","v":0},{"$f":"'Bill of Materials'!P1411","v":0},{"$f":"'Bill of Materials'!C1411","v":0},{"$f":"'Bill of Materials'!H1411","v":0},null,null,null,0,{"$f":"'Bill of Materials'!J1411","v":0},{"$f":"'Bill of Materials'!K1411","v":0},0]
[{"$f":"'Bill of Materials'!E1412+'Bill of Materials'!F1412","v":0},{"$f":"'Bill of Materials'!M1412","v":0},{"$f":"'Bill of Materials'!G1412","v":0},{"$f":"'Bill of Materials'!L1412","v":0},{"$f":"'Bill of Materials'!N1412","v":0},{"$f":"'Bill of Materials'!P1412","v":0},{"$f":"'Bill of Materials'!C1412","v":0},{"$f":"'Bill of Materials'!H1412","v":0},null,null,null,0,{"$f":"'Bill of Materials'!J1412","v":0},{"$f":"'Bill of Materials'!K1412","v":0},0]
[{"$f":"'Bill of Materials'!E1413+'Bill of Materials'!F1413","v":0},{"$f":"'Bill of Materials'!M1413","v":0},{"$f":"'Bill of Materials'!G1413","v":0},{"$f":"'Bill of Materials'!L1413","v":0},{"$f":"'Bill of Materials'!N1413","v":0},{"$f":"'Bill of Materials'!P1413","v":0},{"$f":"'Bill of Materials'!C1413","v":0},{"$f":"'Bill of Materials'!H1413","v":0},null,null,null,0,{"$f":"'Bill of Materials'!J1413","v":0},{"$f":"'Bill of Materials'!K1413","v":0},0]
[{"$f":"'Bill of Materials'!E1414+'Bill of Materials'!F1414","v":0},{"$f":"'Bill of Materials'!M1414","v":0},{"$f":"'Bill of Materials'!G1414","v":0},{"$f":"'Bill of Materials'!L1414","v":0},{"$f":"'Bill of Materials'!N1414","v":0},{"$f":"'Bill of Materials'!P1414","v":0},{"$f":"'Bill of Materials'!C1414","v":0},{"$f":"'Bill of Materials'!H1414","v":0},null,null,null,0,{"$f":"'Bill of Materials'!J1414","v":0},{"$f":"'Bill of Materials'!K1414","v":0},0]
[{"$f":"'Bill of Materials'!E1415+'Bill of Materials'!F1415","v":0},{"$f":"'Bill of Materials'!M1415","v":0},{"$f":"'Bill of Materials'!G1415","v":0},{"$f":"'Bill of Materials'!L1415","v":0},{"$f":"'Bill of Materials'!N1415","v":0},{"$f":"'Bill of Materials'!P1415","v":0},{"$f":"'Bill of Materials'!C1415","v":0},{"$f":"'Bill of Materials'!H1415","v":0},null,null,null,0,{"$f":"'Bill of Materials'!J1415","v":0},{"$f":"'Bill of Materials'!K1415","v":0},0]
[{"$f":"'Bill of Materials'!E1416+'Bill of Materials'!F1416","v":0},{"$f":"'Bill of Materials'!M1416","v":0},{"$f":"'Bill of Materials'!G1416","v":0},{"$f":"'Bill of Materials'!L1416","v":0},{"$f":"'Bill of Materials'!N1416","v":0},{"$f":"'Bill of Materials'!P1416","v":0},{"$f":"'Bill of Materials'!C1416","v":0},{"$f":"'Bill of Materials'!H1416","v":0},null,null,null,0,{"$f":"'Bill of Materials'!J1416","v":0},{"$f":"'Bill of Materials'!K1416","v":0},0]
[{"$f":"'Bill of Materials'!E1417+'Bill of Materials'!F1417","v":0},{"$f":"'Bill of Materials'!M1417","v":0},{"$f":"'Bill of Materials'!G1417","v":0},{"$f":"'Bill of Materials'!L1417","v":0},{"$f":"'Bill of Materials'!N1417","v":0},{"$f":"'Bill of Materials'!P1417","v":0},{"$f":"'Bill of Materials'!C1417","v":0},{"$f":"'Bill of Materials'!H1417","v":0},null,null,null,0,{"$f":"'Bill of Materials'!J1417","v":0},{"$f":"'Bill of Materials'!K1417","v":0},0]
[{"$f":"'Bill of Materials'!E1418+'Bill of Materials'!F1418","v":0},{"$f":"'Bill of Materials'!M1418","v":0},{"$f":"'Bill of Materials'!G1418","v":0},{"$f":"'Bill of Materials'!L1418","v":0},{"$f":"'Bill of Materials'!N1418","v":0},{"$f":"'Bill of Materials'!P1418","v":0},{"$f":"'Bill of Materials'!C1418","v":0},{"$f":"'Bill of Materials'!H1418","v":0},null,null,null,0,{"$f":"'Bill of Materials'!J1418","v":0},{"$f":"'Bill of Materials'!K1418","v":0},0]
[{"$f":"'Bill of Materials'!E1419+'Bill of Materials'!F1419","v":0},{"$f":"'Bill of Materials'!M1419","v":0},{"$f":"'Bill of Materials'!G1419","v":0},{"$f":"'Bill of Materials'!L1419","v":0},{"$f":"'Bill of Materials'!N1419","v":0},{"$f":"'Bill of Materials'!P1419","v":0},{"$f":"'Bill of Materials'!C1419","v":0},{"$f":"'Bill of Materials'!H1419","v":0},null,null,null,0,{"$f":"'Bill of Materials'!J1419","v":0},{"$f":"'Bill of Materials'!K1419","v":0},0]
[{"$f":"'Bill of Materials'!E1420+'Bill of Materials'!F1420","v":0},{"$f":"'Bill of Materials'!M1420","v":0},{"$f":"'Bill of Materials'!G1420","v":0},{"$f":"'Bill of Materials'!L1420","v":0},{"$f":"'Bill of Materials'!N1420","v":0},{"$f":"'Bill of Materials'!P1420","v":0},{"$f":"'Bill of Materials'!C1420","v":0},{"$f":"'Bill of Materials'!H1420","v":0},null,null,null,0,{"$f":"'Bill of Materials'!J1420","v":0},{"$f":"'Bill of Materials'!K1420","v":0},0]
[{"$f":"'Bill of Materials'!E1421+'Bill of Materials'!F1421","v":0},{"$f":"'Bill of Materials'!M1421","v":0},{"$f":"'Bill of Materials'!G1421","v":0},{"$f":"'Bill of Materials'!L1421","v":0},{"$f":"'Bill of Materials'!N1421","v":0},{"$f":"'Bill of Materials'!P1421","v":0},{"$f":"'Bill of Materials'!C1421","v":0},{"$f":"'Bill of Materials'!H1421","v":0},null,null,null,0,{"$f":"'Bill of Materials'!J1421","v":0},{"$f":"'Bill of Materials'!K1421","v":0},0]
[{"$f":"'Bill of Materials'!E1422+'Bill of Materials'!F1422","v":0},{"$f":"'Bill of Materials'!M1422","v":0},{"$f":"'Bill of Materials'!G1422","v":0},{"$f":"'Bill of Materials'!L1422","v":0},{"$f":"'Bill of Materials'!N1422","v":0},{"$f":"'Bill of Materials'!P1422","v":0},{"$f":"'Bill of Materials'!C1422","v":0},{"$f":"'Bill of Materials'!H1422","v":0},null,null,null,0,{"$f":"'Bill of Materials'!J1422","v":0},{"$f":"'Bill of Materials'!K1422","v":0},0]
[{"$f":"'Bill of Materials'!E1423+'Bill of Materials'!F1423","v":0},{"$f":"'Bill of Materials'!M1423","v":0},{"$f":"'Bill of Materials'!G1423","v":0},{"$f":"'Bill of Materials'!L1423","v":0},{"$f":"'Bill of Materials'!N1423","v":0},{"$f":"'Bill of Materials'!P1423","v":0},{"$f":"'Bill of Materials'!C1423","v":0},{"$f":"'Bill of Materials'!H1423","v":0},null,null,null,0,{"$f":"'Bill of Materials'!J1423","v":0},{"$f":"'Bill of Materials'!K1423","v":0},0]
[{"$f":"'Bill of Materials'!E1424+'Bill of Materials'!F1424","v":0},{"$f":"'Bill of Materials'!M1424","v":0},{"$f":"'Bill of Materials'!G1424","v":0},{"$f":"'Bill of Materials'!L1424","v":0},{"$f":"'Bill of Materials'!N1424","v":0},{"$f":"'Bill of Materials'!P1424","v":0},{"$f":"'Bill of Materials'!C1424","v":0},{"$f":"'Bill of Materials'!H1424","v":0},null,null,null,0,{"$f":"'Bill of Materials'!J1424","v":0},{"$f":"'Bill of Materials'!K1424","v":0},0]
[{"$f":"'Bill of Materials'!E1425+'Bill of Materials'!F1425","v":0},{"$f":"'Bill of Materials'!M1425","v":0},{"$f":"'Bill of Materials'!G1425","v":0},{"$f":"'Bill of Materials'!L1425","v":0},{"$f":"'Bill of Materials'!N1425","v":0},{"$f":"'Bill of Materials'!P1425","v":0},{"$f":"'Bill of Materials'!C1425","v":0},{"$f":"'Bill of Materials'!H1425","v":0},null,null,null,0,{"$f":"'Bill of Materials'!J1425","v":0},{"$f":"'Bill of Materials'!K1425","v":0},0]
[{"$f":"'Bill of Materials'!E1426+'Bill of Materials'!F1426","v":0},{"$f":"'Bill of Materials'!M1426","v":0},{"$f":"'Bill of Materials'!G1426","v":0},{"$f":"'Bill of Materials'!L1426","v":0},{"$f":"'Bill of Materials'!N1426","v":0},{"$f":"'Bill of Materials'!P1426","v":0},{"$f":"'Bill of Materials'!C1426","v":0},{"$f":"'Bill of Materials'!H1426","v":0},null,null,null,0,{"$f":"'Bill of Materials'!J1426","v":0},{"$f":"'Bill of Materials'!K1426","v":0},0]
[{"$f":"'Bill of Materials'!E1427+'Bill of Materials'!F1427","v":0},{"$f":"'Bill of Materials'!M1427","v":0},{"$f":"'Bill of Materials'!G1427","v":0},{"$f":"'Bill of Materials'!L1427","v":0},{"$f":"'Bill of Materials'!N1427","v":0},{"$f":"'Bill of Materials'!P1427","v":0},{"$f":"'Bill of Materials'!C1427","v":0},{"$f":"'Bill of Materials'!H1427","v":0},null,null,null,0,{"$f":"'Bill of Materials'!J1427","v":0},{"$f":"'Bill of Materials'!K1427","v":0},0]
[{"$f":"'Bill of Materials'!E1428+'Bill of Materials'!F1428","v":0},{"$f":"'Bill of Materials'!M1428","v":0},{"$f":"'Bill of Materials'!G1428","v":0},{"$f":"'Bill of Materials'!L1428","v":0},{"$f":"'Bill of Materials'!N1428","v":0},{"$f":"'Bill of Materials'!P1428","v":0},{"$f":"'Bill of Materials'!C1428","v":0},{"$f":"'Bill of Materials'!H1428","v":0},null,null,null,0,{"$f":"'Bill of Materials'!J1428","v":0},{"$f":"'Bill of Materials'!K1428","v":0},0]
[{"$f":"'Bill of Materials'!E1429+'Bill of Materials'!F1429","v":0},{"$f":"'Bill of Materials'!M1429","v":0},{"$f":"'Bill of Materials'!G1429","v":0},{"$f":"'Bill of Materials'!L1429","v":0},{"$f":"'Bill of Materials'!N1429","v":0},{"$f":"'Bill of Materials'!P1429","v":0},{"$f":"'Bill of Materials'!C1429","v":0},{"$f":"'Bill of Materials'!H1429","v":0},null,null,null,0,{"$f":"'Bill of Materials'!J1429","v":0},{"$f":"'Bill of Materials'!K1429","v":0},0]
[{"$f":"'Bill of Materials'!E1430+'Bill of Materials'!F1430","v":0},{"$f":"'Bill of Materials'!M1430","v":0},{"$f":"'Bill of Materials'!G1430","v":0},{"$f":"'Bill of Materials'!L1430","v":0},{"$f":"'Bill of Materials'!N1430","v":0},{"$f":"'Bill of Materials'!P1430","v":0},{"$f":"'Bill of Materials'!C1430","v":0},{"$f":"'Bill of Materials'!H1430","v":0},null,null,null,0,{"$f":"'Bill of Materials'!J1430","v":0},{"$f":"'Bill of Materials'!K1430","v":0},0]
[{"$f":"'Bill of Materials'!E1431+'Bill of Materials'!F1431","v":0},{"$f":"'Bill of Materials'!M1431","v":0},{"$f":"'Bill of Materials'!G1431","v":0},{"$f":"'Bill of Materials'!L1431","v":0},{"$f":"'Bill of Materials'!N1431","v":0},{"$f":"'Bill of Materials'!P1431","v":0},{"$f":"'Bill of Materials'!C1431","v":0},{"$f":"'Bill of Materials'!H1431","v":0},null,null,null,0,{"$f":"'Bill of Materials'!J1431","v":0},{"$f":"'Bill of Materials'!K1431","v":0},0]
[{"$f":"'Bill of Materials'!E1432+'Bill of Materials'!F1432","v":0},{"$f":"'Bill of Materials'!M1432","v":0},{"$f":"'Bill of Materials'!G1432","v":0},{"$f":"'Bill of Materials'!L1432","v":0},{"$f":"'Bill of Materials'!N1432","v":0},{"$f":"'Bill of Materials'!P1432","v":0},{"$f":"'Bill of Materials'!C1432","v":0},{"$f":"'Bill of Materials'!H1432","v":0},null,null,null,0,{"$f":"'Bill of Materials'!J1432","v":0},{"$f":"'Bill of Materials'!K1432","v":0},0]
[{"$f":"'Bill of Materials'!E1433+'Bill of Materials'!F1433","v":0},{"$f":"'Bill of Materials'!M1433","v":0},{"$f":"'Bill of Materials'!G1433","v":0},{"$f":"'Bill of Materials'!L1433","v":0},{"$f":"'Bill of Materials'!N1433","v":0},{"$f":"'Bill of Materials'!P1433","v":0},{"$f":"'Bill of Materials'!C1433","v":0},{"$f":"'Bill of Materials'!H1433","v":0},null,null,null,0,{"$f":"'Bill of Materials'!J1433","v":0},{"$f":"'Bill of Materials'!K1433","v":0},0]
[{"$f":"'Bill of Materials'!E1434+'Bill of Materials'!F1434","v":0},{"$f":"'Bill of Materials'!M1434","v":0},{"$f":"'Bill of Materials'!G1434","v":0},{"$f":"'Bill of Materials'!L1434","v":0},{"$f":"'Bill of Materials'!N1434","v":0},{"$f":"'Bill of Materials'!P1434","v":0},{"$f":"'Bill of Materials'!C1434","v":0},{"$f":"'Bill of Materials'!H1434","v":0},null,null,null,0,{"$f":"'Bill of Materials'!J1434","v":0},{"$f":"'Bill of Materials'!K1434","v":0},0]
[{"$f":"'Bill of Materials'!E1435+'Bill of Materials'!F1435","v":0},{"$f":"'Bill of Materials'!M1435","v":0},{"$f":"'Bill of Materials'!G1435","v":0},{"$f":"'Bill of Materials'!L1435","v":0},{"$f":"'Bill of Materials'!N1435","v":0},{"$f":"'Bill of Materials'!P1435","v":0},{"$f":"'Bill of Materials'!C1435","v":0},{"$f":"'Bill of Materials'!H1435","v":0},null,null,null,0,{"$f":"'Bill of Materials'!J1435","v":0},{"$f":"'Bill of Materials'!K1435","v":0},0]
[{"$f":"'Bill of Materials'!E1436+'Bill of Materials'!F1436","v":0},{"$f":"'Bill of Materials'!M1436","v":0},{"$f":"'Bill of Materials'!G1436","v":0},{"$f":"'Bill of Materials'!L1436","v":0},{"$f":"'Bill of Materials'!N1436","v":0},{"$f":"'Bill of Materials'!P1436","v":0},{"$f":"'Bill of Materials'!C1436","v":0},{"$f":"'Bill of Materials'!H1436","v":0},null,null,null,0,{"$f":"'Bill of Materials'!J1436","v":0},{"$f":"'Bill of Materials'!K1436","v":0},0]
[{"$f":"'Bill of Materials'!E1437+'Bill of Materials'!F1437","v":0},{"$f":"'Bill of Materials'!M1437","v":0},{"$f":"'Bill of Materials'!G1437","v":0},{"$f":"'Bill of Materials'!L1437","v":0},{"$f":"'Bill of Materials'!N1437","v":0},{"$f":"'Bill of Materials'!P1437","v":0},{"$f":"'Bill of Materials'!C1437","v":0},{"$f":"'Bill of Materials'!H1437","v":0},null,null,null,0,{"$f":"'Bill of Materials'!J1437","v":0},{"$f":"'Bill of Materials'!K1437","v":0},0]
[{"$f":"'Bill of Materials'!E1438+'Bill of Materials'!F1438","v":0},{"$f":"'Bill of Materials'!M1438","v":0},{"$f":"'Bill of Materials'!G1438","v":0},{"$f":"'Bill of Materials'!L1438","v":0},{"$f":"'Bill of Materials'!N1438","v":0},{"$f":"'Bill of Materials'!P1438","v":0},{"$f":"'Bill of Materials'!C1438","v":0},{"$f":"'Bill of Materials'!H1438","v":0},null,null,null,0,{"$f":"'Bill of Materials'!J1438","v":0},{"$f":"'Bill of Materials'!K1438","v":0},0]
[{"$f":"'Bill of Materials'!E1439+'Bill of Materials'!F1439","v":0},{"$f":"'Bill of Materials'!M1439","v":0},{"$f":"'Bill of Materials'!G1439","v":0},{"$f":"'Bill of Materials'!L1439","v":0},{"$f":"'Bill of Materials'!N1439","v":0},{"$f":"'Bill of Materials'!P1439","v":0},{"$f":"'Bill of Materials'!C1439","v":0},{"$f":"'Bill of Materials'!H1439","v":0},null,null,null,0,{"$f":"'Bill of Materials'!J1439","v":0},{"$f":"'Bill of Materials'!K1439","v":0},0]
[{"$f":"'Bill of Materials'!E1440+'Bill of Materials'!F1440","v":0},{"$f":"'Bill of Materials'!M1440","v":0},{"$f":"'Bill of Materials'!G1440","v":0},{"$f":"'Bill of Materials'!L1440","v":0},{"$f":"'Bill of Materials'!N1440","v":0},{"$f":"'Bill of Materials'!P1440","v":0},{"$f":"'Bill of Materials'!C1440","v":0},{"$f":"'Bill of Materials'!H1440","v":0},null,null,null,0,{"$f":"'Bill of Materials'!J1440","v":0},{"$f":"'Bill of Materials'!K1440","v":0},0]
[{"$f":"'Bill of Materials'!E1441+'Bill of Materials'!F1441","v":0},{"$f":"'Bill of Materials'!M1441","v":0},{"$f":"'Bill of Materials'!G1441","v":0},{"$f":"'Bill of Materials'!L1441","v":0},{"$f":"'Bill of Materials'!N1441","v":0},{"$f":"'Bill of Materials'!P1441","v":0},{"$f":"'Bill of Materials'!C1441","v":0},{"$f":"'Bill of Materials'!H1441","v":0},null,null,null,0,{"$f":"'Bill of Materials'!J1441","v":0},{"$f":"'Bill of Materials'!K1441","v":0},0]
[{"$f":"'Bill of Materials'!E1442+'Bill of Materials'!F1442","v":0},{"$f":"'Bill of Materials'!M1442","v":0},{"$f":"'Bill of Materials'!G1442","v":0},{"$f":"'Bill of Materials'!L1442","v":0},{"$f":"'Bill of Materials'!N1442","v":0},{"$f":"'Bill of Materials'!P1442","v":0},{"$f":"'Bill of Materials'!C1442","v":0},{"$f":"'Bill of Materials'!H1442","v":0},null,null,null,0,{"$f":"'Bill of Materials'!J1442","v":0},{"$f":"'Bill of Materials'!K1442","v":0},0]
[{"$f":"'Bill of Materials'!E1443+'Bill of Materials'!F1443","v":0},{"$f":"'Bill of Materials'!M1443","v":0},{"$f":"'Bill of Materials'!G1443","v":0},{"$f":"'Bill of Materials'!L1443","v":0},{"$f":"'Bill of Materials'!N1443","v":0},{"$f":"'Bill of Materials'!P1443","v":0},{"$f":"'Bill of Materials'!C1443","v":0},{"$f":"'Bill of Materials'!H1443","v":0},null,null,null,0,{"$f":"'Bill of Materials'!J1443","v":0},{"$f":"'Bill of Materials'!K1443","v":0},0]
[{"$f":"'Bill of Materials'!E1444+'Bill of Materials'!F1444","v":0},{"$f":"'Bill of Materials'!M1444","v":0},{"$f":"'Bill of Materials'!G1444","v":0},{"$f":"'Bill of Materials'!L1444","v":0},{"$f":"'Bill of Materials'!N1444","v":0},{"$f":"'Bill of Materials'!P1444","v":0},{"$f":"'Bill of Materials'!C1444","v":0},{"$f":"'Bill of Materials'!H1444","v":0},null,null,null,0,{"$f":"'Bill of Materials'!J1444","v":0},{"$f":"'Bill of Materials'!K1444","v":0},0]
[{"$f":"'Bill of Materials'!E1445+'Bill of Materials'!F1445","v":0},{"$f":"'Bill of Materials'!M1445","v":0},{"$f":"'Bill of Materials'!G1445","v":0},{"$f":"'Bill of Materials'!L1445","v":0},{"$f":"'Bill of Materials'!N1445","v":0},{"$f":"'Bill of Materials'!P1445","v":0},{"$f":"'Bill of Materials'!C1445","v":0},{"$f":"'Bill of Materials'!H1445","v":0},null,null,null,0,{"$f":"'Bill of Materials'!J1445","v":0},{"$f":"'Bill of Materials'!K1445","v":0},0]
[{"$f":"'Bill of Materials'!E1446+'Bill of Materials'!F1446","v":0},{"$f":"'Bill of Materials'!M1446","v":0},{"$f":"'Bill of Materials'!G1446","v":0},{"$f":"'Bill of Materials'!L1446","v":0},{"$f":"'Bill of Materials'!N1446","v":0},{"$f":"'Bill of Materials'!P1446","v":0},{"$f":"'Bill of Materials'!C1446","v":0},{"$f":"'Bill of Materials'!H1446","v":0},null,null,null,0,{"$f":"'Bill of Materials'!J1446","v":0},{"$f":"'Bill of Materials'!K1446","v":0},0]
[{"$f":"'Bill of Materials'!E1447+'Bill of Materials'!F1447","v":0},{"$f":"'Bill of Materials'!M1447","v":0},{"$f":"'Bill of Materials'!G1447","v":0},{"$f":"'Bill of Materials'!L1447","v":0},{"$f":"'Bill of Materials'!N1447","v":0},{"$f":"'Bill of Materials'!P1447","v":0},{"$f":"'Bill of Materials'!C1447","v":0},{"$f":"'Bill of Materials'!H1447","v":0},null,null,null,0,{"$f":"'Bill of Materials'!J1447","v":0},{"$f":"'Bill of Materials'!K1447","v":0},0]
[{"$f":"'Bill of Materials'!E1448+'Bill of Materials'!F1448","v":0},{"$f":"'Bill of Materials'!M1448","v":0},{"$f":"'Bill of Materials'!G1448","v":0},{"$f":"'Bill of Materials'!L1448","v":0},{"$f":"'Bill of Materials'!N1448","v":0},{"$f":"'Bill of Materials'!P1448","v":0},{"$f":"'Bill of Materials'!C1448","v":0},{"$f":"'Bill of Materials'!H1448","v":0},null,null,null,0,{"$f":"'Bill of Materials'!J1448","v":0},{"$f":"'Bill of Materials'!K1448","v":0},0]
[{"$f":"'Bill of Materials'!E1449+'Bill of Materials'!F1449","v":0},{"$f":"'Bill of Materials'!M1449","v":0},{"$f":"'Bill of Materials'!G1449","v":0},{"$f":"'Bill of Materials'!L1449","v":0},{"$f":"'Bill of Materials'!N1449","v":0},{"$f":"'Bill of Materials'!P1449","v":0},{"$f":"'Bill of Materials'!C1449","v":0},{"$f":"'Bill of Materials'!H1449","v":0},null,null,null,0,{"$f":"'Bill of Materials'!J1449","v":0},{"$f":"'Bill of Materials'!K1449","v":0},0]
[{"$f":"'Bill of Materials'!E1450+'Bill of Materials'!F1450","v":0},{"$f":"'Bill of Materials'!M1450","v":0},{"$f":"'Bill of Materials'!G1450","v":0},{"$f":"'Bill of Materials'!L1450","v":0},{"$f":"'Bill of Materials'!N1450","v":0},{"$f":"'Bill of Materials'!P1450","v":0},{"$f":"'Bill of Materials'!C1450","v":0},{"$f":"'Bill of Materials'!H1450","v":0},null,null,null,0,{"$f":"'Bill of Materials'!J1450","v":0},{"$f":"'Bill of Materials'!K1450","v":0},0]
[{"$f":"'Bill of Materials'!E1451+'Bill of Materials'!F1451","v":0},{"$f":"'Bill of Materials'!M1451","v":0},{"$f":"'Bill of Materials'!G1451","v":0},{"$f":"'Bill of Materials'!L1451","v":0},{"$f":"'Bill of Materials'!N1451","v":0},{"$f":"'Bill of Materials'!P1451","v":0},{"$f":"'Bill of Materials'!C1451","v":0},{"$f":"'Bill of Materials'!H1451","v":0},null,null,null,0,{"$f":"'Bill of Materials'!J1451","v":0},{"$f":"'Bill of Materials'!K1451","v":0},0]
[{"$f":"'Bill of Materials'!E1452+'Bill of Materials'!F1452","v":0},{"$f":"'Bill of Materials'!M1452","v":0},{"$f":"'Bill of Materials'!G1452","v":0},{"$f":"'Bill of Materials'!L1452","v":0},{"$f":"'Bill of Materials'!N1452","v":0},{"$f":"'Bill of Materials'!P1452","v":0},{"$f":"'Bill of Materials'!C1452","v":0},{"$f":"'Bill of Materials'!H1452","v":0},null,null,null,0,{"$f":"'Bill of Materials'!J1452","v":0},{"$f":"'Bill of Materials'!K1452","v":0},0]
[{"$f":"'Bill of Materials'!E1453+'Bill of Materials'!F1453","v":0},{"$f":"'Bill of Materials'!M1453","v":0},{"$f":"'Bill of Materials'!G1453","v":0},{"$f":"'Bill of Materials'!L1453","v":0},{"$f":"'Bill of Materials'!N1453","v":0},{"$f":"'Bill of Materials'!P1453","v":0},{"$f":"'Bill of Materials'!C1453","v":0},{"$f":"'Bill of Materials'!H1453","v":0},null,null,null,0,{"$f":"'Bill of Materials'!J1453","v":0},{"$f":"'Bill of Materials'!K1453","v":0},0]

{"sheet":"Non Standard Materials","index":9,"n_rows":1500,"n_cols":15,"rows_kept":1500,"cut":false,"hidden":false,"merged":[[0,1,0,2],[5,1,5,2],[6,1,6,2],[1,1,1,2],[2,1,2,2],[3,1,3,2],[4,1,4,2]]}
[{"$f":"'Settings and Views'!A4","v":"Project Number:"},{"$f":"'Settings and Views'!B4","v":"[Rnum]"}]
[{"$f":"'Settings and Views'!A3","v":"Project Name:"},{"$f":"'Settings and Views'!B3","v":"[Project Name]"},null,null,null,"NIS items require a DWC Quote"]
[{"$f":"'Settings and Views'!A5","v":"Shipping Address1"},{"$f":"IF('Settings and Views'!B5>0,'Settings and Views'!B5,\"\")","v":""}]
[{"$f":"'Settings and Views'!A6","v":"Shipping Address2"},{"$f":"IF('Settings and Views'!B6>0,'Settings and Views'!B6,\"\")","v":""},null,null,"Counts",{"$f":"SUBTOTAL(9,$O$11:$O$13645)","v":0}]
[{"$f":"'Settings and Views'!A7","v":"Shipping City"},{"$f":"IF('Settings and Views'!B7>0,'Settings and Views'!B7,\"\")","v":""},null,null,"Total $",{"$f":"SUBTOTAL(9,$L$11:$L$13646)","v":0}]
[{"$f":"'Settings and Views'!A8","v":"Shipping State"},{"$f":"IF('Settings and Views'!B8>0,'Settings and Views'!B8,\"\")","v":""}]
[{"$f":"'Settings and Views'!A9","v":"Shipping ZIP"},{"$f":"IF('Settings and Views'!B9>0,'Settings and Views'!B9,\"\")","v":""}]
[]
["Quantity","Units","Item Description","Manufacturer","Unit Price (USD)","Supplier","Supplier Part Number","Manufacturer Part Number",null,null,null,"Total Cost","STD NON STD","Physical Logical"]
[]
[{"$f":"'Bill of Materials'!#REF!+'Bill of Materials'!#REF!","v":{"$error":"#REF!"}},{"$f":"'Bill of Materials'!#REF!","v":{"$error":"#REF!"}},{"$f":"'Bill of Materials'!#REF!","v":{"$error":"#REF!"}},{"$f":"'Bill of Materials'!#REF!","v":{"$error":"#REF!"}},{"$f":"'Bill of Materials'!#REF!","v":{"$error":"#REF!"}},{"$f":"'Bill of Materials'!#REF!","v":{"$error":"#REF!"}},{"$f":"'Bill of Materials'!#REF!","v":{"$error":"#REF!"}},{"$f":"'Bill of Materials'!#REF!","v":{"$error":"#REF!"}},null,null,null,{"$f":"E11*A11","v":{"$error":"#REF!"}},{"$f":"'Bill of Materials'!#REF!","v":{"$error":"#REF!"}},{"$f":"'Bill of Materials'!#REF!","v":{"$error":"#REF!"}},{"$f":"IF(A11>0,1,0)","v":{"$error":"#REF!"}}]
[{"$f":"'Bill of Materials'!#REF!+'Bill of Materials'!#REF!","v":{"$error":"#REF!"}},{"$f":"'Bill of Materials'!#REF!","v":{"$error":"#REF!"}},{"$f":"'Bill of Materials'!#REF!","v":{"$error":"#REF!"}},{"$f":"'Bill of Materials'!#REF!","v":{"$error":"#REF!"}},{"$f":"'Bill of Materials'!#REF!","v":{"$error":"#REF!"}},{"$f":"'Bill of Materials'!#REF!","v":{"$error":"#REF!"}},{"$f":"'Bill of Materials'!#REF!","v":{"$error":"#REF!"}},{"$f":"'Bill of Materials'!#REF!","v":{"$error":"#REF!"}},null,null,null,{"$f":"E12*A12","v":{"$error":"#REF!"}},{"$f":"'Bill of Materials'!#REF!","v":{"$error":"#REF!"}},{"$f":"'Bill of Materials'!#REF!","v":{"$error":"#REF!"}},{"$f":"IF(A12>0,1,0)","v":{"$error":"#REF!"}}]
[{"$f":"'Bill of Materials'!#REF!+'Bill of Materials'!#REF!","v":{"$error":"#REF!"}},{"$f":"'Bill of Materials'!#REF!","v":{"$error":"#REF!"}},{"$f":"'Bill of Materials'!#REF!","v":{"$error":"#REF!"}},{"$f":"'Bill of Materials'!#REF!","v":{"$error":"#REF!"}},{"$f":"'Bill of Materials'!#REF!","v":{"$error":"#REF!"}},{"$f":"'Bill of Materials'!#REF!","v":{"$error":"#REF!"}},{"$f":"'Bill of Materials'!#REF!","v":{"$error":"#REF!"}},{"$f":"'Bill of Materials'!#REF!","v":{"$error":"#REF!"}},null,null,null,{"$error":"#REF!"},{"$f":"'Bill of Materials'!#REF!","v":{"$error":"#REF!"}},{"$f":"'Bill of Materials'!#REF!","v":{"$error":"#REF!"}},{"$error":"#REF!"}]
[{"$f":"'Bill of Materials'!#REF!+'Bill of Materials'!#REF!","v":{"$error":"#REF!"}},{"$f":"'Bill of Materials'!#REF!","v":{"$error":"#REF!"}},{"$f":"'Bill of Materials'!#REF!","v":{"$error":"#REF!"}},{"$f":"'Bill of Materials'!#REF!","v":{"$error":"#REF!"}},{"$f":"'Bill of Materials'!#REF!","v":{"$error":"#REF!"}},{"$f":"'Bill of Materials'!#REF!","v":{"$error":"#REF!"}},{"$f":"'Bill of Materials'!#REF!","v":{"$error":"#REF!"}},{"$f":"'Bill of Materials'!#REF!","v":{"$error":"#REF!"}},null,null,null,{"$error":"#REF!"},{"$f":"'Bill of Materials'!#REF!","v":{"$error":"#REF!"}},{"$f":"'Bill of Materials'!#REF!","v":{"$error":"#REF!"}},{"$error":"#REF!"}]
[{"$f":"'Bill of Materials'!#REF!+'Bill of Materials'!#REF!","v":{"$error":"#REF!"}},{"$f":"'Bill of Materials'!#REF!","v":{"$error":"#REF!"}},{"$f":"'Bill of Materials'!#REF!","v":{"$error":"#REF!"}},{"$f":"'Bill of Materials'!#REF!","v":{"$error":"#REF!"}},{"$f":"'Bill of Materials'!#REF!","v":{"$error":"#REF!"}},{"$f":"'Bill of Materials'!#REF!","v":{"$error":"#REF!"}},{"$f":"'Bill of Materials'!#REF!","v":{"$error":"#REF!"}},{"$f":"'Bill of Materials'!#REF!","v":{"$error":"#REF!"}},null,null,null,{"$error":"#REF!"},{"$f":"'Bill of Materials'!#REF!","v":{"$error":"#REF!"}},{"$f":"'Bill of Materials'!#REF!","v":{"$error":"#REF!"}},{"$error":"#REF!"}]
[{"$f":"'Bill of Materials'!#REF!+'Bill of Materials'!#REF!","v":{"$error":"#REF!"}},{"$f":"'Bill of Materials'!#REF!","v":{"$error":"#REF!"}},{"$f":"'Bill of Materials'!#REF!","v":{"$error":"#REF!"}},{"$f":"'Bill of Materials'!#REF!","v":{"$error":"#REF!"}},{"$f":"'Bill of Materials'!#REF!","v":{"$error":"#REF!"}},{"$f":"'Bill of Materials'!#REF!","v":{"$error":"#REF!"}},{"$f":"'Bill of Materials'!#REF!","v":{"$error":"#REF!"}},{"$f":"'Bill of Materials'!#REF!","v":{"$error":"#REF!"}},null,null,null,{"$error":"#REF!"},{"$f":"'Bill of Materials'!#REF!","v":{"$error":"#REF!"}},{"$f":"'Bill of Materials'!#REF!","v":{"$error":"#REF!"}},{"$error":"#REF!"}]
[{"$f":"'Bill of Materials'!#REF!+'Bill of Materials'!#REF!","v":{"$error":"#REF!"}},{"$f":"'Bill of Materials'!#REF!","v":{"$error":"#REF!"}},{"$f":"'Bill of Materials'!#REF!","v":{"$error":"#REF!"}},{"$f":"'Bill of Materials'!#REF!","v":{"$error":"#REF!"}},{"$f":"'Bill of Materials'!#REF!","v":{"$error":"#REF!"}},{"$f":"'Bill of Materials'!#REF!","v":{"$error":"#REF!"}},{"$f":"'Bill of Materials'!#REF!","v":{"$error":"#REF!"}},{"$f":"'Bill of Materials'!#REF!","v":{"$error":"#REF!"}},null,null,null,{"$error":"#REF!"},{"$f":"'Bill of Materials'!#REF!","v":{"$error":"#REF!"}},{"$f":"'Bill of Materials'!#REF!","v":{"$error":"#REF!"}},{"$error":"#REF!"}]
[{"$f":"'Bill of Materials'!#REF!+'Bill of Materials'!#REF!","v":{"$error":"#REF!"}},{"$f":"'Bill of Materials'!#REF!","v":{"$error":"#REF!"}},{"$f":"'Bill of Materials'!#REF!","v":{"$error":"#REF!"}},{"$f":"'Bill of Materials'!#REF!","v":{"$error":"#REF!"}},{"$f":"'Bill of Materials'!#REF!","v":{"$error":"#REF!"}},{"$f":"'Bill of Materials'!#REF!","v":{"$error":"#REF!"}},{"$f":"'Bill of Materials'!#REF!","v":{"$error":"#REF!"}},{"$f":"'Bill of Materials'!#REF!","v":{"$error":"#REF!"}},null,null,null,{"$error":"#REF!"},{"$f":"'Bill of Materials'!#REF!","v":{"$error":"#REF!"}},{"$f":"'Bill of Materials'!#REF!","v":{"$error":"#REF!"}},{"$error":"#REF!"}]
[{"$f":"'Bill of Materials'!#REF!+'Bill of Materials'!#REF!","v":{"$error":"#REF!"}},{"$f":"'Bill of Materials'!#REF!","v":{"$error":"#REF!"}},{"$f":"'Bill of Materials'!#REF!","v":{"$error":"#REF!"}},{"$f":"'Bill of Materials'!#REF!","v":{"$error":"#REF!"}},{"$f":"'Bill of Materials'!#REF!","v":{"$error":"#REF!"}},{"$f":"'Bill of Materials'!#REF!","v":{"$error":"#REF!"}},{"$f":"'Bill of Materials'!#REF!","v":{"$error":"#REF!"}},{"$f":"'Bill of Materials'!#REF!","v":{"$error":"#REF!"}},null,null,null,{"$error":"#REF!"},{"$f":"'Bill of Materials'!#REF!","v":{"$error":"#REF!"}},{"$f":"'Bill of Materials'!#REF!","v":{"$error":"#REF!"}},{"$error":"#REF!"}]
[{"$f":"'Bill of Materials'!#REF!+'Bill of Materials'!#REF!","v":{"$error":"#REF!"}},{"$f":"'Bill of Materials'!#REF!","v":{"$error":"#REF!"}},{"$f":"'Bill of Materials'!#REF!","v":{"$error":"#REF!"}},{"$f":"'Bill of Materials'!#REF!","v":{"$error":"#REF!"}},{"$f":"'Bill of Materials'!#REF!","v":{"$error":"#REF!"}},{"$f":"'Bill of Materials'!#REF!","v":{"$error":"#REF!"}},{"$f":"'Bill of Materials'!#REF!","v":{"$error":"#REF!"}},{"$f":"'Bill of Materials'!#REF!","v":{"$error":"#REF!"}},null,null,null,{"$error":"#REF!"},{"$f":"'Bill of Materials'!#REF!","v":{"$error":"#REF!"}},{"$f":"'Bill of Materials'!#REF!","v":{"$error":"#REF!"}},{"$error":"#REF!"}]
[{"$f":"'Bill of Materials'!#REF!+'Bill of Materials'!#REF!","v":{"$error":"#REF!"}},{"$f":"'Bill of Materials'!#REF!","v":{"$error":"#REF!"}},{"$f":"'Bill of Materials'!#REF!","v":{"$error":"#REF!"}},{"$f":"'Bill of Materials'!#REF!","v":{"$error":"#REF!"}},{"$f":"'Bill of Materials'!#REF!","v":{"$error":"#REF!"}},{"$f":"'Bill of Materials'!#REF!","v":{"$error":"#REF!"}},{"$f":"'Bill of Materials'!#REF!","v":{"$error":"#REF!"}},{"$f":"'Bill of Materials'!#REF!","v":{"$error":"#REF!"}},null,null,null,{"$error":"#REF!"},{"$f":"'Bill of Materials'!#REF!","v":{"$error":"#REF!"}},{"$f":"'Bill of Materials'!#REF!","v":{"$error":"#REF!"}},{"$error":"#REF!"}]
[{"$f":"'Bill of Materials'!E5+'Bill of Materials'!F5","v":0},{"$f":"'Bill of Materials'!M5","v":"EA"},{"$f":"'Bill of Materials'!G5","v":"Fluke Cable Analyzer - Includes DTX-1800 Main and Smart Remote, LinkWare PC Software, 16MB MMC Card Cat 6/Class E Permanent Link Adapters (2), Cat 6/Class E Channel Adapters (2), ACCharges (2), Carrying Case, USB Interface Cable (Mini B), Serial RS-232 Cable (DB9 to IEEE1394) User Manual (Copper test set only)"},{"$f":"'Bill of Materials'!L5","v":"Fluke"},{"$f":"'Bill of Materials'!N5","v":7747.75},{"$f":"'Bill of Materials'!P5","v":"DWC"},{"$f":"'Bill of Materials'!C5","v":"INFO-7030"},{"$f":"'Bill of Materials'!H5","v":"DTX-1800 "},null,null,null,0,{"$f":"'Bill of Materials'!J5","v":"standard material"},{"$f":"'Bill of Materials'!K5","v":"physical"},0]
[{"$f":"'Bill of Materials'!E6+'Bill of Materials'!F6","v":0},{"$f":"'Bill of Materials'!M6","v":"EA"},{"$f":"'Bill of Materials'!G6","v":"Fluke DTX-1800 (INFO-7030) with Multimode Fiber Modules (INFO-7033)- Includes DTX 1800 Cable Analyzer and a set of DTX-MFM Multimode Fiber Modules "},{"$f":"'Bill of Materials'!L6","v":"Fluke"},{"$f":"'Bill of Materials'!N6","v":11007.5},{"$f":"'Bill of Materials'!P6","v":"DWC"},{"$f":"'Bill of Materials'!C6","v":"INFO-7031"},{"$f":"'Bill of Materials'!H6","v":"DTX-1800-M"},null,null,null,0,{"$f":"'Bill of Materials'!J6","v":"standard material"},{"$f":"'Bill of Materials'!K6","v":"physical"},0]
[{"$f":"'Bill of Materials'!E7+'Bill of Materials'!F7","v":0},{"$f":"'Bill of Materials'!M7","v":"EA"},{"$f":"'Bill of Materials'!G7","v":"Fluke DTX-1800 (INFO-7030) with Multimode (INFO-7033) and Singlemode (INFO-7034) Fiber Modules - Includes DTX 1800 Cable Analyzer and set of DTX-MFM Multimode Fiber Modules and DTX-SFM Singlemode Fiber Modules"},{"$f":"'Bill of Materials'!L7","v":"Fluke"},{"$f":"'Bill of Materials'!N7","v":16222.25},{"$f":"'Bill of Materials'!P7","v":"DWC"},{"$f":"'Bill of Materials'!C7","v":"INFO-7032"},{"$f":"'Bill of Materials'!H7","v":"DTX-1800-MS"},null,null,null,0,{"$f":"'Bill of Materials'!J7","v":"standard material"},{"$f":"'Bill of Materials'!K7","v":"physical"},0]
[{"$f":"'Bill of Materials'!E8+'Bill of Materials'!F8","v":0},{"$f":"'Bill of Materials'!M8","v":"EA"},{"$f":"'Bill of Materials'!G8","v":"Fluke DTX Multimode Fiber Modules "},{"$f":"'Bill of Materials'!L8","v":"Fluke"},{"$f":"'Bill of Materials'!N8","v":3956.75},{"$f":"'Bill of Materials'!P8","v":"DWC"},{"$f":"'Bill of Materials'!C8","v":"INFO-7033"},{"$f":"'Bill of Materials'!H8","v":"DTX-MFM"},null,null,null,0,{"$f":"'Bill of Materials'!J8","v":"standard material"},{"$f":"'Bill of Materials'!K8","v":"physical"},0]
[{"$f":"'Bill of Materials'!E9+'Bill of Materials'!F9","v":0},{"$f":"'Bill of Materials'!M9","v":"EA"},{"$f":"'Bill of Materials'!G9","v":"Fluke DTX Singlemode Fiber Modules"},{"$f":"'Bill of Materials'!L9","v":"Fluke"},{"$f":"'Bill of Materials'!N9","v":5516.5},{"$f":"'Bill of Materials'!P9","v":"DWC"},{"$f":"'Bill of Materials'!C9","v":"INFO-7034"},{"$f":"'Bill of Materials'!H9","v":"DTX-SFM"},null,null,null,0,{"$f":"'Bill of Materials'!J9","v":"standard material"},{"$f":"'Bill of Materials'!K9","v":"physical"},0]
[{"$f":"'Bill of Materials'!E10+'Bill of Materials'!F10","v":0},{"$f":"'Bill of Materials'!M10","v":"EA"},{"$f":"'Bill of Materials'!G10","v":"Fluke One Universal Permanent Link Adapter for use with the DTX series cable analyzer"},{"$f":"'Bill of Materials'!L10","v":"Fluke"},{"$f":"'Bill of Materials'!N10","v":310.25},{"$f":"'Bill of Materials'!P10","v":"DWC"},{"$f":"'Bill of Materials'!C10","v":"INFO-7035"},{"$f":"'Bill of Materials'!H10","v":"DTX-PLA001"},null,null,null,0,{"$f":"'Bill of Materials'!J10","v":"standard material"},{"$f":"'Bill of Materials'!K10","v":"physical"},0]
[{"$f":"'Bill of Materials'!E11+'Bill of Materials'!F11","v":0},{"$f":"'Bill of Materials'!M11","v":"EA"},{"$f":"'Bill of Materials'!G11","v":"Fluke Universal Permanent Link Adapters (2) with PM06 Personality Module"},{"$f":"'Bill of Materials'!L11","v":"Fluke"},{"$f":"'Bill of Materials'!N11","v":675.75},{"$f":"'Bill of Materials'!P11","v":"DWC"},{"$f":"'Bill of Materials'!C11","v":"INFO-7036"},{"$f":"'Bill of Materials'!H11","v":"DTX-PLA001S"},null,null,null,0,{"$f":"'Bill of Materials'!J11","v":"standard material"},{"$f":"'Bill of Materials'!K11","v":"physical"},0]
[{"$f":"'Bill of Materials'!E12+'Bill of Materials'!F12","v":0},{"$f":"'Bill of Materials'!M12","v":"EA"},{"$f":"'Bill of Materials'!G12","v":"Fluke Cat 6/Class E Channel Adapter"},{"$f":"'Bill of Materials'!L12","v":"Fluke"},{"$f":"'Bill of Materials'!N12","v":110.5},{"$f":"'Bill of Materials'!P12","v":"DWC"},{"$f":"'Bill of Materials'!C12","v":"INFO-7037"},{"$f":"'Bill of Materials'!H12","v":"DTX-CHA001"},null,null,null,0,{"$f":"'Bill of Materials'!J12","v":"standard material"},{"$f":"'Bill of Materials'!K12","v":"physical"},0]
[{"$f":"'Bill of Materials'!E13+'Bill of Materials'!F13","v":0},{"$f":"'Bill of Materials'!M13","v":"EA"},{"$f":"'Bill of Materials'!G13","v":"Fluke Cat 6/Class E Channel Adapter, set of 2"},{"$f":"'Bill of Materials'!L13","v":"Fluke"},{"$f":"'Bill of Materials'!N13","v":216.75},{"$f":"'Bill of Materials'!P13","v":"DWC"},{"$f":"'Bill of Materials'!C13","v":"INFO-7038"},{"$f":"'Bill of Materials'!H13","v":"DTX-CHA001S"},null,null,null,0,{"$f":"'Bill of Materials'!J13","v":"standard material"},{"$f":"'Bill of Materials'!K13","v":"physical"},0]
[{"$f":"'Bill of Materials'!E14+'Bill of Materials'!F14","v":0},{"$f":"'Bill of Materials'!M14","v":"EA"},{"$f":"'Bill of Materials'!G14","v":"Fluke: Lithium Ion Battery Pack"},{"$f":"'Bill of Materials'!L14","v":"Fluke"},{"$f":"'Bill of Materials'!N14","v":238},{"$f":"'Bill of Materials'!P14","v":"DWC"},{"$f":"'Bill of Materials'!C14","v":"INFO-7039"},{"$f":"'Bill of Materials'!H14","v":"DTX-LION"},null,null,null,0,{"$f":"'Bill of Materials'!J14","v":"standard material"},{"$f":"'Bill of Materials'!K14","v":"physical"},0]
[{"$f":"'Bill of Materials'!E15+'Bill of Materials'!F15","v":0},{"$f":"'Bill of Materials'!M15","v":"EA"},{"$f":"'Bill of Materials'!G15","v":"Fluke: Serial RS-232 Cable (DB-9 to IEEE1394)"},{"$f":"'Bill of Materials'!L15","v":"Fluke"},{"$f":"'Bill of Materials'!N15","v":25.5},{"$f":"'Bill of Materials'!P15","v":"DWC"},{"$f":"'Bill of Materials'!C15","v":"INFO-7040"},{"$f":"'Bill of Materials'!H15","v":"DTX-SER"},null,null,null,0,{"$f":"'Bill of Materials'!J15","v":"standard material"},{"$f":"'Bill of Materials'!K15","v":"physical"},0]
[{"$f":"'Bill of Materials'!E16+'Bill of Materials'!F16","v":0},{"$f":"'Bill of Materials'!M16","v":"EA"},{"$f":"'Bill of Materials'!G16","v":"Fluke: Standard Carrying Case for DTX Series"},{"$f":"'Bill of Materials'!L16","v":"Fluke"},{"$f":"'Bill of Materials'!N16","v":170},{"$f":"'Bill of Materials'!P16","v":"DWC"},{"$f":"'Bill of Materials'!C16","v":"INRF-7041"},{"$f":"'Bill of Materials'!H16","v":"DTX-CASE"},null,null,null,0,{"$f":"'Bill of Materials'!J16","v":"standard material"},{"$f":"'Bill of Materials'!K16","v":"physical"},0]
[{"$f":"'Bill of Materials'!E17+'Bill of Materials'!F17","v":0},{"$f":"'Bill of Materials'!M17","v":"EA"},{"$f":"'Bill of Materials'!G17","v":"Fluke Personality Module (Avaya)"},{"$f":"'Bill of Materials'!L17","v":"Fluke"},{"$f":"'Bill of Materials'!N17","v":140.25},{"$f":"'Bill of Materials'!P17","v":"DWC"},{"$f":"'Bill of Materials'!C17","v":"INRF-7042"},{"$f":"'Bill of Materials'!H17","v":"DSP-PM10B"},null,null,null,0,{"$f":"'Bill of Materials'!J17","v":"standard material"},{"$f":"'Bill of Materials'!K17","v":"physical"},0]
[{"$f":"'Bill of Materials'!E18+'Bill of Materials'!F18","v":0},{"$f":"'Bill of Materials'!M18","v":"EA"},{"$f":"'Bill of Materials'!G18","v":"Fluke Cat6 Centered Personality Module"},{"$f":"'Bill of Materials'!L18","v":"Fluke"},{"$f":"'Bill of Materials'!N18","v":174.25},{"$f":"'Bill of Materials'!P18","v":"DWC"},{"$f":"'Bill of Materials'!C18","v":"INRF-7043"},{"$f":"'Bill of Materials'!H18","v":"DSP-PM06"},null,null,null,0,{"$f":"'Bill of Materials'!J18","v":"standard material"},{"$f":"'Bill of Materials'!K18","v":"physical"},0]
[{"$f":"'Bill of Materials'!E19+'Bill of Materials'!F19","v":0},{"$f":"'Bill of Materials'!M19","v":"EA"},{"$f":"'Bill of Materials'!G19","v":"Covers the DTX (any model) one year, one calibrations (Needed for Cable Analyzer)"},{"$f":"'Bill of Materials'!L19","v":"Fluke"},{"$f":"'Bill of Materials'!N19","v":674.05},{"$f":"'Bill of Materials'!P19","v":"DWC"},{"$f":"'Bill of Materials'!C19","v":"INRF-7044"},{"$f":"'Bill of Materials'!H19","v":"GLD-DTX"},null,null,null,0,{"$f":"'Bill of Materials'!J19","v":"standard material"},{"$f":"'Bill of Materials'!K19","v":"physical"},0]
[{"$f":"'Bill of Materials'!E20+'Bill of Materials'!F20","v":0},{"$f":"'Bill of Materials'!M20","v":"EA"},{"$f":"'Bill of Materials'!G20","v":"Covers the DTX Fiber Module (any model) one year (Needed for Fiber Modules) "},{"$f":"'Bill of Materials'!L20","v":"Fluke"},{"$f":"'Bill of Materials'!N20","v":477.7},{"$f":"'Bill of Materials'!P20","v":"DWC"},{"$f":"'Bill of Materials'!C20","v":"INRF-7045"},{"$f":"'Bill of Materials'!H20","v":"GLD-DTX-FIBERMOD"},null,null,null,0,{"$f":"'Bill of Materials'!J20","v":"standard material"},{"$f":"'Bill of Materials'!K20","v":"physical"},0]
[{"$f":"'Bill of Materials'!#REF!+'Bill of Materials'!#REF!","v":{"$error":"#REF!"}},{"$f":"'Bill of Materials'!#REF!","v":{"$error":"#REF!"}},{"$f":"'Bill of Materials'!#REF!","v":{"$error":"#REF!"}},{"$f":"'Bill of Materials'!#REF!","v":{"$error":"#REF!"}},{"$f":"'Bill of Materials'!#REF!","v":{"$error":"#REF!"}},{"$f":"'Bill of Materials'!#REF!","v":{"$error":"#REF!"}},{"$f":"'Bill of Materials'!#REF!","v":{"$error":"#REF!"}},{"$f":"'Bill of Materials'!#REF!","v":{"$error":"#REF!"}},null,null,null,{"$error":"#REF!"},{"$f":"'Bill of Materials'!#REF!","v":{"$error":"#REF!"}},{"$f":"'Bill of Materials'!#REF!","v":{"$error":"#REF!"}},{"$error":"#REF!"}]
[{"$f":"'Bill of Materials'!E22+'Bill of Materials'!F22","v":0},{"$f":"'Bill of Materials'!M22","v":"EA"},{"$f":"'Bill of Materials'!G22","v":"QuickPort Single Gang, 6 Port Stainless Wallplate"},{"$f":"'Bill of Materials'!L22","v":"Leviton"},{"$f":"'Bill of Materials'!N22","v":3.58},{"$f":"'Bill of Materials'!P22","v":"DWC"},{"$f":"'Bill of Materials'!C22","v":"10035"},{"$f":"'Bill of Materials'!H22","v":"43080-1S6"},null,null,null,0,{"$f":"'Bill of Materials'!J22","v":"standard material"},{"$f":"'Bill of Materials'!K22","v":"horizontal"},0]
[{"$f":"'Bill of Materials'!E23+'Bill of Materials'!F23","v":0},{"$f":"'Bill of Materials'!M23","v":"EA"},{"$f":"'Bill of Materials'!G23","v":"Quickport Cat 5e+ Jack, Orange (For Data 3, Data 4, Data 5 & Data 6)"},{"$f":"'Bill of Materials'!L23","v":"Leviton"},{"$f":"'Bill of Materials'!N23","v":3.11},{"$f":"'Bill of Materials'!P23","v":"DWC"},{"$f":"'Bill of Materials'!C23","v":"10043"},{"$f":"'Bill of Materials'!H23","v":"5G110-RO5"},null,null,null,0,{"$f":"'Bill of Materials'!J23","v":"standard material"},{"$f":"'Bill of Materials'!K23","v":"horizontal"},0]
[{"$f":"'Bill of Materials'!E24+'Bill of Materials'!F24","v":0},{"$f":"'Bill of Materials'!M24","v":"EA"},{"$f":"'Bill of Materials'!G24","v":"Quickport Cat 5e+ Jack, YELLOW (Vendor Network)"},{"$f":"'Bill of Materials'!L24","v":"Leviton"},{"$f":"'Bill of Materials'!N24","v":3.11},{"$f":"'Bill of Materials'!P24","v":"DWC"},{"$f":"'Bill of Materials'!C24","v":"10045"},{"$f":"'Bill of Materials'!H24","v":"5G110-RY5"},null,null,null,0,{"$f":"'Bill of Materials'!J24","v":"standard material"},{"$f":"'Bill of Materials'!K24","v":"horizontal"},0]
[{"$f":"'Bill of Materials'!E25+'Bill of Materials'!F25","v":0},{"$f":"'Bill of Materials'!M25","v":"EA"},{"$f":"'Bill of Materials'!G25","v":"QuickPort 2-port Surface Mount Box, empty, ivory"},{"$f":"'Bill of Materials'!L25","v":"Leviton"},{"$f":"'Bill of Materials'!N25","v":1.1100000000000001},{"$f":"'Bill of Materials'!P25","v":"DWC"},{"$f":"'Bill of Materials'!C25","v":"INFO-2005"},{"$f":"'Bill of Materials'!H25","v":"41089-2IP"},null,null,null,0,{"$f":"'Bill of Materials'!J25","v":"standard material"},{"$f":"'Bill of Materials'!K25","v":"horizontal"},0]
[{"$f":"'Bill of Materials'!E26+'Bill of Materials'!F26","v":0},{"$f":"'Bill of Materials'!M26","v":"EA"},{"$f":"'Bill of Materials'!G26","v":"QuickPort 4-port Surface Mount Box, empty, ivory"},{"$f":"'Bill of Materials'!L26","v":"Leviton"},{"$f":"'Bill of Materials'!N26","v":2.06},{"$f":"'Bill of Materials'!P26","v":"DWC"},{"$f":"'Bill of Materials'!C26","v":"INFO-2006"},{"$f":"'Bill of Materials'!H26","v":"41089-4IP"},null,null,null,0,{"$f":"'Bill of Materials'!J26","v":"standard material"},{"$f":"'Bill of Materials'!K26","v":"horizontal"},0]
[{"$f":"'Bill of Materials'!E27+'Bill of Materials'!F27","v":0},{"$f":"'Bill of Materials'!M27","v":"EA"},{"$f":"'Bill of Materials'!G27","v":"QuickPort 4-port Surface Mount Box, empty, black"},{"$f":"'Bill of Materials'!L27","v":"Leviton"},{"$f":"'Bill of Materials'!N27","v":2.06},{"$f":"'Bill of Materials'!P27","v":"DWC"},{"$f":"'Bill of Materials'!C27","v":"INFO-2007"},{"$f":"'Bill of Materials'!H27","v":"41089-4EP"},null,null,null,0,{"$f":"'Bill of Materials'!J27","v":"standard material"},{"$f":"'Bill of Materials'!K27","v":"horizontal"},0]
[{"$f":"'Bill of Materials'!E28+'Bill of Materials'!F28","v":0},{"$f":"'Bill of Materials'!M28","v":"EA"},{"$f":"'Bill of Materials'!G28","v":"QuickPort 1-port Surface Mount Box Kit (w/Cat 5e-ivory)"},{"$f":"'Bill of Materials'!L28","v":"Leviton"},{"$f":"'Bill of Materials'!N28","v":3.99},{"$f":"'Bill of Materials'!P28","v":"DWC"},{"$f":"'Bill of Materials'!C28","v":"INFO-2008"},{"$f":"'Bill of Materials'!H28","v":"G04-5ESM1-1IP"},null,null,null,0,{"$f":"'Bill of Materials'!J28","v":"standard material"},{"$f":"'Bill of Materials'!K28","v":"horizontal"},0]
[{"$f":"'Bill of Materials'!E29+'Bill of Materials'!F29","v":0},{"$f":"'Bill of Materials'!M29","v":"EA"},{"$f":"'Bill of Materials'!G29","v":"QuickPort 2-port Surface Mount Box Kit (w/Cat5e-Blue, Gray)"},{"$f":"'Bill of Materials'!L29","v":"Leviton"},{"$f":"'Bill of Materials'!N29","v":6.69},{"$f":"'Bill of Materials'!P29","v":"DWC"},{"$f":"'Bill of Materials'!C29","v":"INFO-2009"},{"$f":"'Bill of Materials'!H29","v":"G05-5ESM2-2IP"},null,null,null,0,{"$f":"'Bill of Materials'!J29","v":"standard material"},{"$f":"'Bill of Materials'!K29","v":"horizontal"},0]
[{"$f":"'Bill of Materials'!E30+'Bill of Materials'!F30","v":0},{"$f":"'Bill of Materials'!M30","v":"EA"},{"$f":"'Bill of Materials'!G30","v":"QuickPort 4-port Surface Mount Box Kit (w/Cat5e-Blue, red, gray, blank)"},{"$f":"'Bill of Materials'!L30","v":"Leviton"},{"$f":"'Bill of Materials'!N30","v":13.55},{"$f":"'Bill of Materials'!P30","v":"DWC"},{"$f":"'Bill of Materials'!C30","v":"INFO-2010"},{"$f":"'Bill of Materials'!H30","v":"G06-5ESM4-4IP"},null,null,null,0,{"$f":"'Bill of Materials'!J30","v":"standard material"},{"$f":"'Bill of Materials'!K30","v":"horizontal"},0]
[{"$f":"'Bill of Materials'!E31+'Bill of Materials'!F31","v":0},{"$f":"'Bill of Materials'!M31","v":"EA"},{"$f":"'Bill of Materials'!G31","v":"QuickPort Single Gang Ivory Faceplate w/ (3) Cat 5e jacks (Blue, red, gray, blank)"},{"$f":"'Bill of Materials'!L31","v":"Leviton"},{"$f":"'Bill of Materials'!N31","v":14.88},{"$f":"'Bill of Materials'!P31","v":"DWC"},{"$f":"'Bill of Materials'!C31","v":"INFO-2011"},{"$f":"'Bill of Materials'!H31","v":"G09-STDFP-DDV"},null,null,null,0,{"$f":"'Bill of Materials'!J31","v":"standard material"},{"$f":"'Bill of Materials'!K31","v":"horizontal"},0]
[{"$f":"'Bill of Materials'!E32+'Bill of Materials'!F32","v":0},{"$f":"'Bill of Materials'!M32","v":"EA"},{"$f":"'Bill of Materials'!G32","v":"QuickPort Cat 5e+ Jack, Ivory"},{"$f":"'Bill of Materials'!L32","v":"Leviton"},{"$f":"'Bill of Materials'!N32","v":3.11},{"$f":"'Bill of Materials'!P32","v":"DWC"},{"$f":"'Bill of Materials'!C32","v":"INFO-2012"},{"$f":"'Bill of Materials'!H32","v":"5G109-RI5"},null,null,null,0,{"$f":"'Bill of Materials'!J32","v":"standard material"},{"$f":"'Bill of Materials'!K32","v":"horizontal"},0]
[{"$f":"'Bill of Materials'!E33+'Bill of Materials'!F33","v":0},{"$f":"'Bill of Materials'!M33","v":"EA"},{"$f":"'Bill of Materials'!G33","v":"MOS System Blank Module, Ivory, For MOS Boxes and MOS Wallplates"},{"$f":"'Bill of Materials'!L33","v":"Leviton"},{"$f":"'Bill of Materials'!N33","v":0.53},{"$f":"'Bill of Materials'!P33","v":"DWC"},{"$f":"'Bill of Materials'!C33","v":"INFO-2013"},{"$f":"'Bill of Materials'!H33","v":"41291-1BI"},null,null,null,0,{"$f":"'Bill of Materials'!J33","v":"standard material"},{"$f":"'Bill of Materials'!K33","v":"horizontal"},0]
[{"$f":"'Bill of Materials'!E34+'Bill of Materials'!F34","v":0},{"$f":"'Bill of Materials'!M34","v":"EA"},{"$f":"'Bill of Materials'!G34","v":"QuickPort 1 port Stainless Steel flush mount faceplate w/blue Cat 5e jack"},{"$f":"'Bill of Materials'!L34","v":"Leviton"},{"$f":"'Bill of Materials'!N34","v":7.18},{"$f":"'Bill of Materials'!P34","v":"DWC"},{"$f":"'Bill of Materials'!C34","v":"INFO-2014"},{"$f":"'Bill of Materials'!H34","v":"G07-5E1FP-1SS"},null,null,null,0,{"$f":"'Bill of Materials'!J34","v":"standard material"},{"$f":"'Bill of Materials'!K34","v":"horizontal"},0]
[{"$f":"'Bill of Materials'!E35+'Bill of Materials'!F35","v":0},{"$f":"'Bill of Materials'!M35","v":"EA"},{"$f":"'Bill of Materials'!G35","v":"QuickPort 2-port Stainless Steel flush mount faceplate w/(2) Cat 5e jacks (blue & gray)"},{"$f":"'Bill of Materials'!L35","v":"Leviton"},{"$f":"'Bill of Materials'!N35","v":8.16},{"$f":"'Bill of Materials'!P35","v":"DWC"},{"$f":"'Bill of Materials'!C35","v":"INFO-2015"},{"$f":"'Bill of Materials'!H35","v":"G08-5E2FP-2SS"},null,null,null,0,{"$f":"'Bill of Materials'!J35","v":"standard material"},{"$f":"'Bill of Materials'!K35","v":"horizontal"},0]
[{"$f":"'Bill of Materials'!E36+'Bill of Materials'!F36","v":0},{"$f":"'Bill of Materials'!M36","v":"EA"},{"$f":"'Bill of Materials'!G36","v":"QuickPort Dual Gang 4-Port Faceplate, Ivory"},{"$f":"'Bill of Materials'!L36","v":"Leviton"},{"$f":"'Bill of Materials'!N36","v":2.2200000000000002},{"$f":"'Bill of Materials'!P36","v":"DWC"},{"$f":"'Bill of Materials'!C36","v":"INFO-2016"},{"$f":"'Bill of Materials'!H36","v":"42080-4IP"},null,null,null,0,{"$f":"'Bill of Materials'!J36","v":"standard material"},{"$f":"'Bill of Materials'!K36","v":"horizontal"},0]
[{"$f":"'Bill of Materials'!E37+'Bill of Materials'!F37","v":0},{"$f":"'Bill of Materials'!M37","v":"EA"},{"$f":"'Bill of Materials'!G37","v":"MOS System Single Gang Faceplate, Ivory"},{"$f":"'Bill of Materials'!L37","v":"Leviton"},{"$f":"'Bill of Materials'!N37","v":1.1499999999999999},{"$f":"'Bill of Materials'!P37","v":"DWC"},{"$f":"'Bill of Materials'!C37","v":"INFO-2017"},{"$f":"'Bill of Materials'!H37","v":"41290-SMI"},null,null,null,0,{"$f":"'Bill of Materials'!J37","v":"standard material"},{"$f":"'Bill of Materials'!K37","v":"horizontal"},0]
[{"$f":"'Bill of Materials'!E38+'Bill of Materials'!F38","v":0},{"$f":"'Bill of Materials'!M38","v":"EA"},{"$f":"'Bill of Materials'!G38","v":"MOS System Dual Gang Faceplate, Ivory"},{"$f":"'Bill of Materials'!L38","v":"Leviton"},{"$f":"'Bill of Materials'!N38","v":2.91},{"$f":"'Bill of Materials'!P38","v":"DWC"},{"$f":"'Bill of Materials'!C38","v":"INFO-2018"},{"$f":"'Bill of Materials'!H38","v":"41290-DMI"},null,null,null,0,{"$f":"'Bill of Materials'!J38","v":"standard material"},{"$f":"'Bill of Materials'!K38","v":"horizontal"},0]
[{"$f":"'Bill of Materials'!E39+'Bill of Materials'!F39","v":0},{"$f":"'Bill of Materials'!M39","v":"EA"},{"$f":"'Bill of Materials'!G39","v":"MOS System 2-port Flush Adapter, Ivory"},{"$f":"'Bill of Materials'!L39","v":"Leviton"},{"$f":"'Bill of Materials'!N39","v":0.65},{"$f":"'Bill of Materials'!P39","v":"DWC"},{"$f":"'Bill of Materials'!C39","v":"INFO-2019"},{"$f":"'Bill of Materials'!H39","v":"41291-2QI"},null,null,null,0,{"$f":"'Bill of Materials'!J39","v":"standard material"},{"$f":"'Bill of Materials'!K39","v":"horizontal"},0]
[{"$f":"'Bill of Materials'!E40+'Bill of Materials'!F40","v":0},{"$f":"'Bill of Materials'!M40","v":"EA"},{"$f":"'Bill of Materials'!G40","v":"MOS System 2-port Angled Adapter, Ivory"},{"$f":"'Bill of Materials'!L40","v":"Leviton"},{"$f":"'Bill of Materials'!N40","v":0.65},{"$f":"'Bill of Materials'!P40","v":"DWC"},{"$f":"'Bill of Materials'!C40","v":"INFO-2020"},{"$f":"'Bill of Materials'!H40","v":"41294-2QI"},null,null,null,0,{"$f":"'Bill of Materials'!J40","v":"standard material"},{"$f":"'Bill of Materials'!K40","v":"horizontal"},0]
[{"$f":"'Bill of Materials'!E41+'Bill of Materials'!F41","v":0},{"$f":"'Bill of Materials'!M41","v":"EA"},{"$f":"'Bill of Materials'!G41","v":"QuickPort Blank Insert (comes in pkg of 10 ONLY)"},{"$f":"'Bill of Materials'!L41","v":"Leviton"},{"$f":"'Bill of Materials'!N41","v":1.25},{"$f":"'Bill of Materials'!P41","v":"DWC"},{"$f":"'Bill of Materials'!C41","v":"INFO-2021"},{"$f":"'Bill of Materials'!H41","v":"41084-BIB"},null,null,null,0,{"$f":"'Bill of Materials'!J41","v":"standard material"},{"$f":"'Bill of Materials'!K41","v":"horizontal"},0]
[{"$f":"'Bill of Materials'!E42+'Bill of Materials'!F42","v":0},{"$f":"'Bill of Materials'!M42","v":"EA"},{"$f":"'Bill of Materials'!G42","v":"MT-RJ QuickPort Frame Station Adapter, Ivory, for Frame Station Connector"},{"$f":"'Bill of Materials'!L42","v":"Leviton"},{"$f":"'Bill of Materials'!N42","v":3.58},{"$f":"'Bill of Materials'!P42","v":"DWC"},{"$f":"'Bill of Materials'!C42","v":"INFO-2023"},{"$f":"'Bill of Materials'!H42","v":"49889-QFI"},null,null,null,0,{"$f":"'Bill of Materials'!J42","v":"standard material"},{"$f":"'Bill of Materials'!K42","v":"horizontal"},0]
[{"$f":"'Bill of Materials'!E43+'Bill of Materials'!F43","v":0},{"$f":"'Bill of Materials'!M43","v":"EA"},{"$f":"'Bill of Materials'!G43","v":"ST Fiber Adaptor QuickPort for MM/SM, Bronze Sleeve, White"},{"$f":"'Bill of Materials'!L43","v":"Leviton"},{"$f":"'Bill of Materials'!N43","v":4.54},{"$f":"'Bill of Materials'!P43","v":"DWC"},{"$f":"'Bill of Materials'!C43","v":"INFO-2024"},{"$f":"'Bill of Materials'!H43","v":"41084-SWF"},null,null,null,0,{"$f":"'Bill of Materials'!J43","v":"standard material"},{"$f":"'Bill of Materials'!K43","v":"horizontal"},0]
[{"$f":"'Bill of Materials'!E44+'Bill of Materials'!F44","v":0},{"$f":"'Bill of Materials'!M44","v":"EA"},{"$f":"'Bill of Materials'!G44","v":"MOS System SC Duplex Adapter, MM/SM, Angled"},{"$f":"'Bill of Materials'!L44","v":"Leviton"},{"$f":"'Bill of Materials'!N44","v":15.32},{"$f":"'Bill of Materials'!P44","v":"DWC"},{"$f":"'Bill of Materials'!C44","v":"INFO-2026"},{"$f":"'Bill of Materials'!H44","v":"41294-PCI"},null,null,null,0,{"$f":"'Bill of Materials'!J44","v":"standard material"},{"$f":"'Bill of Materials'!K44","v":"horizontal"},0]
[{"$f":"'Bill of Materials'!E45+'Bill of Materials'!F45","v":0},{"$f":"'Bill of Materials'!M45","v":"EA"},{"$f":"'Bill of Materials'!G45","v":"MOS System SC Duplex Adapter, MM/SM, Flush"},{"$f":"'Bill of Materials'!L45","v":"Leviton"},{"$f":"'Bill of Materials'!N45","v":15.16},{"$f":"'Bill of Materials'!P45","v":"DWC"},{"$f":"'Bill of Materials'!C45","v":"INFO-2027"},{"$f":"'Bill of Materials'!H45","v":"41291-PCI"},null,null,null,0,{"$f":"'Bill of Materials'!J45","v":"standard material"},{"$f":"'Bill of Materials'!K45","v":"horizontal"},0]
[{"$f":"'Bill of Materials'!E46+'Bill of Materials'!F46","v":0},{"$f":"'Bill of Materials'!M46","v":"EA"},{"$f":"'Bill of Materials'!G46","v":"QuickPort 2-port modular furniture faceplate, ivory generic"},{"$f":"'Bill of Materials'!L46","v":"Leviton"},{"$f":"'Bill of Materials'!N46","v":1.52},{"$f":"'Bill of Materials'!P46","v":"DWC"},{"$f":"'Bill of Materials'!C46","v":"INFO-2028"},{"$f":"'Bill of Materials'!H46","v":"49910-SI2"},null,null,null,0,{"$f":"'Bill of Materials'!J46","v":"standard material"},{"$f":"'Bill of Materials'!K46","v":"horizontal"},0]
[{"$f":"'Bill of Materials'!E47+'Bill of Materials'!F47","v":0},{"$f":"'Bill of Materials'!M47","v":"EA"},{"$f":"'Bill of Materials'!G47","v":"QuickPort 4-port modular furniture faceplate, ivory generic"},{"$f":"'Bill of Materials'!L47","v":"Leviton"},{"$f":"'Bill of Materials'!N47","v":1.52},{"$f":"'Bill of Materials'!P47","v":"DWC"},{"$f":"'Bill of Materials'!C47","v":"INFO-2029"},{"$f":"'Bill of Materials'!H47","v":"49910-SI4"},null,null,null,0,{"$f":"'Bill of Materials'!J47","v":"standard material"},{"$f":"'Bill of Materials'!K47","v":"horizontal"},0]
[{"$f":"'Bill of Materials'!E48+'Bill of Materials'!F48","v":0},{"$f":"'Bill of Materials'!M48","v":"EA"},{"$f":"'Bill of Materials'!G48","v":"QuickPort 2-port Herman Miller faceplate ivory "},{"$f":"'Bill of Materials'!L48","v":"Leviton"},{"$f":"'Bill of Materials'!N48","v":1.89},{"$f":"'Bill of Materials'!P48","v":"DWC"},{"$f":"'Bill of Materials'!C48","v":"INFO-2030"},{"$f":"'Bill of Materials'!H48","v":"49910-HI2"},null,null,null,0,{"$f":"'Bill of Materials'!J48","v":"standard material"},{"$f":"'Bill of Materials'!K48","v":"horizontal"},0]
[{"$f":"'Bill of Materials'!E49+'Bill of Materials'!F49","v":0},{"$f":"'Bill of Materials'!M49","v":"EA"},{"$f":"'Bill of Materials'!G49","v":"QuickPort 4-port Herman Miller faceplate ivory"},{"$f":"'Bill of Materials'!L49","v":"Leviton"},{"$f":"'Bill of Materials'!N49","v":1.89},{"$f":"'Bill of Materials'!P49","v":"DWC"},{"$f":"'Bill of Materials'!C49","v":"INFO-2031"},{"$f":"'Bill of Materials'!H49","v":"49910-HI4"},null,null,null,0,{"$f":"'Bill of Materials'!J49","v":"standard material"},{"$f":"'Bill of Materials'!K49","v":"horizontal"},0]
[{"$f":"'Bill of Materials'!E50+'Bill of Materials'!F50","v":0},{"$f":"'Bill of Materials'!M50","v":"EA"},{"$f":"'Bill of Materials'!G50","v":"MOS System 6 Port Multimedia Surface Mount Box, Empty, Ivory"},{"$f":"'Bill of Materials'!L50","v":"Leviton"},{"$f":"'Bill of Materials'!N50","v":7.97},{"$f":"'Bill of Materials'!P50","v":"DWC"},{"$f":"'Bill of Materials'!C50","v":"INFO-2032"},{"$f":"'Bill of Materials'!H50","v":"41296-MMI"},null,null,null,0,{"$f":"'Bill of Materials'!J50","v":"standard material"},{"$f":"'Bill of Materials'!K50","v":"horizontal"},0]
[{"$f":"'Bill of Materials'!E51+'Bill of Materials'!F51","v":0},{"$f":"'Bill of Materials'!M51","v":"EA"},{"$f":"'Bill of Materials'!G51","v":"Single Gang Backbox, Plastic Surface Mount, 1.89\" Deep, Ivory"},{"$f":"'Bill of Materials'!L51","v":"Leviton"},{"$f":"'Bill of Materials'!N51","v":1.82},{"$f":"'Bill of Materials'!P51","v":"DWC"},{"$f":"'Bill of Materials'!C51","v":"INFO-2033"},{"$f":"'Bill of Materials'!H51","v":"42777-1IA"},null,null,null,0,{"$f":"'Bill of Materials'!J51","v":"standard material"},{"$f":"'Bill of Materials'!K51","v":"horizontal"},0]
[{"$f":"'Bill of Materials'!E52+'Bill of Materials'!F52","v":0},{"$f":"'Bill of Materials'!M52","v":"EA"},{"$f":"'Bill of Materials'!G52","v":"Dual Gang Backbox, Plastic Surface Mount, 1.89\" Deep, Ivory"},{"$f":"'Bill of Materials'!L52","v":"Leviton"},{"$f":"'Bill of Materials'!N52","v":3.44},{"$f":"'Bill of Materials'!P52","v":"DWC"},{"$f":"'Bill of Materials'!C52","v":"INFO-2034"},{"$f":"'Bill of Materials'!H52","v":"42777-2IA"},null,null,null,0,{"$f":"'Bill of Materials'!J52","v":"standard material"},{"$f":"'Bill of Materials'!K52","v":"horizontal"},0]
[{"$f":"'Bill of Materials'!E53+'Bill of Materials'!F53","v":0},{"$f":"'Bill of Materials'!M53","v":"EA"},{"$f":"'Bill of Materials'!G53","v":"Type 630 Quick Connect Wall Phone Jack, 6 Pair/4 Conductor, Stainless"},{"$f":"'Bill of Materials'!L53","v":"Leviton"},{"$f":"'Bill of Materials'!N53","v":3.64},{"$f":"'Bill of Materials'!P53","v":"DWC"},{"$f":"'Bill of Materials'!C53","v":"INFO-2046"},{"$f":"'Bill of Materials'!H53","v":"40223-S"},null,null,null,0,{"$f":"'Bill of Materials'!J53","v":"standard material"},{"$f":"'Bill of Materials'!K53","v":"horizontal"},0]
[{"$f":"'Bill of Materials'!E54+'Bill of Materials'!F54","v":0},{"$f":"'Bill of Materials'!M54","v":"EA"},{"$f":"'Bill of Materials'!G54","v":"Duplex 106 Insert Only (2 Jacks), Ivory"},{"$f":"'Bill of Materials'!L54","v":"Leviton"},{"$f":"'Bill of Materials'!N54","v":0.91},{"$f":"'Bill of Materials'!P54","v":"DWC"},{"$f":"'Bill of Materials'!C54","v":"INFO-2047"},{"$f":"'Bill of Materials'!H54","v":"41087-2IP"},null,null,null,0,{"$f":"'Bill of Materials'!J54","v":"standard material"},{"$f":"'Bill of Materials'!K54","v":"horizontal"},0]
[{"$f":"'Bill of Materials'!E55+'Bill of Materials'!F55","v":0},{"$f":"'Bill of Materials'!M55","v":"EA"},{"$f":"'Bill of Materials'!G55","v":"Quickport Quad 106 Insert Only (4 Jacks), Ivory"},{"$f":"'Bill of Materials'!L55","v":"Leviton"},{"$f":"'Bill of Materials'!N55","v":1.3},{"$f":"'Bill of Materials'!P55","v":"DWC"},{"$f":"'Bill of Materials'!C55","v":"INFO-2048"},{"$f":"'Bill of Materials'!H55","v":"41087-QIP"},null,null,null,0,{"$f":"'Bill of Materials'!J55","v":"standard material"},{"$f":"'Bill of Materials'!K55","v":"horizontal"},0]
[{"$f":"'Bill of Materials'!E56+'Bill of Materials'!F56","v":0},{"$f":"'Bill of Materials'!M56","v":"EA"},{"$f":"'Bill of Materials'!G56","v":"Aluminum 3/4\" Single Gang Box (2.75\" x 4.5\" x 2.0\")  (Plant Floor)"},{"$f":"'Bill of Materials'!L56","v":"Mulberry"},{"$f":"'Bill of Materials'!N56","v":2.92},{"$f":"'Bill of Materials'!P56","v":"DWC"},{"$f":"'Bill of Materials'!C56","v":"INFO-2104"},{"$f":"'Bill of Materials'!H56","v":"30204"},null,null,null,0,{"$f":"'Bill of Materials'!J56","v":"standard material"},{"$f":"'Bill of Materials'!K56","v":"horizontal"},0]
[{"$f":"'Bill of Materials'!E57+'Bill of Materials'!F57","v":0},{"$f":"'Bill of Materials'!M57","v":"EA"},{"$f":"'Bill of Materials'!G57","v":"Impact punch down tool w/ 110 blade"},{"$f":"'Bill of Materials'!L57","v":"CZ Lab"},{"$f":"'Bill of Materials'!N57","v":26.78},{"$f":"'Bill of Materials'!P57","v":"DWC"},{"$f":"'Bill of Materials'!C57","v":"INFO-2114"},{"$f":"'Bill of Materials'!H57","v":"1690-92"},null,null,null,0,{"$f":"'Bill of Materials'!J57","v":"standard material"},{"$f":"'Bill of Materials'!K57","v":"horizontal"},0]
[{"$f":"'Bill of Materials'!E58+'Bill of Materials'!F58","v":0},{"$f":"'Bill of Materials'!M58","v":"EA"},{"$f":"'Bill of Materials'!G58","v":"WALKER BLANK PLATE (FOR DOG HOUSE)"},{"$f":"'Bill of Materials'!L58","v":"Wiremold / Walker"},{"$f":"'Bill of Materials'!N58","v":6.19},{"$f":"'Bill of Materials'!P58","v":"DWC"},{"$f":"'Bill of Materials'!C58","v":"INFO-2169"},{"$f":"'Bill of Materials'!H58","v":"500B"},null,null,null,0,{"$f":"'Bill of Materials'!J58","v":"standard material"},{"$f":"'Bill of Materials'!K58","v":"horizontal"},0]
[{"$f":"'Bill of Materials'!E59+'Bill of Materials'!F59","v":0},{"$f":"'Bill of Materials'!M59","v":"EA"},{"$f":"'Bill of Materials'!G59","v":"SPIDERBOX ADAPTER FACEPLATE"},{"$f":"'Bill of Materials'!L59","v":"Spiderbox"},{"$f":"'Bill of Materials'!N59","v":5.79},{"$f":"'Bill of Materials'!P59","v":"DWC"},{"$f":"'Bill of Materials'!C59","v":"INFO-2171"},{"$f":"'Bill of Materials'!H59","v":"SI-315"},null,null,null,{"$f":"E76*A76","v":0},{"$f":"'Bill of Materials'!J59","v":"standard material"},{"$f":"'Bill of Materials'!K59","v":"horizontal"},{"$f":"IF(A76>0,1,0)","v":0}]
[{"$f":"'Bill of Materials'!E60+'Bill of Materials'!F60","v":0},{"$f":"'Bill of Materials'!M60","v":"EA"},{"$f":"'Bill of Materials'!G60","v":"WALKER DUPLEX RECEPTACLE FACEPLATE"},{"$f":"'Bill of Materials'!L60","v":"Wiremold / Walker"},{"$f":"'Bill of Materials'!N60","v":9.9},{"$f":"'Bill of Materials'!P60","v":"DWC"},{"$f":"'Bill of Materials'!C60","v":"INFO-2173"},{"$f":"'Bill of Materials'!H60","v":"500DR"},null,null,null,0,{"$f":"'Bill of Materials'!J60","v":"standard material"},{"$f":"'Bill of Materials'!K60","v":"horizontal"},0]
[{"$f":"'Bill of Materials'!E61+'Bill of Materials'!F61","v":0},{"$f":"'Bill of Materials'!M61","v":"EA"},{"$f":"'Bill of Materials'!G61","v":"WALKER Housing with Base Plate (Dog House)"},{"$f":"'Bill of Materials'!L61","v":"Wiremold / Walker"},{"$f":"'Bill of Materials'!N61","v":25.99},{"$f":"'Bill of Materials'!P61","v":"DWC"},{"$f":"'Bill of Materials'!C61","v":"INFO-2174"},{"$f":"'Bill of Materials'!H61","v":"500HB"},null,null,null,0,{"$f":"'Bill of Materials'!J61","v":"standard material"},{"$f":"'Bill of Materials'!K61","v":"horizontal"},0]
[{"$f":"'Bill of Materials'!E62+'Bill of Materials'!F62","v":0},{"$f":"'Bill of Materials'!M62","v":"EA"},{"$f":"'Bill of Materials'!G62","v":"Quickport Cat 5e+ jack, RED (Data 2)"},{"$f":"'Bill of Materials'!L62","v":"Leviton"},{"$f":"'Bill of Materials'!N62","v":3.11},{"$f":"'Bill of Materials'!P62","v":"DWC"},{"$f":"'Bill of Materials'!C62","v":"INFO-7007"},{"$f":"'Bill of Materials'!H62","v":"5G110-RR5"},null,null,null,0,{"$f":"'Bill of Materials'!J62","v":"standard material"},{"$f":"'Bill of Materials'!K62","v":"physical"},0]
[{"$f":"'Bill of Materials'!E63+'Bill of Materials'!F63","v":0},{"$f":"'Bill of Materials'!M63","v":"EA"},{"$f":"'Bill of Materials'!G63","v":"Quickport Cat 5e+ jack, BLUE (Data 1)"},{"$f":"'Bill of Materials'!L63","v":"Leviton"},{"$f":"'Bill of Materials'!N63","v":3.11},{"$f":"'Bill of Materials'!P63","v":"DWC"},{"$f":"'Bill of Materials'!C63","v":"INFO-7008"},{"$f":"'Bill of Materials'!H63","v":"5G110-RL5"},null,null,null,0,{"$f":"'Bill of Materials'!J63","v":"standard material"},{"$f":"'Bill of Materials'!K63","v":"physical"},0]
[{"$f":"'Bill of Materials'!E64+'Bill of Materials'!F64","v":0},{"$f":"'Bill of Materials'!M64","v":"EA"},{"$f":"'Bill of Materials'!G64","v":"Quickport Cat 5e+ jack, GRAY (Analog Voice)  "},{"$f":"'Bill of Materials'!L64","v":"Leviton"},{"$f":"'Bill of Materials'!N64","v":3.11},{"$f":"'Bill of Materials'!P64","v":"DWC"},{"$f":"'Bill of Materials'!C64","v":"INFO-7009"},{"$f":"'Bill of Materials'!H64","v":"5G110-RG5"},null,null,null,0,{"$f":"'Bill of Materials'!J64","v":"standard material"},{"$f":"'Bill of Materials'!K64","v":"physical"},0]
[{"$f":"'Bill of Materials'!E65+'Bill of Materials'!F65","v":0},{"$f":"'Bill of Materials'!M65","v":"EA"},{"$f":"'Bill of Materials'!G65","v":"SC Simplex Fiber Adaptor QuickPort for MM, Bronze Sleeve, Female Front/Back, White"},{"$f":"'Bill of Materials'!L65","v":"Leviton"},{"$f":"'Bill of Materials'!N65","v":5.3},{"$f":"'Bill of Materials'!P65","v":"DWC"},{"$f":"'Bill of Materials'!C65","v":"INRF-0048"},{"$f":"'Bill of Materials'!H65","v":"41085-MWC"},null,null,null,0,{"$f":"'Bill of Materials'!J65","v":"standard material"},{"$f":"'Bill of Materials'!K65","v":"physical"},0]
[{"$f":"'Bill of Materials'!#REF!+'Bill of Materials'!#REF!","v":{"$error":"#REF!"}},{"$f":"'Bill of Materials'!#REF!","v":{"$error":"#REF!"}},{"$f":"'Bill of Materials'!#REF!","v":{"$error":"#REF!"}},{"$f":"'Bill of Materials'!#REF!","v":{"$error":"#REF!"}},{"$f":"'Bill of Materials'!#REF!","v":{"$error":"#REF!"}},{"$f":"'Bill of Materials'!#REF!","v":{"$error":"#REF!"}},{"$f":"'Bill of Materials'!#REF!","v":{"$error":"#REF!"}},{"$f":"'Bill of Materials'!#REF!","v":{"$error":"#REF!"}},null,null,null,{"$error":"#REF!"},{"$f":"'Bill of Materials'!#REF!","v":{"$error":"#REF!"}},{"$f":"'Bill of Materials'!#REF!","v":{"$error":"#REF!"}},{"$error":"#REF!"}]
[{"$f":"'Bill of Materials'!E67+'Bill of Materials'!F67","v":0},{"$f":"'Bill of Materials'!M67","v":"EA"},{"$f":"'Bill of Materials'!G67","v":"110 Block X-Connect Cable/Organizer, For Voice Cable Backboard. Replaces Discontinued AT&T 18A Rings"},{"$f":"'Bill of Materials'!L67","v":"Siemon"},{"$f":"'Bill of Materials'!N67","v":3.17},{"$f":"'Bill of Materials'!P67","v":"DWC"},{"$f":"'Bill of Materials'!C67","v":"0406-11V1"},{"$f":"'Bill of Materials'!H67","v":"S144"},null,null,null,0,{"$f":"'Bill of Materials'!J67","v":"standard material"},{"$f":"'Bill of Materials'!K67","v":"physical"},0]
[{"$f":"'Bill of Materials'!E68+'Bill of Materials'!F68","v":0},{"$f":"'Bill of Materials'!M68","v":"EA"},{"$f":"'Bill of Materials'!G68","v":"50ft. Category 5e, 25 Pair Cable Assembly, Telco Straight to Blunt"},{"$f":"'Bill of Materials'!L68","v":"Superior Modular Products"},{"$f":"'Bill of Materials'!N68","v":115.55},{"$f":"'Bill of Materials'!P68","v":"DWC"},{"$f":"'Bill of Materials'!C68","v":"10031"},{"$f":"'Bill of Materials'!H68","v":"25PA/TS-X-E-050"},null,null,null,0,{"$f":"'Bill of Materials'!J68","v":"standard material"},{"$f":"'Bill of Materials'!K68","v":"horizontal"},0]
[{"$f":"'Bill of Materials'!E69+'Bill of Materials'!F69","v":0},{"$f":"'Bill of Materials'!M69","v":"EA"},{"$f":"'Bill of Materials'!G69","v":"Voice Grade Copper Patch Panel, 24 Port, Pre-Connectorized, Telco, 8P4C Jacks (Only 2 Pair Deployed to Individual Ports). Equipped with 49005-CMB – Cable Management Bar - 1RU"},{"$f":"'Bill of Materials'!L69","v":"Leviton"},{"$f":"'Bill of Materials'!N69","v":76.739999999999995},{"$f":"'Bill of Materials'!P69","v":"DWC"},{"$f":"'Bill of Materials'!C69","v":"10037"},{"$f":"'Bill of Materials'!H69","v":"49014-J24"},null,null,null,0,{"$f":"'Bill of Materials'!J69","v":"standard material"},{"$f":"'Bill of Materials'!K69","v":"horizontal"},0]
[{"$f":"'Bill of Materials'!E70+'Bill of Materials'!F70","v":0},{"$f":"'Bill of Materials'!M70","v":"EA"},{"$f":"'Bill of Materials'!G70","v":"Voice Grade Copper Patch Panel, 48 Port, Pre-Connectorized, Telco, 8P4C Jacks (Only 2 Pair Deployed to Individual Ports). Equipped with 49005-CMB – Cable Management Bar - 2RU"},{"$f":"'Bill of Materials'!L70","v":"Leviton"},{"$f":"'Bill of Materials'!N70","v":159.58000000000001},{"$f":"'Bill of Materials'!P70","v":"DWC"},{"$f":"'Bill of Materials'!C70","v":"10038"},{"$f":"'Bill of Materials'!H70","v":"49014-J48"},null,null,null,0,{"$f":"'Bill of Materials'!J70","v":"standard material"},{"$f":"'Bill of Materials'!K70","v":"horizontal"},0]
[{"$f":"'Bill of Materials'!E71+'Bill of Materials'!F71","v":0},{"$f":"'Bill of Materials'!M71","v":"EA"},{"$f":"'Bill of Materials'!G71","v":"12-Port GigaMax 5e Patch Block, Incld's Vertical Mounting Bracket. "},{"$f":"'Bill of Materials'!L71","v":"Leviton"},{"$f":"'Bill of Materials'!N71","v":66.37},{"$f":"'Bill of Materials'!P71","v":"DWC"},{"$f":"'Bill of Materials'!C71","v":"10046"},{"$f":"'Bill of Materials'!H71","v":"5G596-U89"},null,null,null,0,{"$f":"'Bill of Materials'!J71","v":"standard material"},{"$f":"'Bill of Materials'!K71","v":"horizontal"},0]
[{"$f":"'Bill of Materials'!E72+'Bill of Materials'!F72","v":0},{"$f":"'Bill of Materials'!M72","v":"EA"},{"$f":"'Bill of Materials'!G72","v":"Add Cat5e or voice patch panel to cabinet or rack -------Labor Only"},{"$f":"'Bill of Materials'!L72","v":"DWC"},{"$f":"'Bill of Materials'!N72","v":27.9},{"$f":"'Bill of Materials'!P72","v":"DWC"},{"$f":"'Bill of Materials'!C72","v":"10089"},{"$f":"'Bill of Materials'!H72","v":"Copper Patch Panel-L"},null,null,null,0,{"$f":"'Bill of Materials'!J72","v":"standard material"},{"$f":"'Bill of Materials'!K72","v":"physical"},0]
[{"$f":"'Bill of Materials'!E73+'Bill of Materials'!F73","v":0},{"$f":"'Bill of Materials'!M73","v":"EA"},{"$f":"'Bill of Materials'!G73","v":"Category 5e, 48 Port, 25 Pair Gigabit Ethernet Telco Connector Panel - 2RU"},{"$f":"'Bill of Materials'!L73","v":"Superior Modular Products"},{"$f":"'Bill of Materials'!N73","v":189.75},{"$f":"'Bill of Materials'!P73","v":"DWC"},{"$f":"'Bill of Materials'!C73","v":"10093"},{"$f":"'Bill of Materials'!H73","v":"DCC488825/V01"},null,null,null,0,{"$f":"'Bill of Materials'!J73","v":"standard material"},{"$f":"'Bill of Materials'!K73","v":"horizontal"},0]
[{"$f":"'Bill of Materials'!E74+'Bill of Materials'!F74","v":0},{"$f":"'Bill of Materials'!M74","v":"EA"},{"$f":"'Bill of Materials'!G74","v":"110 block Designation Strip Labels, Gray (180/pkg)"},{"$f":"'Bill of Materials'!L74","v":"Brady"},{"$f":"'Bill of Materials'!N74","v":37.799999999999997},{"$f":"'Bill of Materials'!P74","v":"DWC"},{"$f":"'Bill of Materials'!C74","v":"10126"},{"$f":"'Bill of Materials'!H74","v":"LAT-177-124-GY"},null,null,null,0,{"$f":"'Bill of Materials'!J74","v":"standard material"},{"$f":"'Bill of Materials'!K74","v":"horizontal"},0]
[{"$f":"'Bill of Materials'!E75+'Bill of Materials'!F75","v":0},{"$f":"'Bill of Materials'!M75","v":"EA"},{"$f":"'Bill of Materials'!G75","v":"300pr 110 Block w/o Legs For 110D Frames"},{"$f":"'Bill of Materials'!L75","v":"Panduit"},{"$f":"'Bill of Materials'!N75","v":24.4},{"$f":"'Bill of Materials'!P75","v":"DWC"},{"$f":"'Bill of Materials'!C75","v":"10138"},{"$f":"'Bill of Materials'!H75","v":"P110B300-X"},null,null,null,0,{"$f":"'Bill of Materials'!J75","v":"standard material"},{"$f":"'Bill of Materials'!K75","v":"horizontal"},0]
[{"$f":"'Bill of Materials'!E76+'Bill of Materials'!F76","v":0},{"$f":"'Bill of Materials'!M76","v":"EA"},{"$f":"'Bill of Materials'!G76","v":"Category 3, 48 Port Voice-Grade Patch Panel, w/1 Rear Cable Mgmt. Bar, Pre-Connectorized, 25pr Telco 8P8C (All 4Pair Deployed to Individual Ports)"},{"$f":"'Bill of Materials'!L76","v":"Leviton"},{"$f":"'Bill of Materials'!N76","v":135.47},{"$f":"'Bill of Materials'!P76","v":"DWC"},{"$f":"'Bill of Materials'!C76","v":"INFO-2001"},{"$f":"'Bill of Materials'!H76","v":"G01-VGPNL-V48"},null,null,null,0,{"$f":"'Bill of Materials'!J76","v":"standard material"},{"$f":"'Bill of Materials'!K76","v":"horizontal"},0]
[{"$f":"'Bill of Materials'!E77+'Bill of Materials'!F77","v":0},{"$f":"'Bill of Materials'!M77","v":"EA"},{"$f":"'Bill of Materials'!G77","v":"Category 5e, 48 port patch panel w/2 rear cable mgmt bars"},{"$f":"'Bill of Materials'!L77","v":"Leviton"},{"$f":"'Bill of Materials'!N77","v":177.16},{"$f":"'Bill of Materials'!P77","v":"DWC"},{"$f":"'Bill of Materials'!C77","v":"INFO-2002"},{"$f":"'Bill of Materials'!H77","v":"G02-5EPNL-U48"},null,null,null,0,{"$f":"'Bill of Materials'!J77","v":"standard material"},{"$f":"'Bill of Materials'!K77","v":"horizontal"},0]
[{"$f":"'Bill of Materials'!E78+'Bill of Materials'!F78","v":0},{"$f":"'Bill of Materials'!M78","v":"EA"},{"$f":"'Bill of Materials'!G78","v":"Category 5e, 24 port patch panel w/1 rear cable mgmt bar"},{"$f":"'Bill of Materials'!L78","v":"Leviton"},{"$f":"'Bill of Materials'!N78","v":88.58},{"$f":"'Bill of Materials'!P78","v":"DWC"},{"$f":"'Bill of Materials'!C78","v":"INFO-2003"},{"$f":"'Bill of Materials'!H78","v":"G03-5EPNL-U24"},null,null,null,0,{"$f":"'Bill of Materials'!J78","v":"standard material"},{"$f":"'Bill of Materials'!K78","v":"horizontal"},0]
[{"$f":"'Bill of Materials'!E79+'Bill of Materials'!F79","v":0},{"$f":"'Bill of Materials'!M79","v":"EA"},{"$f":"'Bill of Materials'!G79","v":"Patch panel cable mgmt bar (towel bar)"},{"$f":"'Bill of Materials'!L79","v":"Leviton"},{"$f":"'Bill of Materials'!N79","v":11.06},{"$f":"'Bill of Materials'!P79","v":"DWC"},{"$f":"'Bill of Materials'!C79","v":"INFO-2004"},{"$f":"'Bill of Materials'!H79","v":"49005-CMB"},null,null,null,0,{"$f":"'Bill of Materials'!J79","v":"standard material"},{"$f":"'Bill of Materials'!K79","v":"horizontal"},0]
[{"$f":"'Bill of Materials'!E80+'Bill of Materials'!F80","v":0},{"$f":"'Bill of Materials'!M80","v":"EA"},{"$f":"'Bill of Materials'!G80","v":"100pr 110 block kit w/C4 conn and blue designation sheets"},{"$f":"'Bill of Materials'!L80","v":"Leviton"},{"$f":"'Bill of Materials'!N80","v":19.93},{"$f":"'Bill of Materials'!P80","v":"DWC"},{"$f":"'Bill of Materials'!C80","v":"INFO-2035"},{"$f":"'Bill of Materials'!H80","v":"G10-110C4-100"},null,null,null,0,{"$f":"'Bill of Materials'!J80","v":"standard material"},{"$f":"'Bill of Materials'!K80","v":"horizontal"},0]
[{"$f":"'Bill of Materials'!E81+'Bill of Materials'!F81","v":0},{"$f":"'Bill of Materials'!M81","v":"EA"},{"$f":"'Bill of Materials'!G81","v":"100pr 110 block kit w/C5 conn and white designation sheets"},{"$f":"'Bill of Materials'!L81","v":"Leviton"},{"$f":"'Bill of Materials'!N81","v":21.31},{"$f":"'Bill of Materials'!P81","v":"DWC"},{"$f":"'Bill of Materials'!C81","v":"INFO-2036"},{"$f":"'Bill of Materials'!H81","v":"G11-110C5-100"},null,null,null,0,{"$f":"'Bill of Materials'!J81","v":"standard material"},{"$f":"'Bill of Materials'!K81","v":"horizontal"},0]
[{"$f":"'Bill of Materials'!E82+'Bill of Materials'!F82","v":0},{"$f":"'Bill of Materials'!M82","v":"EA"},{"$f":"'Bill of Materials'!G82","v":"300pr 110 block kit w/C4 conn and blue designation sheets"},{"$f":"'Bill of Materials'!L82","v":"Leviton"},{"$f":"'Bill of Materials'!N82","v":55.78},{"$f":"'Bill of Materials'!P82","v":"DWC"},{"$f":"'Bill of Materials'!C82","v":"INFO-2037"},{"$f":"'Bill of Materials'!H82","v":"G12-110C4-300"},null,null,null,0,{"$f":"'Bill of Materials'!J82","v":"standard material"},{"$f":"'Bill of Materials'!K82","v":"horizontal"},0]
[{"$f":"'Bill of Materials'!E83+'Bill of Materials'!F83","v":0},{"$f":"'Bill of Materials'!M83","v":"EA"},{"$f":"'Bill of Materials'!G83","v":"300pr 110 block kit w/C5 conn and white designation sheets"},{"$f":"'Bill of Materials'!L83","v":"Leviton"},{"$f":"'Bill of Materials'!N83","v":58.54},{"$f":"'Bill of Materials'!P83","v":"DWC"},{"$f":"'Bill of Materials'!C83","v":"INFO-2038"},{"$f":"'Bill of Materials'!H83","v":"G13-110C5-300"},null,null,null,0,{"$f":"'Bill of Materials'!J83","v":"standard material"},{"$f":"'Bill of Materials'!K83","v":"horizontal"},0]
[{"$f":"'Bill of Materials'!E84+'Bill of Materials'!F84","v":0},{"$f":"'Bill of Materials'!M84","v":"EA"},{"$f":"'Bill of Materials'!G84","v":"C-5 Connector Blocks, 110 Multipair Punchdowns (Package of 10)"},{"$f":"'Bill of Materials'!L84","v":"Leviton"},{"$f":"'Bill of Materials'!N84","v":4.17},{"$f":"'Bill of Materials'!P84","v":"DWC"},{"$f":"'Bill of Materials'!C84","v":"INFO-2039"},{"$f":"'Bill of Materials'!H84","v":"49105-IDC"},null,null,null,0,{"$f":"'Bill of Materials'!J84","v":"standard material"},{"$f":"'Bill of Materials'!K84","v":"horizontal"},0]
[{"$f":"'Bill of Materials'!E85+'Bill of Materials'!F85","v":0},{"$f":"'Bill of Materials'!M85","v":"EA"},{"$f":"'Bill of Materials'!G85","v":"C-4 Connector Blocks, 110 UTP Punchdowns (Package of 10)"},{"$f":"'Bill of Materials'!L85","v":"Leviton"},{"$f":"'Bill of Materials'!N85","v":0.37},{"$f":"'Bill of Materials'!P85","v":"DWC"},{"$f":"'Bill of Materials'!C85","v":"INFO-2040"},{"$f":"'Bill of Materials'!H85","v":"49104-IDC"},null,null,null,0,{"$f":"'Bill of Materials'!J85","v":"standard material"},{"$f":"'Bill of Materials'!K85","v":"horizontal"},0]
[{"$f":"'Bill of Materials'!E86+'Bill of Materials'!F86","v":0},{"$f":"'Bill of Materials'!M86","v":"EA"},{"$f":"'Bill of Materials'!G86","v":"300pr 110 block with legs (Bare)"},{"$f":"'Bill of Materials'!L86","v":"Leviton"},{"$f":"'Bill of Materials'!N86","v":18.579999999999998},{"$f":"'Bill of Materials'!P86","v":"DWC"},{"$f":"'Bill of Materials'!C86","v":"INFO-2041"},{"$f":"'Bill of Materials'!H86","v":"41AW2-300"},null,null,null,0,{"$f":"'Bill of Materials'!J86","v":"standard material"},{"$f":"'Bill of Materials'!K86","v":"horizontal"},0]
[{"$f":"'Bill of Materials'!E87+'Bill of Materials'!F87","v":0},{"$f":"'Bill of Materials'!M87","v":"EA"},{"$f":"'Bill of Materials'!G87","v":"4-pos hinged wall mount bracket"},{"$f":"'Bill of Materials'!L87","v":"Leviton"},{"$f":"'Bill of Materials'!N87","v":35.909999999999997},{"$f":"'Bill of Materials'!P87","v":"DWC"},{"$f":"'Bill of Materials'!C87","v":"INFO-2042"},{"$f":"'Bill of Materials'!H87","v":"49251-W64"},null,null,null,0,{"$f":"'Bill of Materials'!J87","v":"standard material"},{"$f":"'Bill of Materials'!K87","v":"physical"},0]
[{"$f":"'Bill of Materials'!E88+'Bill of Materials'!F88","v":0},{"$f":"'Bill of Materials'!M88","v":"EA"},{"$f":"'Bill of Materials'!G88","v":"110 Block Designation Strip Labels, Blue (180/pkg)"},{"$f":"'Bill of Materials'!L88","v":"Brady"},{"$f":"'Bill of Materials'!N88","v":34.79},{"$f":"'Bill of Materials'!P88","v":"DWC"},{"$f":"'Bill of Materials'!C88","v":"INFO-2043"},{"$f":"'Bill of Materials'!H88","v":"LAT-177-124-BL"},null,null,null,0,{"$f":"'Bill of Materials'!J88","v":"standard material"},{"$f":"'Bill of Materials'!K88","v":"horizontal"},0]
[{"$f":"'Bill of Materials'!E89+'Bill of Materials'!F89","v":0},{"$f":"'Bill of Materials'!M89","v":"EA"},{"$f":"'Bill of Materials'!G89","v":"110 Block Designation Strip Labels, White (180/pkg)"},{"$f":"'Bill of Materials'!L89","v":"Brady"},{"$f":"'Bill of Materials'!N89","v":34.79},{"$f":"'Bill of Materials'!P89","v":"DWC"},{"$f":"'Bill of Materials'!C89","v":"INFO-2044"},{"$f":"'Bill of Materials'!H89","v":"LAT-177-124-WT"},null,null,null,0,{"$f":"'Bill of Materials'!J89","v":"standard material"},{"$f":"'Bill of Materials'!K89","v":"horizontal"},0]
[{"$f":"'Bill of Materials'!E90+'Bill of Materials'!F90","v":0},{"$f":"'Bill of Materials'!M90","v":"EA"},{"$f":"'Bill of Materials'!G90","v":"188B2 Backboard for X-connect Field/110 Blocks"},{"$f":"'Bill of Materials'!L90","v":"Lucent"},{"$f":"'Bill of Materials'!N90","v":29.06},{"$f":"'Bill of Materials'!P90","v":"DWC"},{"$f":"'Bill of Materials'!C90","v":"INFO-2360"},{"$f":"'Bill of Materials'!H90","v":"104405113"},null,null,null,0,{"$f":"'Bill of Materials'!J90","v":"standard material"},{"$f":"'Bill of Materials'!K90","v":"horizontal"},0]
[{"$f":"'Bill of Materials'!#REF!+'Bill of Materials'!#REF!","v":{"$error":"#REF!"}},{"$f":"'Bill of Materials'!#REF!","v":{"$error":"#REF!"}},{"$f":"'Bill of Materials'!#REF!","v":{"$error":"#REF!"}},{"$f":"'Bill of Materials'!#REF!","v":{"$error":"#REF!"}},{"$f":"'Bill of Materials'!#REF!","v":{"$error":"#REF!"}},{"$f":"'Bill of Materials'!#REF!","v":{"$error":"#REF!"}},{"$f":"'Bill of Materials'!#REF!","v":{"$error":"#REF!"}},{"$f":"'Bill of Materials'!#REF!","v":{"$error":"#REF!"}},null,null,null,{"$error":"#REF!"},{"$f":"'Bill of Materials'!#REF!","v":{"$error":"#REF!"}},{"$f":"'Bill of Materials'!#REF!","v":{"$error":"#REF!"}},{"$error":"#REF!"}]
[{"$f":"'Bill of Materials'!E92+'Bill of Materials'!F92","v":0},{"$f":"'Bill of Materials'!M92","v":"EA"},{"$f":"'Bill of Materials'!G92","v":"2RU 3” Standoff Bracket (Pair)"},{"$f":"'Bill of Materials'!L92","v":"Newton"},{"$f":"'Bill of Materials'!N92","v":15.64},{"$f":"'Bill of Materials'!P92","v":"DWC"},{"$f":"'Bill of Materials'!C92","v":"0094-49RT"},{"$f":"'Bill of Materials'!H92","v":40710245},null,null,null,0,{"$f":"'Bill of Materials'!J92","v":"standard material"},{"$f":"'Bill of Materials'!K92","v":"physical"},0]
[{"$f":"'Bill of Materials'!E93+'Bill of Materials'!F93","v":0},{"$f":"'Bill of Materials'!M93","v":"EA"},{"$f":"'Bill of Materials'!G93","v":"2RU 19\" Rack Mounted Wire Manager Front Only, With Cover, 3.5\"H x 19\"W x 3.7\"D"},{"$f":"'Bill of Materials'!L93","v":"Panduit"},{"$f":"'Bill of Materials'!N93","v":39.35},{"$f":"'Bill of Materials'!P93","v":"DWC"},{"$f":"'Bill of Materials'!C93","v":"0288-05FN"},{"$f":"'Bill of Materials'!H93","v":"WMPF1E"},null,null,null,0,{"$f":"'Bill of Materials'!J93","v":"standard material"},{"$f":"'Bill of Materials'!K93","v":"physical"},0]
[{"$f":"'Bill of Materials'!E94+'Bill of Materials'!F94","v":0},{"$f":"'Bill of Materials'!M94","v":"EA"},{"$f":"'Bill of Materials'!G94","v":"3/4\" Cat.5e J-Hooks"},{"$f":"'Bill of Materials'!L94","v":"Erico-Caddy"},{"$f":"'Bill of Materials'!N94","v":0.88},{"$f":"'Bill of Materials'!P94","v":"DWC"},{"$f":"'Bill of Materials'!C94","v":"0419-11WJ"},{"$f":"'Bill of Materials'!H94","v":"CAT-12"},null,null,null,0,{"$f":"'Bill of Materials'!J94","v":"standard material"},{"$f":"'Bill of Materials'!K94","v":"physical"},0]
[{"$f":"'Bill of Materials'!E95+'Bill of Materials'!F95","v":0},{"$f":"'Bill of Materials'!M95","v":"EA"},{"$f":"'Bill of Materials'!G95","v":"5\" Aluminum D Ring, Voice Backboards"},{"$f":"'Bill of Materials'!L95","v":"Garvin"},{"$f":"'Bill of Materials'!N95","v":1.56},{"$f":"'Bill of Materials'!P95","v":"DWC"},{"$f":"'Bill of Materials'!C95","v":"0672-TLLJ"},{"$f":"'Bill of Materials'!H95","v":"DST500"},null,null,null,0,{"$f":"'Bill of Materials'!J95","v":"standard material"},{"$f":"'Bill of Materials'!K95","v":"physical"},0]
[{"$f":"'Bill of Materials'!E96+'Bill of Materials'!F96","v":0},{"$f":"'Bill of Materials'!M96","v":"EA"},{"$f":"'Bill of Materials'!G96","v":"Velcro Cable Wrap, Plenum Rated. 3/4\"w Maroon, 15' Roll, Cut to Length"},{"$f":"'Bill of Materials'!L96","v":"Hellermann Tyton"},{"$f":"'Bill of Materials'!N96","v":9.26},{"$f":"'Bill of Materials'!P96","v":"DWC"},{"$f":"'Bill of Materials'!C96","v":"0856-059T"},{"$f":"'Bill of Materials'!H96","v":"GT.75X180MV2"},null,null,null,0,{"$f":"'Bill of Materials'!J96","v":"standard material"},{"$f":"'Bill of Materials'!K96","v":"physical"},0]
[{"$f":"'Bill of Materials'!E97+'Bill of Materials'!F97","v":0},{"$f":"'Bill of Materials'!M97","v":"EA"},{"$f":"'Bill of Materials'!G97","v":"Mount horizontal wire manager-------Labor Only"},{"$f":"'Bill of Materials'!L97","v":"DWC"},{"$f":"'Bill of Materials'!N97","v":38.700000000000003},{"$f":"'Bill of Materials'!P97","v":"DWC"},{"$f":"'Bill of Materials'!C97","v":"10121"},{"$f":"'Bill of Materials'!H97","v":"Horizontal Wire Manager-L"},null,null,null,0,{"$f":"'Bill of Materials'!J97","v":"standard material"},{"$f":"'Bill of Materials'!K97","v":"physical"},0]
[{"$f":"'Bill of Materials'!E98+'Bill of Materials'!F98","v":0},{"$f":"'Bill of Materials'!M98","v":"EA"},{"$f":"'Bill of Materials'!G98","v":"1RU 19\" Cable Manager w/ D Rings on end - Cabinets"},{"$f":"'Bill of Materials'!L98","v":"Datatel"},{"$f":"'Bill of Materials'!N98","v":16.5},{"$f":"'Bill of Materials'!P98","v":"DWC"},{"$f":"'Bill of Materials'!C98","v":"INFO-2307"},{"$f":"'Bill of Materials'!H98","v":"HCM-1DV"},null,null,null,0,{"$f":"'Bill of Materials'!J98","v":"standard material"},{"$f":"'Bill of Materials'!K98","v":"horizontal"},0]
[{"$f":"'Bill of Materials'!E99+'Bill of Materials'!F99","v":0},{"$f":"'Bill of Materials'!M99","v":"EA"},{"$f":"'Bill of Materials'!G99","v":"2\" CAT 5 J Hook"},{"$f":"'Bill of Materials'!L99","v":"Erico-Caddy"},{"$f":"'Bill of Materials'!N99","v":1.48},{"$f":"'Bill of Materials'!P99","v":"DWC"},{"$f":"'Bill of Materials'!C99","v":"INFO-2310"},{"$f":"'Bill of Materials'!H99","v":"CAT-32"},null,null,null,0,{"$f":"'Bill of Materials'!J99","v":"standard material"},{"$f":"'Bill of Materials'!K99","v":"horizontal"},0]
[{"$f":"'Bill of Materials'!E100+'Bill of Materials'!F100","v":0},{"$f":"'Bill of Materials'!M100","v":"EA"},{"$f":"'Bill of Materials'!G100","v":"2RU 19\" Cable Manager w/ D Rings on end - Cabinets"},{"$f":"'Bill of Materials'!L100","v":"Datatel"},{"$f":"'Bill of Materials'!N100","v":17.75},{"$f":"'Bill of Materials'!P100","v":"DWC"},{"$f":"'Bill of Materials'!C100","v":"INFO-2341"},{"$f":"'Bill of Materials'!H100","v":"HCM-2DV"},null,null,null,0,{"$f":"'Bill of Materials'!J100","v":"standard material"},{"$f":"'Bill of Materials'!K100","v":"horizontal"},0]
[{"$f":"'Bill of Materials'!E101+'Bill of Materials'!F101","v":0},{"$f":"'Bill of Materials'!M101","v":"EA"},{"$f":"'Bill of Materials'!G101","v":"1RU 19\" Cable Manager w/o D Rings on end - Racks"},{"$f":"'Bill of Materials'!L101","v":"Datatel"},{"$f":"'Bill of Materials'!N101","v":15.3},{"$f":"'Bill of Materials'!P101","v":"DWC"},{"$f":"'Bill of Materials'!C101","v":"INFO-2342"},{"$f":"'Bill of Materials'!H101","v":"HCM-1D"},null,null,null,0,{"$f":"'Bill of Materials'!J101","v":"standard material"},{"$f":"'Bill of Materials'!K101","v":"horizontal"},0]
[{"$f":"'Bill of Materials'!E102+'Bill of Materials'!F102","v":0},{"$f":"'Bill of Materials'!M102","v":"EA"},{"$f":"'Bill of Materials'!G102","v":"2RU 19\" Cable Manager w/o D Rings on end - Racks"},{"$f":"'Bill of Materials'!L102","v":"Datatel"},{"$f":"'Bill of Materials'!N102","v":16.5},{"$f":"'Bill of Materials'!P102","v":"DWC"},{"$f":"'Bill of Materials'!C102","v":"INFO-2343"},{"$f":"'Bill of Materials'!H102","v":"HCM-2D"},null,null,null,0,{"$f":"'Bill of Materials'!J102","v":"standard material"},{"$f":"'Bill of Materials'!K102","v":"horizontal"},0]
[{"$f":"'Bill of Materials'!E103+'Bill of Materials'!F103","v":0},{"$f":"'Bill of Materials'!M103","v":"EA"},{"$f":"'Bill of Materials'!G103","v":"2\" Aluminum D Ring, Voice Backboards"},{"$f":"'Bill of Materials'!L103","v":"Garvin"},{"$f":"'Bill of Materials'!N103","v":1.1499999999999999},{"$f":"'Bill of Materials'!P103","v":"DWC"},{"$f":"'Bill of Materials'!C103","v":"INFO-2349"},{"$f":"'Bill of Materials'!H103","v":"DST-200"},null,null,null,0,{"$f":"'Bill of Materials'!J103","v":"standard material"},{"$f":"'Bill of Materials'!K103","v":"horizontal"},0]
[{"$f":"'Bill of Materials'!E104+'Bill of Materials'!F104","v":0},{"$f":"'Bill of Materials'!M104","v":"EA"},{"$f":"'Bill of Materials'!G104","v":"Plenum Rated Plastic Cable Tie 15\" Long , Red (package of 50)"},{"$f":"'Bill of Materials'!L104","v":"Hellermann Tyton"},{"$f":"'Bill of Materials'!N104","v":113.96},{"$f":"'Bill of Materials'!P104","v":"DWC"},{"$f":"'Bill of Materials'!C104","v":"INFO-2350"},{"$f":"'Bill of Materials'!H104","v":"T120R2HALK2"},null,null,null,0,{"$f":"'Bill of Materials'!J104","v":"standard material"},{"$f":"'Bill of Materials'!K104","v":"horizontal"},0]
[{"$f":"'Bill of Materials'!E105+'Bill of Materials'!F105","v":0},{"$f":"'Bill of Materials'!M105","v":"EA"},{"$f":"'Bill of Materials'!G105","v":"Nylon Cable Tie 4\" Long, Gray (package of 1000)"},{"$f":"'Bill of Materials'!L105","v":"Hellermann Tyton"},{"$f":"'Bill of Materials'!N105","v":12.2},{"$f":"'Bill of Materials'!P105","v":"DWC"},{"$f":"'Bill of Materials'!C105","v":"INFO-2351"},{"$f":"'Bill of Materials'!H105","v":"T18ROM4"},null,null,null,0,{"$f":"'Bill of Materials'!J105","v":"standard material"},{"$f":"'Bill of Materials'!K105","v":"horizontal"},0]
[{"$f":"'Bill of Materials'!E106+'Bill of Materials'!F106","v":0},{"$f":"'Bill of Materials'!M106","v":"EA"},{"$f":"'Bill of Materials'!G106","v":"Nylon Cable Tie 6\" Long, Black (package of 1000)"},{"$f":"'Bill of Materials'!L106","v":"Hellermann Tyton"},{"$f":"'Bill of Materials'!N106","v":19.5},{"$f":"'Bill of Materials'!P106","v":"DWC"},{"$f":"'Bill of Materials'!C106","v":"INFO-2352"},{"$f":"'Bill of Materials'!H106","v":"T30ROM4"},null,null,null,0,{"$f":"'Bill of Materials'!J106","v":"standard material"},{"$f":"'Bill of Materials'!K106","v":"horizontal"},0]
[{"$f":"'Bill of Materials'!E107+'Bill of Materials'!F107","v":0},{"$f":"'Bill of Materials'!M107","v":"EA"},{"$f":"'Bill of Materials'!G107","v":"Nylon Cable Tie 8.5\" Long, Black (package of 1000)"},{"$f":"'Bill of Materials'!L107","v":"Hellermann Tyton"},{"$f":"'Bill of Materials'!N107","v":24.23},{"$f":"'Bill of Materials'!P107","v":"DWC"},{"$f":"'Bill of Materials'!C107","v":"INFO-2353"},{"$f":"'Bill of Materials'!H107","v":"T40ROM4"},null,null,null,0,{"$f":"'Bill of Materials'!J107","v":"standard material"},{"$f":"'Bill of Materials'!K107","v":"horizontal"},0]
[{"$f":"'Bill of Materials'!E108+'Bill of Materials'!F108","v":0},{"$f":"'Bill of Materials'!M108","v":"EA"},{"$f":"'Bill of Materials'!G108","v":"Nylon Cable Tie 11.5\" Long, Black (package of 1000)"},{"$f":"'Bill of Materials'!L108","v":"Hellermann Tyton"},{"$f":"'Bill of Materials'!N108","v":50.01},{"$f":"'Bill of Materials'!P108","v":"DWC"},{"$f":"'Bill of Materials'!C108","v":"INFO-2354"},{"$f":"'Bill of Materials'!H108","v":"T40IOM4"},null,null,null,0,{"$f":"'Bill of Materials'!J108","v":"standard material"},{"$f":"'Bill of Materials'!K108","v":"horizontal"},0]
[{"$f":"'Bill of Materials'!E109+'Bill of Materials'!F109","v":0},{"$f":"'Bill of Materials'!M109","v":"EA"},{"$f":"'Bill of Materials'!G109","v":"White Cable tie mount used with #10 Saddle, (package of 100)"},{"$f":"'Bill of Materials'!L109","v":"Hellermann Tyton"},{"$f":"'Bill of Materials'!N109","v":19.149999999999999},{"$f":"'Bill of Materials'!P109","v":"DWC"},{"$f":"'Bill of Materials'!C109","v":"INFO-2355"},{"$f":"'Bill of Materials'!H109","v":"CTM310C2"},null,null,null,0,{"$f":"'Bill of Materials'!J109","v":"standard material"},{"$f":"'Bill of Materials'!K109","v":"horizontal"},0]
[{"$f":"'Bill of Materials'!E110+'Bill of Materials'!F110","v":0},{"$f":"'Bill of Materials'!M110","v":"EA"},{"$f":"'Bill of Materials'!G110","v":"Nylon Cable Tie 14.5\" Long, Black (package of 1000)"},{"$f":"'Bill of Materials'!L110","v":"Hellermann Tyton"},{"$f":"'Bill of Materials'!N110","v":70.150000000000006},{"$f":"'Bill of Materials'!P110","v":"DWC"},{"$f":"'Bill of Materials'!C110","v":"INFO-2356"},{"$f":"'Bill of Materials'!H110","v":"T40L0M4"},null,null,null,0,{"$f":"'Bill of Materials'!J110","v":"standard material"},{"$f":"'Bill of Materials'!K110","v":"horizontal"},0]
[{"$f":"'Bill of Materials'!E111+'Bill of Materials'!F111","v":0},{"$f":"'Bill of Materials'!M111","v":"EA"},{"$f":"'Bill of Materials'!G111","v":"Velcro Cable Tie 6\" Long, Black (Perforated/10 Ties/Pkg.)"},{"$f":"'Bill of Materials'!L111","v":"Hellermann Tyton"},{"$f":"'Bill of Materials'!N111","v":4.13},{"$f":"'Bill of Materials'!P111","v":"DWC"},{"$f":"'Bill of Materials'!C111","v":"INFO-2357"},{"$f":"'Bill of Materials'!H111","v":"GT.50X60P2"},null,null,null,0,{"$f":"'Bill of Materials'!J111","v":"standard material"},{"$f":"'Bill of Materials'!K111","v":"horizontal"},0]
[{"$f":"'Bill of Materials'!E112+'Bill of Materials'!F112","v":0},{"$f":"'Bill of Materials'!M112","v":"EA"},{"$f":"'Bill of Materials'!G112","v":"Velcro Cable Tie - Black (cut to length roll of 15')"},{"$f":"'Bill of Materials'!L112","v":"Hellermann Tyton"},{"$f":"'Bill of Materials'!N112","v":6.65},{"$f":"'Bill of Materials'!P112","v":"DWC"},{"$f":"'Bill of Materials'!C112","v":"INFO-2358"},{"$f":"'Bill of Materials'!H112","v":"GT.75X1800"},null,null,null,0,{"$f":"'Bill of Materials'!J112","v":"standard material"},{"$f":"'Bill of Materials'!K112","v":"horizontal"},0]
[{"$f":"'Bill of Materials'!E113+'Bill of Materials'!F113","v":0},{"$f":"'Bill of Materials'!M113","v":"EA"},{"$f":"'Bill of Materials'!G113","v":"Velcro Cable Tie 11\" Long, Black (Perforated/10 Ties/Pkg.)"},{"$f":"'Bill of Materials'!L113","v":"Hellermann Tyton"},{"$f":"'Bill of Materials'!N113","v":5.34},{"$f":"'Bill of Materials'!P113","v":"DWC"},{"$f":"'Bill of Materials'!C113","v":"INFO-2359"},{"$f":"'Bill of Materials'!H113","v":"GT.50X110P2"},null,null,null,0,{"$f":"'Bill of Materials'!J113","v":"standard material"},{"$f":"'Bill of Materials'!K113","v":"horizontal"},0]
[{"$f":"'Bill of Materials'!E114+'Bill of Materials'!F114","v":0},{"$f":"'Bill of Materials'!M114","v":"EA"},{"$f":"'Bill of Materials'!G114","v":"4\" Cat.5e J-Hooks"},{"$f":"'Bill of Materials'!L114","v":"Erico-Caddy"},{"$f":"'Bill of Materials'!N114","v":2.92},{"$f":"'Bill of Materials'!P114","v":"DWC"},{"$f":"'Bill of Materials'!C114","v":"INFO-2399"},{"$f":"'Bill of Materials'!H114","v":"CAT-64"},null,null,null,0,{"$f":"'Bill of Materials'!J114","v":"standard material"},{"$f":"'Bill of Materials'!K114","v":"physical"},0]
[{"$f":"'Bill of Materials'!E115+'Bill of Materials'!F115","v":0},{"$f":"'Bill of Materials'!M115","v":"EA"},{"$f":"'Bill of Materials'!G115","v":"Small Beam clamp for 3/4\", 2\" and 4\" J-Hooks"},{"$f":"'Bill of Materials'!L115","v":"Steel City"},{"$f":"'Bill of Materials'!N115","v":0.45},{"$f":"'Bill of Materials'!P115","v":"DWC"},{"$f":"'Bill of Materials'!C115","v":"INFO-9025"},{"$f":"'Bill of Materials'!H115","v":"500"},null,null,null,0,{"$f":"'Bill of Materials'!J115","v":"standard material"},{"$f":"'Bill of Materials'!K115","v":"physical"},0]
[{"$f":"'Bill of Materials'!E116+'Bill of Materials'!F116","v":0},{"$f":"'Bill of Materials'!M116","v":"EA"},{"$f":"'Bill of Materials'!G116","v":"Velcro Cable Tie, 15\" Black - 10 pcs per roll"},{"$f":"'Bill of Materials'!L116","v":"Hellermann Tyton"},{"$f":"'Bill of Materials'!N116","v":10.51},{"$f":"'Bill of Materials'!P116","v":"DWC"},{"$f":"'Bill of Materials'!C116","v":"INRF-0103"},{"$f":"'Bill of Materials'!H116","v":"GT.75X150P2"},null,null,null,0,{"$f":"'Bill of Materials'!J116","v":"standard material"},{"$f":"'Bill of Materials'!K116","v":"physical"},0]
[{"$f":"'Bill of Materials'!#REF!+'Bill of Materials'!#REF!","v":{"$error":"#REF!"}},{"$f":"'Bill of Materials'!#REF!","v":{"$error":"#REF!"}},{"$f":"'Bill of Materials'!#REF!","v":{"$error":"#REF!"}},{"$f":"'Bill of Materials'!#REF!","v":{"$error":"#REF!"}},{"$f":"'Bill of Materials'!#REF!","v":{"$error":"#REF!"}},{"$f":"'Bill of Materials'!#REF!","v":{"$error":"#REF!"}},{"$f":"'Bill of Materials'!#REF!","v":{"$error":"#REF!"}},{"$f":"'Bill of Materials'!#REF!","v":{"$error":"#REF!"}},null,null,null,{"$error":"#REF!"},{"$f":"'Bill of Materials'!#REF!","v":{"$error":"#REF!"}},{"$f":"'Bill of Materials'!#REF!","v":{"$error":"#REF!"}},{"$error":"#REF!"}]
[{"$f":"'Bill of Materials'!E118+'Bill of Materials'!F118","v":0},{"$f":"'Bill of Materials'!M118","v":"EA"},{"$f":"'Bill of Materials'!G118","v":"Cat.5e RJ-45 Patch Cord - 3 ft. - Blue Jacket"},{"$f":"'Bill of Materials'!L118","v":"Leviton"},{"$f":"'Bill of Materials'!N118","v":2.67},{"$f":"'Bill of Materials'!P118","v":"DWC"},{"$f":"'Bill of Materials'!C118","v":"0217-13VG"},{"$f":"'Bill of Materials'!H118","v":"5G460-03L"},null,null,null,0,{"$f":"'Bill of Materials'!J118","v":"standard material"},{"$f":"'Bill of Materials'!K118","v":"horizontal"},0]
[{"$f":"'Bill of Materials'!E119+'Bill of Materials'!F119","v":0},{"$f":"'Bill of Materials'!M119","v":"EA"},{"$f":"'Bill of Materials'!G119","v":"Cat.5e RJ-45 Patch Cord - 5 ft. - Blue Jacket"},{"$f":"'Bill of Materials'!L119","v":"Leviton"},{"$f":"'Bill of Materials'!N119","v":2.83},{"$f":"'Bill of Materials'!P119","v":"DWC"},{"$f":"'Bill of Materials'!C119","v":"0217-13VH"},{"$f":"'Bill of Materials'!H119","v":"5G460-05L"},null,null,null,0,{"$f":"'Bill of Materials'!J119","v":"standard material"},{"$f":"'Bill of Materials'!K119","v":"horizontal"},0]
[{"$f":"'Bill of Materials'!E120+'Bill of Materials'!F120","v":0},{"$f":"'Bill of Materials'!M120","v":"EA"},{"$f":"'Bill of Materials'!G120","v":"Cat.5e RJ-45 Patch Cord - 7 ft. - Blue Jacket"},{"$f":"'Bill of Materials'!L120","v":"Leviton"},{"$f":"'Bill of Materials'!N120","v":3.33},{"$f":"'Bill of Materials'!P120","v":"DWC"},{"$f":"'Bill of Materials'!C120","v":"0217-13VJ"},{"$f":"'Bill of Materials'!H120","v":"5G460-07L"},null,null,null,0,{"$f":"'Bill of Materials'!J120","v":"standard material"},{"$f":"'Bill of Materials'!K120","v":"horizontal"},0]
[{"$f":"'Bill of Materials'!E121+'Bill of Materials'!F121","v":0},{"$f":"'Bill of Materials'!M121","v":"EA"},{"$f":"'Bill of Materials'!G121","v":"Cat.5e RJ-45 Patch Cord - 10 ft. - Blue Jacket"},{"$f":"'Bill of Materials'!L121","v":"Leviton"},{"$f":"'Bill of Materials'!N121","v":3.88},{"$f":"'Bill of Materials'!P121","v":"DWC"},{"$f":"'Bill of Materials'!C121","v":"0217-13VK"},{"$f":"'Bill of Materials'!H121","v":"5G460-10L"},null,null,null,0,{"$f":"'Bill of Materials'!J121","v":"standard material"},{"$f":"'Bill of Materials'!K121","v":"horizontal"},0]
[{"$f":"'Bill of Materials'!E122+'Bill of Materials'!F122","v":0},{"$f":"'Bill of Materials'!M122","v":"EA"},{"$f":"'Bill of Materials'!G122","v":"Cat.5e RJ-45 Patch Cord - 15 ft. - Blue Jacket"},{"$f":"'Bill of Materials'!L122","v":"Leviton"},{"$f":"'Bill of Materials'!N122","v":5.62},{"$f":"'Bill of Materials'!P122","v":"DWC"},{"$f":"'Bill of Materials'!C122","v":"0217-13VL"},{"$f":"'Bill of Materials'!H122","v":"5G460-15L"},null,null,null,0,{"$f":"'Bill of Materials'!J122","v":"standard material"},{"$f":"'Bill of Materials'!K122","v":"horizontal"},0]
[{"$f":"'Bill of Materials'!E123+'Bill of Materials'!F123","v":0},{"$f":"'Bill of Materials'!M123","v":"EA"},{"$f":"'Bill of Materials'!G123","v":"Cat.5e RJ-45 Patch Cord - 20 ft. - Blue Jacket"},{"$f":"'Bill of Materials'!L123","v":"Leviton"},{"$f":"'Bill of Materials'!N123","v":6.36},{"$f":"'Bill of Materials'!P123","v":"DWC"},{"$f":"'Bill of Materials'!C123","v":"0217-13VM"},{"$f":"'Bill of Materials'!H123","v":"5G460-20L"},null,null,null,{"$f":"E140*A140","v":0},{"$f":"'Bill of Materials'!J123","v":"standard material"},{"$f":"'Bill of Materials'!K123","v":"horizontal"},{"$f":"IF(A140>0,1,0)","v":0}]
[{"$f":"'Bill of Materials'!E124+'Bill of Materials'!F124","v":0},{"$f":"'Bill of Materials'!M124","v":"EA"},{"$f":"'Bill of Materials'!G124","v":"Cat.5e RJ-45 Patch Cord - 3 ft. - Yellow Jacket"},{"$f":"'Bill of Materials'!L124","v":"Leviton"},{"$f":"'Bill of Materials'!N124","v":2.67},{"$f":"'Bill of Materials'!P124","v":"DWC"},{"$f":"'Bill of Materials'!C124","v":"0217-13VN"},{"$f":"'Bill of Materials'!H124","v":"5G460-03Y"},null,null,null,0,{"$f":"'Bill of Materials'!J124","v":"standard material"},{"$f":"'Bill of Materials'!K124","v":"horizontal"},0]
[{"$f":"'Bill of Materials'!E125+'Bill of Materials'!F125","v":0},{"$f":"'Bill of Materials'!M125","v":"EA"},{"$f":"'Bill of Materials'!G125","v":"Cat.5e RJ-45 Patch Cord - 5 ft. - Yellow Jacket"},{"$f":"'Bill of Materials'!L125","v":"Leviton"},{"$f":"'Bill of Materials'!N125","v":2.83},{"$f":"'Bill of Materials'!P125","v":"DWC"},{"$f":"'Bill of Materials'!C125","v":"0217-13VP"},{"$f":"'Bill of Materials'!H125","v":"5G460-05Y"},null,null,null,0,{"$f":"'Bill of Materials'!J125","v":"standard material"},{"$f":"'Bill of Materials'!K125","v":"horizontal"},0]
[{"$f":"'Bill of Materials'!E126+'Bill of Materials'!F126","v":0},{"$f":"'Bill of Materials'!M126","v":"EA"},{"$f":"'Bill of Materials'!G126","v":"Cat.5e RJ-45 Patch Cord - 7 ft. - Yellow Jacket"},{"$f":"'Bill of Materials'!L126","v":"Leviton"},{"$f":"'Bill of Materials'!N126","v":3.33},{"$f":"'Bill of Materials'!P126","v":"DWC"},{"$f":"'Bill of Materials'!C126","v":"0217-13VR"},{"$f":"'Bill of Materials'!H126","v":"5G460-07Y"},null,null,null,0,{"$f":"'Bill of Materials'!J126","v":"standard material"},{"$f":"'Bill of Materials'!K126","v":"horizontal"},0]
[{"$f":"'Bill of Materials'!E127+'Bill of Materials'!F127","v":0},{"$f":"'Bill of Materials'!M127","v":"EA"},{"$f":"'Bill of Materials'!G127","v":"Cat.5e RJ-45 Patch Cord - 10 ft. - Yellow Jacket"},{"$f":"'Bill of Materials'!L127","v":"Leviton"},{"$f":"'Bill of Materials'!N127","v":3.88},{"$f":"'Bill of Materials'!P127","v":"DWC"},{"$f":"'Bill of Materials'!C127","v":"0217-13VT"},{"$f":"'Bill of Materials'!H127","v":"5G460-10Y"},null,null,null,0,{"$f":"'Bill of Materials'!J127","v":"standard material"},{"$f":"'Bill of Materials'!K127","v":"horizontal"},0]
[{"$f":"'Bill of Materials'!E128+'Bill of Materials'!F128","v":0},{"$f":"'Bill of Materials'!M128","v":"EA"},{"$f":"'Bill of Materials'!G128","v":"Cat.5e RJ-45 Patch Cord - 15 ft. - Yellow Jacket"},{"$f":"'Bill of Materials'!L128","v":"Leviton"},{"$f":"'Bill of Materials'!N128","v":5.62},{"$f":"'Bill of Materials'!P128","v":"DWC"},{"$f":"'Bill of Materials'!C128","v":"0217-13VV"},{"$f":"'Bill of Materials'!H128","v":"5G460-15Y"},null,null,null,0,{"$f":"'Bill of Materials'!J128","v":"standard material"},{"$f":"'Bill of Materials'!K128","v":"horizontal"},0]
[{"$f":"'Bill of Materials'!E129+'Bill of Materials'!F129","v":0},{"$f":"'Bill of Materials'!M129","v":"EA"},{"$f":"'Bill of Materials'!G129","v":"Cat.5e RJ-45 Patch Cord - 20 ft. - Yellow Jacket"},{"$f":"'Bill of Materials'!L129","v":"Leviton"},{"$f":"'Bill of Materials'!N129","v":6.36},{"$f":"'Bill of Materials'!P129","v":"DWC"},{"$f":"'Bill of Materials'!C129","v":"0217-13VW"},{"$f":"'Bill of Materials'!H129","v":"5G460-20Y"},null,null,null,0,{"$f":"'Bill of Materials'!J129","v":"standard material"},{"$f":"'Bill of Materials'!K129","v":"horizontal"},0]
[{"$f":"'Bill of Materials'!E130+'Bill of Materials'!F130","v":0},{"$f":"'Bill of Materials'!M130","v":"EA"},{"$f":"'Bill of Materials'!G130","v":"Cat.5e RJ-45 Voice Patch Cord - 7 ft. - Gray Jacket"},{"$f":"'Bill of Materials'!L130","v":"Leviton"},{"$f":"'Bill of Materials'!N130","v":3.33},{"$f":"'Bill of Materials'!P130","v":"DWC"},{"$f":"'Bill of Materials'!C130","v":"0217-13VX"},{"$f":"'Bill of Materials'!H130","v":"5G460-07S"},null,null,null,0,{"$f":"'Bill of Materials'!J130","v":"standard material"},{"$f":"'Bill of Materials'!K130","v":"horizontal"},0]
[{"$f":"'Bill of Materials'!E131+'Bill of Materials'!F131","v":0},{"$f":"'Bill of Materials'!M131","v":"EA"},{"$f":"'Bill of Materials'!G131","v":"Cat.5e RJ-45 Voice Patch Cord - 10 ft. - Gray Jacket"},{"$f":"'Bill of Materials'!L131","v":"Leviton"},{"$f":"'Bill of Materials'!N131","v":3.88},{"$f":"'Bill of Materials'!P131","v":"DWC"},{"$f":"'Bill of Materials'!C131","v":"0217-13VY"},{"$f":"'Bill of Materials'!H131","v":"5G460-10S"},null,null,null,0,{"$f":"'Bill of Materials'!J131","v":"standard material"},{"$f":"'Bill of Materials'!K131","v":"horizontal"},0]
[{"$f":"'Bill of Materials'!E132+'Bill of Materials'!F132","v":0},{"$f":"'Bill of Materials'!M132","v":"EA"},{"$f":"'Bill of Materials'!G132","v":"Cat.5e RJ-45 Voice Patch Cord - 15 ft. - Gray Jacket"},{"$f":"'Bill of Materials'!L132","v":"Leviton"},{"$f":"'Bill of Materials'!N132","v":5.62},{"$f":"'Bill of Materials'!P132","v":"DWC"},{"$f":"'Bill of Materials'!C132","v":"0217-13W0"},{"$f":"'Bill of Materials'!H132","v":"5G460-15S"},null,null,null,0,{"$f":"'Bill of Materials'!J132","v":"standard material"},{"$f":"'Bill of Materials'!K132","v":"horizontal"},0]
[{"$f":"'Bill of Materials'!E133+'Bill of Materials'!F133","v":0},{"$f":"'Bill of Materials'!M133","v":"EA"},{"$f":"'Bill of Materials'!G133","v":"Cat.5e RJ-45 Voice Patch Cord - 20 ft. - Gray Jacket"},{"$f":"'Bill of Materials'!L133","v":"Leviton"},{"$f":"'Bill of Materials'!N133","v":6.36},{"$f":"'Bill of Materials'!P133","v":"DWC"},{"$f":"'Bill of Materials'!C133","v":"0217-13W1"},{"$f":"'Bill of Materials'!H133","v":"5G460-20S"},null,null,null,0,{"$f":"'Bill of Materials'!J133","v":"standard material"},{"$f":"'Bill of Materials'!K133","v":"horizontal"},0]
[{"$f":"'Bill of Materials'!E134+'Bill of Materials'!F134","v":0},{"$f":"'Bill of Materials'!M134","v":"BOX"},{"$f":"'Bill of Materials'!G134","v":"Cat 5e UTP Station Wire, 1000' Plenum in Box 350 MHz Hot Pink (For Data 3, Data 4, Data 5 & Data 6)"},{"$f":"'Bill of Materials'!L134","v":"CommScope"},{"$f":"'Bill of Materials'!N134","v":211.2},{"$f":"'Bill of Materials'!P134","v":"DWC"},{"$f":"'Bill of Materials'!C134","v":"10041"},{"$f":"'Bill of Materials'!H134","v":"5504M-Pink"},null,null,null,0,{"$f":"'Bill of Materials'!J134","v":"standard material"},{"$f":"'Bill of Materials'!K134","v":"horizontal"},0]
[{"$f":"'Bill of Materials'!E135+'Bill of Materials'!F135","v":0},{"$f":"'Bill of Materials'!M135","v":"REEL"},{"$f":"'Bill of Materials'!G135","v":"Cat. 5e UTP Station Wire, 1000' reel, Outdoor Rated 350 MHZ (Black color only)"},{"$f":"'Bill of Materials'!L135","v":"CommScope"},{"$f":"'Bill of Materials'!N135","v":195},{"$f":"'Bill of Materials'!P135","v":"DWC"},{"$f":"'Bill of Materials'!C135","v":"10047"},{"$f":"'Bill of Materials'!H135","v":"5NF4"},null,null,null,0,{"$f":"'Bill of Materials'!J135","v":"standard material"},{"$f":"'Bill of Materials'!K135","v":"horizontal"},0]
[{"$f":"'Bill of Materials'!E136+'Bill of Materials'!F136","v":0},{"$f":"'Bill of Materials'!M136","v":"EA"},{"$f":"'Bill of Materials'!G136","v":"5M Cat 5e Low Smoke Zero Halogen Patch Cord, Blue"},{"$f":"'Bill of Materials'!L136","v":"Leviton"},{"$f":"'Bill of Materials'!N136","v":4.0999999999999996},{"$f":"'Bill of Materials'!P136","v":"DWC"},{"$f":"'Bill of Materials'!C136","v":"10348"},{"$f":"'Bill of Materials'!H136","v":"5Z460-BL5"},null,null,null,0,{"$f":"'Bill of Materials'!J136","v":"standard material"},{"$f":"'Bill of Materials'!K136","v":"horizontal"},0]
[{"$f":"'Bill of Materials'!E137+'Bill of Materials'!F137","v":0},{"$f":"'Bill of Materials'!M137","v":"BOX"},{"$f":"'Bill of Materials'!G137","v":"Cat. 5e UTP station wire, 1000' plenum in box 350 MHz. (Blue for Data 1)"},{"$f":"'Bill of Materials'!L137","v":"CommScope"},{"$f":"'Bill of Materials'!N137","v":211.2},{"$f":"'Bill of Materials'!P137","v":"DWC"},{"$f":"'Bill of Materials'!C137","v":"INFO-2414"},{"$f":"'Bill of Materials'!H137","v":"5504M-BLUE"},null,null,null,0,{"$f":"'Bill of Materials'!J137","v":"standard material"},{"$f":"'Bill of Materials'!K137","v":"horizontal"},0]
[{"$f":"'Bill of Materials'!E138+'Bill of Materials'!F138","v":0},{"$f":"'Bill of Materials'!M138","v":"BOX"},{"$f":"'Bill of Materials'!G138","v":"Cat. 5e UTP station wire, 1000' plenum in box 350 MHz. (Yellow for Data 2)"},{"$f":"'Bill of Materials'!L138","v":"CommScope"},{"$f":"'Bill of Materials'!N138","v":211.2},{"$f":"'Bill of Materials'!P138","v":"DWC"},{"$f":"'Bill of Materials'!C138","v":"INFO-2415"},{"$f":"'Bill of Materials'!H138","v":"5504M-YELLOW"},null,null,null,0,{"$f":"'Bill of Materials'!J138","v":"standard material"},{"$f":"'Bill of Materials'!K138","v":"horizontal"},0]
[{"$f":"'Bill of Materials'!E139+'Bill of Materials'!F139","v":0},{"$f":"'Bill of Materials'!M139","v":"BOX"},{"$f":"'Bill of Materials'!G139","v":"Cat. 5e UTP station wire, 1000' plenum in box 350 MHz. (Gray for Voice )"},{"$f":"'Bill of Materials'!L139","v":"CommScope"},{"$f":"'Bill of Materials'!N139","v":211.2},{"$f":"'Bill of Materials'!P139","v":"DWC"},{"$f":"'Bill of Materials'!C139","v":"INFO-2416"},{"$f":"'Bill of Materials'!H139","v":"5504M-GRAY"},null,null,null,0,{"$f":"'Bill of Materials'!J139","v":"standard material"},{"$f":"'Bill of Materials'!K139","v":"horizontal"},0]
[{"$f":"'Bill of Materials'!E140+'Bill of Materials'!F140","v":0},{"$f":"'Bill of Materials'!M140","v":"BOX"},{"$f":"'Bill of Materials'!G140","v":"Cat. 5e UTP station wire, 1000' non-plenum in box 350 MHz. (Blue for Data 1)"},{"$f":"'Bill of Materials'!L140","v":"CommScope"},{"$f":"'Bill of Materials'!N140","v":115.8},{"$f":"'Bill of Materials'!P140","v":"DWC"},{"$f":"'Bill of Materials'!C140","v":"INFO-2417"},{"$f":"'Bill of Materials'!H140","v":"55N4R-BLUE"},null,null,null,0,{"$f":"'Bill of Materials'!J140","v":"standard material"},{"$f":"'Bill of Materials'!K140","v":"horizontal"},0]
[{"$f":"'Bill of Materials'!E141+'Bill of Materials'!F141","v":0},{"$f":"'Bill of Materials'!M141","v":"BOX"},{"$f":"'Bill of Materials'!G141","v":"Cat. 5e UTP station wire, 1000' non-plenum in box 350 MHz. (Yellow for Data 2)"},{"$f":"'Bill of Materials'!L141","v":"CommScope"},{"$f":"'Bill of Materials'!N141","v":115.8},{"$f":"'Bill of Materials'!P141","v":"DWC"},{"$f":"'Bill of Materials'!C141","v":"INFO-2418"},{"$f":"'Bill of Materials'!H141","v":"55N4R-YELLOW"},null,null,null,0,{"$f":"'Bill of Materials'!J141","v":"standard material"},{"$f":"'Bill of Materials'!K141","v":"horizontal"},0]
[{"$f":"'Bill of Materials'!E142+'Bill of Materials'!F142","v":0},{"$f":"'Bill of Materials'!M142","v":"BOX"},{"$f":"'Bill of Materials'!G142","v":"Cat. 5e UTP station wire, 1000' non-plenum in box 350 MHz. (Gray for Voice)"},{"$f":"'Bill of Materials'!L142","v":"CommScope"},{"$f":"'Bill of Materials'!N142","v":115.8},{"$f":"'Bill of Materials'!P142","v":"DWC"},{"$f":"'Bill of Materials'!C142","v":"INFO-2419"},{"$f":"'Bill of Materials'!H142","v":"55N4R-GRAY"},null,null,null,0,{"$f":"'Bill of Materials'!J142","v":"standard material"},{"$f":"'Bill of Materials'!K142","v":"horizontal"},0]
[{"$f":"'Bill of Materials'!E143+'Bill of Materials'!F143","v":0},{"$f":"'Bill of Materials'!M143","v":"EA"},{"$f":"'Bill of Materials'!G143","v":"Cat.5e RJ-45 Cross-Over patch cord - 3 ft - Red Jacket"},{"$f":"'Bill of Materials'!L143","v":"DWC"},{"$f":"'Bill of Materials'!N143","v":2.67},{"$f":"'Bill of Materials'!P143","v":"DWC"},{"$f":"'Bill of Materials'!C143","v":"INFO-2473"},{"$f":"'Bill of Materials'!H143","v":"GMC-5EXPC-03R"},null,null,null,0,{"$f":"'Bill of Materials'!J143","v":"standard material"},{"$f":"'Bill of Materials'!K143","v":"horizontal"},0]
[{"$f":"'Bill of Materials'!E144+'Bill of Materials'!F144","v":0},{"$f":"'Bill of Materials'!M144","v":"EA"},{"$f":"'Bill of Materials'!G144","v":"Cat 5e Voice Patch Cord - 3 ft. - Gray Jacket"},{"$f":"'Bill of Materials'!L144","v":"Leviton"},{"$f":"'Bill of Materials'!N144","v":2.67},{"$f":"'Bill of Materials'!P144","v":"DWC"},{"$f":"'Bill of Materials'!C144","v":"INFO-2481"},{"$f":"'Bill of Materials'!H144","v":"G38-05EPC-03S"},null,null,null,0,{"$f":"'Bill of Materials'!J144","v":"standard material"},{"$f":"'Bill of Materials'!K144","v":"horizontal"},0]
[{"$f":"'Bill of Materials'!E145+'Bill of Materials'!F145","v":0},{"$f":"'Bill of Materials'!M145","v":"EA"},{"$f":"'Bill of Materials'!G145","v":"Cat 5e Voice Patch Cord - 5 ft. - Gray Jacket"},{"$f":"'Bill of Materials'!L145","v":"Leviton"},{"$f":"'Bill of Materials'!N145","v":2.83},{"$f":"'Bill of Materials'!P145","v":"DWC"},{"$f":"'Bill of Materials'!C145","v":"INFO-2482"},{"$f":"'Bill of Materials'!H145","v":"G39-05EPC-05S"},null,null,null,0,{"$f":"'Bill of Materials'!J145","v":"standard material"},{"$f":"'Bill of Materials'!K145","v":"horizontal"},0]
[{"$f":"'Bill of Materials'!E146+'Bill of Materials'!F146","v":0},{"$f":"'Bill of Materials'!M146","v":"EA"},{"$f":"'Bill of Materials'!G146","v":"Cat.5e RJ-45 patch cord - 1 ft.- White Jacket"},{"$f":"'Bill of Materials'!L146","v":"Leviton"},{"$f":"'Bill of Materials'!N146","v":2.63},{"$f":"'Bill of Materials'!P146","v":"DWC"},{"$f":"'Bill of Materials'!C146","v":"INFO-2484"},{"$f":"'Bill of Materials'!H146","v":"G14-05EPC-01W"},null,null,null,0,{"$f":"'Bill of Materials'!J146","v":"standard material"},{"$f":"'Bill of Materials'!K146","v":"horizontal"},0]
[{"$f":"'Bill of Materials'!E147+'Bill of Materials'!F147","v":0},{"$f":"'Bill of Materials'!M147","v":"EA"},{"$f":"'Bill of Materials'!G147","v":"Cat.5e RJ-45 patch cord - 3 ft.- White Jacket"},{"$f":"'Bill of Materials'!L147","v":"Leviton"},{"$f":"'Bill of Materials'!N147","v":2.67},{"$f":"'Bill of Materials'!P147","v":"DWC"},{"$f":"'Bill of Materials'!C147","v":"INFO-2485"},{"$f":"'Bill of Materials'!H147","v":"G15-05EPC-03W"},null,null,null,0,{"$f":"'Bill of Materials'!J147","v":"standard material"},{"$f":"'Bill of Materials'!K147","v":"horizontal"},0]
[{"$f":"'Bill of Materials'!E148+'Bill of Materials'!F148","v":0},{"$f":"'Bill of Materials'!M148","v":"EA"},{"$f":"'Bill of Materials'!G148","v":"Cat.5e RJ-45 patch cord - 5 ft. - White Jacket"},{"$f":"'Bill of Materials'!L148","v":"Leviton"},{"$f":"'Bill of Materials'!N148","v":2.83},{"$f":"'Bill of Materials'!P148","v":"DWC"},{"$f":"'Bill of Materials'!C148","v":"INFO-2486"},{"$f":"'Bill of Materials'!H148","v":"G16-05EPC-05W"},null,null,null,0,{"$f":"'Bill of Materials'!J148","v":"standard material"},{"$f":"'Bill of Materials'!K148","v":"horizontal"},0]
[{"$f":"'Bill of Materials'!E149+'Bill of Materials'!F149","v":0},{"$f":"'Bill of Materials'!M149","v":"EA"},{"$f":"'Bill of Materials'!G149","v":"Cat.5e RJ-45 patch cord - 7 ft. - White Jacket"},{"$f":"'Bill of Materials'!L149","v":"Leviton"},{"$f":"'Bill of Materials'!N149","v":3.33},{"$f":"'Bill of Materials'!P149","v":"DWC"},{"$f":"'Bill of Materials'!C149","v":"INFO-2487"},{"$f":"'Bill of Materials'!H149","v":"G17-05EPC-07W"},null,null,null,0,{"$f":"'Bill of Materials'!J149","v":"standard material"},{"$f":"'Bill of Materials'!K149","v":"horizontal"},0]
[{"$f":"'Bill of Materials'!E150+'Bill of Materials'!F150","v":0},{"$f":"'Bill of Materials'!M150","v":"EA"},{"$f":"'Bill of Materials'!G150","v":"Cat.5e RJ-45 patch cord - 10 ft. - White Jacket"},{"$f":"'Bill of Materials'!L150","v":"Leviton"},{"$f":"'Bill of Materials'!N150","v":3.88},{"$f":"'Bill of Materials'!P150","v":"DWC"},{"$f":"'Bill of Materials'!C150","v":"INFO-2488"},{"$f":"'Bill of Materials'!H150","v":"G18-5GEPC-10W"},null,null,null,0,{"$f":"'Bill of Materials'!J150","v":"standard material"},{"$f":"'Bill of Materials'!K150","v":"horizontal"},0]
[{"$f":"'Bill of Materials'!E151+'Bill of Materials'!F151","v":0},{"$f":"'Bill of Materials'!M151","v":"EA"},{"$f":"'Bill of Materials'!G151","v":"Cat.5e RJ-45 patch cord - 15 ft. - White Jacket"},{"$f":"'Bill of Materials'!L151","v":"Leviton"},{"$f":"'Bill of Materials'!N151","v":5.62},{"$f":"'Bill of Materials'!P151","v":"DWC"},{"$f":"'Bill of Materials'!C151","v":"INFO-2489"},{"$f":"'Bill of Materials'!H151","v":"G19-05EPC-15W"},null,null,null,0,{"$f":"'Bill of Materials'!J151","v":"standard material"},{"$f":"'Bill of Materials'!K151","v":"horizontal"},0]
[{"$f":"'Bill of Materials'!E152+'Bill of Materials'!F152","v":0},{"$f":"'Bill of Materials'!M152","v":"EA"},{"$f":"'Bill of Materials'!G152","v":"Cat.5e RJ-45 patch cord - 20 ft. - White Jacket"},{"$f":"'Bill of Materials'!L152","v":"Leviton"},{"$f":"'Bill of Materials'!N152","v":6.36},{"$f":"'Bill of Materials'!P152","v":"DWC"},{"$f":"'Bill of Materials'!C152","v":"INFO-2490"},{"$f":"'Bill of Materials'!H152","v":"G20-05EPC-20W"},null,null,null,0,{"$f":"'Bill of Materials'!J152","v":"standard material"},{"$f":"'Bill of Materials'!K152","v":"horizontal"},0]
[{"$f":"'Bill of Materials'!E153+'Bill of Materials'!F153","v":0},{"$f":"'Bill of Materials'!M153","v":"EA"},{"$f":"'Bill of Materials'!G153","v":"Cat.5e RJ-45 patch cord - 25 ft. - White Jacket"},{"$f":"'Bill of Materials'!L153","v":"Leviton"},{"$f":"'Bill of Materials'!N153","v":8.8800000000000008},{"$f":"'Bill of Materials'!P153","v":"DWC"},{"$f":"'Bill of Materials'!C153","v":"INFO-2491"},{"$f":"'Bill of Materials'!H153","v":"G21-05EPC-25W"},null,null,null,0,{"$f":"'Bill of Materials'!J153","v":"standard material"},{"$f":"'Bill of Materials'!K153","v":"horizontal"},0]
[{"$f":"'Bill of Materials'!E154+'Bill of Materials'!F154","v":0},{"$f":"'Bill of Materials'!M154","v":"EA"},{"$f":"'Bill of Materials'!G154","v":"Cat.5e RJ-45 Cross-Over patch cord - 6 ft - Red Jacket"},{"$f":"'Bill of Materials'!L154","v":"DWC"},{"$f":"'Bill of Materials'!N154","v":3.33},{"$f":"'Bill of Materials'!P154","v":"DWC"},{"$f":"'Bill of Materials'!C154","v":"INFO-8661"},{"$f":"'Bill of Materials'!H154","v":"GMC-5EXPC-06R"},null,null,null,0,{"$f":"'Bill of Materials'!J154","v":"standard material"},{"$f":"'Bill of Materials'!K154","v":"horizontal"},0]
[{"$f":"'Bill of Materials'!#REF!+'Bill of Materials'!#REF!","v":{"$error":"#REF!"}},{"$f":"'Bill of Materials'!#REF!","v":{"$error":"#REF!"}},{"$f":"'Bill of Materials'!#REF!","v":{"$error":"#REF!"}},{"$f":"'Bill of Materials'!#REF!","v":{"$error":"#REF!"}},{"$f":"'Bill of Materials'!#REF!","v":{"$error":"#REF!"}},{"$f":"'Bill of Materials'!#REF!","v":{"$error":"#REF!"}},{"$f":"'Bill of Materials'!#REF!","v":{"$error":"#REF!"}},{"$f":"'Bill of Materials'!#REF!","v":{"$error":"#REF!"}},null,null,null,{"$error":"#REF!"},{"$f":"'Bill of Materials'!#REF!","v":{"$error":"#REF!"}},{"$f":"'Bill of Materials'!#REF!","v":{"$error":"#REF!"}},{"$error":"#REF!"}]
[{"$f":"'Bill of Materials'!E156+'Bill of Materials'!F156","v":0},{"$f":"'Bill of Materials'!M156","v":"EA"},{"$f":"'Bill of Materials'!G156","v":"Blue SC SM Duplex Flangeless Bulkhead coupler for Polimods Only"},{"$f":"'Bill of Materials'!L156","v":"AFL"},{"$f":"'Bill of Materials'!N156","v":6.53},{"$f":"'Bill of Materials'!P156","v":"DWC"},{"$f":"'Bill of Materials'!C156","v":"0009-CP16"},{"$f":"'Bill of Materials'!H156","v":"CS000475"},null,null,null,0,{"$f":"'Bill of Materials'!J156","v":"standard material"},{"$f":"'Bill of Materials'!K156","v":"physical"},0]
[{"$f":"'Bill of Materials'!E157+'Bill of Materials'!F157","v":0},{"$f":"'Bill of Materials'!M157","v":"EA"},{"$f":"'Bill of Materials'!G157","v":"SC/Blunt, SM, Fiber Pigtail, 900um, Simplex, 2 Meter (Polimod Spares)"},{"$f":"'Bill of Materials'!L157","v":"AFL"},{"$f":"'Bill of Materials'!N157","v":5.89},{"$f":"'Bill of Materials'!P157","v":"DWC"},{"$f":"'Bill of Materials'!C157","v":"0119-C4FM"},{"$f":"'Bill of Materials'!H157","v":"C146507-0002"},null,null,null,0,{"$f":"'Bill of Materials'!J157","v":"standard material"},{"$f":"'Bill of Materials'!K157","v":"physical"},0]
[{"$f":"'Bill of Materials'!E158+'Bill of Materials'!F158","v":0},{"$f":"'Bill of Materials'!M158","v":"EA"},{"$f":"'Bill of Materials'!G158","v":"SC/Blunt, MM, Fiber Pigtail, 900um, Simplex, 2 Meter (Polimod Spares)"},{"$f":"'Bill of Materials'!L158","v":"AFL"},{"$f":"'Bill of Materials'!N158","v":5.89},{"$f":"'Bill of Materials'!P158","v":"DWC"},{"$f":"'Bill of Materials'!C158","v":"0119-C4FN"},{"$f":"'Bill of Materials'!H158","v":"C016381-0002"},null,null,null,0,{"$f":"'Bill of Materials'!J158","v":"standard material"},{"$f":"'Bill of Materials'!K158","v":"physical"},0]
[{"$f":"'Bill of Materials'!E159+'Bill of Materials'!F159","v":0},{"$f":"'Bill of Materials'!M159","v":"EA"},{"$f":"'Bill of Materials'!G159","v":"Fusion Splice Holder Chip Kit (Single Fiber Splices)"},{"$f":"'Bill of Materials'!L159","v":"AFL"},{"$f":"'Bill of Materials'!N159","v":5.54},{"$f":"'Bill of Materials'!P159","v":"DWC"},{"$f":"'Bill of Materials'!C159","v":"0456-0XFW"},{"$f":"'Bill of Materials'!H159","v":"91745-02"},null,null,null,0,{"$f":"'Bill of Materials'!J159","v":"standard material"},{"$f":"'Bill of Materials'!K159","v":"physical"},0]
[{"$f":"'Bill of Materials'!E160+'Bill of Materials'!F160","v":0},{"$f":"'Bill of Materials'!M160","v":"EA"},{"$f":"'Bill of Materials'!G160","v":"(6) LC SM Blue Duplex Bulkhead Coupler PoliMod Patch & Splice Module for 12 fiber splices and terminations, includes (12) 40mm splice protectors"},{"$f":"'Bill of Materials'!L160","v":"AFL"},{"$f":"'Bill of Materials'!N160","v":188},{"$f":"'Bill of Materials'!P160","v":"DWC"},{"$f":"'Bill of Materials'!C160","v":"0528-5K2H"},{"$f":"'Bill of Materials'!H160","v":"FM000699"},null,null,null,0,{"$f":"'Bill of Materials'!J160","v":"standard material"},{"$f":"'Bill of Materials'!K160","v":"physical"},0]
[{"$f":"'Bill of Materials'!E161+'Bill of Materials'!F161","v":0},{"$f":"'Bill of Materials'!M161","v":"EA"},{"$f":"'Bill of Materials'!G161","v":"Twelve Fiber (6 duplex) SC MM/SM Adapter Plate, Telco White, 4RU Panels"},{"$f":"'Bill of Materials'!L161","v":"AFL"},{"$f":"'Bill of Materials'!N161","v":45.34},{"$f":"'Bill of Materials'!P161","v":"DWC"},{"$f":"'Bill of Materials'!C161","v":"0607-DF8H"},{"$f":"'Bill of Materials'!H161","v":"C219604"},null,null,null,0,{"$f":"'Bill of Materials'!J161","v":"standard material"},{"$f":"'Bill of Materials'!K161","v":"physical"},0]
[{"$f":"'Bill of Materials'!E162+'Bill of Materials'!F162","v":0},{"$f":"'Bill of Materials'!M162","v":"EA"},{"$f":"'Bill of Materials'!G162","v":"24 Fiber Position, LC SM Adapter Plate\r\n(12 Duplex) Telco White, 170 (5RU panel)"},{"$f":"'Bill of Materials'!L162","v":"AFL"},{"$f":"'Bill of Materials'!N162","v":90.93},{"$f":"'Bill of Materials'!P162","v":"DWC"},{"$f":"'Bill of Materials'!C162","v":"0607-DF8J"},{"$f":"'Bill of Materials'!H162","v":"FM000129"},null,null,null,0,{"$f":"'Bill of Materials'!J162","v":"standard material"},{"$f":"'Bill of Materials'!K162","v":"physical"},0]
[{"$f":"'Bill of Materials'!E163+'Bill of Materials'!F163","v":0},{"$f":"'Bill of Materials'!M163","v":"EA"},{"$f":"'Bill of Materials'!G163","v":"OEE-720/1440 LightLink Optical Splice Entrance Enclosure (Large 30\"W x 40\"H)"},{"$f":"'Bill of Materials'!L163","v":"AFL"},{"$f":"'Bill of Materials'!N163","v":1968},{"$f":"'Bill of Materials'!P163","v":"DWC"},{"$f":"'Bill of Materials'!C163","v":"10065"},{"$f":"'Bill of Materials'!H163","v":"911275-00-05"},null,null,null,0,{"$f":"'Bill of Materials'!J163","v":"standard material"},{"$f":"'Bill of Materials'!K163","v":"physical"},0]
[{"$f":"'Bill of Materials'!E164+'Bill of Materials'!F164","v":0},{"$f":"'Bill of Materials'!M164","v":"EA"},{"$f":"'Bill of Materials'!G164","v":"OEE-288/576 LightLink Optical Splice Entrance Enclosure (Small 30\"W x 22\"H)"},{"$f":"'Bill of Materials'!L164","v":"AFL"},{"$f":"'Bill of Materials'!N164","v":1197},{"$f":"'Bill of Materials'!P164","v":"DWC"},{"$f":"'Bill of Materials'!C164","v":"10066"},{"$f":"'Bill of Materials'!H164","v":"911309-00-05"},null,null,null,0,{"$f":"'Bill of Materials'!J164","v":"standard material"},{"$f":"'Bill of Materials'!K164","v":"physical"},0]
[{"$f":"'Bill of Materials'!E165+'Bill of Materials'!F165","v":0},{"$f":"'Bill of Materials'!M165","v":"EA"},{"$f":"'Bill of Materials'!G165","v":"Add optical fiber patch panel, bulk heads, blanks, splice panel to cabinet or rack-------Labor Only"},{"$f":"'Bill of Materials'!L165","v":"DWC"},{"$f":"'Bill of Materials'!N165","v":54},{"$f":"'Bill of Materials'!P165","v":"DWC"},{"$f":"'Bill of Materials'!C165","v":"10081"},{"$f":"'Bill of Materials'!H165","v":"C195941-L"},null,null,null,0,{"$f":"'Bill of Materials'!J165","v":"standard material"},{"$f":"'Bill of Materials'!K165","v":"physical"},0]
[{"$f":"'Bill of Materials'!E166+'Bill of Materials'!F166","v":0},{"$f":"'Bill of Materials'!M166","v":"EA"},{"$f":"'Bill of Materials'!G166","v":"24 Fiber Position, LC SM Adapter Plate\r\n(12 Duplex) Black, 170 (5RU panel)"},{"$f":"'Bill of Materials'!L166","v":"AFL"},{"$f":"'Bill of Materials'!N166","v":92.8},{"$f":"'Bill of Materials'!P166","v":"DWC"},{"$f":"'Bill of Materials'!C166","v":"10107"},{"$f":"'Bill of Materials'!H166","v":"FM000130"},null,null,null,0,{"$f":"'Bill of Materials'!J166","v":"standard material"},{"$f":"'Bill of Materials'!K166","v":"physical"},0]
[{"$f":"'Bill of Materials'!E167+'Bill of Materials'!F167","v":0},{"$f":"'Bill of Materials'!M167","v":"EA"},{"$f":"'Bill of Materials'!G167","v":"24 Fiber Position, LC MM Adapter Plate\r\n(12 Duplex) Telco White, 170 (5RU panel)"},{"$f":"'Bill of Materials'!L167","v":"AFL"},{"$f":"'Bill of Materials'!N167","v":92.8},{"$f":"'Bill of Materials'!P167","v":"DWC"},{"$f":"'Bill of Materials'!C167","v":"10108"},{"$f":"'Bill of Materials'!H167","v":"FM000131"},null,null,null,0,{"$f":"'Bill of Materials'!J167","v":"standard material"},{"$f":"'Bill of Materials'!K167","v":"physical"},0]
[{"$f":"'Bill of Materials'!E168+'Bill of Materials'!F168","v":0},{"$f":"'Bill of Materials'!M168","v":"EA"},{"$f":"'Bill of Materials'!G168","v":"24 Fiber Position, LC MM Adapter Plate\r\n(12 Duplex) Black, 170 (5RU panel)"},{"$f":"'Bill of Materials'!L168","v":"AFL"},{"$f":"'Bill of Materials'!N168","v":92.8},{"$f":"'Bill of Materials'!P168","v":"DWC"},{"$f":"'Bill of Materials'!C168","v":"10109"},{"$f":"'Bill of Materials'!H168","v":"FM000132"},null,null,null,0,{"$f":"'Bill of Materials'!J168","v":"standard material"},{"$f":"'Bill of Materials'!K168","v":"physical"},0]
[{"$f":"'Bill of Materials'!E169+'Bill of Materials'!F169","v":0},{"$f":"'Bill of Materials'!M169","v":"EA"},{"$f":"'Bill of Materials'!G169","v":"5 RU High-Density Fiber Patch Panel (Black)"},{"$f":"'Bill of Materials'!L169","v":"AFL"},{"$f":"'Bill of Materials'!N169","v":191.35},{"$f":"'Bill of Materials'!P169","v":"DWC"},{"$f":"'Bill of Materials'!C169","v":"10110"},{"$f":"'Bill of Materials'!H169","v":"FM000374-BE"},null,null,null,0,{"$f":"'Bill of Materials'!J169","v":"standard material"},{"$f":"'Bill of Materials'!K169","v":"physical"},0]
[{"$f":"'Bill of Materials'!E170+'Bill of Materials'!F170","v":0},{"$f":"'Bill of Materials'!M170","v":"EA"},{"$f":"'Bill of Materials'!G170","v":"LC Fiber Optic Connector Removal Tool, Order for High Density FPP"},{"$f":"'Bill of Materials'!L170","v":"Panduit"},{"$f":"'Bill of Materials'!N170","v":199.9},{"$f":"'Bill of Materials'!P170","v":"DWC"},{"$f":"'Bill of Materials'!C170","v":"10120"},{"$f":"'Bill of Materials'!H170","v":"HDCRT"},null,null,null,0,{"$f":"'Bill of Materials'!J170","v":"standard material"},{"$f":"'Bill of Materials'!K170","v":"physical"},0]
[{"$f":"'Bill of Materials'!E171+'Bill of Materials'!F171","v":0},{"$f":"'Bill of Materials'!M171","v":"EA"},{"$f":"'Bill of Materials'!G171","v":"24/48 Port AFL Patch and Splice Panel 2RU with Splice Trays, Telco White"},{"$f":"'Bill of Materials'!L171","v":"AFL"},{"$f":"'Bill of Materials'!N171","v":157.26},{"$f":"'Bill of Materials'!P171","v":"DWC"},{"$f":"'Bill of Materials'!C171","v":"10285"},{"$f":"'Bill of Materials'!H171","v":"FM001421-WE"},null,null,null,0,{"$f":"'Bill of Materials'!J171","v":"standard material"},{"$f":"'Bill of Materials'!K171","v":"physical"},0]
[{"$f":"'Bill of Materials'!E172+'Bill of Materials'!F172","v":0},{"$f":"'Bill of Materials'!M172","v":"EA"},{"$f":"'Bill of Materials'!G172","v":"XFM HD High Density Fiber Panel, 144 Port Capacity, 1RU, Rack Mounted, 23\" or 19\", Black"},{"$f":"'Bill of Materials'!L172","v":"AFL"},{"$f":"'Bill of Materials'!N172","v":369.2},{"$f":"'Bill of Materials'!P172","v":"DWC"},{"$f":"'Bill of Materials'!C172","v":"10440"},{"$f":"'Bill of Materials'!H172","v":"XFMHD-1U-B"},null,null,null,0,{"$f":"'Bill of Materials'!J172","v":"standard material"},{"$f":"'Bill of Materials'!K172","v":"physical"},0]
[{"$f":"'Bill of Materials'!E173+'Bill of Materials'!F173","v":0},{"$f":"'Bill of Materials'!M173","v":"EA"},{"$f":"'Bill of Materials'!G173","v":"XFM HD High Density Fiber Panel, 288 Port Capacity, 2RU, Rack Mounted, 23\" or 19\", Black"},{"$f":"'Bill of Materials'!L173","v":"AFL"},{"$f":"'Bill of Materials'!N173","v":469.4},{"$f":"'Bill of Materials'!P173","v":"DWC"},{"$f":"'Bill of Materials'!C173","v":"10441"},{"$f":"'Bill of Materials'!H173","v":"XFMHD-2U-B"},null,null,null,0,{"$f":"'Bill of Materials'!J173","v":"standard material"},{"$f":"'Bill of Materials'!K173","v":"physical"},0]
[{"$f":"'Bill of Materials'!E174+'Bill of Materials'!F174","v":0},{"$f":"'Bill of Materials'!M174","v":"EA"},{"$f":"'Bill of Materials'!G174","v":"XFM HD High Density Fiber Panel, 586 Port Capacity, 4RU, Rack Mounted, 23\" or 19\", Black"},{"$f":"'Bill of Materials'!L174","v":"AFL"},{"$f":"'Bill of Materials'!N174","v":569.6},{"$f":"'Bill of Materials'!P174","v":"DWC"},{"$f":"'Bill of Materials'!C174","v":"10442"},{"$f":"'Bill of Materials'!H174","v":"XFMHD-4U-B"},null,null,null,0,{"$f":"'Bill of Materials'!J174","v":"standard material"},{"$f":"'Bill of Materials'!K174","v":"physical"},0]
[{"$f":"'Bill of Materials'!E175+'Bill of Materials'!F175","v":0},{"$f":"'Bill of Materials'!M175","v":"EA"},{"$f":"'Bill of Materials'!G175","v":"XFM HD Optical Module, 12 Fiber SingleMode (OS-1), LC/UPC Connectors, Blue, MTP/Rear Connection\t"},{"$f":"'Bill of Materials'!L175","v":"AFL"},{"$f":"'Bill of Materials'!N175","v":380.6},{"$f":"'Bill of Materials'!P175","v":"DWC"},{"$f":"'Bill of Materials'!C175","v":"10443"},{"$f":"'Bill of Materials'!H175","v":"HDOC-SM-ULC"},null,null,null,0,{"$f":"'Bill of Materials'!J175","v":"standard material"},{"$f":"'Bill of Materials'!K175","v":"physical"},0]
[{"$f":"'Bill of Materials'!E176+'Bill of Materials'!F176","v":0},{"$f":"'Bill of Materials'!M176","v":"EA"},{"$f":"'Bill of Materials'!G176","v":"XFM HD Optical Module, 12 Fiber MultiMode (50 µm OM3), LC/UPC Connectors, Aqua, MTP/Rear Connection"},{"$f":"'Bill of Materials'!L176","v":"AFL"},{"$f":"'Bill of Materials'!N176","v":305.10000000000002},{"$f":"'Bill of Materials'!P176","v":"DWC"},{"$f":"'Bill of Materials'!C176","v":"10444"},{"$f":"'Bill of Materials'!H176","v":"HDOC-50-PLC"},null,null,null,0,{"$f":"'Bill of Materials'!J176","v":"standard material"},{"$f":"'Bill of Materials'!K176","v":"physical"},0]
[{"$f":"'Bill of Materials'!E177+'Bill of Materials'!F177","v":0},{"$f":"'Bill of Materials'!M177","v":"EA"},{"$f":"'Bill of Materials'!G177","v":"MTP/MPO Connector Cleaning Tool, Cleans up to 500 Connector Ends"},{"$f":"'Bill of Materials'!L177","v":"AFL"},{"$f":"'Bill of Materials'!N177","v":78.8},{"$f":"'Bill of Materials'!P177","v":"DWC"},{"$f":"'Bill of Materials'!C177","v":"10445"},{"$f":"'Bill of Materials'!H177","v":"CS000710"},null,null,null,0,{"$f":"'Bill of Materials'!J177","v":"standard material"},{"$f":"'Bill of Materials'!K177","v":"physical"},0]
[{"$f":"'Bill of Materials'!E178+'Bill of Materials'!F178","v":0},{"$f":"'Bill of Materials'!M178","v":"EA"},{"$f":"'Bill of Materials'!G178","v":"One Click Cleaner (LC, MU), 500+ Cleanings"},{"$f":"'Bill of Materials'!L178","v":"AFL"},{"$f":"'Bill of Materials'!N178","v":60.95},{"$f":"'Bill of Materials'!P178","v":"DWC"},{"$f":"'Bill of Materials'!C178","v":"10446"},{"$f":"'Bill of Materials'!H178","v":"8500-05-0002MZ"},null,null,null,0,{"$f":"'Bill of Materials'!J178","v":"standard material"},{"$f":"'Bill of Materials'!K178","v":"physical"},0]
[{"$f":"'Bill of Materials'!E179+'Bill of Materials'!F179","v":0},{"$f":"'Bill of Materials'!M179","v":"EA"},{"$f":"'Bill of Materials'!G179","v":"OEE Splice Enclosure Cable Retention Kit and Sealing Kit-Small (Accepts 0.236\"-0.473\" O.D. Cable)"},{"$f":"'Bill of Materials'!L179","v":"AFL"},{"$f":"'Bill of Materials'!N179","v":33.200000000000003},{"$f":"'Bill of Materials'!P179","v":"DWC"},{"$f":"'Bill of Materials'!C179","v":"10447"},{"$f":"'Bill of Materials'!H179","v":"911310-00-00"},null,null,null,0,{"$f":"'Bill of Materials'!J179","v":"standard material"},{"$f":"'Bill of Materials'!K179","v":"physical"},0]
[{"$f":"'Bill of Materials'!E180+'Bill of Materials'!F180","v":0},{"$f":"'Bill of Materials'!M180","v":"EA"},{"$f":"'Bill of Materials'!G180","v":"OEE Splice Enclosure Cable Retention Kit and Sealing Kit-Large (Accepts 0.708\"-0.988\" O.D. Cable)"},{"$f":"'Bill of Materials'!L180","v":"AFL"},{"$f":"'Bill of Materials'!N180","v":33.200000000000003},{"$f":"'Bill of Materials'!P180","v":"DWC"},{"$f":"'Bill of Materials'!C180","v":"10448"},{"$f":"'Bill of Materials'!H180","v":"911310-02-00"},null,null,null,0,{"$f":"'Bill of Materials'!J180","v":"standard material"},{"$f":"'Bill of Materials'!K180","v":"physical"},0]
[{"$f":"'Bill of Materials'!E181+'Bill of Materials'!F181","v":0},{"$f":"'Bill of Materials'!M181","v":"EA"},{"$f":"'Bill of Materials'!G181","v":"12 Postion APC/SC (6) Duplex, Green Bulkhead for Video in 3RU Panels, White, LGX118"},{"$f":"'Bill of Materials'!L181","v":"AFL"},{"$f":"'Bill of Materials'!N181","v":51.4},{"$f":"'Bill of Materials'!P181","v":"DWC"},{"$f":"'Bill of Materials'!C181","v":"10449"},{"$f":"'Bill of Materials'!H181","v":"FM000079"},null,null,null,0,{"$f":"'Bill of Materials'!J181","v":"standard material"},{"$f":"'Bill of Materials'!K181","v":"physical"},0]
[{"$f":"'Bill of Materials'!E182+'Bill of Materials'!F182","v":0},{"$f":"'Bill of Materials'!M182","v":"EA"},{"$f":"'Bill of Materials'!G182","v":"Cletop Cassette Cleaner, 400+ Cleanings"},{"$f":"'Bill of Materials'!L182","v":"AFL"},{"$f":"'Bill of Materials'!N182","v":93.8},{"$f":"'Bill of Materials'!P182","v":"DWC"},{"$f":"'Bill of Materials'!C182","v":"10462"},{"$f":"'Bill of Materials'!H182","v":"8500-10-0029MZ"},null,null,null,0,{"$f":"'Bill of Materials'!J182","v":"standard material"},{"$f":"'Bill of Materials'!K182","v":"physical"},0]
[{"$f":"'Bill of Materials'!E183+'Bill of Materials'!F183","v":0},{"$f":"'Bill of Materials'!M183","v":"EA"},{"$f":"'Bill of Materials'!G183","v":"One Click Cleaner (SC, ST, FC), 500+ Cleanings"},{"$f":"'Bill of Materials'!L183","v":"AFL"},{"$f":"'Bill of Materials'!N183","v":60.95},{"$f":"'Bill of Materials'!P183","v":"DWC"},{"$f":"'Bill of Materials'!C183","v":"10463"},{"$f":"'Bill of Materials'!H183","v":"8500-05-0001MZ"},null,null,null,0,{"$f":"'Bill of Materials'!J183","v":"standard material"},{"$f":"'Bill of Materials'!K183","v":"physical"},0]
[{"$f":"'Bill of Materials'!E184+'Bill of Materials'!F184","v":0},{"$f":"'Bill of Materials'!M184","v":"EA"},{"$f":"'Bill of Materials'!G184","v":"24-POS Wall Mount LIU, Holds 2 Adapter Plates"},{"$f":"'Bill of Materials'!L184","v":"AFL"},{"$f":"'Bill of Materials'!N184","v":97.55},{"$f":"'Bill of Materials'!P184","v":"DWC"},{"$f":"'Bill of Materials'!C184","v":"10518"},{"$f":"'Bill of Materials'!H184","v":"WME02E"},null,null,null,0,{"$f":"'Bill of Materials'!J184","v":"standard material"},{"$f":"'Bill of Materials'!K184","v":"physical"},0]
[{"$f":"'Bill of Materials'!E185+'Bill of Materials'!F185","v":0},{"$f":"'Bill of Materials'!M185","v":"EA"},{"$f":"'Bill of Materials'!G185","v":"48-POS Wall Mount LIU, Holds 4 Adapter Plates"},{"$f":"'Bill of Materials'!L185","v":"AFL"},{"$f":"'Bill of Materials'!N185","v":134.19999999999999},{"$f":"'Bill of Materials'!P185","v":"DWC"},{"$f":"'Bill of Materials'!C185","v":"10519"},{"$f":"'Bill of Materials'!H185","v":"WME04E"},null,null,null,0,{"$f":"'Bill of Materials'!J185","v":"standard material"},{"$f":"'Bill of Materials'!K185","v":"physical"},0]
[{"$f":"'Bill of Materials'!E186+'Bill of Materials'!F186","v":0},{"$f":"'Bill of Materials'!M186","v":"EA"},{"$f":"'Bill of Materials'!G186","v":"72 PORT RACK MOUNT PATCH AND SPLICE, 7RU EMPTY WHITE"},{"$f":"'Bill of Materials'!L186","v":"AFL"},{"$f":"'Bill of Materials'!N186","v":301.01},{"$f":"'Bill of Materials'!P186","v":"DWC"},{"$f":"'Bill of Materials'!C186","v":"INFO-3057"},{"$f":"'Bill of Materials'!H186","v":"FM000058"},null,null,null,0,{"$f":"'Bill of Materials'!J186","v":"standard material"},{"$f":"'Bill of Materials'!K186","v":"physical"},0]
[{"$f":"'Bill of Materials'!E187+'Bill of Materials'!F187","v":0},{"$f":"'Bill of Materials'!M187","v":"EA"},{"$f":"'Bill of Materials'!G187","v":"SPLICE DRAWERS 24 POSITION-(3 PER info 3057)"},{"$f":"'Bill of Materials'!L187","v":"AFL"},{"$f":"'Bill of Materials'!N187","v":27.37},{"$f":"'Bill of Materials'!P187","v":"DWC"},{"$f":"'Bill of Materials'!C187","v":"INFO-3058"},{"$f":"'Bill of Materials'!H187","v":"911442-00-00"},null,null,null,{"$f":"E204*A204","v":0},{"$f":"'Bill of Materials'!J187","v":"standard material"},{"$f":"'Bill of Materials'!K187","v":"physical"},{"$f":"IF(A204>0,1,0)","v":0}]
[{"$f":"'Bill of Materials'!E188+'Bill of Materials'!F188","v":0},{"$f":"'Bill of Materials'!M188","v":"EA"},{"$f":"'Bill of Materials'!G188","v":"Connector Hot Melt SC SM connector"},{"$f":"'Bill of Materials'!L188","v":"3M"},{"$f":"'Bill of Materials'!N188","v":7.62},{"$f":"'Bill of Materials'!P188","v":"DWC"},{"$f":"'Bill of Materials'!C188","v":"INFO-3109"},{"$f":"'Bill of Materials'!H188","v":"8300"},null,null,null,0,{"$f":"'Bill of Materials'!J188","v":"standard material"},{"$f":"'Bill of Materials'!K188","v":"physical"},0]
[{"$f":"'Bill of Materials'!E189+'Bill of Materials'!F189","v":0},{"$f":"'Bill of Materials'!M189","v":"EA"},{"$f":"'Bill of Materials'!G189","v":"Connector Hot Melt SC MM connector"},{"$f":"'Bill of Materials'!L189","v":"3M"},{"$f":"'Bill of Materials'!N189","v":5.0999999999999996},{"$f":"'Bill of Materials'!P189","v":"DWC"},{"$f":"'Bill of Materials'!C189","v":"INFO-3110"},{"$f":"'Bill of Materials'!H189","v":"6300"},null,null,null,0,{"$f":"'Bill of Materials'!J189","v":"standard material"},{"$f":"'Bill of Materials'!K189","v":"physical"},0]
[{"$f":"'Bill of Materials'!E190+'Bill of Materials'!F190","v":0},{"$f":"'Bill of Materials'!M190","v":"EA"},{"$f":"'Bill of Materials'!G190","v":"Connector Hot Melt ST MM"},{"$f":"'Bill of Materials'!L190","v":"3M"},{"$f":"'Bill of Materials'!N190","v":5.3},{"$f":"'Bill of Materials'!P190","v":"DWC"},{"$f":"'Bill of Materials'!C190","v":"INFO-3111"},{"$f":"'Bill of Materials'!H190","v":"6100"},null,null,null,0,{"$f":"'Bill of Materials'!J190","v":"standard material"},{"$f":"'Bill of Materials'!K190","v":"physical"},0]
[{"$f":"'Bill of Materials'!E191+'Bill of Materials'!F191","v":0},{"$f":"'Bill of Materials'!M191","v":"EA"},{"$f":"'Bill of Materials'!G191","v":"Connector Hot Melt ST SM"},{"$f":"'Bill of Materials'!L191","v":"3M"},{"$f":"'Bill of Materials'!N191","v":7.67},{"$f":"'Bill of Materials'!P191","v":"DWC"},{"$f":"'Bill of Materials'!C191","v":"INFO-3112"},{"$f":"'Bill of Materials'!H191","v":"8100YS"},null,null,null,0,{"$f":"'Bill of Materials'!J191","v":"standard material"},{"$f":"'Bill of Materials'!K191","v":"physical"},0]
[{"$f":"'Bill of Materials'!E192+'Bill of Materials'!F192","v":0},{"$f":"'Bill of Materials'!M192","v":"EA"},{"$f":"'Bill of Materials'!G192","v":"Air (canned - 10 oz.)"},{"$f":"'Bill of Materials'!L192","v":"Tech Spray"},{"$f":"'Bill of Materials'!N192","v":6.93},{"$f":"'Bill of Materials'!P192","v":"DWC"},{"$f":"'Bill of Materials'!C192","v":"INFO-3127"},{"$f":"'Bill of Materials'!H192","v":"TX-3507"},null,null,null,0,{"$f":"'Bill of Materials'!J192","v":"standard material"},{"$f":"'Bill of Materials'!K192","v":"physical"},0]
[{"$f":"'Bill of Materials'!E193+'Bill of Materials'!F193","v":0},{"$f":"'Bill of Materials'!M193","v":"EA"},{"$f":"'Bill of Materials'!G193","v":"Buffer tube fan out for 6 fibers, 2.4mm buffer tube size"},{"$f":"'Bill of Materials'!L193","v":"AFL"},{"$f":"'Bill of Materials'!N193","v":15.18},{"$f":"'Bill of Materials'!P193","v":"DWC"},{"$f":"'Bill of Materials'!C193","v":"INFO-3148"},{"$f":"'Bill of Materials'!H193","v":"C189826"},null,null,null,0,{"$f":"'Bill of Materials'!J193","v":"standard material"},{"$f":"'Bill of Materials'!K193","v":"physical"},0]
[{"$f":"'Bill of Materials'!E194+'Bill of Materials'!F194","v":0},{"$f":"'Bill of Materials'!M194","v":"EA"},{"$f":"'Bill of Materials'!G194","v":"Buffer tube fan out for 12 fibers, 3.0mm buffer tube size"},{"$f":"'Bill of Materials'!L194","v":"AFL"},{"$f":"'Bill of Materials'!N194","v":17.37},{"$f":"'Bill of Materials'!P194","v":"DWC"},{"$f":"'Bill of Materials'!C194","v":"INFO-3150"},{"$f":"'Bill of Materials'!H194","v":"C189818"},null,null,null,0,{"$f":"'Bill of Materials'!J194","v":"standard material"},{"$f":"'Bill of Materials'!K194","v":"physical"},0]
[{"$f":"'Bill of Materials'!#REF!+'Bill of Materials'!#REF!","v":{"$error":"#REF!"}},{"$f":"'Bill of Materials'!#REF!","v":{"$error":"#REF!"}},{"$f":"'Bill of Materials'!#REF!","v":{"$error":"#REF!"}},{"$f":"'Bill of Materials'!#REF!","v":{"$error":"#REF!"}},{"$f":"'Bill of Materials'!#REF!","v":{"$error":"#REF!"}},{"$f":"'Bill of Materials'!#REF!","v":{"$error":"#REF!"}},{"$f":"'Bill of Materials'!#REF!","v":{"$error":"#REF!"}},{"$f":"'Bill of Materials'!#REF!","v":{"$error":"#REF!"}},null,null,null,{"$error":"#REF!"},{"$f":"'Bill of Materials'!#REF!","v":{"$error":"#REF!"}},{"$f":"'Bill of Materials'!#REF!","v":{"$error":"#REF!"}},{"$error":"#REF!"}]
[{"$f":"'Bill of Materials'!#REF!+'Bill of Materials'!#REF!","v":{"$error":"#REF!"}},{"$f":"'Bill of Materials'!#REF!","v":{"$error":"#REF!"}},{"$f":"'Bill of Materials'!#REF!","v":{"$error":"#REF!"}},{"$f":"'Bill of Materials'!#REF!","v":{"$error":"#REF!"}},{"$f":"'Bill of Materials'!#REF!","v":{"$error":"#REF!"}},{"$f":"'Bill of Materials'!#REF!","v":{"$error":"#REF!"}},{"$f":"'Bill of Materials'!#REF!","v":{"$error":"#REF!"}},{"$f":"'Bill of Materials'!#REF!","v":{"$error":"#REF!"}},null,null,null,{"$error":"#REF!"},{"$f":"'Bill of Materials'!#REF!","v":{"$error":"#REF!"}},{"$f":"'Bill of Materials'!#REF!","v":{"$error":"#REF!"}},{"$error":"#REF!"}]
[{"$f":"'Bill of Materials'!E195+'Bill of Materials'!F195","v":0},{"$f":"'Bill of Materials'!M195","v":"EA"},{"$f":"'Bill of Materials'!G195","v":"Six Fiber ST MM/SM Adapter Plate, Telco White, 4RU Panels"},{"$f":"'Bill of Materials'!L195","v":"AFL"},{"$f":"'Bill of Materials'!N195","v":23.81},{"$f":"'Bill of Materials'!P195","v":"DWC"},{"$f":"'Bill of Materials'!C195","v":"INFO-3153"},{"$f":"'Bill of Materials'!H195","v":"C215962"},null,null,null,0,{"$f":"'Bill of Materials'!J195","v":"standard material"},{"$f":"'Bill of Materials'!K195","v":"physical"},0]
[{"$f":"'Bill of Materials'!E196+'Bill of Materials'!F196","v":0},{"$f":"'Bill of Materials'!M196","v":"EA"},{"$f":"'Bill of Materials'!G196","v":"Six Fiber (3 duplex) SC MM/SM Adapter Plate, Telco White, 4RU Panels"},{"$f":"'Bill of Materials'!L196","v":"AFL"},{"$f":"'Bill of Materials'!N196","v":24.8},{"$f":"'Bill of Materials'!P196","v":"DWC"},{"$f":"'Bill of Materials'!C196","v":"INFO-3155"},{"$f":"'Bill of Materials'!H196","v":"C215512"},null,null,null,0,{"$f":"'Bill of Materials'!J196","v":"standard material"},{"$f":"'Bill of Materials'!K196","v":"physical"},0]
[{"$f":"'Bill of Materials'!E197+'Bill of Materials'!F197","v":0},{"$f":"'Bill of Materials'!M197","v":"EA"},{"$f":"'Bill of Materials'!G197","v":"Pink polishing film (1 micron diamond) SM (10/pack)"},{"$f":"'Bill of Materials'!L197","v":"AFL"},{"$f":"'Bill of Materials'!N197","v":8.17},{"$f":"'Bill of Materials'!P197","v":"DWC"},{"$f":"'Bill of Materials'!C197","v":"INFO-3158"},{"$f":"'Bill of Materials'!H197","v":"C078700"},null,null,null,0,{"$f":"'Bill of Materials'!J197","v":"standard material"},{"$f":"'Bill of Materials'!K197","v":"physical"},0]
[{"$f":"'Bill of Materials'!E198+'Bill of Materials'!F198","v":0},{"$f":"'Bill of Materials'!M198","v":"EA"},{"$f":"'Bill of Materials'!G198","v":"Prep Ferrule Cleaner"},{"$f":"'Bill of Materials'!L198","v":"AFL"},{"$f":"'Bill of Materials'!N198","v":70.930000000000007},{"$f":"'Bill of Materials'!P198","v":"DWC"},{"$f":"'Bill of Materials'!C198","v":"INFO-3167"},{"$f":"'Bill of Materials'!H198","v":"C036692"},null,null,null,0,{"$f":"'Bill of Materials'!J198","v":"standard material"},{"$f":"'Bill of Materials'!K198","v":"physical"},0]
[{"$f":"'Bill of Materials'!E199+'Bill of Materials'!F199","v":0},{"$f":"'Bill of Materials'!M199","v":"EA"},{"$f":"'Bill of Materials'!G199","v":"Prep Ferrule Replacement Cartridge"},{"$f":"'Bill of Materials'!L199","v":"AFL"},{"$f":"'Bill of Materials'!N199","v":18.809999999999999},{"$f":"'Bill of Materials'!P199","v":"DWC"},{"$f":"'Bill of Materials'!C199","v":"INFO-3168"},{"$f":"'Bill of Materials'!H199","v":"C143729"},null,null,null,0,{"$f":"'Bill of Materials'!J199","v":"standard material"},{"$f":"'Bill of Materials'!K199","v":"physical"},0]
[{"$f":"'Bill of Materials'!E200+'Bill of Materials'!F200","v":0},{"$f":"'Bill of Materials'!M200","v":"EA"},{"$f":"'Bill of Materials'!G200","v":"Adapter Cleaner Tips (5/pack)"},{"$f":"'Bill of Materials'!L200","v":"AFL"},{"$f":"'Bill of Materials'!N200","v":3.22},{"$f":"'Bill of Materials'!P200","v":"DWC"},{"$f":"'Bill of Materials'!C200","v":"INFO-3169"},{"$f":"'Bill of Materials'!H200","v":"C008812"},null,null,null,0,{"$f":"'Bill of Materials'!J200","v":"standard material"},{"$f":"'Bill of Materials'!K200","v":"physical"},0]
[{"$f":"'Bill of Materials'!E201+'Bill of Materials'!F201","v":0},{"$f":"'Bill of Materials'!M201","v":"EA"},{"$f":"'Bill of Materials'!G201","v":"SC/ST 3M hot melt combo Kit"},{"$f":"'Bill of Materials'!L201","v":"3M"},{"$f":"'Bill of Materials'!N201","v":1087.96},{"$f":"'Bill of Materials'!P201","v":"DWC"},{"$f":"'Bill of Materials'!C201","v":"INFO-3175"},{"$f":"'Bill of Materials'!H201","v":"6355"},null,null,null,0,{"$f":"'Bill of Materials'!J201","v":"standard material"},{"$f":"'Bill of Materials'!K201","v":"physical"},0]
[{"$f":"'Bill of Materials'!E202+'Bill of Materials'!F202","v":0},{"$f":"'Bill of Materials'!M202","v":"EA"},{"$f":"'Bill of Materials'!G202","v":"200 X Microscope with universal adapter for SM fiber"},{"$f":"'Bill of Materials'!L202","v":"Noyes"},{"$f":"'Bill of Materials'!N202","v":373.08},{"$f":"'Bill of Materials'!P202","v":"DWC"},{"$f":"'Bill of Materials'!C202","v":"INFO-3177"},{"$f":"'Bill of Materials'!H202","v":"OFS300-200C"},null,null,null,0,{"$f":"'Bill of Materials'!J202","v":"standard material"},{"$f":"'Bill of Materials'!K202","v":"physical"},0]
[{"$f":"'Bill of Materials'!E203+'Bill of Materials'!F203","v":0},{"$f":"'Bill of Materials'!M203","v":"EA"},{"$f":"'Bill of Materials'!G203","v":"Hard Case for 200X Microscope"},{"$f":"'Bill of Materials'!L203","v":"Noyes"},{"$f":"'Bill of Materials'!N203","v":56.08},{"$f":"'Bill of Materials'!P203","v":"DWC"},{"$f":"'Bill of Materials'!C203","v":"INFO-3178"},{"$f":"'Bill of Materials'!H203","v":"OFS1-00-0100"},null,null,null,0,{"$f":"'Bill of Materials'!J203","v":"standard material"},{"$f":"'Bill of Materials'!K203","v":"physical"},0]
[{"$f":"'Bill of Materials'!E204+'Bill of Materials'!F204","v":0},{"$f":"'Bill of Materials'!M204","v":"EA"},{"$f":"'Bill of Materials'!G204","v":"SM Fiber Pigtail, (6) Strands Preterminated SC/Blunt, 5 meters, Riser Rated"},{"$f":"'Bill of Materials'!L204","v":"AFL"},{"$f":"'Bill of Materials'!N204","v":28.96},{"$f":"'Bill of Materials'!P204","v":"DWC"},{"$f":"'Bill of Materials'!C204","v":"INFO-3180"},{"$f":"'Bill of Materials'!H204","v":"USC-XXX-RC-006-Q-0005"},null,null,null,0,{"$f":"'Bill of Materials'!J204","v":"standard material"},{"$f":"'Bill of Materials'!K204","v":"physical"},0]
[{"$f":"'Bill of Materials'!E205+'Bill of Materials'!F205","v":0},{"$f":"'Bill of Materials'!M205","v":"EA"},{"$f":"'Bill of Materials'!G205","v":"MM Fiber Pigtail, (6) Strands Preterminated SC/Blunt, 5 meters, Riser Rated"},{"$f":"'Bill of Materials'!L205","v":"AFL"},{"$f":"'Bill of Materials'!N205","v":29.66},{"$f":"'Bill of Materials'!P205","v":"DWC"},{"$f":"'Bill of Materials'!C205","v":"INFO-3181"},{"$f":"'Bill of Materials'!H205","v":"PSC-XXX-RC-006-2-0005"},null,null,null,0,{"$f":"'Bill of Materials'!J205","v":"standard material"},{"$f":"'Bill of Materials'!K205","v":"physical"},0]
[{"$f":"'Bill of Materials'!E206+'Bill of Materials'!F206","v":0},{"$f":"'Bill of Materials'!M206","v":"EA"},{"$f":"'Bill of Materials'!G206","v":"72/144  Fiber Rack Mount Patch Panel 4 RU  Empty white; Plexiglass front door with Warning Label (INFO# 3184)"},{"$f":"'Bill of Materials'!L206","v":"AFL"},{"$f":"'Bill of Materials'!N206","v":177.36},{"$f":"'Bill of Materials'!P206","v":"DWC"},{"$f":"'Bill of Materials'!C206","v":"INFO-3184"},{"$f":"'Bill of Materials'!H206","v":"FM000002"},null,null,null,0,{"$f":"'Bill of Materials'!J206","v":"standard material"},{"$f":"'Bill of Materials'!K206","v":"physical"},0]
[{"$f":"'Bill of Materials'!E207+'Bill of Materials'!F207","v":0},{"$f":"'Bill of Materials'!M207","v":"EA"},{"$f":"'Bill of Materials'!G207","v":"SM Fiber Pigtail, (12) Strands Preterminated SC/Blunt, 3 meters, Riser Rated"},{"$f":"'Bill of Materials'!L207","v":"AFL"},{"$f":"'Bill of Materials'!N207","v":66.63},{"$f":"'Bill of Materials'!P207","v":"DWC"},{"$f":"'Bill of Materials'!C207","v":"INFO-3726"},{"$f":"'Bill of Materials'!H207","v":"USC-XXX-RC-012-Q-0003"},null,null,null,0,{"$f":"'Bill of Materials'!J207","v":"standard material"},{"$f":"'Bill of Materials'!K207","v":"physical"},0]
[{"$f":"'Bill of Materials'!E208+'Bill of Materials'!F208","v":0},{"$f":"'Bill of Materials'!M208","v":"EA"},{"$f":"'Bill of Materials'!G208","v":"MM Fiber Pigtail, (12) Strands Preterminated SC/Blunt, 3 meters, Riser Rated"},{"$f":"'Bill of Materials'!L208","v":"AFL"},{"$f":"'Bill of Materials'!N208","v":57.12},{"$f":"'Bill of Materials'!P208","v":"DWC"},{"$f":"'Bill of Materials'!C208","v":"INFO-3727"},{"$f":"'Bill of Materials'!H208","v":"PSC-XXX-RC-012-2-0003"},null,null,null,0,{"$f":"'Bill of Materials'!J208","v":"standard material"},{"$f":"'Bill of Materials'!K208","v":"physical"},0]
[{"$f":"'Bill of Materials'!E209+'Bill of Materials'!F209","v":0},{"$f":"'Bill of Materials'!M209","v":"EA"},{"$f":"'Bill of Materials'!G209","v":"288 4RU Fiber Splice Only Panel, telco white, Full = (6) 24/48 Position Splice Drawers INFO# 3058"},{"$f":"'Bill of Materials'!L209","v":"AFL"},{"$f":"'Bill of Materials'!N209","v":256.38},{"$f":"'Bill of Materials'!P209","v":"DWC"},{"$f":"'Bill of Materials'!C209","v":"INFO-4511"},{"$f":"'Bill of Materials'!H209","v":"C211795-WE"},null,null,null,0,{"$f":"'Bill of Materials'!J209","v":"standard material"},{"$f":"'Bill of Materials'!K209","v":"physical"},0]
[{"$f":"'Bill of Materials'!E210+'Bill of Materials'!F210","v":0},{"$f":"'Bill of Materials'!M210","v":"EA"},{"$f":"'Bill of Materials'!G210","v":"12 Fiber, (6) Duplex Adaptors, SC ceramic, Telco White, 170 (5 RU panel)"},{"$f":"'Bill of Materials'!L210","v":"AFL"},{"$f":"'Bill of Materials'!N210","v":43.16},{"$f":"'Bill of Materials'!P210","v":"DWC"},{"$f":"'Bill of Materials'!C210","v":"INFO-4515"},{"$f":"'Bill of Materials'!H210","v":"FM000145"},null,null,null,0,{"$f":"'Bill of Materials'!J210","v":"standard material"},{"$f":"'Bill of Materials'!K210","v":"physical"},0]
[{"$f":"'Bill of Materials'!E211+'Bill of Materials'!F211","v":0},{"$f":"'Bill of Materials'!M211","v":"EA"},{"$f":"'Bill of Materials'!G211","v":"144 5RU Fiber Panel, telco white (MC/Data Center Use)"},{"$f":"'Bill of Materials'!L211","v":"AFL"},{"$f":"'Bill of Materials'!N211","v":170.03},{"$f":"'Bill of Materials'!P211","v":"DWC"},{"$f":"'Bill of Materials'!C211","v":"INFO-4516"},{"$f":"'Bill of Materials'!H211","v":"FM000374-WE"},null,null,null,0,{"$f":"'Bill of Materials'!J211","v":"standard material"},{"$f":"'Bill of Materials'!K211","v":"physical"},0]
[{"$f":"'Bill of Materials'!E212+'Bill of Materials'!F212","v":0},{"$f":"'Bill of Materials'!M212","v":"EA"},{"$f":"'Bill of Materials'!G212","v":"Blank Coupler Plate for 170 5RU Fiber Panel, Telco White"},{"$f":"'Bill of Materials'!L212","v":"AFL"},{"$f":"'Bill of Materials'!N212","v":4.4400000000000004},{"$f":"'Bill of Materials'!P212","v":"DWC"},{"$f":"'Bill of Materials'!C212","v":"INFO-4518"},{"$f":"'Bill of Materials'!H212","v":"C216394"},null,null,null,0,{"$f":"'Bill of Materials'!J212","v":"standard material"},{"$f":"'Bill of Materials'!K212","v":"physical"},0]
[{"$f":"'Bill of Materials'!E213+'Bill of Materials'!F213","v":0},{"$f":"'Bill of Materials'!M213","v":"EA"},{"$f":"'Bill of Materials'!G213","v":"Spiral Wrap 1/4 inch natural color (Sold in rolls of 100ft)"},{"$f":"'Bill of Materials'!L213","v":"Hellermann Tyton"},{"$f":"'Bill of Materials'!N213","v":59},{"$f":"'Bill of Materials'!P213","v":"DWC"},{"$f":"'Bill of Materials'!C213","v":"INFO-7003"},{"$f":"'Bill of Materials'!H213","v":"2N9C"},null,null,null,0,{"$f":"'Bill of Materials'!J213","v":"standard material"},{"$f":"'Bill of Materials'!K213","v":"physical"},0]
[{"$f":"'Bill of Materials'!E214+'Bill of Materials'!F214","v":0},{"$f":"'Bill of Materials'!M214","v":"EA"},{"$f":"'Bill of Materials'!G214","v":"Spiral Wrap 3/8 inch natural color (Sold in rolls of 100ft)"},{"$f":"'Bill of Materials'!L214","v":"Hellermann Tyton"},{"$f":"'Bill of Materials'!N214","v":107},{"$f":"'Bill of Materials'!P214","v":"DWC"},{"$f":"'Bill of Materials'!C214","v":"INFO-7004"},{"$f":"'Bill of Materials'!H214","v":"2.5N9C"},null,null,null,0,{"$f":"'Bill of Materials'!J214","v":"standard material"},{"$f":"'Bill of Materials'!K214","v":"physical"},0]
[{"$f":"'Bill of Materials'!E215+'Bill of Materials'!F215","v":0},{"$f":"'Bill of Materials'!M215","v":"EA"},{"$f":"'Bill of Materials'!G215","v":"Fusion Splice Protectors, 60mm (Non Magnetic)"},{"$f":"'Bill of Materials'!L215","v":"AFL"},{"$f":"'Bill of Materials'!N215","v":0.41},{"$f":"'Bill of Materials'!P215","v":"DWC"},{"$f":"'Bill of Materials'!C215","v":"INFO-7006"},{"$f":"'Bill of Materials'!H215","v":"FP-3"},null,null,null,0,{"$f":"'Bill of Materials'!J215","v":"standard material"},{"$f":"'Bill of Materials'!K215","v":"physical"},0]
[{"$f":"'Bill of Materials'!E216+'Bill of Materials'!F216","v":0},{"$f":"'Bill of Materials'!M216","v":"EA"},{"$f":"'Bill of Materials'!G216","v":"(3) SC SM Blue Duplex Bulkhead Coupler PoliMod Patch & Splice Module for 6 fiber splices and terminations, includes (6) 40mm splice protectors"},{"$f":"'Bill of Materials'!L216","v":"AFL"},{"$f":"'Bill of Materials'!N216","v":132.02000000000001},{"$f":"'Bill of Materials'!P216","v":"DWC"},{"$f":"'Bill of Materials'!C216","v":"INFO-7019"},{"$f":"'Bill of Materials'!H216","v":"FM000705"},null,null,null,0,{"$f":"'Bill of Materials'!J216","v":"standard material"},{"$f":"'Bill of Materials'!K216","v":"physical"},0]
[{"$f":"'Bill of Materials'!E217+'Bill of Materials'!F217","v":0},{"$f":"'Bill of Materials'!M217","v":"EA"},{"$f":"'Bill of Materials'!G217","v":"(3) SC MM Beige Duplex Bulkhead Coupler PoliMod Patch & Splice Module for 6 fiber splices and terminations, includes (6) 40mm splice protectors"},{"$f":"'Bill of Materials'!L217","v":"AFL"},{"$f":"'Bill of Materials'!N217","v":132.02000000000001},{"$f":"'Bill of Materials'!P217","v":"DWC"},{"$f":"'Bill of Materials'!C217","v":"INFO-7020"},{"$f":"'Bill of Materials'!H217","v":"FM000706"},null,null,null,0,{"$f":"'Bill of Materials'!J217","v":"standard material"},{"$f":"'Bill of Materials'!K217","v":"physical"},0]
[{"$f":"'Bill of Materials'!E218+'Bill of Materials'!F218","v":0},{"$f":"'Bill of Materials'!M218","v":"EA"},{"$f":"'Bill of Materials'!G218","v":"(6) SC SM Blue Duplex Bulkhead Coupler PoliMod Patch & Splice Module for 12 fiber splices and terminations, includes (12) 40mm splice protectors"},{"$f":"'Bill of Materials'!L218","v":"AFL"},{"$f":"'Bill of Materials'!N218","v":154.34},{"$f":"'Bill of Materials'!P218","v":"DWC"},{"$f":"'Bill of Materials'!C218","v":"INFO-7021"},{"$f":"'Bill of Materials'!H218","v":"FM000631"},null,null,null,0,{"$f":"'Bill of Materials'!J218","v":"standard material"},{"$f":"'Bill of Materials'!K218","v":"physical"},0]
[{"$f":"'Bill of Materials'!E219+'Bill of Materials'!F219","v":0},{"$f":"'Bill of Materials'!M219","v":"EA"},{"$f":"'Bill of Materials'!G219","v":"(6) SC MM Beige Duplex Bulkhead Coupler PoliMod Patch & Splice Module for 12 fiber splices and terminations, includes (12) 40mm splice protectors"},{"$f":"'Bill of Materials'!L219","v":"AFL"},{"$f":"'Bill of Materials'!N219","v":154.34},{"$f":"'Bill of Materials'!P219","v":"DWC"},{"$f":"'Bill of Materials'!C219","v":"INFO-7022"},{"$f":"'Bill of Materials'!H219","v":"FM000700"},null,null,null,0,{"$f":"'Bill of Materials'!J219","v":"standard material"},{"$f":"'Bill of Materials'!K219","v":"physical"},0]
[{"$f":"'Bill of Materials'!#REF!+'Bill of Materials'!#REF!","v":{"$error":"#REF!"}},{"$f":"'Bill of Materials'!#REF!","v":{"$error":"#REF!"}},{"$f":"'Bill of Materials'!#REF!","v":{"$error":"#REF!"}},{"$f":"'Bill of Materials'!#REF!","v":{"$error":"#REF!"}},{"$f":"'Bill of Materials'!#REF!","v":{"$error":"#REF!"}},{"$f":"'Bill of Materials'!#REF!","v":{"$error":"#REF!"}},{"$f":"'Bill of Materials'!#REF!","v":{"$error":"#REF!"}},{"$f":"'Bill of Materials'!#REF!","v":{"$error":"#REF!"}},null,null,null,{"$error":"#REF!"},{"$f":"'Bill of Materials'!#REF!","v":{"$error":"#REF!"}},{"$f":"'Bill of Materials'!#REF!","v":{"$error":"#REF!"}},{"$error":"#REF!"}]
[{"$f":"'Bill of Materials'!E220+'Bill of Materials'!F220","v":0},{"$f":"'Bill of Materials'!M220","v":"EA"},{"$f":"'Bill of Materials'!G220","v":"(9) SC SM Blue Duplex Bulkhead Coupler Double-Wide PoliMod Patch & Splice Module for 18 fiber splices and terminations, includes (18) splice protectors"},{"$f":"'Bill of Materials'!L220","v":"AFL"},{"$f":"'Bill of Materials'!N220","v":247.5},{"$f":"'Bill of Materials'!P220","v":"DWC"},{"$f":"'Bill of Materials'!C220","v":"INFO-7023"},{"$f":"'Bill of Materials'!H220","v":"FM000666"},null,null,null,0,{"$f":"'Bill of Materials'!J220","v":"standard material"},{"$f":"'Bill of Materials'!K220","v":"physical"},0]
[{"$f":"'Bill of Materials'!E221+'Bill of Materials'!F221","v":0},{"$f":"'Bill of Materials'!M221","v":"EA"},{"$f":"'Bill of Materials'!G221","v":"(9) SC MM Beige Duplex Bulkhead Coupler Double-Wide PoliMod Patch & Splice Module for 18 fiber splices and terminations, includes (18) 40mm splice protectors"},{"$f":"'Bill of Materials'!L221","v":"AFL"},{"$f":"'Bill of Materials'!N221","v":247.5},{"$f":"'Bill of Materials'!P221","v":"DWC"},{"$f":"'Bill of Materials'!C221","v":"INFO-7024"},{"$f":"'Bill of Materials'!H221","v":"FM000701"},null,null,null,0,{"$f":"'Bill of Materials'!J221","v":"standard material"},{"$f":"'Bill of Materials'!K221","v":"physical"},0]
[{"$f":"'Bill of Materials'!E222+'Bill of Materials'!F222","v":0},{"$f":"'Bill of Materials'!M222","v":"EA"},{"$f":"'Bill of Materials'!G222","v":"Fusion Splice Protectors, 40mm (Polimods spares only)"},{"$f":"'Bill of Materials'!L222","v":"AFL"},{"$f":"'Bill of Materials'!N222","v":0.46},{"$f":"'Bill of Materials'!P222","v":"DWC"},{"$f":"'Bill of Materials'!C222","v":"INFO-7025"},{"$f":"'Bill of Materials'!H222","v":"FP-03(40)"},null,null,null,0,{"$f":"'Bill of Materials'!J222","v":"standard material"},{"$f":"'Bill of Materials'!K222","v":"physical"},0]
[{"$f":"'Bill of Materials'!E223+'Bill of Materials'!F223","v":0},{"$f":"'Bill of Materials'!M223","v":"EA"},{"$f":"'Bill of Materials'!G223","v":"Blank Coupler Plate for 4RU or 2RU Fiber Panel, Telco White"},{"$f":"'Bill of Materials'!L223","v":"AFL"},{"$f":"'Bill of Materials'!N223","v":4.45},{"$f":"'Bill of Materials'!P223","v":"DWC"},{"$f":"'Bill of Materials'!C223","v":"INFO-7028"},{"$f":"'Bill of Materials'!H223","v":"C215503"},null,null,null,0,{"$f":"'Bill of Materials'!J223","v":"standard material"},{"$f":"'Bill of Materials'!K223","v":"physical"},0]
[{"$f":"'Bill of Materials'!E225+'Bill of Materials'!F225","v":0},{"$f":"'Bill of Materials'!M225","v":"EA"},{"$f":"'Bill of Materials'!G225","v":"LC/LC, SM Fiber Patch Cord, Duplex, 1 Meter, Riser"},{"$f":"'Bill of Materials'!L225","v":"AFL"},{"$f":"'Bill of Materials'!N225","v":23.36},{"$f":"'Bill of Materials'!P225","v":"DWC"},{"$f":"'Bill of Materials'!C225","v":"0119-C4FP"},{"$f":"'Bill of Materials'!H225","v":"ULC-ULC-R20Z-002-Q-0001"},null,null,null,0,{"$f":"'Bill of Materials'!J225","v":"standard material"},{"$f":"'Bill of Materials'!K225","v":"physical"},0]
[{"$f":"'Bill of Materials'!E226+'Bill of Materials'!F226","v":0},{"$f":"'Bill of Materials'!M226","v":"EA"},{"$f":"'Bill of Materials'!G226","v":"LC/LC, SM Fiber Patch Cord, Duplex, 2 Meter, Riser"},{"$f":"'Bill of Materials'!L226","v":"AFL"},{"$f":"'Bill of Materials'!N226","v":21.98},{"$f":"'Bill of Materials'!P226","v":"DWC"},{"$f":"'Bill of Materials'!C226","v":"0119-C4FR"},{"$f":"'Bill of Materials'!H226","v":"ULC-ULC-R20Z-002-Q-0002"},null,null,null,0,{"$f":"'Bill of Materials'!J226","v":"standard material"},{"$f":"'Bill of Materials'!K226","v":"physical"},0]
[{"$f":"'Bill of Materials'!E227+'Bill of Materials'!F227","v":0},{"$f":"'Bill of Materials'!M227","v":"EA"},{"$f":"'Bill of Materials'!G227","v":"LC/ST, SM Fiber Patch Cord, Duplex, 2 Meter, Riser "},{"$f":"'Bill of Materials'!L227","v":"AFL"},{"$f":"'Bill of Materials'!N227","v":22.82},{"$f":"'Bill of Materials'!P227","v":"DWC"},{"$f":"'Bill of Materials'!C227","v":"0119-C4FT"},{"$f":"'Bill of Materials'!H227","v":"ULC-UST-R20Z-Q-0002"},null,null,null,0,{"$f":"'Bill of Materials'!J227","v":"standard material"},{"$f":"'Bill of Materials'!K227","v":"physical"},0]
[{"$f":"'Bill of Materials'!E228+'Bill of Materials'!F228","v":0},{"$f":"'Bill of Materials'!M228","v":"EA"},{"$f":"'Bill of Materials'!G228","v":"LC/ST, MM Fiber Patch Cord, Duplex, 1 Meter"},{"$f":"'Bill of Materials'!L228","v":"AFL"},{"$f":"'Bill of Materials'!N228","v":16.579999999999998},{"$f":"'Bill of Materials'!P228","v":"DWC"},{"$f":"'Bill of Materials'!C228","v":"0119-C4FV"},{"$f":"'Bill of Materials'!H228","v":"PLC-PST-R20Z-2-0001"},null,null,null,0,{"$f":"'Bill of Materials'!J228","v":"standard material"},{"$f":"'Bill of Materials'!K228","v":"physical"},0]
[{"$f":"'Bill of Materials'!E229+'Bill of Materials'!F229","v":0},{"$f":"'Bill of Materials'!M229","v":"EA"},{"$f":"'Bill of Materials'!G229","v":"LC/ST, MM Fiber Patch Cord, Duplex, 2 Meter, 2.0mm Riser Zipcord"},{"$f":"'Bill of Materials'!L229","v":"AFL"},{"$f":"'Bill of Materials'!N229","v":20.100000000000001},{"$f":"'Bill of Materials'!P229","v":"DWC"},{"$f":"'Bill of Materials'!C229","v":"0119-C4FW"},{"$f":"'Bill of Materials'!H229","v":"PLC-PST-R20Z-2-02"},null,null,null,0,{"$f":"'Bill of Materials'!J229","v":"standard material"},{"$f":"'Bill of Materials'!K229","v":"physical"},0]
[{"$f":"'Bill of Materials'!E230+'Bill of Materials'!F230","v":0},{"$f":"'Bill of Materials'!M230","v":"EA"},{"$f":"'Bill of Materials'!G230","v":"LC/ST, MM Fiber Patch Cord, Duplex, 3 Meter"},{"$f":"'Bill of Materials'!L230","v":"AFL"},{"$f":"'Bill of Materials'!N230","v":17.72},{"$f":"'Bill of Materials'!P230","v":"DWC"},{"$f":"'Bill of Materials'!C230","v":"0119-C4FX"},{"$f":"'Bill of Materials'!H230","v":"PLC-PST-R20Z-2-0003"},null,null,null,0,{"$f":"'Bill of Materials'!J230","v":"standard material"},{"$f":"'Bill of Materials'!K230","v":"physical"},0]
[{"$f":"'Bill of Materials'!E231+'Bill of Materials'!F231","v":0},{"$f":"'Bill of Materials'!M231","v":"EA"},{"$f":"'Bill of Materials'!G231","v":"LC/SC, SM Fiber Patch Cord, Duplex, 2 Meter, Riser, No Clips"},{"$f":"'Bill of Materials'!L231","v":"AFL"},{"$f":"'Bill of Materials'!N231","v":21.93},{"$f":"'Bill of Materials'!P231","v":"DWC"},{"$f":"'Bill of Materials'!C231","v":"0119-C4YY"},{"$f":"'Bill of Materials'!H231","v":"ULC-USC-R20Z-Q-0002"},null,null,null,0,{"$f":"'Bill of Materials'!J231","v":"standard material"},{"$f":"'Bill of Materials'!K231","v":"physical"},0]
[{"$f":"'Bill of Materials'!E232+'Bill of Materials'!F232","v":0},{"$f":"'Bill of Materials'!M232","v":"EA"},{"$f":"'Bill of Materials'!G232","v":"LC/SC, SM Fiber Patch Cord, Duplex, 6 Meter, Riser, No Clips"},{"$f":"'Bill of Materials'!L232","v":"AFL"},{"$f":"'Bill of Materials'!N232","v":23.86},{"$f":"'Bill of Materials'!P232","v":"DWC"},{"$f":"'Bill of Materials'!C232","v":"0119-C500"},{"$f":"'Bill of Materials'!H232","v":"ULC-USC-R20Z-Q-0006"},null,null,null,0,{"$f":"'Bill of Materials'!J232","v":"standard material"},{"$f":"'Bill of Materials'!K232","v":"physical"},0]
[{"$f":"'Bill of Materials'!E233+'Bill of Materials'!F233","v":0},{"$f":"'Bill of Materials'!M233","v":"EA"},{"$f":"'Bill of Materials'!G233","v":"LC/LC, MM Fiber Patch Cord, 62.5/125um, Duplex, 3 Meter, Riser, No Clips"},{"$f":"'Bill of Materials'!L233","v":"AFL"},{"$f":"'Bill of Materials'!N233","v":22.77},{"$f":"'Bill of Materials'!P233","v":"DWC"},{"$f":"'Bill of Materials'!C233","v":"0119-C501"},{"$f":"'Bill of Materials'!H233","v":"PLC-PLC-R20Z-2-0003"},null,null,null,0,{"$f":"'Bill of Materials'!J233","v":"standard material"},{"$f":"'Bill of Materials'!K233","v":"physical"},0]
[{"$f":"'Bill of Materials'!E234+'Bill of Materials'!F234","v":0},{"$f":"'Bill of Materials'!M234","v":"EA"},{"$f":"'Bill of Materials'!G234","v":"LC/SC, SM Fiber Patch Cord, Duplex, 10 Meter, Riser, No Clips"},{"$f":"'Bill of Materials'!L234","v":"AFL"},{"$f":"'Bill of Materials'!N234","v":25.29},{"$f":"'Bill of Materials'!P234","v":"DWC"},{"$f":"'Bill of Materials'!C234","v":"0119-C502"},{"$f":"'Bill of Materials'!H234","v":"ULC-USC-R20Z-Q-0010"},null,null,null,0,{"$f":"'Bill of Materials'!J234","v":"standard material"},{"$f":"'Bill of Materials'!K234","v":"physical"},0]
[{"$f":"'Bill of Materials'!E235+'Bill of Materials'!F235","v":0},{"$f":"'Bill of Materials'!M235","v":"EA"},{"$f":"'Bill of Materials'!G235","v":"LC/LC, SM Fiber Patch Cord, Duplex, 3 Meter, Riser, No Clips"},{"$f":"'Bill of Materials'!L235","v":"AFL"},{"$f":"'Bill of Materials'!N235","v":24.06},{"$f":"'Bill of Materials'!P235","v":"DWC"},{"$f":"'Bill of Materials'!C235","v":"0119-C503"},{"$f":"'Bill of Materials'!H235","v":"ULC-ULC-R20Z-Q-0003"},null,null,null,0,{"$f":"'Bill of Materials'!J235","v":"standard material"},{"$f":"'Bill of Materials'!K235","v":"physical"},0]
[{"$f":"'Bill of Materials'!E236+'Bill of Materials'!F236","v":0},{"$f":"'Bill of Materials'!M236","v":"EA"},{"$f":"'Bill of Materials'!G236","v":"LC/LC, SM Fiber Patch Cord, Duplex, 6 Meter, Riser, No Clips"},{"$f":"'Bill of Materials'!L236","v":"AFL"},{"$f":"'Bill of Materials'!N236","v":25.54},{"$f":"'Bill of Materials'!P236","v":"DWC"},{"$f":"'Bill of Materials'!C236","v":"0119-C504"},{"$f":"'Bill of Materials'!H236","v":"ULC-ULC-R20Z-Q-0006"},null,null,null,0,{"$f":"'Bill of Materials'!J236","v":"standard material"},{"$f":"'Bill of Materials'!K236","v":"physical"},0]
[{"$f":"'Bill of Materials'!E237+'Bill of Materials'!F237","v":0},{"$f":"'Bill of Materials'!M237","v":"EA"},{"$f":"'Bill of Materials'!G237","v":"LC/LC, SM Fiber Patch Cord, Duplex, 10 Meter, Riser, No Clips"},{"$f":"'Bill of Materials'!L237","v":"AFL"},{"$f":"'Bill of Materials'!N237","v":26.68},{"$f":"'Bill of Materials'!P237","v":"DWC"},{"$f":"'Bill of Materials'!C237","v":"0119-C505"},{"$f":"'Bill of Materials'!H237","v":"ULC-ULC-R20Z-Q-0010"},null,null,null,0,{"$f":"'Bill of Materials'!J237","v":"standard material"},{"$f":"'Bill of Materials'!K237","v":"physical"},0]
[{"$f":"'Bill of Materials'!E238+'Bill of Materials'!F238","v":0},{"$f":"'Bill of Materials'!M238","v":"EA"},{"$f":"'Bill of Materials'!G238","v":"LC/ST, SM Fiber Patch Cord, Duplex, 6 Meter, Riser, No Clips"},{"$f":"'Bill of Materials'!L238","v":"AFL"},{"$f":"'Bill of Materials'!N238","v":26.43},{"$f":"'Bill of Materials'!P238","v":"DWC"},{"$f":"'Bill of Materials'!C238","v":"0119-C506"},{"$f":"'Bill of Materials'!H238","v":"ULC-UST-R20Z-Q-0006"},null,null,null,0,{"$f":"'Bill of Materials'!J238","v":"standard material"},{"$f":"'Bill of Materials'!K238","v":"physical"},0]
[{"$f":"'Bill of Materials'!E239+'Bill of Materials'!F239","v":0},{"$f":"'Bill of Materials'!M239","v":"EA"},{"$f":"'Bill of Materials'!G239","v":"LC/ST, SM Fiber Patch Cord, Duplex, 10 Meter, Riser, No Clips"},{"$f":"'Bill of Materials'!L239","v":"AFL"},{"$f":"'Bill of Materials'!N239","v":27.62},{"$f":"'Bill of Materials'!P239","v":"DWC"},{"$f":"'Bill of Materials'!C239","v":"0119-C507"},{"$f":"'Bill of Materials'!H239","v":"ULC-UST-R20Z-Q-0010"},null,null,null,0,{"$f":"'Bill of Materials'!J239","v":"standard material"},{"$f":"'Bill of Materials'!K239","v":"physical"},0]
[{"$f":"'Bill of Materials'!E240+'Bill of Materials'!F240","v":0},{"$f":"'Bill of Materials'!M240","v":"EA"},{"$f":"'Bill of Materials'!G240","v":"LC/ST, MM Fiber Patch Cord, 62.5/125um, Duplex, 6 Meter, Riser, No Clips"},{"$f":"'Bill of Materials'!L240","v":"AFL"},{"$f":"'Bill of Materials'!N240","v":23.61},{"$f":"'Bill of Materials'!P240","v":"DWC"},{"$f":"'Bill of Materials'!C240","v":"0119-C508"},{"$f":"'Bill of Materials'!H240","v":"PLC-PST-R20Z-2-0006"},null,null,null,0,{"$f":"'Bill of Materials'!J240","v":"standard material"},{"$f":"'Bill of Materials'!K240","v":"physical"},0]
[{"$f":"'Bill of Materials'!E241+'Bill of Materials'!F241","v":0},{"$f":"'Bill of Materials'!M241","v":"EA"},{"$f":"'Bill of Materials'!G241","v":"LC/ST, MM Fiber Patch Cord, 62.5/125um, Duplex, 10 Meter, Riser, No Clips"},{"$f":"'Bill of Materials'!L241","v":"AFL"},{"$f":"'Bill of Materials'!N241","v":26.19},{"$f":"'Bill of Materials'!P241","v":"DWC"},{"$f":"'Bill of Materials'!C241","v":"0119-C509"},{"$f":"'Bill of Materials'!H241","v":"PLC-PST-R20Z-2-0010"},null,null,null,0,{"$f":"'Bill of Materials'!J241","v":"standard material"},{"$f":"'Bill of Materials'!K241","v":"physical"},0]
[{"$f":"'Bill of Materials'!E242+'Bill of Materials'!F242","v":0},{"$f":"'Bill of Materials'!M242","v":"EA"},{"$f":"'Bill of Materials'!G242","v":"MTRJ/SC, MM Fiber Patch Cord, 62.5/125um, Duplex, 1 Meter, Riser "},{"$f":"'Bill of Materials'!L242","v":"Cable, Professional "},{"$f":"'Bill of Materials'!N242","v":18.809999999999999},{"$f":"'Bill of Materials'!P242","v":"DWC"},{"$f":"'Bill of Materials'!C242","v":"0119-C5M4"},{"$f":"'Bill of Materials'!H242","v":"FMTRJ-SC-1M"},null,null,null,0,{"$f":"'Bill of Materials'!J242","v":"standard material"},{"$f":"'Bill of Materials'!K242","v":"physical"},0]
[{"$f":"'Bill of Materials'!E243+'Bill of Materials'!F243","v":0},{"$f":"'Bill of Materials'!M243","v":"EA"},{"$f":"'Bill of Materials'!G243","v":"MTRJ/SC, MM Fiber Patch Cord, 62.5/125um, Duplex, 10 Meter, Riser "},{"$f":"'Bill of Materials'!L243","v":"Cable, Professional "},{"$f":"'Bill of Materials'!N243","v":26.93},{"$f":"'Bill of Materials'!P243","v":"DWC"},{"$f":"'Bill of Materials'!C243","v":"0119-C5M5"},{"$f":"'Bill of Materials'!H243","v":"FMTRJ-SC-10M"},null,null,null,0,{"$f":"'Bill of Materials'!J243","v":"standard material"},{"$f":"'Bill of Materials'!K243","v":"physical"},0]
[{"$f":"'Bill of Materials'!E244+'Bill of Materials'!F244","v":0},{"$f":"'Bill of Materials'!M244","v":"EA"},{"$f":"'Bill of Materials'!G244","v":"MTRJ/SC, MM Fiber Patch Cord, 62.5/125um, Duplex, 6 Meter, Riser "},{"$f":"'Bill of Materials'!L244","v":"Cable, Professional "},{"$f":"'Bill of Materials'!N244","v":24.85},{"$f":"'Bill of Materials'!P244","v":"DWC"},{"$f":"'Bill of Materials'!C244","v":"0119-C5M6"},{"$f":"'Bill of Materials'!H244","v":"FMTRJ-SC-6M"},null,null,null,0,{"$f":"'Bill of Materials'!J244","v":"standard material"},{"$f":"'Bill of Materials'!K244","v":"physical"},0]
[{"$f":"'Bill of Materials'!E245+'Bill of Materials'!F245","v":0},{"$f":"'Bill of Materials'!M245","v":"EA"},{"$f":"'Bill of Materials'!G245","v":"MTRJ/SC, SM Fiber Patch Cord, Duplex, 1 Meter, Riser "},{"$f":"'Bill of Materials'!L245","v":"Cable, Professional "},{"$f":"'Bill of Materials'!N245","v":19.850000000000001},{"$f":"'Bill of Materials'!P245","v":"DWC"},{"$f":"'Bill of Materials'!C245","v":"0119-C5M7"},{"$f":"'Bill of Materials'!H245","v":"FMTRJ-SC-SM-1M"},null,null,null,0,{"$f":"'Bill of Materials'!J245","v":"standard material"},{"$f":"'Bill of Materials'!K245","v":"physical"},0]
[{"$f":"'Bill of Materials'!E246+'Bill of Materials'!F246","v":0},{"$f":"'Bill of Materials'!M246","v":"EA"},{"$f":"'Bill of Materials'!G246","v":"MTRJ/SC, SM Fiber Patch Cord, Duplex, 10 Meter, Riser "},{"$f":"'Bill of Materials'!L246","v":"Cable, Professional "},{"$f":"'Bill of Materials'!N246","v":27.23},{"$f":"'Bill of Materials'!P246","v":"DWC"},{"$f":"'Bill of Materials'!C246","v":"0119-C5M8"},{"$f":"'Bill of Materials'!H246","v":"FMTRJ-SC-SM-10M"},null,null,null,0,{"$f":"'Bill of Materials'!J246","v":"standard material"},{"$f":"'Bill of Materials'!K246","v":"physical"},0]
[{"$f":"'Bill of Materials'!E247+'Bill of Materials'!F247","v":0},{"$f":"'Bill of Materials'!M247","v":"EA"},{"$f":"'Bill of Materials'!G247","v":"MTRJ/SC, SM Fiber Patch Cord, Duplex, 6 Meter, Riser "},{"$f":"'Bill of Materials'!L247","v":"Cable, Professional "},{"$f":"'Bill of Materials'!N247","v":25.49},{"$f":"'Bill of Materials'!P247","v":"DWC"},{"$f":"'Bill of Materials'!C247","v":"0119-C5M9"},{"$f":"'Bill of Materials'!H247","v":"FMTRJ-SC-SM-6M"},null,null,null,0,{"$f":"'Bill of Materials'!J247","v":"standard material"},{"$f":"'Bill of Materials'!K247","v":"physical"},0]
[{"$f":"'Bill of Materials'!E248+'Bill of Materials'!F248","v":0},{"$f":"'Bill of Materials'!M248","v":"EA"},{"$f":"'Bill of Materials'!G248","v":"MTRJ/ST, MM Fiber Patch Cord, 62.5/125um, Duplex, 6 Meter, Riser "},{"$f":"'Bill of Materials'!L248","v":"DWC"},{"$f":"'Bill of Materials'!N248","v":28.4},{"$f":"'Bill of Materials'!P248","v":"DWC"},{"$f":"'Bill of Materials'!C248","v":"10129"},{"$f":"'Bill of Materials'!H248","v":"M40369006M"},null,null,null,0,{"$f":"'Bill of Materials'!J248","v":"standard material"},{"$f":"'Bill of Materials'!K248","v":"physical"},0]
[{"$f":"'Bill of Materials'!E249+'Bill of Materials'!F249","v":0},{"$f":"'Bill of Materials'!M249","v":"EA"},{"$f":"'Bill of Materials'!G249","v":"LC/SC, SM Fiber Patch Cord, Duplex, 5 Meter, Riser, No Clips"},{"$f":"'Bill of Materials'!L249","v":"DWC"},{"$f":"'Bill of Materials'!N249","v":25.95},{"$f":"'Bill of Materials'!P249","v":"DWC"},{"$f":"'Bill of Materials'!C249","v":"10171"},{"$f":"'Bill of Materials'!H249","v":"ULC-USC-R20Z-002-Q-0005"},null,null,null,{"$f":"E268*A268","v":0},{"$f":"'Bill of Materials'!J249","v":"standard material"},{"$f":"'Bill of Materials'!K249","v":"physical"},{"$f":"IF(A268>0,1,0)","v":0}]
[{"$f":"'Bill of Materials'!E250+'Bill of Materials'!F250","v":0},{"$f":"'Bill of Materials'!M250","v":"EA"},{"$f":"'Bill of Materials'!G250","v":"Label Core, Yellow, Cable Identification Sleeve for 2mm Simplex Fiber Patch Cord, 100/Package"},{"$f":"'Bill of Materials'!L250","v":"Panduit"},{"$f":"'Bill of Materials'!N250","v":6.1},{"$f":"'Bill of Materials'!P250","v":"DWC"},{"$f":"'Bill of Materials'!C250","v":"10318"},{"$f":"'Bill of Materials'!H250","v":"NWSLC-2Y"},null,null,null,0,{"$f":"'Bill of Materials'!J250","v":"standard material"},{"$f":"'Bill of Materials'!K250","v":"physical"},0]
[{"$f":"'Bill of Materials'!E251+'Bill of Materials'!F251","v":0},{"$f":"'Bill of Materials'!M251","v":"EA"},{"$f":"'Bill of Materials'!G251","v":"Label Core, Orange, Cable Identification Sleeve for 3mm Simplex Fiber Patch Cord, 100/Package"},{"$f":"'Bill of Materials'!L251","v":"Panduit"},{"$f":"'Bill of Materials'!N251","v":6.1},{"$f":"'Bill of Materials'!P251","v":"DWC"},{"$f":"'Bill of Materials'!C251","v":"10319"},{"$f":"'Bill of Materials'!H251","v":"NWSLC-3Y"},null,null,null,0,{"$f":"'Bill of Materials'!J251","v":"standard material"},{"$f":"'Bill of Materials'!K251","v":"physical"},0]
[{"$f":"'Bill of Materials'!E252+'Bill of Materials'!F252","v":0},{"$f":"'Bill of Materials'!M252","v":"EA"},{"$f":"'Bill of Materials'!G252","v":"Label Core, White, Cable Identification Sleeve for 3mm Duplex Fiber Patch Cord, 100/Package"},{"$f":"'Bill of Materials'!L252","v":"Panduit"},{"$f":"'Bill of Materials'!N252","v":10.55},{"$f":"'Bill of Materials'!P252","v":"DWC"},{"$f":"'Bill of Materials'!C252","v":"10320"},{"$f":"'Bill of Materials'!H252","v":"NWSLC-7Y"},null,null,null,0,{"$f":"'Bill of Materials'!J252","v":"standard material"},{"$f":"'Bill of Materials'!K252","v":"physical"},0]
[{"$f":"'Bill of Materials'!E253+'Bill of Materials'!F253","v":0},{"$f":"'Bill of Materials'!M253","v":"EA"},{"$f":"'Bill of Materials'!G253","v":"LC/LC, MM (50 µm OM3), HD Fiber Patch Cord-LC Uniboots-Polarity Reversable, Corning Ultra Bend, (2) Fiber-2.0/2.4 dia. Round, Plenum, Aqua, Length/Meters 001"},{"$f":"'Bill of Materials'!L253","v":"DWC"},{"$f":"'Bill of Materials'!N253","v":39.450000000000003},{"$f":"'Bill of Materials'!P253","v":"DWC"},{"$f":"'Bill of Materials'!C253","v":"10350"},{"$f":"'Bill of Materials'!H253","v":"DWF-C263231-001M"},null,null,null,0,{"$f":"'Bill of Materials'!J253","v":"standard material"},{"$f":"'Bill of Materials'!K253","v":"physical"},0]
[{"$f":"'Bill of Materials'!E254+'Bill of Materials'!F254","v":0},{"$f":"'Bill of Materials'!M254","v":"EA"},{"$f":"'Bill of Materials'!G254","v":"LC/LC, MM (50 µm OM3), HD Fiber Patch Cord-LC Uniboots-Polarity Reversable, Corning Ultra Bend, (2) Fiber-2.0/2.4 dia. Round, Plenum, Aqua, Length/Meters 002"},{"$f":"'Bill of Materials'!L254","v":"DWC"},{"$f":"'Bill of Materials'!N254","v":40.1},{"$f":"'Bill of Materials'!P254","v":"DWC"},{"$f":"'Bill of Materials'!C254","v":"10351"},{"$f":"'Bill of Materials'!H254","v":"DWF-C263231-002M"},null,null,null,0,{"$f":"'Bill of Materials'!J254","v":"standard material"},{"$f":"'Bill of Materials'!K254","v":"physical"},0]
[{"$f":"'Bill of Materials'!E255+'Bill of Materials'!F255","v":0},{"$f":"'Bill of Materials'!M255","v":"EA"},{"$f":"'Bill of Materials'!G255","v":"LC/LC, MM (50 µm OM3), HD Fiber Patch Cord-LC Uniboots-Polarity Reversable, Corning Ultra Bend, (2) Fiber-2.0/2.4 dia. Round, Plenum, Aqua, Length/Meters 003"},{"$f":"'Bill of Materials'!L255","v":"DWC"},{"$f":"'Bill of Materials'!N255","v":40.799999999999997},{"$f":"'Bill of Materials'!P255","v":"DWC"},{"$f":"'Bill of Materials'!C255","v":"10352"},{"$f":"'Bill of Materials'!H255","v":"DWF-C263231-003M"},null,null,null,0,{"$f":"'Bill of Materials'!J255","v":"standard material"},{"$f":"'Bill of Materials'!K255","v":"physical"},0]
[{"$f":"'Bill of Materials'!E256+'Bill of Materials'!F256","v":0},{"$f":"'Bill of Materials'!M256","v":"EA"},{"$f":"'Bill of Materials'!G256","v":"LC/LC, MM (50 µm OM3), HD Fiber Patch Cord-LC Uniboots-Polarity Reversable, Corning Ultra Bend, (2) Fiber-2.0/2.4 dia. Round, Plenum, Aqua, Length/Meters 004"},{"$f":"'Bill of Materials'!L256","v":"DWC"},{"$f":"'Bill of Materials'!N256","v":41.85},{"$f":"'Bill of Materials'!P256","v":"DWC"},{"$f":"'Bill of Materials'!C256","v":"10353"},{"$f":"'Bill of Materials'!H256","v":"DWF-C263231-004M"},null,null,null,0,{"$f":"'Bill of Materials'!J256","v":"standard material"},{"$f":"'Bill of Materials'!K256","v":"physical"},0]
[{"$f":"'Bill of Materials'!E257+'Bill of Materials'!F257","v":0},{"$f":"'Bill of Materials'!M257","v":"EA"},{"$f":"'Bill of Materials'!G257","v":"LC/LC, MM (50 µm OM3), HD Fiber Patch Cord-LC Uniboots-Polarity Reversable, Corning Ultra Bend, (2) Fiber-2.0/2.4 dia. Round, Plenum, Aqua, Length/Meters 005"},{"$f":"'Bill of Materials'!L257","v":"DWC"},{"$f":"'Bill of Materials'!N257","v":43.1},{"$f":"'Bill of Materials'!P257","v":"DWC"},{"$f":"'Bill of Materials'!C257","v":"10354"},{"$f":"'Bill of Materials'!H257","v":"DWF-C263231-005M"},null,null,null,0,{"$f":"'Bill of Materials'!J257","v":"standard material"},{"$f":"'Bill of Materials'!K257","v":"physical"},0]
[{"$f":"'Bill of Materials'!E258+'Bill of Materials'!F258","v":0},{"$f":"'Bill of Materials'!M258","v":"EA"},{"$f":"'Bill of Materials'!G258","v":"LC/LC, MM (50 µm OM3), HD Fiber Patch Cord-LC Uniboots-Polarity Reversable, Corning Ultra Bend, (2) Fiber-2.0/2.4 dia. Round, Plenum, Aqua, Length/Meters 006"},{"$f":"'Bill of Materials'!L258","v":"DWC"},{"$f":"'Bill of Materials'!N258","v":45.55},{"$f":"'Bill of Materials'!P258","v":"DWC"},{"$f":"'Bill of Materials'!C258","v":"10355"},{"$f":"'Bill of Materials'!H258","v":"DWF-C263231-006M"},null,null,null,0,{"$f":"'Bill of Materials'!J258","v":"standard material"},{"$f":"'Bill of Materials'!K258","v":"physical"},0]
[{"$f":"'Bill of Materials'!E259+'Bill of Materials'!F259","v":0},{"$f":"'Bill of Materials'!M259","v":"EA"},{"$f":"'Bill of Materials'!G259","v":"LC/LC, MM (50 µm OM3), HD Fiber Patch Cord-LC Uniboots-Polarity Reversable, Corning Ultra Bend, (2) Fiber-2.0/2.4 dia. Round, Plenum, Aqua, Length/Meters 007"},{"$f":"'Bill of Materials'!L259","v":"DWC"},{"$f":"'Bill of Materials'!N259","v":47.95},{"$f":"'Bill of Materials'!P259","v":"DWC"},{"$f":"'Bill of Materials'!C259","v":"10356"},{"$f":"'Bill of Materials'!H259","v":"DWF-C263231-007M"},null,null,null,0,{"$f":"'Bill of Materials'!J259","v":"standard material"},{"$f":"'Bill of Materials'!K259","v":"physical"},0]
[{"$f":"'Bill of Materials'!E260+'Bill of Materials'!F260","v":0},{"$f":"'Bill of Materials'!M260","v":"EA"},{"$f":"'Bill of Materials'!G260","v":"LC/LC, MM (50 µm OM3), HD Fiber Patch Cord-LC Uniboots-Polarity Reversable, Corning Ultra Bend, (2) Fiber-2.0/2.4 dia. Round, Plenum, Aqua, Length/Meters 008"},{"$f":"'Bill of Materials'!L260","v":"DWC"},{"$f":"'Bill of Materials'!N260","v":50.4},{"$f":"'Bill of Materials'!P260","v":"DWC"},{"$f":"'Bill of Materials'!C260","v":"10357"},{"$f":"'Bill of Materials'!H260","v":"DWF-C263231-008M"},null,null,null,0,{"$f":"'Bill of Materials'!J260","v":"standard material"},{"$f":"'Bill of Materials'!K260","v":"physical"},0]
[{"$f":"'Bill of Materials'!E261+'Bill of Materials'!F261","v":0},{"$f":"'Bill of Materials'!M261","v":"EA"},{"$f":"'Bill of Materials'!G261","v":"LC/LC, MM (50 µm OM3), HD Fiber Patch Cord-LC Uniboots-Polarity Reversable, Corning Ultra Bend, (2) Fiber-2.0/2.4 dia. Round, Plenum, Aqua, Length/Meters 009"},{"$f":"'Bill of Materials'!L261","v":"DWC"},{"$f":"'Bill of Materials'!N261","v":52.8},{"$f":"'Bill of Materials'!P261","v":"DWC"},{"$f":"'Bill of Materials'!C261","v":"10358"},{"$f":"'Bill of Materials'!H261","v":"DWF-C263231-009M"},null,null,null,0,{"$f":"'Bill of Materials'!J261","v":"standard material"},{"$f":"'Bill of Materials'!K261","v":"physical"},0]
[{"$f":"'Bill of Materials'!E262+'Bill of Materials'!F262","v":0},{"$f":"'Bill of Materials'!M262","v":"EA"},{"$f":"'Bill of Materials'!G262","v":"LC/LC, MM (50 µm OM3), HD Fiber Patch Cord-LC Uniboots-Polarity Reversable, Corning Ultra Bend, (2) Fiber-2.0/2.4 dia. Round, Plenum, Aqua, Length/Meters 010"},{"$f":"'Bill of Materials'!L262","v":"DWC"},{"$f":"'Bill of Materials'!N262","v":55.2},{"$f":"'Bill of Materials'!P262","v":"DWC"},{"$f":"'Bill of Materials'!C262","v":"10359"},{"$f":"'Bill of Materials'!H262","v":"DWF-C263231-010M"},null,null,null,0,{"$f":"'Bill of Materials'!J262","v":"standard material"},{"$f":"'Bill of Materials'!K262","v":"physical"},0]
[{"$f":"'Bill of Materials'!E263+'Bill of Materials'!F263","v":0},{"$f":"'Bill of Materials'!M263","v":"EA"},{"$f":"'Bill of Materials'!G263","v":"LC/LC, MM (50 µm OM3), HD Fiber Patch Cord-LC Uniboots-Polarity Reversable, Corning Ultra Bend, (2) Fiber-2.0/2.4 dia. Round, Plenum, Aqua, Length/Meters 011"},{"$f":"'Bill of Materials'!L263","v":"DWC"},{"$f":"'Bill of Materials'!N263","v":57.62},{"$f":"'Bill of Materials'!P263","v":"DWC"},{"$f":"'Bill of Materials'!C263","v":"10360"},{"$f":"'Bill of Materials'!H263","v":"DWF-C263231-011M"},null,null,null,0,{"$f":"'Bill of Materials'!J263","v":"standard material"},{"$f":"'Bill of Materials'!K263","v":"physical"},0]
[{"$f":"'Bill of Materials'!E264+'Bill of Materials'!F264","v":0},{"$f":"'Bill of Materials'!M264","v":"EA"},{"$f":"'Bill of Materials'!G264","v":"LC/LC, MM (50 µm OM3), HD Fiber Patch Cord-LC Uniboots-Polarity Reversable, Corning Ultra Bend, (2) Fiber-2.0/2.4 dia. Round, Plenum, Aqua, Length/Meters 012"},{"$f":"'Bill of Materials'!L264","v":"DWC"},{"$f":"'Bill of Materials'!N264","v":60.05},{"$f":"'Bill of Materials'!P264","v":"DWC"},{"$f":"'Bill of Materials'!C264","v":"10361"},{"$f":"'Bill of Materials'!H264","v":"DWF-C263231-012M"},null,null,null,0,{"$f":"'Bill of Materials'!J264","v":"standard material"},{"$f":"'Bill of Materials'!K264","v":"physical"},0]
[{"$f":"'Bill of Materials'!E265+'Bill of Materials'!F265","v":0},{"$f":"'Bill of Materials'!M265","v":"EA"},{"$f":"'Bill of Materials'!G265","v":"LC/LC, MM (50 µm OM3), HD Fiber Patch Cord-LC Uniboots-Polarity Reversable, Corning Ultra Bend, (2) Fiber-2.0/2.4 dia. Round, Plenum, Aqua, Length/Meters 013"},{"$f":"'Bill of Materials'!L265","v":"DWC"},{"$f":"'Bill of Materials'!N265","v":62.5},{"$f":"'Bill of Materials'!P265","v":"DWC"},{"$f":"'Bill of Materials'!C265","v":"10362"},{"$f":"'Bill of Materials'!H265","v":"DWF-C263231-013M"},null,null,null,0,{"$f":"'Bill of Materials'!J265","v":"standard material"},{"$f":"'Bill of Materials'!K265","v":"physical"},0]
[{"$f":"'Bill of Materials'!E266+'Bill of Materials'!F266","v":0},{"$f":"'Bill of Materials'!M266","v":"EA"},{"$f":"'Bill of Materials'!G266","v":"LC/LC, MM (50 µm OM3), HD Fiber Patch Cord-LC Uniboots-Polarity Reversable, Corning Ultra Bend, (2) Fiber-2.0/2.4 dia. Round, Plenum, Aqua, Length/Meters 014"},{"$f":"'Bill of Materials'!L266","v":"DWC"},{"$f":"'Bill of Materials'!N266","v":64.900000000000006},{"$f":"'Bill of Materials'!P266","v":"DWC"},{"$f":"'Bill of Materials'!C266","v":"10363"},{"$f":"'Bill of Materials'!H266","v":"DWF-C263231-014M"},null,null,null,0,{"$f":"'Bill of Materials'!J266","v":"standard material"},{"$f":"'Bill of Materials'!K266","v":"physical"},0]
[{"$f":"'Bill of Materials'!E267+'Bill of Materials'!F267","v":0},{"$f":"'Bill of Materials'!M267","v":"EA"},{"$f":"'Bill of Materials'!G267","v":"LC/LC, MM (50 µm OM3), HD Fiber Patch Cord-LC Uniboots-Polarity Reversable, Corning Ultra Bend, (2) Fiber-2.0/2.4 dia. Round, Plenum, Aqua, Length/Meters 015"},{"$f":"'Bill of Materials'!L267","v":"DWC"},{"$f":"'Bill of Materials'!N267","v":67.3},{"$f":"'Bill of Materials'!P267","v":"DWC"},{"$f":"'Bill of Materials'!C267","v":"10364"},{"$f":"'Bill of Materials'!H267","v":"DWF-C263231-015M"},null,null,null,0,{"$f":"'Bill of Materials'!J267","v":"standard material"},{"$f":"'Bill of Materials'!K267","v":"physical"},0]
[{"$f":"'Bill of Materials'!E268+'Bill of Materials'!F268","v":0},{"$f":"'Bill of Materials'!M268","v":"EA"},{"$f":"'Bill of Materials'!G268","v":"LC/LC, MM (50 µm OM3), HD Fiber Patch Cord-LC Uniboots-Polarity Reversable, Corning Ultra Bend, (2) Fiber-2.0/2.4 dia. Round, Plenum, Aqua, Length/Meters 016"},{"$f":"'Bill of Materials'!L268","v":"DWC"},{"$f":"'Bill of Materials'!N268","v":69.75},{"$f":"'Bill of Materials'!P268","v":"DWC"},{"$f":"'Bill of Materials'!C268","v":"10365"},{"$f":"'Bill of Materials'!H268","v":"DWF-C263231-016M"},null,null,null,0,{"$f":"'Bill of Materials'!J268","v":"standard material"},{"$f":"'Bill of Materials'!K268","v":"physical"},0]
[{"$f":"'Bill of Materials'!E269+'Bill of Materials'!F269","v":0},{"$f":"'Bill of Materials'!M269","v":"EA"},{"$f":"'Bill of Materials'!G269","v":"LC/LC, MM (50 µm OM3), HD Fiber Patch Cord-LC Uniboots-Polarity Reversable, Corning Ultra Bend, (2) Fiber-2.0/2.4 dia. Round, Plenum, Aqua, Length/Meters 017"},{"$f":"'Bill of Materials'!L269","v":"DWC"},{"$f":"'Bill of Materials'!N269","v":72.150000000000006},{"$f":"'Bill of Materials'!P269","v":"DWC"},{"$f":"'Bill of Materials'!C269","v":"10366"},{"$f":"'Bill of Materials'!H269","v":"DWF-C263231-017M"},null,null,null,0,{"$f":"'Bill of Materials'!J269","v":"standard material"},{"$f":"'Bill of Materials'!K269","v":"physical"},0]
[{"$f":"'Bill of Materials'!E270+'Bill of Materials'!F270","v":0},{"$f":"'Bill of Materials'!M270","v":"EA"},{"$f":"'Bill of Materials'!G270","v":"LC/LC, MM (50 µm OM3), HD Fiber Patch Cord-LC Uniboots-Polarity Reversable, Corning Ultra Bend, (2) Fiber-2.0/2.4 dia. Round, Plenum, Aqua, Length/Meters 018"},{"$f":"'Bill of Materials'!L270","v":"DWC"},{"$f":"'Bill of Materials'!N270","v":74.599999999999994},{"$f":"'Bill of Materials'!P270","v":"DWC"},{"$f":"'Bill of Materials'!C270","v":"10367"},{"$f":"'Bill of Materials'!H270","v":"DWF-C263231-018M"},null,null,null,0,{"$f":"'Bill of Materials'!J270","v":"standard material"},{"$f":"'Bill of Materials'!K270","v":"physical"},0]
[{"$f":"'Bill of Materials'!E271+'Bill of Materials'!F271","v":0},{"$f":"'Bill of Materials'!M271","v":"EA"},{"$f":"'Bill of Materials'!G271","v":"LC/LC, MM (50 µm OM3), HD Fiber Patch Cord-LC Uniboots-Polarity Reversable, Corning Ultra Bend, (2) Fiber-2.0/2.4 dia. Round, Plenum, Aqua, Length/Meters 019"},{"$f":"'Bill of Materials'!L271","v":"DWC"},{"$f":"'Bill of Materials'!N271","v":77},{"$f":"'Bill of Materials'!P271","v":"DWC"},{"$f":"'Bill of Materials'!C271","v":"10368"},{"$f":"'Bill of Materials'!H271","v":"DWF-C263231-019M"},null,null,null,0,{"$f":"'Bill of Materials'!J271","v":"standard material"},{"$f":"'Bill of Materials'!K271","v":"physical"},0]
[{"$f":"'Bill of Materials'!E272+'Bill of Materials'!F272","v":0},{"$f":"'Bill of Materials'!M272","v":"EA"},{"$f":"'Bill of Materials'!G272","v":"LC/LC, MM (50 µm OM3), HD Fiber Patch Cord-LC Uniboots-Polarity Reversable, Corning Ultra Bend, (2) Fiber-2.0/2.4 dia. Round, Plenum, Aqua, Length/Meters 020"},{"$f":"'Bill of Materials'!L272","v":"DWC"},{"$f":"'Bill of Materials'!N272","v":79.400000000000006},{"$f":"'Bill of Materials'!P272","v":"DWC"},{"$f":"'Bill of Materials'!C272","v":"10369"},{"$f":"'Bill of Materials'!H272","v":"DWF-C263231-020M"},null,null,null,0,{"$f":"'Bill of Materials'!J272","v":"standard material"},{"$f":"'Bill of Materials'!K272","v":"physical"},0]
[{"$f":"'Bill of Materials'!E273+'Bill of Materials'!F273","v":0},{"$f":"'Bill of Materials'!M273","v":"EA"},{"$f":"'Bill of Materials'!G273","v":"LC/SC, MM (50 µm OM3), HD Fiber Patch Cord-LC Uniboot-Polarity Reversable, SC Uniboot-Polarity Fixed, Corning Ultra Bend, (2) Fiber-2.0/2.4 dia. Round, Plenum, Aqua, Length/Meters 001"},{"$f":"'Bill of Materials'!L273","v":"DWC"},{"$f":"'Bill of Materials'!N273","v":45.55},{"$f":"'Bill of Materials'!P273","v":"DWC"},{"$f":"'Bill of Materials'!C273","v":"10370"},{"$f":"'Bill of Materials'!H273","v":"DWF-C263232-001M"},null,null,null,0,{"$f":"'Bill of Materials'!J273","v":"standard material"},{"$f":"'Bill of Materials'!K273","v":"physical"},0]
[{"$f":"'Bill of Materials'!E274+'Bill of Materials'!F274","v":0},{"$f":"'Bill of Materials'!M274","v":"EA"},{"$f":"'Bill of Materials'!G274","v":"LC/SC, MM (50 µm OM3), HD Fiber Patch Cord-LC Uniboot-Polarity Reversable, SC Uniboot-Polarity Fixed, Corning Ultra Bend, (2) Fiber-2.0/2.4 dia. Round, Plenum, Aqua, Length/Meters 002"},{"$f":"'Bill of Materials'!L274","v":"DWC"},{"$f":"'Bill of Materials'!N274","v":46.25},{"$f":"'Bill of Materials'!P274","v":"DWC"},{"$f":"'Bill of Materials'!C274","v":"10371"},{"$f":"'Bill of Materials'!H274","v":"DWF-C263232-002M"},null,null,null,0,{"$f":"'Bill of Materials'!J274","v":"standard material"},{"$f":"'Bill of Materials'!K274","v":"physical"},0]
[{"$f":"'Bill of Materials'!E275+'Bill of Materials'!F275","v":0},{"$f":"'Bill of Materials'!M275","v":"EA"},{"$f":"'Bill of Materials'!G275","v":"LC/SC, MM (50 µm OM3), HD Fiber Patch Cord-LC Uniboot-Polarity Reversable, SC Uniboot-Polarity Fixed, Corning Ultra Bend, (2) Fiber-2.0/2.4 dia. Round, Plenum, Aqua, Length/Meters 003"},{"$f":"'Bill of Materials'!L275","v":"DWC"},{"$f":"'Bill of Materials'!N275","v":46.9},{"$f":"'Bill of Materials'!P275","v":"DWC"},{"$f":"'Bill of Materials'!C275","v":"10372"},{"$f":"'Bill of Materials'!H275","v":"DWF-C263232-003M"},null,null,null,0,{"$f":"'Bill of Materials'!J275","v":"standard material"},{"$f":"'Bill of Materials'!K275","v":"physical"},0]
[{"$f":"'Bill of Materials'!E276+'Bill of Materials'!F276","v":0},{"$f":"'Bill of Materials'!M276","v":"EA"},{"$f":"'Bill of Materials'!G276","v":"LC/SC, MM (50 µm OM3), HD Fiber Patch Cord-LC Uniboot-Polarity Reversable, SC Uniboot-Polarity Fixed, Corning Ultra Bend, (2) Fiber-2.0/2.4 dia. Round, Plenum, Aqua, Length/Meters 004"},{"$f":"'Bill of Materials'!L276","v":"DWC"},{"$f":"'Bill of Materials'!N276","v":47.6},{"$f":"'Bill of Materials'!P276","v":"DWC"},{"$f":"'Bill of Materials'!C276","v":"10373"},{"$f":"'Bill of Materials'!H276","v":"DWF-C263232-004M"},null,null,null,0,{"$f":"'Bill of Materials'!J276","v":"standard material"},{"$f":"'Bill of Materials'!K276","v":"physical"},0]
[{"$f":"'Bill of Materials'!E277+'Bill of Materials'!F277","v":0},{"$f":"'Bill of Materials'!M277","v":"EA"},{"$f":"'Bill of Materials'!G277","v":"LC/SC, MM (50 µm OM3), HD Fiber Patch Cord-LC Uniboot-Polarity Reversable, SC Uniboot-Polarity Fixed, Corning Ultra Bend, (2) Fiber-2.0/2.4 dia. Round, Plenum, Aqua, Length/Meters 005"},{"$f":"'Bill of Materials'!L277","v":"DWC"},{"$f":"'Bill of Materials'!N277","v":48},{"$f":"'Bill of Materials'!P277","v":"DWC"},{"$f":"'Bill of Materials'!C277","v":"10374"},{"$f":"'Bill of Materials'!H277","v":"DWF-C263232-005M"},null,null,null,0,{"$f":"'Bill of Materials'!J277","v":"standard material"},{"$f":"'Bill of Materials'!K277","v":"physical"},0]
[{"$f":"'Bill of Materials'!E278+'Bill of Materials'!F278","v":0},{"$f":"'Bill of Materials'!M278","v":"EA"},{"$f":"'Bill of Materials'!G278","v":"LC/SC, MM (50 µm OM3), HD Fiber Patch Cord-LC Uniboot-Polarity Reversable, SC Uniboot-Polarity Fixed, Corning Ultra Bend, (2) Fiber-2.0/2.4 dia. Round, Plenum, Aqua, Length/Meters 006"},{"$f":"'Bill of Materials'!L278","v":"DWC"},{"$f":"'Bill of Materials'!N278","v":50.45},{"$f":"'Bill of Materials'!P278","v":"DWC"},{"$f":"'Bill of Materials'!C278","v":"10375"},{"$f":"'Bill of Materials'!H278","v":"DWF-C263232-006M"},null,null,null,0,{"$f":"'Bill of Materials'!J278","v":"standard material"},{"$f":"'Bill of Materials'!K278","v":"physical"},0]
[{"$f":"'Bill of Materials'!E279+'Bill of Materials'!F279","v":0},{"$f":"'Bill of Materials'!M279","v":"EA"},{"$f":"'Bill of Materials'!G279","v":"LC/SC, MM (50 µm OM3), HD Fiber Patch Cord-LC Uniboot-Polarity Reversable, SC Uniboot-Polarity Fixed, Corning Ultra Bend, (2) Fiber-2.0/2.4 dia. Round, Plenum, Aqua, Length/Meters 007"},{"$f":"'Bill of Materials'!L279","v":"DWC"},{"$f":"'Bill of Materials'!N279","v":52.85},{"$f":"'Bill of Materials'!P279","v":"DWC"},{"$f":"'Bill of Materials'!C279","v":"10376"},{"$f":"'Bill of Materials'!H279","v":"DWF-C263232-007M"},null,null,null,0,{"$f":"'Bill of Materials'!J279","v":"standard material"},{"$f":"'Bill of Materials'!K279","v":"physical"},0]
[{"$f":"'Bill of Materials'!E280+'Bill of Materials'!F280","v":0},{"$f":"'Bill of Materials'!M280","v":"EA"},{"$f":"'Bill of Materials'!G280","v":"LC/SC, MM (50 µm OM3), HD Fiber Patch Cord-LC Uniboot-Polarity Reversable, SC Uniboot-Polarity Fixed, Corning Ultra Bend, (2) Fiber-2.0/2.4 dia. Round, Plenum, Aqua, Length/Meters 008"},{"$f":"'Bill of Materials'!L280","v":"DWC"},{"$f":"'Bill of Materials'!N280","v":55.3},{"$f":"'Bill of Materials'!P280","v":"DWC"},{"$f":"'Bill of Materials'!C280","v":"10377"},{"$f":"'Bill of Materials'!H280","v":"DWF-C263232-008M"},null,null,null,0,{"$f":"'Bill of Materials'!J280","v":"standard material"},{"$f":"'Bill of Materials'!K280","v":"physical"},0]
[{"$f":"'Bill of Materials'!E281+'Bill of Materials'!F281","v":0},{"$f":"'Bill of Materials'!M281","v":"EA"},{"$f":"'Bill of Materials'!G281","v":"LC/SC, MM (50 µm OM3), HD Fiber Patch Cord-LC Uniboot-Polarity Reversable, SC Uniboot-Polarity Fixed, Corning Ultra Bend, (2) Fiber-2.0/2.4 dia. Round, Plenum, Aqua, Length/Meters 009"},{"$f":"'Bill of Materials'!L281","v":"DWC"},{"$f":"'Bill of Materials'!N281","v":57.7},{"$f":"'Bill of Materials'!P281","v":"DWC"},{"$f":"'Bill of Materials'!C281","v":"10378"},{"$f":"'Bill of Materials'!H281","v":"DWF-C263232-009M"},null,null,null,0,{"$f":"'Bill of Materials'!J281","v":"standard material"},{"$f":"'Bill of Materials'!K281","v":"physical"},0]
[{"$f":"'Bill of Materials'!E282+'Bill of Materials'!F282","v":0},{"$f":"'Bill of Materials'!M282","v":"EA"},{"$f":"'Bill of Materials'!G282","v":"LC/SC, MM (50 µm OM3), HD Fiber Patch Cord-LC Uniboot-Polarity Reversable, SC Uniboot-Polarity Fixed, Corning Ultra Bend, (2) Fiber-2.0/2.4 dia. Round, Plenum, Aqua, Length/Meters 010"},{"$f":"'Bill of Materials'!L282","v":"DWC"},{"$f":"'Bill of Materials'!N282","v":60.1},{"$f":"'Bill of Materials'!P282","v":"DWC"},{"$f":"'Bill of Materials'!C282","v":"10379"},{"$f":"'Bill of Materials'!H282","v":"DWF-C263232-010M"},null,null,null,0,{"$f":"'Bill of Materials'!J282","v":"standard material"},{"$f":"'Bill of Materials'!K282","v":"physical"},0]
[{"$f":"'Bill of Materials'!E283+'Bill of Materials'!F283","v":0},{"$f":"'Bill of Materials'!M283","v":"EA"},{"$f":"'Bill of Materials'!G283","v":"LC/SC, MM (50 µm OM3), HD Fiber Patch Cord-LC Uniboot-Polarity Reversable, SC Uniboot-Polarity Fixed, Corning Ultra Bend, (2) Fiber-2.0/2.4 dia. Round, Plenum, Aqua, Length/Meters 011"},{"$f":"'Bill of Materials'!L283","v":"DWC"},{"$f":"'Bill of Materials'!N283","v":62.55},{"$f":"'Bill of Materials'!P283","v":"DWC"},{"$f":"'Bill of Materials'!C283","v":"10380"},{"$f":"'Bill of Materials'!H283","v":"DWF-C263232-011M"},null,null,null,0,{"$f":"'Bill of Materials'!J283","v":"standard material"},{"$f":"'Bill of Materials'!K283","v":"physical"},0]
[{"$f":"'Bill of Materials'!E284+'Bill of Materials'!F284","v":0},{"$f":"'Bill of Materials'!M284","v":"EA"},{"$f":"'Bill of Materials'!G284","v":"LC/SC, MM (50 µm OM3), HD Fiber Patch Cord-LC Uniboot-Polarity Reversable, SC Uniboot-Polarity Fixed, Corning Ultra Bend, (2) Fiber-2.0/2.4 dia. Round, Plenum, Aqua, Length/Meters 012"},{"$f":"'Bill of Materials'!L284","v":"DWC"},{"$f":"'Bill of Materials'!N284","v":64.95},{"$f":"'Bill of Materials'!P284","v":"DWC"},{"$f":"'Bill of Materials'!C284","v":"10381"},{"$f":"'Bill of Materials'!H284","v":"DWF-C263232-012M"},null,null,null,0,{"$f":"'Bill of Materials'!J284","v":"standard material"},{"$f":"'Bill of Materials'!K284","v":"physical"},0]
[{"$f":"'Bill of Materials'!E285+'Bill of Materials'!F285","v":0},{"$f":"'Bill of Materials'!M285","v":"EA"},{"$f":"'Bill of Materials'!G285","v":"LC/SC, MM (50 µm OM3), HD Fiber Patch Cord-LC Uniboot-Polarity Reversable, SC Uniboot-Polarity Fixed, Corning Ultra Bend, (2) Fiber-2.0/2.4 dia. Round, Plenum, Aqua, Length/Meters 013"},{"$f":"'Bill of Materials'!L285","v":"DWC"},{"$f":"'Bill of Materials'!N285","v":67.400000000000006},{"$f":"'Bill of Materials'!P285","v":"DWC"},{"$f":"'Bill of Materials'!C285","v":"10382"},{"$f":"'Bill of Materials'!H285","v":"DWF-C263232-013M"},null,null,null,0,{"$f":"'Bill of Materials'!J285","v":"standard material"},{"$f":"'Bill of Materials'!K285","v":"physical"},0]
[{"$f":"'Bill of Materials'!E286+'Bill of Materials'!F286","v":0},{"$f":"'Bill of Materials'!M286","v":"EA"},{"$f":"'Bill of Materials'!G286","v":"LC/SC, MM (50 µm OM3), HD Fiber Patch Cord-LC Uniboot-Polarity Reversable, SC Uniboot-Polarity Fixed, Corning Ultra Bend, (2) Fiber-2.0/2.4 dia. Round, Plenum, Aqua, Length/Meters 014"},{"$f":"'Bill of Materials'!L286","v":"DWC"},{"$f":"'Bill of Materials'!N286","v":69.8},{"$f":"'Bill of Materials'!P286","v":"DWC"},{"$f":"'Bill of Materials'!C286","v":"10383"},{"$f":"'Bill of Materials'!H286","v":"DWF-C263232-014M"},null,null,null,0,{"$f":"'Bill of Materials'!J286","v":"standard material"},{"$f":"'Bill of Materials'!K286","v":"physical"},0]
[{"$f":"'Bill of Materials'!E287+'Bill of Materials'!F287","v":0},{"$f":"'Bill of Materials'!M287","v":"EA"},{"$f":"'Bill of Materials'!G287","v":"LC/SC, MM (50 µm OM3), HD Fiber Patch Cord-LC Uniboot-Polarity Reversable, SC Uniboot-Polarity Fixed, Corning Ultra Bend, (2) Fiber-2.0/2.4 dia. Round, Plenum, Aqua, Length/Meters 015"},{"$f":"'Bill of Materials'!L287","v":"DWC"},{"$f":"'Bill of Materials'!N287","v":72.2},{"$f":"'Bill of Materials'!P287","v":"DWC"},{"$f":"'Bill of Materials'!C287","v":"10384"},{"$f":"'Bill of Materials'!H287","v":"DWF-C263232-015M"},null,null,null,0,{"$f":"'Bill of Materials'!J287","v":"standard material"},{"$f":"'Bill of Materials'!K287","v":"physical"},0]
[{"$f":"'Bill of Materials'!E288+'Bill of Materials'!F288","v":0},{"$f":"'Bill of Materials'!M288","v":"EA"},{"$f":"'Bill of Materials'!G288","v":"LC/SC, MM (50 µm OM3), HD Fiber Patch Cord-LC Uniboot-Polarity Reversable, SC Uniboot-Polarity Fixed, Corning Ultra Bend, (2) Fiber-2.0/2.4 dia. Round, Plenum, Aqua, Length/Meters 016"},{"$f":"'Bill of Materials'!L288","v":"DWC"},{"$f":"'Bill of Materials'!N288","v":74.650000000000006},{"$f":"'Bill of Materials'!P288","v":"DWC"},{"$f":"'Bill of Materials'!C288","v":"10385"},{"$f":"'Bill of Materials'!H288","v":"DWF-C263232-016M"},null,null,null,0,{"$f":"'Bill of Materials'!J288","v":"standard material"},{"$f":"'Bill of Materials'!K288","v":"physical"},0]
[{"$f":"'Bill of Materials'!E289+'Bill of Materials'!F289","v":0},{"$f":"'Bill of Materials'!M289","v":"EA"},{"$f":"'Bill of Materials'!G289","v":"LC/SC, MM (50 µm OM3), HD Fiber Patch Cord-LC Uniboot-Polarity Reversable, SC Uniboot-Polarity Fixed, Corning Ultra Bend, (2) Fiber-2.0/2.4 dia. Round, Plenum, Aqua, Length/Meters 017"},{"$f":"'Bill of Materials'!L289","v":"DWC"},{"$f":"'Bill of Materials'!N289","v":77.05},{"$f":"'Bill of Materials'!P289","v":"DWC"},{"$f":"'Bill of Materials'!C289","v":"10386"},{"$f":"'Bill of Materials'!H289","v":"DWF-C263232-017M"},null,null,null,0,{"$f":"'Bill of Materials'!J289","v":"standard material"},{"$f":"'Bill of Materials'!K289","v":"physical"},0]
[{"$f":"'Bill of Materials'!E290+'Bill of Materials'!F290","v":0},{"$f":"'Bill of Materials'!M290","v":"EA"},{"$f":"'Bill of Materials'!G290","v":"LC/SC, MM (50 µm OM3), HD Fiber Patch Cord-LC Uniboot-Polarity Reversable, SC Uniboot-Polarity Fixed, Corning Ultra Bend, (2) Fiber-2.0/2.4 dia. Round, Plenum, Aqua, Length/Meters 018"},{"$f":"'Bill of Materials'!L290","v":"DWC"},{"$f":"'Bill of Materials'!N290","v":79.5},{"$f":"'Bill of Materials'!P290","v":"DWC"},{"$f":"'Bill of Materials'!C290","v":"10387"},{"$f":"'Bill of Materials'!H290","v":"DWF-C263232-018M"},null,null,null,0,{"$f":"'Bill of Materials'!J290","v":"standard material"},{"$f":"'Bill of Materials'!K290","v":"physical"},0]
[{"$f":"'Bill of Materials'!E291+'Bill of Materials'!F291","v":0},{"$f":"'Bill of Materials'!M291","v":"EA"},{"$f":"'Bill of Materials'!G291","v":"LC/SC, MM (50 µm OM3), HD Fiber Patch Cord-LC Uniboot-Polarity Reversable, SC Uniboot-Polarity Fixed, Corning Ultra Bend, (2) Fiber-2.0/2.4 dia. Round, Plenum, Aqua, Length/Meters 019"},{"$f":"'Bill of Materials'!L291","v":"DWC"},{"$f":"'Bill of Materials'!N291","v":81.900000000000006},{"$f":"'Bill of Materials'!P291","v":"DWC"},{"$f":"'Bill of Materials'!C291","v":"10388"},{"$f":"'Bill of Materials'!H291","v":"DWF-C263232-019M"},null,null,null,0,{"$f":"'Bill of Materials'!J291","v":"standard material"},{"$f":"'Bill of Materials'!K291","v":"physical"},0]
[{"$f":"'Bill of Materials'!E292+'Bill of Materials'!F292","v":0},{"$f":"'Bill of Materials'!M292","v":"EA"},{"$f":"'Bill of Materials'!G292","v":"LC/SC, MM (50 µm OM3), HD Fiber Patch Cord-LC Uniboot-Polarity Reversable, SC Uniboot-Polarity Fixed, Corning Ultra Bend, (2) Fiber-2.0/2.4 dia. Round, Plenum, Aqua, Length/Meters 020"},{"$f":"'Bill of Materials'!L292","v":"DWC"},{"$f":"'Bill of Materials'!N292","v":84.3},{"$f":"'Bill of Materials'!P292","v":"DWC"},{"$f":"'Bill of Materials'!C292","v":"10389"},{"$f":"'Bill of Materials'!H292","v":"DWF-C263232-020M"},null,null,null,0,{"$f":"'Bill of Materials'!J292","v":"standard material"},{"$f":"'Bill of Materials'!K292","v":"physical"},0]
[{"$f":"'Bill of Materials'!E293+'Bill of Materials'!F293","v":0},{"$f":"'Bill of Materials'!M293","v":"EA"},{"$f":"'Bill of Materials'!G293","v":"LC/LC, Singlemode (9/125), HD Fiber Patch Cord-LC Uniboots-Polarity Reversable, Corning Ultra Bend, (2) Fiber-2.0/2.4 dia. Round, Plenum, Yellow, Length/Meters 001"},{"$f":"'Bill of Materials'!L293","v":"DWC"},{"$f":"'Bill of Materials'!N293","v":40.75},{"$f":"'Bill of Materials'!P293","v":"DWC"},{"$f":"'Bill of Materials'!C293","v":"10390"},{"$f":"'Bill of Materials'!H293","v":"DWF-C263234-001M"},null,null,null,0,{"$f":"'Bill of Materials'!J293","v":"standard material"},{"$f":"'Bill of Materials'!K293","v":"physical"},0]
[{"$f":"'Bill of Materials'!E294+'Bill of Materials'!F294","v":0},{"$f":"'Bill of Materials'!M294","v":"EA"},{"$f":"'Bill of Materials'!G294","v":"LC/LC, Singlemode (9/125), HD Fiber Patch Cord-LC Uniboots-Polarity Reversable, Corning Ultra Bend, (2) Fiber-2.0/2.4 dia. Round, Plenum, Yellow, Length/Meters 002"},{"$f":"'Bill of Materials'!L294","v":"DWC"},{"$f":"'Bill of Materials'!N294","v":41.1},{"$f":"'Bill of Materials'!P294","v":"DWC"},{"$f":"'Bill of Materials'!C294","v":"10391"},{"$f":"'Bill of Materials'!H294","v":"DWF-C263234-002M"},null,null,null,0,{"$f":"'Bill of Materials'!J294","v":"standard material"},{"$f":"'Bill of Materials'!K294","v":"physical"},0]
[{"$f":"'Bill of Materials'!E295+'Bill of Materials'!F295","v":0},{"$f":"'Bill of Materials'!M295","v":"EA"},{"$f":"'Bill of Materials'!G295","v":"LC/LC, Singlemode (9/125), HD Fiber Patch Cord-LC Uniboots-Polarity Reversable, Corning Ultra Bend, (2) Fiber-2.0/2.4 dia. Round, Plenum, Yellow, Length/Meters 003"},{"$f":"'Bill of Materials'!L295","v":"DWC"},{"$f":"'Bill of Materials'!N295","v":41.85},{"$f":"'Bill of Materials'!P295","v":"DWC"},{"$f":"'Bill of Materials'!C295","v":"10392"},{"$f":"'Bill of Materials'!H295","v":"DWF-C263234-003M"},null,null,null,0,{"$f":"'Bill of Materials'!J295","v":"standard material"},{"$f":"'Bill of Materials'!K295","v":"physical"},0]
[{"$f":"'Bill of Materials'!E296+'Bill of Materials'!F296","v":0},{"$f":"'Bill of Materials'!M296","v":"EA"},{"$f":"'Bill of Materials'!G296","v":"LC/LC, Singlemode (9/125), HD Fiber Patch Cord-LC Uniboots-Polarity Reversable, Corning Ultra Bend, (2) Fiber-2.0/2.4 dia. Round, Plenum, Yellow, Length/Meters 004"},{"$f":"'Bill of Materials'!L296","v":"DWC"},{"$f":"'Bill of Materials'!N296","v":42.05},{"$f":"'Bill of Materials'!P296","v":"DWC"},{"$f":"'Bill of Materials'!C296","v":"10393"},{"$f":"'Bill of Materials'!H296","v":"DWF-C263234-004M"},null,null,null,0,{"$f":"'Bill of Materials'!J296","v":"standard material"},{"$f":"'Bill of Materials'!K296","v":"physical"},0]
[{"$f":"'Bill of Materials'!E297+'Bill of Materials'!F297","v":0},{"$f":"'Bill of Materials'!M297","v":"EA"},{"$f":"'Bill of Materials'!G297","v":"LC/LC, Singlemode (9/125), HD Fiber Patch Cord-LC Uniboots-Polarity Reversable, Corning Ultra Bend, (2) Fiber-2.0/2.4 dia. Round, Plenum, Yellow, Length/Meters 005"},{"$f":"'Bill of Materials'!L297","v":"DWC"},{"$f":"'Bill of Materials'!N297","v":42.6},{"$f":"'Bill of Materials'!P297","v":"DWC"},{"$f":"'Bill of Materials'!C297","v":"10394"},{"$f":"'Bill of Materials'!H297","v":"DWF-C263234-005M"},null,null,null,0,{"$f":"'Bill of Materials'!J297","v":"standard material"},{"$f":"'Bill of Materials'!K297","v":"physical"},0]
[{"$f":"'Bill of Materials'!E298+'Bill of Materials'!F298","v":0},{"$f":"'Bill of Materials'!M298","v":"EA"},{"$f":"'Bill of Materials'!G298","v":"LC/LC, Singlemode (9/125), HD Fiber Patch Cord-LC Uniboots-Polarity Reversable, Corning Ultra Bend, (2) Fiber-2.0/2.4 dia. Round, Plenum, Yellow, Length/Meters 006"},{"$f":"'Bill of Materials'!L298","v":"DWC"},{"$f":"'Bill of Materials'!N298","v":44.3},{"$f":"'Bill of Materials'!P298","v":"DWC"},{"$f":"'Bill of Materials'!C298","v":"10395"},{"$f":"'Bill of Materials'!H298","v":"DWF-C263234-006M"},null,null,null,0,{"$f":"'Bill of Materials'!J298","v":"standard material"},{"$f":"'Bill of Materials'!K298","v":"physical"},0]
[{"$f":"'Bill of Materials'!E299+'Bill of Materials'!F299","v":0},{"$f":"'Bill of Materials'!M299","v":"EA"},{"$f":"'Bill of Materials'!G299","v":"LC/LC, Singlemode (9/125), HD Fiber Patch Cord-LC Uniboots-Polarity Reversable, Corning Ultra Bend, (2) Fiber-2.0/2.4 dia. Round, Plenum, Yellow, Length/Meters 007"},{"$f":"'Bill of Materials'!L299","v":"DWC"},{"$f":"'Bill of Materials'!N299","v":46},{"$f":"'Bill of Materials'!P299","v":"DWC"},{"$f":"'Bill of Materials'!C299","v":"10396"},{"$f":"'Bill of Materials'!H299","v":"DWF-C263234-007M"},null,null,null,0,{"$f":"'Bill of Materials'!J299","v":"standard material"},{"$f":"'Bill of Materials'!K299","v":"physical"},0]
[{"$f":"'Bill of Materials'!E300+'Bill of Materials'!F300","v":0},{"$f":"'Bill of Materials'!M300","v":"EA"},{"$f":"'Bill of Materials'!G300","v":"LC/LC, Singlemode (9/125), HD Fiber Patch Cord-LC Uniboots-Polarity Reversable, Corning Ultra Bend, (2) Fiber-2.0/2.4 dia. Round, Plenum, Yellow, Length/Meters 008"},{"$f":"'Bill of Materials'!L300","v":"DWC"},{"$f":"'Bill of Materials'!N300","v":47.75},{"$f":"'Bill of Materials'!P300","v":"DWC"},{"$f":"'Bill of Materials'!C300","v":"10397"},{"$f":"'Bill of Materials'!H300","v":"DWF-C263234-008M"},null,null,null,0,{"$f":"'Bill of Materials'!J300","v":"standard material"},{"$f":"'Bill of Materials'!K300","v":"physical"},0]
[{"$f":"'Bill of Materials'!E301+'Bill of Materials'!F301","v":0},{"$f":"'Bill of Materials'!M301","v":"EA"},{"$f":"'Bill of Materials'!G301","v":"LC/LC, Singlemode (9/125), HD Fiber Patch Cord-LC Uniboots-Polarity Reversable, Corning Ultra Bend, (2) Fiber-2.0/2.4 dia. Round, Plenum, Yellow, Length/Meters 009"},{"$f":"'Bill of Materials'!L301","v":"DWC"},{"$f":"'Bill of Materials'!N301","v":49.45},{"$f":"'Bill of Materials'!P301","v":"DWC"},{"$f":"'Bill of Materials'!C301","v":"10398"},{"$f":"'Bill of Materials'!H301","v":"DWF-C263234-009M"},null,null,null,0,{"$f":"'Bill of Materials'!J301","v":"standard material"},{"$f":"'Bill of Materials'!K301","v":"physical"},0]
[{"$f":"'Bill of Materials'!E302+'Bill of Materials'!F302","v":0},{"$f":"'Bill of Materials'!M302","v":"EA"},{"$f":"'Bill of Materials'!G302","v":"LC/LC, Singlemode (9/125), HD Fiber Patch Cord-LC Uniboots-Polarity Reversable, Corning Ultra Bend, (2) Fiber-2.0/2.4 dia. Round, Plenum, Yellow, Length/Meters 010"},{"$f":"'Bill of Materials'!L302","v":"DWC"},{"$f":"'Bill of Materials'!N302","v":51.2},{"$f":"'Bill of Materials'!P302","v":"DWC"},{"$f":"'Bill of Materials'!C302","v":"10399"},{"$f":"'Bill of Materials'!H302","v":"DWF-C263234-010M"},null,null,null,0,{"$f":"'Bill of Materials'!J302","v":"standard material"},{"$f":"'Bill of Materials'!K302","v":"physical"},0]
[{"$f":"'Bill of Materials'!E303+'Bill of Materials'!F303","v":0},{"$f":"'Bill of Materials'!M303","v":"EA"},{"$f":"'Bill of Materials'!G303","v":"LC/LC, Singlemode (9/125), HD Fiber Patch Cord-LC Uniboots-Polarity Reversable, Corning Ultra Bend, (2) Fiber-2.0/2.4 dia. Round, Plenum, Yellow, Length/Meters 011"},{"$f":"'Bill of Materials'!L303","v":"DWC"},{"$f":"'Bill of Materials'!N303","v":52.9},{"$f":"'Bill of Materials'!P303","v":"DWC"},{"$f":"'Bill of Materials'!C303","v":"10400"},{"$f":"'Bill of Materials'!H303","v":"DWF-C263234-011M"},null,null,null,0,{"$f":"'Bill of Materials'!J303","v":"standard material"},{"$f":"'Bill of Materials'!K303","v":"physical"},0]
[{"$f":"'Bill of Materials'!E304+'Bill of Materials'!F304","v":0},{"$f":"'Bill of Materials'!M304","v":"EA"},{"$f":"'Bill of Materials'!G304","v":"LC/LC, Singlemode (9/125), HD Fiber Patch Cord-LC Uniboots-Polarity Reversable, Corning Ultra Bend, (2) Fiber-2.0/2.4 dia. Round, Plenum, Yellow, Length/Meters 012"},{"$f":"'Bill of Materials'!L304","v":"DWC"},{"$f":"'Bill of Materials'!N304","v":54.6},{"$f":"'Bill of Materials'!P304","v":"DWC"},{"$f":"'Bill of Materials'!C304","v":"10401"},{"$f":"'Bill of Materials'!H304","v":"DWF-C263234-012M"},null,null,null,0,{"$f":"'Bill of Materials'!J304","v":"standard material"},{"$f":"'Bill of Materials'!K304","v":"physical"},0]
[{"$f":"'Bill of Materials'!E305+'Bill of Materials'!F305","v":0},{"$f":"'Bill of Materials'!M305","v":"EA"},{"$f":"'Bill of Materials'!G305","v":"LC/LC, Singlemode (9/125), HD Fiber Patch Cord-LC Uniboots-Polarity Reversable, Corning Ultra Bend, (2) Fiber-2.0/2.4 dia. Round, Plenum, Yellow, Length/Meters 013"},{"$f":"'Bill of Materials'!L305","v":"DWC"},{"$f":"'Bill of Materials'!N305","v":56.35},{"$f":"'Bill of Materials'!P305","v":"DWC"},{"$f":"'Bill of Materials'!C305","v":"10402"},{"$f":"'Bill of Materials'!H305","v":"DWF-C263234-013M"},null,null,null,0,{"$f":"'Bill of Materials'!J305","v":"standard material"},{"$f":"'Bill of Materials'!K305","v":"physical"},0]
[{"$f":"'Bill of Materials'!E306+'Bill of Materials'!F306","v":0},{"$f":"'Bill of Materials'!M306","v":"EA"},{"$f":"'Bill of Materials'!G306","v":"LC/LC, Singlemode (9/125), HD Fiber Patch Cord-LC Uniboots-Polarity Reversable, Corning Ultra Bend, (2) Fiber-2.0/2.4 dia. Round, Plenum, Yellow, Length/Meters 014"},{"$f":"'Bill of Materials'!L306","v":"DWC"},{"$f":"'Bill of Materials'!N306","v":58.05},{"$f":"'Bill of Materials'!P306","v":"DWC"},{"$f":"'Bill of Materials'!C306","v":"10403"},{"$f":"'Bill of Materials'!H306","v":"DWF-C263234-014M"},null,null,null,0,{"$f":"'Bill of Materials'!J306","v":"standard material"},{"$f":"'Bill of Materials'!K306","v":"physical"},0]
[{"$f":"'Bill of Materials'!E307+'Bill of Materials'!F307","v":0},{"$f":"'Bill of Materials'!M307","v":"EA"},{"$f":"'Bill of Materials'!G307","v":"LC/LC, Singlemode (9/125), HD Fiber Patch Cord-LC Uniboots-Polarity Reversable, Corning Ultra Bend, (2) Fiber-2.0/2.4 dia. Round, Plenum, Yellow, Length/Meters 015"},{"$f":"'Bill of Materials'!L307","v":"DWC"},{"$f":"'Bill of Materials'!N307","v":59.8},{"$f":"'Bill of Materials'!P307","v":"DWC"},{"$f":"'Bill of Materials'!C307","v":"10404"},{"$f":"'Bill of Materials'!H307","v":"DWF-C263234-015M"},null,null,null,0,{"$f":"'Bill of Materials'!J307","v":"standard material"},{"$f":"'Bill of Materials'!K307","v":"physical"},0]
[{"$f":"'Bill of Materials'!E308+'Bill of Materials'!F308","v":0},{"$f":"'Bill of Materials'!M308","v":"EA"},{"$f":"'Bill of Materials'!G308","v":"LC/LC, Singlemode (9/125), HD Fiber Patch Cord-LC Uniboots-Polarity Reversable, Corning Ultra Bend, (2) Fiber-2.0/2.4 dia. Round, Plenum, Yellow, Length/Meters 016"},{"$f":"'Bill of Materials'!L308","v":"DWC"},{"$f":"'Bill of Materials'!N308","v":61.5},{"$f":"'Bill of Materials'!P308","v":"DWC"},{"$f":"'Bill of Materials'!C308","v":"10405"},{"$f":"'Bill of Materials'!H308","v":"DWF-C263234-016M"},null,null,null,0,{"$f":"'Bill of Materials'!J308","v":"standard material"},{"$f":"'Bill of Materials'!K308","v":"physical"},0]
[{"$f":"'Bill of Materials'!E309+'Bill of Materials'!F309","v":0},{"$f":"'Bill of Materials'!M309","v":"EA"},{"$f":"'Bill of Materials'!G309","v":"LC/LC, Singlemode (9/125), HD Fiber Patch Cord-LC Uniboots-Polarity Reversable, Corning Ultra Bend, (2) Fiber-2.0/2.4 dia. Round, Plenum, Yellow, Length/Meters 017"},{"$f":"'Bill of Materials'!L309","v":"DWC"},{"$f":"'Bill of Materials'!N309","v":63.2},{"$f":"'Bill of Materials'!P309","v":"DWC"},{"$f":"'Bill of Materials'!C309","v":"10406"},{"$f":"'Bill of Materials'!H309","v":"DWF-C263234-017M"},null,null,null,0,{"$f":"'Bill of Materials'!J309","v":"standard material"},{"$f":"'Bill of Materials'!K309","v":"physical"},0]
[{"$f":"'Bill of Materials'!E310+'Bill of Materials'!F310","v":0},{"$f":"'Bill of Materials'!M310","v":"EA"},{"$f":"'Bill of Materials'!G310","v":"LC/LC, Singlemode (9/125), HD Fiber Patch Cord-LC Uniboots-Polarity Reversable, Corning Ultra Bend, (2) Fiber-2.0/2.4 dia. Round, Plenum, Yellow, Length/Meters 018"},{"$f":"'Bill of Materials'!L310","v":"DWC"},{"$f":"'Bill of Materials'!N310","v":64.95},{"$f":"'Bill of Materials'!P310","v":"DWC"},{"$f":"'Bill of Materials'!C310","v":"10407"},{"$f":"'Bill of Materials'!H310","v":"DWF-C263234-018M"},null,null,null,0,{"$f":"'Bill of Materials'!J310","v":"standard material"},{"$f":"'Bill of Materials'!K310","v":"physical"},0]
[{"$f":"'Bill of Materials'!E311+'Bill of Materials'!F311","v":0},{"$f":"'Bill of Materials'!M311","v":"EA"},{"$f":"'Bill of Materials'!G311","v":"LC/LC, Singlemode (9/125), HD Fiber Patch Cord-LC Uniboots-Polarity Reversable, Corning Ultra Bend, (2) Fiber-2.0/2.4 dia. Round, Plenum, Yellow, Length/Meters 019"},{"$f":"'Bill of Materials'!L311","v":"DWC"},{"$f":"'Bill of Materials'!N311","v":66.650000000000006},{"$f":"'Bill of Materials'!P311","v":"DWC"},{"$f":"'Bill of Materials'!C311","v":"10408"},{"$f":"'Bill of Materials'!H311","v":"DWF-C263234-019M"},null,null,null,0,{"$f":"'Bill of Materials'!J311","v":"standard material"},{"$f":"'Bill of Materials'!K311","v":"physical"},0]
[{"$f":"'Bill of Materials'!E312+'Bill of Materials'!F312","v":0},{"$f":"'Bill of Materials'!M312","v":"EA"},{"$f":"'Bill of Materials'!G312","v":"LC/LC, Singlemode (9/125), HD Fiber Patch Cord-LC Uniboots-Polarity Reversable, Corning Ultra Bend, (2) Fiber-2.0/2.4 dia. Round, Plenum, Yellow, Length/Meters 020"},{"$f":"'Bill of Materials'!L312","v":"DWC"},{"$f":"'Bill of Materials'!N312","v":68.400000000000006},{"$f":"'Bill of Materials'!P312","v":"DWC"},{"$f":"'Bill of Materials'!C312","v":"10409"},{"$f":"'Bill of Materials'!H312","v":"DWF-C263234-020M"},null,null,null,0,{"$f":"'Bill of Materials'!J312","v":"standard material"},{"$f":"'Bill of Materials'!K312","v":"physical"},0]
[{"$f":"'Bill of Materials'!E313+'Bill of Materials'!F313","v":0},{"$f":"'Bill of Materials'!M313","v":"EA"},{"$f":"'Bill of Materials'!G313","v":"LC/SC, Singlemode (9/125), HD Fiber Patch Cord-LC Uniboot-Polarity Reversable, SC Uniboot-Polarity Fixed, Corning Ultra Bend, (2) Fiber-2.0/2.4 dia. Round, Plenum, Yellow, Length/Meters 001"},{"$f":"'Bill of Materials'!L313","v":"DWC"},{"$f":"'Bill of Materials'!N313","v":45.2},{"$f":"'Bill of Materials'!P313","v":"DWC"},{"$f":"'Bill of Materials'!C313","v":"10410"},{"$f":"'Bill of Materials'!H313","v":"DWF-C263235-001M"},null,null,null,{"$f":"E332*A332","v":0},{"$f":"'Bill of Materials'!J313","v":"standard material"},{"$f":"'Bill of Materials'!K313","v":"physical"},{"$f":"IF(A332>0,1,0)","v":0}]
[{"$f":"'Bill of Materials'!E314+'Bill of Materials'!F314","v":0},{"$f":"'Bill of Materials'!M314","v":"EA"},{"$f":"'Bill of Materials'!G314","v":"LC/SC, Singlemode (9/125), HD Fiber Patch Cord-LC Uniboot-Polarity Reversable, SC Uniboot-Polarity Fixed, Corning Ultra Bend, (2) Fiber-2.0/2.4 dia. Round, Plenum, Yellow, Length/Meters 002"},{"$f":"'Bill of Materials'!L314","v":"DWC"},{"$f":"'Bill of Materials'!N314","v":45.95},{"$f":"'Bill of Materials'!P314","v":"DWC"},{"$f":"'Bill of Materials'!C314","v":"10411"},{"$f":"'Bill of Materials'!H314","v":"DWF-C263235-002M"},null,null,null,0,{"$f":"'Bill of Materials'!J314","v":"standard material"},{"$f":"'Bill of Materials'!K314","v":"physical"},0]
[{"$f":"'Bill of Materials'!E315+'Bill of Materials'!F315","v":0},{"$f":"'Bill of Materials'!M315","v":"EA"},{"$f":"'Bill of Materials'!G315","v":"LC/SC, Singlemode (9/125), HD Fiber Patch Cord-LC Uniboot-Polarity Reversable, SC Uniboot-Polarity Fixed, Corning Ultra Bend, (2) Fiber-2.0/2.4 dia. Round, Plenum, Yellow, Length/Meters 003"},{"$f":"'Bill of Materials'!L315","v":"DWC"},{"$f":"'Bill of Materials'!N315","v":46.6},{"$f":"'Bill of Materials'!P315","v":"DWC"},{"$f":"'Bill of Materials'!C315","v":"10412"},{"$f":"'Bill of Materials'!H315","v":"DWF-C263235-003M"},null,null,null,0,{"$f":"'Bill of Materials'!J315","v":"standard material"},{"$f":"'Bill of Materials'!K315","v":"physical"},0]
[{"$f":"'Bill of Materials'!E316+'Bill of Materials'!F316","v":0},{"$f":"'Bill of Materials'!M316","v":"EA"},{"$f":"'Bill of Materials'!G316","v":"LC/SC, Singlemode (9/125), HD Fiber Patch Cord-LC Uniboot-Polarity Reversable, SC Uniboot-Polarity Fixed, Corning Ultra Bend, (2) Fiber-2.0/2.4 dia. Round, Plenum, Yellow, Length/Meters 004"},{"$f":"'Bill of Materials'!L316","v":"DWC"},{"$f":"'Bill of Materials'!N316","v":47.35},{"$f":"'Bill of Materials'!P316","v":"DWC"},{"$f":"'Bill of Materials'!C316","v":"10413"},{"$f":"'Bill of Materials'!H316","v":"DWF-C263235-004M"},null,null,null,0,{"$f":"'Bill of Materials'!J316","v":"standard material"},{"$f":"'Bill of Materials'!K316","v":"physical"},0]
[{"$f":"'Bill of Materials'!E317+'Bill of Materials'!F317","v":0},{"$f":"'Bill of Materials'!M317","v":"EA"},{"$f":"'Bill of Materials'!G317","v":"LC/SC, Singlemode (9/125), HD Fiber Patch Cord-LC Uniboot-Polarity Reversable, SC Uniboot-Polarity Fixed, Corning Ultra Bend, (2) Fiber-2.0/2.4 dia. Round, Plenum, Yellow, Length/Meters 005"},{"$f":"'Bill of Materials'!L317","v":"DWC"},{"$f":"'Bill of Materials'!N317","v":48},{"$f":"'Bill of Materials'!P317","v":"DWC"},{"$f":"'Bill of Materials'!C317","v":"10414"},{"$f":"'Bill of Materials'!H317","v":"DWF-C263235-005M"},null,null,null,0,{"$f":"'Bill of Materials'!J317","v":"standard material"},{"$f":"'Bill of Materials'!K317","v":"physical"},0]
[{"$f":"'Bill of Materials'!E318+'Bill of Materials'!F318","v":0},{"$f":"'Bill of Materials'!M318","v":"EA"},{"$f":"'Bill of Materials'!G318","v":"LC/SC, Singlemode (9/125), HD Fiber Patch Cord-LC Uniboot-Polarity Reversable, SC Uniboot-Polarity Fixed, Corning Ultra Bend, (2) Fiber-2.0/2.4 dia. Round, Plenum, Yellow, Length/Meters 006\t"},{"$f":"'Bill of Materials'!L318","v":"DWC"},{"$f":"'Bill of Materials'!N318","v":49.7},{"$f":"'Bill of Materials'!P318","v":"DWC"},{"$f":"'Bill of Materials'!C318","v":"10415"},{"$f":"'Bill of Materials'!H318","v":"DWF-C263235-006M"},null,null,null,0,{"$f":"'Bill of Materials'!J318","v":"standard material"},{"$f":"'Bill of Materials'!K318","v":"physical"},0]
[{"$f":"'Bill of Materials'!E319+'Bill of Materials'!F319","v":0},{"$f":"'Bill of Materials'!M319","v":"EA"},{"$f":"'Bill of Materials'!G319","v":"LC/SC, Singlemode (9/125), HD Fiber Patch Cord-LC Uniboot-Polarity Reversable, SC Uniboot-Polarity Fixed, Corning Ultra Bend, (2) Fiber-2.0/2.4 dia. Round, Plenum, Yellow, Length/Meters 007"},{"$f":"'Bill of Materials'!L319","v":"DWC"},{"$f":"'Bill of Materials'!N319","v":51.45},{"$f":"'Bill of Materials'!P319","v":"DWC"},{"$f":"'Bill of Materials'!C319","v":"10416"},{"$f":"'Bill of Materials'!H319","v":"DWF-C263235-007M"},null,null,null,0,{"$f":"'Bill of Materials'!J319","v":"standard material"},{"$f":"'Bill of Materials'!K319","v":"physical"},0]
[{"$f":"'Bill of Materials'!E320+'Bill of Materials'!F320","v":0},{"$f":"'Bill of Materials'!M320","v":"EA"},{"$f":"'Bill of Materials'!G320","v":"LC/SC, Singlemode (9/125), HD Fiber Patch Cord-LC Uniboot-Polarity Reversable, SC Uniboot-Polarity Fixed, Corning Ultra Bend, (2) Fiber-2.0/2.4 dia. Round, Plenum, Yellow, Length/Meters 008"},{"$f":"'Bill of Materials'!L320","v":"DWC"},{"$f":"'Bill of Materials'!N320","v":53.15},{"$f":"'Bill of Materials'!P320","v":"DWC"},{"$f":"'Bill of Materials'!C320","v":"10417"},{"$f":"'Bill of Materials'!H320","v":"DWF-C263235-008M"},null,null,null,0,{"$f":"'Bill of Materials'!J320","v":"standard material"},{"$f":"'Bill of Materials'!K320","v":"physical"},0]
[{"$f":"'Bill of Materials'!E321+'Bill of Materials'!F321","v":0},{"$f":"'Bill of Materials'!M321","v":"EA"},{"$f":"'Bill of Materials'!G321","v":"LC/SC, Singlemode (9/125), HD Fiber Patch Cord-LC Uniboot-Polarity Reversable, SC Uniboot-Polarity Fixed, Corning Ultra Bend, (2) Fiber-2.0/2.4 dia. Round, Plenum, Yellow, Length/Meters 009"},{"$f":"'Bill of Materials'!L321","v":"DWC"},{"$f":"'Bill of Materials'!N321","v":54.9},{"$f":"'Bill of Materials'!P321","v":"DWC"},{"$f":"'Bill of Materials'!C321","v":"10418"},{"$f":"'Bill of Materials'!H321","v":"DWF-C263235-009M"},null,null,null,0,{"$f":"'Bill of Materials'!J321","v":"standard material"},{"$f":"'Bill of Materials'!K321","v":"physical"},0]
[{"$f":"'Bill of Materials'!E322+'Bill of Materials'!F322","v":0},{"$f":"'Bill of Materials'!M322","v":"EA"},{"$f":"'Bill of Materials'!G322","v":"LC/SC, Singlemode (9/125), HD Fiber Patch Cord-LC Uniboot-Polarity Reversable, SC Uniboot-Polarity Fixed, Corning Ultra Bend, (2) Fiber-2.0/2.4 dia. Round, Plenum, Yellow, Length/Meters 010"},{"$f":"'Bill of Materials'!L322","v":"DWC"},{"$f":"'Bill of Materials'!N322","v":56.6},{"$f":"'Bill of Materials'!P322","v":"DWC"},{"$f":"'Bill of Materials'!C322","v":"10419"},{"$f":"'Bill of Materials'!H322","v":"DWF-C263235-010M"},null,null,null,0,{"$f":"'Bill of Materials'!J322","v":"standard material"},{"$f":"'Bill of Materials'!K322","v":"physical"},0]
[{"$f":"'Bill of Materials'!E323+'Bill of Materials'!F323","v":0},{"$f":"'Bill of Materials'!M323","v":"EA"},{"$f":"'Bill of Materials'!G323","v":"LC/SC, Singlemode (9/125), HD Fiber Patch Cord-LC Uniboot-Polarity Reversable, SC Uniboot-Polarity Fixed, Corning Ultra Bend, (2) Fiber-2.0/2.4 dia. Round, Plenum, Yellow, Length/Meters 011"},{"$f":"'Bill of Materials'!L323","v":"DWC"},{"$f":"'Bill of Materials'!N323","v":58.3},{"$f":"'Bill of Materials'!P323","v":"DWC"},{"$f":"'Bill of Materials'!C323","v":"10420"},{"$f":"'Bill of Materials'!H323","v":"DWF-C263235-011M"},null,null,null,0,{"$f":"'Bill of Materials'!J323","v":"standard material"},{"$f":"'Bill of Materials'!K323","v":"physical"},0]
[{"$f":"'Bill of Materials'!E324+'Bill of Materials'!F324","v":0},{"$f":"'Bill of Materials'!M324","v":"EA"},{"$f":"'Bill of Materials'!G324","v":"LC/SC, Singlemode (9/125), HD Fiber Patch Cord-LC Uniboot-Polarity Reversable, SC Uniboot-Polarity Fixed, Corning Ultra Bend, (2) Fiber-2.0/2.4 dia. Round, Plenum, Yellow, Length/Meters 012"},{"$f":"'Bill of Materials'!L324","v":"DWC"},{"$f":"'Bill of Materials'!N324","v":60.05},{"$f":"'Bill of Materials'!P324","v":"DWC"},{"$f":"'Bill of Materials'!C324","v":"10421"},{"$f":"'Bill of Materials'!H324","v":"DWF-C263235-012M"},null,null,null,0,{"$f":"'Bill of Materials'!J324","v":"standard material"},{"$f":"'Bill of Materials'!K324","v":"physical"},0]
[{"$f":"'Bill of Materials'!E325+'Bill of Materials'!F325","v":0},{"$f":"'Bill of Materials'!M325","v":"EA"},{"$f":"'Bill of Materials'!G325","v":"LC/SC, Singlemode (9/125), HD Fiber Patch Cord-LC Uniboot-Polarity Reversable, SC Uniboot-Polarity Fixed, Corning Ultra Bend, (2) Fiber-2.0/2.4 dia. Round, Plenum, Yellow, Length/Meters 013"},{"$f":"'Bill of Materials'!L325","v":"DWC"},{"$f":"'Bill of Materials'!N325","v":61.75},{"$f":"'Bill of Materials'!P325","v":"DWC"},{"$f":"'Bill of Materials'!C325","v":"10422"},{"$f":"'Bill of Materials'!H325","v":"DWF-C263235-013M"},null,null,null,0,{"$f":"'Bill of Materials'!J325","v":"standard material"},{"$f":"'Bill of Materials'!K325","v":"physical"},0]
[{"$f":"'Bill of Materials'!E326+'Bill of Materials'!F326","v":0},{"$f":"'Bill of Materials'!M326","v":"EA"},{"$f":"'Bill of Materials'!G326","v":"LC/SC, Singlemode (9/125), HD Fiber Patch Cord-LC Uniboot-Polarity Reversable, SC Uniboot-Polarity Fixed, Corning Ultra Bend, (2) Fiber-2.0/2.4 dia. Round, Plenum, Yellow, Length/Meters 014"},{"$f":"'Bill of Materials'!L326","v":"DWC"},{"$f":"'Bill of Materials'!N326","v":63.5},{"$f":"'Bill of Materials'!P326","v":"DWC"},{"$f":"'Bill of Materials'!C326","v":"10423"},{"$f":"'Bill of Materials'!H326","v":"DWF-C263235-014M"},null,null,null,0,{"$f":"'Bill of Materials'!J326","v":"standard material"},{"$f":"'Bill of Materials'!K326","v":"physical"},0]
[{"$f":"'Bill of Materials'!E327+'Bill of Materials'!F327","v":0},{"$f":"'Bill of Materials'!M327","v":"EA"},{"$f":"'Bill of Materials'!G327","v":"LC/SC, Singlemode (9/125), HD Fiber Patch Cord-LC Uniboot-Polarity Reversable, SC Uniboot-Polarity Fixed, Corning Ultra Bend, (2) Fiber-2.0/2.4 dia. Round, Plenum, Yellow, Length/Meters 015"},{"$f":"'Bill of Materials'!L327","v":"DWC"},{"$f":"'Bill of Materials'!N327","v":65.2},{"$f":"'Bill of Materials'!P327","v":"DWC"},{"$f":"'Bill of Materials'!C327","v":"10424"},{"$f":"'Bill of Materials'!H327","v":"DWF-C263235-015M"},null,null,null,0,{"$f":"'Bill of Materials'!J327","v":"standard material"},{"$f":"'Bill of Materials'!K327","v":"physical"},0]
[{"$f":"'Bill of Materials'!E328+'Bill of Materials'!F328","v":0},{"$f":"'Bill of Materials'!M328","v":"EA"},{"$f":"'Bill of Materials'!G328","v":"LC/SC, Singlemode (9/125), HD Fiber Patch Cord-LC Uniboot-Polarity Reversable, SC Uniboot-Polarity Fixed, Corning Ultra Bend, (2) Fiber-2.0/2.4 dia. Round, Plenum, Yellow, Length/Meters 016"},{"$f":"'Bill of Materials'!L328","v":"DWC"},{"$f":"'Bill of Materials'!N328","v":66.900000000000006},{"$f":"'Bill of Materials'!P328","v":"DWC"},{"$f":"'Bill of Materials'!C328","v":"10425"},{"$f":"'Bill of Materials'!H328","v":"DWF-C263235-016M"},null,null,null,0,{"$f":"'Bill of Materials'!J328","v":"standard material"},{"$f":"'Bill of Materials'!K328","v":"physical"},0]
[{"$f":"'Bill of Materials'!E329+'Bill of Materials'!F329","v":0},{"$f":"'Bill of Materials'!M329","v":"EA"},{"$f":"'Bill of Materials'!G329","v":"LC/SC, Singlemode (9/125), HD Fiber Patch Cord-LC Uniboot-Polarity Reversable, SC Uniboot-Polarity Fixed, Corning Ultra Bend, (2) Fiber-2.0/2.4 dia. Round, Plenum, Yellow, Length/Meters 017"},{"$f":"'Bill of Materials'!L329","v":"DWC"},{"$f":"'Bill of Materials'!N329","v":68.650000000000006},{"$f":"'Bill of Materials'!P329","v":"DWC"},{"$f":"'Bill of Materials'!C329","v":"10426"},{"$f":"'Bill of Materials'!H329","v":"DWF-C263235-017M"},null,null,null,0,{"$f":"'Bill of Materials'!J329","v":"standard material"},{"$f":"'Bill of Materials'!K329","v":"physical"},0]
[{"$f":"'Bill of Materials'!E330+'Bill of Materials'!F330","v":0},{"$f":"'Bill of Materials'!M330","v":"EA"},{"$f":"'Bill of Materials'!G330","v":"LC/SC, Singlemode (9/125), HD Fiber Patch Cord-LC Uniboot-Polarity Reversable, SC Uniboot-Polarity Fixed, Corning Ultra Bend, (2) Fiber-2.0/2.4 dia. Round, Plenum, Yellow, Length/Meters 018"},{"$f":"'Bill of Materials'!L330","v":"DWC"},{"$f":"'Bill of Materials'!N330","v":70.349999999999994},{"$f":"'Bill of Materials'!P330","v":"DWC"},{"$f":"'Bill of Materials'!C330","v":"10427"},{"$f":"'Bill of Materials'!H330","v":"DWF-C263235-018M"},null,null,null,0,{"$f":"'Bill of Materials'!J330","v":"standard material"},{"$f":"'Bill of Materials'!K330","v":"physical"},0]
[{"$f":"'Bill of Materials'!E331+'Bill of Materials'!F331","v":0},{"$f":"'Bill of Materials'!M331","v":"EA"},{"$f":"'Bill of Materials'!G331","v":"LC/SC, Singlemode (9/125), HD Fiber Patch Cord-LC Uniboot-Polarity Reversable, SC Uniboot-Polarity Fixed, Corning Ultra Bend, (2) Fiber-2.0/2.4 dia. Round, Plenum, Yellow, Length/Meters 019"},{"$f":"'Bill of Materials'!L331","v":"DWC"},{"$f":"'Bill of Materials'!N331","v":72.099999999999994},{"$f":"'Bill of Materials'!P331","v":"DWC"},{"$f":"'Bill of Materials'!C331","v":"10428"},{"$f":"'Bill of Materials'!H331","v":"DWF-C263235-019M"},null,null,null,0,{"$f":"'Bill of Materials'!J331","v":"standard material"},{"$f":"'Bill of Materials'!K331","v":"physical"},0]
[{"$f":"'Bill of Materials'!E332+'Bill of Materials'!F332","v":0},{"$f":"'Bill of Materials'!M332","v":"EA"},{"$f":"'Bill of Materials'!G332","v":"LC/SC, Singlemode (9/125), HD Fiber Patch Cord-LC Uniboot-Polarity Reversable, SC Uniboot-Polarity Fixed, Corning Ultra Bend, (2) Fiber-2.0/2.4 dia. Round, Plenum, Yellow, Length/Meters 020"},{"$f":"'Bill of Materials'!L332","v":"DWC"},{"$f":"'Bill of Materials'!N332","v":73.8},{"$f":"'Bill of Materials'!P332","v":"DWC"},{"$f":"'Bill of Materials'!C332","v":"10429"},{"$f":"'Bill of Materials'!H332","v":"DWF-C263235-020M"},null,null,null,0,{"$f":"'Bill of Materials'!J332","v":"standard material"},{"$f":"'Bill of Materials'!K332","v":"physical"},0]
[{"$f":"'Bill of Materials'!E333+'Bill of Materials'!F333","v":0},{"$f":"'Bill of Materials'!M333","v":"EA"},{"$f":"'Bill of Materials'!G333","v":"MTRJ/SC, MM Fiber Patch Cord, 62.5/125um. Duplex, 2 Meter"},{"$f":"'Bill of Materials'!L333","v":"DWC"},{"$f":"'Bill of Materials'!N333","v":21.33},{"$f":"'Bill of Materials'!P333","v":"DWC"},{"$f":"'Bill of Materials'!C333","v":"INFO-2492"},{"$f":"'Bill of Materials'!H333","v":"M46988002M"},null,null,null,0,{"$f":"'Bill of Materials'!J333","v":"standard material"},{"$f":"'Bill of Materials'!K333","v":"physical"},0]
[{"$f":"'Bill of Materials'!E334+'Bill of Materials'!F334","v":0},{"$f":"'Bill of Materials'!M334","v":"EA"},{"$f":"'Bill of Materials'!G334","v":"MTRJ/SC, MM Fiber Patch Cord, 62.5/125um. Duplex, 3 Meter"},{"$f":"'Bill of Materials'!L334","v":"DWC"},{"$f":"'Bill of Materials'!N334","v":22.28},{"$f":"'Bill of Materials'!P334","v":"DWC"},{"$f":"'Bill of Materials'!C334","v":"INFO-2493"},{"$f":"'Bill of Materials'!H334","v":"M46988003M"},null,null,null,0,{"$f":"'Bill of Materials'!J334","v":"standard material"},{"$f":"'Bill of Materials'!K334","v":"physical"},0]
[{"$f":"'Bill of Materials'!E335+'Bill of Materials'!F335","v":0},{"$f":"'Bill of Materials'!M335","v":"EA"},{"$f":"'Bill of Materials'!G335","v":"MTRJ/ST, MM Fiber Patch Cord, 62.5/125um. Duplex, 2 Meter"},{"$f":"'Bill of Materials'!L335","v":"DWC"},{"$f":"'Bill of Materials'!N335","v":21.33},{"$f":"'Bill of Materials'!P335","v":"DWC"},{"$f":"'Bill of Materials'!C335","v":"INFO-2494"},{"$f":"'Bill of Materials'!H335","v":"M40369002M"},null,null,null,0,{"$f":"'Bill of Materials'!J335","v":"standard material"},{"$f":"'Bill of Materials'!K335","v":"physical"},0]
[{"$f":"'Bill of Materials'!E336+'Bill of Materials'!F336","v":0},{"$f":"'Bill of Materials'!M336","v":"EA"},{"$f":"'Bill of Materials'!G336","v":"MTRJ/ST, MM Fiber Patch Cord, 62.5/125um. Duplex, 3 Meter"},{"$f":"'Bill of Materials'!L336","v":"DWC"},{"$f":"'Bill of Materials'!N336","v":22.28},{"$f":"'Bill of Materials'!P336","v":"DWC"},{"$f":"'Bill of Materials'!C336","v":"INFO-2495"},{"$f":"'Bill of Materials'!H336","v":"M40369003M"},null,null,null,0,{"$f":"'Bill of Materials'!J336","v":"standard material"},{"$f":"'Bill of Materials'!K336","v":"physical"},0]
[{"$f":"'Bill of Materials'!E337+'Bill of Materials'!F337","v":0},{"$f":"'Bill of Materials'!M337","v":"EA"},{"$f":"'Bill of Materials'!G337","v":"ST/ST, MM Fiber Patch Cord, 62.5/125um, Duplex, 1 Meter"},{"$f":"'Bill of Materials'!L337","v":"AFL"},{"$f":"'Bill of Materials'!N337","v":14.31},{"$f":"'Bill of Materials'!P337","v":"DWC"},{"$f":"'Bill of Materials'!C337","v":"INFO-3201"},{"$f":"'Bill of Materials'!H337","v":"C141076-0001"},null,null,null,0,{"$f":"'Bill of Materials'!J337","v":"standard material"},{"$f":"'Bill of Materials'!K337","v":"physical"},0]
[{"$f":"'Bill of Materials'!E338+'Bill of Materials'!F338","v":0},{"$f":"'Bill of Materials'!M338","v":"EA"},{"$f":"'Bill of Materials'!G338","v":"ST/ST, MM Fiber Patch Cord, 62.5/125um, Duplex, 2 Meter"},{"$f":"'Bill of Materials'!L338","v":"AFL"},{"$f":"'Bill of Materials'!N338","v":15},{"$f":"'Bill of Materials'!P338","v":"DWC"},{"$f":"'Bill of Materials'!C338","v":"INFO-3202"},{"$f":"'Bill of Materials'!H338","v":"C141076-0002"},null,null,null,0,{"$f":"'Bill of Materials'!J338","v":"standard material"},{"$f":"'Bill of Materials'!K338","v":"physical"},0]
[{"$f":"'Bill of Materials'!E339+'Bill of Materials'!F339","v":0},{"$f":"'Bill of Materials'!M339","v":"EA"},{"$f":"'Bill of Materials'!G339","v":"ST/ST, MM Fiber Patch Cord, 62.5/125um, Duplex, 3 Meter"},{"$f":"'Bill of Materials'!L339","v":"AFL"},{"$f":"'Bill of Materials'!N339","v":15.69},{"$f":"'Bill of Materials'!P339","v":"DWC"},{"$f":"'Bill of Materials'!C339","v":"INFO-3203"},{"$f":"'Bill of Materials'!H339","v":"C141076-0003"},null,null,null,0,{"$f":"'Bill of Materials'!J339","v":"standard material"},{"$f":"'Bill of Materials'!K339","v":"physical"},0]
[{"$f":"'Bill of Materials'!E340+'Bill of Materials'!F340","v":0},{"$f":"'Bill of Materials'!M340","v":"EA"},{"$f":"'Bill of Materials'!G340","v":"SC, SM Buildout Attenuator - 2 dB. (-53dB RL)"},{"$f":"'Bill of Materials'!L340","v":"AFL"},{"$f":"'Bill of Materials'!N340","v":27.52},{"$f":"'Bill of Materials'!P340","v":"DWC"},{"$f":"'Bill of Materials'!C340","v":"INFO-3224"},{"$f":"'Bill of Materials'!H340","v":"C092738"},null,null,null,0,{"$f":"'Bill of Materials'!J340","v":"standard material"},{"$f":"'Bill of Materials'!K340","v":"physical"},0]
[{"$f":"'Bill of Materials'!E341+'Bill of Materials'!F341","v":0},{"$f":"'Bill of Materials'!M341","v":"EA"},{"$f":"'Bill of Materials'!G341","v":"SC, SM Buildout Attenuator - 5 dB. (-53dB RL)"},{"$f":"'Bill of Materials'!L341","v":"AFL"},{"$f":"'Bill of Materials'!N341","v":27.52},{"$f":"'Bill of Materials'!P341","v":"DWC"},{"$f":"'Bill of Materials'!C341","v":"INFO-3225"},{"$f":"'Bill of Materials'!H341","v":"C092754"},null,null,null,0,{"$f":"'Bill of Materials'!J341","v":"standard material"},{"$f":"'Bill of Materials'!K341","v":"physical"},0]
[{"$f":"'Bill of Materials'!E342+'Bill of Materials'!F342","v":0},{"$f":"'Bill of Materials'!M342","v":"EA"},{"$f":"'Bill of Materials'!G342","v":"SC/SC, MM Fiber Patch Cord, 62.5/125um, 1 Meter,  w/duplex SC clip"},{"$f":"'Bill of Materials'!L342","v":"AFL"},{"$f":"'Bill of Materials'!N342","v":16.14},{"$f":"'Bill of Materials'!P342","v":"DWC"},{"$f":"'Bill of Materials'!C342","v":"INFO-3256"},{"$f":"'Bill of Materials'!H342","v":"C196301-0001"},null,null,null,0,{"$f":"'Bill of Materials'!J342","v":"standard material"},{"$f":"'Bill of Materials'!K342","v":"physical"},0]
[{"$f":"'Bill of Materials'!E343+'Bill of Materials'!F343","v":0},{"$f":"'Bill of Materials'!M343","v":"EA"},{"$f":"'Bill of Materials'!G343","v":"SC/SC, MM Fiber Patch Cord, 62.5/125um, 2 Meter,  w/duplex SC clip"},{"$f":"'Bill of Materials'!L343","v":"AFL"},{"$f":"'Bill of Materials'!N343","v":16.73},{"$f":"'Bill of Materials'!P343","v":"DWC"},{"$f":"'Bill of Materials'!C343","v":"INFO-3257"},{"$f":"'Bill of Materials'!H343","v":"C196301-0002"},null,null,null,0,{"$f":"'Bill of Materials'!J343","v":"standard material"},{"$f":"'Bill of Materials'!K343","v":"physical"},0]
[{"$f":"'Bill of Materials'!E344+'Bill of Materials'!F344","v":0},{"$f":"'Bill of Materials'!M344","v":"EA"},{"$f":"'Bill of Materials'!G344","v":"SC/SC, MM Fiber Patch Cord, 62.5/125um, 3 Meter,  w/duplex SC clip"},{"$f":"'Bill of Materials'!L344","v":"AFL"},{"$f":"'Bill of Materials'!N344","v":17.29},{"$f":"'Bill of Materials'!P344","v":"DWC"},{"$f":"'Bill of Materials'!C344","v":"INFO-3258"},{"$f":"'Bill of Materials'!H344","v":"C196301-0003"},null,null,null,0,{"$f":"'Bill of Materials'!J344","v":"standard material"},{"$f":"'Bill of Materials'!K344","v":"physical"},0]
[{"$f":"'Bill of Materials'!E345+'Bill of Materials'!F345","v":0},{"$f":"'Bill of Materials'!M345","v":"EA"},{"$f":"'Bill of Materials'!G345","v":"ST/SC, MM Fiber Patch Cord, 62.5/125um, 1 Meter,  w/duplex SC clip"},{"$f":"'Bill of Materials'!L345","v":"AFL"},{"$f":"'Bill of Materials'!N345","v":15.3},{"$f":"'Bill of Materials'!P345","v":"DWC"},{"$f":"'Bill of Materials'!C345","v":"INFO-3259"},{"$f":"'Bill of Materials'!H345","v":"C196306-0001"},null,null,null,0,{"$f":"'Bill of Materials'!J345","v":"standard material"},{"$f":"'Bill of Materials'!K345","v":"physical"},0]
[{"$f":"'Bill of Materials'!E346+'Bill of Materials'!F346","v":0},{"$f":"'Bill of Materials'!M346","v":"EA"},{"$f":"'Bill of Materials'!G346","v":"ST/SC, MM Fiber Patch Cord, 62.5/125um, 2 Meter,  w/duplex SC clip"},{"$f":"'Bill of Materials'!L346","v":"AFL"},{"$f":"'Bill of Materials'!N346","v":15.4},{"$f":"'Bill of Materials'!P346","v":"DWC"},{"$f":"'Bill of Materials'!C346","v":"INFO-3260"},{"$f":"'Bill of Materials'!H346","v":"C196306-0002"},null,null,null,0,{"$f":"'Bill of Materials'!J346","v":"standard material"},{"$f":"'Bill of Materials'!K346","v":"physical"},0]
[{"$f":"'Bill of Materials'!E347+'Bill of Materials'!F347","v":0},{"$f":"'Bill of Materials'!M347","v":"EA"},{"$f":"'Bill of Materials'!G347","v":"ST/SC, MM Fiber Patch Cord, 62.5/125um, 3 Meter,  w/duplex SC clip"},{"$f":"'Bill of Materials'!L347","v":"AFL"},{"$f":"'Bill of Materials'!N347","v":16.7},{"$f":"'Bill of Materials'!P347","v":"DWC"},{"$f":"'Bill of Materials'!C347","v":"INFO-3261"},{"$f":"'Bill of Materials'!H347","v":"C196306-0003"},null,null,null,0,{"$f":"'Bill of Materials'!J347","v":"standard material"},{"$f":"'Bill of Materials'!K347","v":"physical"},0]
[{"$f":"'Bill of Materials'!E348+'Bill of Materials'!F348","v":0},{"$f":"'Bill of Materials'!M348","v":"EA"},{"$f":"'Bill of Materials'!G348","v":"ST/ST, SM Fiber Patch Cord, Duplex, 1 Meter  "},{"$f":"'Bill of Materials'!L348","v":"AFL"},{"$f":"'Bill of Materials'!N348","v":17.29},{"$f":"'Bill of Materials'!P348","v":"DWC"},{"$f":"'Bill of Materials'!C348","v":"INFO-3262"},{"$f":"'Bill of Materials'!H348","v":"C196312-0001"},null,null,null,0,{"$f":"'Bill of Materials'!J348","v":"standard material"},{"$f":"'Bill of Materials'!K348","v":"physical"},0]
[{"$f":"'Bill of Materials'!E349+'Bill of Materials'!F349","v":0},{"$f":"'Bill of Materials'!M349","v":"EA"},{"$f":"'Bill of Materials'!G349","v":"ST/ST, SM Fiber Patch Cord, Duplex, 2 Meter  "},{"$f":"'Bill of Materials'!L349","v":"AFL"},{"$f":"'Bill of Materials'!N349","v":16.760000000000002},{"$f":"'Bill of Materials'!P349","v":"DWC"},{"$f":"'Bill of Materials'!C349","v":"INFO-3263"},{"$f":"'Bill of Materials'!H349","v":"C196312-0002"},null,null,null,0,{"$f":"'Bill of Materials'!J349","v":"standard material"},{"$f":"'Bill of Materials'!K349","v":"physical"},0]
[{"$f":"'Bill of Materials'!E350+'Bill of Materials'!F350","v":0},{"$f":"'Bill of Materials'!M350","v":"EA"},{"$f":"'Bill of Materials'!G350","v":"ST/ST, SM Fiber Patch Cord, Duplex, 3 Meter  "},{"$f":"'Bill of Materials'!L350","v":"AFL"},{"$f":"'Bill of Materials'!N350","v":18.28},{"$f":"'Bill of Materials'!P350","v":"DWC"},{"$f":"'Bill of Materials'!C350","v":"INFO-3264"},{"$f":"'Bill of Materials'!H350","v":"C196312-0003"},null,null,null,0,{"$f":"'Bill of Materials'!J350","v":"standard material"},{"$f":"'Bill of Materials'!K350","v":"physical"},0]
[{"$f":"'Bill of Materials'!E351+'Bill of Materials'!F351","v":0},{"$f":"'Bill of Materials'!M351","v":"EA"},{"$f":"'Bill of Materials'!G351","v":"ST/ST, SM Fiber Patch Cord, Duplex, 6 Meter  "},{"$f":"'Bill of Materials'!L351","v":"AFL"},{"$f":"'Bill of Materials'!N351","v":19.75},{"$f":"'Bill of Materials'!P351","v":"DWC"},{"$f":"'Bill of Materials'!C351","v":"INFO-3265"},{"$f":"'Bill of Materials'!H351","v":"C196312-0006"},null,null,null,0,{"$f":"'Bill of Materials'!J351","v":"standard material"},{"$f":"'Bill of Materials'!K351","v":"physical"},0]
[{"$f":"'Bill of Materials'!E352+'Bill of Materials'!F352","v":0},{"$f":"'Bill of Materials'!M352","v":"EA"},{"$f":"'Bill of Materials'!G352","v":"ST/ST, SM Fiber Patch Cord, Duplex, 10 Meter  "},{"$f":"'Bill of Materials'!L352","v":"AFL"},{"$f":"'Bill of Materials'!N352","v":21.69},{"$f":"'Bill of Materials'!P352","v":"DWC"},{"$f":"'Bill of Materials'!C352","v":"INFO-3266"},{"$f":"'Bill of Materials'!H352","v":"C196312-0010"},null,null,null,0,{"$f":"'Bill of Materials'!J352","v":"standard material"},{"$f":"'Bill of Materials'!K352","v":"physical"},0]
[{"$f":"'Bill of Materials'!E353+'Bill of Materials'!F353","v":0},{"$f":"'Bill of Materials'!M353","v":"EA"},{"$f":"'Bill of Materials'!G353","v":"SC/SC, SM Fiber Patch Cord, Duplex, 1 Meter  "},{"$f":"'Bill of Materials'!L353","v":"AFL"},{"$f":"'Bill of Materials'!N353","v":18.27},{"$f":"'Bill of Materials'!P353","v":"DWC"},{"$f":"'Bill of Materials'!C353","v":"INFO-3267"},{"$f":"'Bill of Materials'!H353","v":"C196081-0001"},null,null,null,0,{"$f":"'Bill of Materials'!J353","v":"standard material"},{"$f":"'Bill of Materials'!K353","v":"physical"},0]
[{"$f":"'Bill of Materials'!E354+'Bill of Materials'!F354","v":0},{"$f":"'Bill of Materials'!M354","v":"EA"},{"$f":"'Bill of Materials'!G354","v":"SC/SC, SM Fiber Patch Cord, Duplex, 2 Meter  "},{"$f":"'Bill of Materials'!L354","v":"AFL"},{"$f":"'Bill of Materials'!N354","v":19.260000000000002},{"$f":"'Bill of Materials'!P354","v":"DWC"},{"$f":"'Bill of Materials'!C354","v":"INFO-3268"},{"$f":"'Bill of Materials'!H354","v":"C196081-0002"},null,null,null,0,{"$f":"'Bill of Materials'!J354","v":"standard material"},{"$f":"'Bill of Materials'!K354","v":"physical"},0]
[{"$f":"'Bill of Materials'!E355+'Bill of Materials'!F355","v":0},{"$f":"'Bill of Materials'!M355","v":"EA"},{"$f":"'Bill of Materials'!G355","v":"SC/SC, SM Fiber Patch Cord, Duplex, 3 Meter  "},{"$f":"'Bill of Materials'!L355","v":"AFL"},{"$f":"'Bill of Materials'!N355","v":19.75},{"$f":"'Bill of Materials'!P355","v":"DWC"},{"$f":"'Bill of Materials'!C355","v":"INFO-3269"},{"$f":"'Bill of Materials'!H355","v":"C196081-0003"},null,null,null,0,{"$f":"'Bill of Materials'!J355","v":"standard material"},{"$f":"'Bill of Materials'!K355","v":"physical"},0]
[{"$f":"'Bill of Materials'!E356+'Bill of Materials'!F356","v":0},{"$f":"'Bill of Materials'!M356","v":"EA"},{"$f":"'Bill of Materials'!G356","v":"SC/SC, SM Fiber Patch Cord, Duplex, 6 Meter  "},{"$f":"'Bill of Materials'!L356","v":"AFL"},{"$f":"'Bill of Materials'!N356","v":21.21},{"$f":"'Bill of Materials'!P356","v":"DWC"},{"$f":"'Bill of Materials'!C356","v":"INFO-3270"},{"$f":"'Bill of Materials'!H356","v":"C196081-0006"},null,null,null,0,{"$f":"'Bill of Materials'!J356","v":"standard material"},{"$f":"'Bill of Materials'!K356","v":"physical"},0]
[{"$f":"'Bill of Materials'!E357+'Bill of Materials'!F357","v":0},{"$f":"'Bill of Materials'!M357","v":"EA"},{"$f":"'Bill of Materials'!G357","v":"SC/SC, SM Fiber Patch Cord, Duplex, 10 Meter  "},{"$f":"'Bill of Materials'!L357","v":"AFL"},{"$f":"'Bill of Materials'!N357","v":23.17},{"$f":"'Bill of Materials'!P357","v":"DWC"},{"$f":"'Bill of Materials'!C357","v":"INFO-3271"},{"$f":"'Bill of Materials'!H357","v":"C196081-0010"},null,null,null,0,{"$f":"'Bill of Materials'!J357","v":"standard material"},{"$f":"'Bill of Materials'!K357","v":"physical"},0]
[{"$f":"'Bill of Materials'!E358+'Bill of Materials'!F358","v":0},{"$f":"'Bill of Materials'!M358","v":"EA"},{"$f":"'Bill of Materials'!G358","v":"SC/ST, SM Fiber Patch Cord, Duplex, 1 Meter  "},{"$f":"'Bill of Materials'!L358","v":"AFL"},{"$f":"'Bill of Materials'!N358","v":18.02},{"$f":"'Bill of Materials'!P358","v":"DWC"},{"$f":"'Bill of Materials'!C358","v":"INFO-3290"},{"$f":"'Bill of Materials'!H358","v":"C196630-0001"},null,null,null,0,{"$f":"'Bill of Materials'!J358","v":"standard material"},{"$f":"'Bill of Materials'!K358","v":"physical"},0]
[{"$f":"'Bill of Materials'!E359+'Bill of Materials'!F359","v":0},{"$f":"'Bill of Materials'!M359","v":"EA"},{"$f":"'Bill of Materials'!G359","v":"SC/ST, SM Fiber Patch Cord, Duplex, 2 Meter  "},{"$f":"'Bill of Materials'!L359","v":"AFL"},{"$f":"'Bill of Materials'!N359","v":16.829999999999998},{"$f":"'Bill of Materials'!P359","v":"DWC"},{"$f":"'Bill of Materials'!C359","v":"INFO-3291"},{"$f":"'Bill of Materials'!H359","v":"C196630-0002"},null,null,null,0,{"$f":"'Bill of Materials'!J359","v":"standard material"},{"$f":"'Bill of Materials'!K359","v":"physical"},0]
[{"$f":"'Bill of Materials'!E360+'Bill of Materials'!F360","v":0},{"$f":"'Bill of Materials'!M360","v":"EA"},{"$f":"'Bill of Materials'!G360","v":"SC/ST, SM Fiber Patch Cord, Duplex, 3 Meter  "},{"$f":"'Bill of Materials'!L360","v":"AFL"},{"$f":"'Bill of Materials'!N360","v":19.010000000000002},{"$f":"'Bill of Materials'!P360","v":"DWC"},{"$f":"'Bill of Materials'!C360","v":"INFO-3292"},{"$f":"'Bill of Materials'!H360","v":"C196630-0003"},null,null,null,0,{"$f":"'Bill of Materials'!J360","v":"standard material"},{"$f":"'Bill of Materials'!K360","v":"physical"},0]
[{"$f":"'Bill of Materials'!E361+'Bill of Materials'!F361","v":0},{"$f":"'Bill of Materials'!M361","v":"EA"},{"$f":"'Bill of Materials'!G361","v":"SC/ST, SM Fiber Patch Cord, Duplex, 6 Meter  "},{"$f":"'Bill of Materials'!L361","v":"AFL"},{"$f":"'Bill of Materials'!N361","v":20.440000000000001},{"$f":"'Bill of Materials'!P361","v":"DWC"},{"$f":"'Bill of Materials'!C361","v":"INFO-3293"},{"$f":"'Bill of Materials'!H361","v":"C196630-0006"},null,null,null,0,{"$f":"'Bill of Materials'!J361","v":"standard material"},{"$f":"'Bill of Materials'!K361","v":"physical"},0]
[{"$f":"'Bill of Materials'!E362+'Bill of Materials'!F362","v":0},{"$f":"'Bill of Materials'!M362","v":"EA"},{"$f":"'Bill of Materials'!G362","v":"SC/ST, SM Fiber Patch Cord, Duplex, 10 Meter  "},{"$f":"'Bill of Materials'!L362","v":"AFL"},{"$f":"'Bill of Materials'!N362","v":22.41},{"$f":"'Bill of Materials'!P362","v":"DWC"},{"$f":"'Bill of Materials'!C362","v":"INFO-3294"},{"$f":"'Bill of Materials'!H362","v":"C196630-0010"},null,null,null,0,{"$f":"'Bill of Materials'!J362","v":"standard material"},{"$f":"'Bill of Materials'!K362","v":"physical"},0]
[{"$f":"'Bill of Materials'!E363+'Bill of Materials'!F363","v":0},{"$f":"'Bill of Materials'!M363","v":"EA"},{"$f":"'Bill of Materials'!G363","v":"SC/SC, MM - Mode Conditioning Patch Cord for Gigabit E'net LX/LH GBIC to 62.5/125um, 2 Meter"},{"$f":"'Bill of Materials'!L363","v":"DWC"},{"$f":"'Bill of Materials'!N363","v":87.32},{"$f":"'Bill of Materials'!P363","v":"DWC"},{"$f":"'Bill of Materials'!C363","v":"INFO-3601"},{"$f":"'Bill of Materials'!H363","v":"MODESCSC002M"},null,null,null,0,{"$f":"'Bill of Materials'!J363","v":"standard material"},{"$f":"'Bill of Materials'!K363","v":"physical"},0]
[{"$f":"'Bill of Materials'!E364+'Bill of Materials'!F364","v":0},{"$f":"'Bill of Materials'!M364","v":"EA"},{"$f":"'Bill of Materials'!G364","v":"SC/SC, MM - Mode Conditioning Patch Cord for Gigabit E'net LX/LH GBIC to 62.5/125um, 3 Meter"},{"$f":"'Bill of Materials'!L364","v":"DWC"},{"$f":"'Bill of Materials'!N364","v":88.41},{"$f":"'Bill of Materials'!P364","v":"DWC"},{"$f":"'Bill of Materials'!C364","v":"INFO-3602"},{"$f":"'Bill of Materials'!H364","v":"MODESCSC003M"},null,null,null,0,{"$f":"'Bill of Materials'!J364","v":"standard material"},{"$f":"'Bill of Materials'!K364","v":"physical"},0]
[{"$f":"'Bill of Materials'!E365+'Bill of Materials'!F365","v":0},{"$f":"'Bill of Materials'!M365","v":"EA"},{"$f":"'Bill of Materials'!G365","v":"SC/SC, MM - Mode Conditioning Patch Cord for Gigabit E'net LX/LH GBIC to 62.5/125um, 5 Meter"},{"$f":"'Bill of Materials'!L365","v":"DWC"},{"$f":"'Bill of Materials'!N365","v":99},{"$f":"'Bill of Materials'!P365","v":"DWC"},{"$f":"'Bill of Materials'!C365","v":"INFO-3603"},{"$f":"'Bill of Materials'!H365","v":"MODESCSC005M"},null,null,null,0,{"$f":"'Bill of Materials'!J365","v":"standard material"},{"$f":"'Bill of Materials'!K365","v":"physical"},0]
[{"$f":"'Bill of Materials'!E366+'Bill of Materials'!F366","v":0},{"$f":"'Bill of Materials'!M366","v":"EA"},{"$f":"'Bill of Materials'!G366","v":"SC/ST, MM - Mode Conditioning Patch Cord for Gigabit E'net LX/LH GBIC to 62.5/125um, 2 Meter"},{"$f":"'Bill of Materials'!L366","v":"DWC"},{"$f":"'Bill of Materials'!N366","v":95.54},{"$f":"'Bill of Materials'!P366","v":"DWC"},{"$f":"'Bill of Materials'!C366","v":"INFO-3604"},{"$f":"'Bill of Materials'!H366","v":"MODESCST002M"},null,null,null,0,{"$f":"'Bill of Materials'!J366","v":"standard material"},{"$f":"'Bill of Materials'!K366","v":"physical"},0]
[{"$f":"'Bill of Materials'!E367+'Bill of Materials'!F367","v":0},{"$f":"'Bill of Materials'!M367","v":"EA"},{"$f":"'Bill of Materials'!G367","v":"SC/ST, MM - Mode Conditioning Patch Cord for Gigabit E'net LX/LH GBIC to 62.5/125um, 3 Meter"},{"$f":"'Bill of Materials'!L367","v":"DWC"},{"$f":"'Bill of Materials'!N367","v":96.62},{"$f":"'Bill of Materials'!P367","v":"DWC"},{"$f":"'Bill of Materials'!C367","v":"INFO-3605"},{"$f":"'Bill of Materials'!H367","v":"MODESCST003M"},null,null,null,0,{"$f":"'Bill of Materials'!J367","v":"standard material"},{"$f":"'Bill of Materials'!K367","v":"physical"},0]
[{"$f":"'Bill of Materials'!E368+'Bill of Materials'!F368","v":0},{"$f":"'Bill of Materials'!M368","v":"EA"},{"$f":"'Bill of Materials'!G368","v":"SC/ST, MM - Mode Conditioning Patch Cord for Gigabit E'net LX/LH GBIC to 62.5/125um, 5 Meter"},{"$f":"'Bill of Materials'!L368","v":"DWC"},{"$f":"'Bill of Materials'!N368","v":99},{"$f":"'Bill of Materials'!P368","v":"DWC"},{"$f":"'Bill of Materials'!C368","v":"INFO-3606"},{"$f":"'Bill of Materials'!H368","v":"MODESCST005M"},null,null,null,0,{"$f":"'Bill of Materials'!J368","v":"standard material"},{"$f":"'Bill of Materials'!K368","v":"physical"},0]
[{"$f":"'Bill of Materials'!E369+'Bill of Materials'!F369","v":0},{"$f":"'Bill of Materials'!M369","v":"EA"},{"$f":"'Bill of Materials'!G369","v":"LC/SC, SM Fiber Patch Cord, Duplex, 3 Meter, Riser, No Clips"},{"$f":"'Bill of Materials'!L369","v":"DWC"},{"$f":"'Bill of Materials'!N369","v":19.45},{"$f":"'Bill of Materials'!P369","v":"DWC"},{"$f":"'Bill of Materials'!C369","v":"INFO-8662"},{"$f":"'Bill of Materials'!H369","v":"ULC-USC-R20Z-Q-0003"},null,null,null,0,{"$f":"'Bill of Materials'!J369","v":"standard material"},{"$f":"'Bill of Materials'!K369","v":"physical"},0]
[{"$f":"'Bill of Materials'!E370+'Bill of Materials'!F370","v":0},{"$f":"'Bill of Materials'!M370","v":"EA"},{"$f":"'Bill of Materials'!G370","v":"LC/ ST, MM Fiber Patch Cord, Duplex, 1 Meter, Riser, No Clips"},{"$f":"'Bill of Materials'!L370","v":"DWC"},{"$f":"'Bill of Materials'!N370","v":16.579999999999998},{"$f":"'Bill of Materials'!P370","v":"DWC"},{"$f":"'Bill of Materials'!C370","v":"INFO-8786"},{"$f":"'Bill of Materials'!H370","v":"PLC-PST-R20Z-002-2-0001"},null,null,null,0,{"$f":"'Bill of Materials'!J370","v":"standard material"},{"$f":"'Bill of Materials'!K370","v":"physical"},0]
[{"$f":"'Bill of Materials'!E371+'Bill of Materials'!F371","v":0},{"$f":"'Bill of Materials'!M371","v":"EA"},{"$f":"'Bill of Materials'!G371","v":"LC/ST, MM Fiber Patch Cord, Duplex, 3 Meter, Riser, No Clips"},{"$f":"'Bill of Materials'!L371","v":"DWC"},{"$f":"'Bill of Materials'!N371","v":17.72},{"$f":"'Bill of Materials'!P371","v":"DWC"},{"$f":"'Bill of Materials'!C371","v":"INFO-8787"},{"$f":"'Bill of Materials'!H371","v":"PLC-PST-R20Z-002-2-0003"},null,null,null,0,{"$f":"'Bill of Materials'!J371","v":"standard material"},{"$f":"'Bill of Materials'!K371","v":"physical"},0]
[{"$f":"'Bill of Materials'!E372+'Bill of Materials'!F372","v":0},{"$f":"'Bill of Materials'!M372","v":"EA"},{"$f":"'Bill of Materials'!G372","v":"LC/SC, MM Fiber Patch Cord, 62.5/125um, Duplex, 1 Meter, Riser, No Clips"},{"$f":"'Bill of Materials'!L372","v":"DWC"},{"$f":"'Bill of Materials'!N372","v":16.86},{"$f":"'Bill of Materials'!P372","v":"DWC"},{"$f":"'Bill of Materials'!C372","v":"INFO-8788"},{"$f":"'Bill of Materials'!H372","v":"PLC-PSC-R20Z-002-2-0001"},null,null,null,0,{"$f":"'Bill of Materials'!J372","v":"standard material"},{"$f":"'Bill of Materials'!K372","v":"physical"},0]
[{"$f":"'Bill of Materials'!#REF!+'Bill of Materials'!#REF!","v":{"$error":"#REF!"}},{"$f":"'Bill of Materials'!#REF!","v":{"$error":"#REF!"}},{"$f":"'Bill of Materials'!#REF!","v":{"$error":"#REF!"}},{"$f":"'Bill of Materials'!#REF!","v":{"$error":"#REF!"}},{"$f":"'Bill of Materials'!#REF!","v":{"$error":"#REF!"}},{"$f":"'Bill of Materials'!#REF!","v":{"$error":"#REF!"}},{"$f":"'Bill of Materials'!#REF!","v":{"$error":"#REF!"}},{"$f":"'Bill of Materials'!#REF!","v":{"$error":"#REF!"}},null,null,null,{"$error":"#REF!"},{"$f":"'Bill of Materials'!#REF!","v":{"$error":"#REF!"}},{"$f":"'Bill of Materials'!#REF!","v":{"$error":"#REF!"}},{"$error":"#REF!"}]
[{"$f":"'Bill of Materials'!E373+'Bill of Materials'!F373","v":0},{"$f":"'Bill of Materials'!M373","v":"EA"},{"$f":"'Bill of Materials'!G373","v":"LC/SC, MM Fiber Patch Cord, 62.5/125um, Duplex, 3 Meter, Riser, No Clips"},{"$f":"'Bill of Materials'!L373","v":"DWC"},{"$f":"'Bill of Materials'!N373","v":18.010000000000002},{"$f":"'Bill of Materials'!P373","v":"DWC"},{"$f":"'Bill of Materials'!C373","v":"INFO-8789"},{"$f":"'Bill of Materials'!H373","v":"PLC-PSC-R20Z-002-2-0003"},null,null,null,0,{"$f":"'Bill of Materials'!J373","v":"standard material"},{"$f":"'Bill of Materials'!K373","v":"physical"},0]
[{"$f":"'Bill of Materials'!E374+'Bill of Materials'!F374","v":0},{"$f":"'Bill of Materials'!M374","v":"EA"},{"$f":"'Bill of Materials'!G374","v":"LC/ST, SM Fiber Patch Cord, Duplex, 1 Meter, Riser, No Clips"},{"$f":"'Bill of Materials'!L374","v":"DWC"},{"$f":"'Bill of Materials'!N374","v":18.309999999999999},{"$f":"'Bill of Materials'!P374","v":"DWC"},{"$f":"'Bill of Materials'!C374","v":"INFO-8790"},{"$f":"'Bill of Materials'!H374","v":"ULC-UST-R20Z-002-Q-0001"},null,null,null,0,{"$f":"'Bill of Materials'!J374","v":"standard material"},{"$f":"'Bill of Materials'!K374","v":"physical"},0]
[{"$f":"'Bill of Materials'!E375+'Bill of Materials'!F375","v":0},{"$f":"'Bill of Materials'!M375","v":"EA"},{"$f":"'Bill of Materials'!G375","v":"LC/ST, SM Fiber Patch Cord, Duplex, 3 Meter, Riser, No Clips"},{"$f":"'Bill of Materials'!L375","v":"DWC"},{"$f":"'Bill of Materials'!N375","v":19.45},{"$f":"'Bill of Materials'!P375","v":"DWC"},{"$f":"'Bill of Materials'!C375","v":"INFO-8791"},{"$f":"'Bill of Materials'!H375","v":"ULC-UST-R20Z-002-Q-0003"},null,null,null,0,{"$f":"'Bill of Materials'!J375","v":"standard material"},{"$f":"'Bill of Materials'!K375","v":"physical"},0]
[{"$f":"'Bill of Materials'!E376+'Bill of Materials'!F376","v":0},{"$f":"'Bill of Materials'!M376","v":"EA"},{"$f":"'Bill of Materials'!G376","v":"LC/SC, SM Fiber Patch Cord, Duplex, 1 Meter, Riser, No Clips"},{"$f":"'Bill of Materials'!L376","v":"DWC"},{"$f":"'Bill of Materials'!N376","v":18.309999999999999},{"$f":"'Bill of Materials'!P376","v":"DWC"},{"$f":"'Bill of Materials'!C376","v":"INFO-8792"},{"$f":"'Bill of Materials'!H376","v":"ULC-USC-R20Z-002-Q-0001"},null,null,null,{"$f":"E396*A396","v":0},{"$f":"'Bill of Materials'!J376","v":"standard material"},{"$f":"'Bill of Materials'!K376","v":"physical"},{"$f":"IF(A396>0,1,0)","v":0}]
[{"$f":"'Bill of Materials'!E378+'Bill of Materials'!F378","v":0},{"$f":"'Bill of Materials'!M378","v":"EA"},{"$f":"'Bill of Materials'!G378","v":"1\" Cord Connector for 1\" Innerducts and SSU/Box Connections"},{"$f":"'Bill of Materials'!L378","v":"Hubbell"},{"$f":"'Bill of Materials'!N378","v":19.399999999999999},{"$f":"'Bill of Materials'!P378","v":"DWC"},{"$f":"'Bill of Materials'!C378","v":"10261"},{"$f":"'Bill of Materials'!H378","v":"SHC1049"},null,null,null,0,{"$f":"'Bill of Materials'!J378","v":"standard material"},{"$f":"'Bill of Materials'!K378","v":"physical"},0]
[{"$f":"'Bill of Materials'!E379+'Bill of Materials'!F379","v":0},{"$f":"'Bill of Materials'!M379","v":"EA"},{"$f":"'Bill of Materials'!G379","v":"1\" Locknut for Cord Connector"},{"$f":"'Bill of Materials'!L379","v":"Bridgeport"},{"$f":"'Bill of Materials'!N379","v":0.35},{"$f":"'Bill of Materials'!P379","v":"DWC"},{"$f":"'Bill of Materials'!C379","v":"10262"},{"$f":"'Bill of Materials'!H379","v":"103-S"},null,null,null,0,{"$f":"'Bill of Materials'!J379","v":"standard material"},{"$f":"'Bill of Materials'!K379","v":"physical"},0]
[{"$f":"'Bill of Materials'!E380+'Bill of Materials'!F380","v":0},{"$f":"'Bill of Materials'!M380","v":"EA"},{"$f":"'Bill of Materials'!G380","v":"24X20X8 Type 4x Enclosure (Outdoor Enclosure)"},{"$f":"'Bill of Materials'!L380","v":"Hammond"},{"$f":"'Bill of Materials'!N380","v":205.29},{"$f":"'Bill of Materials'!P380","v":"DWC"},{"$f":"'Bill of Materials'!C380","v":"10324"},{"$f":"'Bill of Materials'!H380","v":"EN4SD24208GY"},null,null,null,0,{"$f":"'Bill of Materials'!J380","v":"standard material"},{"$f":"'Bill of Materials'!K380","v":"physical"},0]
[{"$f":"'Bill of Materials'!E381+'Bill of Materials'!F381","v":0},{"$f":"'Bill of Materials'!M381","v":"EA"},{"$f":"'Bill of Materials'!G381","v":"1.5\" Cord Connector to fit 1.3\" O.D. Cable "},{"$f":"'Bill of Materials'!L381","v":"Hubbell"},{"$f":"'Bill of Materials'!N381","v":29.99},{"$f":"'Bill of Materials'!P381","v":"DWC"},{"$f":"'Bill of Materials'!C381","v":"INFO-3302"},{"$f":"'Bill of Materials'!H381","v":"SHC-1061"},null,null,null,0,{"$f":"'Bill of Materials'!J381","v":"standard material"},{"$f":"'Bill of Materials'!K381","v":"physical"},0]
[{"$f":"'Bill of Materials'!E382+'Bill of Materials'!F382","v":0},{"$f":"'Bill of Materials'!M382","v":"EA"},{"$f":"'Bill of Materials'!G382","v":"2\" Cord Connector to fit 1.75 to 2\" O.D. Cable "},{"$f":"'Bill of Materials'!L382","v":"Hubbell"},{"$f":"'Bill of Materials'!N382","v":44.38},{"$f":"'Bill of Materials'!P382","v":"DWC"},{"$f":"'Bill of Materials'!C382","v":"INFO-3303"},{"$f":"'Bill of Materials'!H382","v":"SHC-1072"},null,null,null,0,{"$f":"'Bill of Materials'!J382","v":"standard material"},{"$f":"'Bill of Materials'!K382","v":"physical"},0]
[{"$f":"'Bill of Materials'!E383+'Bill of Materials'!F383","v":0},{"$f":"'Bill of Materials'!M383","v":"EA"},{"$f":"'Bill of Materials'!G383","v":"1.5\" Insulating Bushing"},{"$f":"'Bill of Materials'!L383","v":"OZ Gedney"},{"$f":"'Bill of Materials'!N383","v":1.19},{"$f":"'Bill of Materials'!P383","v":"DWC"},{"$f":"'Bill of Materials'!C383","v":"INFO-3304"},{"$f":"'Bill of Materials'!H383","v":"BB150"},null,null,null,0,{"$f":"'Bill of Materials'!J383","v":"standard material"},{"$f":"'Bill of Materials'!K383","v":"physical"},0]
[{"$f":"'Bill of Materials'!E384+'Bill of Materials'!F384","v":0},{"$f":"'Bill of Materials'!M384","v":"EA"},{"$f":"'Bill of Materials'!G384","v":"1-1/2\" Lock Nut for Cord Connector "},{"$f":"'Bill of Materials'!L384","v":"Bridgeport"},{"$f":"'Bill of Materials'!N384","v":0.36},{"$f":"'Bill of Materials'!P384","v":"DWC"},{"$f":"'Bill of Materials'!C384","v":"INFO-3307"},{"$f":"'Bill of Materials'!H384","v":"105"},null,null,null,0,{"$f":"'Bill of Materials'!J384","v":"standard material"},{"$f":"'Bill of Materials'!K384","v":"physical"},0]
[{"$f":"'Bill of Materials'!E385+'Bill of Materials'!F385","v":0},{"$f":"'Bill of Materials'!M385","v":"EA"},{"$f":"'Bill of Materials'!G385","v":"2\" Lock Nut for Cord Connector"},{"$f":"'Bill of Materials'!L385","v":"Bridgeport"},{"$f":"'Bill of Materials'!N385","v":0.5},{"$f":"'Bill of Materials'!P385","v":"DWC"},{"$f":"'Bill of Materials'!C385","v":"INFO-3308"},{"$f":"'Bill of Materials'!H385","v":"106"},null,null,null,0,{"$f":"'Bill of Materials'!J385","v":"standard material"},{"$f":"'Bill of Materials'!K385","v":"physical"},0]
[{"$f":"'Bill of Materials'!E386+'Bill of Materials'!F386","v":0},{"$f":"'Bill of Materials'!M386","v":"EA"},{"$f":"'Bill of Materials'!G386","v":"NEMA 1 wall mount cabinet (16x16x7).14 ga steel spot welded construction with flat 14ga steel sub panel, two fixed butt hinges, slotted cam fastener, and standard powder coat finish. (ABF TC TDU)"},{"$f":"'Bill of Materials'!L386","v":"Hammond"},{"$f":"'Bill of Materials'!N386","v":117.51},{"$f":"'Bill of Materials'!P386","v":"DWC"},{"$f":"'Bill of Materials'!C386","v":"INFO-3311"},{"$f":"'Bill of Materials'!H386","v":"N1A16167"},null,null,null,0,{"$f":"'Bill of Materials'!J386","v":"standard material"},{"$f":"'Bill of Materials'!K386","v":"physical"},0]
[{"$f":"'Bill of Materials'!E387+'Bill of Materials'!F387","v":0},{"$f":"'Bill of Materials'!M387","v":"EA"},{"$f":"'Bill of Materials'!G387","v":"NEMA 1 wall mount cabinet (30x24x7). 14 ga steel spot welded construction with flat 12 ga steel sub panel, three fixed butt hinges, slotted cam fastener, and standard powder coat finish. (ABF MC/IC TDU)"},{"$f":"'Bill of Materials'!L387","v":"Hammond"},{"$f":"'Bill of Materials'!N387","v":210.37},{"$f":"'Bill of Materials'!P387","v":"DWC"},{"$f":"'Bill of Materials'!C387","v":"INFO-3312"},{"$f":"'Bill of Materials'!H387","v":"N1A30247"},null,null,null,0,{"$f":"'Bill of Materials'!J387","v":"standard material"},{"$f":"'Bill of Materials'!K387","v":"physical"},0]
[{"$f":"'Bill of Materials'!E388+'Bill of Materials'!F388","v":0},{"$f":"'Bill of Materials'!M388","v":"REEL"},{"$f":"'Bill of Materials'!G388","v":"Nineteen tube cable, inside plant, riser (Orange), \r\n1000 FT Reel"},{"$f":"'Bill of Materials'!L388","v":"Sumitomo"},{"$f":"'Bill of Materials'!N388","v":4806.45},{"$f":"'Bill of Materials'!P388","v":"DWC"},{"$f":"'Bill of Materials'!C388","v":"INFO-3401"},{"$f":"'Bill of Materials'!H388","v":"TC19TRX"},null,null,null,0,{"$f":"'Bill of Materials'!J388","v":"standard material"},{"$f":"'Bill of Materials'!K388","v":"physical"},0]
[{"$f":"'Bill of Materials'!E389+'Bill of Materials'!F389","v":0},{"$f":"'Bill of Materials'!M389","v":"REEL"},{"$f":"'Bill of Materials'!G389","v":"Seven tube cable, inside plant, riser (Orange),\r\n1000 FT Reel"},{"$f":"'Bill of Materials'!L389","v":"Sumitomo"},{"$f":"'Bill of Materials'!N389","v":2027.52},{"$f":"'Bill of Materials'!P389","v":"DWC"},{"$f":"'Bill of Materials'!C389","v":"INFO-3402"},{"$f":"'Bill of Materials'!H389","v":"TC07TRX"},null,null,null,0,{"$f":"'Bill of Materials'!J389","v":"standard material"},{"$f":"'Bill of Materials'!K389","v":"physical"},0]
[{"$f":"'Bill of Materials'!E390+'Bill of Materials'!F390","v":0},{"$f":"'Bill of Materials'!M390","v":"REEL"},{"$f":"'Bill of Materials'!G390","v":"Seven tube cable, outside plant, 1000 FT Reel "},{"$f":"'Bill of Materials'!L390","v":"Sumitomo"},{"$f":"'Bill of Materials'!N390","v":1788.93},{"$f":"'Bill of Materials'!P390","v":"DWC"},{"$f":"'Bill of Materials'!C390","v":"INFO-3403"},{"$f":"'Bill of Materials'!H390","v":"TC07TOX"},null,null,null,0,{"$f":"'Bill of Materials'!J390","v":"standard material"},{"$f":"'Bill of Materials'!K390","v":"physical"},0]
[{"$f":"'Bill of Materials'!E391+'Bill of Materials'!F391","v":0},{"$f":"'Bill of Materials'!M391","v":"REEL"},{"$f":"'Bill of Materials'!G391","v":"Four tube cable, outside plant, 1000 FT Reel "},{"$f":"'Bill of Materials'!L391","v":"Sumitomo"},{"$f":"'Bill of Materials'!N391","v":1287.99},{"$f":"'Bill of Materials'!P391","v":"DWC"},{"$f":"'Bill of Materials'!C391","v":"INFO-3404"},{"$f":"'Bill of Materials'!H391","v":"TC04TOD"},null,null,null,0,{"$f":"'Bill of Materials'!J391","v":"standard material"},{"$f":"'Bill of Materials'!K391","v":"physical"},0]
[{"$f":"'Bill of Materials'!E392+'Bill of Materials'!F392","v":0},{"$f":"'Bill of Materials'!M392","v":"REEL"},{"$f":"'Bill of Materials'!G392","v":"1 Tube/Plenum Rated/OFNP-UL910, 1000 FT Reel"},{"$f":"'Bill of Materials'!L392","v":"Sumitomo"},{"$f":"'Bill of Materials'!N392","v":608.85},{"$f":"'Bill of Materials'!P392","v":"DWC"},{"$f":"'Bill of Materials'!C392","v":"INFO-3406"},{"$f":"'Bill of Materials'!H392","v":"TC01TPX"},null,null,null,0,{"$f":"'Bill of Materials'!J392","v":"standard material"},{"$f":"'Bill of Materials'!K392","v":"physical"},0]
[{"$f":"'Bill of Materials'!E393+'Bill of Materials'!F393","v":0},{"$f":"'Bill of Materials'!M393","v":"EA"},{"$f":"'Bill of Materials'!G393","v":"Optical Fiber Bushing for 6 Fiber Bundle. Plugs occupied tube"},{"$f":"'Bill of Materials'!L393","v":"Sumitomo"},{"$f":"'Bill of Materials'!N393","v":3.27},{"$f":"'Bill of Materials'!P393","v":"DWC"},{"$f":"'Bill of Materials'!C393","v":"INFO-3418"},{"$f":"'Bill of Materials'!H393","v":"FT2MFB"},null,null,null,0,{"$f":"'Bill of Materials'!J393","v":"standard material"},{"$f":"'Bill of Materials'!K393","v":"physical"},0]
[{"$f":"'Bill of Materials'!E394+'Bill of Materials'!F394","v":0},{"$f":"'Bill of Materials'!M394","v":"EA"},{"$f":"'Bill of Materials'!G394","v":"Optical Fiber Bushing for 18 Fiber bundle. Plugs occupied tube"},{"$f":"'Bill of Materials'!L394","v":"Sumitomo"},{"$f":"'Bill of Materials'!N394","v":3.47},{"$f":"'Bill of Materials'!P394","v":"DWC"},{"$f":"'Bill of Materials'!C394","v":"INFO-3419"},{"$f":"'Bill of Materials'!H394","v":"FT3MFB"},null,null,null,0,{"$f":"'Bill of Materials'!J394","v":"standard material"},{"$f":"'Bill of Materials'!K394","v":"physical"},0]
[{"$f":"'Bill of Materials'!E395+'Bill of Materials'!F395","v":0},{"$f":"'Bill of Materials'!M395","v":"EA"},{"$f":"'Bill of Materials'!G395","v":"Tube Coupling. 8mm push fit coupling to connect tubes together.  (10 Pieces/Package)"},{"$f":"'Bill of Materials'!L395","v":"Sumitomo"},{"$f":"'Bill of Materials'!N395","v":21.24},{"$f":"'Bill of Materials'!P395","v":"DWC"},{"$f":"'Bill of Materials'!C395","v":"INFO-3420"},{"$f":"'Bill of Materials'!H395","v":"DE08MC2"},null,null,null,0,{"$f":"'Bill of Materials'!J395","v":"standard material"},{"$f":"'Bill of Materials'!K395","v":"physical"},0]
[{"$f":"'Bill of Materials'!E396+'Bill of Materials'!F396","v":0},{"$f":"'Bill of Materials'!M396","v":"EA"},{"$f":"'Bill of Materials'!G396","v":"Tee Fitting . Used to connect air source to distribution tubing. Push fit."},{"$f":"'Bill of Materials'!L396","v":"Sumitomo"},{"$f":"'Bill of Materials'!N396","v":3.37},{"$f":"'Bill of Materials'!P396","v":"DWC"},{"$f":"'Bill of Materials'!C396","v":"INFO-3421"},{"$f":"'Bill of Materials'!H396","v":"DE08MT"},null,null,null,0,{"$f":"'Bill of Materials'!J396","v":"standard material"},{"$f":"'Bill of Materials'!K396","v":"physical"},0]
[{"$f":"'Bill of Materials'!E397+'Bill of Materials'!F397","v":0},{"$f":"'Bill of Materials'!M397","v":"EA"},{"$f":"'Bill of Materials'!G397","v":"ABF tube plugs, 6mm. Used to fill ends of tube cable when not in use.  (10 Pieces/Package)"},{"$f":"'Bill of Materials'!L397","v":"Sumitomo"},{"$f":"'Bill of Materials'!N397","v":5.37},{"$f":"'Bill of Materials'!P397","v":"DWC"},{"$f":"'Bill of Materials'!C397","v":"INFO-3422"},{"$f":"'Bill of Materials'!H397","v":"DE06MP"},null,null,null,0,{"$f":"'Bill of Materials'!J397","v":"standard material"},{"$f":"'Bill of Materials'!K397","v":"physical"},0]
[{"$f":"'Bill of Materials'!E398+'Bill of Materials'!F398","v":0},{"$f":"'Bill of Materials'!M398","v":"EA"},{"$f":"'Bill of Materials'!G398","v":"Tube cutter"},{"$f":"'Bill of Materials'!L398","v":"Sumitomo"},{"$f":"'Bill of Materials'!N398","v":9.11},{"$f":"'Bill of Materials'!P398","v":"DWC"},{"$f":"'Bill of Materials'!C398","v":"INFO-3423"},{"$f":"'Bill of Materials'!H398","v":"BETC001"},null,null,null,0,{"$f":"'Bill of Materials'!J398","v":"standard material"},{"$f":"'Bill of Materials'!K398","v":"physical"},0]
[{"$f":"'Bill of Materials'!E399+'Bill of Materials'!F399","v":0},{"$f":"'Bill of Materials'!M399","v":"EA"},{"$f":"'Bill of Materials'!G399","v":"Replacement blade for tube cutter"},{"$f":"'Bill of Materials'!L399","v":"Sumitomo"},{"$f":"'Bill of Materials'!N399","v":4.21},{"$f":"'Bill of Materials'!P399","v":"DWC"},{"$f":"'Bill of Materials'!C399","v":"INFO-3424"},{"$f":"'Bill of Materials'!H399","v":"BETC00B"},null,null,null,0,{"$f":"'Bill of Materials'!J399","v":"standard material"},{"$f":"'Bill of Materials'!K399","v":"physical"},0]
[{"$f":"'Bill of Materials'!E400+'Bill of Materials'!F400","v":0},{"$f":"'Bill of Materials'!M400","v":"EA"},{"$f":"'Bill of Materials'!G400","v":"2mm blowing tip used on lead end of fiber bundle during installation."},{"$f":"'Bill of Materials'!L400","v":"Sumitomo"},{"$f":"'Bill of Materials'!N400","v":12.95},{"$f":"'Bill of Materials'!P400","v":"DWC"},{"$f":"'Bill of Materials'!C400","v":"INFO-3425"},{"$f":"'Bill of Materials'!H400","v":"BE2MFT"},null,null,null,0,{"$f":"'Bill of Materials'!J400","v":"standard material"},{"$f":"'Bill of Materials'!K400","v":"physical"},0]
[{"$f":"'Bill of Materials'!E401+'Bill of Materials'!F401","v":0},{"$f":"'Bill of Materials'!M401","v":"EA"},{"$f":"'Bill of Materials'!G401","v":"Tube cable cutter up to 2\" diameter"},{"$f":"'Bill of Materials'!L401","v":"Sumitomo"},{"$f":"'Bill of Materials'!N401","v":171.42},{"$f":"'Bill of Materials'!P401","v":"DWC"},{"$f":"'Bill of Materials'!C401","v":"INFO-3426"},{"$f":"'Bill of Materials'!H401","v":"BETL01"},null,null,null,0,{"$f":"'Bill of Materials'!J401","v":"standard material"},{"$f":"'Bill of Materials'!K401","v":"physical"},0]
[{"$f":"'Bill of Materials'!E402+'Bill of Materials'!F402","v":0},{"$f":"'Bill of Materials'!M402","v":"EA"},{"$f":"'Bill of Materials'!G402","v":"Replacement blade for tube cable cutter #BETL01"},{"$f":"'Bill of Materials'!L402","v":"Sumitomo"},{"$f":"'Bill of Materials'!N402","v":37.22},{"$f":"'Bill of Materials'!P402","v":"DWC"},{"$f":"'Bill of Materials'!C402","v":"INFO-3427"},{"$f":"'Bill of Materials'!H402","v":"BETL02"},null,null,null,0,{"$f":"'Bill of Materials'!J402","v":"standard material"},{"$f":"'Bill of Materials'!K402","v":"physical"},0]
[{"$f":"'Bill of Materials'!E403+'Bill of Materials'!F403","v":0},{"$f":"'Bill of Materials'!M403","v":"EA"},{"$f":"'Bill of Materials'!G403","v":"Blowing head lease (One year lease)"},{"$f":"'Bill of Materials'!L403","v":"Sumitomo"},{"$f":"'Bill of Materials'!N403","v":3294.72},{"$f":"'Bill of Materials'!P403","v":"DWC"},{"$f":"'Bill of Materials'!C403","v":"INFO-3428"},{"$f":"'Bill of Materials'!H403","v":"BE200RY"},null,null,null,0,{"$f":"'Bill of Materials'!J403","v":"standard material"},{"$f":"'Bill of Materials'!K403","v":"physical"},0]
[{"$f":"'Bill of Materials'!E404+'Bill of Materials'!F404","v":0},{"$f":"'Bill of Materials'!M404","v":"EA"},{"$f":"'Bill of Materials'!G404","v":"Blowing head air seal for 2-6 fiber bundle"},{"$f":"'Bill of Materials'!L404","v":"Sumitomo"},{"$f":"'Bill of Materials'!N404","v":19.309999999999999},{"$f":"'Bill of Materials'!P404","v":"DWC"},{"$f":"'Bill of Materials'!C404","v":"INFO-3429"},{"$f":"'Bill of Materials'!H404","v":"BE02SL"},null,null,null,0,{"$f":"'Bill of Materials'!J404","v":"standard material"},{"$f":"'Bill of Materials'!K404","v":"physical"},0]
[{"$f":"'Bill of Materials'!E405+'Bill of Materials'!F405","v":0},{"$f":"'Bill of Materials'!M405","v":"EA"},{"$f":"'Bill of Materials'!G405","v":"Blowing head air seal for 12-18 fiber bundle"},{"$f":"'Bill of Materials'!L405","v":"Sumitomo"},{"$f":"'Bill of Materials'!N405","v":19.309999999999999},{"$f":"'Bill of Materials'!P405","v":"DWC"},{"$f":"'Bill of Materials'!C405","v":"INFO-3430"},{"$f":"'Bill of Materials'!H405","v":"BE03SL"},null,null,null,0,{"$f":"'Bill of Materials'!J405","v":"standard material"},{"$f":"'Bill of Materials'!K405","v":"physical"},0]
[{"$f":"'Bill of Materials'!E406+'Bill of Materials'!F406","v":0},{"$f":"'Bill of Materials'!M406","v":"EA"},{"$f":"'Bill of Materials'!G406","v":"2 Stage Regulator Kit/200 psi."},{"$f":"'Bill of Materials'!L406","v":"Sumitomo"},{"$f":"'Bill of Materials'!N406","v":227.7},{"$f":"'Bill of Materials'!P406","v":"DWC"},{"$f":"'Bill of Materials'!C406","v":"INFO-3432"},{"$f":"'Bill of Materials'!H406","v":"BEREG01"},null,null,null,0,{"$f":"'Bill of Materials'!J406","v":"standard material"},{"$f":"'Bill of Materials'!K406","v":"physical"},0]
[{"$f":"'Bill of Materials'!E407+'Bill of Materials'!F407","v":0},{"$f":"'Bill of Materials'!M407","v":"EA"},{"$f":"'Bill of Materials'!G407","v":"Tube test kit"},{"$f":"'Bill of Materials'!L407","v":"Sumitomo"},{"$f":"'Bill of Materials'!N407","v":51.56},{"$f":"'Bill of Materials'!P407","v":"DWC"},{"$f":"'Bill of Materials'!C407","v":"INFO-3433"},{"$f":"'Bill of Materials'!H407","v":"BEPT001"},null,null,null,0,{"$f":"'Bill of Materials'!J407","v":"standard material"},{"$f":"'Bill of Materials'!K407","v":"physical"},0]
[{"$f":"'Bill of Materials'!E408+'Bill of Materials'!F408","v":0},{"$f":"'Bill of Materials'!M408","v":"EA"},{"$f":"'Bill of Materials'!G408","v":"Breakout kit for termination of 6 fibers"},{"$f":"'Bill of Materials'!L408","v":"Sumitomo"},{"$f":"'Bill of Materials'!N408","v":16.579999999999998},{"$f":"'Bill of Materials'!P408","v":"DWC"},{"$f":"'Bill of Materials'!C408","v":"INFO-3434"},{"$f":"'Bill of Materials'!H408","v":"FTFLD06"},null,null,null,0,{"$f":"'Bill of Materials'!J408","v":"standard material"},{"$f":"'Bill of Materials'!K408","v":"physical"},0]
[{"$f":"'Bill of Materials'!E409+'Bill of Materials'!F409","v":0},{"$f":"'Bill of Materials'!M409","v":"EA"},{"$f":"'Bill of Materials'!G409","v":"7 tube cable straight through splice case"},{"$f":"'Bill of Materials'!L409","v":"Sumitomo"},{"$f":"'Bill of Materials'!N409","v":59.3},{"$f":"'Bill of Materials'!P409","v":"DWC"},{"$f":"'Bill of Materials'!C409","v":"INFO-3435"},{"$f":"'Bill of Materials'!H409","v":"DE01SPL"},null,null,null,0,{"$f":"'Bill of Materials'!J409","v":"standard material"},{"$f":"'Bill of Materials'!K409","v":"physical"},0]
[{"$f":"'Bill of Materials'!E410+'Bill of Materials'!F410","v":0},{"$f":"'Bill of Materials'!M410","v":"EA"},{"$f":"'Bill of Materials'!G410","v":"19 tube cable straight through splice case"},{"$f":"'Bill of Materials'!L410","v":"Sumitomo"},{"$f":"'Bill of Materials'!N410","v":96.77},{"$f":"'Bill of Materials'!P410","v":"DWC"},{"$f":"'Bill of Materials'!C410","v":"INFO-3436"},{"$f":"'Bill of Materials'!H410","v":"DE02SPL"},null,null,null,0,{"$f":"'Bill of Materials'!J410","v":"standard material"},{"$f":"'Bill of Materials'!K410","v":"physical"},0]
[{"$f":"'Bill of Materials'!E411+'Bill of Materials'!F411","v":0},{"$f":"'Bill of Materials'!M411","v":"REEL"},{"$f":"'Bill of Materials'!G411","v":"Nineteen tube cable, outside plant, 1000 FT Reel"},{"$f":"'Bill of Materials'!L411","v":"Sumitomo"},{"$f":"'Bill of Materials'!N411","v":3747.15},{"$f":"'Bill of Materials'!P411","v":"DWC"},{"$f":"'Bill of Materials'!C411","v":"INFO-3437"},{"$f":"'Bill of Materials'!H411","v":"TC19TOX"},null,null,null,0,{"$f":"'Bill of Materials'!J411","v":"standard material"},{"$f":"'Bill of Materials'!K411","v":"physical"},0]
[{"$f":"'Bill of Materials'!E412+'Bill of Materials'!F412","v":0},{"$f":"'Bill of Materials'!M412","v":"EA"},{"$f":"'Bill of Materials'!G412","v":"3mm blowing tip used on lead end of fiber bundle during installation."},{"$f":"'Bill of Materials'!L412","v":"Sumitomo"},{"$f":"'Bill of Materials'!N412","v":12.95},{"$f":"'Bill of Materials'!P412","v":"DWC"},{"$f":"'Bill of Materials'!C412","v":"INFO-3438"},{"$f":"'Bill of Materials'!H412","v":"BE3MFT"},null,null,null,0,{"$f":"'Bill of Materials'!J412","v":"standard material"},{"$f":"'Bill of Materials'!K412","v":"physical"},0]
[{"$f":"'Bill of Materials'!E413+'Bill of Materials'!F413","v":0},{"$f":"'Bill of Materials'!M413","v":"EA"},{"$f":"'Bill of Materials'!G413","v":"Breakout kit for termination of 18 fibers"},{"$f":"'Bill of Materials'!L413","v":"Sumitomo"},{"$f":"'Bill of Materials'!N413","v":36.69},{"$f":"'Bill of Materials'!P413","v":"DWC"},{"$f":"'Bill of Materials'!C413","v":"INFO-3439"},{"$f":"'Bill of Materials'!H413","v":"FTFLD18"},null,null,null,0,{"$f":"'Bill of Materials'!J413","v":"standard material"},{"$f":"'Bill of Materials'!K413","v":"physical"},0]
[{"$f":"'Bill of Materials'!E414+'Bill of Materials'!F414","v":0},{"$f":"'Bill of Materials'!M414","v":"EA"},{"$f":"'Bill of Materials'!G414","v":"Tube cable termination panel set. Rack mount. Holds up to six 19 tube cables."},{"$f":"'Bill of Materials'!L414","v":"Sumitomo"},{"$f":"'Bill of Materials'!N414","v":121.97},{"$f":"'Bill of Materials'!P414","v":"DWC"},{"$f":"'Bill of Materials'!C414","v":"INFO-3440"},{"$f":"'Bill of Materials'!H414","v":"DEDTTP2"},null,null,null,0,{"$f":"'Bill of Materials'!J414","v":"standard material"},{"$f":"'Bill of Materials'!K414","v":"physical"},0]
[{"$f":"'Bill of Materials'!#REF!+'Bill of Materials'!#REF!","v":{"$error":"#REF!"}},{"$f":"'Bill of Materials'!#REF!","v":{"$error":"#REF!"}},{"$f":"'Bill of Materials'!#REF!","v":{"$error":"#REF!"}},{"$f":"'Bill of Materials'!#REF!","v":{"$error":"#REF!"}},{"$f":"'Bill of Materials'!#REF!","v":{"$error":"#REF!"}},{"$f":"'Bill of Materials'!#REF!","v":{"$error":"#REF!"}},{"$f":"'Bill of Materials'!#REF!","v":{"$error":"#REF!"}},{"$f":"'Bill of Materials'!#REF!","v":{"$error":"#REF!"}},null,null,null,{"$error":"#REF!"},{"$f":"'Bill of Materials'!#REF!","v":{"$error":"#REF!"}},{"$f":"'Bill of Materials'!#REF!","v":{"$error":"#REF!"}},{"$error":"#REF!"}]
[{"$f":"'Bill of Materials'!E415+'Bill of Materials'!F415","v":0},{"$f":"'Bill of Materials'!M415","v":"REEL"},{"$f":"'Bill of Materials'!G415","v":"Nineteen tube plenum cable with kevlar wrap"},{"$f":"'Bill of Materials'!L415","v":"Sumitomo"},{"$f":"'Bill of Materials'!N415","v":16801.29},{"$f":"'Bill of Materials'!P415","v":"DWC"},{"$f":"'Bill of Materials'!C415","v":"INFO-3444"},{"$f":"'Bill of Materials'!H415","v":"TC19TPX"},null,null,null,0,{"$f":"'Bill of Materials'!J415","v":"standard material"},{"$f":"'Bill of Materials'!K415","v":"physical"},0]
[{"$f":"'Bill of Materials'!E416+'Bill of Materials'!F416","v":0},{"$f":"'Bill of Materials'!M416","v":"REEL"},{"$f":"'Bill of Materials'!G416","v":"Seven tube plenum cable with kevlar wrap"},{"$f":"'Bill of Materials'!L416","v":"Sumitomo"},{"$f":"'Bill of Materials'!N416","v":4663.8900000000003},{"$f":"'Bill of Materials'!P416","v":"DWC"},{"$f":"'Bill of Materials'!C416","v":"INFO-3445"},{"$f":"'Bill of Materials'!H416","v":"TC07TPX"},null,null,null,0,{"$f":"'Bill of Materials'!J416","v":"standard material"},{"$f":"'Bill of Materials'!K416","v":"physical"},0]
[{"$f":"'Bill of Materials'!E417+'Bill of Materials'!F417","v":0},{"$f":"'Bill of Materials'!M417","v":"FT"},{"$f":"'Bill of Materials'!G417","v":"Single tube cable, for couplings, clear"},{"$f":"'Bill of Materials'!L417","v":"Sumitomo"},{"$f":"'Bill of Materials'!N417","v":0.31},{"$f":"'Bill of Materials'!P417","v":"DWC"},{"$f":"'Bill of Materials'!C417","v":"INFO-3447"},{"$f":"'Bill of Materials'!H417","v":"TC01TXX"},null,null,null,0,{"$f":"'Bill of Materials'!J417","v":"standard material"},{"$f":"'Bill of Materials'!K417","v":"physical"},0]
[{"$f":"'Bill of Materials'!E418+'Bill of Materials'!F418","v":0},{"$f":"'Bill of Materials'!M418","v":"REEL"},{"$f":"'Bill of Materials'!G418","v":"Six strand fiber optic bundle, SM., 2MM OD, \r\n7000 FT Reel"},{"$f":"'Bill of Materials'!L418","v":"Sumitomo"},{"$f":"'Bill of Materials'!N418","v":3506.58},{"$f":"'Bill of Materials'!P418","v":"DWC"},{"$f":"'Bill of Materials'!C418","v":"INFO-3448"},{"$f":"'Bill of Materials'!H418","v":"FB06SX"},null,null,null,0,{"$f":"'Bill of Materials'!J418","v":"standard material"},{"$f":"'Bill of Materials'!K418","v":"physical"},0]
[{"$f":"'Bill of Materials'!E419+'Bill of Materials'!F419","v":0},{"$f":"'Bill of Materials'!M419","v":"REEL"},{"$f":"'Bill of Materials'!G419","v":"Eighteen strand fiber optic bundle, SM., 3MM OD,\r\n7000 FT Reel"},{"$f":"'Bill of Materials'!L419","v":"Sumitomo"},{"$f":"'Bill of Materials'!N419","v":8266.5},{"$f":"'Bill of Materials'!P419","v":"DWC"},{"$f":"'Bill of Materials'!C419","v":"INFO-3451"},{"$f":"'Bill of Materials'!H419","v":"FB18SX"},null,null,null,0,{"$f":"'Bill of Materials'!J419","v":"standard material"},{"$f":"'Bill of Materials'!K419","v":"physical"},0]
[{"$f":"'Bill of Materials'!#REF!+'Bill of Materials'!#REF!","v":{"$error":"#REF!"}},{"$f":"'Bill of Materials'!#REF!","v":{"$error":"#REF!"}},{"$f":"'Bill of Materials'!#REF!","v":{"$error":"#REF!"}},{"$f":"'Bill of Materials'!#REF!","v":{"$error":"#REF!"}},{"$f":"'Bill of Materials'!#REF!","v":{"$error":"#REF!"}},{"$f":"'Bill of Materials'!#REF!","v":{"$error":"#REF!"}},{"$f":"'Bill of Materials'!#REF!","v":{"$error":"#REF!"}},{"$f":"'Bill of Materials'!#REF!","v":{"$error":"#REF!"}},null,null,null,{"$error":"#REF!"},{"$f":"'Bill of Materials'!#REF!","v":{"$error":"#REF!"}},{"$f":"'Bill of Materials'!#REF!","v":{"$error":"#REF!"}},{"$error":"#REF!"}]
[{"$f":"'Bill of Materials'!E420+'Bill of Materials'!F420","v":0},{"$f":"'Bill of Materials'!M420","v":"REEL"},{"$f":"'Bill of Materials'!G420","v":"Six strand fiber optic bundle, MM., 2MM OD, \r\n7000 FT Reel"},{"$f":"'Bill of Materials'!L420","v":"Sumitomo"},{"$f":"'Bill of Materials'!N420","v":7180.47},{"$f":"'Bill of Materials'!P420","v":"DWC"},{"$f":"'Bill of Materials'!C420","v":"INFO-3452"},{"$f":"'Bill of Materials'!H420","v":"FB06M6"},null,null,null,0,{"$f":"'Bill of Materials'!J420","v":"standard material"},{"$f":"'Bill of Materials'!K420","v":"physical"},0]
[{"$f":"'Bill of Materials'!E421+'Bill of Materials'!F421","v":0},{"$f":"'Bill of Materials'!M421","v":"FT"},{"$f":"'Bill of Materials'!G421","v":"Aerial 7 tube cable"},{"$f":"'Bill of Materials'!L421","v":"Sumitomo"},{"$f":"'Bill of Materials'!N421","v":2.17},{"$f":"'Bill of Materials'!P421","v":"DWC"},{"$f":"'Bill of Materials'!C421","v":"INFO-3456"},{"$f":"'Bill of Materials'!H421","v":"TC07MSO"},null,null,null,0,{"$f":"'Bill of Materials'!J421","v":"standard material"},{"$f":"'Bill of Materials'!K421","v":"physical"},0]
[{"$f":"'Bill of Materials'!E422+'Bill of Materials'!F422","v":0},{"$f":"'Bill of Materials'!M422","v":"FT"},{"$f":"'Bill of Materials'!G422","v":"Aerial 19 tube cable"},{"$f":"'Bill of Materials'!L422","v":"Sumitomo"},{"$f":"'Bill of Materials'!N422","v":4.18},{"$f":"'Bill of Materials'!P422","v":"DWC"},{"$f":"'Bill of Materials'!C422","v":"INFO-3457"},{"$f":"'Bill of Materials'!H422","v":"TC19MSO"},null,null,null,0,{"$f":"'Bill of Materials'!J422","v":"standard material"},{"$f":"'Bill of Materials'!K422","v":"physical"},0]
[{"$f":"'Bill of Materials'!E423+'Bill of Materials'!F423","v":0},{"$f":"'Bill of Materials'!M423","v":"EA"},{"$f":"'Bill of Materials'!G423","v":"NEMA 1 wall mount cabinet (30x24x7). Includes 14 ga steel spot welded construction with 12 ga steel sub panel, three fixed butt hinges, slotted cam fastener, and standard powder coat finish. (REF panel enclosure)"},{"$f":"'Bill of Materials'!L423","v":"X-Mark"},{"$f":"'Bill of Materials'!N423","v":283.64999999999998},{"$f":"'Bill of Materials'!P423","v":"DWC"},{"$f":"'Bill of Materials'!C423","v":"INFO-4707"},{"$f":"'Bill of Materials'!H423","v":"XGN1-30247-0001"},null,null,null,0,{"$f":"'Bill of Materials'!J423","v":"standard material"},{"$f":"'Bill of Materials'!K423","v":"physical"},0]
[{"$f":"'Bill of Materials'!E425+'Bill of Materials'!F425","v":0},{"$f":"'Bill of Materials'!M425","v":"FT"},{"$f":"'Bill of Materials'!G425","v":"(24) SM Multi-Unit Circular Premise Fiber Cable, RISER, (6) Fiber Subunits, Tight Buffered"},{"$f":"'Bill of Materials'!L425","v":"AFL"},{"$f":"'Bill of Materials'!N425","v":1.22},{"$f":"'Bill of Materials'!P425","v":"DWC"},{"$f":"'Bill of Materials'!C425","v":"0119-C50L"},{"$f":"'Bill of Materials'!H425","v":"CR0249441001"},null,null,null,0,{"$f":"'Bill of Materials'!J425","v":"standard material"},{"$f":"'Bill of Materials'!K425","v":"physical"},0]
[{"$f":"'Bill of Materials'!E426+'Bill of Materials'!F426","v":0},{"$f":"'Bill of Materials'!M426","v":"FT"},{"$f":"'Bill of Materials'!G426","v":"(36) SM Multi-Unit Circular Premise Fiber Cable, RISER, (12) Fiber Subunits, Tight Buffered\r\n(3280' Minimum Order)"},{"$f":"'Bill of Materials'!L426","v":"AFL"},{"$f":"'Bill of Materials'!N426","v":1.74},{"$f":"'Bill of Materials'!P426","v":"DWC"},{"$f":"'Bill of Materials'!C426","v":"0119-C50M"},{"$f":"'Bill of Materials'!H426","v":"CR0369551001"},null,null,null,0,{"$f":"'Bill of Materials'!J426","v":"standard material"},{"$f":"'Bill of Materials'!K426","v":"physical"},0]
[{"$f":"'Bill of Materials'!E427+'Bill of Materials'!F427","v":0},{"$f":"'Bill of Materials'!M427","v":"FT"},{"$f":"'Bill of Materials'!G427","v":"(72) SM Multi-Unit Circular Premise Fiber Cable, RISER, (12) Fiber Subunits, Tight Buffered\r\n(3280' Minimum Order)"},{"$f":"'Bill of Materials'!L427","v":"AFL"},{"$f":"'Bill of Materials'!N427","v":2.4300000000000002},{"$f":"'Bill of Materials'!P427","v":"DWC"},{"$f":"'Bill of Materials'!C427","v":"0119-C50N"},{"$f":"'Bill of Materials'!H427","v":"CR0729551001"},null,null,null,0,{"$f":"'Bill of Materials'!J427","v":"standard material"},{"$f":"'Bill of Materials'!K427","v":"physical"},0]
[{"$f":"'Bill of Materials'!E428+'Bill of Materials'!F428","v":0},{"$f":"'Bill of Materials'!M428","v":"FT"},{"$f":"'Bill of Materials'!G428","v":"(12) SM Multi-Unit Circular Premise Fiber Cable, PLENUM, (6) Fiber Subunits, Tight Buffered"},{"$f":"'Bill of Materials'!L428","v":"AFL"},{"$f":"'Bill of Materials'!N428","v":0.4},{"$f":"'Bill of Materials'!P428","v":"DWC"},{"$f":"'Bill of Materials'!C428","v":"0119-C50P"},{"$f":"'Bill of Materials'!H428","v":"CP0129551001"},null,null,null,0,{"$f":"'Bill of Materials'!J428","v":"standard material"},{"$f":"'Bill of Materials'!K428","v":"physical"},0]
[{"$f":"'Bill of Materials'!E429+'Bill of Materials'!F429","v":0},{"$f":"'Bill of Materials'!M429","v":"FT"},{"$f":"'Bill of Materials'!G429","v":"(18) SM Multi-Unit Circular Premise Fiber Cable, RISER, (6) Fiber Subunits, Tight Buffered\r\n(3280' Minimum Order)"},{"$f":"'Bill of Materials'!L429","v":"AFL"},{"$f":"'Bill of Materials'!N429","v":1.1399999999999999},{"$f":"'Bill of Materials'!P429","v":"DWC"},{"$f":"'Bill of Materials'!C429","v":"0119-C50R"},{"$f":"'Bill of Materials'!H429","v":"CR0189801001"},null,null,null,0,{"$f":"'Bill of Materials'!J429","v":"standard material"},{"$f":"'Bill of Materials'!K429","v":"physical"},0]
[{"$f":"'Bill of Materials'!E430+'Bill of Materials'!F430","v":0},{"$f":"'Bill of Materials'!M430","v":"FT"},{"$f":"'Bill of Materials'!G430","v":"(18) SM Multi-Unit Circular Premise Fiber Cable, PLENUM, (6) Fiber Subunits, Tight Buffered\r\n(3280' Minimum Order)"},{"$f":"'Bill of Materials'!L430","v":"AFL"},{"$f":"'Bill of Materials'!N430","v":1.29},{"$f":"'Bill of Materials'!P430","v":"DWC"},{"$f":"'Bill of Materials'!C430","v":"0119-C50T"},{"$f":"'Bill of Materials'!H430","v":"CP0189761001"},null,null,null,0,{"$f":"'Bill of Materials'!J430","v":"standard material"},{"$f":"'Bill of Materials'!K430","v":"physical"},0]
[{"$f":"'Bill of Materials'!E431+'Bill of Materials'!F431","v":0},{"$f":"'Bill of Materials'!M431","v":"FT"},{"$f":"'Bill of Materials'!G431","v":"(24) SM Single-Unit Circular Premise Fiber Cable, RISER, Tight Buffered (3280' Minimum Order)"},{"$f":"'Bill of Materials'!L431","v":"AFL"},{"$f":"'Bill of Materials'!N431","v":1.43},{"$f":"'Bill of Materials'!P431","v":"DWC"},{"$f":"'Bill of Materials'!C431","v":"0119-C50V"},{"$f":"'Bill of Materials'!H431","v":"CR0249891001"},null,null,null,0,{"$f":"'Bill of Materials'!J431","v":"standard material"},{"$f":"'Bill of Materials'!K431","v":"physical"},0]
[{"$f":"'Bill of Materials'!E432+'Bill of Materials'!F432","v":0},{"$f":"'Bill of Materials'!M432","v":"FT"},{"$f":"'Bill of Materials'!G432","v":"(24) SM Single-Unit Circular Premise Fiber Cable, PLENUM, Tight Buffered "},{"$f":"'Bill of Materials'!L432","v":"AFL"},{"$f":"'Bill of Materials'!N432","v":1.49},{"$f":"'Bill of Materials'!P432","v":"DWC"},{"$f":"'Bill of Materials'!C432","v":"0119-C50W"},{"$f":"'Bill of Materials'!H432","v":"CP0249841001"},null,null,null,0,{"$f":"'Bill of Materials'!J432","v":"standard material"},{"$f":"'Bill of Materials'!K432","v":"physical"},0]
[{"$f":"'Bill of Materials'!E433+'Bill of Materials'!F433","v":0},{"$f":"'Bill of Materials'!M433","v":"FT"},{"$f":"'Bill of Materials'!G433","v":"(24) SM Single-Unit Indoor/Outdoor Fiber Cable, OFNR, Tight Buffered "},{"$f":"'Bill of Materials'!L433","v":"AFL"},{"$f":"'Bill of Materials'!N433","v":1.39},{"$f":"'Bill of Materials'!P433","v":"DWC"},{"$f":"'Bill of Materials'!C433","v":"0119-C50X"},{"$f":"'Bill of Materials'!H433","v":"KR0249891001"},null,null,null,0,{"$f":"'Bill of Materials'!J433","v":"standard material"},{"$f":"'Bill of Materials'!K433","v":"physical"},0]
[{"$f":"'Bill of Materials'!E434+'Bill of Materials'!F434","v":0},{"$f":"'Bill of Materials'!M434","v":"FT"},{"$f":"'Bill of Materials'!G434","v":"(24) SM Multi-Unit Circular Premise Fiber Cable, PLENUM, (6) Fiber Subunits, Tight Buffered"},{"$f":"'Bill of Materials'!L434","v":"AFL"},{"$f":"'Bill of Materials'!N434","v":2.31},{"$f":"'Bill of Materials'!P434","v":"DWC"},{"$f":"'Bill of Materials'!C434","v":"0119-C50Y"},{"$f":"'Bill of Materials'!H434","v":"CP0249441001"},null,null,null,0,{"$f":"'Bill of Materials'!J434","v":"standard material"},{"$f":"'Bill of Materials'!K434","v":"physical"},0]
[{"$f":"'Bill of Materials'!E435+'Bill of Materials'!F435","v":0},{"$f":"'Bill of Materials'!M435","v":"FT"},{"$f":"'Bill of Materials'!G435","v":"(36) SM Multi-Unit Circular Premise Fiber Cable, PLENUM, (12) Fiber Subunits, Tight Buffered\r\n(3280' Minimum Order)"},{"$f":"'Bill of Materials'!L435","v":"AFL"},{"$f":"'Bill of Materials'!N435","v":3.19},{"$f":"'Bill of Materials'!P435","v":"DWC"},{"$f":"'Bill of Materials'!C435","v":"0119-C510"},{"$f":"'Bill of Materials'!H435","v":"CP0369551001"},null,null,null,0,{"$f":"'Bill of Materials'!J435","v":"standard material"},{"$f":"'Bill of Materials'!K435","v":"physical"},0]
[{"$f":"'Bill of Materials'!E436+'Bill of Materials'!F436","v":0},{"$f":"'Bill of Materials'!M436","v":"FT"},{"$f":"'Bill of Materials'!G436","v":"(72) SM Multi-Unit Circular Premise Fiber Cable, PLENUM, (12) Fiber Subunits, Tight Buffered\r\n(3280' Minimum Order)"},{"$f":"'Bill of Materials'!L436","v":"AFL"},{"$f":"'Bill of Materials'!N436","v":3.95},{"$f":"'Bill of Materials'!P436","v":"DWC"},{"$f":"'Bill of Materials'!C436","v":"0119-C511"},{"$f":"'Bill of Materials'!H436","v":"CP0729551001"},null,null,null,0,{"$f":"'Bill of Materials'!J436","v":"standard material"},{"$f":"'Bill of Materials'!K436","v":"physical"},0]
[{"$f":"'Bill of Materials'!E437+'Bill of Materials'!F437","v":0},{"$f":"'Bill of Materials'!M437","v":"FT"},{"$f":"'Bill of Materials'!G437","v":"(12) SM Single-Unit Circular Premise Fiber Cable, RISER, Tight Buffered"},{"$f":"'Bill of Materials'!L437","v":"AFL"},{"$f":"'Bill of Materials'!N437","v":0.35},{"$f":"'Bill of Materials'!P437","v":"DWC"},{"$f":"'Bill of Materials'!C437","v":"0119-C512"},{"$f":"'Bill of Materials'!H437","v":"CR0129551001"},null,null,null,0,{"$f":"'Bill of Materials'!J437","v":"standard material"},{"$f":"'Bill of Materials'!K437","v":"physical"},0]
[{"$f":"'Bill of Materials'!E438+'Bill of Materials'!F438","v":0},{"$f":"'Bill of Materials'!M438","v":"EA"},{"$f":"'Bill of Materials'!G438","v":"Black/Orange, Vinyl Adhesive \"Fiber Optic\" Voltage Marker, 9\"Wx2.25\"H (Order in Multiples of 5)"},{"$f":"'Bill of Materials'!L438","v":"Panduit"},{"$f":"'Bill of Materials'!N438","v":1.91},{"$f":"'Bill of Materials'!P438","v":"DWC"},{"$f":"'Bill of Materials'!C438","v":"0511-73GT"},{"$f":"'Bill of Materials'!H438","v":"PCV-FOAY"},null,null,null,0,{"$f":"'Bill of Materials'!J438","v":"standard material"},{"$f":"'Bill of Materials'!K438","v":"physical"},0]
[{"$f":"'Bill of Materials'!E439+'Bill of Materials'!F439","v":0},{"$f":"'Bill of Materials'!M439","v":"EA"},{"$f":"'Bill of Materials'!G439","v":"1.25\" Cord Connector for 1.25\" Innerducts and SSU/Box Connections"},{"$f":"'Bill of Materials'!L439","v":"Bridgeport"},{"$f":"'Bill of Materials'!N439","v":6.8},{"$f":"'Bill of Materials'!P439","v":"DWC"},{"$f":"'Bill of Materials'!C439","v":"10034"},{"$f":"'Bill of Materials'!H439","v":"412-DC2"},null,null,null,0,{"$f":"'Bill of Materials'!J439","v":"standard material"},{"$f":"'Bill of Materials'!K439","v":"physical"},0]
[{"$f":"'Bill of Materials'!E440+'Bill of Materials'!F440","v":0},{"$f":"'Bill of Materials'!M440","v":"EA"},{"$f":"'Bill of Materials'!G440","v":"Large NEMA 1 MC/IC SSU Fiber Slack Storage Unit (48X36X12)- Labor Only"},{"$f":"'Bill of Materials'!L440","v":"DWC"},{"$f":"'Bill of Materials'!N440","v":112.5},{"$f":"'Bill of Materials'!P440","v":"DWC"},{"$f":"'Bill of Materials'!C440","v":"10134"},{"$f":"'Bill of Materials'!H440","v":"N1MCICSSU-L"},null,null,null,{"$f":"E460*A460","v":0},{"$f":"'Bill of Materials'!J440","v":"standard material"},{"$f":"'Bill of Materials'!K440","v":"physical"},{"$f":"IF(A460>0,1,0)","v":0}]
[{"$f":"'Bill of Materials'!E441+'Bill of Materials'!F441","v":0},{"$f":"'Bill of Materials'!M441","v":"EA"},{"$f":"'Bill of Materials'!G441","v":"Medium NEMA 1 TC/TR SSU Fiber Slack Storage Unit (36X30X09) - Labor Only"},{"$f":"'Bill of Materials'!L441","v":"DWC"},{"$f":"'Bill of Materials'!N441","v":90},{"$f":"'Bill of Materials'!P441","v":"DWC"},{"$f":"'Bill of Materials'!C441","v":"10135"},{"$f":"'Bill of Materials'!H441","v":"N1TCTRSSU-L"},null,null,null,0,{"$f":"'Bill of Materials'!J441","v":"standard material"},{"$f":"'Bill of Materials'!K441","v":"physical"},0]
[{"$f":"'Bill of Materials'!E442+'Bill of Materials'!F442","v":0},{"$f":"'Bill of Materials'!M442","v":"EA"},{"$f":"'Bill of Materials'!G442","v":"Cord Grip Connector for 1.5\" Innerduct"},{"$f":"'Bill of Materials'!L442","v":"OZ Gedney"},{"$f":"'Bill of Materials'!N442","v":7.05},{"$f":"'Bill of Materials'!P442","v":"DWC"},{"$f":"'Bill of Materials'!C442","v":"10161"},{"$f":"'Bill of Materials'!H442","v":"SC150"},null,null,null,0,{"$f":"'Bill of Materials'!J442","v":"standard material"},{"$f":"'Bill of Materials'!K442","v":"physical"},0]
[{"$f":"'Bill of Materials'!E443+'Bill of Materials'!F443","v":0},{"$f":"'Bill of Materials'!M443","v":"FT"},{"$f":"'Bill of Materials'!G443","v":"Innerduct 1.5\" orange w/ pull rope outdoor UV Rated"},{"$f":"'Bill of Materials'!L443","v":"Endot"},{"$f":"'Bill of Materials'!N443","v":0.64},{"$f":"'Bill of Materials'!P443","v":"DWC"},{"$f":"'Bill of Materials'!C443","v":"INFO-3502"},{"$f":"'Bill of Materials'!H443","v":"1500"},null,null,null,0,{"$f":"'Bill of Materials'!J443","v":"standard material"},{"$f":"'Bill of Materials'!K443","v":"physical"},0]
[{"$f":"'Bill of Materials'!E444+'Bill of Materials'!F444","v":0},{"$f":"'Bill of Materials'!M444","v":"FT"},{"$f":"'Bill of Materials'!G444","v":"Plastic innerduct coupling (50 Pieces/Package)"},{"$f":"'Bill of Materials'!L444","v":"Carlon"},{"$f":"'Bill of Materials'!N444","v":35.79},{"$f":"'Bill of Materials'!P444","v":"DWC"},{"$f":"'Bill of Materials'!C444","v":"INFO-3504"},{"$f":"'Bill of Materials'!H444","v":"E94OH"},null,null,null,0,{"$f":"'Bill of Materials'!J444","v":"standard material"},{"$f":"'Bill of Materials'!K444","v":"physical"},0]
[{"$f":"'Bill of Materials'!E445+'Bill of Materials'!F445","v":0},{"$f":"'Bill of Materials'!M445","v":"FT"},{"$f":"'Bill of Materials'!G445","v":"Innerduct 1.5\" orange w/ pull rope indoor non-plenum (Riser rated)"},{"$f":"'Bill of Materials'!L445","v":"Carlon"},{"$f":"'Bill of Materials'!N445","v":0.79},{"$f":"'Bill of Materials'!P445","v":"DWC"},{"$f":"'Bill of Materials'!C445","v":"INFO-3541"},{"$f":"'Bill of Materials'!H445","v":"DH4X1C"},null,null,null,0,{"$f":"'Bill of Materials'!J445","v":"standard material"},{"$f":"'Bill of Materials'!K445","v":"physical"},0]
[{"$f":"'Bill of Materials'!E446+'Bill of Materials'!F446","v":0},{"$f":"'Bill of Materials'!M446","v":"FT"},{"$f":"'Bill of Materials'!G446","v":"Innerduct 1.5\" orange w/ pull rope indoor (Plenum rated)"},{"$f":"'Bill of Materials'!L446","v":"Carlon"},{"$f":"'Bill of Materials'!N446","v":1.98},{"$f":"'Bill of Materials'!P446","v":"DWC"},{"$f":"'Bill of Materials'!C446","v":"INFO-3542"},{"$f":"'Bill of Materials'!H446","v":"CH4X1C"},null,null,null,0,{"$f":"'Bill of Materials'!J446","v":"standard material"},{"$f":"'Bill of Materials'!K446","v":"physical"},0]
[{"$f":"'Bill of Materials'!E447+'Bill of Materials'!F447","v":0},{"$f":"'Bill of Materials'!M447","v":"FT"},{"$f":"'Bill of Materials'!G447","v":"1\" PVC Innerduct w/pull rope"},{"$f":"'Bill of Materials'!L447","v":"Carlon"},{"$f":"'Bill of Materials'!N447","v":0.52},{"$f":"'Bill of Materials'!P447","v":"DWC"},{"$f":"'Bill of Materials'!C447","v":"INFO-3543"},{"$f":"'Bill of Materials'!H447","v":"DF4X1C"},null,null,null,0,{"$f":"'Bill of Materials'!J447","v":"standard material"},{"$f":"'Bill of Materials'!K447","v":"physical"},0]
[{"$f":"'Bill of Materials'!E448+'Bill of Materials'!F448","v":0},{"$f":"'Bill of Materials'!M448","v":"EA"},{"$f":"'Bill of Materials'!G448","v":"Composite (36) 62.5/125um MM and (36) SM, Multi-Unit Circular Premise Fiber Cable, PLENUM, (12) Fiber Subunits, Tight Buffered\r\n"},{"$f":"'Bill of Materials'!L448","v":"AFL"},{"$f":"'Bill of Materials'!N448","v":4.96},{"$f":"'Bill of Materials'!P448","v":"DWC"},{"$f":"'Bill of Materials'!C448","v":"INFO-3730"},{"$f":"'Bill of Materials'!H448","v":"CP072X551001-36MM8/36SM"},null,null,null,0,{"$f":"'Bill of Materials'!J448","v":"standard material"},{"$f":"'Bill of Materials'!K448","v":"physical"},0]
[{"$f":"'Bill of Materials'!E449+'Bill of Materials'!F449","v":0},{"$f":"'Bill of Materials'!M449","v":"EA"},{"$f":"'Bill of Materials'!G449","v":"(144) SM, Multi-Unit Circular Premise Fiber Cable, PLENUM, (12) Fiber Subunits, Tight Buffered\r\n"},{"$f":"'Bill of Materials'!L449","v":"AFL"},{"$f":"'Bill of Materials'!N449","v":6.06},{"$f":"'Bill of Materials'!P449","v":"DWC"},{"$f":"'Bill of Materials'!C449","v":"INFO-3731"},{"$f":"'Bill of Materials'!H449","v":"CP1449551001"},null,null,null,0,{"$f":"'Bill of Materials'!J449","v":"standard material"},{"$f":"'Bill of Materials'!K449","v":"physical"},0]
[{"$f":"'Bill of Materials'!E450+'Bill of Materials'!F450","v":0},{"$f":"'Bill of Materials'!M450","v":"EA"},{"$f":"'Bill of Materials'!G450","v":"1.5\" Cord Connector for InnerDuct and SSU"},{"$f":"'Bill of Materials'!L450","v":"Bridgeport"},{"$f":"'Bill of Materials'!N450","v":6.98},{"$f":"'Bill of Materials'!P450","v":"DWC"},{"$f":"'Bill of Materials'!C450","v":"INFO-4716"},{"$f":"'Bill of Materials'!H450","v":"414-DC2"},null,null,null,0,{"$f":"'Bill of Materials'!J450","v":"standard material"},{"$f":"'Bill of Materials'!K450","v":"physical"},0]
[{"$f":"'Bill of Materials'!E451+'Bill of Materials'!F451","v":0},{"$f":"'Bill of Materials'!M451","v":"EA"},{"$f":"'Bill of Materials'!G451","v":"Large NEMA 1 MC/IC SSU Fiber Slack Storage Unit (48X36X12) - Material Only - Hammond (Incld's (8) J-Hooks)"},{"$f":"'Bill of Materials'!L451","v":"DWC"},{"$f":"'Bill of Materials'!N451","v":680.2},{"$f":"'Bill of Materials'!P451","v":"DWC"},{"$f":"'Bill of Materials'!C451","v":"INFO-4718"},{"$f":"'Bill of Materials'!H451","v":"N1MCICSSU-H"},null,null,null,0,{"$f":"'Bill of Materials'!J451","v":"standard material"},{"$f":"'Bill of Materials'!K451","v":"physical"},0]
[{"$f":"'Bill of Materials'!E452+'Bill of Materials'!F452","v":0},{"$f":"'Bill of Materials'!M452","v":"EA"},{"$f":"'Bill of Materials'!G452","v":"Medium NEMA 1 TC/TR SSU Fiber Slack Storage Unit (36X30X09) - Material Only - Hammond (Incld's (4) J-Hooks) SEE ORDERING GUIDELINES"},{"$f":"'Bill of Materials'!L452","v":"DWC"},{"$f":"'Bill of Materials'!N452","v":320.2},{"$f":"'Bill of Materials'!P452","v":"DWC"},{"$f":"'Bill of Materials'!C452","v":"INFO-4721"},{"$f":"'Bill of Materials'!H452","v":"N1TCTRSSU-H"},null,null,null,0,{"$f":"'Bill of Materials'!J452","v":"standard material"},{"$f":"'Bill of Materials'!K452","v":"physical"},0]
[{"$f":"'Bill of Materials'!E453+'Bill of Materials'!F453","v":0},{"$f":"'Bill of Materials'!M453","v":"EA"},{"$f":"'Bill of Materials'!G453","v":"Composite (36) 62.5/125um MM and (96) SM, Multi-Unit Circular Premise Fiber Cable, RISER, (12) Fiber Subunits, Tight Buffered\r\n"},{"$f":"'Bill of Materials'!L453","v":"AFL"},{"$f":"'Bill of Materials'!N453","v":4.8},{"$f":"'Bill of Materials'!P453","v":"DWC"},{"$f":"'Bill of Materials'!C453","v":"INFO-7010"},{"$f":"'Bill of Materials'!H453","v":"CR132X551001-36MM6/96SM"},null,null,null,0,{"$f":"'Bill of Materials'!J453","v":"standard material"},{"$f":"'Bill of Materials'!K453","v":"physical"},0]
[{"$f":"'Bill of Materials'!E454+'Bill of Materials'!F454","v":0},{"$f":"'Bill of Materials'!M454","v":"EA"},{"$f":"'Bill of Materials'!G454","v":"Composite (36) 62.5/125um MM and (96) SM, Multi-Unit Circular Premise Fiber Cable, PLENUM, (12) Fiber Subunits, Tight Buffered\r\n"},{"$f":"'Bill of Materials'!L454","v":"AFL"},{"$f":"'Bill of Materials'!N454","v":7.06},{"$f":"'Bill of Materials'!P454","v":"DWC"},{"$f":"'Bill of Materials'!C454","v":"INFO-7011"},{"$f":"'Bill of Materials'!H454","v":"CP132X551001-36MM6/96SM"},null,null,null,0,{"$f":"'Bill of Materials'!J454","v":"standard material"},{"$f":"'Bill of Materials'!K454","v":"physical"},0]
[{"$f":"'Bill of Materials'!E455+'Bill of Materials'!F455","v":0},{"$f":"'Bill of Materials'!M455","v":"EA"},{"$f":"'Bill of Materials'!G455","v":"Composite (36) 62.5/125um MM and (96) SM, Multi-Unit Circular Premise Fiber Cable, ADSS Outside Plant, (12) Fiber Subunits, Gel Filled Loose Tube\r\n"},{"$f":"'Bill of Materials'!L455","v":"AFL"},{"$f":"'Bill of Materials'!N455","v":3.07},{"$f":"'Bill of Materials'!P455","v":"DWC"},{"$f":"'Bill of Materials'!C455","v":"INFO-7012"},{"$f":"'Bill of Materials'!H455","v":"AE132X551001-36MM6/96SM"},null,null,null,0,{"$f":"'Bill of Materials'!J455","v":"standard material"},{"$f":"'Bill of Materials'!K455","v":"physical"},0]
[{"$f":"'Bill of Materials'!E456+'Bill of Materials'!F456","v":0},{"$f":"'Bill of Materials'!M456","v":"EA"},{"$f":"'Bill of Materials'!G456","v":"Composite (36) 62.5/125um MM and (96) SM, Multi-Unit Circular Premise Fiber Cable, Indoor/Outdoor, (12) Fiber Subunits, Loose Tube\r\n"},{"$f":"'Bill of Materials'!L456","v":"AFL"},{"$f":"'Bill of Materials'!N456","v":3.52},{"$f":"'Bill of Materials'!P456","v":"DWC"},{"$f":"'Bill of Materials'!C456","v":"INFO-7013"},{"$f":"'Bill of Materials'!H456","v":"LV132XC5101N1-36MM6/96SM"},null,null,null,0,{"$f":"'Bill of Materials'!J456","v":"standard material"},{"$f":"'Bill of Materials'!K456","v":"physical"},0]
[{"$f":"'Bill of Materials'!E457+'Bill of Materials'!F457","v":0},{"$f":"'Bill of Materials'!M457","v":"EA"},{"$f":"'Bill of Materials'!G457","v":"Composite (12) 62.5/125um MM and (24) SM, Multi-Unit Circular Premise Fiber Cable, RISER, (12) Fiber Subunits, Tight Buffered\r\n"},{"$f":"'Bill of Materials'!L457","v":"AFL"},{"$f":"'Bill of Materials'!N457","v":2.13},{"$f":"'Bill of Materials'!P457","v":"DWC"},{"$f":"'Bill of Materials'!C457","v":"INFO-7014"},{"$f":"'Bill of Materials'!H457","v":"CR036X551001-12MM8/24SM"},null,null,null,0,{"$f":"'Bill of Materials'!J457","v":"standard material"},{"$f":"'Bill of Materials'!K457","v":"physical"},0]
[{"$f":"'Bill of Materials'!E458+'Bill of Materials'!F458","v":0},{"$f":"'Bill of Materials'!M458","v":"EA"},{"$f":"'Bill of Materials'!G458","v":"Composite (12) 62.5/125um MM and (24) SM, Multi-Unit Circular Premise Fiber Cable, PLENUM, (12) Fiber Subunits, Tight Buffered\r\n"},{"$f":"'Bill of Materials'!L458","v":"AFL"},{"$f":"'Bill of Materials'!N458","v":2.79},{"$f":"'Bill of Materials'!P458","v":"DWC"},{"$f":"'Bill of Materials'!C458","v":"INFO-7015"},{"$f":"'Bill of Materials'!H458","v":"CP036X551001-12MM8/24SM"},null,null,null,0,{"$f":"'Bill of Materials'!J458","v":"standard material"},{"$f":"'Bill of Materials'!K458","v":"physical"},0]
[{"$f":"'Bill of Materials'!E459+'Bill of Materials'!F459","v":0},{"$f":"'Bill of Materials'!M459","v":"EA"},{"$f":"'Bill of Materials'!G459","v":"Composite (12) 62.5/125um MM and (24) SM, Multi-Unit Circular Premise Fiber Cable, Indoor/Outdoor, (12) Fiber Subunits, Loose Tube\r\n"},{"$f":"'Bill of Materials'!L459","v":"AFL"},{"$f":"'Bill of Materials'!N459","v":1.2},{"$f":"'Bill of Materials'!P459","v":"DWC"},{"$f":"'Bill of Materials'!C459","v":"INFO-7016"},{"$f":"'Bill of Materials'!H459","v":"LV036XC5101N1-12MM8/24SM"},null,null,null,0,{"$f":"'Bill of Materials'!J459","v":"standard material"},{"$f":"'Bill of Materials'!K459","v":"physical"},0]
[{"$f":"'Bill of Materials'!E460+'Bill of Materials'!F460","v":0},{"$f":"'Bill of Materials'!M460","v":"EA"},{"$f":"'Bill of Materials'!G460","v":"Composite (12) 62.5/125um MM and (24) SM, Multi-Unit Circular Premise Fiber Cable, ADSS Outside Plant, (12) Fiber Subunits, Gel Filled Loose Tube\r\n"},{"$f":"'Bill of Materials'!L460","v":"AFL"},{"$f":"'Bill of Materials'!N460","v":1.02},{"$f":"'Bill of Materials'!P460","v":"DWC"},{"$f":"'Bill of Materials'!C460","v":"INFO-7017"},{"$f":"'Bill of Materials'!H460","v":"AE036X551001-12MM8/24SM"},null,null,null,0,{"$f":"'Bill of Materials'!J460","v":"standard material"},{"$f":"'Bill of Materials'!K460","v":"physical"},0]
[{"$f":"'Bill of Materials'!E461+'Bill of Materials'!F461","v":0},{"$f":"'Bill of Materials'!M461","v":"EA"},{"$f":"'Bill of Materials'!G461","v":"1\" Non-Metallic Innerduct, THREADED ADAPTER"},{"$f":"'Bill of Materials'!L461","v":"Carlon"},{"$f":"'Bill of Materials'!N461","v":1.54},{"$f":"'Bill of Materials'!P461","v":"DWC"},{"$f":"'Bill of Materials'!C461","v":"INRF-0051"},{"$f":"'Bill of Materials'!H461","v":"A343F"},null,null,null,0,{"$f":"'Bill of Materials'!J461","v":"standard material"},{"$f":"'Bill of Materials'!K461","v":"physical"},0]
[{"$f":"'Bill of Materials'!E462+'Bill of Materials'!F462","v":0},{"$f":"'Bill of Materials'!M462","v":"FT"},{"$f":"'Bill of Materials'!G462","v":"1\" Innerduct, Orange w/Pull Rope, Riser Rated"},{"$f":"'Bill of Materials'!L462","v":"Carlon"},{"$f":"'Bill of Materials'!N462","v":0.52},{"$f":"'Bill of Materials'!P462","v":"DWC"},{"$f":"'Bill of Materials'!C462","v":"INRF-0100"},{"$f":"'Bill of Materials'!H462","v":"DF4XIC"},null,null,null,0,{"$f":"'Bill of Materials'!J462","v":"standard material"},{"$f":"'Bill of Materials'!K462","v":"physical"},0]
[{"$f":"'Bill of Materials'!#REF!+'Bill of Materials'!#REF!","v":{"$error":"#REF!"}},{"$f":"'Bill of Materials'!#REF!","v":{"$error":"#REF!"}},{"$f":"'Bill of Materials'!#REF!","v":{"$error":"#REF!"}},{"$f":"'Bill of Materials'!#REF!","v":{"$error":"#REF!"}},{"$f":"'Bill of Materials'!#REF!","v":{"$error":"#REF!"}},{"$f":"'Bill of Materials'!#REF!","v":{"$error":"#REF!"}},{"$f":"'Bill of Materials'!#REF!","v":{"$error":"#REF!"}},{"$f":"'Bill of Materials'!#REF!","v":{"$error":"#REF!"}},null,null,null,{"$error":"#REF!"},{"$f":"'Bill of Materials'!#REF!","v":{"$error":"#REF!"}},{"$f":"'Bill of Materials'!#REF!","v":{"$error":"#REF!"}},{"$error":"#REF!"}]
[{"$f":"'Bill of Materials'!E463+'Bill of Materials'!F463","v":0},{"$f":"'Bill of Materials'!M463","v":"FT"},{"$f":"'Bill of Materials'!G463","v":"1\" Innerduct, Orange w/Pull Rope, Plenum Rated"},{"$f":"'Bill of Materials'!L463","v":"Carlon"},{"$f":"'Bill of Materials'!N463","v":1.57},{"$f":"'Bill of Materials'!P463","v":"DWC"},{"$f":"'Bill of Materials'!C463","v":"INRF-0101"},{"$f":"'Bill of Materials'!H463","v":"CF4XIC"},null,null,null,0,{"$f":"'Bill of Materials'!J463","v":"standard material"},{"$f":"'Bill of Materials'!K463","v":"physical"},0]
[{"$f":"'Bill of Materials'!E464+'Bill of Materials'!F464","v":0},{"$f":"'Bill of Materials'!M464","v":"FT"},{"$f":"'Bill of Materials'!G464","v":"1.25\" Corrugated High Density Polyethylene Innerduct (Outside Plant) - Orange"},{"$f":"'Bill of Materials'!L464","v":"Carlon"},{"$f":"'Bill of Materials'!N464","v":0},{"$f":"'Bill of Materials'!P464","v":"DWC"},{"$f":"'Bill of Materials'!C464","v":"NIS"},{"$f":"'Bill of Materials'!H464","v":"A6D2S1JNNBXXXX"},null,null,null,0,{"$f":"'Bill of Materials'!J464","v":"non-standard material"},{"$f":"'Bill of Materials'!K464","v":"physical"},0]
[{"$f":"'Bill of Materials'!E465+'Bill of Materials'!F465","v":0},{"$f":"'Bill of Materials'!M465","v":"FT"},{"$f":"'Bill of Materials'!G465","v":"1.25\" Corrugated High Density Polyethylene Innerduct (Outside Plant) - Green"},{"$f":"'Bill of Materials'!L465","v":"Carlon"},{"$f":"'Bill of Materials'!N465","v":0},{"$f":"'Bill of Materials'!P465","v":"DWC"},{"$f":"'Bill of Materials'!C465","v":"NIS"},{"$f":"'Bill of Materials'!H465","v":"A6D2S1FNNBXXXX"},null,null,null,0,{"$f":"'Bill of Materials'!J465","v":"non-standard material"},{"$f":"'Bill of Materials'!K465","v":"physical"},0]
[{"$f":"'Bill of Materials'!E466+'Bill of Materials'!F466","v":0},{"$f":"'Bill of Materials'!M466","v":"FT"},{"$f":"'Bill of Materials'!G466","v":"1.25\" Corrugated High Density Polyethylene Innerduct (Outside Plant) - Blue"},{"$f":"'Bill of Materials'!L466","v":"Carlon"},{"$f":"'Bill of Materials'!N466","v":0},{"$f":"'Bill of Materials'!P466","v":"DWC"},{"$f":"'Bill of Materials'!C466","v":"NIS"},{"$f":"'Bill of Materials'!H466","v":"A6D2S1BNNBXXXX"},null,null,null,0,{"$f":"'Bill of Materials'!J466","v":"non-standard material"},{"$f":"'Bill of Materials'!K466","v":"physical"},0]
[{"$f":"'Bill of Materials'!E468+'Bill of Materials'!F468","v":0},{"$f":"'Bill of Materials'!M468","v":"EA"},{"$f":"'Bill of Materials'!G468","v":"Mount equipment shelf---------Labor Only"},{"$f":"'Bill of Materials'!L468","v":"DWC"},{"$f":"'Bill of Materials'!N468","v":38.700000000000003},{"$f":"'Bill of Materials'!P468","v":"DWC"},{"$f":"'Bill of Materials'!C468","v":"10102"},{"$f":"'Bill of Materials'!H468","v":"Equipment Shelf-L"},null,null,null,0,{"$f":"'Bill of Materials'!J468","v":"standard material"},{"$f":"'Bill of Materials'!K468","v":"physical"},0]
[{"$f":"'Bill of Materials'!E469+'Bill of Materials'!F469","v":0},{"$f":"'Bill of Materials'!M469","v":"EA"},{"$f":"'Bill of Materials'!G469","v":"2RU Sliding Work Shelf . Fits 21\" - 32\" Adjustable Rack."},{"$f":"'Bill of Materials'!L469","v":"Homaco"},{"$f":"'Bill of Materials'!N469","v":365.71},{"$f":"'Bill of Materials'!P469","v":"DWC"},{"$f":"'Bill of Materials'!C469","v":"10263"},{"$f":"'Bill of Materials'!H469","v":"ESV-19-FST2732"},null,null,null,0,{"$f":"'Bill of Materials'!J469","v":"standard material"},{"$f":"'Bill of Materials'!K469","v":"physical"},0]
[{"$f":"'Bill of Materials'!E470+'Bill of Materials'!F470","v":0},{"$f":"'Bill of Materials'!M470","v":"EA"},{"$f":"'Bill of Materials'!G470","v":"1RU Fixed Vented Shelf, 19”w x 18”d, Black, Attached to Front and Rear Rails"},{"$f":"'Bill of Materials'!L470","v":"Hammond"},{"$f":"'Bill of Materials'!N470","v":27.8},{"$f":"'Bill of Materials'!P470","v":"DWC"},{"$f":"'Bill of Materials'!C470","v":"1031-0076"},{"$f":"'Bill of Materials'!H470","v":"RFVS1918BK1"},null,null,null,0,{"$f":"'Bill of Materials'!J470","v":"standard material"},{"$f":"'Bill of Materials'!K470","v":"physical"},0]
[{"$f":"'Bill of Materials'!E471+'Bill of Materials'!F471","v":0},{"$f":"'Bill of Materials'!M471","v":"EA"},{"$f":"'Bill of Materials'!G471","v":"2RU Fixed Vented Shelf, (19\"w x 15\"d ), Black, Cantilever Style, 200lb. Load"},{"$f":"'Bill of Materials'!L471","v":"Hammond"},{"$f":"'Bill of Materials'!N471","v":43.31},{"$f":"'Bill of Materials'!P471","v":"DWC"},{"$f":"'Bill of Materials'!C471","v":"1031-0077"},{"$f":"'Bill of Materials'!H471","v":"RASV190315BK1"},null,null,null,0,{"$f":"'Bill of Materials'!J471","v":"standard material"},{"$f":"'Bill of Materials'!K471","v":"physical"},0]
[{"$f":"'Bill of Materials'!#REF!+'Bill of Materials'!#REF!","v":{"$error":"#REF!"}},{"$f":"'Bill of Materials'!#REF!","v":{"$error":"#REF!"}},{"$f":"'Bill of Materials'!#REF!","v":{"$error":"#REF!"}},{"$f":"'Bill of Materials'!#REF!","v":{"$error":"#REF!"}},{"$f":"'Bill of Materials'!#REF!","v":{"$error":"#REF!"}},{"$f":"'Bill of Materials'!#REF!","v":{"$error":"#REF!"}},{"$f":"'Bill of Materials'!#REF!","v":{"$error":"#REF!"}},{"$f":"'Bill of Materials'!#REF!","v":{"$error":"#REF!"}},null,null,null,{"$error":"#REF!"},{"$f":"'Bill of Materials'!#REF!","v":{"$error":"#REF!"}},{"$f":"'Bill of Materials'!#REF!","v":{"$error":"#REF!"}},{"$error":"#REF!"}]
[{"$f":"'Bill of Materials'!E472+'Bill of Materials'!F472","v":0},{"$f":"'Bill of Materials'!M472","v":"EA"},{"$f":"'Bill of Materials'!G472","v":"1RU Sliding Work Shelf, Vented, 19\"w x 18\"d, Black 120lb. Load"},{"$f":"'Bill of Materials'!L472","v":"Belden"},{"$f":"'Bill of Materials'!N472","v":112.17},{"$f":"'Bill of Materials'!P472","v":"DWC"},{"$f":"'Bill of Materials'!C472","v":"1031-007A"},{"$f":"'Bill of Materials'!H472","v":"9013-1918-S0005"},null,null,null,0,{"$f":"'Bill of Materials'!J472","v":"standard material"},{"$f":"'Bill of Materials'!K472","v":"physical"},0]
[{"$f":"'Bill of Materials'!E473+'Bill of Materials'!F473","v":0},{"$f":"'Bill of Materials'!M473","v":"EA"},{"$f":"'Bill of Materials'!G473","v":"1 RU. Adjustable Depth - Fixed Shelf  Fits 25\" to 35\" Adjustable Rack, Black"},{"$f":"'Bill of Materials'!L473","v":"Hammond"},{"$f":"'Bill of Materials'!N473","v":69.75},{"$f":"'Bill of Materials'!P473","v":"DWC"},{"$f":"'Bill of Materials'!C473","v":"10313"},{"$f":"'Bill of Materials'!H473","v":"RMASU1925BK1"},null,null,null,0,{"$f":"'Bill of Materials'!J473","v":"standard material"},{"$f":"'Bill of Materials'!K473","v":"physical"},0]
[{"$f":"'Bill of Materials'!E474+'Bill of Materials'!F474","v":0},{"$f":"'Bill of Materials'!M474","v":"EA"},{"$f":"'Bill of Materials'!G474","v":"3RU Sliding Work Shelf, Vented, 19\"w x 18\"d, Black 120lb. Load"},{"$f":"'Bill of Materials'!L474","v":"Hammond"},{"$f":"'Bill of Materials'!N474","v":79.8},{"$f":"'Bill of Materials'!P474","v":"DWC"},{"$f":"'Bill of Materials'!C474","v":"INFO-2339"},{"$f":"'Bill of Materials'!H474","v":"RSVS1918BK1"},null,null,null,0,{"$f":"'Bill of Materials'!J474","v":"standard material"},{"$f":"'Bill of Materials'!K474","v":"physical"},0]
[{"$f":"'Bill of Materials'!E475+'Bill of Materials'!F475","v":0},{"$f":"'Bill of Materials'!M475","v":"EA"},{"$f":"'Bill of Materials'!G475","v":"3RU Vented Shelf, (19\"w x 15\"d ), Black, Cantilever Style, 200lb. Load"},{"$f":"'Bill of Materials'!L475","v":"Hammond"},{"$f":"'Bill of Materials'!N475","v":50.51},{"$f":"'Bill of Materials'!P475","v":"DWC"},{"$f":"'Bill of Materials'!C475","v":"INFO-4221"},{"$f":"'Bill of Materials'!H475","v":"RASV190515BK1"},null,null,null,0,{"$f":"'Bill of Materials'!J475","v":"standard material"},{"$f":"'Bill of Materials'!K475","v":"physical"},0]
[{"$f":"'Bill of Materials'!E477+'Bill of Materials'!F477","v":0},{"$f":"'Bill of Materials'!M477","v":"EA"},{"$f":"'Bill of Materials'!G477","v":"Cabinet Rail Mounting Screws 10/32 x 5/8\"L, (25/PKG)"},{"$f":"'Bill of Materials'!L477","v":"Hammond"},{"$f":"'Bill of Materials'!N477","v":3.47},{"$f":"'Bill of Materials'!P477","v":"DWC"},{"$f":"'Bill of Materials'!C477","v":"0700-HGHW"},{"$f":"'Bill of Materials'!H477","v":"1421A25B"},null,null,null,0,{"$f":"'Bill of Materials'!J477","v":"standard material"},{"$f":"'Bill of Materials'!K477","v":"physical"},0]
[{"$f":"'Bill of Materials'!E478+'Bill of Materials'!F478","v":0},{"$f":"'Bill of Materials'!M478","v":"EA"},{"$f":"'Bill of Materials'!G478","v":"40RU Cabinet Vertical Cable Organizer w/Door and Strut Mounting Hardware. Single Unit"},{"$f":"'Bill of Materials'!L478","v":"Hammond"},{"$f":"'Bill of Materials'!N478","v":88.9},{"$f":"'Bill of Materials'!P478","v":"DWC"},{"$f":"'Bill of Materials'!C478","v":"0866-03VP"},{"$f":"'Bill of Materials'!H478","v":"VCMDS70BK1"},null,null,null,0,{"$f":"'Bill of Materials'!J478","v":"standard material"},{"$f":"'Bill of Materials'!K478","v":"physical"},0]
[{"$f":"'Bill of Materials'!E479+'Bill of Materials'!F479","v":0},{"$f":"'Bill of Materials'!M479","v":"EA"},{"$f":"'Bill of Materials'!G479","v":"Washers for Cabinet Rail Mounting Screws, (25/PKG)"},{"$f":"'Bill of Materials'!L479","v":"Hammond"},{"$f":"'Bill of Materials'!N479","v":2.44},{"$f":"'Bill of Materials'!P479","v":"DWC"},{"$f":"'Bill of Materials'!C479","v":"0900-CG6J"},{"$f":"'Bill of Materials'!H479","v":"1421E25W"},null,null,null,0,{"$f":"'Bill of Materials'!J479","v":"standard material"},{"$f":"'Bill of Materials'!K479","v":"physical"},0]
[{"$f":"'Bill of Materials'!E480+'Bill of Materials'!F480","v":0},{"$f":"'Bill of Materials'!M480","v":"EA"},{"$f":"'Bill of Materials'!G480","v":"Cut hole up to 4\" NPT---------Labor Only"},{"$f":"'Bill of Materials'!L480","v":"DWC"},{"$f":"'Bill of Materials'!N480","v":27.9},{"$f":"'Bill of Materials'!P480","v":"DWC"},{"$f":"'Bill of Materials'!C480","v":"10039"},{"$f":"'Bill of Materials'!H480","v":"4IN-NPT-L"},null,null,null,0,{"$f":"'Bill of Materials'!J480","v":"standard material"},{"$f":"'Bill of Materials'!K480","v":"physical"},0]
[{"$f":"'Bill of Materials'!E481+'Bill of Materials'!F481","v":0},{"$f":"'Bill of Materials'!M481","v":"EA"},{"$f":"'Bill of Materials'!G481","v":"78  Inch NEMA 1 Enclosure Clean Room Cabinet Assembly w/Two Fans - Labor Only"},{"$f":"'Bill of Materials'!L481","v":"DWC"},{"$f":"'Bill of Materials'!N481","v":279},{"$f":"'Bill of Materials'!P481","v":"DWC"},{"$f":"'Bill of Materials'!C481","v":"10062"},{"$f":"'Bill of Materials'!H481","v":"78N1CRC2F-L"},null,null,null,0,{"$f":"'Bill of Materials'!J481","v":"standard material"},{"$f":"'Bill of Materials'!K481","v":"physical"},0]
[{"$f":"'Bill of Materials'!E482+'Bill of Materials'!F482","v":0},{"$f":"'Bill of Materials'!M482","v":"EA"},{"$f":"'Bill of Materials'!G482","v":"78 Inch NEMA 1 Enclosure Clean Room Cabinet Assembly w/Four Fans - Labor Only"},{"$f":"'Bill of Materials'!L482","v":"DWC"},{"$f":"'Bill of Materials'!N482","v":337.5},{"$f":"'Bill of Materials'!P482","v":"DWC"},{"$f":"'Bill of Materials'!C482","v":"10063"},{"$f":"'Bill of Materials'!H482","v":"78N1CRC4F-L"},null,null,null,0,{"$f":"'Bill of Materials'!J482","v":"standard material"},{"$f":"'Bill of Materials'!K482","v":"physical"},0]
[{"$f":"'Bill of Materials'!E483+'Bill of Materials'!F483","v":0},{"$f":"'Bill of Materials'!M483","v":"EA"},{"$f":"'Bill of Materials'!G483","v":"78 Inch NEMA 1 Enclosure Clean Room Cabinet Assembly No Fans - Labor Only"},{"$f":"'Bill of Materials'!L483","v":"DWC"},{"$f":"'Bill of Materials'!N483","v":279},{"$f":"'Bill of Materials'!P483","v":"DWC"},{"$f":"'Bill of Materials'!C483","v":"10064"},{"$f":"'Bill of Materials'!H483","v":"78N1CRCNF-L"},null,null,null,0,{"$f":"'Bill of Materials'!J483","v":"standard material"},{"$f":"'Bill of Materials'!K483","v":"physical"},0]
[{"$f":"'Bill of Materials'!E484+'Bill of Materials'!F484","v":0},{"$f":"'Bill of Materials'!M484","v":"EA"},{"$f":"'Bill of Materials'!G484","v":"Brushed Grommet Panel for Cable Entry Into Tops of Nema 1 Cabinets 19\" x 2RU"},{"$f":"'Bill of Materials'!L484","v":"Mid Atlantic"},{"$f":"'Bill of Materials'!N484","v":37.549999999999997},{"$f":"'Bill of Materials'!P484","v":"DWC"},{"$f":"'Bill of Materials'!C484","v":"10078"},{"$f":"'Bill of Materials'!H484","v":"BR2"},null,null,null,0,{"$f":"'Bill of Materials'!J484","v":"standard material"},{"$f":"'Bill of Materials'!K484","v":"physical"},0]
[{"$f":"'Bill of Materials'!E485+'Bill of Materials'!F485","v":0},{"$f":"'Bill of Materials'!M485","v":"EA"},{"$f":"'Bill of Materials'!G485","v":"Brushed Grommet on Nema 1 Cabinets (Labor ONLY)"},{"$f":"'Bill of Materials'!L485","v":"DWC"},{"$f":"'Bill of Materials'!N485","v":56.7},{"$f":"'Bill of Materials'!P485","v":"DWC"},{"$f":"'Bill of Materials'!C485","v":"10080"},{"$f":"'Bill of Materials'!H485","v":"BR2-L"},null,null,null,0,{"$f":"'Bill of Materials'!J485","v":"standard material"},{"$f":"'Bill of Materials'!K485","v":"physical"},0]
[{"$f":"'Bill of Materials'!E486+'Bill of Materials'!F486","v":0},{"$f":"'Bill of Materials'!M486","v":"EA"},{"$f":"'Bill of Materials'!G486","v":"Blank 1RU 19\" Non Vented Flanged Filler Panel Black"},{"$f":"'Bill of Materials'!L486","v":"Mid Atlantic"},{"$f":"'Bill of Materials'!N486","v":5.55},{"$f":"'Bill of Materials'!P486","v":"DWC"},{"$f":"'Bill of Materials'!C486","v":"10130"},{"$f":"'Bill of Materials'!H486","v":"MA-EB1"},null,null,null,0,{"$f":"'Bill of Materials'!J486","v":"standard material"},{"$f":"'Bill of Materials'!K486","v":"physical"},0]
[{"$f":"'Bill of Materials'!E487+'Bill of Materials'!F487","v":0},{"$f":"'Bill of Materials'!M487","v":"EA"},{"$f":"'Bill of Materials'!G487","v":"78\"H X 29\"W X 34\"D Network Cabinet w/2 Sets of Rails, Removable 10\" Fan Top, Plexiglass Front Door w/Lock, Solid Rear Door w/Lock, and Locking Side Panels (Black)"},{"$f":"'Bill of Materials'!L487","v":"Belden"},{"$f":"'Bill of Materials'!N487","v":1762.75},{"$f":"'Bill of Materials'!P487","v":"DWC"},{"$f":"'Bill of Materials'!C487","v":"10179"},{"$f":"'Bill of Materials'!H487","v":"XDP78-3-122120"},null,null,null,0,{"$f":"'Bill of Materials'!J487","v":"standard material"},{"$f":"'Bill of Materials'!K487","v":"physical"},0]
[{"$f":"'Bill of Materials'!E488+'Bill of Materials'!F488","v":0},{"$f":"'Bill of Materials'!M488","v":"EA"},{"$f":"'Bill of Materials'!G488","v":"78\" Network Cabinet Cable Management D-Rings"},{"$f":"'Bill of Materials'!L488","v":"Belden"},{"$f":"'Bill of Materials'!N488","v":7.35},{"$f":"'Bill of Materials'!P488","v":"DWC"},{"$f":"'Bill of Materials'!C488","v":"10180"},{"$f":"'Bill of Materials'!H488","v":"XGCM-DR2535"},null,null,null,0,{"$f":"'Bill of Materials'!J488","v":"standard material"},{"$f":"'Bill of Materials'!K488","v":"physical"},0]
[{"$f":"'Bill of Materials'!E489+'Bill of Materials'!F489","v":0},{"$f":"'Bill of Materials'!M489","v":"EA"},{"$f":"'Bill of Materials'!G489","v":"78\" Network Cabinet Adjustable Horizontal Cable Manager"},{"$f":"'Bill of Materials'!L489","v":"Belden"},{"$f":"'Bill of Materials'!N489","v":28.3},{"$f":"'Bill of Materials'!P489","v":"DWC"},{"$f":"'Bill of Materials'!C489","v":"10181"},{"$f":"'Bill of Materials'!H489","v":"XGCM-HCT1428"},null,null,null,0,{"$f":"'Bill of Materials'!J489","v":"standard material"},{"$f":"'Bill of Materials'!K489","v":"physical"},0]
[{"$f":"'Bill of Materials'!E490+'Bill of Materials'!F490","v":0},{"$f":"'Bill of Materials'!M490","v":"EA"},{"$f":"'Bill of Materials'!G490","v":"78\" Network Cabinet Vertical Rail for Cable Management"},{"$f":"'Bill of Materials'!L490","v":"Belden"},{"$f":"'Bill of Materials'!N490","v":33.299999999999997},{"$f":"'Bill of Materials'!P490","v":"DWC"},{"$f":"'Bill of Materials'!C490","v":"10182"},{"$f":"'Bill of Materials'!H490","v":"XGCM-VR78"},null,null,null,0,{"$f":"'Bill of Materials'!J490","v":"standard material"},{"$f":"'Bill of Materials'!K490","v":"physical"},0]
[{"$f":"'Bill of Materials'!E491+'Bill of Materials'!F491","v":0},{"$f":"'Bill of Materials'!M491","v":"KIT"},{"$f":"'Bill of Materials'!G491","v":"DWC Assembly Kit, X-MARK ULTRA SERVER Enclosure-Cabinet, 78\"h x 24\"w x 36\"d, 42RU-19\" Mounting, (3) Pair Adjustable Mounting Rails/(50) #M6 Cage Nuts and Screws, (4)-4\" Muffin Fan Top, Perforated Front Door and Perforated Split Rear Doors, (2) Solid Side Panels, Frame/Door Ground Straps, EGB Ground Bar. Manf. Model #XUS78-3-135520."},{"$f":"'Bill of Materials'!L491","v":"DWC"},{"$f":"'Bill of Materials'!N491","v":2261.8000000000002},{"$f":"'Bill of Materials'!P491","v":"DWC"},{"$f":"'Bill of Materials'!C491","v":"10249"},{"$f":"'Bill of Materials'!H491","v":"782436US-X"},null,null,null,0,{"$f":"'Bill of Materials'!J491","v":"standard material"},{"$f":"'Bill of Materials'!K491","v":"physical"},0]
[{"$f":"'Bill of Materials'!E492+'Bill of Materials'!F492","v":0},{"$f":"'Bill of Materials'!M492","v":"EA"},{"$f":"'Bill of Materials'!G492","v":"14.5\" Ground Strap, For  X-Mark Cabinet Doors, Side Panels, etc."},{"$f":"'Bill of Materials'!L492","v":"Belden"},{"$f":"'Bill of Materials'!N492","v":5.25},{"$f":"'Bill of Materials'!P492","v":"DWC"},{"$f":"'Bill of Materials'!C492","v":"10251"},{"$f":"'Bill of Materials'!H492","v":"GM-HP14.5"},null,null,null,0,{"$f":"'Bill of Materials'!J492","v":"standard material"},{"$f":"'Bill of Materials'!K492","v":"physical"},0]
[{"$f":"'Bill of Materials'!E493+'Bill of Materials'!F493","v":0},{"$f":"'Bill of Materials'!M493","v":"KIT"},{"$f":"'Bill of Materials'!G493","v":"DWC Assembly Kit, X-MARK ULTRA DEEP SERVER Enclosure-Cabinet-Black,  84\"h x 24\"w x 42\"d, 45RU-19\" Mounting, (3) Pair Adjustable Mounting Rails/(50) #M6 Cage Nuts and Screws, (4)-4\" Muffin Fan Top, Perforated Front Door and Perforated Split Rear Doors, (2) Solid Side Panels, Frame/Door Ground Straps, EGB Ground Bar. Manf. Model #XUSD84-3-132220."},{"$f":"'Bill of Materials'!L493","v":"DWC"},{"$f":"'Bill of Materials'!N493","v":2515.1},{"$f":"'Bill of Materials'!P493","v":"DWC"},{"$f":"'Bill of Materials'!C493","v":"10252"},{"$f":"'Bill of Materials'!H493","v":"842442UDS-X"},null,null,null,0,{"$f":"'Bill of Materials'!J493","v":"standard material"},{"$f":"'Bill of Materials'!K493","v":"physical"},0]
[{"$f":"'Bill of Materials'!E494+'Bill of Materials'!F494","v":0},{"$f":"'Bill of Materials'!M494","v":"EA"},{"$f":"'Bill of Materials'!G494","v":"X-Mark Optional Cabinet Steel Horiz. Cable Trough, FRONT"},{"$f":"'Bill of Materials'!L494","v":"Belden"},{"$f":"'Bill of Materials'!N494","v":30.6},{"$f":"'Bill of Materials'!P494","v":"DWC"},{"$f":"'Bill of Materials'!C494","v":"10253"},{"$f":"'Bill of Materials'!H494","v":"433-5115-F"},null,null,null,0,{"$f":"'Bill of Materials'!J494","v":"standard material"},{"$f":"'Bill of Materials'!K494","v":"physical"},0]
[{"$f":"'Bill of Materials'!E495+'Bill of Materials'!F495","v":0},{"$f":"'Bill of Materials'!M495","v":"EA"},{"$f":"'Bill of Materials'!G495","v":"X-Mark Optional Cabinet Steel Horiz. Cable Trough, REAR"},{"$f":"'Bill of Materials'!L495","v":"Belden"},{"$f":"'Bill of Materials'!N495","v":41.35},{"$f":"'Bill of Materials'!P495","v":"DWC"},{"$f":"'Bill of Materials'!C495","v":"10254"},{"$f":"'Bill of Materials'!H495","v":"433-5115-R"},null,null,null,0,{"$f":"'Bill of Materials'!J495","v":"standard material"},{"$f":"'Bill of Materials'!K495","v":"physical"},0]
[{"$f":"'Bill of Materials'!E496+'Bill of Materials'!F496","v":0},{"$f":"'Bill of Materials'!M496","v":"EA"},{"$f":"'Bill of Materials'!G496","v":"X-Mark Optional Cabinet Steel Vertical Cable Trough 76.5\"H, SIDES"},{"$f":"'Bill of Materials'!L496","v":"Belden"},{"$f":"'Bill of Materials'!N496","v":67.849999999999994},{"$f":"'Bill of Materials'!P496","v":"DWC"},{"$f":"'Bill of Materials'!C496","v":"10255"},{"$f":"'Bill of Materials'!H496","v":"433-5114"},null,null,null,0,{"$f":"'Bill of Materials'!J496","v":"standard material"},{"$f":"'Bill of Materials'!K496","v":"physical"},0]
[{"$f":"'Bill of Materials'!E497+'Bill of Materials'!F497","v":0},{"$f":"'Bill of Materials'!M497","v":"KIT"},{"$f":"'Bill of Materials'!G497","v":"DWC Assembly Kit, X-MARK GIGA SERVER Enclosure-Cabinet-Black,  84\"h x 26\"w x 42\"d, 45RU-19\" Mounting, (3) Pair Adjustable Mounting Rails/(50) #M6 Cage Nuts and Screws, Perforated Front Door and Split Perforated Rear Doors w/(4) Fans each door, Frame Integrated Top Horiz. and Vert. WM, Bottom Cable Entry Panel, (2) Solid Side Panels, Frame/Door Ground Straps, EGB Ground Bar. Manf. Model #XGS-3-112320"},{"$f":"'Bill of Materials'!L497","v":"DWC"},{"$f":"'Bill of Materials'!N497","v":3460.7},{"$f":"'Bill of Materials'!P497","v":"DWC"},{"$f":"'Bill of Materials'!C497","v":"10257"},{"$f":"'Bill of Materials'!H497","v":"842642GS-X"},null,null,null,0,{"$f":"'Bill of Materials'!J497","v":"standard material"},{"$f":"'Bill of Materials'!K497","v":"physical"},0]
[{"$f":"'Bill of Materials'!E498+'Bill of Materials'!F498","v":0},{"$f":"'Bill of Materials'!M498","v":"EA"},{"$f":"'Bill of Materials'!G498","v":"X-Mark Server Cabinets M6 Cage Nuts for Mounting Rails, 50/Bag"},{"$f":"'Bill of Materials'!L498","v":"Belden"},{"$f":"'Bill of Materials'!N498","v":22.3},{"$f":"'Bill of Materials'!P498","v":"DWC"},{"$f":"'Bill of Materials'!C498","v":"10258"},{"$f":"'Bill of Materials'!H498","v":"8913-0100"},null,null,null,0,{"$f":"'Bill of Materials'!J498","v":"standard material"},{"$f":"'Bill of Materials'!K498","v":"physical"},0]
[{"$f":"'Bill of Materials'!E499+'Bill of Materials'!F499","v":0},{"$f":"'Bill of Materials'!M499","v":"EA"},{"$f":"'Bill of Materials'!G499","v":"X-Mark Server Cabinets M6 Screws for Cage Nuts/Mounting Rails, 50/Bag"},{"$f":"'Bill of Materials'!L499","v":"Belden"},{"$f":"'Bill of Materials'!N499","v":10.75},{"$f":"'Bill of Materials'!P499","v":"DWC"},{"$f":"'Bill of Materials'!C499","v":"10259"},{"$f":"'Bill of Materials'!H499","v":"8914-0100"},null,null,null,0,{"$f":"'Bill of Materials'!J499","v":"standard material"},{"$f":"'Bill of Materials'!K499","v":"physical"},0]
[{"$f":"'Bill of Materials'!E500+'Bill of Materials'!F500","v":0},{"$f":"'Bill of Materials'!M500","v":"EA"},{"$f":"'Bill of Materials'!G500","v":"Cool Boot Raised Floor Air Sealing Grommet 10\" x 8\" Surface Mount"},{"$f":"'Bill of Materials'!L500","v":"Panduit"},{"$f":"'Bill of Materials'!N500","v":74.099999999999994},{"$f":"'Bill of Materials'!P500","v":"DWC"},{"$f":"'Bill of Materials'!C500","v":"10264"},{"$f":"'Bill of Materials'!H500","v":"RFG10X8SMY"},null,null,null,0,{"$f":"'Bill of Materials'!J500","v":"standard material"},{"$f":"'Bill of Materials'!K500","v":"physical"},0]
[{"$f":"'Bill of Materials'!E501+'Bill of Materials'!F501","v":0},{"$f":"'Bill of Materials'!M501","v":"EA"},{"$f":"'Bill of Materials'!G501","v":"Cool Boot Raised Floor Air Sealing Grommet 4.8\" x 4.8\" Surface Mount"},{"$f":"'Bill of Materials'!L501","v":"Panduit"},{"$f":"'Bill of Materials'!N501","v":33.950000000000003},{"$f":"'Bill of Materials'!P501","v":"DWC"},{"$f":"'Bill of Materials'!C501","v":"10265"},{"$f":"'Bill of Materials'!H501","v":"RFG3DSMY"},null,null,null,0,{"$f":"'Bill of Materials'!J501","v":"standard material"},{"$f":"'Bill of Materials'!K501","v":"physical"},0]
[{"$f":"'Bill of Materials'!E502+'Bill of Materials'!F502","v":0},{"$f":"'Bill of Materials'!M502","v":"EA"},{"$f":"'Bill of Materials'!G502","v":"Solid Bottom Cover for X-Mark Giga Server Cabinet #842642GS-X"},{"$f":"'Bill of Materials'!L502","v":"X-Mark"},{"$f":"'Bill of Materials'!N502","v":95.1},{"$f":"'Bill of Materials'!P502","v":"DWC"},{"$f":"'Bill of Materials'!C502","v":"10344"},{"$f":"'Bill of Materials'!H502","v":"433-8297-3"},null,null,null,0,{"$f":"'Bill of Materials'!J502","v":"standard material"},{"$f":"'Bill of Materials'!K502","v":"physical"},0]
[{"$f":"'Bill of Materials'!E503+'Bill of Materials'!F503","v":0},{"$f":"'Bill of Materials'!M503","v":"EA"},{"$f":"'Bill of Materials'!G503","v":"X-MARK ULTRA DEEP SERVER Enclosure-Cabinet for Cisco Nexus 7010- Labor Only"},{"$f":"'Bill of Materials'!L503","v":"DWC"},{"$f":"'Bill of Materials'!N503","v":504},{"$f":"'Bill of Materials'!P503","v":"DWC"},{"$f":"'Bill of Materials'!C503","v":"10345"},{"$f":"'Bill of Materials'!H503","v":"842642GS-X-L"},null,null,null,0,{"$f":"'Bill of Materials'!J503","v":"standard material"},{"$f":"'Bill of Materials'!K503","v":"physical"},0]
[{"$f":"'Bill of Materials'!E504+'Bill of Materials'!F504","v":0},{"$f":"'Bill of Materials'!M504","v":"EA"},{"$f":"'Bill of Materials'!G504","v":"Bottom Brushed Gland Plate for Giga Server Cabinet XG84-3-112320"},{"$f":"'Bill of Materials'!L504","v":"X-Mark"},{"$f":"'Bill of Materials'!N504","v":44.65},{"$f":"'Bill of Materials'!P504","v":"DWC"},{"$f":"'Bill of Materials'!C504","v":"10346"},{"$f":"'Bill of Materials'!H504","v":"XUSDBBKK001"},null,null,null,{"$f":"E524*A524","v":0},{"$f":"'Bill of Materials'!J504","v":"standard material"},{"$f":"'Bill of Materials'!K504","v":"physical"},{"$f":"IF(A524>0,1,0)","v":0}]
[{"$f":"'Bill of Materials'!E505+'Bill of Materials'!F505","v":0},{"$f":"'Bill of Materials'!M505","v":"EA"},{"$f":"'Bill of Materials'!G505","v":"19\" 1RU, Blanking Panel, Black, Cabinet Rail Mounted"},{"$f":"'Bill of Materials'!L505","v":"Mid Atlantic"},{"$f":"'Bill of Materials'!N505","v":5.83},{"$f":"'Bill of Materials'!P505","v":"DWC"},{"$f":"'Bill of Materials'!C505","v":"10347"},{"$f":"'Bill of Materials'!H505","v":"FEB1"},null,null,null,0,{"$f":"'Bill of Materials'!J505","v":"standard material"},{"$f":"'Bill of Materials'!K505","v":"physical"},0]
[{"$f":"'Bill of Materials'!E506+'Bill of Materials'!F506","v":0},{"$f":"'Bill of Materials'!M506","v":"EA"},{"$f":"'Bill of Materials'!G506","v":"Joining kit for NEMA 1 Computer Room/Clean Room 77\" Cabinets"},{"$f":"'Bill of Materials'!L506","v":"Hammond"},{"$f":"'Bill of Materials'!N506","v":39.6},{"$f":"'Bill of Materials'!P506","v":"DWC"},{"$f":"'Bill of Materials'!C506","v":"INFO-4105"},{"$f":"'Bill of Materials'!H506","v":"CGH01"},null,null,null,0,{"$f":"'Bill of Materials'!J506","v":"standard material"},{"$f":"'Bill of Materials'!K506","v":"physical"},0]
[{"$f":"'Bill of Materials'!E507+'Bill of Materials'!F507","v":0},{"$f":"'Bill of Materials'!M507","v":"EA"},{"$f":"'Bill of Materials'!G507","v":"78 inch NEMA 1 Enclosure Clean Room Cabinet Assembly Kit (78\"X28\"X32\"). Package includes 1 frame with door and sides (INFO-4102), 2 pair rails (INFO-4108), 2 sets rail reducers (INFO-4107), 2 power bars (INFO-4601), Louvered Top No Fans - Material Only"},{"$f":"'Bill of Materials'!L507","v":"Hammond"},{"$f":"'Bill of Materials'!N507","v":1482.3},{"$f":"'Bill of Materials'!P507","v":"DWC"},{"$f":"'Bill of Materials'!C507","v":"INFO-4106"},{"$f":"'Bill of Materials'!H507","v":"S88834"},null,null,null,0,{"$f":"'Bill of Materials'!J507","v":"standard material"},{"$f":"'Bill of Materials'!K507","v":"physical"},0]
[{"$f":"'Bill of Materials'!E508+'Bill of Materials'!F508","v":0},{"$f":"'Bill of Materials'!M508","v":"EA"},{"$f":"'Bill of Materials'!G508","v":"4\" Muffin Fan Kit.  Includes: (1) 4\" Muffin Fan, P/N DNMF100AC115; (1) Fan Cord, P/N DNMFC; (2) Fan Guards, P/N DNFG"},{"$f":"'Bill of Materials'!L508","v":"Hammond"},{"$f":"'Bill of Materials'!N508","v":27.87},{"$f":"'Bill of Materials'!P508","v":"DWC"},{"$f":"'Bill of Materials'!C508","v":"INFO-4109"},{"$f":"'Bill of Materials'!H508","v":"S88840"},null,null,null,0,{"$f":"'Bill of Materials'!J508","v":"standard material"},{"$f":"'Bill of Materials'!K508","v":"physical"},0]
[{"$f":"'Bill of Materials'!E509+'Bill of Materials'!F509","v":0},{"$f":"'Bill of Materials'!M509","v":"EA"},{"$f":"'Bill of Materials'!G509","v":"Solid Top Panel for NEMA-1 Cabinet to accept fan assemblies or if top exit holes are larger than 4\"."},{"$f":"'Bill of Materials'!L509","v":"Hammond"},{"$f":"'Bill of Materials'!N509","v":27.14},{"$f":"'Bill of Materials'!P509","v":"DWC"},{"$f":"'Bill of Materials'!C509","v":"INFO-4110"},{"$f":"'Bill of Materials'!H509","v":"C2T2431SCG1"},null,null,null,0,{"$f":"'Bill of Materials'!J509","v":"standard material"},{"$f":"'Bill of Materials'!K509","v":"physical"},0]
[{"$f":"'Bill of Materials'!E510+'Bill of Materials'!F510","v":0},{"$f":"'Bill of Materials'!M510","v":"EA"},{"$f":"'Bill of Materials'!G510","v":"NEMA-1 4\" muffin fan harness. Daisy chain two fan harness with molded 5-15P plug."},{"$f":"'Bill of Materials'!L510","v":"Elmor"},{"$f":"'Bill of Materials'!N510","v":8.59},{"$f":"'Bill of Materials'!P510","v":"DWC"},{"$f":"'Bill of Materials'!C510","v":"INFO-4111"},{"$f":"'Bill of Materials'!H510","v":"GM-DCFC90-3"},null,null,null,0,{"$f":"'Bill of Materials'!J510","v":"standard material"},{"$f":"'Bill of Materials'!K510","v":"physical"},0]
[{"$f":"'Bill of Materials'!#REF!+'Bill of Materials'!#REF!","v":{"$error":"#REF!"}},{"$f":"'Bill of Materials'!#REF!","v":{"$error":"#REF!"}},{"$f":"'Bill of Materials'!#REF!","v":{"$error":"#REF!"}},{"$f":"'Bill of Materials'!#REF!","v":{"$error":"#REF!"}},{"$f":"'Bill of Materials'!#REF!","v":{"$error":"#REF!"}},{"$f":"'Bill of Materials'!#REF!","v":{"$error":"#REF!"}},{"$f":"'Bill of Materials'!#REF!","v":{"$error":"#REF!"}},{"$f":"'Bill of Materials'!#REF!","v":{"$error":"#REF!"}},null,null,null,{"$error":"#REF!"},{"$f":"'Bill of Materials'!#REF!","v":{"$error":"#REF!"}},{"$f":"'Bill of Materials'!#REF!","v":{"$error":"#REF!"}},{"$error":"#REF!"}]
[{"$f":"'Bill of Materials'!E511+'Bill of Materials'!F511","v":0},{"$f":"'Bill of Materials'!M511","v":"EA"},{"$f":"'Bill of Materials'!G511","v":"78  Inch NEMA 1 Enclosure Clean Room Cabinet Assembly w/Four Fans, includes Hammond Cabinet (Same as INFO-4106) & Accessories - Material Only"},{"$f":"'Bill of Materials'!L511","v":"DWC"},{"$f":"'Bill of Materials'!N511","v":1611.8},{"$f":"'Bill of Materials'!P511","v":"DWC"},{"$f":"'Bill of Materials'!C511","v":"INFO-4724"},{"$f":"'Bill of Materials'!H511","v":"78N1CRC4F-H"},null,null,null,0,{"$f":"'Bill of Materials'!J511","v":"standard material"},{"$f":"'Bill of Materials'!K511","v":"physical"},0]
[{"$f":"'Bill of Materials'!E512+'Bill of Materials'!F512","v":0},{"$f":"'Bill of Materials'!M512","v":"EA"},{"$f":"'Bill of Materials'!G512","v":"NEMA-1 computer room cabinet package (78\"X28\"X32\"). Package includes 14 ga steel welded frame, levelers, ground studs, (4) ground straps, two pair of EIA rails tapped 10-32 plated zinc/clear, bag of (100) oval head Phillips screws and finish washers, welded steel EIA rail spacers & hardware for 19” mounting, bag of EIA rail hardware for 24” mounting, open bottom with solid cover, open top with solid cover (top cover includes four fan knockouts), glass front door, louvered rear door (doors include X-MARK standard slam latch keyed 1333), two solid side panels (sides include tamper proof screw attachment), two power strips (72” x 10 outlet x 20 amp)"},{"$f":"'Bill of Materials'!L512","v":"X-Mark"},{"$f":"'Bill of Materials'!N512","v":1223.49},{"$f":"'Bill of Materials'!P512","v":"DWC"},{"$f":"'Bill of Materials'!C512","v":"INFO-4728"},{"$f":"'Bill of Materials'!H512","v":"XGN1-782832-0001"},null,null,null,0,{"$f":"'Bill of Materials'!J512","v":"standard material"},{"$f":"'Bill of Materials'!K512","v":"physical"},0]
[{"$f":"'Bill of Materials'!E513+'Bill of Materials'!F513","v":0},{"$f":"'Bill of Materials'!M513","v":"EA"},{"$f":"'Bill of Materials'!G513","v":"78  Inch NEMA 1 Enclosure Clean Room Cabinet Assembly No Fans, includes Hammond Cabinet (INFO-4106) & Accessories - Material Only"},{"$f":"'Bill of Materials'!L513","v":"DWC"},{"$f":"'Bill of Materials'!N513","v":1461.51},{"$f":"'Bill of Materials'!P513","v":"DWC"},{"$f":"'Bill of Materials'!C513","v":"INFO-4831"},{"$f":"'Bill of Materials'!H513","v":"78N1CRCNF-H"},null,null,null,0,{"$f":"'Bill of Materials'!J513","v":"standard material"},{"$f":"'Bill of Materials'!K513","v":"physical"},0]
[{"$f":"'Bill of Materials'!E514+'Bill of Materials'!F514","v":0},{"$f":"'Bill of Materials'!M514","v":"EA"},{"$f":"'Bill of Materials'!G514","v":"78  Inch NEMA 1 Enclosure Clean Room Cabinet Assembly w/Two Fans, includes Hammond Cabinet (INFO-4106) & Accessories - Material Only"},{"$f":"'Bill of Materials'!L514","v":"DWC"},{"$f":"'Bill of Materials'!N514","v":1550.22},{"$f":"'Bill of Materials'!P514","v":"DWC"},{"$f":"'Bill of Materials'!C514","v":"INFO-4834"},{"$f":"'Bill of Materials'!H514","v":"78N1CRC2F-H"},null,null,null,0,{"$f":"'Bill of Materials'!J514","v":"standard material"},{"$f":"'Bill of Materials'!K514","v":"physical"},0]
[{"$f":"'Bill of Materials'!E516+'Bill of Materials'!F516","v":0},{"$f":"'Bill of Materials'!M516","v":"EA"},{"$f":"'Bill of Materials'!G516","v":"End Barriers for EA & ED 300-600v Type Terminal Blocks "},{"$f":"'Bill of Materials'!L516","v":"Electro-Matic"},{"$f":"'Bill of Materials'!N516","v":2.23},{"$f":"'Bill of Materials'!P516","v":"DWC"},{"$f":"'Bill of Materials'!C516","v":"0054-0118"},{"$f":"'Bill of Materials'!H516","v":"EB1"},null,null,null,0,{"$f":"'Bill of Materials'!J516","v":"standard material"},{"$f":"'Bill of Materials'!K516","v":"physical"},0]
[{"$f":"'Bill of Materials'!E517+'Bill of Materials'!F517","v":0},{"$f":"'Bill of Materials'!M517","v":"EA"},{"$f":"'Bill of Materials'!G517","v":"Nema 1, Junction Box w/ Screw Cover, 12\" X 12\" X 6\""},{"$f":"'Bill of Materials'!L517","v":"Unity Manufacturing"},{"$f":"'Bill of Materials'!N517","v":38.61},{"$f":"'Bill of Materials'!P517","v":"DWC"},{"$f":"'Bill of Materials'!C517","v":"0092-1AX5"},{"$f":"'Bill of Materials'!H517","v":"12126SC"},null,null,null,0,{"$f":"'Bill of Materials'!J517","v":"standard material"},{"$f":"'Bill of Materials'!K517","v":"physical"},0]
[{"$f":"'Bill of Materials'!E518+'Bill of Materials'!F518","v":0},{"$f":"'Bill of Materials'!M518","v":"EA"},{"$f":"'Bill of Materials'!G518","v":"Nema 1, Junction Box w/ Screw Cover, 24\" X 24\" X 8\""},{"$f":"'Bill of Materials'!L518","v":"Unity Manufacturing"},{"$f":"'Bill of Materials'!N518","v":77.12},{"$f":"'Bill of Materials'!P518","v":"DWC"},{"$f":"'Bill of Materials'!C518","v":"0092-1AX6"},{"$f":"'Bill of Materials'!H518","v":"24248SC"},null,null,null,0,{"$f":"'Bill of Materials'!J518","v":"standard material"},{"$f":"'Bill of Materials'!K518","v":"physical"},0]
[{"$f":"'Bill of Materials'!E519+'Bill of Materials'!F519","v":0},{"$f":"'Bill of Materials'!M519","v":"EA"},{"$f":"'Bill of Materials'!G519","v":"Terminal Block Mounting Rail, plated steel, scored every 13/64 inches, 36 IN LG."},{"$f":"'Bill of Materials'!L519","v":"Electro-Matic"},{"$f":"'Bill of Materials'!N519","v":9.31},{"$f":"'Bill of Materials'!P519","v":"DWC"},{"$f":"'Bill of Materials'!C519","v":"0155-039F"},{"$f":"'Bill of Materials'!H519","v":"ET1"},null,null,null,0,{"$f":"'Bill of Materials'!J519","v":"standard material"},{"$f":"'Bill of Materials'!K519","v":"physical"},0]
[{"$f":"'Bill of Materials'!E520+'Bill of Materials'!F520","v":0},{"$f":"'Bill of Materials'!M520","v":"EA"},{"$f":"'Bill of Materials'!G520","v":"HANDLE, LOCKING DOOR, FOR NEMA 12 ENCLOSURE"},{"$f":"'Bill of Materials'!L520","v":"Hammond"},{"$f":"'Bill of Materials'!N520","v":68.61},{"$f":"'Bill of Materials'!P520","v":"DWC"},{"$f":"'Bill of Materials'!C520","v":"0405-3712"},{"$f":"'Bill of Materials'!H520","v":"SR0400103"},null,null,null,0,{"$f":"'Bill of Materials'!J520","v":"standard material"},{"$f":"'Bill of Materials'!K520","v":"physical"},0]
[{"$f":"'Bill of Materials'!E521+'Bill of Materials'!F521","v":0},{"$f":"'Bill of Materials'!M521","v":"EA"},{"$f":"'Bill of Materials'!G521","v":"Termninal Block End Anchor for 300 & 600v Blocks"},{"$f":"'Bill of Materials'!L521","v":"Hammond"},{"$f":"'Bill of Materials'!N521","v":3.37},{"$f":"'Bill of Materials'!P521","v":"DWC"},{"$f":"'Bill of Materials'!C521","v":"0417-9853"},{"$f":"'Bill of Materials'!H521","v":"EC2"},null,null,null,0,{"$f":"'Bill of Materials'!J521","v":"standard material"},{"$f":"'Bill of Materials'!K521","v":"physical"},0]
[{"$f":"'Bill of Materials'!E522+'Bill of Materials'!F522","v":0},{"$f":"'Bill of Materials'!M522","v":"EA"},{"$f":"'Bill of Materials'!G522","v":"Plug-in Two Pole Jumper for EA1 Terminal Blocks "},{"$f":"'Bill of Materials'!L522","v":"Electro-Matic"},{"$f":"'Bill of Materials'!N522","v":0.79},{"$f":"'Bill of Materials'!P522","v":"DWC"},{"$f":"'Bill of Materials'!C522","v":"0451-01CY"},{"$f":"'Bill of Materials'!H522","v":"EJ1"},null,null,null,0,{"$f":"'Bill of Materials'!J522","v":"standard material"},{"$f":"'Bill of Materials'!K522","v":"physical"},0]
[{"$f":"'Bill of Materials'!E523+'Bill of Materials'!F523","v":0},{"$f":"'Bill of Materials'!M523","v":"EA"},{"$f":"'Bill of Materials'!G523","v":"Gasket Kit for Nema 12 78\" Cabinet Doors"},{"$f":"'Bill of Materials'!L523","v":"Hammond"},{"$f":"'Bill of Materials'!N523","v":7.16},{"$f":"'Bill of Materials'!P523","v":"DWC"},{"$f":"'Bill of Materials'!C523","v":"0456-0XFT"},{"$f":"'Bill of Materials'!H523","v":"1481DJ10"},null,null,null,0,{"$f":"'Bill of Materials'!J523","v":"standard material"},{"$f":"'Bill of Materials'!K523","v":"physical"},0]
[{"$f":"'Bill of Materials'!E524+'Bill of Materials'!F524","v":0},{"$f":"'Bill of Materials'!M524","v":"EA"},{"$f":"'Bill of Materials'!G524","v":"T10-24\" Flourescent Lamp, 20 Watt, Straight Tube, LAMP ONLY"},{"$f":"'Bill of Materials'!L524","v":"GE"},{"$f":"'Bill of Materials'!N524","v":3.22},{"$f":"'Bill of Materials'!P524","v":"DWC"},{"$f":"'Bill of Materials'!C524","v":"0466-3097"},{"$f":"'Bill of Materials'!H524","v":"F20T12-CW"},null,null,null,0,{"$f":"'Bill of Materials'!J524","v":"standard material"},{"$f":"'Bill of Materials'!K524","v":"physical"},0]
[{"$f":"'Bill of Materials'!E525+'Bill of Materials'!F525","v":0},{"$f":"'Bill of Materials'!M525","v":"EA"},{"$f":"'Bill of Materials'!G525","v":"Drip Pan for inside Nema 12 cabinet with existing Top Mount A/C Units"},{"$f":"'Bill of Materials'!L525","v":"DWC"},{"$f":"'Bill of Materials'!N525","v":194.14},{"$f":"'Bill of Materials'!P525","v":"DWC"},{"$f":"'Bill of Materials'!C525","v":"0576-01CG"},{"$f":"'Bill of Materials'!H525","v":"HB11PLENUM/PAN"},null,null,null,0,{"$f":"'Bill of Materials'!J525","v":"standard material"},{"$f":"'Bill of Materials'!K525","v":"physical"},0]
[{"$f":"'Bill of Materials'!E526+'Bill of Materials'!F526","v":0},{"$f":"'Bill of Materials'!M526","v":"EA"},{"$f":"'Bill of Materials'!G526","v":"DIN RAIL TS 35 X 7.5MM SLOTTED 2M LENGTH ZINC PLATING "},{"$f":"'Bill of Materials'!L526","v":"Amer Elec"},{"$f":"'Bill of Materials'!N526","v":17.37},{"$f":"'Bill of Materials'!P526","v":"DWC"},{"$f":"'Bill of Materials'!C526","v":"0641-0DVA"},{"$f":"'Bill of Materials'!H526","v":"TS3575SL"},null,null,null,0,{"$f":"'Bill of Materials'!J526","v":"standard material"},{"$f":"'Bill of Materials'!K526","v":"physical"},0]
[{"$f":"'Bill of Materials'!E527+'Bill of Materials'!F527","v":0},{"$f":"'Bill of Materials'!M527","v":"EA"},{"$f":"'Bill of Materials'!G527","v":"Rack Mounting Rails, Half High, For 78\" Hammond Cabinets"},{"$f":"'Bill of Materials'!L527","v":"Hammond"},{"$f":"'Bill of Materials'!N527","v":81.69},{"$f":"'Bill of Materials'!P527","v":"DWC"},{"$f":"'Bill of Materials'!C527","v":"0641-0DVF"},{"$f":"'Bill of Materials'!H527","v":"SR0500002"},null,null,null,0,{"$f":"'Bill of Materials'!J527","v":"standard material"},{"$f":"'Bill of Materials'!K527","v":"physical"},0]
[{"$f":"'Bill of Materials'!E528+'Bill of Materials'!F528","v":0},{"$f":"'Bill of Materials'!M528","v":"EA"},{"$f":"'Bill of Materials'!G528","v":"RELAY, CONTACTOR, 4 POLE, 120v, 35A, (DOORS, FANS, LIGHTS)"},{"$f":"'Bill of Materials'!L528","v":"Allen Bradley"},{"$f":"'Bill of Materials'!N528","v":242.55},{"$f":"'Bill of Materials'!P528","v":"DWC"},{"$f":"'Bill of Materials'!C528","v":"0658-69T6"},{"$f":"'Bill of Materials'!H528","v":"A9-22-00-84"},null,null,null,0,{"$f":"'Bill of Materials'!J528","v":"standard material"},{"$f":"'Bill of Materials'!K528","v":"physical"},0]
[{"$f":"'Bill of Materials'!E529+'Bill of Materials'!F529","v":0},{"$f":"'Bill of Materials'!M529","v":"EA"},{"$f":"'Bill of Materials'!G529","v":"60 Inch NEMA 12 Enclosure Common Cabinet Assembly - Labor Only"},{"$f":"'Bill of Materials'!L529","v":"DWC"},{"$f":"'Bill of Materials'!N529","v":1102.5},{"$f":"'Bill of Materials'!P529","v":"DWC"},{"$f":"'Bill of Materials'!C529","v":"10048"},{"$f":"'Bill of Materials'!H529","v":"60N12CC-L"},null,null,null,0,{"$f":"'Bill of Materials'!J529","v":"standard material"},{"$f":"'Bill of Materials'!K529","v":"physical"},0]
[{"$f":"'Bill of Materials'!E530+'Bill of Materials'!F530","v":0},{"$f":"'Bill of Materials'!M530","v":"EA"},{"$f":"'Bill of Materials'!G530","v":"60 Inch NEMA 12 Enclosure Type 1 Cabinet Assembly - Labor Only"},{"$f":"'Bill of Materials'!L530","v":"DWC"},{"$f":"'Bill of Materials'!N530","v":1102.5},{"$f":"'Bill of Materials'!P530","v":"DWC"},{"$f":"'Bill of Materials'!C530","v":"10049"},{"$f":"'Bill of Materials'!H530","v":"60N12T1-L"},null,null,null,0,{"$f":"'Bill of Materials'!J530","v":"standard material"},{"$f":"'Bill of Materials'!K530","v":"physical"},0]
[{"$f":"'Bill of Materials'!E531+'Bill of Materials'!F531","v":0},{"$f":"'Bill of Materials'!M531","v":"EA"},{"$f":"'Bill of Materials'!G531","v":"60 Inch NEMA 12 Enclosure Type 2 Cabinet Assembly - Labor Only"},{"$f":"'Bill of Materials'!L531","v":"DWC"},{"$f":"'Bill of Materials'!N531","v":1597.5},{"$f":"'Bill of Materials'!P531","v":"DWC"},{"$f":"'Bill of Materials'!C531","v":"10050"},{"$f":"'Bill of Materials'!H531","v":"60N12T2-L"},null,null,null,0,{"$f":"'Bill of Materials'!J531","v":"standard material"},{"$f":"'Bill of Materials'!K531","v":"physical"},0]
[{"$f":"'Bill of Materials'!E532+'Bill of Materials'!F532","v":0},{"$f":"'Bill of Materials'!M532","v":"EA"},{"$f":"'Bill of Materials'!G532","v":"60 Inch NEMA 12 Enclosure Type 3 Cabinet Assembly - Labor Only"},{"$f":"'Bill of Materials'!L532","v":"DWC"},{"$f":"'Bill of Materials'!N532","v":1941.57},{"$f":"'Bill of Materials'!P532","v":"DWC"},{"$f":"'Bill of Materials'!C532","v":"10051"},{"$f":"'Bill of Materials'!H532","v":"60N12T3-L"},null,null,null,0,{"$f":"'Bill of Materials'!J532","v":"standard material"},{"$f":"'Bill of Materials'!K532","v":"physical"},0]
[{"$f":"'Bill of Materials'!E533+'Bill of Materials'!F533","v":0},{"$f":"'Bill of Materials'!M533","v":"EA"},{"$f":"'Bill of Materials'!G533","v":"60 Inch NEMA 12 Enclosure Type 4 Cabinet Assembly - Labor Only"},{"$f":"'Bill of Materials'!L533","v":"DWC"},{"$f":"'Bill of Materials'!N533","v":2782.8},{"$f":"'Bill of Materials'!P533","v":"DWC"},{"$f":"'Bill of Materials'!C533","v":"10052"},{"$f":"'Bill of Materials'!H533","v":"60N12T4-L"},null,null,null,0,{"$f":"'Bill of Materials'!J533","v":"standard material"},{"$f":"'Bill of Materials'!K533","v":"physical"},0]
[{"$f":"'Bill of Materials'!E534+'Bill of Materials'!F534","v":0},{"$f":"'Bill of Materials'!M534","v":"EA"},{"$f":"'Bill of Materials'!G534","v":"60 Inch NEMA 12 Enclosure Type 5 Cabinet Assembly - Labor Only"},{"$f":"'Bill of Materials'!L534","v":"DWC"},{"$f":"'Bill of Materials'!N534","v":3496.5},{"$f":"'Bill of Materials'!P534","v":"DWC"},{"$f":"'Bill of Materials'!C534","v":"10053"},{"$f":"'Bill of Materials'!H534","v":"60N12T5-L"},null,null,null,0,{"$f":"'Bill of Materials'!J534","v":"standard material"},{"$f":"'Bill of Materials'!K534","v":"physical"},0]
[{"$f":"'Bill of Materials'!E535+'Bill of Materials'!F535","v":0},{"$f":"'Bill of Materials'!M535","v":"EA"},{"$f":"'Bill of Materials'!G535","v":"78 Inch NEMA 12 Enclosure Common Cabinet Assembly - Labor Only"},{"$f":"'Bill of Materials'!L535","v":"DWC"},{"$f":"'Bill of Materials'!N535","v":1098},{"$f":"'Bill of Materials'!P535","v":"DWC"},{"$f":"'Bill of Materials'!C535","v":"10058"},{"$f":"'Bill of Materials'!H535","v":"78N12CC-L"},null,null,null,0,{"$f":"'Bill of Materials'!J535","v":"standard material"},{"$f":"'Bill of Materials'!K535","v":"physical"},0]
[{"$f":"'Bill of Materials'!E536+'Bill of Materials'!F536","v":0},{"$f":"'Bill of Materials'!M536","v":"EA"},{"$f":"'Bill of Materials'!G536","v":"78  Inch NEMA 12 Enclosure SPO Warehouse Assembly - Labor Only"},{"$f":"'Bill of Materials'!L536","v":"DWC"},{"$f":"'Bill of Materials'!N536","v":405},{"$f":"'Bill of Materials'!P536","v":"DWC"},{"$f":"'Bill of Materials'!C536","v":"10059"},{"$f":"'Bill of Materials'!H536","v":"78N12SPO-L"},null,null,null,0,{"$f":"'Bill of Materials'!J536","v":"standard material"},{"$f":"'Bill of Materials'!K536","v":"physical"},0]
[{"$f":"'Bill of Materials'!E537+'Bill of Materials'!F537","v":0},{"$f":"'Bill of Materials'!M537","v":"EA"},{"$f":"'Bill of Materials'!G537","v":"78 Inch NEMA 12 Enclosure Type 1 Cabinet Assembly - Labor Only"},{"$f":"'Bill of Materials'!L537","v":"DWC"},{"$f":"'Bill of Materials'!N537","v":1098},{"$f":"'Bill of Materials'!P537","v":"DWC"},{"$f":"'Bill of Materials'!C537","v":"10060"},{"$f":"'Bill of Materials'!H537","v":"78N12T1-L"},null,null,null,0,{"$f":"'Bill of Materials'!J537","v":"standard material"},{"$f":"'Bill of Materials'!K537","v":"physical"},0]
[{"$f":"'Bill of Materials'!E538+'Bill of Materials'!F538","v":0},{"$f":"'Bill of Materials'!M538","v":"EA"},{"$f":"'Bill of Materials'!G538","v":"78 Inch NEMA 12 Enclosure Type 2 Cabinet Assembly - Labor Only"},{"$f":"'Bill of Materials'!L538","v":"DWC"},{"$f":"'Bill of Materials'!N538","v":1597.5},{"$f":"'Bill of Materials'!P538","v":"DWC"},{"$f":"'Bill of Materials'!C538","v":"10061"},{"$f":"'Bill of Materials'!H538","v":"78N12T2-L"},null,null,null,0,{"$f":"'Bill of Materials'!J538","v":"standard material"},{"$f":"'Bill of Materials'!K538","v":"physical"},0]
[{"$f":"'Bill of Materials'!E539+'Bill of Materials'!F539","v":0},{"$f":"'Bill of Materials'!M539","v":"EA"},{"$f":"'Bill of Materials'!G539","v":"NEMA 12 VTC Voice Termination Cabinet - Labor Only"},{"$f":"'Bill of Materials'!L539","v":"DWC"},{"$f":"'Bill of Materials'!N539","v":135},{"$f":"'Bill of Materials'!P539","v":"DWC"},{"$f":"'Bill of Materials'!C539","v":"10133"},{"$f":"'Bill of Materials'!H539","v":"N12VTC-L"},null,null,null,0,{"$f":"'Bill of Materials'!J539","v":"standard material"},{"$f":"'Bill of Materials'!K539","v":"physical"},0]
[{"$f":"'Bill of Materials'!E540+'Bill of Materials'!F540","v":0},{"$f":"'Bill of Materials'!M540","v":"EA"},{"$f":"'Bill of Materials'!G540","v":"78  Inch NEMA 12 Legacy Enclosure - Labor Only"},{"$f":"'Bill of Materials'!L540","v":"DWC"},{"$f":"'Bill of Materials'!N540","v":585},{"$f":"'Bill of Materials'!P540","v":"DWC"},{"$f":"'Bill of Materials'!C540","v":"10147"},{"$f":"'Bill of Materials'!H540","v":"S87973-L"},null,null,null,0,{"$f":"'Bill of Materials'!J540","v":"standard material"},{"$f":"'Bill of Materials'!K540","v":"physical"},0]
[{"$f":"'Bill of Materials'!E541+'Bill of Materials'!F541","v":0},{"$f":"'Bill of Materials'!M541","v":"EA"},{"$f":"'Bill of Materials'!G541","v":"Eclipse Series NEMA 4/12 Single Door Enclosure 48”X36”X12” (does not include back plate)"},{"$f":"'Bill of Materials'!L541","v":"Hammond"},{"$f":"'Bill of Materials'!N541","v":447.61},{"$f":"'Bill of Materials'!P541","v":"DWC"},{"$f":"'Bill of Materials'!C541","v":"INFO-2225"},{"$f":"'Bill of Materials'!H541","v":"EN4SD483612GY"},null,null,null,0,{"$f":"'Bill of Materials'!J541","v":"standard material"},{"$f":"'Bill of Materials'!K541","v":"physical"},0]
[{"$f":"'Bill of Materials'!E542+'Bill of Materials'!F542","v":0},{"$f":"'Bill of Materials'!M542","v":"EA"},{"$f":"'Bill of Materials'!G542","v":"Inner Panel for EclipseSeries Enclosure, 48x36, White Finish (back plate)"},{"$f":"'Bill of Materials'!L542","v":"Hammond"},{"$f":"'Bill of Materials'!N542","v":127.66},{"$f":"'Bill of Materials'!P542","v":"DWC"},{"$f":"'Bill of Materials'!C542","v":"INFO-2226"},{"$f":"'Bill of Materials'!H542","v":"EP4836"},null,null,null,0,{"$f":"'Bill of Materials'!J542","v":"standard material"},{"$f":"'Bill of Materials'!K542","v":"physical"},0]
[{"$f":"'Bill of Materials'!E543+'Bill of Materials'!F543","v":0},{"$f":"'Bill of Materials'!M543","v":"EA"},{"$f":"'Bill of Materials'!G543","v":"Locking T Handle"},{"$f":"'Bill of Materials'!L543","v":"Hammond"},{"$f":"'Bill of Materials'!N543","v":35.51},{"$f":"'Bill of Materials'!P543","v":"DWC"},{"$f":"'Bill of Materials'!C543","v":"INFO-2227"},{"$f":"'Bill of Materials'!H543","v":"EHTL"},null,null,null,0,{"$f":"'Bill of Materials'!J543","v":"standard material"},{"$f":"'Bill of Materials'!K543","v":"physical"},0]
[{"$f":"'Bill of Materials'!E544+'Bill of Materials'!F544","v":0},{"$f":"'Bill of Materials'!M544","v":"EA"},{"$f":"'Bill of Materials'!G544","v":"19\" 20A Fan Panel w/Thermostat - Upper Cabinet And Lower cabinet"},{"$f":"'Bill of Materials'!L544","v":"Hammond"},{"$f":"'Bill of Materials'!N544","v":163.80000000000001},{"$f":"'Bill of Materials'!P544","v":"DWC"},{"$f":"'Bill of Materials'!C544","v":"INFO-2229"},{"$f":"'Bill of Materials'!H544","v":"SR0400046"},null,null,null,0,{"$f":"'Bill of Materials'!J544","v":"standard material"},{"$f":"'Bill of Materials'!K544","v":"physical"},0]
[{"$f":"'Bill of Materials'!E545+'Bill of Materials'!F545","v":0},{"$f":"'Bill of Materials'!M545","v":"EA"},{"$f":"'Bill of Materials'!G545","v":"Brownfield Door Switch Kit - Includes 1 ea BZE6-2RN, 1 ea Door Switch Bracket, 1 ea Door Switch Square, 1 ea Half Inch Cord Grip Connector, 1 ea Twenty Five Foot Dry Contact Cable"},{"$f":"'Bill of Materials'!L545","v":"DWC"},{"$f":"'Bill of Materials'!N545","v":123.7},{"$f":"'Bill of Materials'!P545","v":"DWC"},{"$f":"'Bill of Materials'!C545","v":"INFO-2230"},{"$f":"'Bill of Materials'!H545","v":"GM- BDSK - 01"},null,null,null,0,{"$f":"'Bill of Materials'!J545","v":"standard material"},{"$f":"'Bill of Materials'!K545","v":"physical"},0]
[{"$f":"'Bill of Materials'!E546+'Bill of Materials'!F546","v":0},{"$f":"'Bill of Materials'!M546","v":"EA"},{"$f":"'Bill of Materials'!G546","v":"NEMA 12 HOLE PLUG-4\""},{"$f":"'Bill of Materials'!L546","v":"DWC"},{"$f":"'Bill of Materials'!N546","v":32.97},{"$f":"'Bill of Materials'!P546","v":"DWC"},{"$f":"'Bill of Materials'!C546","v":"INFO-2231"},{"$f":"'Bill of Materials'!H546","v":"HP400"},null,null,null,0,{"$f":"'Bill of Materials'!J546","v":"standard material"},{"$f":"'Bill of Materials'!K546","v":"physical"},0]
[{"$f":"'Bill of Materials'!E547+'Bill of Materials'!F547","v":0},{"$f":"'Bill of Materials'!M547","v":"EA"},{"$f":"'Bill of Materials'!G547","v":"12\" x 12\" x 2.5\" Print Pocket w/Studs"},{"$f":"'Bill of Materials'!L547","v":"Hammond"},{"$f":"'Bill of Materials'!N547","v":10.46},{"$f":"'Bill of Materials'!P547","v":"DWC"},{"$f":"'Bill of Materials'!C547","v":"INFO-2331"},{"$f":"'Bill of Materials'!H547","v":"PKT1212"},null,null,null,0,{"$f":"'Bill of Materials'!J547","v":"standard material"},{"$f":"'Bill of Materials'!K547","v":"physical"},0]
[{"$f":"'Bill of Materials'!E548+'Bill of Materials'!F548","v":0},{"$f":"'Bill of Materials'!M548","v":"EA"},{"$f":"'Bill of Materials'!G548","v":"3\" Grommets for Cabling Pathway between sides of joined Nema 1 cabinets"},{"$f":"'Bill of Materials'!L548","v":"DWC"},{"$f":"'Bill of Materials'!N548","v":1.68},{"$f":"'Bill of Materials'!P548","v":"DWC"},{"$f":"'Bill of Materials'!C548","v":"INFO-2332"},{"$f":"'Bill of Materials'!H548","v":"G3319"},null,null,null,0,{"$f":"'Bill of Materials'!J548","v":"standard material"},{"$f":"'Bill of Materials'!K548","v":"physical"},0]
[{"$f":"'Bill of Materials'!E549+'Bill of Materials'!F549","v":0},{"$f":"'Bill of Materials'!M549","v":"EA"},{"$f":"'Bill of Materials'!G549","v":"Micro Limit Switch-Greenfield"},{"$f":"'Bill of Materials'!L549","v":"Honeywell"},{"$f":"'Bill of Materials'!N549","v":96.62},{"$f":"'Bill of Materials'!P549","v":"DWC"},{"$f":"'Bill of Materials'!C549","v":"INFO-2333"},{"$f":"'Bill of Materials'!H549","v":"DTE6-2RN"},null,null,null,0,{"$f":"'Bill of Materials'!J549","v":"standard material"},{"$f":"'Bill of Materials'!K549","v":"physical"},0]
[{"$f":"'Bill of Materials'!E550+'Bill of Materials'!F550","v":0},{"$f":"'Bill of Materials'!M550","v":"EA"},{"$f":"'Bill of Materials'!G550","v":"Micro Limit Switch-Brownfield"},{"$f":"'Bill of Materials'!L550","v":"Honeywell"},{"$f":"'Bill of Materials'!N550","v":53.01},{"$f":"'Bill of Materials'!P550","v":"DWC"},{"$f":"'Bill of Materials'!C550","v":"INFO-2334"},{"$f":"'Bill of Materials'!H550","v":"BZF6-2RN"},null,null,null,0,{"$f":"'Bill of Materials'!J550","v":"standard material"},{"$f":"'Bill of Materials'!K550","v":"physical"},0]
[{"$f":"'Bill of Materials'!E551+'Bill of Materials'!F551","v":0},{"$f":"'Bill of Materials'!M551","v":"EA"},{"$f":"'Bill of Materials'!G551","v":"Greenfield Door Switch Kit - Includes 1 ea DTE6-2RN, 1 ea Door Switch Bracket, 1 ea Door Switch Square, 1 ea Half Inch Cord Grip Connector, 1 ea Twenty Five Foot Dry Contact Cable"},{"$f":"'Bill of Materials'!L551","v":"DWC"},{"$f":"'Bill of Materials'!N551","v":172.16},{"$f":"'Bill of Materials'!P551","v":"DWC"},{"$f":"'Bill of Materials'!C551","v":"INFO-2336"},{"$f":"'Bill of Materials'!H551","v":"GM- GDSK - 01"},null,null,null,0,{"$f":"'Bill of Materials'!J551","v":"standard material"},{"$f":"'Bill of Materials'!K551","v":"physical"},0]
[{"$f":"'Bill of Materials'!E552+'Bill of Materials'!F552","v":0},{"$f":"'Bill of Materials'!M552","v":"EA"},{"$f":"'Bill of Materials'!G552","v":"Joining kit for NEMA 12 Plant Floor 60\" Cabinets"},{"$f":"'Bill of Materials'!L552","v":"Hammond"},{"$f":"'Bill of Materials'!N552","v":106.38},{"$f":"'Bill of Materials'!P552","v":"DWC"},{"$f":"'Bill of Materials'!C552","v":"INFO-4199"},{"$f":"'Bill of Materials'!H552","v":"SR0300244"},null,null,null,0,{"$f":"'Bill of Materials'!J552","v":"standard material"},{"$f":"'Bill of Materials'!K552","v":"physical"},0]
[{"$f":"'Bill of Materials'!E553+'Bill of Materials'!F553","v":0},{"$f":"'Bill of Materials'!M553","v":"EA"},{"$f":"'Bill of Materials'!G553","v":"4\" Bushed Chase Nipple"},{"$f":"'Bill of Materials'!L553","v":"Bridgeport"},{"$f":"'Bill of Materials'!N553","v":35.89},{"$f":"'Bill of Materials'!P553","v":"DWC"},{"$f":"'Bill of Materials'!C553","v":"INFO-4213"},{"$f":"'Bill of Materials'!H553","v":"1111"},null,null,null,0,{"$f":"'Bill of Materials'!J553","v":"standard material"},{"$f":"'Bill of Materials'!K553","v":"physical"},0]
[{"$f":"'Bill of Materials'!E554+'Bill of Materials'!F554","v":0},{"$f":"'Bill of Materials'!M554","v":"EA"},{"$f":"'Bill of Materials'!G554","v":"4\" Locknut for Bushed Chase Nipple"},{"$f":"'Bill of Materials'!L554","v":"Bridgeport"},{"$f":"'Bill of Materials'!N554","v":1.73},{"$f":"'Bill of Materials'!P554","v":"DWC"},{"$f":"'Bill of Materials'!C554","v":"INFO-4214"},{"$f":"'Bill of Materials'!H554","v":"110"},null,null,null,0,{"$f":"'Bill of Materials'!J554","v":"standard material"},{"$f":"'Bill of Materials'!K554","v":"physical"},0]
[{"$f":"'Bill of Materials'!E555+'Bill of Materials'!F555","v":0},{"$f":"'Bill of Materials'!M555","v":"EA"},{"$f":"'Bill of Materials'!G555","v":"4\" Plastic Insulating Bushing for Bushed Chase Nipple"},{"$f":"'Bill of Materials'!L555","v":"Bridgeport"},{"$f":"'Bill of Materials'!N555","v":0.98},{"$f":"'Bill of Materials'!P555","v":"DWC"},{"$f":"'Bill of Materials'!C555","v":"INFO-4215"},{"$f":"'Bill of Materials'!H555","v":"330"},null,null,null,0,{"$f":"'Bill of Materials'!J555","v":"standard material"},{"$f":"'Bill of Materials'!K555","v":"physical"},0]
[{"$f":"'Bill of Materials'!E556+'Bill of Materials'!F556","v":0},{"$f":"'Bill of Materials'!M556","v":"EA"},{"$f":"'Bill of Materials'!G556","v":"One pair of EIA full height rails (40RU) tapped 10-32 plated zinc/clear, for 78\" Hammond N1 and N12 cabinets "},{"$f":"'Bill of Materials'!L556","v":"Hammond"},{"$f":"'Bill of Materials'!N556","v":71.89},{"$f":"'Bill of Materials'!P556","v":"DWC"},{"$f":"'Bill of Materials'!C556","v":"INFO-4218"},{"$f":"'Bill of Materials'!H556","v":"CCR70TZPL"},null,null,null,0,{"$f":"'Bill of Materials'!J556","v":"standard material"},{"$f":"'Bill of Materials'!K556","v":"physical"},0]
[{"$f":"'Bill of Materials'!E557+'Bill of Materials'!F557","v":0},{"$f":"'Bill of Materials'!M557","v":"EA"},{"$f":"'Bill of Materials'!G557","v":"Hammond Rail reducers 24\"-19\" installation kit "},{"$f":"'Bill of Materials'!L557","v":"Hammond"},{"$f":"'Bill of Materials'!N557","v":29.3},{"$f":"'Bill of Materials'!P557","v":"DWC"},{"$f":"'Bill of Materials'!C557","v":"INFO-4219"},{"$f":"'Bill of Materials'!H557","v":"CAK1924"},null,null,null,0,{"$f":"'Bill of Materials'!J557","v":"standard material"},{"$f":"'Bill of Materials'!K557","v":"physical"},0]
[{"$f":"'Bill of Materials'!E558+'Bill of Materials'!F558","v":0},{"$f":"'Bill of Materials'!M558","v":"EA"},{"$f":"'Bill of Materials'!G558","v":"Hammond Light Kit includes FLK24 Light and FLKMM Magnet Mount"},{"$f":"'Bill of Materials'!L558","v":"Hammond"},{"$f":"'Bill of Materials'!N558","v":119.02},{"$f":"'Bill of Materials'!P558","v":"DWC"},{"$f":"'Bill of Materials'!C558","v":"INFO-4220"},{"$f":"'Bill of Materials'!H558","v":"FLK24-24MM "},null,null,null,0,{"$f":"'Bill of Materials'!J558","v":"standard material"},{"$f":"'Bill of Materials'!K558","v":"physical"},0]
[{"$f":"'Bill of Materials'!E559+'Bill of Materials'!F559","v":0},{"$f":"'Bill of Materials'!M559","v":"EA"},{"$f":"'Bill of Materials'!G559","v":"Joining kit for NEMA 12 Plant Floor 77\" Cabinets"},{"$f":"'Bill of Materials'!L559","v":"Hammond"},{"$f":"'Bill of Materials'!N559","v":100.43},{"$f":"'Bill of Materials'!P559","v":"DWC"},{"$f":"'Bill of Materials'!C559","v":"INFO-4222"},{"$f":"'Bill of Materials'!H559","v":"C3JK7031"},null,null,null,0,{"$f":"'Bill of Materials'!J559","v":"standard material"},{"$f":"'Bill of Materials'!K559","v":"physical"},0]
[{"$f":"'Bill of Materials'!E560+'Bill of Materials'!F560","v":0},{"$f":"'Bill of Materials'!M560","v":"EA"},{"$f":"'Bill of Materials'!G560","v":"4\" x 4\" Wireway Box connector"},{"$f":"'Bill of Materials'!L560","v":"Hammond"},{"$f":"'Bill of Materials'!N560","v":14.1},{"$f":"'Bill of Materials'!P560","v":"DWC"},{"$f":"'Bill of Materials'!C560","v":"INFO-4227"},{"$f":"'Bill of Materials'!H560","v":"1487CK"},null,null,null,0,{"$f":"'Bill of Materials'!J560","v":"standard material"},{"$f":"'Bill of Materials'!K560","v":"physical"},0]
[{"$f":"'Bill of Materials'!E561+'Bill of Materials'!F561","v":0},{"$f":"'Bill of Materials'!M561","v":"EA"},{"$f":"'Bill of Materials'!G561","v":"Feed through wireway 4x4 hinged top (1 Foot section)"},{"$f":"'Bill of Materials'!L561","v":"Hammond"},{"$f":"'Bill of Materials'!N561","v":58.33},{"$f":"'Bill of Materials'!P561","v":"DWC"},{"$f":"'Bill of Materials'!C561","v":"INFO-4228"},{"$f":"'Bill of Materials'!H561","v":"1487C12"},null,null,null,0,{"$f":"'Bill of Materials'!J561","v":"standard material"},{"$f":"'Bill of Materials'!K561","v":"physical"},0]
[{"$f":"'Bill of Materials'!E562+'Bill of Materials'!F562","v":0},{"$f":"'Bill of Materials'!M562","v":"EA"},{"$f":"'Bill of Materials'!G562","v":"Gasket and screws for installation of 4x4 wireway"},{"$f":"'Bill of Materials'!L562","v":"Hammond"},{"$f":"'Bill of Materials'!N562","v":3.53},{"$f":"'Bill of Materials'!P562","v":"DWC"},{"$f":"'Bill of Materials'!C562","v":"INFO-4229"},{"$f":"'Bill of Materials'!H562","v":"1487CS"},null,null,null,0,{"$f":"'Bill of Materials'!J562","v":"standard material"},{"$f":"'Bill of Materials'!K562","v":"physical"},0]
[{"$f":"'Bill of Materials'!E563+'Bill of Materials'!F563","v":0},{"$f":"'Bill of Materials'!M563","v":"EA"},{"$f":"'Bill of Materials'!G563","v":"Feed through wireway 4x4 90 degree elbow"},{"$f":"'Bill of Materials'!L563","v":"Hammond"},{"$f":"'Bill of Materials'!N563","v":65.91},{"$f":"'Bill of Materials'!P563","v":"DWC"},{"$f":"'Bill of Materials'!C563","v":"INFO-4230"},{"$f":"'Bill of Materials'!H563","v":"1487C9P"},null,null,null,0,{"$f":"'Bill of Materials'!J563","v":"standard material"},{"$f":"'Bill of Materials'!K563","v":"physical"},0]
[{"$f":"'Bill of Materials'!E564+'Bill of Materials'!F564","v":0},{"$f":"'Bill of Materials'!M564","v":"EA"},{"$f":"'Bill of Materials'!G564","v":"Feed through wireway 4x4 45 degree elbowTelescope fitting"},{"$f":"'Bill of Materials'!L564","v":"Hammond"},{"$f":"'Bill of Materials'!N564","v":67.89},{"$f":"'Bill of Materials'!P564","v":"DWC"},{"$f":"'Bill of Materials'!C564","v":"INFO-4231"},{"$f":"'Bill of Materials'!H564","v":"1487C4P"},null,null,null,0,{"$f":"'Bill of Materials'!J564","v":"standard material"},{"$f":"'Bill of Materials'!K564","v":"physical"},0]
[{"$f":"'Bill of Materials'!E565+'Bill of Materials'!F565","v":0},{"$f":"'Bill of Materials'!M565","v":"EA"},{"$f":"'Bill of Materials'!G565","v":"Feed through wireway 4x4 Telescope fitting"},{"$f":"'Bill of Materials'!L565","v":"Hammond"},{"$f":"'Bill of Materials'!N565","v":71.400000000000006},{"$f":"'Bill of Materials'!P565","v":"DWC"},{"$f":"'Bill of Materials'!C565","v":"INFO-4232"},{"$f":"'Bill of Materials'!H565","v":"1487CX"},null,null,null,0,{"$f":"'Bill of Materials'!J565","v":"standard material"},{"$f":"'Bill of Materials'!K565","v":"physical"},0]
[{"$f":"'Bill of Materials'!E566+'Bill of Materials'!F566","v":0},{"$f":"'Bill of Materials'!M566","v":"EA"},{"$f":"'Bill of Materials'!G566","v":"Feed through wireway 4x4 flexible fitting"},{"$f":"'Bill of Materials'!L566","v":"Hammond"},{"$f":"'Bill of Materials'!N566","v":115.64},{"$f":"'Bill of Materials'!P566","v":"DWC"},{"$f":"'Bill of Materials'!C566","v":"INFO-4233"},{"$f":"'Bill of Materials'!H566","v":"1485CFF"},null,null,null,0,{"$f":"'Bill of Materials'!J566","v":"standard material"},{"$f":"'Bill of Materials'!K566","v":"physical"},0]
[{"$f":"'Bill of Materials'!E567+'Bill of Materials'!F567","v":0},{"$f":"'Bill of Materials'!M567","v":"EA"},{"$f":"'Bill of Materials'!G567","v":"Feed through wireway 4x4 hinged top (2 Foot section)"},{"$f":"'Bill of Materials'!L567","v":"Hammond"},{"$f":"'Bill of Materials'!N567","v":74.540000000000006},{"$f":"'Bill of Materials'!P567","v":"DWC"},{"$f":"'Bill of Materials'!C567","v":"INFO-4234"},{"$f":"'Bill of Materials'!H567","v":"1487C24"},null,null,null,0,{"$f":"'Bill of Materials'!J567","v":"standard material"},{"$f":"'Bill of Materials'!K567","v":"physical"},0]
[{"$f":"'Bill of Materials'!E568+'Bill of Materials'!F568","v":0},{"$f":"'Bill of Materials'!M568","v":"EA"},{"$f":"'Bill of Materials'!G568","v":"Feed through wireway 4x4 hinged top (3 Foot section)"},{"$f":"'Bill of Materials'!L568","v":"Hammond"},{"$f":"'Bill of Materials'!N568","v":90.79},{"$f":"'Bill of Materials'!P568","v":"DWC"},{"$f":"'Bill of Materials'!C568","v":"INFO-4235"},{"$f":"'Bill of Materials'!H568","v":"1487C36"},null,null,null,{"$f":"E588*A588","v":0},{"$f":"'Bill of Materials'!J568","v":"standard material"},{"$f":"'Bill of Materials'!K568","v":"physical"},{"$f":"IF(A588>0,1,0)","v":0}]
[{"$f":"'Bill of Materials'!E569+'Bill of Materials'!F569","v":0},{"$f":"'Bill of Materials'!M569","v":"EA"},{"$f":"'Bill of Materials'!G569","v":"Feed through wireway 4x4 hinged top (4 Foot section)"},{"$f":"'Bill of Materials'!L569","v":"Hammond"},{"$f":"'Bill of Materials'!N569","v":107.1},{"$f":"'Bill of Materials'!P569","v":"DWC"},{"$f":"'Bill of Materials'!C569","v":"INFO-4236"},{"$f":"'Bill of Materials'!H569","v":"1487C48"},null,null,null,0,{"$f":"'Bill of Materials'!J569","v":"standard material"},{"$f":"'Bill of Materials'!K569","v":"physical"},0]
[{"$f":"'Bill of Materials'!E570+'Bill of Materials'!F570","v":0},{"$f":"'Bill of Materials'!M570","v":"EA"},{"$f":"'Bill of Materials'!G570","v":"Feed through wireway 4x4 hinged top (5 Foot section)"},{"$f":"'Bill of Materials'!L570","v":"Hammond"},{"$f":"'Bill of Materials'!N570","v":122.99},{"$f":"'Bill of Materials'!P570","v":"DWC"},{"$f":"'Bill of Materials'!C570","v":"INFO-4237"},{"$f":"'Bill of Materials'!H570","v":"1487C60"},null,null,null,0,{"$f":"'Bill of Materials'!J570","v":"standard material"},{"$f":"'Bill of Materials'!K570","v":"physical"},0]
[{"$f":"'Bill of Materials'!E571+'Bill of Materials'!F571","v":0},{"$f":"'Bill of Materials'!M571","v":"EA"},{"$f":"'Bill of Materials'!G571","v":"Feed through wireway 4x4 hinged top (10 Foot section)"},{"$f":"'Bill of Materials'!L571","v":"Hammond"},{"$f":"'Bill of Materials'!N571","v":203.62},{"$f":"'Bill of Materials'!P571","v":"DWC"},{"$f":"'Bill of Materials'!C571","v":"INFO-4238"},{"$f":"'Bill of Materials'!H571","v":"1487C120"},null,null,null,0,{"$f":"'Bill of Materials'!J571","v":"standard material"},{"$f":"'Bill of Materials'!K571","v":"physical"},0]
[{"$f":"'Bill of Materials'!E572+'Bill of Materials'!F572","v":0},{"$f":"'Bill of Materials'!M572","v":"EA"},{"$f":"'Bill of Materials'!G572","v":"78  Inch NEMA 12 Enclosure Common Cabinet Assembly, includes Hammond Cabinet (INFO-4821 Less Vert. Powerbars), Gnd. Bar (INFO-4505), Terminal Box Kit (INFO-4818) and accessories - Material Only(MUST ORDER GND. BAR INFO-4505 SEPARATELY)"},{"$f":"'Bill of Materials'!L572","v":"DWC"},{"$f":"'Bill of Materials'!N572","v":2478.83},{"$f":"'Bill of Materials'!P572","v":"DWC"},{"$f":"'Bill of Materials'!C572","v":"INFO-4737"},{"$f":"'Bill of Materials'!H572","v":"78N12CC-H"},null,null,null,0,{"$f":"'Bill of Materials'!J572","v":"standard material"},{"$f":"'Bill of Materials'!K572","v":"physical"},0]
[{"$f":"'Bill of Materials'!E573+'Bill of Materials'!F573","v":0},{"$f":"'Bill of Materials'!M573","v":"EA"},{"$f":"'Bill of Materials'!G573","v":"78  Inch NEMA 12 Enclosure Type 1 Cabinet Assembly, includes Hammond Cabinet (INFO-4821 Less Vert. Powerbars), Gnd. Bar (INFO-4505), (1) Horiz. Powerbar (INFO-2224), Terminal box Kit (INFO-4818), Elec Junction Box Kit (INFO-4819), A/C Unit (INFO-4656) & Accessories (10Kva PDU must be ordered separately) - Material Only"},{"$f":"'Bill of Materials'!L573","v":"DWC"},{"$f":"'Bill of Materials'!N573","v":6252.54},{"$f":"'Bill of Materials'!P573","v":"DWC"},{"$f":"'Bill of Materials'!C573","v":"INFO-4740"},{"$f":"'Bill of Materials'!H573","v":"78N12T1-H"},null,null,null,0,{"$f":"'Bill of Materials'!J573","v":"standard material"},{"$f":"'Bill of Materials'!K573","v":"physical"},0]
[{"$f":"'Bill of Materials'!E574+'Bill of Materials'!F574","v":0},{"$f":"'Bill of Materials'!M574","v":"EA"},{"$f":"'Bill of Materials'!G574","v":"78  Inch NEMA 12 Enclosure Type 2 Cabinet Assembly, includes (2) Hammond Cabinets (INFO-4821 Less Vert. Powerbars), Gnd. Bar (INFO-4505), (1) Horiz. Powerbar (INFO-2224), Terminal box Kit (INFO-4818), Elec Junction Box Kit (INFO-4819), A/C Unit (INFO-4656) & Accessories (10Kva PDU must be ordered separately) - Material Only"},{"$f":"'Bill of Materials'!L574","v":"DWC"},{"$f":"'Bill of Materials'!N574","v":9018.23},{"$f":"'Bill of Materials'!P574","v":"DWC"},{"$f":"'Bill of Materials'!C574","v":"INFO-4743"},{"$f":"'Bill of Materials'!H574","v":"78N12T2-H"},null,null,null,0,{"$f":"'Bill of Materials'!J574","v":"standard material"},{"$f":"'Bill of Materials'!K574","v":"physical"},0]
[{"$f":"'Bill of Materials'!E575+'Bill of Materials'!F575","v":0},{"$f":"'Bill of Materials'!M575","v":"EA"},{"$f":"'Bill of Materials'!G575","v":"78 Inch NEMA 12 Enclosure SPO Warehouse Assembly, includes Hammond Cabinet (INFO-4821 Less Vert. Powerbars), Gnd. Bar (INFO-4505), (1) Horiz. Powerbar (INFO-2224), 10KVA PDU, Filter Fan and accessories - Material Only"},{"$f":"'Bill of Materials'!L575","v":"DWC"},{"$f":"'Bill of Materials'!N575","v":3971.2},{"$f":"'Bill of Materials'!P575","v":"DWC"},{"$f":"'Bill of Materials'!C575","v":"INFO-4749"},{"$f":"'Bill of Materials'!H575","v":"78N12SPO-H"},null,null,null,0,{"$f":"'Bill of Materials'!J575","v":"standard material"},{"$f":"'Bill of Materials'!K575","v":"physical"},0]
[{"$f":"'Bill of Materials'!E576+'Bill of Materials'!F576","v":0},{"$f":"'Bill of Materials'!M576","v":"EA"},{"$f":"'Bill of Materials'!G576","v":"Terminal Box Enclosure and Back Plate for INFO-4818"},{"$f":"'Bill of Materials'!L576","v":"Hammond"},{"$f":"'Bill of Materials'!N576","v":34.03},{"$f":"'Bill of Materials'!P576","v":"DWC"},{"$f":"'Bill of Materials'!C576","v":"INFO-4752"},{"$f":"'Bill of Materials'!H576","v":"1414PHC"},null,null,null,0,{"$f":"'Bill of Materials'!J576","v":"standard material"},{"$f":"'Bill of Materials'!K576","v":"physical"},0]
[{"$f":"'Bill of Materials'!E577+'Bill of Materials'!F577","v":0},{"$f":"'Bill of Materials'!M577","v":"EA"},{"$f":"'Bill of Materials'!G577","v":"Electrical Junction Box Enclosure and Back Plate for INFO-4819, 32\"x10\"x8\""},{"$f":"'Bill of Materials'!L577","v":"Hammond"},{"$f":"'Bill of Materials'!N577","v":177.08},{"$f":"'Bill of Materials'!P577","v":"DWC"},{"$f":"'Bill of Materials'!C577","v":"INFO-4753"},{"$f":"'Bill of Materials'!H577","v":"SE0400102"},null,null,null,0,{"$f":"'Bill of Materials'!J577","v":"standard material"},{"$f":"'Bill of Materials'!K577","v":"physical"},0]
[{"$f":"'Bill of Materials'!E578+'Bill of Materials'!F578","v":0},{"$f":"'Bill of Materials'!M578","v":"EA"},{"$f":"'Bill of Materials'!G578","v":"60\" Cabinet Vertical 7 plug power strip, 15 Amp,  Includes mounting clips, 48\"T, No ON/OFF Switch"},{"$f":"'Bill of Materials'!L578","v":"Hammond"},{"$f":"'Bill of Materials'!N578","v":43.17},{"$f":"'Bill of Materials'!P578","v":"DWC"},{"$f":"'Bill of Materials'!C578","v":"INFO-4757"},{"$f":"'Bill of Materials'!H578","v":"1585T8A1"},null,null,null,0,{"$f":"'Bill of Materials'!J578","v":"standard material"},{"$f":"'Bill of Materials'!K578","v":"physical"},0]
[{"$f":"'Bill of Materials'!E579+'Bill of Materials'!F579","v":0},{"$f":"'Bill of Materials'!M579","v":"EA"},{"$f":"'Bill of Materials'!G579","v":"Terminal Blocks Mounting Rail, Ridged, 36\"L (EJB and Terminal box)"},{"$f":"'Bill of Materials'!L579","v":"Allen Bradley"},{"$f":"'Bill of Materials'!N579","v":6.83},{"$f":"'Bill of Materials'!P579","v":"DWC"},{"$f":"'Bill of Materials'!C579","v":"INFO-4761"},{"$f":"'Bill of Materials'!H579","v":"1492-N22"},null,null,null,0,{"$f":"'Bill of Materials'!J579","v":"standard material"},{"$f":"'Bill of Materials'!K579","v":"physical"},0]
[{"$f":"'Bill of Materials'!E580+'Bill of Materials'!F580","v":0},{"$f":"'Bill of Materials'!M580","v":"EA"},{"$f":"'Bill of Materials'!G580","v":"NEMA-12 cabinet ganging kit, 78\" HE C3JK7031"},{"$f":"'Bill of Materials'!L580","v":"X-Mark"},{"$f":"'Bill of Materials'!N580","v":18.97},{"$f":"'Bill of Materials'!P580","v":"DWC"},{"$f":"'Bill of Materials'!C580","v":"INFO-4785"},{"$f":"'Bill of Materials'!H580","v":"XGN12-782832-CGK"},null,null,null,0,{"$f":"'Bill of Materials'!J580","v":"standard material"},{"$f":"'Bill of Materials'!K580","v":"physical"},0]
[{"$f":"'Bill of Materials'!E581+'Bill of Materials'!F581","v":0},{"$f":"'Bill of Materials'!M581","v":"EA"},{"$f":"'Bill of Materials'!G581","v":"48x36x12 NEMA 12 VTC Voice Termination Cabinet Hammond (Kit includes (2) 300pr blocks, (1) 188B1 WM and (12 S144 Rings) (Additional 100pr blocks & management must be ordered separately) - Material Only"},{"$f":"'Bill of Materials'!L581","v":"DWC"},{"$f":"'Bill of Materials'!N581","v":765.81},{"$f":"'Bill of Materials'!P581","v":"DWC"},{"$f":"'Bill of Materials'!C581","v":"INFO-4792"},{"$f":"'Bill of Materials'!H581","v":"N12VTC-H"},null,null,null,0,{"$f":"'Bill of Materials'!J581","v":"standard material"},{"$f":"'Bill of Materials'!K581","v":"physical"},0]
[{"$f":"'Bill of Materials'!E582+'Bill of Materials'!F582","v":0},{"$f":"'Bill of Materials'!M582","v":"EA"},{"$f":"'Bill of Materials'!G582","v":"60 Inch NEMA 12 Enclosure Common Cabinet Assembly, includes Hammond Cabinet (INFO-4820), Gnd. Bar (INFO-4505), (1) Horiz. Powerbar (INFO-2224), Terminal Box Kit (INFO-4818) and accessories - Material Only"},{"$f":"'Bill of Materials'!L582","v":"DWC"},{"$f":"'Bill of Materials'!N582","v":2458.37},{"$f":"'Bill of Materials'!P582","v":"DWC"},{"$f":"'Bill of Materials'!C582","v":"INFO-4795"},{"$f":"'Bill of Materials'!H582","v":"60N12CC-H"},null,null,null,0,{"$f":"'Bill of Materials'!J582","v":"standard material"},{"$f":"'Bill of Materials'!K582","v":"physical"},0]
[{"$f":"'Bill of Materials'!E583+'Bill of Materials'!F583","v":0},{"$f":"'Bill of Materials'!M583","v":"EA"},{"$f":"'Bill of Materials'!G583","v":"60 Inch NEMA 12 Enclosure Type 1 Cabinet Assembly, includes Hammond Cabinet (INFO-4820), Gnd. Bar (INFO-4505), (1) Horiz. Powerbar (INFO-2224), Terminal Box Kit (INFO-4818), Electrical Junction Box Kit (INFO-4819), A/C Unit (INFO-4656) & Accessories (10Kva PDU must be ordered separately) - Material Only"},{"$f":"'Bill of Materials'!L583","v":"DWC"},{"$f":"'Bill of Materials'!N583","v":6232.03},{"$f":"'Bill of Materials'!P583","v":"DWC"},{"$f":"'Bill of Materials'!C583","v":"INFO-4798"},{"$f":"'Bill of Materials'!H583","v":"60N12T1-H"},null,null,null,0,{"$f":"'Bill of Materials'!J583","v":"standard material"},{"$f":"'Bill of Materials'!K583","v":"physical"},0]
[{"$f":"'Bill of Materials'!E584+'Bill of Materials'!F584","v":0},{"$f":"'Bill of Materials'!M584","v":"EA"},{"$f":"'Bill of Materials'!G584","v":"60 Inch NEMA 12 Enclosure Type 2 Cabinet Assembly, includes (2) Hammond Cabinets (INFO-4820), Gnd. Bars (INFO-4505), (1) Horiz. Powerbar (INFO-2224), (2) Terminal Box Kits (INFO-4818), Electrical Junction Box Kit (INFO-4819), A/C Unit (INFO-4656) & Accessories (10Kva PDU must be ordered separately) - Material Only"},{"$f":"'Bill of Materials'!L584","v":"DWC"},{"$f":"'Bill of Materials'!N584","v":8967.4699999999993},{"$f":"'Bill of Materials'!P584","v":"DWC"},{"$f":"'Bill of Materials'!C584","v":"INFO-4801"},{"$f":"'Bill of Materials'!H584","v":"60N12T2-H"},null,null,null,0,{"$f":"'Bill of Materials'!J584","v":"standard material"},{"$f":"'Bill of Materials'!K584","v":"physical"},0]
[{"$f":"'Bill of Materials'!E585+'Bill of Materials'!F585","v":0},{"$f":"'Bill of Materials'!M585","v":"EA"},{"$f":"'Bill of Materials'!G585","v":"60 Inch NEMA 12 Enclosure Type 3 Cabinet Assembly, includes (3) Hammond Cabinets (INFO-4820), Gnd. Bars (INFO-4505), (2) Horiz. Powerbar (INFO-2224), (3) Terminal Box Kits (INFO-4818), Elec Junction Box Kit (INFO-4819), A/C Unit (INFO-4656) & Accessories (10Kva PDU must be ordered separately) - Material Only"},{"$f":"'Bill of Materials'!L585","v":"DWC"},{"$f":"'Bill of Materials'!N585","v":11476.33},{"$f":"'Bill of Materials'!P585","v":"DWC"},{"$f":"'Bill of Materials'!C585","v":"INFO-4804"},{"$f":"'Bill of Materials'!H585","v":"60N12T3-H"},null,null,null,0,{"$f":"'Bill of Materials'!J585","v":"standard material"},{"$f":"'Bill of Materials'!K585","v":"physical"},0]
[{"$f":"'Bill of Materials'!E586+'Bill of Materials'!F586","v":0},{"$f":"'Bill of Materials'!M586","v":"EA"},{"$f":"'Bill of Materials'!G586","v":"60 Inch NEMA 12 Enclosure Type 4 Cabinet Assembly, includes (4) Hammond Cabinets (INFO-4820), Gnd. Bars (INFO-4505), (2) Horiz. Powerbar (INFO-2224), (4) Terminal Box Kits (INFO-4818), Elec Junction Box Kit (INFO-4819), A/C Unit (INFO-4656) & Accessories (10Kva PDU must be ordered separately) - Material Only"},{"$f":"'Bill of Materials'!L586","v":"DWC"},{"$f":"'Bill of Materials'!N586","v":14007.49},{"$f":"'Bill of Materials'!P586","v":"DWC"},{"$f":"'Bill of Materials'!C586","v":"INFO-4807"},{"$f":"'Bill of Materials'!H586","v":"60N12T4-H"},null,null,null,0,{"$f":"'Bill of Materials'!J586","v":"standard material"},{"$f":"'Bill of Materials'!K586","v":"physical"},0]
[{"$f":"'Bill of Materials'!E587+'Bill of Materials'!F587","v":0},{"$f":"'Bill of Materials'!M587","v":"EA"},{"$f":"'Bill of Materials'!G587","v":"60 Inch NEMA 12 Enclosure Type 5 Cabinet Assembly, includes (5) Hammond Cabinets (INFO-4820), Gnd. Bars (INFO-4505), (2) Horiz. Powerbars (INFO-2224), (5) Terminal Box Kits (INFO-4818), Elec Junction Box Kit (INFO-4819), A/C Unit (INFO-4656) & Accessories (10Kva PDU must be ordered separately) - Material Only"},{"$f":"'Bill of Materials'!L587","v":"DWC"},{"$f":"'Bill of Materials'!N587","v":16540.099999999999},{"$f":"'Bill of Materials'!P587","v":"DWC"},{"$f":"'Bill of Materials'!C587","v":"INFO-4810"},{"$f":"'Bill of Materials'!H587","v":"60N12T5-H"},null,null,null,0,{"$f":"'Bill of Materials'!J587","v":"standard material"},{"$f":"'Bill of Materials'!K587","v":"physical"},0]
[{"$f":"'Bill of Materials'!E588+'Bill of Materials'!F588","v":0},{"$f":"'Bill of Materials'!M588","v":"EA"},{"$f":"'Bill of Materials'!G588","v":"CPTA Terminal Box Kit- Material Only"},{"$f":"'Bill of Materials'!L588","v":"DWC"},{"$f":"'Bill of Materials'!N588","v":932.48},{"$f":"'Bill of Materials'!P588","v":"DWC"},{"$f":"'Bill of Materials'!C588","v":"INFO-4818"},{"$f":"'Bill of Materials'!H588","v":"Term-T12-H"},null,null,null,0,{"$f":"'Bill of Materials'!J588","v":"standard material"},{"$f":"'Bill of Materials'!K588","v":"physical"},0]
[{"$f":"'Bill of Materials'!#REF!+'Bill of Materials'!#REF!","v":{"$error":"#REF!"}},{"$f":"'Bill of Materials'!#REF!","v":{"$error":"#REF!"}},{"$f":"'Bill of Materials'!#REF!","v":{"$error":"#REF!"}},{"$f":"'Bill of Materials'!#REF!","v":{"$error":"#REF!"}},{"$f":"'Bill of Materials'!#REF!","v":{"$error":"#REF!"}},{"$f":"'Bill of Materials'!#REF!","v":{"$error":"#REF!"}},{"$f":"'Bill of Materials'!#REF!","v":{"$error":"#REF!"}},{"$f":"'Bill of Materials'!#REF!","v":{"$error":"#REF!"}},null,null,null,{"$error":"#REF!"},{"$f":"'Bill of Materials'!#REF!","v":{"$error":"#REF!"}},{"$f":"'Bill of Materials'!#REF!","v":{"$error":"#REF!"}},{"$error":"#REF!"}]
[{"$f":"'Bill of Materials'!E589+'Bill of Materials'!F589","v":0},{"$f":"'Bill of Materials'!M589","v":"EA"},{"$f":"'Bill of Materials'!G589","v":"CPTA Electrical Junction Box Kit - Material Only"},{"$f":"'Bill of Materials'!L589","v":"DWC"},{"$f":"'Bill of Materials'!N589","v":2058.75},{"$f":"'Bill of Materials'!P589","v":"DWC"},{"$f":"'Bill of Materials'!C589","v":"INFO-4819"},{"$f":"'Bill of Materials'!H589","v":"EJB-1-H"},null,null,null,0,{"$f":"'Bill of Materials'!J589","v":"standard material"},{"$f":"'Bill of Materials'!K589","v":"physical"},0]
[{"$f":"'Bill of Materials'!E590+'Bill of Materials'!F590","v":0},{"$f":"'Bill of Materials'!M590","v":"EA"},{"$f":"'Bill of Materials'!G590","v":"60 Inch NEMA-12 30RU BASE plant floor cabinet assembly (60\"X28\"X32\"). Includes floor levelers, ground studs/straps, two pair of EIA rails (30RU), two sets rail reducers (INFO-4219) for 19” mounting, bag of EIA rack rail hardware for 24” mounting, bag of (100) 10x32 oval head Phillips screws and finish washers, solid bottom, solid top, solid front door, solid rear door (doors include Dirak lift & turn handle and three point latch keyed 1333), two solid side panels, (1) 24” fluorescent light kit/magnetic (INFO-4220)\r\n(MUST ORDER GND. BAR INFO-4505 SEPARATELY)"},{"$f":"'Bill of Materials'!L590","v":"Hammond"},{"$f":"'Bill of Materials'!N590","v":1458.62},{"$f":"'Bill of Materials'!P590","v":"DWC"},{"$f":"'Bill of Materials'!C590","v":"INFO-4820"},{"$f":"'Bill of Materials'!H590","v":"SR0200391"},null,null,null,0,{"$f":"'Bill of Materials'!J590","v":"standard material"},{"$f":"'Bill of Materials'!K590","v":"physical"},0]
[{"$f":"'Bill of Materials'!E591+'Bill of Materials'!F591","v":0},{"$f":"'Bill of Materials'!M591","v":"EA"},{"$f":"'Bill of Materials'!G591","v":"78 Inch NEMA-12 40RU BASE plant floor cabinet assembly (78\"X28\"X32\"). Includes floor levelers, ground studs/straps, one pair of EIA rails (INFO-4218), rail reducers (INFO-4219) for 19” mounting, bag of EIA rack rail hardware for 24” mounting, bag of (100) 10x32 oval head Phillips screws and finish washers, (2) vertical powerbars (INFO-4652), solid bottom, solid top, solid front door, solid rear door (doors include Dirak lift & turn handle and three point latch keyed 1333), two solid side panels, (1) 24” fluorescent light kit/magnetic (INFO-4220)\r\n(MUST ORDER GND. BAR INFO-4505 SEPARATELY)"},{"$f":"'Bill of Materials'!L591","v":"Hammond"},{"$f":"'Bill of Materials'!N591","v":1708.55},{"$f":"'Bill of Materials'!P591","v":"DWC"},{"$f":"'Bill of Materials'!C591","v":"INFO-4821"},{"$f":"'Bill of Materials'!H591","v":"S87973"},null,null,null,0,{"$f":"'Bill of Materials'!J591","v":"standard material"},{"$f":"'Bill of Materials'!K591","v":"physical"},0]
[{"$f":"'Bill of Materials'!E592+'Bill of Materials'!F592","v":0},{"$f":"'Bill of Materials'!M592","v":"EA"},{"$f":"'Bill of Materials'!G592","v":"78  Inch NEMA 12 Legacy Enclosure includes Hammond Cabinet (INFO-4821), and internal plumbing for outlets/on-off switch  - Material Only  (Does not include the 10kVA PDU or the 4000 BTU Air Conditioner)\r\n(MUST ORDER GND. BAR INFO-4505 SEPARATELY)"},{"$f":"'Bill of Materials'!L592","v":"DWC"},{"$f":"'Bill of Materials'!N592","v":1596.1},{"$f":"'Bill of Materials'!P592","v":"DWC"},{"$f":"'Bill of Materials'!C592","v":"INFO-4836"},{"$f":"'Bill of Materials'!H592","v":"S87973-LE-H"},null,null,null,0,{"$f":"'Bill of Materials'!J592","v":"standard material"},{"$f":"'Bill of Materials'!K592","v":"physical"},0]
[{"$f":"'Bill of Materials'!E594+'Bill of Materials'!F594","v":0},{"$f":"'Bill of Materials'!M594","v":"EA"},{"$f":"'Bill of Materials'!G594","v":"13RU (1) Pair 10-32 Tapped Rails w/Hardware. Matches SWC Series 26.00\" Wall Mount Cabinet"},{"$f":"'Bill of Materials'!L594","v":"Hammond"},{"$f":"'Bill of Materials'!N594","v":51.4},{"$f":"'Bill of Materials'!P594","v":"DWC"},{"$f":"'Bill of Materials'!C594","v":"10083"},{"$f":"'Bill of Materials'!H594","v":"CCR22TZPL"},null,null,null,0,{"$f":"'Bill of Materials'!J594","v":"standard material"},{"$f":"'Bill of Materials'!K594","v":"physical"},0]
[{"$f":"'Bill of Materials'!E595+'Bill of Materials'!F595","v":0},{"$f":"'Bill of Materials'!M595","v":"EA"},{"$f":"'Bill of Materials'!G595","v":"20RU (1) Pair 10-32 Tapped Rails w/Hardware. Matches SWC Series 35.25\" Wall Mount Cabinet"},{"$f":"'Bill of Materials'!L595","v":"Hammond"},{"$f":"'Bill of Materials'!N595","v":62.4},{"$f":"'Bill of Materials'!P595","v":"DWC"},{"$f":"'Bill of Materials'!C595","v":"10084"},{"$f":"'Bill of Materials'!H595","v":"CCR35TZPL"},null,null,null,0,{"$f":"'Bill of Materials'!J595","v":"standard material"},{"$f":"'Bill of Materials'!K595","v":"physical"},0]
[{"$f":"'Bill of Materials'!E596+'Bill of Materials'!F596","v":0},{"$f":"'Bill of Materials'!M596","v":"EA"},{"$f":"'Bill of Materials'!G596","v":"28RU (1) Pair 10-32 Tapped Rails w/Hardware. Matches SWC Series 52.25\" Wall Mount Cabinet"},{"$f":"'Bill of Materials'!L596","v":"Hammond"},{"$f":"'Bill of Materials'!N596","v":66},{"$f":"'Bill of Materials'!P596","v":"DWC"},{"$f":"'Bill of Materials'!C596","v":"10085"},{"$f":"'Bill of Materials'!H596","v":"CCR49TZPL"},null,null,null,0,{"$f":"'Bill of Materials'!J596","v":"standard material"},{"$f":"'Bill of Materials'!K596","v":"physical"},0]
[{"$f":"'Bill of Materials'!E597+'Bill of Materials'!F597","v":0},{"$f":"'Bill of Materials'!M597","v":"EA"},{"$f":"'Bill of Materials'!G597","v":"Daisy Chain for Fans, 24\" with (2) 45 degree plugs for Hammond Wall Mount Cabinet"},{"$f":"'Bill of Materials'!L597","v":"Hammond"},{"$f":"'Bill of Materials'!N597","v":6.55},{"$f":"'Bill of Materials'!P597","v":"DWC"},{"$f":"'Bill of Materials'!C597","v":"10094"},{"$f":"'Bill of Materials'!H597","v":"DNFCDC2P"},null,null,null,0,{"$f":"'Bill of Materials'!J597","v":"standard material"},{"$f":"'Bill of Materials'!K597","v":"physical"},0]
[{"$f":"'Bill of Materials'!E598+'Bill of Materials'!F598","v":0},{"$f":"'Bill of Materials'!M598","v":"EA"},{"$f":"'Bill of Materials'!G598","v":"4.7\" Metal Fan Grille for Hammond Wall Mount Cabinet"},{"$f":"'Bill of Materials'!L598","v":"Hammond"},{"$f":"'Bill of Materials'!N598","v":2.7},{"$f":"'Bill of Materials'!P598","v":"DWC"},{"$f":"'Bill of Materials'!C598","v":"10095"},{"$f":"'Bill of Materials'!H598","v":"DNFG"},null,null,null,0,{"$f":"'Bill of Materials'!J598","v":"standard material"},{"$f":"'Bill of Materials'!K598","v":"physical"},0]
[{"$f":"'Bill of Materials'!E599+'Bill of Materials'!F599","v":0},{"$f":"'Bill of Materials'!M599","v":"EA"},{"$f":"'Bill of Materials'!G599","v":"4.7\" Diameter Fan 100 CFM "},{"$f":"'Bill of Materials'!L599","v":"Hammond"},{"$f":"'Bill of Materials'!N599","v":28.35},{"$f":"'Bill of Materials'!P599","v":"DWC"},{"$f":"'Bill of Materials'!C599","v":"10096"},{"$f":"'Bill of Materials'!H599","v":"DNMF100AC115"},null,null,null,0,{"$f":"'Bill of Materials'!J599","v":"standard material"},{"$f":"'Bill of Materials'!K599","v":"physical"},0]
[{"$f":"'Bill of Materials'!E600+'Bill of Materials'!F600","v":0},{"$f":"'Bill of Materials'!M600","v":"EA"},{"$f":"'Bill of Materials'!G600","v":"Nema 4 Rated Enclosure (Steel/Gray) 36\"h x 30\"w x 10\"d"},{"$f":"'Bill of Materials'!L600","v":"Hammond"},{"$f":"'Bill of Materials'!N600","v":389},{"$f":"'Bill of Materials'!P600","v":"DWC"},{"$f":"'Bill of Materials'!C600","v":"10100"},{"$f":"'Bill of Materials'!H600","v":"EN4SD363010GY"},null,null,null,0,{"$f":"'Bill of Materials'!J600","v":"standard material"},{"$f":"'Bill of Materials'!K600","v":"physical"},0]
[{"$f":"'Bill of Materials'!E601+'Bill of Materials'!F601","v":0},{"$f":"'Bill of Materials'!M601","v":"EA"},{"$f":"'Bill of Materials'!G601","v":"Nema 4 Rated Enclosure Back Mounting Plate"},{"$f":"'Bill of Materials'!L601","v":"Hammond"},{"$f":"'Bill of Materials'!N601","v":97.95},{"$f":"'Bill of Materials'!P601","v":"DWC"},{"$f":"'Bill of Materials'!C601","v":"10101"},{"$f":"'Bill of Materials'!H601","v":"EP3630"},null,null,null,0,{"$f":"'Bill of Materials'!J601","v":"standard material"},{"$f":"'Bill of Materials'!K601","v":"physical"},0]
[{"$f":"'Bill of Materials'!#REF!+'Bill of Materials'!#REF!","v":{"$error":"#REF!"}},{"$f":"'Bill of Materials'!#REF!","v":{"$error":"#REF!"}},{"$f":"'Bill of Materials'!#REF!","v":{"$error":"#REF!"}},{"$f":"'Bill of Materials'!#REF!","v":{"$error":"#REF!"}},{"$f":"'Bill of Materials'!#REF!","v":{"$error":"#REF!"}},{"$f":"'Bill of Materials'!#REF!","v":{"$error":"#REF!"}},{"$f":"'Bill of Materials'!#REF!","v":{"$error":"#REF!"}},{"$f":"'Bill of Materials'!#REF!","v":{"$error":"#REF!"}},null,null,null,{"$error":"#REF!"},{"$f":"'Bill of Materials'!#REF!","v":{"$error":"#REF!"}},{"$f":"'Bill of Materials'!#REF!","v":{"$error":"#REF!"}},{"$error":"#REF!"}]
[{"$f":"'Bill of Materials'!E602+'Bill of Materials'!F602","v":0},{"$f":"'Bill of Materials'!M602","v":"EA"},{"$f":"'Bill of Materials'!G602","v":"SWC Series 26.00\" Tall, 13RU, Swing Out Nema 1 Wall Mounted Cabinet Black w/(3) Hinged Sections. 26.625\" Depth w/Locking Plexi Glass Door, 1 Pair of 10-32 Tapped Rails"},{"$f":"'Bill of Materials'!L602","v":"Hammond"},{"$f":"'Bill of Materials'!N602","v":549.9},{"$f":"'Bill of Materials'!P602","v":"DWC"},{"$f":"'Bill of Materials'!C602","v":"10167"},{"$f":"'Bill of Materials'!H602","v":"SWC192220BK1"},null,null,null,0,{"$f":"'Bill of Materials'!J602","v":"standard material"},{"$f":"'Bill of Materials'!K602","v":"physical"},0]
[{"$f":"'Bill of Materials'!E603+'Bill of Materials'!F603","v":0},{"$f":"'Bill of Materials'!M603","v":"EA"},{"$f":"'Bill of Materials'!G603","v":"SWC Series 35.25\" Tall, 20RU, Swing Out Nema 1 Wall Mounted Cabinet Black w/(3) Hinged Sections. 26.625\" Depth w/Locking Plexi Glass Door, 1 Pair of 10-32 Tapped Rails"},{"$f":"'Bill of Materials'!L603","v":"Hammond"},{"$f":"'Bill of Materials'!N603","v":553.5},{"$f":"'Bill of Materials'!P603","v":"DWC"},{"$f":"'Bill of Materials'!C603","v":"10168"},{"$f":"'Bill of Materials'!H603","v":"SWC193520BK1"},null,null,null,0,{"$f":"'Bill of Materials'!J603","v":"standard material"},{"$f":"'Bill of Materials'!K603","v":"physical"},0]
[{"$f":"'Bill of Materials'!E604+'Bill of Materials'!F604","v":0},{"$f":"'Bill of Materials'!M604","v":"EA"},{"$f":"'Bill of Materials'!G604","v":"SWC Series 52.25\" Tall, 28RU, Swing Out Nema 1 Wall Mounted Cabinet Black w/(3) Hinged Sections. 26.625\" Depth w/Locking Plexi Glass Door, 1 Pair of 10-32 Tapped Rails"},{"$f":"'Bill of Materials'!L604","v":"Hammond"},{"$f":"'Bill of Materials'!N604","v":812.35},{"$f":"'Bill of Materials'!P604","v":"DWC"},{"$f":"'Bill of Materials'!C604","v":"10169"},{"$f":"'Bill of Materials'!H604","v":"SWC194920BK1"},null,null,null,0,{"$f":"'Bill of Materials'!J604","v":"standard material"},{"$f":"'Bill of Materials'!K604","v":"physical"},0]
[{"$f":"'Bill of Materials'!E605+'Bill of Materials'!F605","v":0},{"$f":"'Bill of Materials'!M605","v":"EA"},{"$f":"'Bill of Materials'!G605","v":"Wall Mount Cabinet (Labor ONLY)"},{"$f":"'Bill of Materials'!L605","v":"DWC"},{"$f":"'Bill of Materials'!N605","v":0},{"$f":"'Bill of Materials'!P605","v":"DWC"},{"$f":"'Bill of Materials'!C605","v":"NIS"},{"$f":"'Bill of Materials'!H605","v":"Variable-L"},null,null,null,0,{"$f":"'Bill of Materials'!J605","v":"non-standard material"},{"$f":"'Bill of Materials'!K605","v":"physical"},0]
[{"$f":"'Bill of Materials'!E607+'Bill of Materials'!F607","v":0},{"$f":"'Bill of Materials'!M607","v":"EA"},{"$f":"'Bill of Materials'!G607","v":"Radius Server Monitor, Cabinet Rails Angle Bracket"},{"$f":"'Bill of Materials'!L607","v":"DWC"},{"$f":"'Bill of Materials'!N607","v":16.829999999999998},{"$f":"'Bill of Materials'!P607","v":"DWC"},{"$f":"'Bill of Materials'!C607","v":"0094-49RM"},{"$f":"'Bill of Materials'!H607","v":"RSMAB"},null,null,null,0,{"$f":"'Bill of Materials'!J607","v":"standard material"},{"$f":"'Bill of Materials'!K607","v":"physical"},0]
[{"$f":"'Bill of Materials'!E608+'Bill of Materials'!F608","v":0},{"$f":"'Bill of Materials'!M608","v":"EA"},{"$f":"'Bill of Materials'!G608","v":"Rear Rack Cable/Powercord Management Mounting Kit (includes 10 mounting clips and velcro ties)"},{"$f":"'Bill of Materials'!L608","v":"DWC"},{"$f":"'Bill of Materials'!N608","v":10.199999999999999},{"$f":"'Bill of Materials'!P608","v":"DWC"},{"$f":"'Bill of Materials'!C608","v":"0456-0XRH"},{"$f":"'Bill of Materials'!H608","v":"RRCM"},null,null,null,0,{"$f":"'Bill of Materials'!J608","v":"standard material"},{"$f":"'Bill of Materials'!K608","v":"physical"},0]
[{"$f":"'Bill of Materials'!E609+'Bill of Materials'!F609","v":0},{"$f":"'Bill of Materials'!M609","v":"EA"},{"$f":"'Bill of Materials'!G609","v":"Relay Rack Rail Mounting Screws 12/24 x 5/8\"L, (50/PKG)"},{"$f":"'Bill of Materials'!L609","v":"Homaco"},{"$f":"'Bill of Materials'!N609","v":8.75},{"$f":"'Bill of Materials'!P609","v":"DWC"},{"$f":"'Bill of Materials'!C609","v":"10012"},{"$f":"'Bill of Materials'!H609","v":"60400533"},null,null,null,0,{"$f":"'Bill of Materials'!J609","v":"standard material"},{"$f":"'Bill of Materials'!K609","v":"physical"},0]
[{"$f":"'Bill of Materials'!E610+'Bill of Materials'!F610","v":0},{"$f":"'Bill of Materials'!M610","v":"EA"},{"$f":"'Bill of Materials'!G610","v":"84 Inch Dual Rail Equipment Rack, 19\" EIA Spacing, 45RU - Labor Only"},{"$f":"'Bill of Materials'!L610","v":"DWC"},{"$f":"'Bill of Materials'!N610","v":85.5},{"$f":"'Bill of Materials'!P610","v":"DWC"},{"$f":"'Bill of Materials'!C610","v":"10022"},{"$f":"'Bill of Materials'!H610","v":"1984DER-L"},null,null,null,0,{"$f":"'Bill of Materials'!J610","v":"standard material"},{"$f":"'Bill of Materials'!K610","v":"physical"},0]
[{"$f":"'Bill of Materials'!E611+'Bill of Materials'!F611","v":0},{"$f":"'Bill of Materials'!M611","v":"EA"},{"$f":"'Bill of Materials'!G611","v":"84 Inch Single Rail Equipment Rack, 19\" EIA Spacing, 45RU - Labor Only"},{"$f":"'Bill of Materials'!L611","v":"DWC"},{"$f":"'Bill of Materials'!N611","v":79.2},{"$f":"'Bill of Materials'!P611","v":"DWC"},{"$f":"'Bill of Materials'!C611","v":"10023"},{"$f":"'Bill of Materials'!H611","v":"1984SER-L"},null,null,null,0,{"$f":"'Bill of Materials'!J611","v":"standard material"},{"$f":"'Bill of Materials'!K611","v":"physical"},0]
[{"$f":"'Bill of Materials'!E612+'Bill of Materials'!F612","v":0},{"$f":"'Bill of Materials'!M612","v":"EA"},{"$f":"'Bill of Materials'!G612","v":"Top of Rack Mount Fiber Management Trough, Both FMT and CMUT19 Models - Labor Only"},{"$f":"'Bill of Materials'!L612","v":"DWC"},{"$f":"'Bill of Materials'!N612","v":38.700000000000003},{"$f":"'Bill of Materials'!P612","v":"DWC"},{"$f":"'Bill of Materials'!C612","v":"10088"},{"$f":"'Bill of Materials'!H612","v":"CMUT19-L"},null,null,null,0,{"$f":"'Bill of Materials'!J612","v":"standard material"},{"$f":"'Bill of Materials'!K612","v":"physical"},0]
[{"$f":"'Bill of Materials'!E613+'Bill of Materials'!F613","v":0},{"$f":"'Bill of Materials'!M613","v":"EA"},{"$f":"'Bill of Materials'!G613","v":"Fiber Trough, Replaces Top Angle Bracket on Dual and Single Relay Rack Frames. Utilizes Zero RU"},{"$f":"'Bill of Materials'!L613","v":"Belden"},{"$f":"'Bill of Materials'!N613","v":90.45},{"$f":"'Bill of Materials'!P613","v":"DWC"},{"$f":"'Bill of Materials'!C613","v":"10113"},{"$f":"'Bill of Materials'!H613","v":"FMT"},null,null,null,0,{"$f":"'Bill of Materials'!J613","v":"standard material"},{"$f":"'Bill of Materials'!K613","v":"physical"},0]
[{"$f":"'Bill of Materials'!E614+'Bill of Materials'!F614","v":0},{"$f":"'Bill of Materials'!M614","v":"EA"},{"$f":"'Bill of Materials'!G614","v":"10\" Wide Single-Sided High-Density Vertical Cable Manager w/Door (Flat Black) Requires Separate Back Panel"},{"$f":"'Bill of Materials'!L614","v":"Cooper B-Line"},{"$f":"'Bill of Materials'!N614","v":363.75},{"$f":"'Bill of Materials'!P614","v":"DWC"},{"$f":"'Bill of Materials'!C614","v":"10148"},{"$f":"'Bill of Materials'!H614","v":"SB-860-810S-084FB"},null,null,null,0,{"$f":"'Bill of Materials'!J614","v":"standard material"},{"$f":"'Bill of Materials'!K614","v":"physical"},0]
[{"$f":"'Bill of Materials'!E615+'Bill of Materials'!F615","v":0},{"$f":"'Bill of Materials'!M615","v":"EA"},{"$f":"'Bill of Materials'!G615","v":"12\" Wide Single-Sided High-Density Vertical Cable Manager w/Door (Flat Black) Requires Separate Back Cover"},{"$f":"'Bill of Materials'!L615","v":"Cooper B-Line"},{"$f":"'Bill of Materials'!N615","v":617.25},{"$f":"'Bill of Materials'!P615","v":"DWC"},{"$f":"'Bill of Materials'!C615","v":"10149"},{"$f":"'Bill of Materials'!H615","v":"SB-860-812S-084FB"},null,null,null,0,{"$f":"'Bill of Materials'!J615","v":"standard material"},{"$f":"'Bill of Materials'!K615","v":"physical"},0]
[{"$f":"'Bill of Materials'!E616+'Bill of Materials'!F616","v":0},{"$f":"'Bill of Materials'!M616","v":"EA"},{"$f":"'Bill of Materials'!G616","v":"3\" Wide Single-Sided High-Density Vertical Cable Manager w/Door (Flat Black) Requires Separate Back Cover"},{"$f":"'Bill of Materials'!L616","v":"Cooper B-Line"},{"$f":"'Bill of Materials'!N616","v":289.64999999999998},{"$f":"'Bill of Materials'!P616","v":"DWC"},{"$f":"'Bill of Materials'!C616","v":"10150"},{"$f":"'Bill of Materials'!H616","v":"SB-860-83S-084FB"},null,null,null,0,{"$f":"'Bill of Materials'!J616","v":"standard material"},{"$f":"'Bill of Materials'!K616","v":"physical"},0]
[{"$f":"'Bill of Materials'!E617+'Bill of Materials'!F617","v":0},{"$f":"'Bill of Materials'!M617","v":"EA"},{"$f":"'Bill of Materials'!G617","v":"6\" Wide Single-Sided High-Density Vertical Cable Manager w/Door (Flat Black) Requires Separate Back Cover"},{"$f":"'Bill of Materials'!L617","v":"Cooper B-Line"},{"$f":"'Bill of Materials'!N617","v":310.7},{"$f":"'Bill of Materials'!P617","v":"DWC"},{"$f":"'Bill of Materials'!C617","v":"10151"},{"$f":"'Bill of Materials'!H617","v":"SB-860-86S-084FB"},null,null,null,0,{"$f":"'Bill of Materials'!J617","v":"standard material"},{"$f":"'Bill of Materials'!K617","v":"physical"},0]
[{"$f":"'Bill of Materials'!E618+'Bill of Materials'!F618","v":0},{"$f":"'Bill of Materials'!M618","v":"EA"},{"$f":"'Bill of Materials'!G618","v":"Back Cover for 10\" Single and Double-Sided High-Density Vertical Cable Manager"},{"$f":"'Bill of Materials'!L618","v":"Cooper B-Line"},{"$f":"'Bill of Materials'!N618","v":57.2},{"$f":"'Bill of Materials'!P618","v":"DWC"},{"$f":"'Bill of Materials'!C618","v":"10152"},{"$f":"'Bill of Materials'!H618","v":"SB-862-BRC-10-084FB"},null,null,null,0,{"$f":"'Bill of Materials'!J618","v":"standard material"},{"$f":"'Bill of Materials'!K618","v":"physical"},0]
[{"$f":"'Bill of Materials'!E619+'Bill of Materials'!F619","v":0},{"$f":"'Bill of Materials'!M619","v":"EA"},{"$f":"'Bill of Materials'!G619","v":"Back Cover for 12\" Single and Double-Sided High-Density Vertical Cable Manager"},{"$f":"'Bill of Materials'!L619","v":"Cooper B-Line"},{"$f":"'Bill of Materials'!N619","v":62.6},{"$f":"'Bill of Materials'!P619","v":"DWC"},{"$f":"'Bill of Materials'!C619","v":"10153"},{"$f":"'Bill of Materials'!H619","v":"SB-862-BRC-12-084FB"},null,null,null,0,{"$f":"'Bill of Materials'!J619","v":"standard material"},{"$f":"'Bill of Materials'!K619","v":"physical"},0]
[{"$f":"'Bill of Materials'!E620+'Bill of Materials'!F620","v":0},{"$f":"'Bill of Materials'!M620","v":"EA"},{"$f":"'Bill of Materials'!G620","v":"Back Cover for 3\" Single and Double-Sided High-Density Vertical Cable Manager"},{"$f":"'Bill of Materials'!L620","v":"Cooper B-Line"},{"$f":"'Bill of Materials'!N620","v":32.1},{"$f":"'Bill of Materials'!P620","v":"DWC"},{"$f":"'Bill of Materials'!C620","v":"10154"},{"$f":"'Bill of Materials'!H620","v":"SB-862-BRC-3-084FB"},null,null,null,0,{"$f":"'Bill of Materials'!J620","v":"standard material"},{"$f":"'Bill of Materials'!K620","v":"physical"},0]
[{"$f":"'Bill of Materials'!E621+'Bill of Materials'!F621","v":0},{"$f":"'Bill of Materials'!M621","v":"EA"},{"$f":"'Bill of Materials'!G621","v":"Back Cover for 6\" Single and Double-Sided High-Density Vertical Cable Manager"},{"$f":"'Bill of Materials'!L621","v":"Cooper B-Line"},{"$f":"'Bill of Materials'!N621","v":42.2},{"$f":"'Bill of Materials'!P621","v":"DWC"},{"$f":"'Bill of Materials'!C621","v":"10155"},{"$f":"'Bill of Materials'!H621","v":"SB-862-BRC-6-084FB"},null,null,null,0,{"$f":"'Bill of Materials'!J621","v":"standard material"},{"$f":"'Bill of Materials'!K621","v":"physical"},0]
[{"$f":"'Bill of Materials'!E622+'Bill of Materials'!F622","v":0},{"$f":"'Bill of Materials'!M622","v":"EA"},{"$f":"'Bill of Materials'!G622","v":"10\" Double-Sided High-Density Vertical Cable Manager, w/Doors (Flat Black) Requires Separate Back Cover"},{"$f":"'Bill of Materials'!L622","v":"Cooper B-Line"},{"$f":"'Bill of Materials'!N622","v":392.05},{"$f":"'Bill of Materials'!P622","v":"DWC"},{"$f":"'Bill of Materials'!C622","v":"10156"},{"$f":"'Bill of Materials'!H622","v":"SB-864-810D-084FB"},null,null,null,0,{"$f":"'Bill of Materials'!J622","v":"standard material"},{"$f":"'Bill of Materials'!K622","v":"physical"},0]
[{"$f":"'Bill of Materials'!E623+'Bill of Materials'!F623","v":0},{"$f":"'Bill of Materials'!M623","v":"EA"},{"$f":"'Bill of Materials'!G623","v":"12\" Double-Sided High-Density Vertical Cable Manager, w/Doors (Flat Black) Requires Separate Back Cover"},{"$f":"'Bill of Materials'!L623","v":"Cooper B-Line"},{"$f":"'Bill of Materials'!N623","v":511.6},{"$f":"'Bill of Materials'!P623","v":"DWC"},{"$f":"'Bill of Materials'!C623","v":"10157"},{"$f":"'Bill of Materials'!H623","v":"SB-864-812D-084FB"},null,null,null,0,{"$f":"'Bill of Materials'!J623","v":"standard material"},{"$f":"'Bill of Materials'!K623","v":"physical"},0]
[{"$f":"'Bill of Materials'!E624+'Bill of Materials'!F624","v":0},{"$f":"'Bill of Materials'!M624","v":"EA"},{"$f":"'Bill of Materials'!G624","v":"3\" Double-Sided High-Density Vertical Cable Manager, w/Doors (Flat Black) Requires Separate Back Cover"},{"$f":"'Bill of Materials'!L624","v":"Cooper B-Line"},{"$f":"'Bill of Materials'!N624","v":312.45},{"$f":"'Bill of Materials'!P624","v":"DWC"},{"$f":"'Bill of Materials'!C624","v":"10158"},{"$f":"'Bill of Materials'!H624","v":"SB-864-83D-084FB"},null,null,null,0,{"$f":"'Bill of Materials'!J624","v":"standard material"},{"$f":"'Bill of Materials'!K624","v":"physical"},0]
[{"$f":"'Bill of Materials'!E625+'Bill of Materials'!F625","v":0},{"$f":"'Bill of Materials'!M625","v":"EA"},{"$f":"'Bill of Materials'!G625","v":"6\" Double-Sided High-Density Vertical Cable Manager, w/Doors (Flat Black) Requires Separate Back Cover"},{"$f":"'Bill of Materials'!L625","v":"Cooper B-Line"},{"$f":"'Bill of Materials'!N625","v":334.2},{"$f":"'Bill of Materials'!P625","v":"DWC"},{"$f":"'Bill of Materials'!C625","v":"10159"},{"$f":"'Bill of Materials'!H625","v":"SB-864-86D-084FB"},null,null,null,0,{"$f":"'Bill of Materials'!J625","v":"standard material"},{"$f":"'Bill of Materials'!K625","v":"physical"},0]
[{"$f":"'Bill of Materials'!E626+'Bill of Materials'!F626","v":0},{"$f":"'Bill of Materials'!M626","v":"EA"},{"$f":"'Bill of Materials'!G626","v":"Mount vertical wire manager--------Labor Only"},{"$f":"'Bill of Materials'!L626","v":"DWC"},{"$f":"'Bill of Materials'!N626","v":38.700000000000003},{"$f":"'Bill of Materials'!P626","v":"DWC"},{"$f":"'Bill of Materials'!C626","v":"10173"},{"$f":"'Bill of Materials'!H626","v":"Vertical Wire Manager-L"},null,null,null,0,{"$f":"'Bill of Materials'!J626","v":"standard material"},{"$f":"'Bill of Materials'!K626","v":"physical"},0]
[{"$f":"'Bill of Materials'!E627+'Bill of Materials'!F627","v":0},{"$f":"'Bill of Materials'!M627","v":"KIT"},{"$f":"'Bill of Materials'!G627","v":"84'' Dual Rail Equipment Rack, 19\" EIA Spacing, 21\"-32\" Expandable, 45RU, Assembly Includes EGB Ground Bar and (2) RRCM Kits for Front and Rear Rails. Manf. Model #19-84-T4SDA2132"},{"$f":"'Bill of Materials'!L627","v":"DWC"},{"$f":"'Bill of Materials'!N627","v":440.2},{"$f":"'Bill of Materials'!P627","v":"DWC"},{"$f":"'Bill of Materials'!C627","v":"10250"},{"$f":"'Bill of Materials'!H627","v":"1984XDER"},null,null,null,0,{"$f":"'Bill of Materials'!J627","v":"standard material"},{"$f":"'Bill of Materials'!K627","v":"physical"},0]
[{"$f":"'Bill of Materials'!E628+'Bill of Materials'!F628","v":0},{"$f":"'Bill of Materials'!M628","v":"EA"},{"$f":"'Bill of Materials'!G628","v":"84'' Dual Rail Equipment Rack, 19\" EIA Spacing, 21\"-32\" Expandable, 45RU, Rack Only"},{"$f":"'Bill of Materials'!L628","v":"Ortronics"},{"$f":"'Bill of Materials'!N628","v":432.83},{"$f":"'Bill of Materials'!P628","v":"DWC"},{"$f":"'Bill of Materials'!C628","v":"10273"},{"$f":"'Bill of Materials'!H628","v":"19-84-T4SDA2132"},null,null,null,0,{"$f":"'Bill of Materials'!J628","v":"standard material"},{"$f":"'Bill of Materials'!K628","v":"physical"},0]
[{"$f":"'Bill of Materials'!E629+'Bill of Materials'!F629","v":0},{"$f":"'Bill of Materials'!M629","v":"EA"},{"$f":"'Bill of Materials'!G629","v":"RCM+ Vertical Cable Management Finger Bracket, Rack-Rail Mounted, 11 RU Sections"},{"$f":"'Bill of Materials'!L629","v":"Cooper B-Line"},{"$f":"'Bill of Materials'!N629","v":18.899999999999999},{"$f":"'Bill of Materials'!P629","v":"DWC"},{"$f":"'Bill of Materials'!C629","v":"10312"},{"$f":"'Bill of Materials'!H629","v":"SB860FSFB"},null,null,null,0,{"$f":"'Bill of Materials'!J629","v":"standard material"},{"$f":"'Bill of Materials'!K629","v":"physical"},0]
[{"$f":"'Bill of Materials'!E630+'Bill of Materials'!F630","v":0},{"$f":"'Bill of Materials'!M630","v":"EA"},{"$f":"'Bill of Materials'!G630","v":"Relay Rack BRACKET, Adjustable Dual Equipment, 21-32 Depth, (4) Pcs. Per Pack (1) Pack Req. Per Relay Rack"},{"$f":"'Bill of Materials'!L630","v":"Ortronics"},{"$f":"'Bill of Materials'!N630","v":149.19999999999999},{"$f":"'Bill of Materials'!P630","v":"DWC"},{"$f":"'Bill of Materials'!C630","v":"10317"},{"$f":"'Bill of Materials'!H630","v":"OR-604045811"},null,null,null,0,{"$f":"'Bill of Materials'!J630","v":"standard material"},{"$f":"'Bill of Materials'!K630","v":"physical"},0]
[{"$f":"'Bill of Materials'!E631+'Bill of Materials'!F631","v":0},{"$f":"'Bill of Materials'!M631","v":"EA"},{"$f":"'Bill of Materials'!G631","v":"45 RU Dual Upright Relay Rack - Adjustable from 15' to 20\" w/o Ground Bar"},{"$f":"'Bill of Materials'!L631","v":"Homaco"},{"$f":"'Bill of Materials'!N631","v":347.02},{"$f":"'Bill of Materials'!P631","v":"DWC"},{"$f":"'Bill of Materials'!C631","v":"INFO-4301"},{"$f":"'Bill of Materials'!H631","v":"19-84-T4SD-A1520"},null,null,null,0,{"$f":"'Bill of Materials'!J631","v":"standard material"},{"$f":"'Bill of Materials'!K631","v":"physical"},0]
[{"$f":"'Bill of Materials'!E632+'Bill of Materials'!F632","v":0},{"$f":"'Bill of Materials'!M632","v":"EA"},{"$f":"'Bill of Materials'!G632","v":"45 RU Single Relay Rack w/o Ground Bar"},{"$f":"'Bill of Materials'!L632","v":"Homaco"},{"$f":"'Bill of Materials'!N632","v":118.12},{"$f":"'Bill of Materials'!P632","v":"DWC"},{"$f":"'Bill of Materials'!C632","v":"INFO-4305"},{"$f":"'Bill of Materials'!H632","v":"19-84-T2SD*B"},null,null,null,{"$f":"E652*A652","v":0},{"$f":"'Bill of Materials'!J632","v":"standard material"},{"$f":"'Bill of Materials'!K632","v":"physical"},{"$f":"IF(A652>0,1,0)","v":0}]
[{"$f":"'Bill of Materials'!E633+'Bill of Materials'!F633","v":0},{"$f":"'Bill of Materials'!M633","v":"EA"},{"$f":"'Bill of Materials'!G633","v":"Vertical Wire Organizer - 3\" depth with feed through holes"},{"$f":"'Bill of Materials'!L633","v":"Homaco"},{"$f":"'Bill of Materials'!N633","v":73.41},{"$f":"'Bill of Materials'!P633","v":"DWC"},{"$f":"'Bill of Materials'!C633","v":"INFO-4307"},{"$f":"'Bill of Materials'!H633","v":"VO-84-T3FTE"},null,null,null,0,{"$f":"'Bill of Materials'!J633","v":"standard material"},{"$f":"'Bill of Materials'!K633","v":"physical"},0]
[{"$f":"'Bill of Materials'!#REF!+'Bill of Materials'!#REF!","v":{"$error":"#REF!"}},{"$f":"'Bill of Materials'!#REF!","v":{"$error":"#REF!"}},{"$f":"'Bill of Materials'!#REF!","v":{"$error":"#REF!"}},{"$f":"'Bill of Materials'!#REF!","v":{"$error":"#REF!"}},{"$f":"'Bill of Materials'!#REF!","v":{"$error":"#REF!"}},{"$f":"'Bill of Materials'!#REF!","v":{"$error":"#REF!"}},{"$f":"'Bill of Materials'!#REF!","v":{"$error":"#REF!"}},{"$f":"'Bill of Materials'!#REF!","v":{"$error":"#REF!"}},null,null,null,{"$error":"#REF!"},{"$f":"'Bill of Materials'!#REF!","v":{"$error":"#REF!"}},{"$f":"'Bill of Materials'!#REF!","v":{"$error":"#REF!"}},{"$error":"#REF!"}]
[{"$f":"'Bill of Materials'!E634+'Bill of Materials'!F634","v":0},{"$f":"'Bill of Materials'!M634","v":"EA"},{"$f":"'Bill of Materials'!G634","v":"Vertical Wire Organizer - 6\" depth with feed through holes"},{"$f":"'Bill of Materials'!L634","v":"Homaco"},{"$f":"'Bill of Materials'!N634","v":83.21},{"$f":"'Bill of Materials'!P634","v":"DWC"},{"$f":"'Bill of Materials'!C634","v":"INFO-4309"},{"$f":"'Bill of Materials'!H634","v":"VO-84-T6FTE"},null,null,null,0,{"$f":"'Bill of Materials'!J634","v":"standard material"},{"$f":"'Bill of Materials'!K634","v":"physical"},0]
[{"$f":"'Bill of Materials'!E635+'Bill of Materials'!F635","v":0},{"$f":"'Bill of Materials'!M635","v":"EA"},{"$f":"'Bill of Materials'!G635","v":"6 Inch Vertical Control Bracket (Middle Rack) 3 per INFO 4309"},{"$f":"'Bill of Materials'!L635","v":"Homaco"},{"$f":"'Bill of Materials'!N635","v":13.33},{"$f":"'Bill of Materials'!P635","v":"DWC"},{"$f":"'Bill of Materials'!C635","v":"INFO-4311"},{"$f":"'Bill of Materials'!H635","v":"VCB-93-6H"},null,null,null,0,{"$f":"'Bill of Materials'!J635","v":"standard material"},{"$f":"'Bill of Materials'!K635","v":"physical"},0]
[{"$f":"'Bill of Materials'!E636+'Bill of Materials'!F636","v":0},{"$f":"'Bill of Materials'!M636","v":"EA"},{"$f":"'Bill of Materials'!G636","v":"Heavy Duty Swing-EZ Wall Rack - 11 Rack Spaces"},{"$f":"'Bill of Materials'!L636","v":"Homaco"},{"$f":"'Bill of Materials'!N636","v":244.68},{"$f":"'Bill of Materials'!P636","v":"DWC"},{"$f":"'Bill of Materials'!C636","v":"INFO-4314"},{"$f":"'Bill of Materials'!H636","v":"19-21-T25DHYDT"},null,null,null,0,{"$f":"'Bill of Materials'!J636","v":"standard material"},{"$f":"'Bill of Materials'!K636","v":"physical"},0]
[{"$f":"'Bill of Materials'!E637+'Bill of Materials'!F637","v":0},{"$f":"'Bill of Materials'!M637","v":"EA"},{"$f":"'Bill of Materials'!G637","v":"Heavy Duty Swing-EZ Wall Rack - 19 Rack Spaces"},{"$f":"'Bill of Materials'!L637","v":"Homaco"},{"$f":"'Bill of Materials'!N637","v":28.62},{"$f":"'Bill of Materials'!P637","v":"DWC"},{"$f":"'Bill of Materials'!C637","v":"INFO-4315"},{"$f":"'Bill of Materials'!H637","v":"19-35-T25DHYDT"},null,null,null,0,{"$f":"'Bill of Materials'!J637","v":"standard material"},{"$f":"'Bill of Materials'!K637","v":"physical"},0]
[{"$f":"'Bill of Materials'!#REF!+'Bill of Materials'!#REF!","v":{"$error":"#REF!"}},{"$f":"'Bill of Materials'!#REF!","v":{"$error":"#REF!"}},{"$f":"'Bill of Materials'!#REF!","v":{"$error":"#REF!"}},{"$f":"'Bill of Materials'!#REF!","v":{"$error":"#REF!"}},{"$f":"'Bill of Materials'!#REF!","v":{"$error":"#REF!"}},{"$f":"'Bill of Materials'!#REF!","v":{"$error":"#REF!"}},{"$f":"'Bill of Materials'!#REF!","v":{"$error":"#REF!"}},{"$f":"'Bill of Materials'!#REF!","v":{"$error":"#REF!"}},null,null,null,{"$error":"#REF!"},{"$f":"'Bill of Materials'!#REF!","v":{"$error":"#REF!"}},{"$f":"'Bill of Materials'!#REF!","v":{"$error":"#REF!"}},{"$error":"#REF!"}]
[{"$f":"'Bill of Materials'!E638+'Bill of Materials'!F638","v":0},{"$f":"'Bill of Materials'!M638","v":"EA"},{"$f":"'Bill of Materials'!G638","v":"Relay Rack Bracing Kit (Must order 5/8\" threaded rod separately)"},{"$f":"'Bill of Materials'!L638","v":"Homaco"},{"$f":"'Bill of Materials'!N638","v":25.11},{"$f":"'Bill of Materials'!P638","v":"DWC"},{"$f":"'Bill of Materials'!C638","v":"INFO-4321"},{"$f":"'Bill of Materials'!H638","v":"Z4-RR/WC"},null,null,null,0,{"$f":"'Bill of Materials'!J638","v":"standard material"},{"$f":"'Bill of Materials'!K638","v":"physical"},0]
[{"$f":"'Bill of Materials'!#REF!+'Bill of Materials'!#REF!","v":{"$error":"#REF!"}},{"$f":"'Bill of Materials'!#REF!","v":{"$error":"#REF!"}},{"$f":"'Bill of Materials'!#REF!","v":{"$error":"#REF!"}},{"$f":"'Bill of Materials'!#REF!","v":{"$error":"#REF!"}},{"$f":"'Bill of Materials'!#REF!","v":{"$error":"#REF!"}},{"$f":"'Bill of Materials'!#REF!","v":{"$error":"#REF!"}},{"$f":"'Bill of Materials'!#REF!","v":{"$error":"#REF!"}},{"$f":"'Bill of Materials'!#REF!","v":{"$error":"#REF!"}},null,null,null,{"$error":"#REF!"},{"$f":"'Bill of Materials'!#REF!","v":{"$error":"#REF!"}},{"$f":"'Bill of Materials'!#REF!","v":{"$error":"#REF!"}},{"$error":"#REF!"}]
[{"$f":"'Bill of Materials'!E639+'Bill of Materials'!F639","v":0},{"$f":"'Bill of Materials'!M639","v":"EA"},{"$f":"'Bill of Materials'!G639","v":"6 Inch Vertical Control Bracket (End Rack) 3 per INFO 4309"},{"$f":"'Bill of Materials'!L639","v":"Homaco"},{"$f":"'Bill of Materials'!N639","v":12.86},{"$f":"'Bill of Materials'!P639","v":"DWC"},{"$f":"'Bill of Materials'!C639","v":"INFO-4323"},{"$f":"'Bill of Materials'!H639","v":"VCB-93-6UH"},null,null,null,0,{"$f":"'Bill of Materials'!J639","v":"standard material"},{"$f":"'Bill of Materials'!K639","v":"physical"},0]
[{"$f":"'Bill of Materials'!E640+'Bill of Materials'!F640","v":0},{"$f":"'Bill of Materials'!M640","v":"EA"},{"$f":"'Bill of Materials'!G640","v":"84 Inch Dual Rail Equipment Rack, 19\" EIA Spacing, 15\"-20\" Expandable, 45RU, Assembly Includes Gnd. Bar (INFO 4505 ), RRCM Kit (INFO-0456-0XRH) - Material Only "},{"$f":"'Bill of Materials'!L640","v":"DWC"},{"$f":"'Bill of Materials'!N640","v":418.65},{"$f":"'Bill of Materials'!P640","v":"DWC"},{"$f":"'Bill of Materials'!C640","v":"INFO-4813"},{"$f":"'Bill of Materials'!H640","v":"1984DER"},null,null,null,0,{"$f":"'Bill of Materials'!J640","v":"standard material"},{"$f":"'Bill of Materials'!K640","v":"physical"},0]
[{"$f":"'Bill of Materials'!E641+'Bill of Materials'!F641","v":0},{"$f":"'Bill of Materials'!M641","v":"EA"},{"$f":"'Bill of Materials'!G641","v":"84 Inch Single Rail Equipment Rack, 19\" EIA Spacing, 45RU, Assembly Includes Gnd. Bar (INFO 4505 ), RRCM Kit (INFO-0456-0XRH) - Material Only "},{"$f":"'Bill of Materials'!L641","v":"DWC"},{"$f":"'Bill of Materials'!N641","v":157.1},{"$f":"'Bill of Materials'!P641","v":"DWC"},{"$f":"'Bill of Materials'!C641","v":"INFO-4816"},{"$f":"'Bill of Materials'!H641","v":"1984SER"},null,null,null,0,{"$f":"'Bill of Materials'!J641","v":"standard material"},{"$f":"'Bill of Materials'!K641","v":"physical"},0]
[{"$f":"'Bill of Materials'!E642+'Bill of Materials'!F642","v":0},{"$f":"'Bill of Materials'!M642","v":"EA"},{"$f":"'Bill of Materials'!G642","v":"Rack Mount Wire management Trough Mounts in First 2RU at top of Rack For Fiber Management 2 RU (See Ordering Guidelines)"},{"$f":"'Bill of Materials'!L642","v":"Panduit"},{"$f":"'Bill of Materials'!N642","v":89.55},{"$f":"'Bill of Materials'!P642","v":"DWC"},{"$f":"'Bill of Materials'!C642","v":"INFO-7002"},{"$f":"'Bill of Materials'!H642","v":"CMUT19"},null,null,null,0,{"$f":"'Bill of Materials'!J642","v":"standard material"},{"$f":"'Bill of Materials'!K642","v":"physical"},0]
[{"$f":"'Bill of Materials'!E644+'Bill of Materials'!F644","v":0},{"$f":"'Bill of Materials'!M644","v":"EA"},{"$f":"'Bill of Materials'!G644","v":"6\" Tall Cable Fence For TRC Style Runway (10 Per Pkg.) (Bolt On Stringers)\r\n(TRC = Channeled slats between Stringers) "},{"$f":"'Bill of Materials'!L644","v":"Homaco"},{"$f":"'Bill of Materials'!N644","v":57.14},{"$f":"'Bill of Materials'!P644","v":"DWC"},{"$f":"'Bill of Materials'!C644","v":"0816-17NV"},{"$f":"'Bill of Materials'!H644","v":"CFTRC-6"},null,null,null,0,{"$f":"'Bill of Materials'!J644","v":"standard material"},{"$f":"'Bill of Materials'!K644","v":"physical"},0]
[{"$f":"'Bill of Materials'!E645+'Bill of Materials'!F645","v":0},{"$f":"'Bill of Materials'!M645","v":"EA"},{"$f":"'Bill of Materials'!G645","v":"Straight Splice Clamp Kit for Ladder Tray, (2) Straight Clamps"},{"$f":"'Bill of Materials'!L645","v":"Homaco"},{"$f":"'Bill of Materials'!N645","v":8.91},{"$f":"'Bill of Materials'!P645","v":"DWC"},{"$f":"'Bill of Materials'!C645","v":"10256"},{"$f":"'Bill of Materials'!H645","v":"P820367H"},null,null,null,0,{"$f":"'Bill of Materials'!J645","v":"standard material"},{"$f":"'Bill of Materials'!K645","v":"physical"},0]
[{"$f":"'Bill of Materials'!E646+'Bill of Materials'!F646","v":0},{"$f":"'Bill of Materials'!M646","v":"EA"},{"$f":"'Bill of Materials'!G646","v":"Tubular Runway - 6', 6\" Width (Section)"},{"$f":"'Bill of Materials'!L646","v":"Homaco"},{"$f":"'Bill of Materials'!N646","v":43.85},{"$f":"'Bill of Materials'!P646","v":"DWC"},{"$f":"'Bill of Materials'!C646","v":"INFO-4401"},{"$f":"'Bill of Materials'!H646","v":"TR6-6"},null,null,null,0,{"$f":"'Bill of Materials'!J646","v":"standard material"},{"$f":"'Bill of Materials'!K646","v":"physical"},0]
[{"$f":"'Bill of Materials'!E647+'Bill of Materials'!F647","v":0},{"$f":"'Bill of Materials'!M647","v":"EA"},{"$f":"'Bill of Materials'!G647","v":"Tubular Runway - 6', 12\" Width (Section)"},{"$f":"'Bill of Materials'!L647","v":"Homaco"},{"$f":"'Bill of Materials'!N647","v":43.48},{"$f":"'Bill of Materials'!P647","v":"DWC"},{"$f":"'Bill of Materials'!C647","v":"INFO-4403"},{"$f":"'Bill of Materials'!H647","v":"TR6-12"},null,null,null,0,{"$f":"'Bill of Materials'!J647","v":"standard material"},{"$f":"'Bill of Materials'!K647","v":"physical"},0]
[{"$f":"'Bill of Materials'!E648+'Bill of Materials'!F648","v":0},{"$f":"'Bill of Materials'!M648","v":"EA"},{"$f":"'Bill of Materials'!G648","v":"Tubular Runway - 6', 18\" Width (Section)"},{"$f":"'Bill of Materials'!L648","v":"Homaco"},{"$f":"'Bill of Materials'!N648","v":54.01},{"$f":"'Bill of Materials'!P648","v":"DWC"},{"$f":"'Bill of Materials'!C648","v":"INFO-4405"},{"$f":"'Bill of Materials'!H648","v":"TR6-18"},null,null,null,0,{"$f":"'Bill of Materials'!J648","v":"standard material"},{"$f":"'Bill of Materials'!K648","v":"physical"},0]
[{"$f":"'Bill of Materials'!E649+'Bill of Materials'!F649","v":0},{"$f":"'Bill of Materials'!M649","v":"EA"},{"$f":"'Bill of Materials'!G649","v":"Tubular Runway - 6', 24\" Width (Section)"},{"$f":"'Bill of Materials'!L649","v":"Homaco"},{"$f":"'Bill of Materials'!N649","v":75.77},{"$f":"'Bill of Materials'!P649","v":"DWC"},{"$f":"'Bill of Materials'!C649","v":"INFO-4406"},{"$f":"'Bill of Materials'!H649","v":"TR6-24"},null,null,null,0,{"$f":"'Bill of Materials'!J649","v":"standard material"},{"$f":"'Bill of Materials'!K649","v":"physical"},0]
[{"$f":"'Bill of Materials'!E650+'Bill of Materials'!F650","v":0},{"$f":"'Bill of Materials'!M650","v":"EA"},{"$f":"'Bill of Materials'!G650","v":"Tubular Runway - 10', 6\" Width (Section)"},{"$f":"'Bill of Materials'!L650","v":"Homaco"},{"$f":"'Bill of Materials'!N650","v":61.75},{"$f":"'Bill of Materials'!P650","v":"DWC"},{"$f":"'Bill of Materials'!C650","v":"INFO-4407"},{"$f":"'Bill of Materials'!H650","v":"TR10-6"},null,null,null,0,{"$f":"'Bill of Materials'!J650","v":"standard material"},{"$f":"'Bill of Materials'!K650","v":"physical"},0]
[{"$f":"'Bill of Materials'!E651+'Bill of Materials'!F651","v":0},{"$f":"'Bill of Materials'!M651","v":"EA"},{"$f":"'Bill of Materials'!G651","v":"Tubular Runway - 10', 12\" Width (Section)"},{"$f":"'Bill of Materials'!L651","v":"Homaco"},{"$f":"'Bill of Materials'!N651","v":67.040000000000006},{"$f":"'Bill of Materials'!P651","v":"DWC"},{"$f":"'Bill of Materials'!C651","v":"INFO-4409"},{"$f":"'Bill of Materials'!H651","v":"TR10-12"},null,null,null,0,{"$f":"'Bill of Materials'!J651","v":"standard material"},{"$f":"'Bill of Materials'!K651","v":"physical"},0]
[{"$f":"'Bill of Materials'!E652+'Bill of Materials'!F652","v":0},{"$f":"'Bill of Materials'!M652","v":"EA"},{"$f":"'Bill of Materials'!G652","v":"Tubular Runway - 10', 18\" Width (Section)"},{"$f":"'Bill of Materials'!L652","v":"Homaco"},{"$f":"'Bill of Materials'!N652","v":77.239999999999995},{"$f":"'Bill of Materials'!P652","v":"DWC"},{"$f":"'Bill of Materials'!C652","v":"INFO-4411"},{"$f":"'Bill of Materials'!H652","v":"TR10-18"},null,null,null,0,{"$f":"'Bill of Materials'!J652","v":"standard material"},{"$f":"'Bill of Materials'!K652","v":"physical"},0]
[{"$f":"'Bill of Materials'!E653+'Bill of Materials'!F653","v":0},{"$f":"'Bill of Materials'!M653","v":"EA"},{"$f":"'Bill of Materials'!G653","v":"Tubular Runway - 10', 24\" Width (Section)"},{"$f":"'Bill of Materials'!L653","v":"Homaco"},{"$f":"'Bill of Materials'!N653","v":90.02},{"$f":"'Bill of Materials'!P653","v":"DWC"},{"$f":"'Bill of Materials'!C653","v":"INFO-4412"},{"$f":"'Bill of Materials'!H653","v":"TR10-24"},null,null,null,0,{"$f":"'Bill of Materials'!J653","v":"standard material"},{"$f":"'Bill of Materials'!K653","v":"physical"},0]
[{"$f":"'Bill of Materials'!E654+'Bill of Materials'!F654","v":0},{"$f":"'Bill of Materials'!M654","v":"EA"},{"$f":"'Bill of Materials'!G654","v":"Tubular Runway with Channels - 5'-6\" Width (Section)"},{"$f":"'Bill of Materials'!L654","v":"Homaco"},{"$f":"'Bill of Materials'!N654","v":43.83},{"$f":"'Bill of Materials'!P654","v":"DWC"},{"$f":"'Bill of Materials'!C654","v":"INFO-4413"},{"$f":"'Bill of Materials'!H654","v":"TRC5-6"},null,null,null,0,{"$f":"'Bill of Materials'!J654","v":"standard material"},{"$f":"'Bill of Materials'!K654","v":"physical"},0]
[{"$f":"'Bill of Materials'!E655+'Bill of Materials'!F655","v":0},{"$f":"'Bill of Materials'!M655","v":"EA"},{"$f":"'Bill of Materials'!G655","v":"Tubular Runway with Channels - 5'-12\" Width (Section)"},{"$f":"'Bill of Materials'!L655","v":"Homaco"},{"$f":"'Bill of Materials'!N655","v":43.48},{"$f":"'Bill of Materials'!P655","v":"DWC"},{"$f":"'Bill of Materials'!C655","v":"INFO-4414"},{"$f":"'Bill of Materials'!H655","v":"TRC5-12"},null,null,null,0,{"$f":"'Bill of Materials'!J655","v":"standard material"},{"$f":"'Bill of Materials'!K655","v":"physical"},0]
[{"$f":"'Bill of Materials'!E656+'Bill of Materials'!F656","v":0},{"$f":"'Bill of Materials'!M656","v":"EA"},{"$f":"'Bill of Materials'!G656","v":"Tubular Runway with Channels - 9'-6\" Width (Section)"},{"$f":"'Bill of Materials'!L656","v":"Homaco"},{"$f":"'Bill of Materials'!N656","v":68.430000000000007},{"$f":"'Bill of Materials'!P656","v":"DWC"},{"$f":"'Bill of Materials'!C656","v":"INFO-4416"},{"$f":"'Bill of Materials'!H656","v":"TRC9-6"},null,null,null,0,{"$f":"'Bill of Materials'!J656","v":"standard material"},{"$f":"'Bill of Materials'!K656","v":"physical"},0]
[{"$f":"'Bill of Materials'!E657+'Bill of Materials'!F657","v":0},{"$f":"'Bill of Materials'!M657","v":"EA"},{"$f":"'Bill of Materials'!G657","v":"Tubular Runway with Channels - 9'-12\" Width (Section)"},{"$f":"'Bill of Materials'!L657","v":"Homaco"},{"$f":"'Bill of Materials'!N657","v":67.040000000000006},{"$f":"'Bill of Materials'!P657","v":"DWC"},{"$f":"'Bill of Materials'!C657","v":"INFO-4417"},{"$f":"'Bill of Materials'!H657","v":"TRC9-12"},null,null,null,0,{"$f":"'Bill of Materials'!J657","v":"standard material"},{"$f":"'Bill of Materials'!K657","v":"physical"},0]
[{"$f":"'Bill of Materials'!E658+'Bill of Materials'!F658","v":0},{"$f":"'Bill of Materials'!M658","v":"EA"},{"$f":"'Bill of Materials'!G658","v":"Wall Angle Assembly - 6\""},{"$f":"'Bill of Materials'!L658","v":"Homaco"},{"$f":"'Bill of Materials'!N658","v":14.4},{"$f":"'Bill of Materials'!P658","v":"DWC"},{"$f":"'Bill of Materials'!C658","v":"INFO-4419"},{"$f":"'Bill of Materials'!H658","v":"P128040H"},null,null,null,0,{"$f":"'Bill of Materials'!J658","v":"standard material"},{"$f":"'Bill of Materials'!K658","v":"physical"},0]
[{"$f":"'Bill of Materials'!E659+'Bill of Materials'!F659","v":0},{"$f":"'Bill of Materials'!M659","v":"EA"},{"$f":"'Bill of Materials'!G659","v":"Wall Angle Assembly -12\""},{"$f":"'Bill of Materials'!L659","v":"Homaco"},{"$f":"'Bill of Materials'!N659","v":17.010000000000002},{"$f":"'Bill of Materials'!P659","v":"DWC"},{"$f":"'Bill of Materials'!C659","v":"INFO-4420"},{"$f":"'Bill of Materials'!H659","v":"P128240H"},null,null,null,0,{"$f":"'Bill of Materials'!J659","v":"standard material"},{"$f":"'Bill of Materials'!K659","v":"physical"},0]
[{"$f":"'Bill of Materials'!E660+'Bill of Materials'!F660","v":0},{"$f":"'Bill of Materials'!M660","v":"EA"},{"$f":"'Bill of Materials'!G660","v":"Threaded Rod Protective Sleeve 10' for 5/8 x 11 threaded rod"},{"$f":"'Bill of Materials'!L660","v":"Homaco"},{"$f":"'Bill of Materials'!N660","v":11.21},{"$f":"'Bill of Materials'!P660","v":"DWC"},{"$f":"'Bill of Materials'!C660","v":"INFO-4432"},{"$f":"'Bill of Materials'!H660","v":"2-E2-TRPC"},null,null,null,0,{"$f":"'Bill of Materials'!J660","v":"standard material"},{"$f":"'Bill of Materials'!K660","v":"physical"},0]
[{"$f":"'Bill of Materials'!E661+'Bill of Materials'!F661","v":0},{"$f":"'Bill of Materials'!M661","v":"EA"},{"$f":"'Bill of Materials'!G661","v":"Adjustable Angle Splice Kit (2 Adjustable Angles)"},{"$f":"'Bill of Materials'!L661","v":"Homaco"},{"$f":"'Bill of Materials'!N661","v":19.149999999999999},{"$f":"'Bill of Materials'!P661","v":"DWC"},{"$f":"'Bill of Materials'!C661","v":"INFO-4437"},{"$f":"'Bill of Materials'!H661","v":"P820127HA"},null,null,null,0,{"$f":"'Bill of Materials'!J661","v":"standard material"},{"$f":"'Bill of Materials'!K661","v":"physical"},0]
[{"$f":"'Bill of Materials'!E662+'Bill of Materials'!F662","v":0},{"$f":"'Bill of Materials'!M662","v":"EA"},{"$f":"'Bill of Materials'!G662","v":"Transition Pan - 8\" Width"},{"$f":"'Bill of Materials'!L662","v":"Homaco"},{"$f":"'Bill of Materials'!N662","v":19.48},{"$f":"'Bill of Materials'!P662","v":"DWC"},{"$f":"'Bill of Materials'!C662","v":"INFO-4438"},{"$f":"'Bill of Materials'!H662","v":"TRP8-CM"},null,null,null,0,{"$f":"'Bill of Materials'!J662","v":"standard material"},{"$f":"'Bill of Materials'!K662","v":"physical"},0]
[{"$f":"'Bill of Materials'!E663+'Bill of Materials'!F663","v":0},{"$f":"'Bill of Materials'!M663","v":"EA"},{"$f":"'Bill of Materials'!G663","v":"Transition Pan - 5\" Width"},{"$f":"'Bill of Materials'!L663","v":"Homaco"},{"$f":"'Bill of Materials'!N663","v":16.89},{"$f":"'Bill of Materials'!P663","v":"DWC"},{"$f":"'Bill of Materials'!C663","v":"INFO-4439"},{"$f":"'Bill of Materials'!H663","v":"TRP5-CM"},null,null,null,0,{"$f":"'Bill of Materials'!J663","v":"standard material"},{"$f":"'Bill of Materials'!K663","v":"physical"},0]
[{"$f":"'Bill of Materials'!E664+'Bill of Materials'!F664","v":0},{"$f":"'Bill of Materials'!M664","v":"EA"},{"$f":"'Bill of Materials'!G664","v":"Transition Pan - 7.5\" Width"},{"$f":"'Bill of Materials'!L664","v":"Homaco"},{"$f":"'Bill of Materials'!N664","v":19.78},{"$f":"'Bill of Materials'!P664","v":"DWC"},{"$f":"'Bill of Materials'!C664","v":"INFO-4440"},{"$f":"'Bill of Materials'!H664","v":"TRP8-S"},null,null,null,0,{"$f":"'Bill of Materials'!J664","v":"standard material"},{"$f":"'Bill of Materials'!K664","v":"physical"},0]
[{"$f":"'Bill of Materials'!E665+'Bill of Materials'!F665","v":0},{"$f":"'Bill of Materials'!M665","v":"EA"},{"$f":"'Bill of Materials'!G665","v":"J-Bolt Assembly - 1.75 x .250 x .50 x .75 thread 1/4 - 20"},{"$f":"'Bill of Materials'!L665","v":"Homaco"},{"$f":"'Bill of Materials'!N665","v":1.4},{"$f":"'Bill of Materials'!P665","v":"DWC"},{"$f":"'Bill of Materials'!C665","v":"INFO-4441"},{"$f":"'Bill of Materials'!H665","v":"P987529H"},null,null,null,0,{"$f":"'Bill of Materials'!J665","v":"standard material"},{"$f":"'Bill of Materials'!K665","v":"physical"},0]
[{"$f":"'Bill of Materials'!E666+'Bill of Materials'!F666","v":0},{"$f":"'Bill of Materials'!M666","v":"EA"},{"$f":"'Bill of Materials'!G666","v":"J-Bolt Assembly - 3.25 x .438 x 1.75 x 1.50 thread 1/4 - 20"},{"$f":"'Bill of Materials'!L666","v":"Homaco"},{"$f":"'Bill of Materials'!N666","v":1.4},{"$f":"'Bill of Materials'!P666","v":"DWC"},{"$f":"'Bill of Materials'!C666","v":"INFO-4442"},{"$f":"'Bill of Materials'!H666","v":"P987528H"},null,null,null,0,{"$f":"'Bill of Materials'!J666","v":"standard material"},{"$f":"'Bill of Materials'!K666","v":"physical"},0]
[{"$f":"'Bill of Materials'!E667+'Bill of Materials'!F667","v":0},{"$f":"'Bill of Materials'!M667","v":"EA"},{"$f":"'Bill of Materials'!G667","v":"J-Bolt Assembly - 2.25 x 4.38 x .75 x 1.0 thread 1/4 - 20"},{"$f":"'Bill of Materials'!L667","v":"Homaco"},{"$f":"'Bill of Materials'!N667","v":1.4},{"$f":"'Bill of Materials'!P667","v":"DWC"},{"$f":"'Bill of Materials'!C667","v":"INFO-4443"},{"$f":"'Bill of Materials'!H667","v":"P987527H"},null,null,null,0,{"$f":"'Bill of Materials'!J667","v":"standard material"},{"$f":"'Bill of Materials'!K667","v":"physical"},0]
[{"$f":"'Bill of Materials'!E668+'Bill of Materials'!F668","v":0},{"$f":"'Bill of Materials'!M668","v":"EA"},{"$f":"'Bill of Materials'!G668","v":"J-Bolt Assembly - 3.75 x .313 x .75 x 1.25 thread 5/16 - 18"},{"$f":"'Bill of Materials'!L668","v":"Homaco"},{"$f":"'Bill of Materials'!N668","v":1.54},{"$f":"'Bill of Materials'!P668","v":"DWC"},{"$f":"'Bill of Materials'!C668","v":"INFO-4444"},{"$f":"'Bill of Materials'!H668","v":"P987526H"},null,null,null,0,{"$f":"'Bill of Materials'!J668","v":"standard material"},{"$f":"'Bill of Materials'!K668","v":"physical"},0]
[{"$f":"'Bill of Materials'!E669+'Bill of Materials'!F669","v":0},{"$f":"'Bill of Materials'!M669","v":"EA"},{"$f":"'Bill of Materials'!G669","v":"J-Bolt Assembly - 3.25 x .313 x .75 x .75 thread 5/16 - 18"},{"$f":"'Bill of Materials'!L669","v":"Homaco"},{"$f":"'Bill of Materials'!N669","v":1.66},{"$f":"'Bill of Materials'!P669","v":"DWC"},{"$f":"'Bill of Materials'!C669","v":"INFO-4445"},{"$f":"'Bill of Materials'!H669","v":"P987525H"},null,null,null,0,{"$f":"'Bill of Materials'!J669","v":"standard material"},{"$f":"'Bill of Materials'!K669","v":"physical"},0]
[{"$f":"'Bill of Materials'!E670+'Bill of Materials'!F670","v":0},{"$f":"'Bill of Materials'!M670","v":"EA"},{"$f":"'Bill of Materials'!G670","v":"J-Bolt Assembly - 3.25 x .438 x .75 x 1.50 thread 5/16 - 18"},{"$f":"'Bill of Materials'!L670","v":"Homaco"},{"$f":"'Bill of Materials'!N670","v":1.4},{"$f":"'Bill of Materials'!P670","v":"DWC"},{"$f":"'Bill of Materials'!C670","v":"INFO-4446"},{"$f":"'Bill of Materials'!H670","v":"P987524H"},null,null,null,0,{"$f":"'Bill of Materials'!J670","v":"standard material"},{"$f":"'Bill of Materials'!K670","v":"physical"},0]
[{"$f":"'Bill of Materials'!E671+'Bill of Materials'!F671","v":0},{"$f":"'Bill of Materials'!M671","v":"EA"},{"$f":"'Bill of Materials'!G671","v":"J-Bolt Assembly - 2.25 x .438 x .75 x 1.0 thread 5/16 - 18"},{"$f":"'Bill of Materials'!L671","v":"Homaco"},{"$f":"'Bill of Materials'!N671","v":1.4},{"$f":"'Bill of Materials'!P671","v":"DWC"},{"$f":"'Bill of Materials'!C671","v":"INFO-4447"},{"$f":"'Bill of Materials'!H671","v":"P987523H"},null,null,null,0,{"$f":"'Bill of Materials'!J671","v":"standard material"},{"$f":"'Bill of Materials'!K671","v":"physical"},0]
[{"$f":"'Bill of Materials'!E672+'Bill of Materials'!F672","v":0},{"$f":"'Bill of Materials'!M672","v":"EA"},{"$f":"'Bill of Materials'!G672","v":"Ceiling Hanger Bracket - 1 bracket open or closed used w/threaded rod, gray or black made from 1/4\" x 1/2\" steel bar"},{"$f":"'Bill of Materials'!L672","v":"Homaco"},{"$f":"'Bill of Materials'!N672","v":5.27},{"$f":"'Bill of Materials'!P672","v":"DWC"},{"$f":"'Bill of Materials'!C672","v":"INFO-4450"},{"$f":"'Bill of Materials'!H672","v":"P400298H"},null,null,null,0,{"$f":"'Bill of Materials'!J672","v":"standard material"},{"$f":"'Bill of Materials'!K672","v":"physical"},0]
[{"$f":"'Bill of Materials'!E673+'Bill of Materials'!F673","v":0},{"$f":"'Bill of Materials'!M673","v":"EA"},{"$f":"'Bill of Materials'!G673","v":"Open Clip for 1-1/2\"w Runway Stringers-Threaded Rod Suspension (Part # is one piece. Order in twos)"},{"$f":"'Bill of Materials'!L673","v":"Homaco"},{"$f":"'Bill of Materials'!N673","v":3.67},{"$f":"'Bill of Materials'!P673","v":"DWC"},{"$f":"'Bill of Materials'!C673","v":"INFO-4451"},{"$f":"'Bill of Materials'!H673","v":"P406395H"},null,null,null,0,{"$f":"'Bill of Materials'!J673","v":"standard material"},{"$f":"'Bill of Materials'!K673","v":"physical"},0]
[{"$f":"'Bill of Materials'!E674+'Bill of Materials'!F674","v":0},{"$f":"'Bill of Materials'!M674","v":"EA"},{"$f":"'Bill of Materials'!G674","v":"Closed Clip for 1-1/2\"w Runway Stringers-Threaded Rod Suspension (Part # is one piece. Order in twos)"},{"$f":"'Bill of Materials'!L674","v":"Homaco"},{"$f":"'Bill of Materials'!N674","v":2.2200000000000002},{"$f":"'Bill of Materials'!P674","v":"DWC"},{"$f":"'Bill of Materials'!C674","v":"INFO-4452"},{"$f":"'Bill of Materials'!H674","v":"P429503H"},null,null,null,0,{"$f":"'Bill of Materials'!J674","v":"standard material"},{"$f":"'Bill of Materials'!K674","v":"physical"},0]
[{"$f":"'Bill of Materials'!E675+'Bill of Materials'!F675","v":0},{"$f":"'Bill of Materials'!M675","v":"EA"},{"$f":"'Bill of Materials'!G675","v":"Wall Attachment Shelf Bracket - h 8.13\" runway width 6\""},{"$f":"'Bill of Materials'!L675","v":"Homaco"},{"$f":"'Bill of Materials'!N675","v":20.55},{"$f":"'Bill of Materials'!P675","v":"DWC"},{"$f":"'Bill of Materials'!C675","v":"INFO-4453"},{"$f":"'Bill of Materials'!H675","v":"P139240H"},null,null,null,0,{"$f":"'Bill of Materials'!J675","v":"standard material"},{"$f":"'Bill of Materials'!K675","v":"physical"},0]
[{"$f":"'Bill of Materials'!E676+'Bill of Materials'!F676","v":0},{"$f":"'Bill of Materials'!M676","v":"EA"},{"$f":"'Bill of Materials'!G676","v":"Wall Attachment Shelf Bracket - h 14.13\" runway width 12\""},{"$f":"'Bill of Materials'!L676","v":"Homaco"},{"$f":"'Bill of Materials'!N676","v":22.83},{"$f":"'Bill of Materials'!P676","v":"DWC"},{"$f":"'Bill of Materials'!C676","v":"INFO-4455"},{"$f":"'Bill of Materials'!H676","v":"P139340H"},null,null,null,0,{"$f":"'Bill of Materials'!J676","v":"standard material"},{"$f":"'Bill of Materials'!K676","v":"physical"},0]
[{"$f":"'Bill of Materials'!E677+'Bill of Materials'!F677","v":0},{"$f":"'Bill of Materials'!M677","v":"EA"},{"$f":"'Bill of Materials'!G677","v":"Wall Attachment Shelf Bracket - h 20.13\" runway width 18\""},{"$f":"'Bill of Materials'!L677","v":"Homaco"},{"$f":"'Bill of Materials'!N677","v":25.1},{"$f":"'Bill of Materials'!P677","v":"DWC"},{"$f":"'Bill of Materials'!C677","v":"INFO-4456"},{"$f":"'Bill of Materials'!H677","v":"P139540H"},null,null,null,0,{"$f":"'Bill of Materials'!J677","v":"standard material"},{"$f":"'Bill of Materials'!K677","v":"physical"},0]
[{"$f":"'Bill of Materials'!E678+'Bill of Materials'!F678","v":0},{"$f":"'Bill of Materials'!M678","v":"EA"},{"$f":"'Bill of Materials'!G678","v":"Wall Attachment Shelf Bracket - h 26.13 runway width 24\""},{"$f":"'Bill of Materials'!L678","v":"Homaco"},{"$f":"'Bill of Materials'!N678","v":34.17},{"$f":"'Bill of Materials'!P678","v":"DWC"},{"$f":"'Bill of Materials'!C678","v":"INFO-4457"},{"$f":"'Bill of Materials'!H678","v":"P139740H"},null,null,null,0,{"$f":"'Bill of Materials'!J678","v":"standard material"},{"$f":"'Bill of Materials'!K678","v":"physical"},0]
[{"$f":"'Bill of Materials'!E679+'Bill of Materials'!F679","v":0},{"$f":"'Bill of Materials'!M679","v":"EA"},{"$f":"'Bill of Materials'!G679","v":"Runway End Wall Angle Assembly - 18\""},{"$f":"'Bill of Materials'!L679","v":"Homaco"},{"$f":"'Bill of Materials'!N679","v":17.63},{"$f":"'Bill of Materials'!P679","v":"DWC"},{"$f":"'Bill of Materials'!C679","v":"INFO-4459"},{"$f":"'Bill of Materials'!H679","v":"P128440H"},null,null,null,0,{"$f":"'Bill of Materials'!J679","v":"standard material"},{"$f":"'Bill of Materials'!K679","v":"physical"},0]
[{"$f":"'Bill of Materials'!#REF!+'Bill of Materials'!#REF!","v":{"$error":"#REF!"}},{"$f":"'Bill of Materials'!#REF!","v":{"$error":"#REF!"}},{"$f":"'Bill of Materials'!#REF!","v":{"$error":"#REF!"}},{"$f":"'Bill of Materials'!#REF!","v":{"$error":"#REF!"}},{"$f":"'Bill of Materials'!#REF!","v":{"$error":"#REF!"}},{"$f":"'Bill of Materials'!#REF!","v":{"$error":"#REF!"}},{"$f":"'Bill of Materials'!#REF!","v":{"$error":"#REF!"}},{"$f":"'Bill of Materials'!#REF!","v":{"$error":"#REF!"}},null,null,null,{"$error":"#REF!"},{"$f":"'Bill of Materials'!#REF!","v":{"$error":"#REF!"}},{"$f":"'Bill of Materials'!#REF!","v":{"$error":"#REF!"}},{"$error":"#REF!"}]
[{"$f":"'Bill of Materials'!E680+'Bill of Materials'!F680","v":0},{"$f":"'Bill of Materials'!M680","v":"EA"},{"$f":"'Bill of Materials'!G680","v":"Runway End Wall Angle Assembly - 24\""},{"$f":"'Bill of Materials'!L680","v":"Homaco"},{"$f":"'Bill of Materials'!N680","v":19.760000000000002},{"$f":"'Bill of Materials'!P680","v":"DWC"},{"$f":"'Bill of Materials'!C680","v":"INFO-4460"},{"$f":"'Bill of Materials'!H680","v":"P128640H"},null,null,null,0,{"$f":"'Bill of Materials'!J680","v":"standard material"},{"$f":"'Bill of Materials'!K680","v":"physical"},0]
[{"$f":"'Bill of Materials'!E681+'Bill of Materials'!F681","v":0},{"$f":"'Bill of Materials'!M681","v":"EA"},{"$f":"'Bill of Materials'!G681","v":"6\"h Cable Fence For TR Style Runway (10 Per Pkg.)\r\n(TR = Tubular slats on TOP of Stringers)"},{"$f":"'Bill of Materials'!L681","v":"Homaco"},{"$f":"'Bill of Materials'!N681","v":33.630000000000003},{"$f":"'Bill of Materials'!P681","v":"DWC"},{"$f":"'Bill of Materials'!C681","v":"INFO-4461"},{"$f":"'Bill of Materials'!H681","v":"CF-6"},null,null,null,0,{"$f":"'Bill of Materials'!J681","v":"standard material"},{"$f":"'Bill of Materials'!K681","v":"physical"},0]
[{"$f":"'Bill of Materials'!E682+'Bill of Materials'!F682","v":0},{"$f":"'Bill of Materials'!M682","v":"EA"},{"$f":"'Bill of Materials'!G682","v":"12\"h Cable Fence For TR Style Runway (10 Per Pkg.)\r\n(TR = Tubular slats on TOP of Stringers)"},{"$f":"'Bill of Materials'!L682","v":"Homaco"},{"$f":"'Bill of Materials'!N682","v":43.5},{"$f":"'Bill of Materials'!P682","v":"DWC"},{"$f":"'Bill of Materials'!C682","v":"INFO-4462"},{"$f":"'Bill of Materials'!H682","v":"CF-12"},null,null,null,0,{"$f":"'Bill of Materials'!J682","v":"standard material"},{"$f":"'Bill of Materials'!K682","v":"physical"},0]
[{"$f":"'Bill of Materials'!E683+'Bill of Materials'!F683","v":0},{"$f":"'Bill of Materials'!M683","v":"EA"},{"$f":"'Bill of Materials'!G683","v":"Corner Clamps (2 per kit) for Runways Attachment at Right Angles"},{"$f":"'Bill of Materials'!L683","v":"Homaco"},{"$f":"'Bill of Materials'!N683","v":5.76},{"$f":"'Bill of Materials'!P683","v":"DWC"},{"$f":"'Bill of Materials'!C683","v":"INFO-7001"},{"$f":"'Bill of Materials'!H683","v":"P820147H"},null,null,null,0,{"$f":"'Bill of Materials'!J683","v":"standard material"},{"$f":"'Bill of Materials'!K683","v":"physical"},0]
[{"$f":"'Bill of Materials'!E685+'Bill of Materials'!F685","v":0},{"$f":"'Bill of Materials'!M685","v":"EA"},{"$f":"'Bill of Materials'!G685","v":"2\" Cable Guard for use as Waterfalls on Cablofil Cable Tray.  6 Ft Lengths, Black in color."},{"$f":"'Bill of Materials'!L685","v":"DWC"},{"$f":"'Bill of Materials'!N685","v":5.69},{"$f":"'Bill of Materials'!P685","v":"DWC"},{"$f":"'Bill of Materials'!C685","v":"0399-140A"},{"$f":"'Bill of Materials'!H685","v":"CABLEGUARD2"},null,null,null,0,{"$f":"'Bill of Materials'!J685","v":"standard material"},{"$f":"'Bill of Materials'!K685","v":"physical"},0]
[{"$f":"'Bill of Materials'!E686+'Bill of Materials'!F686","v":0},{"$f":"'Bill of Materials'!M686","v":"EA"},{"$f":"'Bill of Materials'!G686","v":"AS Trapeze Hanging Clip, Cablofil Tray Side/Threaded Rod Support"},{"$f":"'Bill of Materials'!L686","v":"Cablofil"},{"$f":"'Bill of Materials'!N686","v":72.099999999999994},{"$f":"'Bill of Materials'!P686","v":"DWC"},{"$f":"'Bill of Materials'!C686","v":"10077"},{"$f":"'Bill of Materials'!H686","v":"ASPG"},null,null,null,0,{"$f":"'Bill of Materials'!J686","v":"standard material"},{"$f":"'Bill of Materials'!K686","v":"physical"},0]
[{"$f":"'Bill of Materials'!E687+'Bill of Materials'!F687","v":0},{"$f":"'Bill of Materials'!M687","v":"EA"},{"$f":"'Bill of Materials'!G687","v":"2\" deep straight cable tray 10' x 18\" x 2\" (Section)"},{"$f":"'Bill of Materials'!L687","v":"Cablofil"},{"$f":"'Bill of Materials'!N687","v":74.099999999999994},{"$f":"'Bill of Materials'!P687","v":"DWC"},{"$f":"'Bill of Materials'!C687","v":"10086"},{"$f":"'Bill of Materials'!H687","v":"CF 54/450 EZ"},null,null,null,0,{"$f":"'Bill of Materials'!J687","v":"standard material"},{"$f":"'Bill of Materials'!K687","v":"physical"},0]
[{"$f":"'Bill of Materials'!E688+'Bill of Materials'!F688","v":0},{"$f":"'Bill of Materials'!M688","v":"EA"},{"$f":"'Bill of Materials'!G688","v":"Cablofil 4\" Deep Cable Tray Divider Strip 10' L x 4\" H"},{"$f":"'Bill of Materials'!L688","v":"Cablofil"},{"$f":"'Bill of Materials'!N688","v":24.8},{"$f":"'Bill of Materials'!P688","v":"DWC"},{"$f":"'Bill of Materials'!C688","v":"10090"},{"$f":"'Bill of Materials'!H688","v":"COT 105"},null,null,null,0,{"$f":"'Bill of Materials'!J688","v":"standard material"},{"$f":"'Bill of Materials'!K688","v":"physical"},0]
[{"$f":"'Bill of Materials'!E689+'Bill of Materials'!F689","v":0},{"$f":"'Bill of Materials'!M689","v":"EA"},{"$f":"'Bill of Materials'!G689","v":"Cable Tray Divider Strip Coupler (25) Per Package"},{"$f":"'Bill of Materials'!L689","v":"Cablofil"},{"$f":"'Bill of Materials'!N689","v":34.299999999999997},{"$f":"'Bill of Materials'!P689","v":"DWC"},{"$f":"'Bill of Materials'!C689","v":"10091"},{"$f":"'Bill of Materials'!H689","v":"COT J"},null,null,null,0,{"$f":"'Bill of Materials'!J689","v":"standard material"},{"$f":"'Bill of Materials'!K689","v":"physical"},0]
[{"$f":"'Bill of Materials'!E690+'Bill of Materials'!F690","v":0},{"$f":"'Bill of Materials'!M690","v":"EA"},{"$f":"'Bill of Materials'!G690","v":"FAS PROFILE - 22\""},{"$f":"'Bill of Materials'!L690","v":"Cablofil"},{"$f":"'Bill of Materials'!N690","v":10.15},{"$f":"'Bill of Materials'!P690","v":"DWC"},{"$f":"'Bill of Materials'!C690","v":"10105"},{"$f":"'Bill of Materials'!H690","v":"FASP 550"},null,null,null,0,{"$f":"'Bill of Materials'!J690","v":"standard material"},{"$f":"'Bill of Materials'!K690","v":"physical"},0]
[{"$f":"'Bill of Materials'!E691+'Bill of Materials'!F691","v":0},{"$f":"'Bill of Materials'!M691","v":"EA"},{"$f":"'Bill of Materials'!G691","v":"FAS UNIVERSAL BRACKET - 16\""},{"$f":"'Bill of Materials'!L691","v":"Cablofil"},{"$f":"'Bill of Materials'!N691","v":18.600000000000001},{"$f":"'Bill of Materials'!P691","v":"DWC"},{"$f":"'Bill of Materials'!C691","v":"10106"},{"$f":"'Bill of Materials'!H691","v":"FASU 400"},null,null,null,0,{"$f":"'Bill of Materials'!J691","v":"standard material"},{"$f":"'Bill of Materials'!K691","v":"physical"},0]
[{"$f":"'Bill of Materials'!E692+'Bill of Materials'!F692","v":0},{"$f":"'Bill of Materials'!M692","v":"EA"},{"$f":"'Bill of Materials'!G692","v":"FAS UNIVERSAL BRACKET - 20\""},{"$f":"'Bill of Materials'!L692","v":"Cablofil"},{"$f":"'Bill of Materials'!N692","v":27.25},{"$f":"'Bill of Materials'!P692","v":"DWC"},{"$f":"'Bill of Materials'!C692","v":"10266"},{"$f":"'Bill of Materials'!H692","v":"FAS U500PG"},null,null,null,0,{"$f":"'Bill of Materials'!J692","v":"standard material"},{"$f":"'Bill of Materials'!K692","v":"physical"},0]
[{"$f":"'Bill of Materials'!E693+'Bill of Materials'!F693","v":0},{"$f":"'Bill of Materials'!M693","v":"EA"},{"$f":"'Bill of Materials'!G693","v":"18\" Wall or Under Floor Bracket, L-Shape"},{"$f":"'Bill of Materials'!L693","v":"Cablofil"},{"$f":"'Bill of Materials'!N693","v":13.05},{"$f":"'Bill of Materials'!P693","v":"DWC"},{"$f":"'Bill of Materials'!C693","v":"10267"},{"$f":"'Bill of Materials'!H693","v":"FAS L450PG"},null,null,null,0,{"$f":"'Bill of Materials'!J693","v":"standard material"},{"$f":"'Bill of Materials'!K693","v":"physical"},0]
[{"$f":"'Bill of Materials'!E694+'Bill of Materials'!F694","v":0},{"$f":"'Bill of Materials'!M694","v":"EA"},{"$f":"'Bill of Materials'!G694","v":"Wall/Tray Mount Attachment for Electrical Box Support"},{"$f":"'Bill of Materials'!L694","v":"Cablofil"},{"$f":"'Bill of Materials'!N694","v":2.25},{"$f":"'Bill of Materials'!P694","v":"DWC"},{"$f":"'Bill of Materials'!C694","v":"10268"},{"$f":"'Bill of Materials'!H694","v":"C 50PG"},null,null,null,{"$f":"E716*A716","v":0},{"$f":"'Bill of Materials'!J694","v":"standard material"},{"$f":"'Bill of Materials'!K694","v":"physical"},{"$f":"IF(A716>0,1,0)","v":0}]
[{"$f":"'Bill of Materials'!E695+'Bill of Materials'!F695","v":0},{"$f":"'Bill of Materials'!M695","v":"EA"},{"$f":"'Bill of Materials'!G695","v":"Signal Reference Grid Wire Clamp"},{"$f":"'Bill of Materials'!L695","v":"Erico-Caddy"},{"$f":"'Bill of Materials'!N695","v":0.92},{"$f":"'Bill of Materials'!P695","v":"DWC"},{"$f":"'Bill of Materials'!C695","v":"10316"},{"$f":"'Bill of Materials'!H695","v":"RGC"},null,null,null,0,{"$f":"'Bill of Materials'!J695","v":"standard material"},{"$f":"'Bill of Materials'!K695","v":"physical"},0]
[{"$f":"'Bill of Materials'!E696+'Bill of Materials'!F696","v":0},{"$f":"'Bill of Materials'!M696","v":"EA"},{"$f":"'Bill of Materials'!G696","v":"2\" deep straight cable tray 10' x 4\" x 2\" (Section)"},{"$f":"'Bill of Materials'!L696","v":"Cablofil"},{"$f":"'Bill of Materials'!N696","v":37.369999999999997},{"$f":"'Bill of Materials'!P696","v":"DWC"},{"$f":"'Bill of Materials'!C696","v":"INFO-4463"},{"$f":"'Bill of Materials'!H696","v":"CF 54/100 EZ"},null,null,null,0,{"$f":"'Bill of Materials'!J696","v":"standard material"},{"$f":"'Bill of Materials'!K696","v":"physical"},0]
[{"$f":"'Bill of Materials'!E697+'Bill of Materials'!F697","v":0},{"$f":"'Bill of Materials'!M697","v":"EA"},{"$f":"'Bill of Materials'!G697","v":"2\" deep straight cable tray 10' x 6\" x 2\" (Section)"},{"$f":"'Bill of Materials'!L697","v":"Cablofil"},{"$f":"'Bill of Materials'!N697","v":40.99},{"$f":"'Bill of Materials'!P697","v":"DWC"},{"$f":"'Bill of Materials'!C697","v":"INFO-4464"},{"$f":"'Bill of Materials'!H697","v":"CF 54/150 EZ"},null,null,null,0,{"$f":"'Bill of Materials'!J697","v":"standard material"},{"$f":"'Bill of Materials'!K697","v":"physical"},0]
[{"$f":"'Bill of Materials'!E698+'Bill of Materials'!F698","v":0},{"$f":"'Bill of Materials'!M698","v":"EA"},{"$f":"'Bill of Materials'!G698","v":"2\" deep straight cable tray 10' x 12\" x 2\" (Section)"},{"$f":"'Bill of Materials'!L698","v":"Cablofil"},{"$f":"'Bill of Materials'!N698","v":47.47},{"$f":"'Bill of Materials'!P698","v":"DWC"},{"$f":"'Bill of Materials'!C698","v":"INFO-4465"},{"$f":"'Bill of Materials'!H698","v":"CF 54/300 EZ"},null,null,null,0,{"$f":"'Bill of Materials'!J698","v":"standard material"},{"$f":"'Bill of Materials'!K698","v":"physical"},0]
[{"$f":"'Bill of Materials'!E699+'Bill of Materials'!F699","v":0},{"$f":"'Bill of Materials'!M699","v":"EA"},{"$f":"'Bill of Materials'!G699","v":"2\" deep straight cable tray 10' x 24\" x 2\" (Section)"},{"$f":"'Bill of Materials'!L699","v":"Cablofil"},{"$f":"'Bill of Materials'!N699","v":56.43},{"$f":"'Bill of Materials'!P699","v":"DWC"},{"$f":"'Bill of Materials'!C699","v":"INFO-4466"},{"$f":"'Bill of Materials'!H699","v":"CF 54/600 EZ"},null,null,null,0,{"$f":"'Bill of Materials'!J699","v":"standard material"},{"$f":"'Bill of Materials'!K699","v":"physical"},0]
[{"$f":"'Bill of Materials'!E700+'Bill of Materials'!F700","v":0},{"$f":"'Bill of Materials'!M700","v":"EA"},{"$f":"'Bill of Materials'!G700","v":"4\" deep straight cable tray 10' x 12\" x 4\" (Section)"},{"$f":"'Bill of Materials'!L700","v":"Cablofil"},{"$f":"'Bill of Materials'!N700","v":54.19},{"$f":"'Bill of Materials'!P700","v":"DWC"},{"$f":"'Bill of Materials'!C700","v":"INFO-4467"},{"$f":"'Bill of Materials'!H700","v":"CF 105/300 EZ"},null,null,null,0,{"$f":"'Bill of Materials'!J700","v":"standard material"},{"$f":"'Bill of Materials'!K700","v":"physical"},0]
[{"$f":"'Bill of Materials'!E701+'Bill of Materials'!F701","v":0},{"$f":"'Bill of Materials'!M701","v":"EA"},{"$f":"'Bill of Materials'!G701","v":"4\" deep straight cable tray 10' x 18\" x 4\" (Section)"},{"$f":"'Bill of Materials'!L701","v":"Cablofil"},{"$f":"'Bill of Materials'!N701","v":64.37},{"$f":"'Bill of Materials'!P701","v":"DWC"},{"$f":"'Bill of Materials'!C701","v":"INFO-4468"},{"$f":"'Bill of Materials'!H701","v":"CF 105/450 EZ"},null,null,null,0,{"$f":"'Bill of Materials'!J701","v":"standard material"},{"$f":"'Bill of Materials'!K701","v":"physical"},0]
[{"$f":"'Bill of Materials'!E702+'Bill of Materials'!F702","v":0},{"$f":"'Bill of Materials'!M702","v":"EA"},{"$f":"'Bill of Materials'!G702","v":"4\" deep straight cable tray 10' x 24\" x 4\" (Section)"},{"$f":"'Bill of Materials'!L702","v":"Cablofil"},{"$f":"'Bill of Materials'!N702","v":74.7},{"$f":"'Bill of Materials'!P702","v":"DWC"},{"$f":"'Bill of Materials'!C702","v":"INFO-4469"},{"$f":"'Bill of Materials'!H702","v":"CF 105/600 EZ"},null,null,null,0,{"$f":"'Bill of Materials'!J702","v":"standard material"},{"$f":"'Bill of Materials'!K702","v":"physical"},0]
[{"$f":"'Bill of Materials'!E703+'Bill of Materials'!F703","v":0},{"$f":"'Bill of Materials'!M703","v":"EA"},{"$f":"'Bill of Materials'!G703","v":"Kit for two 90's or one \"T\""},{"$f":"'Bill of Materials'!L703","v":"Cablofil"},{"$f":"'Bill of Materials'!N703","v":10.54},{"$f":"'Bill of Materials'!P703","v":"DWC"},{"$f":"'Bill of Materials'!C703","v":"INFO-4470"},{"$f":"'Bill of Materials'!H703","v":"EZ T90"},null,null,null,0,{"$f":"'Bill of Materials'!J703","v":"standard material"},{"$f":"'Bill of Materials'!K703","v":"physical"},0]
[{"$f":"'Bill of Materials'!E704+'Bill of Materials'!F704","v":0},{"$f":"'Bill of Materials'!M704","v":"EA"},{"$f":"'Bill of Materials'!G704","v":"Bag of 50 universal splice bars"},{"$f":"'Bill of Materials'!L704","v":"Cablofil"},{"$f":"'Bill of Materials'!N704","v":81.97},{"$f":"'Bill of Materials'!P704","v":"DWC"},{"$f":"'Bill of Materials'!C704","v":"INFO-4471"},{"$f":"'Bill of Materials'!H704","v":"ED 275 EZ B"},null,null,null,0,{"$f":"'Bill of Materials'!J704","v":"standard material"},{"$f":"'Bill of Materials'!K704","v":"physical"},0]
[{"$f":"'Bill of Materials'!E705+'Bill of Materials'!F705","v":0},{"$f":"'Bill of Materials'!M705","v":"EA"},{"$f":"'Bill of Materials'!G705","v":"1/4\" round head nut, bolt, clamp assy. Bag of 50"},{"$f":"'Bill of Materials'!L705","v":"Cablofil"},{"$f":"'Bill of Materials'!N705","v":3.32},{"$f":"'Bill of Materials'!P705","v":"DWC"},{"$f":"'Bill of Materials'!C705","v":"INFO-4472"},{"$f":"'Bill of Materials'!H705","v":"EZ BN 1/4\""},null,null,null,0,{"$f":"'Bill of Materials'!J705","v":"standard material"},{"$f":"'Bill of Materials'!K705","v":"physical"},0]
[{"$f":"'Bill of Materials'!#REF!+'Bill of Materials'!#REF!","v":{"$error":"#REF!"}},{"$f":"'Bill of Materials'!#REF!","v":{"$error":"#REF!"}},{"$f":"'Bill of Materials'!#REF!","v":{"$error":"#REF!"}},{"$f":"'Bill of Materials'!#REF!","v":{"$error":"#REF!"}},{"$f":"'Bill of Materials'!#REF!","v":{"$error":"#REF!"}},{"$f":"'Bill of Materials'!#REF!","v":{"$error":"#REF!"}},{"$f":"'Bill of Materials'!#REF!","v":{"$error":"#REF!"}},{"$f":"'Bill of Materials'!#REF!","v":{"$error":"#REF!"}},null,null,null,{"$error":"#REF!"},{"$f":"'Bill of Materials'!#REF!","v":{"$error":"#REF!"}},{"$f":"'Bill of Materials'!#REF!","v":{"$error":"#REF!"}},{"$error":"#REF!"}]
[{"$f":"'Bill of Materials'!E706+'Bill of Materials'!F706","v":0},{"$f":"'Bill of Materials'!M706","v":"EA"},{"$f":"'Bill of Materials'!G706","v":"Trapeze hanger 39\" in Length"},{"$f":"'Bill of Materials'!L706","v":"Cablofil"},{"$f":"'Bill of Materials'!N706","v":12.18},{"$f":"'Bill of Materials'!P706","v":"DWC"},{"$f":"'Bill of Materials'!C706","v":"INFO-4474"},{"$f":"'Bill of Materials'!H706","v":"PRO CS 1000"},null,null,null,0,{"$f":"'Bill of Materials'!J706","v":"standard material"},{"$f":"'Bill of Materials'!K706","v":"physical"},0]
[{"$f":"'Bill of Materials'!E707+'Bill of Materials'!F707","v":0},{"$f":"'Bill of Materials'!M707","v":"EA"},{"$f":"'Bill of Materials'!G707","v":"Under floor support clamp"},{"$f":"'Bill of Materials'!L707","v":"Cablofil"},{"$f":"'Bill of Materials'!N707","v":3.42},{"$f":"'Bill of Materials'!P707","v":"DWC"},{"$f":"'Bill of Materials'!C707","v":"INFO-4480"},{"$f":"'Bill of Materials'!H707","v":"UFC"},null,null,null,0,{"$f":"'Bill of Materials'!J707","v":"standard material"},{"$f":"'Bill of Materials'!K707","v":"physical"},0]
[{"$f":"'Bill of Materials'!E708+'Bill of Materials'!F708","v":0},{"$f":"'Bill of Materials'!M708","v":"EA"},{"$f":"'Bill of Materials'!G708","v":"Mounts tray to rack. Bag of two \"J\" anchor bolts with nuts"},{"$f":"'Bill of Materials'!L708","v":"Cablofil"},{"$f":"'Bill of Materials'!N708","v":3.12},{"$f":"'Bill of Materials'!P708","v":"DWC"},{"$f":"'Bill of Materials'!C708","v":"INFO-4481"},{"$f":"'Bill of Materials'!H708","v":"EZ JB 5/16 B"},null,null,null,0,{"$f":"'Bill of Materials'!J708","v":"standard material"},{"$f":"'Bill of Materials'!K708","v":"physical"},0]
[{"$f":"'Bill of Materials'!E709+'Bill of Materials'!F709","v":0},{"$f":"'Bill of Materials'!M709","v":"EA"},{"$f":"'Bill of Materials'!G709","v":"Splicing hardware. Bag of 50 with tool"},{"$f":"'Bill of Materials'!L709","v":"Cablofil"},{"$f":"'Bill of Materials'!N709","v":71.58},{"$f":"'Bill of Materials'!P709","v":"DWC"},{"$f":"'Bill of Materials'!C709","v":"INFO-4483"},{"$f":"'Bill of Materials'!H709","v":"EDRN"},null,null,null,0,{"$f":"'Bill of Materials'!J709","v":"standard material"},{"$f":"'Bill of Materials'!K709","v":"physical"},0]
[{"$f":"'Bill of Materials'!E710+'Bill of Materials'!F710","v":0},{"$f":"'Bill of Materials'!M710","v":"EA"},{"$f":"'Bill of Materials'!G710","v":"Cable label clip. Bag of 50"},{"$f":"'Bill of Materials'!L710","v":"Cablofil"},{"$f":"'Bill of Materials'!N710","v":9.9},{"$f":"'Bill of Materials'!P710","v":"DWC"},{"$f":"'Bill of Materials'!C710","v":"INFO-4486"},{"$f":"'Bill of Materials'!H710","v":"EZ CLPK"},null,null,null,0,{"$f":"'Bill of Materials'!J710","v":"standard material"},{"$f":"'Bill of Materials'!K710","v":"physical"},0]
[{"$f":"'Bill of Materials'!E711+'Bill of Materials'!F711","v":0},{"$f":"'Bill of Materials'!M711","v":"EA"},{"$f":"'Bill of Materials'!G711","v":"Side cable exit waterfall 4\" Width"},{"$f":"'Bill of Materials'!L711","v":"Cablofil"},{"$f":"'Bill of Materials'!N711","v":3.37},{"$f":"'Bill of Materials'!P711","v":"DWC"},{"$f":"'Bill of Materials'!C711","v":"INFO-4487"},{"$f":"'Bill of Materials'!H711","v":"CABLEXIT KIT"},null,null,null,0,{"$f":"'Bill of Materials'!J711","v":"standard material"},{"$f":"'Bill of Materials'!K711","v":"physical"},0]
[{"$f":"'Bill of Materials'!E712+'Bill of Materials'!F712","v":0},{"$f":"'Bill of Materials'!M712","v":"EA"},{"$f":"'Bill of Materials'!G712","v":"WALL TERMINATION BRACKET"},{"$f":"'Bill of Materials'!L712","v":"Cablofil"},{"$f":"'Bill of Materials'!N712","v":1.94},{"$f":"'Bill of Materials'!P712","v":"DWC"},{"$f":"'Bill of Materials'!C712","v":"INFO-4488"},{"$f":"'Bill of Materials'!H712","v":"GM HB2"},null,null,null,0,{"$f":"'Bill of Materials'!J712","v":"standard material"},{"$f":"'Bill of Materials'!K712","v":"physical"},0]
[{"$f":"'Bill of Materials'!E713+'Bill of Materials'!F713","v":0},{"$f":"'Bill of Materials'!M713","v":"EA"},{"$f":"'Bill of Materials'!G713","v":"NUT/BOLT/CLAMPS  PKG OF 50"},{"$f":"'Bill of Materials'!L713","v":"Cablofil"},{"$f":"'Bill of Materials'!N713","v":34.299999999999997},{"$f":"'Bill of Materials'!P713","v":"DWC"},{"$f":"'Bill of Materials'!C713","v":"INFO-4489"},{"$f":"'Bill of Materials'!H713","v":"GM SWK B"},null,null,null,0,{"$f":"'Bill of Materials'!J713","v":"standard material"},{"$f":"'Bill of Materials'!K713","v":"physical"},0]
[{"$f":"'Bill of Materials'!E714+'Bill of Materials'!F714","v":0},{"$f":"'Bill of Materials'!M714","v":"EA"},{"$f":"'Bill of Materials'!G714","v":"FAS PROFILE - 8\""},{"$f":"'Bill of Materials'!L714","v":"Cablofil"},{"$f":"'Bill of Materials'!N714","v":3.27},{"$f":"'Bill of Materials'!P714","v":"DWC"},{"$f":"'Bill of Materials'!C714","v":"INFO-4490"},{"$f":"'Bill of Materials'!H714","v":"FASP200"},null,null,null,0,{"$f":"'Bill of Materials'!J714","v":"standard material"},{"$f":"'Bill of Materials'!K714","v":"physical"},0]
[{"$f":"'Bill of Materials'!E715+'Bill of Materials'!F715","v":0},{"$f":"'Bill of Materials'!M715","v":"EA"},{"$f":"'Bill of Materials'!G715","v":"FAS PROFILE - 12\""},{"$f":"'Bill of Materials'!L715","v":"Cablofil"},{"$f":"'Bill of Materials'!N715","v":4.91},{"$f":"'Bill of Materials'!P715","v":"DWC"},{"$f":"'Bill of Materials'!C715","v":"INFO-4491"},{"$f":"'Bill of Materials'!H715","v":"FASP300"},null,null,null,0,{"$f":"'Bill of Materials'!J715","v":"standard material"},{"$f":"'Bill of Materials'!K715","v":"physical"},0]
[{"$f":"'Bill of Materials'!E716+'Bill of Materials'!F716","v":0},{"$f":"'Bill of Materials'!M716","v":"EA"},{"$f":"'Bill of Materials'!G716","v":"FAS PROFILE - 16\""},{"$f":"'Bill of Materials'!L716","v":"Cablofil"},{"$f":"'Bill of Materials'!N716","v":5.94},{"$f":"'Bill of Materials'!P716","v":"DWC"},{"$f":"'Bill of Materials'!C716","v":"INFO-4492"},{"$f":"'Bill of Materials'!H716","v":"FASP400"},null,null,null,0,{"$f":"'Bill of Materials'!J716","v":"standard material"},{"$f":"'Bill of Materials'!K716","v":"physical"},0]
[{"$f":"'Bill of Materials'!E717+'Bill of Materials'!F717","v":0},{"$f":"'Bill of Materials'!M717","v":"EA"},{"$f":"'Bill of Materials'!G717","v":"FAS PROFILE - 20\""},{"$f":"'Bill of Materials'!L717","v":"Cablofil"},{"$f":"'Bill of Materials'!N717","v":8.2200000000000006},{"$f":"'Bill of Materials'!P717","v":"DWC"},{"$f":"'Bill of Materials'!C717","v":"INFO-4493"},{"$f":"'Bill of Materials'!H717","v":"FASP500"},null,null,null,0,{"$f":"'Bill of Materials'!J717","v":"standard material"},{"$f":"'Bill of Materials'!K717","v":"physical"},0]
[{"$f":"'Bill of Materials'!E718+'Bill of Materials'!F718","v":0},{"$f":"'Bill of Materials'!M718","v":"EA"},{"$f":"'Bill of Materials'!G718","v":"SBD DIVERSION BOX"},{"$f":"'Bill of Materials'!L718","v":"Cablofil"},{"$f":"'Bill of Materials'!N718","v":2},{"$f":"'Bill of Materials'!P718","v":"DWC"},{"$f":"'Bill of Materials'!C718","v":"INFO-4494"},{"$f":"'Bill of Materials'!H718","v":"SBD"},null,null,null,0,{"$f":"'Bill of Materials'!J718","v":"standard material"},{"$f":"'Bill of Materials'!K718","v":"physical"},0]
[{"$f":"'Bill of Materials'!E719+'Bill of Materials'!F719","v":0},{"$f":"'Bill of Materials'!M719","v":"EA"},{"$f":"'Bill of Materials'!G719","v":"UNDER FLOOR SUPPORT CLAMP AND 12 INCH PROFILE"},{"$f":"'Bill of Materials'!L719","v":"Cablofil"},{"$f":"'Bill of Materials'!N719","v":4.5999999999999996},{"$f":"'Bill of Materials'!P719","v":"DWC"},{"$f":"'Bill of Materials'!C719","v":"INFO-4495"},{"$f":"'Bill of Materials'!H719","v":"UFCN300"},null,null,null,0,{"$f":"'Bill of Materials'!J719","v":"standard material"},{"$f":"'Bill of Materials'!K719","v":"physical"},0]
[{"$f":"'Bill of Materials'!E720+'Bill of Materials'!F720","v":0},{"$f":"'Bill of Materials'!M720","v":"EA"},{"$f":"'Bill of Materials'!G720","v":"CABLE DROP OUT - 12\" Width"},{"$f":"'Bill of Materials'!L720","v":"Cablofil"},{"$f":"'Bill of Materials'!N720","v":9.98},{"$f":"'Bill of Materials'!P720","v":"DWC"},{"$f":"'Bill of Materials'!C720","v":"INFO-4496"},{"$f":"'Bill of Materials'!H720","v":"GM12 DROPOUT"},null,null,null,0,{"$f":"'Bill of Materials'!J720","v":"standard material"},{"$f":"'Bill of Materials'!K720","v":"physical"},0]
[{"$f":"'Bill of Materials'!E721+'Bill of Materials'!F721","v":0},{"$f":"'Bill of Materials'!M721","v":"EA"},{"$f":"'Bill of Materials'!G721","v":"CABLE DROP OUT - 06\" Width"},{"$f":"'Bill of Materials'!L721","v":"Cablofil"},{"$f":"'Bill of Materials'!N721","v":8.9700000000000006},{"$f":"'Bill of Materials'!P721","v":"DWC"},{"$f":"'Bill of Materials'!C721","v":"INFO-4497"},{"$f":"'Bill of Materials'!H721","v":"GM6 DROPOUT"},null,null,null,0,{"$f":"'Bill of Materials'!J721","v":"standard material"},{"$f":"'Bill of Materials'!K721","v":"physical"},0]
[{"$f":"'Bill of Materials'!E722+'Bill of Materials'!F722","v":0},{"$f":"'Bill of Materials'!M722","v":"EA"},{"$f":"'Bill of Materials'!G722","v":"FAS UNIVERSAL BRACKET - 6\""},{"$f":"'Bill of Materials'!L722","v":"Cablofil"},{"$f":"'Bill of Materials'!N722","v":4.2300000000000004},{"$f":"'Bill of Materials'!P722","v":"DWC"},{"$f":"'Bill of Materials'!C722","v":"INFO-4498"},{"$f":"'Bill of Materials'!H722","v":"FAS U150"},null,null,null,0,{"$f":"'Bill of Materials'!J722","v":"standard material"},{"$f":"'Bill of Materials'!K722","v":"physical"},0]
[{"$f":"'Bill of Materials'!E723+'Bill of Materials'!F723","v":0},{"$f":"'Bill of Materials'!M723","v":"EA"},{"$f":"'Bill of Materials'!G723","v":"FAS UNIVERSAL BRACKET - 12\""},{"$f":"'Bill of Materials'!L723","v":"Cablofil"},{"$f":"'Bill of Materials'!N723","v":6.14},{"$f":"'Bill of Materials'!P723","v":"DWC"},{"$f":"'Bill of Materials'!C723","v":"INFO-4499"},{"$f":"'Bill of Materials'!H723","v":"FAS U300"},null,null,null,0,{"$f":"'Bill of Materials'!J723","v":"standard material"},{"$f":"'Bill of Materials'!K723","v":"physical"},0]
[{"$f":"'Bill of Materials'!#REF!+'Bill of Materials'!#REF!","v":{"$error":"#REF!"}},{"$f":"'Bill of Materials'!#REF!","v":{"$error":"#REF!"}},{"$f":"'Bill of Materials'!#REF!","v":{"$error":"#REF!"}},{"$f":"'Bill of Materials'!#REF!","v":{"$error":"#REF!"}},{"$f":"'Bill of Materials'!#REF!","v":{"$error":"#REF!"}},{"$f":"'Bill of Materials'!#REF!","v":{"$error":"#REF!"}},{"$f":"'Bill of Materials'!#REF!","v":{"$error":"#REF!"}},{"$f":"'Bill of Materials'!#REF!","v":{"$error":"#REF!"}},null,null,null,{"$error":"#REF!"},{"$f":"'Bill of Materials'!#REF!","v":{"$error":"#REF!"}},{"$f":"'Bill of Materials'!#REF!","v":{"$error":"#REF!"}},{"$error":"#REF!"}]
[{"$f":"'Bill of Materials'!E724+'Bill of Materials'!F724","v":0},{"$f":"'Bill of Materials'!M724","v":"EA"},{"$f":"'Bill of Materials'!G724","v":"FAS UNIVERSAL BRACKET - 24\""},{"$f":"'Bill of Materials'!L724","v":"Cablofil"},{"$f":"'Bill of Materials'!N724","v":19.55},{"$f":"'Bill of Materials'!P724","v":"DWC"},{"$f":"'Bill of Materials'!C724","v":"INFO-4701"},{"$f":"'Bill of Materials'!H724","v":"FAS U600"},null,null,null,0,{"$f":"'Bill of Materials'!J724","v":"standard material"},{"$f":"'Bill of Materials'!K724","v":"physical"},0]
[{"$f":"'Bill of Materials'!E725+'Bill of Materials'!F725","v":0},{"$f":"'Bill of Materials'!M725","v":"EA"},{"$f":"'Bill of Materials'!G725","v":"FAS PROFILE - 28\""},{"$f":"'Bill of Materials'!L725","v":"Cablofil"},{"$f":"'Bill of Materials'!N725","v":11.44},{"$f":"'Bill of Materials'!P725","v":"DWC"},{"$f":"'Bill of Materials'!C725","v":"INFO-4703"},{"$f":"'Bill of Materials'!H725","v":"FASP700"},null,null,null,0,{"$f":"'Bill of Materials'!J725","v":"standard material"},{"$f":"'Bill of Materials'!K725","v":"physical"},0]
[{"$f":"'Bill of Materials'!E726+'Bill of Materials'!F726","v":0},{"$f":"'Bill of Materials'!M726","v":"EA"},{"$f":"'Bill of Materials'!G726","v":"8\" wall or under floor bracket"},{"$f":"'Bill of Materials'!L726","v":"Cablofil"},{"$f":"'Bill of Materials'!N726","v":4.2699999999999996},{"$f":"'Bill of Materials'!P726","v":"DWC"},{"$f":"'Bill of Materials'!C726","v":"INFO-4704"},{"$f":"'Bill of Materials'!H726","v":"FAS L200"},null,null,null,0,{"$f":"'Bill of Materials'!J726","v":"standard material"},{"$f":"'Bill of Materials'!K726","v":"physical"},0]
[{"$f":"'Bill of Materials'!E727+'Bill of Materials'!F727","v":0},{"$f":"'Bill of Materials'!M727","v":"EA"},{"$f":"'Bill of Materials'!G727","v":"12\" wall or under floor bracket"},{"$f":"'Bill of Materials'!L727","v":"Cablofil"},{"$f":"'Bill of Materials'!N727","v":5.56},{"$f":"'Bill of Materials'!P727","v":"DWC"},{"$f":"'Bill of Materials'!C727","v":"INFO-4705"},{"$f":"'Bill of Materials'!H727","v":"FAS L300"},null,null,null,0,{"$f":"'Bill of Materials'!J727","v":"standard material"},{"$f":"'Bill of Materials'!K727","v":"physical"},0]
[{"$f":"'Bill of Materials'!E729+'Bill of Materials'!F729","v":0},{"$f":"'Bill of Materials'!M729","v":"EA"},{"$f":"'Bill of Materials'!G729","v":"TERMINAL BLOCK, EA & ED 300-600v Tubular Screw Type with Pressure Plate (EJB and Terminal box)"},{"$f":"'Bill of Materials'!L729","v":"Electro-Matic"},{"$f":"'Bill of Materials'!N729","v":2.0299999999999998},{"$f":"'Bill of Materials'!P729","v":"DWC"},{"$f":"'Bill of Materials'!C729","v":"0076-6541"},{"$f":"'Bill of Materials'!H729","v":"EA1"},null,null,null,0,{"$f":"'Bill of Materials'!J729","v":"standard material"},{"$f":"'Bill of Materials'!K729","v":"physical"},0]
[{"$f":"'Bill of Materials'!E730+'Bill of Materials'!F730","v":0},{"$f":"'Bill of Materials'!M730","v":"EA"},{"$f":"'Bill of Materials'!G730","v":"Beam/Purlin Flange Bonding Clamp. Up to 1\" Thick Beam Flange. Accommodates #2awg thru #6awg Copper, UL Approved"},{"$f":"'Bill of Materials'!L730","v":"Erico-Caddy"},{"$f":"'Bill of Materials'!N730","v":38.25},{"$f":"'Bill of Materials'!P730","v":"DWC"},{"$f":"'Bill of Materials'!C730","v":"0174-9C5F"},{"$f":"'Bill of Materials'!H730","v":"LPC557"},null,null,null,0,{"$f":"'Bill of Materials'!J730","v":"standard material"},{"$f":"'Bill of Materials'!K730","v":"physical"},0]
[{"$f":"'Bill of Materials'!E731+'Bill of Materials'!F731","v":0},{"$f":"'Bill of Materials'!M731","v":"EA"},{"$f":"'Bill of Materials'!G731","v":"Gnd./Bonding Clamp, wire type cable tray section-section, 2ga/6ga bonding conductor size, UL Approved  "},{"$f":"'Bill of Materials'!L731","v":"Senior Industries"},{"$f":"'Bill of Materials'!N731","v":3.27},{"$f":"'Bill of Materials'!P731","v":"DWC"},{"$f":"'Bill of Materials'!C731","v":"0174-9C61"},{"$f":"'Bill of Materials'!H731","v":2174},null,null,null,0,{"$f":"'Bill of Materials'!J731","v":"standard material"},{"$f":"'Bill of Materials'!K731","v":"physical"},0]
[{"$f":"'Bill of Materials'!E732+'Bill of Materials'!F732","v":0},{"$f":"'Bill of Materials'!M732","v":"EA"},{"$f":"'Bill of Materials'!G732","v":"H-TAP, 3/0 awg to 3/0 awg, Crimp type "},{"$f":"'Bill of Materials'!L732","v":"FCI-Burndy"},{"$f":"'Bill of Materials'!N732","v":24.26},{"$f":"'Bill of Materials'!P732","v":"DWC"},{"$f":"'Bill of Materials'!C732","v":"0456-0XFL"},{"$f":"'Bill of Materials'!H732","v":"YH2929WC"},null,null,null,0,{"$f":"'Bill of Materials'!J732","v":"standard material"},{"$f":"'Bill of Materials'!K732","v":"physical"},0]
[{"$f":"'Bill of Materials'!E733+'Bill of Materials'!F733","v":0},{"$f":"'Bill of Materials'!M733","v":"EA"},{"$f":"'Bill of Materials'!G733","v":"H-TAP, 2/0 thru #2 awg to 2/0 thru #2 awg, Crimp type "},{"$f":"'Bill of Materials'!L733","v":"FCI-Burndy"},{"$f":"'Bill of Materials'!N733","v":28.12},{"$f":"'Bill of Materials'!P733","v":"DWC"},{"$f":"'Bill of Materials'!C733","v":"0456-0XFM"},{"$f":"'Bill of Materials'!H733","v":"YH292CWC"},null,null,null,0,{"$f":"'Bill of Materials'!J733","v":"standard material"},{"$f":"'Bill of Materials'!K733","v":"physical"},0]
[{"$f":"'Bill of Materials'!E734+'Bill of Materials'!F734","v":0},{"$f":"'Bill of Materials'!M734","v":"EA"},{"$f":"'Bill of Materials'!G734","v":"Telecom Grounding and Bonding Conductor Label Ground Attachment Warning Kit (10 per pak)"},{"$f":"'Bill of Materials'!L734","v":"Panduit"},{"$f":"'Bill of Materials'!N734","v":8.66},{"$f":"'Bill of Materials'!P734","v":"DWC"},{"$f":"'Bill of Materials'!C734","v":"0456-0XFN"},{"$f":"'Bill of Materials'!H734","v":"LTYK"},null,null,null,0,{"$f":"'Bill of Materials'!J734","v":"standard material"},{"$f":"'Bill of Materials'!K734","v":"physical"},0]
[{"$f":"'Bill of Materials'!E735+'Bill of Materials'!F735","v":0},{"$f":"'Bill of Materials'!M735","v":"EA"},{"$f":"'Bill of Materials'!G735","v":"Ground Strap with lugs and hardware, Runway Type Cable Tray Section Bonding"},{"$f":"'Bill of Materials'!L735","v":"Homaco"},{"$f":"'Bill of Materials'!N735","v":14.79},{"$f":"'Bill of Materials'!P735","v":"DWC"},{"$f":"'Bill of Materials'!C735","v":"0456-0XFR"},{"$f":"'Bill of Materials'!H735","v":"GS-8"},null,null,null,0,{"$f":"'Bill of Materials'!J735","v":"standard material"},{"$f":"'Bill of Materials'!K735","v":"physical"},0]
[{"$f":"'Bill of Materials'!E736+'Bill of Materials'!F736","v":0},{"$f":"'Bill of Materials'!M736","v":"EA"},{"$f":"'Bill of Materials'!G736","v":"Cabinet/Rack Grounding Kit, Includes; H-TAP #2awg to #6awg, Pre-connectorized 10ft. #6awg THHN green, lugs and attachment hardware. "},{"$f":"'Bill of Materials'!L736","v":"DWC"},{"$f":"'Bill of Materials'!N736","v":27.13},{"$f":"'Bill of Materials'!P736","v":"DWC"},{"$f":"'Bill of Materials'!C736","v":"0456-0XRJ"},{"$f":"'Bill of Materials'!H736","v":"EBC-KIT"},null,null,null,0,{"$f":"'Bill of Materials'!J736","v":"standard material"},{"$f":"'Bill of Materials'!K736","v":"physical"},0]
[{"$f":"'Bill of Materials'!E737+'Bill of Materials'!F737","v":0},{"$f":"'Bill of Materials'!M737","v":"EA"},{"$f":"'Bill of Materials'!G737","v":"Crimp Lug Connector, 3/0awg, (2) Holes, Long Barrel"},{"$f":"'Bill of Materials'!L737","v":"FCI-Burndy"},{"$f":"'Bill of Materials'!N737","v":9.31},{"$f":"'Bill of Materials'!P737","v":"DWC"},{"$f":"'Bill of Materials'!C737","v":"0844-44DW"},{"$f":"'Bill of Materials'!H737","v":"YA272TC38"},null,null,null,0,{"$f":"'Bill of Materials'!J737","v":"standard material"},{"$f":"'Bill of Materials'!K737","v":"physical"},0]
[{"$f":"'Bill of Materials'!E738+'Bill of Materials'!F738","v":0},{"$f":"'Bill of Materials'!M738","v":"EA"},{"$f":"'Bill of Materials'!G738","v":"Crimp Lug Connector, #6awg, (2) Hole, Long Barrel"},{"$f":"'Bill of Materials'!L738","v":"FCI-Burndy"},{"$f":"'Bill of Materials'!N738","v":5.84},{"$f":"'Bill of Materials'!P738","v":"DWC"},{"$f":"'Bill of Materials'!C738","v":"0844-45KJ"},{"$f":"'Bill of Materials'!H738","v":"YA6C2TC14"},null,null,null,0,{"$f":"'Bill of Materials'!J738","v":"standard material"},{"$f":"'Bill of Materials'!K738","v":"physical"},0]
[{"$f":"'Bill of Materials'!E739+'Bill of Materials'!F739","v":0},{"$f":"'Bill of Materials'!M739","v":"EA"},{"$f":"'Bill of Materials'!G739","v":"Crimp Lug Connector, #2awg, (2) Holes, Long Barrel"},{"$f":"'Bill of Materials'!L739","v":"FCI-Burndy"},{"$f":"'Bill of Materials'!N739","v":7.77},{"$f":"'Bill of Materials'!P739","v":"DWC"},{"$f":"'Bill of Materials'!C739","v":"0844-45KK"},{"$f":"'Bill of Materials'!H739","v":"YA2C2TC38"},null,null,null,0,{"$f":"'Bill of Materials'!J739","v":"standard material"},{"$f":"'Bill of Materials'!K739","v":"physical"},0]
[{"$f":"'Bill of Materials'!E740+'Bill of Materials'!F740","v":0},{"$f":"'Bill of Materials'!M740","v":"EA"},{"$f":"'Bill of Materials'!G740","v":"Crimp Lug Connector, #6awg, (1) Hole, Long Barrel"},{"$f":"'Bill of Materials'!L740","v":"FCI-Burndy"},{"$f":"'Bill of Materials'!N740","v":2.13},{"$f":"'Bill of Materials'!P740","v":"DWC"},{"$f":"'Bill of Materials'!C740","v":"0844-45KR"},{"$f":"'Bill of Materials'!H740","v":"YA6C"},null,null,null,0,{"$f":"'Bill of Materials'!J740","v":"standard material"},{"$f":"'Bill of Materials'!K740","v":"physical"},0]
[{"$f":"'Bill of Materials'!E741+'Bill of Materials'!F741","v":0},{"$f":"'Bill of Materials'!M741","v":"FT"},{"$f":"'Bill of Materials'!G741","v":"#2awg, Bare Stranded Ground Cable - Cable is sold in FT"},{"$f":"'Bill of Materials'!L741","v":"DWC"},{"$f":"'Bill of Materials'!N741","v":1.2},{"$f":"'Bill of Materials'!P741","v":"DWC"},{"$f":"'Bill of Materials'!C741","v":"10024"},{"$f":"'Bill of Materials'!H741","v":"1A-0201"},null,null,null,0,{"$f":"'Bill of Materials'!J741","v":"standard material"},{"$f":"'Bill of Materials'!K741","v":"horizontal"},0]
[{"$f":"'Bill of Materials'!E742+'Bill of Materials'!F742","v":0},{"$f":"'Bill of Materials'!M742","v":"FT"},{"$f":"'Bill of Materials'!G742","v":"2/0awg, Bare Stranded Ground Cable - Cable is sold in FT"},{"$f":"'Bill of Materials'!L742","v":"DWC"},{"$f":"'Bill of Materials'!N742","v":1.91},{"$f":"'Bill of Materials'!P742","v":"DWC"},{"$f":"'Bill of Materials'!C742","v":"10025"},{"$f":"'Bill of Materials'!H742","v":"1A-2021"},null,null,null,0,{"$f":"'Bill of Materials'!J742","v":"standard material"},{"$f":"'Bill of Materials'!K742","v":"horizontal"},0]
[{"$f":"'Bill of Materials'!E743+'Bill of Materials'!F743","v":0},{"$f":"'Bill of Materials'!M743","v":"FT"},{"$f":"'Bill of Materials'!G743","v":"3/0awg, Bare Stranded Ground Cable - Cable is sold in FT"},{"$f":"'Bill of Materials'!L743","v":"DWC"},{"$f":"'Bill of Materials'!N743","v":3.35},{"$f":"'Bill of Materials'!P743","v":"DWC"},{"$f":"'Bill of Materials'!C743","v":"10026"},{"$f":"'Bill of Materials'!H743","v":"1A-3031"},null,null,null,0,{"$f":"'Bill of Materials'!J743","v":"standard material"},{"$f":"'Bill of Materials'!K743","v":"horizontal"},0]
[{"$f":"'Bill of Materials'!E744+'Bill of Materials'!F744","v":0},{"$f":"'Bill of Materials'!M744","v":"FT"},{"$f":"'Bill of Materials'!G744","v":"#2awg THHN, Green Jacketed Stranded Ground Cable - Cable is sold in FT"},{"$f":"'Bill of Materials'!L744","v":"DWC"},{"$f":"'Bill of Materials'!N744","v":1.55},{"$f":"'Bill of Materials'!P744","v":"DWC"},{"$f":"'Bill of Materials'!C744","v":"10027"},{"$f":"'Bill of Materials'!H744","v":"1E-0201-05"},null,null,null,0,{"$f":"'Bill of Materials'!J744","v":"standard material"},{"$f":"'Bill of Materials'!K744","v":"horizontal"},0]
[{"$f":"'Bill of Materials'!E745+'Bill of Materials'!F745","v":0},{"$f":"'Bill of Materials'!M745","v":"FT"},{"$f":"'Bill of Materials'!G745","v":"#6awg THHN, Green Jacketed Stranded Ground Cable - Cable is sold in FT"},{"$f":"'Bill of Materials'!L745","v":"DWC"},{"$f":"'Bill of Materials'!N745","v":0.8},{"$f":"'Bill of Materials'!P745","v":"DWC"},{"$f":"'Bill of Materials'!C745","v":"10028"},{"$f":"'Bill of Materials'!H745","v":"1E-0601-05"},null,null,null,0,{"$f":"'Bill of Materials'!J745","v":"standard material"},{"$f":"'Bill of Materials'!K745","v":"horizontal"},0]
[{"$f":"'Bill of Materials'!E746+'Bill of Materials'!F746","v":0},{"$f":"'Bill of Materials'!M746","v":"FT"},{"$f":"'Bill of Materials'!G746","v":"2/0awg THHN, Green Jacketed Stranded Ground Cable - Cable is sold in FT"},{"$f":"'Bill of Materials'!L746","v":"DWC"},{"$f":"'Bill of Materials'!N746","v":2.4500000000000002},{"$f":"'Bill of Materials'!P746","v":"DWC"},{"$f":"'Bill of Materials'!C746","v":"10029"},{"$f":"'Bill of Materials'!H746","v":"1E-2021-05"},null,null,null,0,{"$f":"'Bill of Materials'!J746","v":"standard material"},{"$f":"'Bill of Materials'!K746","v":"horizontal"},0]
[{"$f":"'Bill of Materials'!E747+'Bill of Materials'!F747","v":0},{"$f":"'Bill of Materials'!M747","v":"FT"},{"$f":"'Bill of Materials'!G747","v":"3/0awg THHN, Green Jacketed Stranded Ground Cable - Cable is sold in FT"},{"$f":"'Bill of Materials'!L747","v":"DWC"},{"$f":"'Bill of Materials'!N747","v":3.85},{"$f":"'Bill of Materials'!P747","v":"DWC"},{"$f":"'Bill of Materials'!C747","v":"10030"},{"$f":"'Bill of Materials'!H747","v":"1E-3031-05"},null,null,null,0,{"$f":"'Bill of Materials'!J747","v":"standard material"},{"$f":"'Bill of Materials'!K747","v":"horizontal"},0]
[{"$f":"'Bill of Materials'!E748+'Bill of Materials'!F748","v":0},{"$f":"'Bill of Materials'!M748","v":"EA"},{"$f":"'Bill of Materials'!G748","v":"D167 Small Panel Mounted Ground Bar (12) Position for Panel Enclosures"},{"$f":"'Bill of Materials'!L748","v":"Ilsco"},{"$f":"'Bill of Materials'!N748","v":35.9},{"$f":"'Bill of Materials'!P748","v":"DWC"},{"$f":"'Bill of Materials'!C748","v":"10092"},{"$f":"'Bill of Materials'!H748","v":"D167-12"},null,null,null,0,{"$f":"'Bill of Materials'!J748","v":"standard material"},{"$f":"'Bill of Materials'!K748","v":"physical"},0]
[{"$f":"'Bill of Materials'!E749+'Bill of Materials'!F749","v":0},{"$f":"'Bill of Materials'!M749","v":"EA"},{"$f":"'Bill of Materials'!G749","v":"EGB – Equipment Ground Bar, Rack/Cabinet 19”"},{"$f":"'Bill of Materials'!L749","v":"Harger"},{"$f":"'Bill of Materials'!N749","v":25.5},{"$f":"'Bill of Materials'!P749","v":"DWC"},{"$f":"'Bill of Materials'!C749","v":"10114"},{"$f":"'Bill of Materials'!H749","v":"GB316-7520DWC"},null,null,null,0,{"$f":"'Bill of Materials'!J749","v":"standard material"},{"$f":"'Bill of Materials'!K749","v":"physical"},0]
[{"$f":"'Bill of Materials'!E750+'Bill of Materials'!F750","v":0},{"$f":"'Bill of Materials'!M750","v":"EA"},{"$f":"'Bill of Materials'!G750","v":"Antioxidant Compound for Ground Connections, 8 oz. Bottle, Copper Color"},{"$f":"'Bill of Materials'!L750","v":"Harger"},{"$f":"'Bill of Materials'!N750","v":15.8},{"$f":"'Bill of Materials'!P750","v":"DWC"},{"$f":"'Bill of Materials'!C750","v":"10119"},{"$f":"'Bill of Materials'!H750","v":"HCAJC8"},null,null,null,0,{"$f":"'Bill of Materials'!J750","v":"standard material"},{"$f":"'Bill of Materials'!K750","v":"physical"},0]
[{"$f":"'Bill of Materials'!E751+'Bill of Materials'!F751","v":0},{"$f":"'Bill of Materials'!M751","v":"EA"},{"$f":"'Bill of Materials'!G751","v":"Labor to install EGB Bar in NIS Racks/Cabinets"},{"$f":"'Bill of Materials'!L751","v":"DWC"},{"$f":"'Bill of Materials'!N751","v":38.700000000000003},{"$f":"'Bill of Materials'!P751","v":"DWC"},{"$f":"'Bill of Materials'!C751","v":"10260"},{"$f":"'Bill of Materials'!H751","v":"EGB-L"},null,null,null,0,{"$f":"'Bill of Materials'!J751","v":"standard material"},{"$f":"'Bill of Materials'!K751","v":"physical"},0]
[{"$f":"'Bill of Materials'!E752+'Bill of Materials'!F752","v":0},{"$f":"'Bill of Materials'!M752","v":"EA"},{"$f":"'Bill of Materials'!G752","v":"DataLogger Grounding Kit - Includes 12 Inches of # 6 AWG Coated Ground Wire w/Green Jacket, and Terminal Connector on One End"},{"$f":"'Bill of Materials'!L752","v":"DWC"},{"$f":"'Bill of Materials'!N752","v":3.27},{"$f":"'Bill of Materials'!P752","v":"DWC"},{"$f":"'Bill of Materials'!C752","v":"INFO-2338"},{"$f":"'Bill of Materials'!H752","v":"GM-DLOG-KIT"},null,null,null,0,{"$f":"'Bill of Materials'!J752","v":"standard material"},{"$f":"'Bill of Materials'!K752","v":"physical"},0]
[{"$f":"'Bill of Materials'!E753+'Bill of Materials'!F753","v":0},{"$f":"'Bill of Materials'!M753","v":"EA"},{"$f":"'Bill of Materials'!G753","v":"Insulated Ground Bar 1/4\" X 4\" X 20\" (Copper)"},{"$f":"'Bill of Materials'!L753","v":"Newton"},{"$f":"'Bill of Materials'!N753","v":142.4},{"$f":"'Bill of Materials'!P753","v":"DWC"},{"$f":"'Bill of Materials'!C753","v":"INFO-4504"},{"$f":"'Bill of Materials'!H753","v":"FIGURE 3056"},null,null,null,0,{"$f":"'Bill of Materials'!J753","v":"standard material"},{"$f":"'Bill of Materials'!K753","v":"physical"},0]
[{"$f":"'Bill of Materials'!#REF!+'Bill of Materials'!#REF!","v":{"$error":"#REF!"}},{"$f":"'Bill of Materials'!#REF!","v":{"$error":"#REF!"}},{"$f":"'Bill of Materials'!#REF!","v":{"$error":"#REF!"}},{"$f":"'Bill of Materials'!#REF!","v":{"$error":"#REF!"}},{"$f":"'Bill of Materials'!#REF!","v":{"$error":"#REF!"}},{"$f":"'Bill of Materials'!#REF!","v":{"$error":"#REF!"}},{"$f":"'Bill of Materials'!#REF!","v":{"$error":"#REF!"}},{"$f":"'Bill of Materials'!#REF!","v":{"$error":"#REF!"}},null,null,null,{"$error":"#REF!"},{"$f":"'Bill of Materials'!#REF!","v":{"$error":"#REF!"}},{"$f":"'Bill of Materials'!#REF!","v":{"$error":"#REF!"}},{"$error":"#REF!"}]
[{"$f":"'Bill of Materials'!E754+'Bill of Materials'!F754","v":0},{"$f":"'Bill of Materials'!M754","v":"EA"},{"$f":"'Bill of Materials'!G754","v":"Braided Ground Strap w/eyelets (25'/roll)"},{"$f":"'Bill of Materials'!L754","v":"3M"},{"$f":"'Bill of Materials'!N754","v":49.75},{"$f":"'Bill of Materials'!P754","v":"DWC"},{"$f":"'Bill of Materials'!C754","v":"INFO-4764"},{"$f":"'Bill of Materials'!H754","v":"25T-BBE6"},null,null,null,0,{"$f":"'Bill of Materials'!J754","v":"standard material"},{"$f":"'Bill of Materials'!K754","v":"physical"},0]
[{"$f":"'Bill of Materials'!E755+'Bill of Materials'!F755","v":0},{"$f":"'Bill of Materials'!M755","v":"EA"},{"$f":"'Bill of Materials'!G755","v":"Beam/Purlin/Tray Flange Bonding Clamp. Up to 1/2\" Thick Beam Flange. Accommodates #2awg thru #6awg Copper, UL Approved"},{"$f":"'Bill of Materials'!L755","v":"OZ Gedney"},{"$f":"'Bill of Materials'!N755","v":9.31},{"$f":"'Bill of Materials'!P755","v":"DWC"},{"$f":"'Bill of Materials'!C755","v":"INFO-7018"},{"$f":"'Bill of Materials'!H755","v":"CTGC-6-25A"},null,null,null,0,{"$f":"'Bill of Materials'!J755","v":"standard material"},{"$f":"'Bill of Materials'!K755","v":"physical"},0]
[{"$f":"'Bill of Materials'!E756+'Bill of Materials'!F756","v":0},{"$f":"'Bill of Materials'!M756","v":"EA"},{"$f":"'Bill of Materials'!G756","v":"Required ground Kit for Cisco 65XX, 45XX series chassis. Includes two hole crimp-on chassis ground lug, 10 feet of #6 green stranded cable, one hole copper mechanical connector, two M4 stainless screws, one stainless bolt, nut, washer, tie wraps, label, instructions. Crimp-on chassis ground lug comes  factory assembled to the #6 stranded cable."},{"$f":"'Bill of Materials'!L756","v":"DWC"},{"$f":"'Bill of Materials'!N756","v":36.200000000000003},{"$f":"'Bill of Materials'!P756","v":"DWC"},{"$f":"'Bill of Materials'!C756","v":"INFO-8657"},{"$f":"'Bill of Materials'!H756","v":"CISCO/GRND-KIT"},null,null,null,{"$f":"E780*A780","v":0},{"$f":"'Bill of Materials'!J756","v":"standard material"},{"$f":"'Bill of Materials'!K756","v":"physical"},{"$f":"IF(A780>0,1,0)","v":0}]
[{"$f":"'Bill of Materials'!E757+'Bill of Materials'!F757","v":0},{"$f":"'Bill of Materials'!M757","v":"EA"},{"$f":"'Bill of Materials'!G757","v":"Manual Crimp Tool - Crimps PANDUIT® #8 - #2 AWG non-insulated tubular terminals (S series), #8 - #1 AWG copper lugs and splices, #6 - #4 AWG aluminum lugs and splices, and CTAPF copper taps for #14 - #3 AWG. Includes 5 position, color coded rotating die. "},{"$f":"'Bill of Materials'!L757","v":"OZ Gedney"},{"$f":"'Bill of Materials'!N757","v":177.01},{"$f":"'Bill of Materials'!P757","v":"DWC"},{"$f":"'Bill of Materials'!C757","v":"INFO-8658"},{"$f":"'Bill of Materials'!H757","v":"CT-1700"},null,null,null,0,{"$f":"'Bill of Materials'!J757","v":"standard material"},{"$f":"'Bill of Materials'!K757","v":"physical"},0]
[{"$f":"'Bill of Materials'!E759+'Bill of Materials'!F759","v":0},{"$f":"'Bill of Materials'!M759","v":"EA"},{"$f":"'Bill of Materials'!G759","v":"CIRCUIT BREAKER, 20AMP, 120V, 1 POLE"},{"$f":"'Bill of Materials'!L759","v":"Altech Corp."},{"$f":"'Bill of Materials'!N759","v":35.44},{"$f":"'Bill of Materials'!P759","v":"DWC"},{"$f":"'Bill of Materials'!C759","v":"0098-26G0"},{"$f":"'Bill of Materials'!H759","v":"1GU20"},null,null,null,0,{"$f":"'Bill of Materials'!J759","v":"standard material"},{"$f":"'Bill of Materials'!K759","v":"physical"},0]
[{"$f":"'Bill of Materials'!E760+'Bill of Materials'!F760","v":0},{"$f":"'Bill of Materials'!M760","v":"EA"},{"$f":"'Bill of Materials'!G760","v":"QUICK DISCONNECT SWITCH, (FOR EJB BOX)"},{"$f":"'Bill of Materials'!L760","v":"DWC"},{"$f":"'Bill of Materials'!N760","v":151.37},{"$f":"'Bill of Materials'!P760","v":"DWC"},{"$f":"'Bill of Materials'!C760","v":"0119-C5M0"},{"$f":"'Bill of Materials'!H760","v":"H28421"},null,null,null,0,{"$f":"'Bill of Materials'!J760","v":"standard material"},{"$f":"'Bill of Materials'!K760","v":"physical"},0]
[{"$f":"'Bill of Materials'!E761+'Bill of Materials'!F761","v":0},{"$f":"'Bill of Materials'!M761","v":"EA"},{"$f":"'Bill of Materials'!G761","v":"1RU Rack-Mounted 20A, 125VAC Breaker Horiz. Power Strip, Six (6) Rear Facing Receptacles, WITH On/Off Switch, 15' Power Cord-Straight Plug"},{"$f":"'Bill of Materials'!L761","v":"Hammond"},{"$f":"'Bill of Materials'!N761","v":39.380000000000003},{"$f":"'Bill of Materials'!P761","v":"DWC"},{"$f":"'Bill of Materials'!C761","v":"0628-092M"},{"$f":"'Bill of Materials'!H761","v":"1589H6G1BKRR"},null,null,null,0,{"$f":"'Bill of Materials'!J761","v":"standard material"},{"$f":"'Bill of Materials'!K761","v":"physical"},0]
[{"$f":"'Bill of Materials'!E762+'Bill of Materials'!F762","v":0},{"$f":"'Bill of Materials'!M762","v":"EA"},{"$f":"'Bill of Materials'!G762","v":"UCE Comm. Power Distribution Unit (PDU) Version 1"},{"$f":"'Bill of Materials'!L762","v":"DWC"},{"$f":"'Bill of Materials'!N762","v":661.44},{"$f":"'Bill of Materials'!P762","v":"DWC"},{"$f":"'Bill of Materials'!C762","v":"0886-02N6"},{"$f":"'Bill of Materials'!H762","v":"UCE-PDU-V1"},null,null,null,0,{"$f":"'Bill of Materials'!J762","v":"standard material"},{"$f":"'Bill of Materials'!K762","v":"physical"},0]
[{"$f":"'Bill of Materials'!E763+'Bill of Materials'!F763","v":0},{"$f":"'Bill of Materials'!M763","v":"EA"},{"$f":"'Bill of Materials'!G763","v":"Wall/Panel-Mounted 20A, 125VAC Breaker Horiz. Power Strip, Six (6) Right Angled Outlets, WITHOUT On/Off Switch, 6' Power Cord"},{"$f":"'Bill of Materials'!L763","v":"Hammond"},{"$f":"'Bill of Materials'!N763","v":31.6},{"$f":"'Bill of Materials'!P763","v":"DWC"},{"$f":"'Bill of Materials'!C763","v":"10013"},{"$f":"'Bill of Materials'!H763","v":"1584T6A1RA"},null,null,null,0,{"$f":"'Bill of Materials'!J763","v":"standard material"},{"$f":"'Bill of Materials'!K763","v":"physical"},0]
[{"$f":"'Bill of Materials'!E764+'Bill of Materials'!F764","v":0},{"$f":"'Bill of Materials'!M764","v":"EA"},{"$f":"'Bill of Materials'!G764","v":"Wall/Panel-Mounted 20A, 125VAC Breaker Horiz. Power Strip, Six (6) Standard Position Outlets, WITHOUT On/Off Switch, 6' Power Cord"},{"$f":"'Bill of Materials'!L764","v":"Hammond"},{"$f":"'Bill of Materials'!N764","v":43.4},{"$f":"'Bill of Materials'!P764","v":"DWC"},{"$f":"'Bill of Materials'!C764","v":"10014"},{"$f":"'Bill of Materials'!H764","v":"1589T6F1"},null,null,null,0,{"$f":"'Bill of Materials'!J764","v":"standard material"},{"$f":"'Bill of Materials'!K764","v":"physical"},0]
[{"$f":"'Bill of Materials'!E765+'Bill of Materials'!F765","v":0},{"$f":"'Bill of Materials'!M765","v":"EA"},{"$f":"'Bill of Materials'!G765","v":"1RU Rack-Mounted 20A, 125VAC Breaker Horiz. Power Strip, Six (6) Front Facing Receptacles, WITHOUT On/Off Switch, 6' Power Cord-Straight Plug"},{"$f":"'Bill of Materials'!L765","v":"Hammond"},{"$f":"'Bill of Materials'!N765","v":41.1},{"$f":"'Bill of Materials'!P765","v":"DWC"},{"$f":"'Bill of Materials'!C765","v":"10015"},{"$f":"'Bill of Materials'!H765","v":"1589T6F1BKRF"},null,null,null,0,{"$f":"'Bill of Materials'!J765","v":"standard material"},{"$f":"'Bill of Materials'!K765","v":"physical"},0]
[{"$f":"'Bill of Materials'!E766+'Bill of Materials'!F766","v":0},{"$f":"'Bill of Materials'!M766","v":"EA"},{"$f":"'Bill of Materials'!G766","v":"1RU Rack-Mounted 20A, 125VAC Breaker Horiz. Power Strip, Six (6) Rear Facing Receptacles, WITHOUT On/Off Switch, 6' Power Cord-Straight Plug"},{"$f":"'Bill of Materials'!L766","v":"Hammond"},{"$f":"'Bill of Materials'!N766","v":41.1},{"$f":"'Bill of Materials'!P766","v":"DWC"},{"$f":"'Bill of Materials'!C766","v":"10016"},{"$f":"'Bill of Materials'!H766","v":"1589T6F1BKRR"},null,null,null,0,{"$f":"'Bill of Materials'!J766","v":"standard material"},{"$f":"'Bill of Materials'!K766","v":"physical"},0]
[{"$f":"'Bill of Materials'!E767+'Bill of Materials'!F767","v":0},{"$f":"'Bill of Materials'!M767","v":"EA"},{"$f":"'Bill of Materials'!G767","v":"1RU Rack-Mounted 20A, 125VAC Breaker Horiz. Power Strip, Six (6) Front Facing Receptacles, WITHOUT On/Off Switch, 15' Power Cord-Straight Plug"},{"$f":"'Bill of Materials'!L767","v":"Hammond"},{"$f":"'Bill of Materials'!N767","v":45.68},{"$f":"'Bill of Materials'!P767","v":"DWC"},{"$f":"'Bill of Materials'!C767","v":"10017"},{"$f":"'Bill of Materials'!H767","v":"1589T6G1BKRF"},null,null,null,0,{"$f":"'Bill of Materials'!J767","v":"standard material"},{"$f":"'Bill of Materials'!K767","v":"physical"},0]
[{"$f":"'Bill of Materials'!E768+'Bill of Materials'!F768","v":0},{"$f":"'Bill of Materials'!M768","v":"EA"},{"$f":"'Bill of Materials'!G768","v":"1RU Rack-Mounted 20A, 125VAC Breaker Horiz. Power Strip, Six (6) Rear Facing Receptacles, WITHOUT On/Off Switch, 15' Power Cord-Straight Plug"},{"$f":"'Bill of Materials'!L768","v":"Hammond"},{"$f":"'Bill of Materials'!N768","v":45.68},{"$f":"'Bill of Materials'!P768","v":"DWC"},{"$f":"'Bill of Materials'!C768","v":"10018"},{"$f":"'Bill of Materials'!H768","v":"1589T6G1BKRR"},null,null,null,0,{"$f":"'Bill of Materials'!J768","v":"standard material"},{"$f":"'Bill of Materials'!K768","v":"physical"},0]
[{"$f":"'Bill of Materials'!E769+'Bill of Materials'!F769","v":0},{"$f":"'Bill of Materials'!M769","v":"EA"},{"$f":"'Bill of Materials'!G769","v":"6-20P 20AMP 250V Single Plug"},{"$f":"'Bill of Materials'!L769","v":"DWC"},{"$f":"'Bill of Materials'!N769","v":33.9},{"$f":"'Bill of Materials'!P769","v":"DWC"},{"$f":"'Bill of Materials'!C769","v":"10054"},{"$f":"'Bill of Materials'!H769","v":"6-20P"},null,null,null,0,{"$f":"'Bill of Materials'!J769","v":"standard material"},{"$f":"'Bill of Materials'!K769","v":"physical"},0]
[{"$f":"'Bill of Materials'!E770+'Bill of Materials'!F770","v":0},{"$f":"'Bill of Materials'!M770","v":"EA"},{"$f":"'Bill of Materials'!G770","v":"6-20R 20AMP 250V Simplex Receptacle"},{"$f":"'Bill of Materials'!L770","v":"DWC"},{"$f":"'Bill of Materials'!N770","v":16.05},{"$f":"'Bill of Materials'!P770","v":"DWC"},{"$f":"'Bill of Materials'!C770","v":"10055"},{"$f":"'Bill of Materials'!H770","v":"6-20R"},null,null,null,0,{"$f":"'Bill of Materials'!J770","v":"standard material"},{"$f":"'Bill of Materials'!K770","v":"physical"},0]
[{"$f":"'Bill of Materials'!E771+'Bill of Materials'!F771","v":0},{"$f":"'Bill of Materials'!M771","v":"EA"},{"$f":"'Bill of Materials'!G771","v":"6-30P 30AMP 250V Single Plug"},{"$f":"'Bill of Materials'!L771","v":"DWC"},{"$f":"'Bill of Materials'!N771","v":39.299999999999997},{"$f":"'Bill of Materials'!P771","v":"DWC"},{"$f":"'Bill of Materials'!C771","v":"10056"},{"$f":"'Bill of Materials'!H771","v":"6-30P"},null,null,null,0,{"$f":"'Bill of Materials'!J771","v":"standard material"},{"$f":"'Bill of Materials'!K771","v":"physical"},0]
[{"$f":"'Bill of Materials'!E772+'Bill of Materials'!F772","v":0},{"$f":"'Bill of Materials'!M772","v":"EA"},{"$f":"'Bill of Materials'!G772","v":"6-30R 30AMP 250V Simplex Receptacle"},{"$f":"'Bill of Materials'!L772","v":"DWC"},{"$f":"'Bill of Materials'!N772","v":20.6},{"$f":"'Bill of Materials'!P772","v":"DWC"},{"$f":"'Bill of Materials'!C772","v":"10057"},{"$f":"'Bill of Materials'!H772","v":"6-30R"},null,null,null,0,{"$f":"'Bill of Materials'!J772","v":"standard material"},{"$f":"'Bill of Materials'!K772","v":"physical"},0]
[{"$f":"'Bill of Materials'!E773+'Bill of Materials'!F773","v":0},{"$f":"'Bill of Materials'!M773","v":"EA"},{"$f":"'Bill of Materials'!G773","v":"Mount and connect  air conditioner---------Labor Only"},{"$f":"'Bill of Materials'!L773","v":"DWC"},{"$f":"'Bill of Materials'!N773","v":106.2},{"$f":"'Bill of Materials'!P773","v":"DWC"},{"$f":"'Bill of Materials'!C773","v":"10067"},{"$f":"'Bill of Materials'!H773","v":"AC-L"},null,null,null,0,{"$f":"'Bill of Materials'!J773","v":"standard material"},{"$f":"'Bill of Materials'!K773","v":"physical"},0]
[{"$f":"'Bill of Materials'!E774+'Bill of Materials'!F774","v":0},{"$f":"'Bill of Materials'!M774","v":"EA"},{"$f":"'Bill of Materials'!G774","v":"BR20 20AMP Duplex Receptacle (Brown)"},{"$f":"'Bill of Materials'!L774","v":"DWC"},{"$f":"'Bill of Materials'!N774","v":3.95},{"$f":"'Bill of Materials'!P774","v":"DWC"},{"$f":"'Bill of Materials'!C774","v":"10079"},{"$f":"'Bill of Materials'!H774","v":"BR20"},null,null,null,0,{"$f":"'Bill of Materials'!J774","v":"standard material"},{"$f":"'Bill of Materials'!K774","v":"physical"},0]
[{"$f":"'Bill of Materials'!E775+'Bill of Materials'!F775","v":0},{"$f":"'Bill of Materials'!M775","v":"EA"},{"$f":"'Bill of Materials'!G775","v":"Mount and connect PDU - 10 KVA-------Labor Only"},{"$f":"'Bill of Materials'!L775","v":"DWC"},{"$f":"'Bill of Materials'!N775","v":335.7},{"$f":"'Bill of Materials'!P775","v":"DWC"},{"$f":"'Bill of Materials'!C775","v":"10082"},{"$f":"'Bill of Materials'!H775","v":"CCI-PP-480-10K-0K-L"},null,null,null,0,{"$f":"'Bill of Materials'!J775","v":"standard material"},{"$f":"'Bill of Materials'!K775","v":"physical"},0]
[{"$f":"'Bill of Materials'!E776+'Bill of Materials'!F776","v":0},{"$f":"'Bill of Materials'!M776","v":"EA"},{"$f":"'Bill of Materials'!G776","v":"L6-20P 20AMP Twist Lock Single Plug"},{"$f":"'Bill of Materials'!L776","v":"DWC"},{"$f":"'Bill of Materials'!N776","v":13.75},{"$f":"'Bill of Materials'!P776","v":"DWC"},{"$f":"'Bill of Materials'!C776","v":"10122"},{"$f":"'Bill of Materials'!H776","v":"L6-20P"},null,null,null,0,{"$f":"'Bill of Materials'!J776","v":"standard material"},{"$f":"'Bill of Materials'!K776","v":"physical"},0]
[{"$f":"'Bill of Materials'!E777+'Bill of Materials'!F777","v":0},{"$f":"'Bill of Materials'!M777","v":"EA"},{"$f":"'Bill of Materials'!G777","v":"L6-20R 20AMP Twist Lock Simplex Receptacle"},{"$f":"'Bill of Materials'!L777","v":"DWC"},{"$f":"'Bill of Materials'!N777","v":16.2},{"$f":"'Bill of Materials'!P777","v":"DWC"},{"$f":"'Bill of Materials'!C777","v":"10123"},{"$f":"'Bill of Materials'!H777","v":"L6-20R"},null,null,null,0,{"$f":"'Bill of Materials'!J777","v":"standard material"},{"$f":"'Bill of Materials'!K777","v":"physical"},0]
[{"$f":"'Bill of Materials'!E778+'Bill of Materials'!F778","v":0},{"$f":"'Bill of Materials'!M778","v":"EA"},{"$f":"'Bill of Materials'!G778","v":"L6-30P 30AMP Twist Lock Single Plug"},{"$f":"'Bill of Materials'!L778","v":"DWC"},{"$f":"'Bill of Materials'!N778","v":20.8},{"$f":"'Bill of Materials'!P778","v":"DWC"},{"$f":"'Bill of Materials'!C778","v":"10124"},{"$f":"'Bill of Materials'!H778","v":"L6-30P"},null,null,null,0,{"$f":"'Bill of Materials'!J778","v":"standard material"},{"$f":"'Bill of Materials'!K778","v":"physical"},0]
[{"$f":"'Bill of Materials'!E779+'Bill of Materials'!F779","v":0},{"$f":"'Bill of Materials'!M779","v":"EA"},{"$f":"'Bill of Materials'!G779","v":"L6-30R 30AMP Twist Lock Simplex Receptacle"},{"$f":"'Bill of Materials'!L779","v":"DWC"},{"$f":"'Bill of Materials'!N779","v":26.5},{"$f":"'Bill of Materials'!P779","v":"DWC"},{"$f":"'Bill of Materials'!C779","v":"10125"},{"$f":"'Bill of Materials'!H779","v":"L6-30R"},null,null,null,0,{"$f":"'Bill of Materials'!J779","v":"standard material"},{"$f":"'Bill of Materials'!K779","v":"physical"},0]
[{"$f":"'Bill of Materials'!E780+'Bill of Materials'!F780","v":0},{"$f":"'Bill of Materials'!M780","v":"EA"},{"$f":"'Bill of Materials'!G780","v":"Label Print Labor (Each project will need 1 L-P-L Labor for Power Cords)"},{"$f":"'Bill of Materials'!L780","v":"DWC"},{"$f":"'Bill of Materials'!N780","v":28.35},{"$f":"'Bill of Materials'!P780","v":"DWC"},{"$f":"'Bill of Materials'!C780","v":"10127"},{"$f":"'Bill of Materials'!H780","v":"L-P-L"},null,null,null,0,{"$f":"'Bill of Materials'!J780","v":"standard material"},{"$f":"'Bill of Materials'!K780","v":"physical"},0]
[{"$f":"'Bill of Materials'!E781+'Bill of Materials'!F781","v":0},{"$f":"'Bill of Materials'!M781","v":"EA"},{"$f":"'Bill of Materials'!G781","v":"Mount and connect NetBotz in CPTA cabinet--------Labor Only"},{"$f":"'Bill of Materials'!L781","v":"DWC"},{"$f":"'Bill of Materials'!N781","v":56.7},{"$f":"'Bill of Materials'!P781","v":"DWC"},{"$f":"'Bill of Materials'!C781","v":"10136"},{"$f":"'Bill of Materials'!H781","v":"NBRK0400e-L"},null,null,null,0,{"$f":"'Bill of Materials'!J781","v":"standard material"},{"$f":"'Bill of Materials'!K781","v":"physical"},0]
[{"$f":"'Bill of Materials'!E782+'Bill of Materials'!F782","v":0},{"$f":"'Bill of Materials'!M782","v":"EA"},{"$f":"'Bill of Materials'!G782","v":"Configure NetBotz - Labor Only"},{"$f":"'Bill of Materials'!L782","v":"DWC"},{"$f":"'Bill of Materials'!N782","v":90},{"$f":"'Bill of Materials'!P782","v":"DWC"},{"$f":"'Bill of Materials'!C782","v":"10137"},{"$f":"'Bill of Materials'!H782","v":"NETBOTZ-C-L"},null,null,null,0,{"$f":"'Bill of Materials'!J782","v":"standard material"},{"$f":"'Bill of Materials'!K782","v":"physical"},0]
[{"$f":"'Bill of Materials'!E783+'Bill of Materials'!F783","v":0},{"$f":"'Bill of Materials'!M783","v":"EA"},{"$f":"'Bill of Materials'!G783","v":"Mount and connect power strip----------Labor Only"},{"$f":"'Bill of Materials'!L783","v":"DWC"},{"$f":"'Bill of Materials'!N783","v":38.700000000000003},{"$f":"'Bill of Materials'!P783","v":"DWC"},{"$f":"'Bill of Materials'!C783","v":"10141"},{"$f":"'Bill of Materials'!H783","v":"Power Strip-L"},null,null,null,0,{"$f":"'Bill of Materials'!J783","v":"standard material"},{"$f":"'Bill of Materials'!K783","v":"physical"},0]
[{"$f":"'Bill of Materials'!E784+'Bill of Materials'!F784","v":0},{"$f":"'Bill of Materials'!M784","v":"EA"},{"$f":"'Bill of Materials'!G784","v":"6-15R 15AMP 250V Simplex Receptacle"},{"$f":"'Bill of Materials'!L784","v":"DWC"},{"$f":"'Bill of Materials'!N784","v":16},{"$f":"'Bill of Materials'!P784","v":"DWC"},{"$f":"'Bill of Materials'!C784","v":"10269"},{"$f":"'Bill of Materials'!H784","v":"6-15R"},null,null,null,0,{"$f":"'Bill of Materials'!J784","v":"standard material"},{"$f":"'Bill of Materials'!K784","v":"physical"},0]
[{"$f":"'Bill of Materials'!E785+'Bill of Materials'!F785","v":0},{"$f":"'Bill of Materials'!M785","v":"EA"},{"$f":"'Bill of Materials'!G785","v":"6-15P 15AMP 250V Single Plug"},{"$f":"'Bill of Materials'!L785","v":"DWC"},{"$f":"'Bill of Materials'!N785","v":15},{"$f":"'Bill of Materials'!P785","v":"DWC"},{"$f":"'Bill of Materials'!C785","v":"10270"},{"$f":"'Bill of Materials'!H785","v":"6-15P"},null,null,null,0,{"$f":"'Bill of Materials'!J785","v":"standard material"},{"$f":"'Bill of Materials'!K785","v":"physical"},0]
[{"$f":"'Bill of Materials'!E786+'Bill of Materials'!F786","v":0},{"$f":"'Bill of Materials'!M786","v":"EA"},{"$f":"'Bill of Materials'!G786","v":"Rack Mounted Powerbar 1RU, 120V/15A, (2) Front and (4) Rear Outlets, Straight 15ft. Cord, With On/Off Switch"},{"$f":"'Bill of Materials'!L786","v":"Hammond"},{"$f":"'Bill of Materials'!N786","v":49.2},{"$f":"'Bill of Materials'!P786","v":"DWC"},{"$f":"'Bill of Materials'!C786","v":"10271"},{"$f":"'Bill of Materials'!H786","v":"1583H6B1BKX"},null,null,null,0,{"$f":"'Bill of Materials'!J786","v":"standard material"},{"$f":"'Bill of Materials'!K786","v":"physical"},0]
[{"$f":"'Bill of Materials'!E787+'Bill of Materials'!F787","v":0},{"$f":"'Bill of Materials'!M787","v":"EA"},{"$f":"'Bill of Materials'!G787","v":"Power Splitter/Y Cord, 5-15P to 2x 5-15R, 10A-125V, 12\" Long"},{"$f":"'Bill of Materials'!L787","v":"Infinite Cable"},{"$f":"'Bill of Materials'!N787","v":28.2},{"$f":"'Bill of Materials'!P787","v":"DWC"},{"$f":"'Bill of Materials'!C787","v":"10287"},{"$f":"'Bill of Materials'!H787","v":"PW-210B-01"},null,null,null,0,{"$f":"'Bill of Materials'!J787","v":"standard material"},{"$f":"'Bill of Materials'!K787","v":"physical"},0]
[{"$f":"'Bill of Materials'!E788+'Bill of Materials'!F788","v":0},{"$f":"'Bill of Materials'!M788","v":"EA"},{"$f":"'Bill of Materials'!G788","v":"1RU Rack-Mounted 20A, 125VAC Breaker Horiz. Power Strip, Six (6) Rear Facing Receptacles, WITH On/Off Switch, 6' Power Cord-Straight Plug"},{"$f":"'Bill of Materials'!L788","v":"Hammond"},{"$f":"'Bill of Materials'!N788","v":35.44},{"$f":"'Bill of Materials'!P788","v":"DWC"},{"$f":"'Bill of Materials'!C788","v":"INFO-2224"},{"$f":"'Bill of Materials'!H788","v":"1589H6F1BKRR"},null,null,null,0,{"$f":"'Bill of Materials'!J788","v":"standard material"},{"$f":"'Bill of Materials'!K788","v":"physical"},0]
[{"$f":"'Bill of Materials'!E789+'Bill of Materials'!F789","v":0},{"$f":"'Bill of Materials'!M789","v":"EA"},{"$f":"'Bill of Materials'!G789","v":"Receptacle panel with 3 (20 Amp) Twist Locks and 1 (20 Amp) Duplex, Front to Rear Rail Mounted "},{"$f":"'Bill of Materials'!L789","v":"Hammond"},{"$f":"'Bill of Materials'!N789","v":195.97},{"$f":"'Bill of Materials'!P789","v":"DWC"},{"$f":"'Bill of Materials'!C789","v":"INFO-2228"},{"$f":"'Bill of Materials'!H789","v":"SR0400041"},null,null,null,0,{"$f":"'Bill of Materials'!J789","v":"standard material"},{"$f":"'Bill of Materials'!K789","v":"physical"},0]
[{"$f":"'Bill of Materials'!E790+'Bill of Materials'!F790","v":0},{"$f":"'Bill of Materials'!M790","v":"EA"},{"$f":"'Bill of Materials'!G790","v":"Filter Fan, NEMA 12, 94.2CFM Free Flow, 115V "},{"$f":"'Bill of Materials'!L790","v":"Hammond"},{"$f":"'Bill of Materials'!N790","v":166.18},{"$f":"'Bill of Materials'!P790","v":"DWC"},{"$f":"'Bill of Materials'!C790","v":"INFO-4604"},{"$f":"'Bill of Materials'!H790","v":"PF3000"},null,null,null,0,{"$f":"'Bill of Materials'!J790","v":"standard material"},{"$f":"'Bill of Materials'!K790","v":"physical"},0]
[{"$f":"'Bill of Materials'!E791+'Bill of Materials'!F791","v":0},{"$f":"'Bill of Materials'!M791","v":"EA"},{"$f":"'Bill of Materials'!G791","v":"Sealing gasket for PF3000 filter fan"},{"$f":"'Bill of Materials'!L791","v":"Hammond"},{"$f":"'Bill of Materials'!N791","v":5.49},{"$f":"'Bill of Materials'!P791","v":"DWC"},{"$f":"'Bill of Materials'!C791","v":"INFO-4605"},{"$f":"'Bill of Materials'!H791","v":"PFG3000"},null,null,null,0,{"$f":"'Bill of Materials'!J791","v":"standard material"},{"$f":"'Bill of Materials'!K791","v":"physical"},0]
[{"$f":"'Bill of Materials'!E792+'Bill of Materials'!F792","v":0},{"$f":"'Bill of Materials'!M792","v":"EA"},{"$f":"'Bill of Materials'!G792","v":"Standard replacement filter for PF3000 outlet filter, 5/Pkg."},{"$f":"'Bill of Materials'!L792","v":"Hammond"},{"$f":"'Bill of Materials'!N792","v":9.1},{"$f":"'Bill of Materials'!P792","v":"DWC"},{"$f":"'Bill of Materials'!C792","v":"INFO-4606"},{"$f":"'Bill of Materials'!H792","v":"PFF3000"},null,null,null,0,{"$f":"'Bill of Materials'!J792","v":"standard material"},{"$f":"'Bill of Materials'!K792","v":"physical"},0]
[{"$f":"'Bill of Materials'!E793+'Bill of Materials'!F793","v":0},{"$f":"'Bill of Materials'!M793","v":"EA"},{"$f":"'Bill of Materials'!G793","v":"Outlet filter"},{"$f":"'Bill of Materials'!L793","v":"Hammond"},{"$f":"'Bill of Materials'!N793","v":40.29},{"$f":"'Bill of Materials'!P793","v":"DWC"},{"$f":"'Bill of Materials'!C793","v":"INFO-4607"},{"$f":"'Bill of Materials'!H793","v":"PFA3000"},null,null,null,0,{"$f":"'Bill of Materials'!J793","v":"standard material"},{"$f":"'Bill of Materials'!K793","v":"physical"},0]
[{"$f":"'Bill of Materials'!E794+'Bill of Materials'!F794","v":0},{"$f":"'Bill of Materials'!M794","v":"EA"},{"$f":"'Bill of Materials'!G794","v":"Disposable filter for top mount 2600 BTU air conditioner"},{"$f":"'Bill of Materials'!L794","v":"McLean"},{"$f":"'Bill of Materials'!N794","v":7.43},{"$f":"'Bill of Materials'!P794","v":"DWC"},{"$f":"'Bill of Materials'!C794","v":"INFO-4608"},{"$f":"'Bill of Materials'!H794","v":"10-1000-21"},null,null,null,0,{"$f":"'Bill of Materials'!J794","v":"standard material"},{"$f":"'Bill of Materials'!K794","v":"physical"},0]
[{"$f":"'Bill of Materials'!E795+'Bill of Materials'!F795","v":0},{"$f":"'Bill of Materials'!M795","v":"EA"},{"$f":"'Bill of Materials'!G795","v":"Disposable filter for side mount 3000 BTU (INFO-4602) or 1000 BTU (INFO-4610) air conditioners"},{"$f":"'Bill of Materials'!L795","v":"McLean"},{"$f":"'Bill of Materials'!N795","v":7.43},{"$f":"'Bill of Materials'!P795","v":"DWC"},{"$f":"'Bill of Materials'!C795","v":"INFO-4609"},{"$f":"'Bill of Materials'!H795","v":"10-1000-17"},null,null,null,0,{"$f":"'Bill of Materials'!J795","v":"standard material"},{"$f":"'Bill of Materials'!K795","v":"physical"},0]
[{"$f":"'Bill of Materials'!E796+'Bill of Materials'!F796","v":0},{"$f":"'Bill of Materials'!M796","v":"EA"},{"$f":"'Bill of Materials'!G796","v":"Side Mount Cabinet Air Conditioner - 1000 BTU, NEMA 12 silicon and CFC free Factory installed thermostat inside unit"},{"$f":"'Bill of Materials'!L796","v":"McLean"},{"$f":"'Bill of Materials'!N796","v":1342.7},{"$f":"'Bill of Materials'!P796","v":"DWC"},{"$f":"'Bill of Materials'!C796","v":"INFO-4644"},{"$f":"'Bill of Materials'!H796","v":"M13-0116-G1014"},null,null,null,0,{"$f":"'Bill of Materials'!J796","v":"standard material"},{"$f":"'Bill of Materials'!K796","v":"physical"},0]
[{"$f":"'Bill of Materials'!E797+'Bill of Materials'!F797","v":0},{"$f":"'Bill of Materials'!M797","v":"EA"},{"$f":"'Bill of Materials'!G797","v":"Surge Suppression NEMA 5-20 Duplex Receptacle"},{"$f":"'Bill of Materials'!L797","v":"Leviton"},{"$f":"'Bill of Materials'!N797","v":40.590000000000003},{"$f":"'Bill of Materials'!P797","v":"DWC"},{"$f":"'Bill of Materials'!C797","v":"INFO-4649"},{"$f":"'Bill of Materials'!H797","v":"5380-I"},null,null,null,0,{"$f":"'Bill of Materials'!J797","v":"standard material"},{"$f":"'Bill of Materials'!K797","v":"physical"},0]
[{"$f":"'Bill of Materials'!E798+'Bill of Materials'!F798","v":0},{"$f":"'Bill of Materials'!M798","v":"EA"},{"$f":"'Bill of Materials'!G798","v":"Surge Suppression, 1RU Rack-Mounted 20A, 125VAC Breaker Horiz. Power Strip, (2) N5-15R (front) & (10) N5-20R (rear), WITH Guarded On/Off Switch, 15' Power Cord-Straight Plug"},{"$f":"'Bill of Materials'!L798","v":"Tripp-Lite"},{"$f":"'Bill of Materials'!N798","v":124.8},{"$f":"'Bill of Materials'!P798","v":"DWC"},{"$f":"'Bill of Materials'!C798","v":"INFO-4650"},{"$f":"'Bill of Materials'!H798","v":"IBAR 12-20 ULTRA"},null,null,null,0,{"$f":"'Bill of Materials'!J798","v":"standard material"},{"$f":"'Bill of Materials'!K798","v":"physical"},0]
[{"$f":"'Bill of Materials'!E799+'Bill of Materials'!F799","v":0},{"$f":"'Bill of Materials'!M799","v":"EA"},{"$f":"'Bill of Materials'!G799","v":"Plant floor cabinet vertical 10 plug power strip with 6' cord.  Includes mounting clips.  No on/off switch."},{"$f":"'Bill of Materials'!L799","v":"Hammond"},{"$f":"'Bill of Materials'!N799","v":47.7},{"$f":"'Bill of Materials'!P799","v":"DWC"},{"$f":"'Bill of Materials'!C799","v":"INFO-4652"},{"$f":"'Bill of Materials'!H799","v":"1587T10A1"},null,null,null,0,{"$f":"'Bill of Materials'!J799","v":"standard material"},{"$f":"'Bill of Materials'!K799","v":"physical"},0]
[{"$f":"'Bill of Materials'!E800+'Bill of Materials'!F800","v":0},{"$f":"'Bill of Materials'!M800","v":"EA"},{"$f":"'Bill of Materials'!G800","v":"Power Distribution Box 480VAC to 120VAC,10.0 KVA clean power transformer (includes fuses and circuit breakers).  Bus Plug NOT included. (INFO# 4654)  "},{"$f":"'Bill of Materials'!L800","v":"ONEAC"},{"$f":"'Bill of Materials'!N800","v":4348.8500000000004},{"$f":"'Bill of Materials'!P800","v":"DWC"},{"$f":"'Bill of Materials'!C800","v":"INFO-4654"},{"$f":"'Bill of Materials'!H800","v":"CCI-PP-480-10K-0K"},null,null,null,0,{"$f":"'Bill of Materials'!J800","v":"standard material"},{"$f":"'Bill of Materials'!K800","v":"physical"},0]
[{"$f":"'Bill of Materials'!E801+'Bill of Materials'!F801","v":0},{"$f":"'Bill of Materials'!M801","v":"EA"},{"$f":"'Bill of Materials'!G801","v":"1RU Rack-Mounted 15A, 125VAC Breaker Horiz. Power Strip, Six (6) Rear Facing Receptacles, WITH On/Off Switch, 6' Power Cord-Straight Plug"},{"$f":"'Bill of Materials'!L801","v":"Hammond"},{"$f":"'Bill of Materials'!N801","v":36.340000000000003},{"$f":"'Bill of Materials'!P801","v":"DWC"},{"$f":"'Bill of Materials'!C801","v":"INFO-4655"},{"$f":"'Bill of Materials'!H801","v":"1583H6A1BK"},null,null,null,0,{"$f":"'Bill of Materials'!J801","v":"standard material"},{"$f":"'Bill of Materials'!K801","v":"physical"},0]
[{"$f":"'Bill of Materials'!E802+'Bill of Materials'!F802","v":0},{"$f":"'Bill of Materials'!M802","v":"EA"},{"$f":"'Bill of Materials'!G802","v":"4000 BTU Air Conditioning Unit with Active Evaporator (78\" Nema 12 Cabinets)"},{"$f":"'Bill of Materials'!L802","v":"McLean"},{"$f":"'Bill of Materials'!N802","v":1531.2},{"$f":"'Bill of Materials'!P802","v":"DWC"},{"$f":"'Bill of Materials'!C802","v":"INFO-4656"},{"$f":"'Bill of Materials'!H802","v":"M33-0416-G010E"},null,null,null,0,{"$f":"'Bill of Materials'!J802","v":"standard material"},{"$f":"'Bill of Materials'!K802","v":"physical"},0]
[{"$f":"'Bill of Materials'!E803+'Bill of Materials'!F803","v":0},{"$f":"'Bill of Materials'!M803","v":"EA"},{"$f":"'Bill of Materials'!G803","v":"5-15R 15AMP Simplex Receptacle"},{"$f":"'Bill of Materials'!L803","v":"DWC"},{"$f":"'Bill of Materials'!N803","v":5.4},{"$f":"'Bill of Materials'!P803","v":"DWC"},{"$f":"'Bill of Materials'!C803","v":"INFO-8648"},{"$f":"'Bill of Materials'!H803","v":"5-15R"},null,null,null,0,{"$f":"'Bill of Materials'!J803","v":"standard material"},{"$f":"'Bill of Materials'!K803","v":"physical"},0]
[{"$f":"'Bill of Materials'!E804+'Bill of Materials'!F804","v":0},{"$f":"'Bill of Materials'!M804","v":"EA"},{"$f":"'Bill of Materials'!G804","v":"5-15P 15AMP Single Plug"},{"$f":"'Bill of Materials'!L804","v":"DWC"},{"$f":"'Bill of Materials'!N804","v":6.19},{"$f":"'Bill of Materials'!P804","v":"DWC"},{"$f":"'Bill of Materials'!C804","v":"INFO-8649"},{"$f":"'Bill of Materials'!H804","v":"5-15P"},null,null,null,0,{"$f":"'Bill of Materials'!J804","v":"standard material"},{"$f":"'Bill of Materials'!K804","v":"physical"},0]
[{"$f":"'Bill of Materials'!E805+'Bill of Materials'!F805","v":0},{"$f":"'Bill of Materials'!M805","v":"EA"},{"$f":"'Bill of Materials'!G805","v":"L5-15R 15AMP Twist Lock Simplex Receptacle"},{"$f":"'Bill of Materials'!L805","v":"DWC"},{"$f":"'Bill of Materials'!N805","v":7.97},{"$f":"'Bill of Materials'!P805","v":"DWC"},{"$f":"'Bill of Materials'!C805","v":"INFO-8650"},{"$f":"'Bill of Materials'!H805","v":"L5-15R"},null,null,null,0,{"$f":"'Bill of Materials'!J805","v":"standard material"},{"$f":"'Bill of Materials'!K805","v":"physical"},0]
[{"$f":"'Bill of Materials'!E806+'Bill of Materials'!F806","v":0},{"$f":"'Bill of Materials'!M806","v":"EA"},{"$f":"'Bill of Materials'!G806","v":"L5-15P 15AMP Twist Lock Single Plug"},{"$f":"'Bill of Materials'!L806","v":"DWC"},{"$f":"'Bill of Materials'!N806","v":5.84},{"$f":"'Bill of Materials'!P806","v":"DWC"},{"$f":"'Bill of Materials'!C806","v":"INFO-8651"},{"$f":"'Bill of Materials'!H806","v":"L5-15P"},null,null,null,0,{"$f":"'Bill of Materials'!J806","v":"standard material"},{"$f":"'Bill of Materials'!K806","v":"physical"},0]
[{"$f":"'Bill of Materials'!#REF!+'Bill of Materials'!#REF!","v":{"$error":"#REF!"}},{"$f":"'Bill of Materials'!#REF!","v":{"$error":"#REF!"}},{"$f":"'Bill of Materials'!#REF!","v":{"$error":"#REF!"}},{"$f":"'Bill of Materials'!#REF!","v":{"$error":"#REF!"}},{"$f":"'Bill of Materials'!#REF!","v":{"$error":"#REF!"}},{"$f":"'Bill of Materials'!#REF!","v":{"$error":"#REF!"}},{"$f":"'Bill of Materials'!#REF!","v":{"$error":"#REF!"}},{"$f":"'Bill of Materials'!#REF!","v":{"$error":"#REF!"}},null,null,null,{"$error":"#REF!"},{"$f":"'Bill of Materials'!#REF!","v":{"$error":"#REF!"}},{"$f":"'Bill of Materials'!#REF!","v":{"$error":"#REF!"}},{"$error":"#REF!"}]
[{"$f":"'Bill of Materials'!E807+'Bill of Materials'!F807","v":0},{"$f":"'Bill of Materials'!M807","v":"EA"},{"$f":"'Bill of Materials'!G807","v":"5-20R 20AMP Simplex Receptacle"},{"$f":"'Bill of Materials'!L807","v":"DWC"},{"$f":"'Bill of Materials'!N807","v":6.93},{"$f":"'Bill of Materials'!P807","v":"DWC"},{"$f":"'Bill of Materials'!C807","v":"INFO-8652"},{"$f":"'Bill of Materials'!H807","v":"5-20R"},null,null,null,0,{"$f":"'Bill of Materials'!J807","v":"standard material"},{"$f":"'Bill of Materials'!K807","v":"physical"},0]
[{"$f":"'Bill of Materials'!E808+'Bill of Materials'!F808","v":0},{"$f":"'Bill of Materials'!M808","v":"EA"},{"$f":"'Bill of Materials'!G808","v":"5-20P 20AMP Single Plug"},{"$f":"'Bill of Materials'!L808","v":"DWC"},{"$f":"'Bill of Materials'!N808","v":10.69},{"$f":"'Bill of Materials'!P808","v":"DWC"},{"$f":"'Bill of Materials'!C808","v":"INFO-8653"},{"$f":"'Bill of Materials'!H808","v":"5-20P"},null,null,null,0,{"$f":"'Bill of Materials'!J808","v":"standard material"},{"$f":"'Bill of Materials'!K808","v":"physical"},0]
[{"$f":"'Bill of Materials'!E809+'Bill of Materials'!F809","v":0},{"$f":"'Bill of Materials'!M809","v":"EA"},{"$f":"'Bill of Materials'!G809","v":"L5-20R 20AMP Twist Lock Simplex Receptacle"},{"$f":"'Bill of Materials'!L809","v":"DWC"},{"$f":"'Bill of Materials'!N809","v":9.26},{"$f":"'Bill of Materials'!P809","v":"DWC"},{"$f":"'Bill of Materials'!C809","v":"INFO-8654"},{"$f":"'Bill of Materials'!H809","v":"L5-20R"},null,null,null,0,{"$f":"'Bill of Materials'!J809","v":"standard material"},{"$f":"'Bill of Materials'!K809","v":"physical"},0]
[{"$f":"'Bill of Materials'!E810+'Bill of Materials'!F810","v":0},{"$f":"'Bill of Materials'!M810","v":"EA"},{"$f":"'Bill of Materials'!G810","v":"L5-20P 20AMP Twist Lock Single Plug"},{"$f":"'Bill of Materials'!L810","v":"DWC"},{"$f":"'Bill of Materials'!N810","v":10.15},{"$f":"'Bill of Materials'!P810","v":"DWC"},{"$f":"'Bill of Materials'!C810","v":"INFO-8655"},{"$f":"'Bill of Materials'!H810","v":"L5-20P"},null,null,null,0,{"$f":"'Bill of Materials'!J810","v":"standard material"},{"$f":"'Bill of Materials'!K810","v":"physical"},0]
[{"$f":"'Bill of Materials'!E812+'Bill of Materials'!F812","v":0},{"$f":"'Bill of Materials'!M812","v":"EA"},{"$f":"'Bill of Materials'!G812","v":"UPS Unit Rear of Chassis Support Bracket w/Leveling Feet"},{"$f":"'Bill of Materials'!L812","v":"DWC"},{"$f":"'Bill of Materials'!N812","v":123.75},{"$f":"'Bill of Materials'!P812","v":"DWC"},{"$f":"'Bill of Materials'!C812","v":"0094-49R3"},{"$f":"'Bill of Materials'!H812","v":"UPS-SUPP-BRKT"},null,null,null,0,{"$f":"'Bill of Materials'!J812","v":"standard material"},{"$f":"'Bill of Materials'!K812","v":"physical"},0]
[{"$f":"'Bill of Materials'!E813+'Bill of Materials'!F813","v":0},{"$f":"'Bill of Materials'!M813","v":"EA"},{"$f":"'Bill of Materials'!G813","v":"APC Rack Automatic Transfer Switch , Input: 100V/120V, Input Connections: (2) 5-15P , Cord Length: 8 feet, Output: 100V/120V , Output Connections: (8) 5-15R, 1RU\r\n"},{"$f":"'Bill of Materials'!L813","v":"APC"},{"$f":"'Bill of Materials'!N813","v":568.65},{"$f":"'Bill of Materials'!P813","v":"DWC"},{"$f":"'Bill of Materials'!C813","v":"10071"},{"$f":"'Bill of Materials'!H813","v":"AP7750"},null,null,null,0,{"$f":"'Bill of Materials'!J813","v":"standard material"},{"$f":"'Bill of Materials'!K813","v":"physical"},0]
[{"$f":"'Bill of Materials'!E814+'Bill of Materials'!F814","v":0},{"$f":"'Bill of Materials'!M814","v":"EA"},{"$f":"'Bill of Materials'!G814","v":"Rack Automatic Transfer Switch ATS, 120V, 20A, L5-20 IN, (10) 5-20R OUT, 1RU"},{"$f":"'Bill of Materials'!L814","v":"APC"},{"$f":"'Bill of Materials'!N814","v":737.95},{"$f":"'Bill of Materials'!P814","v":"DWC"},{"$f":"'Bill of Materials'!C814","v":"10072"},{"$f":"'Bill of Materials'!H814","v":"AP7752"},null,null,null,0,{"$f":"'Bill of Materials'!J814","v":"standard material"},{"$f":"'Bill of Materials'!K814","v":"physical"},0]
[{"$f":"'Bill of Materials'!E815+'Bill of Materials'!F815","v":0},{"$f":"'Bill of Materials'!M815","v":"EA"},{"$f":"'Bill of Materials'!G815","v":"APC Smart-UPS RT 208-120V Step-Down Transformer, 2RU"},{"$f":"'Bill of Materials'!L815","v":"APC"},{"$f":"'Bill of Materials'!N815","v":536.4},{"$f":"'Bill of Materials'!P815","v":"DWC"},{"$f":"'Bill of Materials'!C815","v":"10073"},{"$f":"'Bill of Materials'!H815","v":"AP9626"},null,null,null,0,{"$f":"'Bill of Materials'!J815","v":"standard material"},{"$f":"'Bill of Materials'!K815","v":"physical"},0]
[{"$f":"'Bill of Materials'!E816+'Bill of Materials'!F816","v":0},{"$f":"'Bill of Materials'!M816","v":"EA"},{"$f":"'Bill of Materials'!G816","v":"APC Backplate kit with (1) L5-30R and (6) 5-15R for SUA 2200 and 3000VA 3U/5U Models "},{"$f":"'Bill of Materials'!L816","v":"APC"},{"$f":"'Bill of Materials'!N816","v":82.1},{"$f":"'Bill of Materials'!P816","v":"DWC"},{"$f":"'Bill of Materials'!C816","v":"10163"},{"$f":"'Bill of Materials'!H816","v":"SUA027RM"},null,null,null,0,{"$f":"'Bill of Materials'!J816","v":"standard material"},{"$f":"'Bill of Materials'!K816","v":"physical"},0]
[{"$f":"'Bill of Materials'!#REF!+'Bill of Materials'!#REF!","v":{"$error":"#REF!"}},{"$f":"'Bill of Materials'!#REF!","v":{"$error":"#REF!"}},{"$f":"'Bill of Materials'!#REF!","v":{"$error":"#REF!"}},{"$f":"'Bill of Materials'!#REF!","v":{"$error":"#REF!"}},{"$f":"'Bill of Materials'!#REF!","v":{"$error":"#REF!"}},{"$f":"'Bill of Materials'!#REF!","v":{"$error":"#REF!"}},{"$f":"'Bill of Materials'!#REF!","v":{"$error":"#REF!"}},{"$f":"'Bill of Materials'!#REF!","v":{"$error":"#REF!"}},null,null,null,{"$error":"#REF!"},{"$f":"'Bill of Materials'!#REF!","v":{"$error":"#REF!"}},{"$f":"'Bill of Materials'!#REF!","v":{"$error":"#REF!"}},{"$error":"#REF!"}]
[{"$f":"'Bill of Materials'!E817+'Bill of Materials'!F817","v":0},{"$f":"'Bill of Materials'!M817","v":"EA"},{"$f":"'Bill of Materials'!G817","v":"APC Smart-UPS RT 48V RM Battery Pack for SUA2200RMXL3U, 3RU"},{"$f":"'Bill of Materials'!L817","v":"APC"},{"$f":"'Bill of Materials'!N817","v":669.75},{"$f":"'Bill of Materials'!P817","v":"DWC"},{"$f":"'Bill of Materials'!C817","v":"10165"},{"$f":"'Bill of Materials'!H817","v":"SUA48RMXLBP3U"},null,null,null,0,{"$f":"'Bill of Materials'!J817","v":"standard material"},{"$f":"'Bill of Materials'!K817","v":"physical"},0]
[{"$f":"'Bill of Materials'!E818+'Bill of Materials'!F818","v":0},{"$f":"'Bill of Materials'!M818","v":"EA"},{"$f":"'Bill of Materials'!G818","v":"APC Smart-UPS RT 48V RM Battery Pack for SURTA1500RMXL2U, 2RU"},{"$f":"'Bill of Materials'!L818","v":"APC"},{"$f":"'Bill of Materials'!N818","v":584.4},{"$f":"'Bill of Materials'!P818","v":"DWC"},{"$f":"'Bill of Materials'!C818","v":"10166"},{"$f":"'Bill of Materials'!H818","v":"SURTA48RMXLBP2U"},null,null,null,0,{"$f":"'Bill of Materials'!J818","v":"standard material"},{"$f":"'Bill of Materials'!K818","v":"physical"},0]
[{"$f":"'Bill of Materials'!E819+'Bill of Materials'!F819","v":0},{"$f":"'Bill of Materials'!M819","v":"EA"},{"$f":"'Bill of Materials'!G819","v":"Configure 1500-5000 UPS Units - Labor Only"},{"$f":"'Bill of Materials'!L819","v":"DWC"},{"$f":"'Bill of Materials'!N819","v":101.25},{"$f":"'Bill of Materials'!P819","v":"DWC"},{"$f":"'Bill of Materials'!C819","v":"10172"},{"$f":"'Bill of Materials'!H819","v":"UPS-C-L"},null,null,null,0,{"$f":"'Bill of Materials'!J819","v":"standard material"},{"$f":"'Bill of Materials'!K819","v":"physical"},0]
[{"$f":"'Bill of Materials'!E820+'Bill of Materials'!F820","v":0},{"$f":"'Bill of Materials'!M820","v":"EA"},{"$f":"'Bill of Materials'!G820","v":"1 year Extended Warranty (for concurrent sales) SUA1500RM2U (Brings total warranty to 3 years)"},{"$f":"'Bill of Materials'!L820","v":"APC"},{"$f":"'Bill of Materials'!N820","v":75.8},{"$f":"'Bill of Materials'!P820","v":"DWC"},{"$f":"'Bill of Materials'!C820","v":"10174"},{"$f":"'Bill of Materials'!H820","v":"WBEXTWAR1YR-SP-03"},null,null,null,{"$f":"E844*A844","v":0},{"$f":"'Bill of Materials'!J820","v":"standard material"},{"$f":"'Bill of Materials'!K820","v":"physical"},{"$f":"IF(A844>0,1,0)","v":0}]
[{"$f":"'Bill of Materials'!E821+'Bill of Materials'!F821","v":0},{"$f":"'Bill of Materials'!M821","v":"EA"},{"$f":"'Bill of Materials'!G821","v":"1 year Extended Warranty (for concurrent sales) SUA2200RMXL3U (Brings total warranty to 3 years)"},{"$f":"'Bill of Materials'!L821","v":"APC"},{"$f":"'Bill of Materials'!N821","v":145.19999999999999},{"$f":"'Bill of Materials'!P821","v":"DWC"},{"$f":"'Bill of Materials'!C821","v":"10175"},{"$f":"'Bill of Materials'!H821","v":"WBEXTWAR1YR-SP-04"},null,null,null,0,{"$f":"'Bill of Materials'!J821","v":"standard material"},{"$f":"'Bill of Materials'!K821","v":"physical"},0]
[{"$f":"'Bill of Materials'!E822+'Bill of Materials'!F822","v":0},{"$f":"'Bill of Materials'!M822","v":"EA"},{"$f":"'Bill of Materials'!G822","v":"1 Year Extended Warranty (for concurrent sales) SURTA1500RMXL2U or SURTD5000RMXLT (Brings total warranty to 3 years)"},{"$f":"'Bill of Materials'!L822","v":"APC"},{"$f":"'Bill of Materials'!N822","v":284.10000000000002},{"$f":"'Bill of Materials'!P822","v":"DWC"},{"$f":"'Bill of Materials'!C822","v":"10176"},{"$f":"'Bill of Materials'!H822","v":"WBEXTWAR1YR-SP-05"},null,null,null,0,{"$f":"'Bill of Materials'!J822","v":"standard material"},{"$f":"'Bill of Materials'!K822","v":"physical"},0]
[{"$f":"'Bill of Materials'!E823+'Bill of Materials'!F823","v":0},{"$f":"'Bill of Materials'!M823","v":"EA"},{"$f":"'Bill of Materials'!G823","v":"APC smart -UPS RT, 5000VA/3500W, Input 208V, Interface port DB-25 RS-232, Smart Slot, Extended runtime model, 3 RU."},{"$f":"'Bill of Materials'!L823","v":"APC"},{"$f":"'Bill of Materials'!N823","v":3064.05},{"$f":"'Bill of Materials'!P823","v":"DWC"},{"$f":"'Bill of Materials'!C823","v":"1018-1CLW"},{"$f":"'Bill of Materials'!H823","v":"SURTD5000RMXLT"},null,null,null,0,{"$f":"'Bill of Materials'!J823","v":"standard material"},{"$f":"'Bill of Materials'!K823","v":"physical"},0]
[{"$f":"'Bill of Materials'!E824+'Bill of Materials'!F824","v":0},{"$f":"'Bill of Materials'!M824","v":"EA"},{"$f":"'Bill of Materials'!G824","v":"APC Smart-UPS RT, 1050 Watts / 1500 VA, Input 120V / Output 120V, Interface Port DB-9 RS-232, Smart-Slot, USB, Extended runtime model, Rack Height 2RU"},{"$f":"'Bill of Materials'!L824","v":"APC"},{"$f":"'Bill of Materials'!N824","v":900.9},{"$f":"'Bill of Materials'!P824","v":"DWC"},{"$f":"'Bill of Materials'!C824","v":"1018-1CLX"},{"$f":"'Bill of Materials'!H824","v":"SURTA1500RMXL2U"},null,null,null,0,{"$f":"'Bill of Materials'!J824","v":"standard material"},{"$f":"'Bill of Materials'!K824","v":"physical"},0]
[{"$f":"'Bill of Materials'!E825+'Bill of Materials'!F825","v":0},{"$f":"'Bill of Materials'!M825","v":"EA"},{"$f":"'Bill of Materials'!G825","v":"APC Smart-UPS RT, 2100 Watts/3000VA, Rack Mount/Tower Mount, Input 120V, L5-30P/Output 120V, (6) 5-15R, (2) 5-20R, Smart Slot-NO Card, Order WEB/SNMP Card #AP9630, Rack Height 3RU"},{"$f":"'Bill of Materials'!L825","v":"APC"},{"$f":"'Bill of Materials'!N825","v":1980},{"$f":"'Bill of Materials'!P825","v":"DWC"},{"$f":"'Bill of Materials'!C825","v":"10274"},{"$f":"'Bill of Materials'!H825","v":"SURTA3000RMXL3U"},null,null,null,0,{"$f":"'Bill of Materials'!J825","v":"standard material"},{"$f":"'Bill of Materials'!K825","v":"physical"},0]
[{"$f":"'Bill of Materials'!E826+'Bill of Materials'!F826","v":0},{"$f":"'Bill of Materials'!M826","v":"EA"},{"$f":"'Bill of Materials'!G826","v":"APC Smart-UPS RT, 4000 Watts/5000VA, Rack Mount/Tower Mount, Input 208V, L14-30P/Output 120V, (4) 5-15R, (1) L14-30R, (1) L6-30, Smart Slot-Inclds Card WEB/SNMP Card #AP9619, Rack Height 3RU"},{"$f":"'Bill of Materials'!L826","v":"APC"},{"$f":"'Bill of Materials'!N826","v":3690},{"$f":"'Bill of Materials'!P826","v":"DWC"},{"$f":"'Bill of Materials'!C826","v":"10275"},{"$f":"'Bill of Materials'!H826","v":"SURTD5000RMXLP3U"},null,null,null,0,{"$f":"'Bill of Materials'!J826","v":"standard material"},{"$f":"'Bill of Materials'!K826","v":"physical"},0]
[{"$f":"'Bill of Materials'!E827+'Bill of Materials'!F827","v":0},{"$f":"'Bill of Materials'!M827","v":"EA"},{"$f":"'Bill of Materials'!G827","v":"APC Smart-UPS RT, 2100 Watts/3000VA, Rack Mount/Tower Mount, Input 208V, L6-30P/Output 208V, (2) L6-20R, (2) L6-30R,Smart Slot-No Card, Order WEB/SNMP Card #AP9630, Rack Height 3RU"},{"$f":"'Bill of Materials'!L827","v":"APC"},{"$f":"'Bill of Materials'!N827","v":1980},{"$f":"'Bill of Materials'!P827","v":"DWC"},{"$f":"'Bill of Materials'!C827","v":"10276"},{"$f":"'Bill of Materials'!H827","v":"SURTD3000RMXLT3U"},null,null,null,0,{"$f":"'Bill of Materials'!J827","v":"standard material"},{"$f":"'Bill of Materials'!K827","v":"physical"},0]
[{"$f":"'Bill of Materials'!E828+'Bill of Materials'!F828","v":0},{"$f":"'Bill of Materials'!M828","v":"EA"},{"$f":"'Bill of Materials'!G828","v":"APC Smart-UPS RT, 4000 Watts/5000VA, Rack Mount/Tower Mount, Input 208V, L6-30P/Output 208V, (2) L6-20R, (2) L6-30R, Smart Slot-Inclds Card WEB/SNMP Card #AP9619, Rack Height 3RU"},{"$f":"'Bill of Materials'!L828","v":"APC"},{"$f":"'Bill of Materials'!N828","v":3195},{"$f":"'Bill of Materials'!P828","v":"DWC"},{"$f":"'Bill of Materials'!C828","v":"10277"},{"$f":"'Bill of Materials'!H828","v":"SURTD5000RMXLT3U"},null,null,null,0,{"$f":"'Bill of Materials'!J828","v":"standard material"},{"$f":"'Bill of Materials'!K828","v":"physical"},0]
[{"$f":"'Bill of Materials'!E829+'Bill of Materials'!F829","v":0},{"$f":"'Bill of Materials'!M829","v":"EA"},{"$f":"'Bill of Materials'!G829","v":"APC Smart-UPS RT, 4200 Watts/6000VA, Rack Mount/Tower Mount, Input 208V, L6-30P/Output 208V, (2) L6-20R, (2) L6-30R, Smart Slot-Inclds Card WEB/SNMP Card #AP9619, Rack Height 3RU"},{"$f":"'Bill of Materials'!L829","v":"APC"},{"$f":"'Bill of Materials'!N829","v":3510},{"$f":"'Bill of Materials'!P829","v":"DWC"},{"$f":"'Bill of Materials'!C829","v":"10278"},{"$f":"'Bill of Materials'!H829","v":"SURT6000RMXLT3U"},null,null,null,0,{"$f":"'Bill of Materials'!J829","v":"standard material"},{"$f":"'Bill of Materials'!K829","v":"physical"},0]
[{"$f":"'Bill of Materials'!E830+'Bill of Materials'!F830","v":0},{"$f":"'Bill of Materials'!M830","v":"EA"},{"$f":"'Bill of Materials'!G830","v":"APC Smart-UPS RT, 6400 Watts/8000VA, Rack Mount/Tower Mount, Input 208V-240V, Hard Wire, 3 Wire-2PH + G/Output 208V, (1) Hard Wire, 3 Wire-2PH + G, (2) L6-20R, (2) L6-30R, Smart Slot-Inclds Card WEB/SNMP Card #AP9619, Rack Height 6RU"},{"$f":"'Bill of Materials'!L830","v":"APC"},{"$f":"'Bill of Materials'!N830","v":4455},{"$f":"'Bill of Materials'!P830","v":"DWC"},{"$f":"'Bill of Materials'!C830","v":"10279"},{"$f":"'Bill of Materials'!H830","v":"SURT8000RMXLT6U"},null,null,null,0,{"$f":"'Bill of Materials'!J830","v":"standard material"},{"$f":"'Bill of Materials'!K830","v":"physical"},0]
[{"$f":"'Bill of Materials'!E831+'Bill of Materials'!F831","v":0},{"$f":"'Bill of Materials'!M831","v":"EA"},{"$f":"'Bill of Materials'!G831","v":"APC Smart-UPS RT, 8000 Watts/10000VA, Rack Mount/Tower Mount, Input 208V-240V, Hard Wire, 3 Wire-2PH + G/Output 208V, (1) Hard Wire, 3 Wire-2PH + G, (2) L6-20R, (2) L6-30R, Smart Slot-Inclds Card WEB/SNMP Card #AP9619, Rack Height 6RU"},{"$f":"'Bill of Materials'!L831","v":"APC"},{"$f":"'Bill of Materials'!N831","v":5265},{"$f":"'Bill of Materials'!P831","v":"DWC"},{"$f":"'Bill of Materials'!C831","v":"10280"},{"$f":"'Bill of Materials'!H831","v":"SURT10000RMXLT6U"},null,null,null,0,{"$f":"'Bill of Materials'!J831","v":"standard material"},{"$f":"'Bill of Materials'!K831","v":"physical"},0]
[{"$f":"'Bill of Materials'!E832+'Bill of Materials'!F832","v":0},{"$f":"'Bill of Materials'!M832","v":"EA"},{"$f":"'Bill of Materials'!G832","v":"APC Smart-UPS RT, 12kW/15kVA, Rack Mount, Input 208V-240V, Hard Wire, 3 Wire-2PH + G/Output 208V, (1) Hard Wire, 3 Wire-2PH + G, (4) L6-20R, (2) L6-30R, Smart Slot-Inclds Card WEB/SNMP Card #AP9631, Rack Height 12RU"},{"$f":"'Bill of Materials'!L832","v":"APC"},{"$f":"'Bill of Materials'!N832","v":9180},{"$f":"'Bill of Materials'!P832","v":"DWC"},{"$f":"'Bill of Materials'!C832","v":"10281"},{"$f":"'Bill of Materials'!H832","v":"SURT15KRMXLT"},null,null,null,0,{"$f":"'Bill of Materials'!J832","v":"standard material"},{"$f":"'Bill of Materials'!K832","v":"physical"},0]
[{"$f":"'Bill of Materials'!E833+'Bill of Materials'!F833","v":0},{"$f":"'Bill of Materials'!M833","v":"EA"},{"$f":"'Bill of Materials'!G833","v":"APC Smart-UPS RT, 16kW/20kVA, Rack Mount, Input 208V-240V, Hard Wire, 3 Wire-2PH + G/Output 208V, (1) Hard Wire, 3 Wire-2PH + G, (4) L6-20R, (2) L6-30R, Smart Slot-Inclds Card WEB/SNMP Card #AP9631, Rack Height 12RU"},{"$f":"'Bill of Materials'!L833","v":"APC"},{"$f":"'Bill of Materials'!N833","v":10350},{"$f":"'Bill of Materials'!P833","v":"DWC"},{"$f":"'Bill of Materials'!C833","v":"10282"},{"$f":"'Bill of Materials'!H833","v":"SURT20KRMXLT"},null,null,null,0,{"$f":"'Bill of Materials'!J833","v":"standard material"},{"$f":"'Bill of Materials'!K833","v":"physical"},0]
[{"$f":"'Bill of Materials'!E834+'Bill of Materials'!F834","v":0},{"$f":"'Bill of Materials'!M834","v":"EA"},{"$f":"'Bill of Materials'!G834","v":"Service Pack 1 Year Warranty Extension (for new product purchases)"},{"$f":"'Bill of Materials'!L834","v":"APC"},{"$f":"'Bill of Materials'!N834","v":593.1},{"$f":"'Bill of Materials'!P834","v":"DWC"},{"$f":"'Bill of Materials'!C834","v":"10283"},{"$f":"'Bill of Materials'!H834","v":"WBEXTWAR1YR-SP-06"},null,null,null,0,{"$f":"'Bill of Materials'!J834","v":"standard material"},{"$f":"'Bill of Materials'!K834","v":"physical"},0]
[{"$f":"'Bill of Materials'!#REF!+'Bill of Materials'!#REF!","v":{"$error":"#REF!"}},{"$f":"'Bill of Materials'!#REF!","v":{"$error":"#REF!"}},{"$f":"'Bill of Materials'!#REF!","v":{"$error":"#REF!"}},{"$f":"'Bill of Materials'!#REF!","v":{"$error":"#REF!"}},{"$f":"'Bill of Materials'!#REF!","v":{"$error":"#REF!"}},{"$f":"'Bill of Materials'!#REF!","v":{"$error":"#REF!"}},{"$f":"'Bill of Materials'!#REF!","v":{"$error":"#REF!"}},{"$f":"'Bill of Materials'!#REF!","v":{"$error":"#REF!"}},null,null,null,{"$error":"#REF!"},{"$f":"'Bill of Materials'!#REF!","v":{"$error":"#REF!"}},{"$f":"'Bill of Materials'!#REF!","v":{"$error":"#REF!"}},{"$error":"#REF!"}]
[{"$f":"'Bill of Materials'!E835+'Bill of Materials'!F835","v":0},{"$f":"'Bill of Materials'!M835","v":"EA"},{"$f":"'Bill of Materials'!G835","v":"Service Pack 1 Year Warranty Extension (for new product purchases)"},{"$f":"'Bill of Materials'!L835","v":"APC"},{"$f":"'Bill of Materials'!N835","v":990},{"$f":"'Bill of Materials'!P835","v":"DWC"},{"$f":"'Bill of Materials'!C835","v":"10284"},{"$f":"'Bill of Materials'!H835","v":"WBEXTWAR1YR-SP-07"},null,null,null,0,{"$f":"'Bill of Materials'!J835","v":"standard material"},{"$f":"'Bill of Materials'!K835","v":"physical"},0]
[{"$f":"'Bill of Materials'!E836+'Bill of Materials'!F836","v":0},{"$f":"'Bill of Materials'!M836","v":"EA"},{"$f":"'Bill of Materials'!G836","v":"UPS APC WEB/SNMP Management Card"},{"$f":"'Bill of Materials'!L836","v":"APC"},{"$f":"'Bill of Materials'!N836","v":255.87},{"$f":"'Bill of Materials'!P836","v":"DWC"},{"$f":"'Bill of Materials'!C836","v":"10286"},{"$f":"'Bill of Materials'!H836","v":"AP9630"},null,null,null,0,{"$f":"'Bill of Materials'!J836","v":"standard material"},{"$f":"'Bill of Materials'!K836","v":"physical"},0]
[{"$f":"'Bill of Materials'!E837+'Bill of Materials'!F837","v":0},{"$f":"'Bill of Materials'!M837","v":"EA"},{"$f":"'Bill of Materials'!G837","v":"APC Smart-UPS X 2000VA Rack/Tower LCD 100-127V"},{"$f":"'Bill of Materials'!L837","v":"APC"},{"$f":"'Bill of Materials'!N837","v":1242.5},{"$f":"'Bill of Materials'!P837","v":"DWC"},{"$f":"'Bill of Materials'!C837","v":"10517"},{"$f":"'Bill of Materials'!H837","v":"SMX2000RMLV2U"},null,null,null,0,{"$f":"'Bill of Materials'!J837","v":"standard material"},{"$f":"'Bill of Materials'!K837","v":"physical"},0]
[{"$f":"'Bill of Materials'!E838+'Bill of Materials'!F838","v":0},{"$f":"'Bill of Materials'!M838","v":"EA"},{"$f":"'Bill of Materials'!G838","v":"Extended Run Time Battery Pack, APC Smart-UPS RT 192V Rack Mounted 3RU"},{"$f":"'Bill of Materials'!L838","v":"APC"},{"$f":"'Bill of Materials'!N838","v":930.6},{"$f":"'Bill of Materials'!P838","v":"DWC"},{"$f":"'Bill of Materials'!C838","v":"1063-0197"},{"$f":"'Bill of Materials'!H838","v":"SURT192RMXLBP3U"},null,null,null,0,{"$f":"'Bill of Materials'!J838","v":"standard material"},{"$f":"'Bill of Materials'!K838","v":"physical"},0]
[{"$f":"'Bill of Materials'!E839+'Bill of Materials'!F839","v":0},{"$f":"'Bill of Materials'!M839","v":"EA"},{"$f":"'Bill of Materials'!G839","v":"APC Smart- UPS 1500VA, 2RU Rack Mounted, 120V (6) NEMA 5-15 outlets for use with Cisco 3750"},{"$f":"'Bill of Materials'!L839","v":"APC"},{"$f":"'Bill of Materials'!N839","v":596.08000000000004},{"$f":"'Bill of Materials'!P839","v":"DWC"},{"$f":"'Bill of Materials'!C839","v":"INFO-8716"},{"$f":"'Bill of Materials'!H839","v":"SUA1500RM2U"},null,null,null,0,{"$f":"'Bill of Materials'!J839","v":"standard material"},{"$f":"'Bill of Materials'!K839","v":"physical"},0]
[{"$f":"'Bill of Materials'!E841+'Bill of Materials'!F841","v":0},{"$f":"'Bill of Materials'!M841","v":"EA"},{"$f":"'Bill of Materials'!G841","v":"Multipair Cable Shield Bond Connector (Alligator Type)"},{"$f":"'Bill of Materials'!L841","v":"3M"},{"$f":"'Bill of Materials'!N841","v":1.45},{"$f":"'Bill of Materials'!P841","v":"DWC"},{"$f":"'Bill of Materials'!C841","v":"10036"},{"$f":"'Bill of Materials'!H841","v":"4460-S"},null,null,null,0,{"$f":"'Bill of Materials'!J841","v":"standard material"},{"$f":"'Bill of Materials'!K841","v":"physical"},0]
[{"$f":"'Bill of Materials'!E842+'Bill of Materials'!F842","v":0},{"$f":"'Bill of Materials'!M842","v":"EA"},{"$f":"'Bill of Materials'!G842","v":"40ft. Cat 3 25 Pair Telco Cable, 180 male/dead end"},{"$f":"'Bill of Materials'!L842","v":"DWC"},{"$f":"'Bill of Materials'!N842","v":59.2},{"$f":"'Bill of Materials'!P842","v":"DWC"},{"$f":"'Bill of Materials'!C842","v":"10098"},{"$f":"'Bill of Materials'!H842","v":"DWT-25CAT3M/B-40"},null,null,null,0,{"$f":"'Bill of Materials'!J842","v":"standard material"},{"$f":"'Bill of Materials'!K842","v":"horizontal"},0]
[{"$f":"'Bill of Materials'!E843+'Bill of Materials'!F843","v":0},{"$f":"'Bill of Materials'!M843","v":"EA"},{"$f":"'Bill of Materials'!G843","v":"50ft. Cat 3 25 Pair Telco Cable, 180 male/dead end"},{"$f":"'Bill of Materials'!L843","v":"DWC"},{"$f":"'Bill of Materials'!N843","v":67.7},{"$f":"'Bill of Materials'!P843","v":"DWC"},{"$f":"'Bill of Materials'!C843","v":"10099"},{"$f":"'Bill of Materials'!H843","v":"DWT-25CAT3M/B-50"},null,null,null,0,{"$f":"'Bill of Materials'!J843","v":"standard material"},{"$f":"'Bill of Materials'!K843","v":"horizontal"},0]
[{"$f":"'Bill of Materials'!E844+'Bill of Materials'!F844","v":0},{"$f":"'Bill of Materials'!M844","v":"EA"},{"$f":"'Bill of Materials'!G844","v":"20ft Cat 3 25 pair Cable, 180 male/dead end"},{"$f":"'Bill of Materials'!L844","v":"Leviton"},{"$f":"'Bill of Materials'!N844","v":8.81},{"$f":"'Bill of Materials'!P844","v":"DWC"},{"$f":"'Bill of Materials'!C844","v":"INFO-2478"},{"$f":"'Bill of Materials'!H844","v":"G32-V25PR-20G"},null,null,null,0,{"$f":"'Bill of Materials'!J844","v":"standard material"},{"$f":"'Bill of Materials'!K844","v":"physical"},0]
[{"$f":"'Bill of Materials'!E845+'Bill of Materials'!F845","v":0},{"$f":"'Bill of Materials'!M845","v":"EA"},{"$f":"'Bill of Materials'!G845","v":"25ft Cat 3 25 pair Cable, 180 male/dead end"},{"$f":"'Bill of Materials'!L845","v":"Leviton"},{"$f":"'Bill of Materials'!N845","v":9.01},{"$f":"'Bill of Materials'!P845","v":"DWC"},{"$f":"'Bill of Materials'!C845","v":"INFO-2479"},{"$f":"'Bill of Materials'!H845","v":"G33-V25PR-25G"},null,null,null,0,{"$f":"'Bill of Materials'!J845","v":"standard material"},{"$f":"'Bill of Materials'!K845","v":"physical"},0]
[{"$f":"'Bill of Materials'!E846+'Bill of Materials'!F846","v":0},{"$f":"'Bill of Materials'!M846","v":"EA"},{"$f":"'Bill of Materials'!G846","v":"30ft Cat 3 25 pair Cable, 180 male/dead end"},{"$f":"'Bill of Materials'!L846","v":"Leviton"},{"$f":"'Bill of Materials'!N846","v":11.1},{"$f":"'Bill of Materials'!P846","v":"DWC"},{"$f":"'Bill of Materials'!C846","v":"INFO-2480"},{"$f":"'Bill of Materials'!H846","v":"G34-V25PR-30G"},null,null,null,0,{"$f":"'Bill of Materials'!J846","v":"standard material"},{"$f":"'Bill of Materials'!K846","v":"physical"},0]
[{"$f":"'Bill of Materials'!E847+'Bill of Materials'!F847","v":0},{"$f":"'Bill of Materials'!M847","v":"FT"},{"$f":"'Bill of Materials'!G847","v":"24 AWG ANMW-25 PAIR OUTDOOR RATED CABLE"},{"$f":"'Bill of Materials'!L847","v":"Superior Essex"},{"$f":"'Bill of Materials'!N847","v":0.8},{"$f":"'Bill of Materials'!P847","v":"DWC"},{"$f":"'Bill of Materials'!C847","v":"INFO-5101"},{"$f":"'Bill of Materials'!H847","v":"22-097-83"},null,null,null,0,{"$f":"'Bill of Materials'!J847","v":"standard material"},{"$f":"'Bill of Materials'!K847","v":"physical"},0]
[{"$f":"'Bill of Materials'!E848+'Bill of Materials'!F848","v":0},{"$f":"'Bill of Materials'!M848","v":"FT"},{"$f":"'Bill of Materials'!G848","v":"24 AWG ARMM-25 PAIR RISER RATED CABLE"},{"$f":"'Bill of Materials'!L848","v":"Superior Essex"},{"$f":"'Bill of Materials'!N848","v":0.77},{"$f":"'Bill of Materials'!P848","v":"DWC"},{"$f":"'Bill of Materials'!C848","v":"INFO-5102"},{"$f":"'Bill of Materials'!H848","v":"02-097-03"},null,null,null,0,{"$f":"'Bill of Materials'!J848","v":"standard material"},{"$f":"'Bill of Materials'!K848","v":"physical"},0]
[{"$f":"'Bill of Materials'!E849+'Bill of Materials'!F849","v":0},{"$f":"'Bill of Materials'!M849","v":"FT"},{"$f":"'Bill of Materials'!G849","v":"24 AWG ARMM-50 PAIR RISER RATED CABLE"},{"$f":"'Bill of Materials'!L849","v":"Superior Essex"},{"$f":"'Bill of Materials'!N849","v":1.33},{"$f":"'Bill of Materials'!P849","v":"DWC"},{"$f":"'Bill of Materials'!C849","v":"INFO-5103"},{"$f":"'Bill of Materials'!H849","v":"02-100-03"},null,null,null,0,{"$f":"'Bill of Materials'!J849","v":"standard material"},{"$f":"'Bill of Materials'!K849","v":"physical"},0]
[{"$f":"'Bill of Materials'!E850+'Bill of Materials'!F850","v":0},{"$f":"'Bill of Materials'!M850","v":"FT"},{"$f":"'Bill of Materials'!G850","v":"24 AWG ARMM-100 PAIR RISER RATED CABLE"},{"$f":"'Bill of Materials'!L850","v":"Superior Essex"},{"$f":"'Bill of Materials'!N850","v":2.4900000000000002},{"$f":"'Bill of Materials'!P850","v":"DWC"},{"$f":"'Bill of Materials'!C850","v":"INFO-5104"},{"$f":"'Bill of Materials'!H850","v":"02-104-03"},null,null,null,0,{"$f":"'Bill of Materials'!J850","v":"standard material"},{"$f":"'Bill of Materials'!K850","v":"physical"},0]
[{"$f":"'Bill of Materials'!E851+'Bill of Materials'!F851","v":0},{"$f":"'Bill of Materials'!M851","v":"FT"},{"$f":"'Bill of Materials'!G851","v":"24 AWG ARMM-200 PAIR RISER RATED CABLE"},{"$f":"'Bill of Materials'!L851","v":"Superior Essex"},{"$f":"'Bill of Materials'!N851","v":4.8499999999999996},{"$f":"'Bill of Materials'!P851","v":"DWC"},{"$f":"'Bill of Materials'!C851","v":"INFO-5105"},{"$f":"'Bill of Materials'!H851","v":"02-108-03"},null,null,null,0,{"$f":"'Bill of Materials'!J851","v":"standard material"},{"$f":"'Bill of Materials'!K851","v":"physical"},0]
[{"$f":"'Bill of Materials'!E852+'Bill of Materials'!F852","v":0},{"$f":"'Bill of Materials'!M852","v":"FT"},{"$f":"'Bill of Materials'!G852","v":"24 AWG ARMM-300 PAIR RISER RATED CABLE"},{"$f":"'Bill of Materials'!L852","v":"Superior Essex"},{"$f":"'Bill of Materials'!N852","v":7.13},{"$f":"'Bill of Materials'!P852","v":"DWC"},{"$f":"'Bill of Materials'!C852","v":"INFO-5106"},{"$f":"'Bill of Materials'!H852","v":"02-110-03"},null,null,null,0,{"$f":"'Bill of Materials'!J852","v":"standard material"},{"$f":"'Bill of Materials'!K852","v":"physical"},0]
[{"$f":"'Bill of Materials'!E853+'Bill of Materials'!F853","v":0},{"$f":"'Bill of Materials'!M853","v":"FT"},{"$f":"'Bill of Materials'!G853","v":"24 AWG ARMM-600 PAIR RISER RATED CABLE"},{"$f":"'Bill of Materials'!L853","v":"Superior Essex"},{"$f":"'Bill of Materials'!N853","v":13.51},{"$f":"'Bill of Materials'!P853","v":"DWC"},{"$f":"'Bill of Materials'!C853","v":"INFO-5107"},{"$f":"'Bill of Materials'!H853","v":"02-116-03"},null,null,null,0,{"$f":"'Bill of Materials'!J853","v":"standard material"},{"$f":"'Bill of Materials'!K853","v":"physical"},0]
[{"$f":"'Bill of Materials'!E854+'Bill of Materials'!F854","v":0},{"$f":"'Bill of Materials'!M854","v":"FT"},{"$f":"'Bill of Materials'!G854","v":"24 AWG ARMM-900 PAIR RISER RATED CABLE"},{"$f":"'Bill of Materials'!L854","v":"Superior Essex"},{"$f":"'Bill of Materials'!N854","v":20.87},{"$f":"'Bill of Materials'!P854","v":"DWC"},{"$f":"'Bill of Materials'!C854","v":"INFO-5108"},{"$f":"'Bill of Materials'!H854","v":"02-118-03"},null,null,null,0,{"$f":"'Bill of Materials'!J854","v":"standard material"},{"$f":"'Bill of Materials'!K854","v":"physical"},0]
[{"$f":"'Bill of Materials'!E855+'Bill of Materials'!F855","v":0},{"$f":"'Bill of Materials'!M855","v":"FT"},{"$f":"'Bill of Materials'!G855","v":"24 AWG ARMM-1200 PAIR RISER RATED CABLE"},{"$f":"'Bill of Materials'!L855","v":"Superior Essex"},{"$f":"'Bill of Materials'!N855","v":27.55},{"$f":"'Bill of Materials'!P855","v":"DWC"},{"$f":"'Bill of Materials'!C855","v":"INFO-5109"},{"$f":"'Bill of Materials'!H855","v":"02-120-03"},null,null,null,0,{"$f":"'Bill of Materials'!J855","v":"standard material"},{"$f":"'Bill of Materials'!K855","v":"physical"},0]
[{"$f":"'Bill of Materials'!E856+'Bill of Materials'!F856","v":0},{"$f":"'Bill of Materials'!M856","v":"FT"},{"$f":"'Bill of Materials'!G856","v":"24 AWG ARMM-1800 PAIR RISER RATED CABLE"},{"$f":"'Bill of Materials'!L856","v":"Superior Essex"},{"$f":"'Bill of Materials'!N856","v":40.4},{"$f":"'Bill of Materials'!P856","v":"DWC"},{"$f":"'Bill of Materials'!C856","v":"INFO-5110"},{"$f":"'Bill of Materials'!H856","v":"02-124-03"},null,null,null,0,{"$f":"'Bill of Materials'!J856","v":"standard material"},{"$f":"'Bill of Materials'!K856","v":"physical"},0]
[{"$f":"'Bill of Materials'!E857+'Bill of Materials'!F857","v":0},{"$f":"'Bill of Materials'!M857","v":"FT"},{"$f":"'Bill of Materials'!G857","v":"24 AWG PLENUM 25PR VOICE CABLE"},{"$f":"'Bill of Materials'!L857","v":"Superior Essex"},{"$f":"'Bill of Materials'!N857","v":0.82},{"$f":"'Bill of Materials'!P857","v":"DWC"},{"$f":"'Bill of Materials'!C857","v":"INFO-5111"},{"$f":"'Bill of Materials'!H857","v":"18-475-36"},null,null,null,0,{"$f":"'Bill of Materials'!J857","v":"standard material"},{"$f":"'Bill of Materials'!K857","v":"physical"},0]
[{"$f":"'Bill of Materials'!#REF!+'Bill of Materials'!#REF!","v":{"$error":"#REF!"}},{"$f":"'Bill of Materials'!#REF!","v":{"$error":"#REF!"}},{"$f":"'Bill of Materials'!#REF!","v":{"$error":"#REF!"}},{"$f":"'Bill of Materials'!#REF!","v":{"$error":"#REF!"}},{"$f":"'Bill of Materials'!#REF!","v":{"$error":"#REF!"}},{"$f":"'Bill of Materials'!#REF!","v":{"$error":"#REF!"}},{"$f":"'Bill of Materials'!#REF!","v":{"$error":"#REF!"}},{"$f":"'Bill of Materials'!#REF!","v":{"$error":"#REF!"}},null,null,null,{"$error":"#REF!"},{"$f":"'Bill of Materials'!#REF!","v":{"$error":"#REF!"}},{"$f":"'Bill of Materials'!#REF!","v":{"$error":"#REF!"}},{"$error":"#REF!"}]
[{"$f":"'Bill of Materials'!E858+'Bill of Materials'!F858","v":0},{"$f":"'Bill of Materials'!M858","v":"FT"},{"$f":"'Bill of Materials'!G858","v":"24 AWG PLENUM 50PR VOICE CABLE"},{"$f":"'Bill of Materials'!L858","v":"Superior Essex"},{"$f":"'Bill of Materials'!N858","v":1.58},{"$f":"'Bill of Materials'!P858","v":"DWC"},{"$f":"'Bill of Materials'!C858","v":"INFO-5112"},{"$f":"'Bill of Materials'!H858","v":"18-599-86"},null,null,null,0,{"$f":"'Bill of Materials'!J858","v":"standard material"},{"$f":"'Bill of Materials'!K858","v":"physical"},0]
[{"$f":"'Bill of Materials'!E859+'Bill of Materials'!F859","v":0},{"$f":"'Bill of Materials'!M859","v":"FT"},{"$f":"'Bill of Materials'!G859","v":"24 AWG PLENUM 100PR VOICE CABLE"},{"$f":"'Bill of Materials'!L859","v":"Superior Essex"},{"$f":"'Bill of Materials'!N859","v":3.17},{"$f":"'Bill of Materials'!P859","v":"DWC"},{"$f":"'Bill of Materials'!C859","v":"INFO-5113"},{"$f":"'Bill of Materials'!H859","v":"18-799-86"},null,null,null,0,{"$f":"'Bill of Materials'!J859","v":"standard material"},{"$f":"'Bill of Materials'!K859","v":"physical"},0]
[{"$f":"'Bill of Materials'!E860+'Bill of Materials'!F860","v":0},{"$f":"'Bill of Materials'!M860","v":"FT"},{"$f":"'Bill of Materials'!G860","v":"24 AWG PLENUM 200PR VOICE CABLE"},{"$f":"'Bill of Materials'!L860","v":"Superior Essex"},{"$f":"'Bill of Materials'!N860","v":5.96},{"$f":"'Bill of Materials'!P860","v":"DWC"},{"$f":"'Bill of Materials'!C860","v":"INFO-5114"},{"$f":"'Bill of Materials'!H860","v":"18-A99-86"},null,null,null,0,{"$f":"'Bill of Materials'!J860","v":"standard material"},{"$f":"'Bill of Materials'!K860","v":"physical"},0]
[{"$f":"'Bill of Materials'!E861+'Bill of Materials'!F861","v":0},{"$f":"'Bill of Materials'!M861","v":"FT"},{"$f":"'Bill of Materials'!G861","v":"24 AWG PLENUM 300PR VOICE CABLE"},{"$f":"'Bill of Materials'!L861","v":"Superior Essex"},{"$f":"'Bill of Materials'!N861","v":9.0500000000000007},{"$f":"'Bill of Materials'!P861","v":"DWC"},{"$f":"'Bill of Materials'!C861","v":"INFO-5115"},{"$f":"'Bill of Materials'!H861","v":"18-B99-86"},null,null,null,0,{"$f":"'Bill of Materials'!J861","v":"standard material"},{"$f":"'Bill of Materials'!K861","v":"physical"},0]
[{"$f":"'Bill of Materials'!E862+'Bill of Materials'!F862","v":0},{"$f":"'Bill of Materials'!M862","v":"FT"},{"$f":"'Bill of Materials'!G862","v":"24 AWG PLENUM 400PR VOICE CABLE"},{"$f":"'Bill of Materials'!L862","v":"Berk-Tek"},{"$f":"'Bill of Materials'!N862","v":15.95},{"$f":"'Bill of Materials'!P862","v":"DWC"},{"$f":"'Bill of Materials'!C862","v":"INFO-5116"},{"$f":"'Bill of Materials'!H862","v":"230806"},null,null,null,0,{"$f":"'Bill of Materials'!J862","v":"standard material"},{"$f":"'Bill of Materials'!K862","v":"physical"},0]
[{"$f":"'Bill of Materials'!E864+'Bill of Materials'!F864","v":0},{"$f":"'Bill of Materials'!M864","v":"EA"},{"$f":"'Bill of Materials'!G864","v":"Building Entrance Protected Terminal, 100 Pair/110in/110out"},{"$f":"'Bill of Materials'!L864","v":"Circa"},{"$f":"'Bill of Materials'!N864","v":355.3},{"$f":"'Bill of Materials'!P864","v":"DWC"},{"$f":"'Bill of Materials'!C864","v":"10019"},{"$f":"'Bill of Materials'!H864","v":"1880ENA1/NSC-100"},null,null,null,0,{"$f":"'Bill of Materials'!J864","v":"standard material"},{"$f":"'Bill of Materials'!K864","v":"horizontal"},0]
[{"$f":"'Bill of Materials'!E865+'Bill of Materials'!F865","v":0},{"$f":"'Bill of Materials'!M865","v":"EA"},{"$f":"'Bill of Materials'!G865","v":"Building Entrance Terminal, 25 Pair/110in/110out"},{"$f":"'Bill of Materials'!L865","v":"Circa"},{"$f":"'Bill of Materials'!N865","v":103.6},{"$f":"'Bill of Materials'!P865","v":"DWC"},{"$f":"'Bill of Materials'!C865","v":"10020"},{"$f":"'Bill of Materials'!H865","v":"1880ENA1/NSC-25"},null,null,null,0,{"$f":"'Bill of Materials'!J865","v":"standard material"},{"$f":"'Bill of Materials'!K865","v":"horizontal"},0]
[{"$f":"'Bill of Materials'!E866+'Bill of Materials'!F866","v":0},{"$f":"'Bill of Materials'!M866","v":"EA"},{"$f":"'Bill of Materials'!G866","v":"Building Entrance Terminal, 50 Pair/110in/110out"},{"$f":"'Bill of Materials'!L866","v":"Circa"},{"$f":"'Bill of Materials'!N866","v":257.95},{"$f":"'Bill of Materials'!P866","v":"DWC"},{"$f":"'Bill of Materials'!C866","v":"10021"},{"$f":"'Bill of Materials'!H866","v":"1880ENA1/NSC-50"},null,null,null,0,{"$f":"'Bill of Materials'!J866","v":"standard material"},{"$f":"'Bill of Materials'!K866","v":"horizontal"},0]
[{"$f":"'Bill of Materials'!E867+'Bill of Materials'!F867","v":0},{"$f":"'Bill of Materials'!M867","v":"EA"},{"$f":"'Bill of Materials'!G867","v":"Nema 4 (6) pair OSP 4000 Series Multipair Service Entrance Protector 110 Style. 110in/110out"},{"$f":"'Bill of Materials'!L867","v":"Circa"},{"$f":"'Bill of Materials'!N867","v":175.1},{"$f":"'Bill of Materials'!P867","v":"DWC"},{"$f":"'Bill of Materials'!C867","v":"10032"},{"$f":"'Bill of Materials'!H867","v":"4006-110"},null,null,null,0,{"$f":"'Bill of Materials'!J867","v":"standard material"},{"$f":"'Bill of Materials'!K867","v":"horizontal"},0]
[{"$f":"'Bill of Materials'!E868+'Bill of Materials'!F868","v":0},{"$f":"'Bill of Materials'!M868","v":"EA"},{"$f":"'Bill of Materials'!G868","v":"Nema 4 (25) pair OSP 4000 Series Multipair Service Entrance Protector 110 Style. 110in/110out"},{"$f":"'Bill of Materials'!L868","v":"Circa"},{"$f":"'Bill of Materials'!N868","v":225.2},{"$f":"'Bill of Materials'!P868","v":"DWC"},{"$f":"'Bill of Materials'!C868","v":"10033"},{"$f":"'Bill of Materials'!H868","v":"4025-110"},null,null,null,0,{"$f":"'Bill of Materials'!J868","v":"standard material"},{"$f":"'Bill of Materials'!K868","v":"horizontal"},0]
[{"$f":"'Bill of Materials'!E869+'Bill of Materials'!F869","v":0},{"$f":"'Bill of Materials'!M869","v":"EA"},{"$f":"'Bill of Materials'!G869","v":"4-Pair Cat5e Building Entrance Surge/Lightning Protector"},{"$f":"'Bill of Materials'!L869","v":"Altelicon"},{"$f":"'Bill of Materials'!N869","v":68.5},{"$f":"'Bill of Materials'!P869","v":"DWC"},{"$f":"'Bill of Materials'!C869","v":"10069"},{"$f":"'Bill of Materials'!H869","v":"AL-CAT5EW"},null,null,null,0,{"$f":"'Bill of Materials'!J869","v":"standard material"},{"$f":"'Bill of Materials'!K869","v":"horizontal"},0]
[{"$f":"'Bill of Materials'!E870+'Bill of Materials'!F870","v":0},{"$f":"'Bill of Materials'!M870","v":"EA"},{"$f":"'Bill of Materials'!G870","v":"Surge Protection Modules Solid State Low Voltage Series Data Applications (Red)"},{"$f":"'Bill of Materials'!L870","v":"Circa"},{"$f":"'Bill of Materials'!N870","v":9.0500000000000007},{"$f":"'Bill of Materials'!P870","v":"DWC"},{"$f":"'Bill of Materials'!C870","v":"10087"},{"$f":"'Bill of Materials'!H870","v":"CIR-3B3S-30"},null,null,null,0,{"$f":"'Bill of Materials'!J870","v":"standard material"},{"$f":"'Bill of Materials'!K870","v":"horizontal"},0]
[{"$f":"'Bill of Materials'!E871+'Bill of Materials'!F871","v":0},{"$f":"'Bill of Materials'!M871","v":"EA"},{"$f":"'Bill of Materials'!G871","v":"20ft. CAT 3 24awg 25 Pair Telco Cable, 90 Female/Blunt (Only for Shumway)"},{"$f":"'Bill of Materials'!L871","v":"DWC"},{"$f":"'Bill of Materials'!N871","v":29.4},{"$f":"'Bill of Materials'!P871","v":"DWC"},{"$f":"'Bill of Materials'!C871","v":"10097"},{"$f":"'Bill of Materials'!H871","v":"DWT-25CAT3F/B-20"},null,null,null,0,{"$f":"'Bill of Materials'!J871","v":"standard material"},{"$f":"'Bill of Materials'!K871","v":"horizontal"},0]
[{"$f":"'Bill of Materials'!E872+'Bill of Materials'!F872","v":0},{"$f":"'Bill of Materials'!M872","v":"EA"},{"$f":"'Bill of Materials'!G872","v":"25 Pair, Category 5e Building Entrance Surge/Lightning Protector "},{"$f":"'Bill of Materials'!L872","v":"ITWLINX Communications Products"},{"$f":"'Bill of Materials'!N872","v":444.7},{"$f":"'Bill of Materials'!P872","v":"DWC"},{"$f":"'Bill of Materials'!C872","v":"10132"},{"$f":"'Bill of Materials'!H872","v":"ML25-CAT5-LAN"},null,null,null,0,{"$f":"'Bill of Materials'!J872","v":"standard material"},{"$f":"'Bill of Materials'!K872","v":"horizontal"},0]
[{"$f":"'Bill of Materials'!#REF!+'Bill of Materials'!#REF!","v":{"$error":"#REF!"}},{"$f":"'Bill of Materials'!#REF!","v":{"$error":"#REF!"}},{"$f":"'Bill of Materials'!#REF!","v":{"$error":"#REF!"}},{"$f":"'Bill of Materials'!#REF!","v":{"$error":"#REF!"}},{"$f":"'Bill of Materials'!#REF!","v":{"$error":"#REF!"}},{"$f":"'Bill of Materials'!#REF!","v":{"$error":"#REF!"}},{"$f":"'Bill of Materials'!#REF!","v":{"$error":"#REF!"}},{"$f":"'Bill of Materials'!#REF!","v":{"$error":"#REF!"}},null,null,null,{"$error":"#REF!"},{"$f":"'Bill of Materials'!#REF!","v":{"$error":"#REF!"}},{"$f":"'Bill of Materials'!#REF!","v":{"$error":"#REF!"}},{"$error":"#REF!"}]
[{"$f":"'Bill of Materials'!E873+'Bill of Materials'!F873","v":0},{"$f":"'Bill of Materials'!M873","v":"EA"},{"$f":"'Bill of Materials'!G873","v":"\"Shumway\" Telephone Fuse and Power Panel 24VDC 25 Outputs - via 50 pin male telco connector."},{"$f":"'Bill of Materials'!L873","v":"Shumway Brothers"},{"$f":"'Bill of Materials'!N873","v":525},{"$f":"'Bill of Materials'!P873","v":"DWC"},{"$f":"'Bill of Materials'!C873","v":"10160"},{"$f":"'Bill of Materials'!H873","v":"SBI 176-25-24"},null,null,null,0,{"$f":"'Bill of Materials'!J873","v":"standard material"},{"$f":"'Bill of Materials'!K873","v":"horizontal"},0]
[{"$f":"'Bill of Materials'!E874+'Bill of Materials'!F874","v":0},{"$f":"'Bill of Materials'!M874","v":"EA"},{"$f":"'Bill of Materials'!G874","v":"Building Entrance Protected Terminal, 25 Pair/110  25FT. STUB"},{"$f":"'Bill of Materials'!L874","v":"Circa"},{"$f":"'Bill of Materials'!N874","v":174.49},{"$f":"'Bill of Materials'!P874","v":"DWC"},{"$f":"'Bill of Materials'!C874","v":"INFO-5201"},{"$f":"'Bill of Materials'!H874","v":"1880B1-25"},null,null,null,0,{"$f":"'Bill of Materials'!J874","v":"standard material"},{"$f":"'Bill of Materials'!K874","v":"physical"},0]
[{"$f":"'Bill of Materials'!E875+'Bill of Materials'!F875","v":0},{"$f":"'Bill of Materials'!M875","v":"EA"},{"$f":"'Bill of Materials'!G875","v":"Building Entrance Protected Terminal, 6 Pair/110 In 110 Out"},{"$f":"'Bill of Materials'!L875","v":"Circa"},{"$f":"'Bill of Materials'!N875","v":47.03},{"$f":"'Bill of Materials'!P875","v":"DWC"},{"$f":"'Bill of Materials'!C875","v":"INFO-5202"},{"$f":"'Bill of Materials'!H875","v":"1880110US-6"},null,null,null,0,{"$f":"'Bill of Materials'!J875","v":"standard material"},{"$f":"'Bill of Materials'!K875","v":"physical"},0]
[{"$f":"'Bill of Materials'!E876+'Bill of Materials'!F876","v":0},{"$f":"'Bill of Materials'!M876","v":"EA"},{"$f":"'Bill of Materials'!G876","v":"Building Entrance Protected Terminal, 100 Pair/110  25FT. STUB"},{"$f":"'Bill of Materials'!L876","v":"Circa"},{"$f":"'Bill of Materials'!N876","v":381.15},{"$f":"'Bill of Materials'!P876","v":"DWC"},{"$f":"'Bill of Materials'!C876","v":"INFO-5203"},{"$f":"'Bill of Materials'!H876","v":"1880B1-100"},null,null,null,0,{"$f":"'Bill of Materials'!J876","v":"standard material"},{"$f":"'Bill of Materials'!K876","v":"physical"},0]
[{"$f":"'Bill of Materials'!E877+'Bill of Materials'!F877","v":0},{"$f":"'Bill of Materials'!M877","v":"EA"},{"$f":"'Bill of Materials'!G877","v":"3 Stage Gas Tube Surge Protector Unit"},{"$f":"'Bill of Materials'!L877","v":"Circa"},{"$f":"'Bill of Materials'!N877","v":2.5299999999999998},{"$f":"'Bill of Materials'!P877","v":"DWC"},{"$f":"'Bill of Materials'!C877","v":"INFO-5204"},{"$f":"'Bill of Materials'!H877","v":"CT4B1E-BAL/PTC"},null,null,null,0,{"$f":"'Bill of Materials'!J877","v":"standard material"},{"$f":"'Bill of Materials'!K877","v":"physical"},0]
[{"$f":"'Bill of Materials'!E879+'Bill of Materials'!F879","v":0},{"$f":"'Bill of Materials'!M879","v":"EA"},{"$f":"'Bill of Materials'!G879","v":"Non Plenum, RG-6, 3GHz, 75Ohm Coaxial Cable Series 1, 18 awg, Sheilded, PVC, Cable comes in 1000' reel "},{"$f":"'Bill of Materials'!L879","v":"CommScope"},{"$f":"'Bill of Materials'!N879","v":74.25},{"$f":"'Bill of Materials'!P879","v":"DWC"},{"$f":"'Bill of Materials'!C879","v":"0119-C50F"},{"$f":"'Bill of Materials'!H879","v":5730},null,null,null,0,{"$f":"'Bill of Materials'!J879","v":"standard material"},{"$f":"'Bill of Materials'!K879","v":"physical"},0]
[{"$f":"'Bill of Materials'!E880+'Bill of Materials'!F880","v":0},{"$f":"'Bill of Materials'!M880","v":"EA"},{"$f":"'Bill of Materials'!G880","v":"Non-Plenum, RG-11 Satellite 75 Ohm Coaxial Cable, 14 awg, Sheilded, PVC, Cable comes in 1000' reel "},{"$f":"'Bill of Materials'!L880","v":"CommScope"},{"$f":"'Bill of Materials'!N880","v":207.9},{"$f":"'Bill of Materials'!P880","v":"DWC"},{"$f":"'Bill of Materials'!C880","v":"0119-C50G"},{"$f":"'Bill of Materials'!H880","v":5916},null,null,null,0,{"$f":"'Bill of Materials'!J880","v":"standard material"},{"$f":"'Bill of Materials'!K880","v":"physical"},0]
[{"$f":"'Bill of Materials'!E881+'Bill of Materials'!F881","v":0},{"$f":"'Bill of Materials'!M881","v":"EA"},{"$f":"'Bill of Materials'!G881","v":"Plenum, RG-11 Satellite 75 Ohm Coaxial Cable, 14 awg, Sheilded, CMP, Cable comes in 1000' reel "},{"$f":"'Bill of Materials'!L881","v":"CommScope"},{"$f":"'Bill of Materials'!N881","v":1128.5999999999999},{"$f":"'Bill of Materials'!P881","v":"DWC"},{"$f":"'Bill of Materials'!C881","v":"0119-C50H"},{"$f":"'Bill of Materials'!H881","v":"2285K"},null,null,null,0,{"$f":"'Bill of Materials'!J881","v":"standard material"},{"$f":"'Bill of Materials'!K881","v":"physical"},0]
[{"$f":"'Bill of Materials'!E882+'Bill of Materials'!F882","v":0},{"$f":"'Bill of Materials'!M882","v":"EA"},{"$f":"'Bill of Materials'!G882","v":"Plenum, RG6, 3Ghz, 75Ohm Coaxial Cable, 18 awg, Sheilded, CMP, Cable comes in 1000' reel "},{"$f":"'Bill of Materials'!L882","v":"CommScope"},{"$f":"'Bill of Materials'!N882","v":358.38},{"$f":"'Bill of Materials'!P882","v":"DWC"},{"$f":"'Bill of Materials'!C882","v":"0119-C50J"},{"$f":"'Bill of Materials'!H882","v":"2275V"},null,null,null,0,{"$f":"'Bill of Materials'!J882","v":"standard material"},{"$f":"'Bill of Materials'!K882","v":"physical"},0]
[{"$f":"'Bill of Materials'!E883+'Bill of Materials'!F883","v":0},{"$f":"'Bill of Materials'!M883","v":"EA"},{"$f":"'Bill of Materials'!G883","v":"Angle Polished ASC, SM, Video Fiber Pigtail, 900 um, 2Meter, Simplex"},{"$f":"'Bill of Materials'!L883","v":"AFL"},{"$f":"'Bill of Materials'!N883","v":9.31},{"$f":"'Bill of Materials'!P883","v":"DWC"},{"$f":"'Bill of Materials'!C883","v":"0119-C50K"},{"$f":"'Bill of Materials'!H883","v":"C203278-002"},null,null,null,0,{"$f":"'Bill of Materials'!J883","v":"standard material"},{"$f":"'Bill of Materials'!K883","v":"physical"},0]
[{"$f":"'Bill of Materials'!E884+'Bill of Materials'!F884","v":0},{"$f":"'Bill of Materials'!M884","v":"EA"},{"$f":"'Bill of Materials'!G884","v":"RG-6 & RG-59 Replacement Blades for SCPT-6591PL Cable Stripping Tool, 10/PKG, used for  Plenum Cable ONLY"},{"$f":"'Bill of Materials'!L884","v":"Cable Prep"},{"$f":"'Bill of Materials'!N884","v":5.35},{"$f":"'Bill of Materials'!P884","v":"DWC"},{"$f":"'Bill of Materials'!C884","v":"0139-439Y"},{"$f":"'Bill of Materials'!H884","v":"RBC-6590PL"},null,null,null,{"$f":"E908*A908","v":0},{"$f":"'Bill of Materials'!J884","v":"standard material"},{"$f":"'Bill of Materials'!K884","v":"physical"},{"$f":"IF(A908>0,1,0)","v":0}]
[{"$f":"'Bill of Materials'!E885+'Bill of Materials'!F885","v":0},{"$f":"'Bill of Materials'!M885","v":"EA"},{"$f":"'Bill of Materials'!G885","v":"RG-11 Replacement Blades for SCPT-6591PL Cable Stripping Tool, 10/PKG, Plenum Cable ONLY"},{"$f":"'Bill of Materials'!L885","v":"Cable Prep"},{"$f":"'Bill of Materials'!N885","v":6.02},{"$f":"'Bill of Materials'!P885","v":"DWC"},{"$f":"'Bill of Materials'!C885","v":"0139-43A0"},{"$f":"'Bill of Materials'!H885","v":"RBC-1100PL"},null,null,null,0,{"$f":"'Bill of Materials'!J885","v":"standard material"},{"$f":"'Bill of Materials'!K885","v":"physical"},0]
[{"$f":"'Bill of Materials'!E886+'Bill of Materials'!F886","v":0},{"$f":"'Bill of Materials'!M886","v":"EA"},{"$f":"'Bill of Materials'!G886","v":"RG-11 Replacement Blades for SCPT-6591PL Cable Stripping Tool, 10/PKG, Non-Plenum Cable ONLY"},{"$f":"'Bill of Materials'!L886","v":"Cable Prep"},{"$f":"'Bill of Materials'!N886","v":55.69},{"$f":"'Bill of Materials'!P886","v":"DWC"},{"$f":"'Bill of Materials'!C886","v":"0139-43A1"},{"$f":"'Bill of Materials'!H886","v":"RBC-1100"},null,null,null,0,{"$f":"'Bill of Materials'!J886","v":"standard material"},{"$f":"'Bill of Materials'!K886","v":"physical"},0]
[{"$f":"'Bill of Materials'!E887+'Bill of Materials'!F887","v":0},{"$f":"'Bill of Materials'!M887","v":"EA"},{"$f":"'Bill of Materials'!G887","v":"RG-6 Connector, 1-piece male crimp-on, for Commscope 2275V RG-6 Plenum cable"},{"$f":"'Bill of Materials'!L887","v":"Thomas & Betts Corp."},{"$f":"'Bill of Materials'!N887","v":0.39},{"$f":"'Bill of Materials'!P887","v":"DWC"},{"$f":"'Bill of Materials'!C887","v":"0207-GD29"},{"$f":"'Bill of Materials'!H887","v":"PL56CS"},null,null,null,0,{"$f":"'Bill of Materials'!J887","v":"standard material"},{"$f":"'Bill of Materials'!K887","v":"physical"},0]
[{"$f":"'Bill of Materials'!E888+'Bill of Materials'!F888","v":0},{"$f":"'Bill of Materials'!M888","v":"EA"},{"$f":"'Bill of Materials'!G888","v":"Multi-Fit \"F\" type connectors are designed to fit a wide range of manufacturers RG-6 and RG-59 coax cables."},{"$f":"'Bill of Materials'!L888","v":"Thomas & Betts Corp."},{"$f":"'Bill of Materials'!N888","v":0.24},{"$f":"'Bill of Materials'!P888","v":"DWC"},{"$f":"'Bill of Materials'!C888","v":"0207-GD2A"},{"$f":"'Bill of Materials'!H888","v":"AMF6"},null,null,null,0,{"$f":"'Bill of Materials'!J888","v":"standard material"},{"$f":"'Bill of Materials'!K888","v":"physical"},0]
[{"$f":"'Bill of Materials'!E889+'Bill of Materials'!F889","v":0},{"$f":"'Bill of Materials'!M889","v":"EA"},{"$f":"'Bill of Materials'!G889","v":"RG-11 Connector, 1-piece male crimp-on, for Commscope 2285K RG-11 Plenum cable"},{"$f":"'Bill of Materials'!L889","v":"Thomas & Betts Corp."},{"$f":"'Bill of Materials'!N889","v":2.0299999999999998},{"$f":"'Bill of Materials'!P889","v":"DWC"},{"$f":"'Bill of Materials'!C889","v":"0207-GD2F"},{"$f":"'Bill of Materials'!H889","v":"PL11CS"},null,null,null,0,{"$f":"'Bill of Materials'!J889","v":"standard material"},{"$f":"'Bill of Materials'!K889","v":"physical"},0]
[{"$f":"'Bill of Materials'!E890+'Bill of Materials'!F890","v":0},{"$f":"'Bill of Materials'!M890","v":"EA"},{"$f":"'Bill of Materials'!G890","v":"RG-11 Connector, 1-piece male crimp-on. for Commscope 5916 RG-11 Non-Plenum cable"},{"$f":"'Bill of Materials'!L890","v":"Thomas & Betts Corp."},{"$f":"'Bill of Materials'!N890","v":1.63},{"$f":"'Bill of Materials'!P890","v":"DWC"},{"$f":"'Bill of Materials'!C890","v":"0207-GD2G"},{"$f":"'Bill of Materials'!H890","v":"F11QS"},null,null,null,0,{"$f":"'Bill of Materials'!J890","v":"standard material"},{"$f":"'Bill of Materials'!K890","v":"physical"},0]
[{"$f":"'Bill of Materials'!E891+'Bill of Materials'!F891","v":0},{"$f":"'Bill of Materials'!M891","v":"EA"},{"$f":"'Bill of Materials'!G891","v":"RG-6/RG-59, Hex Crimp Tool for Thomas&Betts/LRC PL56CS & F56CH connectors"},{"$f":"'Bill of Materials'!L891","v":"Cable Prep"},{"$f":"'Bill of Materials'!N891","v":25.59},{"$f":"'Bill of Materials'!P891","v":"DWC"},{"$f":"'Bill of Materials'!C891","v":"0236-027K"},{"$f":"'Bill of Materials'!H891","v":"HCT-659"},null,null,null,0,{"$f":"'Bill of Materials'!J891","v":"standard material"},{"$f":"'Bill of Materials'!K891","v":"physical"},0]
[{"$f":"'Bill of Materials'!E892+'Bill of Materials'!F892","v":0},{"$f":"'Bill of Materials'!M892","v":"EA"},{"$f":"'Bill of Materials'!G892","v":"RG-11, Hex Crimp Tool for Thomas&Betts/LRC PL11CS & PL11QS RG-11 connectors"},{"$f":"'Bill of Materials'!L892","v":"Cable Prep"},{"$f":"'Bill of Materials'!N892","v":29.81},{"$f":"'Bill of Materials'!P892","v":"DWC"},{"$f":"'Bill of Materials'!C892","v":"0236-027L"},{"$f":"'Bill of Materials'!H892","v":"HCT-211"},null,null,null,0,{"$f":"'Bill of Materials'!J892","v":"standard material"},{"$f":"'Bill of Materials'!K892","v":"physical"},0]
[{"$f":"'Bill of Materials'!E893+'Bill of Materials'!F893","v":0},{"$f":"'Bill of Materials'!M893","v":"EA"},{"$f":"'Bill of Materials'!G893","v":"Module, Cassette Splice, (3) APC/SC SM Green Duplex Bulkhead Coupler PoliMod Patch & Splice Module for 6 fiber splices and terminations, includes (6) 40mm splice protectors"},{"$f":"'Bill of Materials'!L893","v":"AFL"},{"$f":"'Bill of Materials'!N893","v":139.59},{"$f":"'Bill of Materials'!P893","v":"DWC"},{"$f":"'Bill of Materials'!C893","v":"0528-5K2A"},{"$f":"'Bill of Materials'!H893","v":"FM000711"},null,null,null,0,{"$f":"'Bill of Materials'!J893","v":"standard material"},{"$f":"'Bill of Materials'!K893","v":"physical"},0]
[{"$f":"'Bill of Materials'!E894+'Bill of Materials'!F894","v":0},{"$f":"'Bill of Materials'!M894","v":"EA"},{"$f":"'Bill of Materials'!G894","v":"Module, Cassette Splice, (6) APC/SC SM Green Duplex Bulkhead Coupler PoliMod Patch & Splice Module for 12 fiber splices and terminations, includes (12) 40mm splice protectors"},{"$f":"'Bill of Materials'!L894","v":"AFL"},{"$f":"'Bill of Materials'!N894","v":177.31},{"$f":"'Bill of Materials'!P894","v":"DWC"},{"$f":"'Bill of Materials'!C894","v":"0528-5K2F"},{"$f":"'Bill of Materials'!H894","v":"FM000712"},null,null,null,0,{"$f":"'Bill of Materials'!J894","v":"standard material"},{"$f":"'Bill of Materials'!K894","v":"physical"},0]
[{"$f":"'Bill of Materials'!E895+'Bill of Materials'!F895","v":0},{"$f":"'Bill of Materials'!M895","v":"EA"},{"$f":"'Bill of Materials'!G895","v":"Module, Cassette Splice, (9) APC/SC SM Green Duplex Bulkhead Coupler Double-Wide PoliMod Patch & Splice Module for 18 fiber splices and terminations, includes (18) splice protectors"},{"$f":"'Bill of Materials'!L895","v":"AFL"},{"$f":"'Bill of Materials'!N895","v":291.26},{"$f":"'Bill of Materials'!P895","v":"DWC"},{"$f":"'Bill of Materials'!C895","v":"0528-5K2G"},{"$f":"'Bill of Materials'!H895","v":"FM000713"},null,null,null,0,{"$f":"'Bill of Materials'!J895","v":"standard material"},{"$f":"'Bill of Materials'!K895","v":"physical"},0]
[{"$f":"'Bill of Materials'!E896+'Bill of Materials'!F896","v":0},{"$f":"'Bill of Materials'!M896","v":"EA"},{"$f":"'Bill of Materials'!G896","v":"Strip Tool for RG-6 and RG-11 Plenum coaxial cable"},{"$f":"'Bill of Materials'!L896","v":"Cable Prep"},{"$f":"'Bill of Materials'!N896","v":39.94},{"$f":"'Bill of Materials'!P896","v":"DWC"},{"$f":"'Bill of Materials'!C896","v":"0811-085X"},{"$f":"'Bill of Materials'!H896","v":"SCPT-6591PL"},null,null,null,0,{"$f":"'Bill of Materials'!J896","v":"standard material"},{"$f":"'Bill of Materials'!K896","v":"physical"},0]
[{"$f":"'Bill of Materials'!E897+'Bill of Materials'!F897","v":0},{"$f":"'Bill of Materials'!M897","v":"BOX"},{"$f":"'Bill of Materials'!G897","v":"Cat. 5e UTP Station Wire, 1000' reel plenum in box 350 MHz. (Green for Video)"},{"$f":"'Bill of Materials'!L897","v":"CommScope"},{"$f":"'Bill of Materials'!N897","v":187.75},{"$f":"'Bill of Materials'!P897","v":"DWC"},{"$f":"'Bill of Materials'!C897","v":"10040"},{"$f":"'Bill of Materials'!H897","v":"5504M-GREEN"},null,null,null,0,{"$f":"'Bill of Materials'!J897","v":"standard material"},{"$f":"'Bill of Materials'!K897","v":"horizontal"},0]
[{"$f":"'Bill of Materials'!E898+'Bill of Materials'!F898","v":0},{"$f":"'Bill of Materials'!M898","v":"BOX"},{"$f":"'Bill of Materials'!G898","v":"Cat. 5e UTP Station Wire, 1000' reel non-plenum in box 350 MHz. (Green for Video)"},{"$f":"'Bill of Materials'!L898","v":"CommScope"},{"$f":"'Bill of Materials'!N898","v":98.14},{"$f":"'Bill of Materials'!P898","v":"DWC"},{"$f":"'Bill of Materials'!C898","v":"10042"},{"$f":"'Bill of Materials'!H898","v":"55N4R-GREEN"},null,null,null,0,{"$f":"'Bill of Materials'!J898","v":"standard material"},{"$f":"'Bill of Materials'!K898","v":"horizontal"},0]
[{"$f":"'Bill of Materials'!E899+'Bill of Materials'!F899","v":0},{"$f":"'Bill of Materials'!M899","v":"EA"},{"$f":"'Bill of Materials'!G899","v":"Quickport Cat 5e+ Jack, GREEN (Video)"},{"$f":"'Bill of Materials'!L899","v":"Leviton"},{"$f":"'Bill of Materials'!N899","v":3.11},{"$f":"'Bill of Materials'!P899","v":"DWC"},{"$f":"'Bill of Materials'!C899","v":"10044"},{"$f":"'Bill of Materials'!H899","v":"5G110-RV5"},null,null,null,0,{"$f":"'Bill of Materials'!J899","v":"standard material"},{"$f":"'Bill of Materials'!K899","v":"horizontal"},0]
[{"$f":"'Bill of Materials'!E900+'Bill of Materials'!F900","v":0},{"$f":"'Bill of Materials'!M900","v":"EA"},{"$f":"'Bill of Materials'!G900","v":"\"Fuse Connect\", Fusion Spliced Field Terminated Connector, ASC, SM, 900um, Green"},{"$f":"'Bill of Materials'!L900","v":"AFL"},{"$f":"'Bill of Materials'!N900","v":16.8},{"$f":"'Bill of Materials'!P900","v":"DWC"},{"$f":"'Bill of Materials'!C900","v":"10321"},{"$f":"'Bill of Materials'!H900","v":"CS004517"},null,null,null,0,{"$f":"'Bill of Materials'!J900","v":"standard material"},{"$f":"'Bill of Materials'!K900","v":"physical"},0]
[{"$f":"'Bill of Materials'!#REF!+'Bill of Materials'!#REF!","v":{"$error":"#REF!"}},{"$f":"'Bill of Materials'!#REF!","v":{"$error":"#REF!"}},{"$f":"'Bill of Materials'!#REF!","v":{"$error":"#REF!"}},{"$f":"'Bill of Materials'!#REF!","v":{"$error":"#REF!"}},{"$f":"'Bill of Materials'!#REF!","v":{"$error":"#REF!"}},{"$f":"'Bill of Materials'!#REF!","v":{"$error":"#REF!"}},{"$f":"'Bill of Materials'!#REF!","v":{"$error":"#REF!"}},{"$f":"'Bill of Materials'!#REF!","v":{"$error":"#REF!"}},null,null,null,{"$error":"#REF!"},{"$f":"'Bill of Materials'!#REF!","v":{"$error":"#REF!"}},{"$f":"'Bill of Materials'!#REF!","v":{"$error":"#REF!"}},{"$error":"#REF!"}]
[{"$f":"'Bill of Materials'!E901+'Bill of Materials'!F901","v":0},{"$f":"'Bill of Materials'!M901","v":"EA"},{"$f":"'Bill of Materials'!G901","v":"ASC Coupler Panel 12 Position 12 Simplex, LGX 170, - Green Angle Polish for 5RU, Fiber Panel, White"},{"$f":"'Bill of Materials'!L901","v":"AFL"},{"$f":"'Bill of Materials'!N901","v":46.95},{"$f":"'Bill of Materials'!P901","v":"DWC"},{"$f":"'Bill of Materials'!C901","v":"10322"},{"$f":"'Bill of Materials'!H901","v":"C215854"},null,null,null,0,{"$f":"'Bill of Materials'!J901","v":"standard material"},{"$f":"'Bill of Materials'!K901","v":"physical"},0]
[{"$f":"'Bill of Materials'!E902+'Bill of Materials'!F902","v":0},{"$f":"'Bill of Materials'!M902","v":"EA"},{"$f":"'Bill of Materials'!G902","v":"ASC Coupler Panel 12 Position 6 Duplex, LGX 118, - Green Angle Polish for 3RU, Fiber Panel, White"},{"$f":"'Bill of Materials'!L902","v":"AFL"},{"$f":"'Bill of Materials'!N902","v":47.9},{"$f":"'Bill of Materials'!P902","v":"DWC"},{"$f":"'Bill of Materials'!C902","v":"10323"},{"$f":"'Bill of Materials'!H902","v":"FM002634"},null,null,null,0,{"$f":"'Bill of Materials'!J902","v":"standard material"},{"$f":"'Bill of Materials'!K902","v":"physical"},0]
[{"$f":"'Bill of Materials'!E903+'Bill of Materials'!F903","v":0},{"$f":"'Bill of Materials'!M903","v":"EA"},{"$f":"'Bill of Materials'!G903","v":"Adapter Plate, 6-position (3-duplex), ASC, angle polished, green (Video) (Non Polimod Coupler Panels)"},{"$f":"'Bill of Materials'!L903","v":"AFL"},{"$f":"'Bill of Materials'!N903","v":21.73},{"$f":"'Bill of Materials'!P903","v":"DWC"},{"$f":"'Bill of Materials'!C903","v":"10326"},{"$f":"'Bill of Materials'!H903","v":"FM000115"},null,null,null,0,{"$f":"'Bill of Materials'!J903","v":"standard material"},{"$f":"'Bill of Materials'!K903","v":"physical"},0]
[{"$f":"'Bill of Materials'!E904+'Bill of Materials'!F904","v":0},{"$f":"'Bill of Materials'!M904","v":"EA"},{"$f":"'Bill of Materials'!G904","v":"Green Angle Polished APC/SC Duplex Flangeless Bulkhead for Polimod\r\n(Replaces Blue Duplex Bulkhead for CATV Use)"},{"$f":"'Bill of Materials'!L904","v":"AFL"},{"$f":"'Bill of Materials'!N904","v":6.53},{"$f":"'Bill of Materials'!P904","v":"DWC"},{"$f":"'Bill of Materials'!C904","v":"1317-000W"},{"$f":"'Bill of Materials'!H904","v":"CS000470"},null,null,null,0,{"$f":"'Bill of Materials'!J904","v":"standard material"},{"$f":"'Bill of Materials'!K904","v":"physical"},0]
[{"$f":"'Bill of Materials'!E905+'Bill of Materials'!F905","v":0},{"$f":"'Bill of Materials'!M905","v":"FT"},{"$f":"'Bill of Materials'!G905","v":"RG-59 Plenum Coaxial Cable"},{"$f":"'Bill of Materials'!L905","v":"CommScope"},{"$f":"'Bill of Materials'!N905","v":0.26},{"$f":"'Bill of Materials'!P905","v":"DWC"},{"$f":"'Bill of Materials'!C905","v":"INFO-6103"},{"$f":"'Bill of Materials'!H905","v":"2020K"},null,null,null,0,{"$f":"'Bill of Materials'!J905","v":"standard material"},{"$f":"'Bill of Materials'!K905","v":"physical"},0]
[{"$f":"'Bill of Materials'!E907+'Bill of Materials'!F907","v":0},{"$f":"'Bill of Materials'!M907","v":"EA"},{"$f":"'Bill of Materials'!G907","v":"APC/SC Laser Optic Port Terminator"},{"$f":"'Bill of Materials'!L907","v":"AFL"},{"$f":"'Bill of Materials'!N907","v":12.08},{"$f":"'Bill of Materials'!P907","v":"DWC"},{"$f":"'Bill of Materials'!C907","v":"0978-006T"},{"$f":"'Bill of Materials'!H907","v":"C148828"},null,null,null,0,{"$f":"'Bill of Materials'!J907","v":"standard material"},{"$f":"'Bill of Materials'!K907","v":"physical"},0]
[{"$f":"'Bill of Materials'!E908+'Bill of Materials'!F908","v":0},{"$f":"'Bill of Materials'!M908","v":"EA"},{"$f":"'Bill of Materials'!G908","v":"Clip-On Variable Fiber Optic Attenuator, Adjustable Attenuation of 0 to >47dB at 1550nm"},{"$f":"'Bill of Materials'!L908","v":"Fiber Instruments"},{"$f":"'Bill of Materials'!N908","v":61.2},{"$f":"'Bill of Materials'!P908","v":"DWC"},{"$f":"'Bill of Materials'!C908","v":"10103"},{"$f":"'Bill of Materials'!H908","v":"F10045"},null,null,null,0,{"$f":"'Bill of Materials'!J908","v":"standard material"},{"$f":"'Bill of Materials'!K908","v":"physical"},0]
[{"$f":"'Bill of Materials'!E909+'Bill of Materials'!F909","v":0},{"$f":"'Bill of Materials'!M909","v":"EA"},{"$f":"'Bill of Materials'!G909","v":"LightLink LANSystem CON0144P 12 pack 6 duplex APC green adapters SM ceramic White Panel/Video"},{"$f":"'Bill of Materials'!L909","v":"AFL"},{"$f":"'Bill of Materials'!N909","v":47.52},{"$f":"'Bill of Materials'!P909","v":"DWC"},{"$f":"'Bill of Materials'!C909","v":"INFO-4520"},{"$f":"'Bill of Materials'!H909","v":"FM000153"},null,null,null,0,{"$f":"'Bill of Materials'!J909","v":"standard material"},{"$f":"'Bill of Materials'!K909","v":"physical"},0]
[{"$f":"'Bill of Materials'!E910+'Bill of Materials'!F910","v":0},{"$f":"'Bill of Materials'!M910","v":"EA"},{"$f":"'Bill of Materials'!G910","v":"6 Strand, SM Fiber Pigtail, Circular Premise Cable, Riser, APC/SC-Blunt, 3Meter"},{"$f":"'Bill of Materials'!L910","v":"AFL"},{"$f":"'Bill of Materials'!N910","v":32.619999999999997},{"$f":"'Bill of Materials'!P910","v":"DWC"},{"$f":"'Bill of Materials'!C910","v":"INFO-6105"},{"$f":"'Bill of Materials'!H910","v":"ASC-XXX-RC-006-Q-0003"},null,null,null,0,{"$f":"'Bill of Materials'!J910","v":"standard material"},{"$f":"'Bill of Materials'!K910","v":"physical"},0]
[{"$f":"'Bill of Materials'!E911+'Bill of Materials'!F911","v":0},{"$f":"'Bill of Materials'!M911","v":"EA"},{"$f":"'Bill of Materials'!G911","v":"2 Strand SM, Duplex Fiber Pigtail 3.0mm Plenum zipcord, APC/SC-Blunt, 3Meter, "},{"$f":"'Bill of Materials'!L911","v":"AFL"},{"$f":"'Bill of Materials'!N911","v":17.57},{"$f":"'Bill of Materials'!P911","v":"DWC"},{"$f":"'Bill of Materials'!C911","v":"INFO-6106"},{"$f":"'Bill of Materials'!H911","v":"ASC-XXX-PZ-002-Q-0003"},null,null,null,0,{"$f":"'Bill of Materials'!J911","v":"standard material"},{"$f":"'Bill of Materials'!K911","v":"physical"},0]
[{"$f":"'Bill of Materials'!E912+'Bill of Materials'!F912","v":0},{"$f":"'Bill of Materials'!M912","v":"EA"},{"$f":"'Bill of Materials'!G912","v":"L-Band Fiber Receiver 1550nm Trunk System, 1RU"},{"$f":"'Bill of Materials'!L912","v":"Onepathnet"},{"$f":"'Bill of Materials'!N912","v":1927.53},{"$f":"'Bill of Materials'!P912","v":"DWC"},{"$f":"'Bill of Materials'!C912","v":"INFO-6202"},{"$f":"'Bill of Materials'!H912","v":"DN1R"},null,null,null,0,{"$f":"'Bill of Materials'!J912","v":"standard material"},{"$f":"'Bill of Materials'!K912","v":"physical"},0]
[{"$f":"'Bill of Materials'!E913+'Bill of Materials'!F913","v":0},{"$f":"'Bill of Materials'!M913","v":"EA"},{"$f":"'Bill of Materials'!G913","v":"SM Simplex Video Fiber Patch Cord, 3.0mm Plenum, ASC/ASC, Angle Polished, 5 Meters "},{"$f":"'Bill of Materials'!L913","v":"AFL"},{"$f":"'Bill of Materials'!N913","v":11.14},{"$f":"'Bill of Materials'!P913","v":"DWC"},{"$f":"'Bill of Materials'!C913","v":"INFO-6203"},{"$f":"'Bill of Materials'!H913","v":"ASC-ASC-PS-001-Q-0005"},null,null,null,0,{"$f":"'Bill of Materials'!J913","v":"standard material"},{"$f":"'Bill of Materials'!K913","v":"physical"},0]
[{"$f":"'Bill of Materials'!E914+'Bill of Materials'!F914","v":0},{"$f":"'Bill of Materials'!M914","v":"EA"},{"$f":"'Bill of Materials'!G914","v":"Terminator, FC/APC for Old Model 5508-X (CATV Optical Fiber Transmitters)"},{"$f":"'Bill of Materials'!L914","v":"AFL"},{"$f":"'Bill of Materials'!N914","v":8.4600000000000009},{"$f":"'Bill of Materials'!P914","v":"DWC"},{"$f":"'Bill of Materials'!C914","v":"INFO-6205"},{"$f":"'Bill of Materials'!H914","v":"C082562"},null,null,null,0,{"$f":"'Bill of Materials'!J914","v":"standard material"},{"$f":"'Bill of Materials'!K914","v":"physical"},0]
[{"$f":"'Bill of Materials'!E915+'Bill of Materials'!F915","v":0},{"$f":"'Bill of Materials'!M915","v":"EA"},{"$f":"'Bill of Materials'!G915","v":"4 Port CATV Optical Fiber Transmitter, 2.4 Ghz - High Power Singlemode SC/APC, 2RU"},{"$f":"'Bill of Materials'!L915","v":"Onepathnet"},{"$f":"'Bill of Materials'!N915","v":5140.08},{"$f":"'Bill of Materials'!P915","v":"DWC"},{"$f":"'Bill of Materials'!C915","v":"INFO-6206"},{"$f":"'Bill of Materials'!H915","v":"5508-4HP"},null,null,null,0,{"$f":"'Bill of Materials'!J915","v":"standard material"},{"$f":"'Bill of Materials'!K915","v":"physical"},0]
[{"$f":"'Bill of Materials'!#REF!+'Bill of Materials'!#REF!","v":{"$error":"#REF!"}},{"$f":"'Bill of Materials'!#REF!","v":{"$error":"#REF!"}},{"$f":"'Bill of Materials'!#REF!","v":{"$error":"#REF!"}},{"$f":"'Bill of Materials'!#REF!","v":{"$error":"#REF!"}},{"$f":"'Bill of Materials'!#REF!","v":{"$error":"#REF!"}},{"$f":"'Bill of Materials'!#REF!","v":{"$error":"#REF!"}},{"$f":"'Bill of Materials'!#REF!","v":{"$error":"#REF!"}},{"$f":"'Bill of Materials'!#REF!","v":{"$error":"#REF!"}},null,null,null,{"$error":"#REF!"},{"$f":"'Bill of Materials'!#REF!","v":{"$error":"#REF!"}},{"$f":"'Bill of Materials'!#REF!","v":{"$error":"#REF!"}},{"$error":"#REF!"}]
[{"$f":"'Bill of Materials'!E916+'Bill of Materials'!F916","v":0},{"$f":"'Bill of Materials'!M916","v":"EA"},{"$f":"'Bill of Materials'!G916","v":"24-Port Video Receiver, SM, APC/FC, 24 port fiber to coax cable distribution hub, 3RU"},{"$f":"'Bill of Materials'!L916","v":"Satellite Tracking Systems"},{"$f":"'Bill of Materials'!N916","v":1509.75},{"$f":"'Bill of Materials'!P916","v":"DWC"},{"$f":"'Bill of Materials'!C916","v":"INFO-6207"},{"$f":"'Bill of Materials'!H916","v":"PFC24"},null,null,null,0,{"$f":"'Bill of Materials'!J916","v":"standard material"},{"$f":"'Bill of Materials'!K916","v":"physical"},0]
[{"$f":"'Bill of Materials'!E917+'Bill of Materials'!F917","v":0},{"$f":"'Bill of Materials'!M917","v":"EA"},{"$f":"'Bill of Materials'!G917","v":"SM Simplex Video Fiber Pigtail, 3.0mm Plenum, ASC/Blunt, Angle Polished, 10 Meters "},{"$f":"'Bill of Materials'!L917","v":"AFL"},{"$f":"'Bill of Materials'!N917","v":9.06},{"$f":"'Bill of Materials'!P917","v":"DWC"},{"$f":"'Bill of Materials'!C917","v":"INFO-6208"},{"$f":"'Bill of Materials'!H917","v":"AFC-XXX-PS-001-Q-0010"},null,null,null,0,{"$f":"'Bill of Materials'!J917","v":"standard material"},{"$f":"'Bill of Materials'!K917","v":"physical"},0]
[{"$f":"'Bill of Materials'!#REF!+'Bill of Materials'!#REF!","v":{"$error":"#REF!"}},{"$f":"'Bill of Materials'!#REF!","v":{"$error":"#REF!"}},{"$f":"'Bill of Materials'!#REF!","v":{"$error":"#REF!"}},{"$f":"'Bill of Materials'!#REF!","v":{"$error":"#REF!"}},{"$f":"'Bill of Materials'!#REF!","v":{"$error":"#REF!"}},{"$f":"'Bill of Materials'!#REF!","v":{"$error":"#REF!"}},{"$f":"'Bill of Materials'!#REF!","v":{"$error":"#REF!"}},{"$f":"'Bill of Materials'!#REF!","v":{"$error":"#REF!"}},null,null,null,{"$error":"#REF!"},{"$f":"'Bill of Materials'!#REF!","v":{"$error":"#REF!"}},{"$f":"'Bill of Materials'!#REF!","v":{"$error":"#REF!"}},{"$error":"#REF!"}]
[{"$f":"'Bill of Materials'!E918+'Bill of Materials'!F918","v":0},{"$f":"'Bill of Materials'!M918","v":"EA"},{"$f":"'Bill of Materials'!G918","v":"8 Port CATV Optical Fiber Transmitter, 2.4 Ghz - Low Power Singlemode SC/APC, 2RU"},{"$f":"'Bill of Materials'!L918","v":"Onepathnet"},{"$f":"'Bill of Materials'!N918","v":5140.08},{"$f":"'Bill of Materials'!P918","v":"DWC"},{"$f":"'Bill of Materials'!C918","v":"INFO-6210"},{"$f":"'Bill of Materials'!H918","v":"5508-8"},null,null,null,0,{"$f":"'Bill of Materials'!J918","v":"standard material"},{"$f":"'Bill of Materials'!K918","v":"physical"},0]
[{"$f":"'Bill of Materials'!E919+'Bill of Materials'!F919","v":0},{"$f":"'Bill of Materials'!M919","v":"EA"},{"$f":"'Bill of Materials'!G919","v":"Self-Terminating QuickPort \"F\" Connector adapter, ivory"},{"$f":"'Bill of Materials'!L919","v":"Leviton"},{"$f":"'Bill of Materials'!N919","v":4.6399999999999997},{"$f":"'Bill of Materials'!P919","v":"DWC"},{"$f":"'Bill of Materials'!C919","v":"INFO-6211"},{"$f":"'Bill of Materials'!H919","v":"G37-FCNTR-FIP"},null,null,null,0,{"$f":"'Bill of Materials'!J919","v":"standard material"},{"$f":"'Bill of Materials'!K919","v":"physical"},0]
[{"$f":"'Bill of Materials'!E920+'Bill of Materials'!F920","v":0},{"$f":"'Bill of Materials'!M920","v":"EA"},{"$f":"'Bill of Materials'!G920","v":"ASC Duplex bulkhead couplers, angle polished, green (Video) (Non Polimod Coupler Panels)"},{"$f":"'Bill of Materials'!L920","v":"AFL"},{"$f":"'Bill of Materials'!N920","v":3.59},{"$f":"'Bill of Materials'!P920","v":"DWC"},{"$f":"'Bill of Materials'!C920","v":"INFO-8801"},{"$f":"'Bill of Materials'!H920","v":"CS000099"},null,null,null,0,{"$f":"'Bill of Materials'!J920","v":"standard material"},{"$f":"'Bill of Materials'!K920","v":"physical"},0]
[{"$f":"'Bill of Materials'!E922+'Bill of Materials'!F922","v":0},{"$f":"'Bill of Materials'!M922","v":"EA"},{"$f":"'Bill of Materials'!G922","v":"HP A5800-24G-PoE Switch"},{"$f":"'Bill of Materials'!L922","v":"HP"},{"$f":"'Bill of Materials'!N922","v":3070},{"$f":"'Bill of Materials'!P922","v":"HP"},{"$f":"'Bill of Materials'!C922","v":"10466"},{"$f":"'Bill of Materials'!H922","v":"JC099A"},null,null,null,0,{"$f":"'Bill of Materials'!J922","v":"standard material"},{"$f":"'Bill of Materials'!K922","v":"electronic"},0]
[{"$f":"'Bill of Materials'!#REF!+'Bill of Materials'!#REF!","v":{"$error":"#REF!"}},{"$f":"'Bill of Materials'!#REF!","v":{"$error":"#REF!"}},{"$f":"'Bill of Materials'!#REF!","v":{"$error":"#REF!"}},{"$f":"'Bill of Materials'!#REF!","v":{"$error":"#REF!"}},{"$f":"'Bill of Materials'!#REF!","v":{"$error":"#REF!"}},{"$f":"'Bill of Materials'!#REF!","v":{"$error":"#REF!"}},{"$f":"'Bill of Materials'!#REF!","v":{"$error":"#REF!"}},{"$f":"'Bill of Materials'!#REF!","v":{"$error":"#REF!"}},null,null,null,{"$error":"#REF!"},{"$f":"'Bill of Materials'!#REF!","v":{"$error":"#REF!"}},{"$f":"'Bill of Materials'!#REF!","v":{"$error":"#REF!"}},{"$error":"#REF!"}]
[{"$f":"'Bill of Materials'!E923+'Bill of Materials'!F923","v":0},{"$f":"'Bill of Materials'!M923","v":"EA"},{"$f":"'Bill of Materials'!G923","v":"HP 5800-48G-PoE Switch"},{"$f":"'Bill of Materials'!L923","v":"HP"},{"$f":"'Bill of Materials'!N923","v":5758},{"$f":"'Bill of Materials'!P923","v":"HP"},{"$f":"'Bill of Materials'!C923","v":"10467"},{"$f":"'Bill of Materials'!H923","v":"JC104A"},null,null,null,0,{"$f":"'Bill of Materials'!J923","v":"standard material"},{"$f":"'Bill of Materials'!K923","v":"electronic"},0]
[{"$f":"'Bill of Materials'!E924+'Bill of Materials'!F924","v":0},{"$f":"'Bill of Materials'!M924","v":"EA"},{"$f":"'Bill of Materials'!G924","v":"HP RPS1600 Redundant Power System"},{"$f":"'Bill of Materials'!L924","v":"HP"},{"$f":"'Bill of Materials'!N924","v":795},{"$f":"'Bill of Materials'!P924","v":"HP"},{"$f":"'Bill of Materials'!C924","v":"10468"},{"$f":"'Bill of Materials'!H924","v":"JG136A"},null,null,null,0,{"$f":"'Bill of Materials'!J924","v":"standard material"},{"$f":"'Bill of Materials'!K924","v":"electronic"},0]
[{"$f":"'Bill of Materials'!E925+'Bill of Materials'!F925","v":0},{"$f":"'Bill of Materials'!M925","v":"EA"},{"$f":"'Bill of Materials'!G925","v":"HP RPS1600 1600W AC Power Supply"},{"$f":"'Bill of Materials'!L925","v":"HP"},{"$f":"'Bill of Materials'!N925","v":604},{"$f":"'Bill of Materials'!P925","v":"HP"},{"$f":"'Bill of Materials'!C925","v":"10469"},{"$f":"'Bill of Materials'!H925","v":"JG137A"},null,null,null,0,{"$f":"'Bill of Materials'!J925","v":"standard material"},{"$f":"'Bill of Materials'!K925","v":"electronic"},0]
[{"$f":"'Bill of Materials'!E926+'Bill of Materials'!F926","v":0},{"$f":"'Bill of Materials'!M926","v":"EA"},{"$f":"'Bill of Materials'!G926","v":"HP X290 1000 A JD5 2m RPS Cable"},{"$f":"'Bill of Materials'!L926","v":"HP"},{"$f":"'Bill of Materials'!N926","v":11},{"$f":"'Bill of Materials'!P926","v":"HP"},{"$f":"'Bill of Materials'!C926","v":"10470"},{"$f":"'Bill of Materials'!H926","v":"JD187A"},null,null,null,0,{"$f":"'Bill of Materials'!J926","v":"standard material"},{"$f":"'Bill of Materials'!K926","v":"electronic"},0]
[{"$f":"'Bill of Materials'!E927+'Bill of Materials'!F927","v":0},{"$f":"'Bill of Materials'!M927","v":"EA"},{"$f":"'Bill of Materials'!G927","v":"HP 5500 150WAC Power Supply"},{"$f":"'Bill of Materials'!L927","v":"HP"},{"$f":"'Bill of Materials'!N927","v":172},{"$f":"'Bill of Materials'!P927","v":"HP"},{"$f":"'Bill of Materials'!C927","v":"10503"},{"$f":"'Bill of Materials'!H927","v":"JD362A"},null,null,null,0,{"$f":"'Bill of Materials'!J927","v":"standard material"},{"$f":"'Bill of Materials'!K927","v":"electronic"},0]
[{"$f":"'Bill of Materials'!E928+'Bill of Materials'!F928","v":0},{"$f":"'Bill of Materials'!M928","v":"EA"},{"$f":"'Bill of Materials'!G928","v":"HP 5800-24G-SFP Switch"},{"$f":"'Bill of Materials'!L928","v":"HP"},{"$f":"'Bill of Materials'!N928","v":4989},{"$f":"'Bill of Materials'!P928","v":"HP"},{"$f":"'Bill of Materials'!C928","v":"10504"},{"$f":"'Bill of Materials'!H928","v":"JC103A"},null,null,null,0,{"$f":"'Bill of Materials'!J928","v":"standard material"},{"$f":"'Bill of Materials'!K928","v":"electronic"},0]
[{"$f":"'Bill of Materials'!E930+'Bill of Materials'!F930","v":0},{"$f":"'Bill of Materials'!M930","v":"EA"},{"$f":"'Bill of Materials'!G930","v":"HP A7500 2800W AC Power Supply"},{"$f":"'Bill of Materials'!L930","v":"HP"},{"$f":"'Bill of Materials'!N930","v":1150},{"$f":"'Bill of Materials'!P930","v":"HP"},{"$f":"'Bill of Materials'!C930","v":"10505"},{"$f":"'Bill of Materials'!H930","v":"JD219A"},null,null,null,0,{"$f":"'Bill of Materials'!J930","v":"standard material"},{"$f":"'Bill of Materials'!K930","v":"electronic"},0]
[{"$f":"'Bill of Materials'!E931+'Bill of Materials'!F931","v":0},{"$f":"'Bill of Materials'!M931","v":"EA"},{"$f":"'Bill of Materials'!G931","v":"HP A7500 48-Port GbE SFP Module"},{"$f":"'Bill of Materials'!L931","v":"HP"},{"$f":"'Bill of Materials'!N931","v":4989},{"$f":"'Bill of Materials'!P931","v":"HP"},{"$f":"'Bill of Materials'!C931","v":"10506"},{"$f":"'Bill of Materials'!H931","v":"JD211B"},null,null,null,0,{"$f":"'Bill of Materials'!J931","v":"standard material"},{"$f":"'Bill of Materials'!K931","v":"electronic"},0]
[{"$f":"'Bill of Materials'!E932+'Bill of Materials'!F932","v":0},{"$f":"'Bill of Materials'!M932","v":"EA"},{"$f":"'Bill of Materials'!G932","v":"HP 7500 1400W AC Power Supply"},{"$f":"'Bill of Materials'!L932","v":"HP"},{"$f":"'Bill of Materials'!N932","v":764},{"$f":"'Bill of Materials'!P932","v":"HP"},{"$f":"'Bill of Materials'!C932","v":"10507"},{"$f":"'Bill of Materials'!H932","v":"JD218A"},null,null,null,0,{"$f":"'Bill of Materials'!J932","v":"standard material"},{"$f":"'Bill of Materials'!K932","v":"electronic"},0]
[{"$f":"'Bill of Materials'!#REF!+'Bill of Materials'!#REF!","v":{"$error":"#REF!"}},{"$f":"'Bill of Materials'!#REF!","v":{"$error":"#REF!"}},{"$f":"'Bill of Materials'!#REF!","v":{"$error":"#REF!"}},{"$f":"'Bill of Materials'!#REF!","v":{"$error":"#REF!"}},{"$f":"'Bill of Materials'!#REF!","v":{"$error":"#REF!"}},{"$f":"'Bill of Materials'!#REF!","v":{"$error":"#REF!"}},{"$f":"'Bill of Materials'!#REF!","v":{"$error":"#REF!"}},{"$f":"'Bill of Materials'!#REF!","v":{"$error":"#REF!"}},null,null,null,{"$error":"#REF!"},{"$f":"'Bill of Materials'!#REF!","v":{"$error":"#REF!"}},{"$f":"'Bill of Materials'!#REF!","v":{"$error":"#REF!"}},{"$error":"#REF!"}]
[{"$f":"'Bill of Materials'!E933+'Bill of Materials'!F933","v":0},{"$f":"'Bill of Materials'!M933","v":"EA"},{"$f":"'Bill of Materials'!G933","v":"HP 7500 8-port 10G SFP+ Module"},{"$f":"'Bill of Materials'!L933","v":"HP"},{"$f":"'Bill of Materials'!N933","v":6526},{"$f":"'Bill of Materials'!P933","v":"HP"},{"$f":"'Bill of Materials'!C933","v":"10508"},{"$f":"'Bill of Materials'!H933","v":"JF290A"},null,null,null,0,{"$f":"'Bill of Materials'!J933","v":"standard material"},{"$f":"'Bill of Materials'!K933","v":"electronic"},0]
[{"$f":"'Bill of Materials'!E934+'Bill of Materials'!F934","v":0},{"$f":"'Bill of Materials'!M934","v":"EA"},{"$f":"'Bill of Materials'!G934","v":"HP 7500 768Gbps Fabric Module"},{"$f":"'Bill of Materials'!L934","v":"HP"},{"$f":"'Bill of Materials'!N934","v":6144},{"$f":"'Bill of Materials'!P934","v":"HP"},{"$f":"'Bill of Materials'!C934","v":"10509"},{"$f":"'Bill of Materials'!H934","v":"JD220A"},null,null,null,0,{"$f":"'Bill of Materials'!J934","v":"standard material"},{"$f":"'Bill of Materials'!K934","v":"electronic"},0]
[{"$f":"'Bill of Materials'!E935+'Bill of Materials'!F935","v":0},{"$f":"'Bill of Materials'!M935","v":"EA"},{"$f":"'Bill of Materials'!G935","v":"HP 7500 24-port GbE SFP Module"},{"$f":"'Bill of Materials'!L935","v":"HP"},{"$f":"'Bill of Materials'!N935","v":2877},{"$f":"'Bill of Materials'!P935","v":"HP"},{"$f":"'Bill of Materials'!C935","v":"10510"},{"$f":"'Bill of Materials'!H935","v":"JD203B"},null,null,null,0,{"$f":"'Bill of Materials'!J935","v":"standard material"},{"$f":"'Bill of Materials'!K935","v":"electronic"},0]
[{"$f":"'Bill of Materials'!E936+'Bill of Materials'!F936","v":0},{"$f":"'Bill of Materials'!M936","v":"EA"},{"$f":"'Bill of Materials'!G936","v":"HP 7500 48-port Gig-T Module"},{"$f":"'Bill of Materials'!L936","v":"HP"},{"$f":"'Bill of Materials'!N936","v":3687},{"$f":"'Bill of Materials'!P936","v":"HP"},{"$f":"'Bill of Materials'!C936","v":"10511"},{"$f":"'Bill of Materials'!H936","v":"JD210A"},null,null,null,0,{"$f":"'Bill of Materials'!J936","v":"standard material"},{"$f":"'Bill of Materials'!K936","v":"electronic"},0]
[{"$f":"'Bill of Materials'!E937+'Bill of Materials'!F937","v":0},{"$f":"'Bill of Materials'!M937","v":"EA"},{"$f":"'Bill of Materials'!G937","v":"HP A7506 Switch Chassis"},{"$f":"'Bill of Materials'!L937","v":"HP"},{"$f":"'Bill of Materials'!N937","v":2688},{"$f":"'Bill of Materials'!P937","v":"HP"},{"$f":"'Bill of Materials'!C937","v":"10512"},{"$f":"'Bill of Materials'!H937","v":"JD239B"},null,null,null,0,{"$f":"'Bill of Materials'!J937","v":"standard material"},{"$f":"'Bill of Materials'!K937","v":"electronic"},0]
[{"$f":"'Bill of Materials'!E938+'Bill of Materials'!F938","v":0},{"$f":"'Bill of Materials'!M938","v":"EA"},{"$f":"'Bill of Materials'!G938","v":"HP 7510 Switch Chassis"},{"$f":"'Bill of Materials'!L938","v":"HP"},{"$f":"'Bill of Materials'!N938","v":3456},{"$f":"'Bill of Materials'!P938","v":"HP"},{"$f":"'Bill of Materials'!C938","v":"10513"},{"$f":"'Bill of Materials'!H938","v":"JD238B"},null,null,null,0,{"$f":"'Bill of Materials'!J938","v":"standard material"},{"$f":"'Bill of Materials'!K938","v":"electronic"},0]
[{"$f":"'Bill of Materials'!#REF!+'Bill of Materials'!#REF!","v":{"$error":"#REF!"}},{"$f":"'Bill of Materials'!#REF!","v":{"$error":"#REF!"}},{"$f":"'Bill of Materials'!#REF!","v":{"$error":"#REF!"}},{"$f":"'Bill of Materials'!#REF!","v":{"$error":"#REF!"}},{"$f":"'Bill of Materials'!#REF!","v":{"$error":"#REF!"}},{"$f":"'Bill of Materials'!#REF!","v":{"$error":"#REF!"}},{"$f":"'Bill of Materials'!#REF!","v":{"$error":"#REF!"}},{"$f":"'Bill of Materials'!#REF!","v":{"$error":"#REF!"}},null,null,null,{"$error":"#REF!"},{"$f":"'Bill of Materials'!#REF!","v":{"$error":"#REF!"}},{"$f":"'Bill of Materials'!#REF!","v":{"$error":"#REF!"}},{"$error":"#REF!"}]
[{"$f":"'Bill of Materials'!E940+'Bill of Materials'!F940","v":0},{"$f":"'Bill of Materials'!M940","v":"EA"},{"$f":"'Bill of Materials'!G940","v":"HP X120 1G SFP LC LX Transceiver"},{"$f":"'Bill of Materials'!L940","v":"HP"},{"$f":"'Bill of Materials'!N940","v":323},{"$f":"'Bill of Materials'!P940","v":"HP"},{"$f":"'Bill of Materials'!C940","v":"10471"},{"$f":"'Bill of Materials'!H940","v":"JD119B"},null,null,null,0,{"$f":"'Bill of Materials'!J940","v":"standard material"},{"$f":"'Bill of Materials'!K940","v":"electronic"},0]
[{"$f":"'Bill of Materials'!E941+'Bill of Materials'!F941","v":0},{"$f":"'Bill of Materials'!M941","v":"EA"},{"$f":"'Bill of Materials'!G941","v":"HP X240 10G SFP+ to SFP+ 0.65m Direct Attach Copper Cable"},{"$f":"'Bill of Materials'!L941","v":"HP"},{"$f":"'Bill of Materials'!N941","v":71},{"$f":"'Bill of Materials'!P941","v":"HP"},{"$f":"'Bill of Materials'!C941","v":"10472"},{"$f":"'Bill of Materials'!H941","v":"JD095B"},null,null,null,0,{"$f":"'Bill of Materials'!J941","v":"standard material"},{"$f":"'Bill of Materials'!K941","v":"electronic"},0]
[{"$f":"'Bill of Materials'!#REF!+'Bill of Materials'!#REF!","v":{"$error":"#REF!"}},{"$f":"'Bill of Materials'!#REF!","v":{"$error":"#REF!"}},{"$f":"'Bill of Materials'!#REF!","v":{"$error":"#REF!"}},{"$f":"'Bill of Materials'!#REF!","v":{"$error":"#REF!"}},{"$f":"'Bill of Materials'!#REF!","v":{"$error":"#REF!"}},{"$f":"'Bill of Materials'!#REF!","v":{"$error":"#REF!"}},{"$f":"'Bill of Materials'!#REF!","v":{"$error":"#REF!"}},{"$f":"'Bill of Materials'!#REF!","v":{"$error":"#REF!"}},null,null,null,{"$error":"#REF!"},{"$f":"'Bill of Materials'!#REF!","v":{"$error":"#REF!"}},{"$f":"'Bill of Materials'!#REF!","v":{"$error":"#REF!"}},{"$error":"#REF!"}]
[{"$f":"'Bill of Materials'!E942+'Bill of Materials'!F942","v":0},{"$f":"'Bill of Materials'!M942","v":"EA"},{"$f":"'Bill of Materials'!G942","v":"HP X120 1G SFP LC SX Transceiver"},{"$f":"'Bill of Materials'!L942","v":"HP"},{"$f":"'Bill of Materials'!N942","v":163},{"$f":"'Bill of Materials'!P942","v":"HP"},{"$f":"'Bill of Materials'!C942","v":"10500"},{"$f":"'Bill of Materials'!H942","v":"JD118B"},null,null,null,0,{"$f":"'Bill of Materials'!J942","v":"standard material"},{"$f":"'Bill of Materials'!K942","v":"electronic"},0]
[{"$f":"'Bill of Materials'!E943+'Bill of Materials'!F943","v":0},{"$f":"'Bill of Materials'!M943","v":"EA"},{"$f":"'Bill of Materials'!G943","v":"HP X130 10G SFP+ LC SR Transceiver"},{"$f":"'Bill of Materials'!L943","v":"HP"},{"$f":"'Bill of Materials'!N943","v":726},{"$f":"'Bill of Materials'!P943","v":"HP"},{"$f":"'Bill of Materials'!C943","v":"10501"},{"$f":"'Bill of Materials'!H943","v":"JD092B"},null,null,null,0,{"$f":"'Bill of Materials'!J943","v":"standard material"},{"$f":"'Bill of Materials'!K943","v":"electronic"},0]
[{"$f":"'Bill of Materials'!E944+'Bill of Materials'!F944","v":0},{"$f":"'Bill of Materials'!M944","v":"EA"},{"$f":"'Bill of Materials'!G944","v":"HP X240 10G SFP+ to SFP+ 1.2m Direct Attach Copper Cable"},{"$f":"'Bill of Materials'!L944","v":"HP"},{"$f":"'Bill of Materials'!N944","v":79},{"$f":"'Bill of Materials'!P944","v":"HP"},{"$f":"'Bill of Materials'!C944","v":"10502"},{"$f":"'Bill of Materials'!H944","v":"JD096B"},null,null,null,0,{"$f":"'Bill of Materials'!J944","v":"standard material"},{"$f":"'Bill of Materials'!K944","v":"electronic"},0]
[{"$f":"'Bill of Materials'!E946+'Bill of Materials'!F946","v":0},{"$f":"'Bill of Materials'!M946","v":"EA"},{"$f":"'Bill of Materials'!G946","v":"HP 1G Compact Flash"},{"$f":"'Bill of Materials'!L946","v":"HP"},{"$f":"'Bill of Materials'!N946","v":126},{"$f":"'Bill of Materials'!P946","v":"HP"},{"$f":"'Bill of Materials'!C946","v":"10498"},{"$f":"'Bill of Materials'!H946","v":"JD276A"},null,null,null,{"$f":"E972*A972","v":0},{"$f":"'Bill of Materials'!J946","v":"standard material"},{"$f":"'Bill of Materials'!K946","v":"electronic"},{"$f":"IF(A972>0,1,0)","v":0}]
[{"$f":"'Bill of Materials'!E947+'Bill of Materials'!F947","v":0},{"$f":"'Bill of Materials'!M947","v":"EA"},{"$f":"'Bill of Materials'!G947","v":"HP S200 512M Compact Flash"},{"$f":"'Bill of Materials'!L947","v":"HP"},{"$f":"'Bill of Materials'!N947","v":67},{"$f":"'Bill of Materials'!P947","v":"HP"},{"$f":"'Bill of Materials'!C947","v":"10499"},{"$f":"'Bill of Materials'!H947","v":"JD277A"},null,null,null,0,{"$f":"'Bill of Materials'!J947","v":"standard material"},{"$f":"'Bill of Materials'!K947","v":"electronic"},0]
[{"$f":"'Bill of Materials'!E949+'Bill of Materials'!F949","v":0},{"$f":"'Bill of Materials'!M949","v":"EA"},{"$f":"'Bill of Materials'!G949","v":"2Units ACE 4710 Hardware-1Gbps-1K SSL-100MbpsComp-5VC- 50App"},{"$f":"'Bill of Materials'!L949","v":"Cisco"},{"$f":"'Bill of Materials'!N949","v":23997.599999999999},{"$f":"'Bill of Materials'!P949","v":"HP"},{"$f":"'Bill of Materials'!C949","v":"10183"},{"$f":"'Bill of Materials'!H949","v":"ACE-4710-BAS-2PAK"},null,null,null,0,{"$f":"'Bill of Materials'!J949","v":"standard material"},{"$f":"'Bill of Materials'!K949","v":"electronic"},0]
[{"$f":"'Bill of Materials'!E950+'Bill of Materials'!F950","v":0},{"$f":"'Bill of Materials'!M950","v":"EA"},{"$f":"'Bill of Materials'!G950","v":"Cisco NAM 2204 Appliance, 4x1GbE, RJ45"},{"$f":"'Bill of Materials'!L950","v":"Cisco"},{"$f":"'Bill of Materials'!N950","v":12147.75},{"$f":"'Bill of Materials'!P950","v":"HP"},{"$f":"'Bill of Materials'!C950","v":"10214"},{"$f":"'Bill of Materials'!H950","v":"NAM2204-RJ45"},null,null,null,0,{"$f":"'Bill of Materials'!J950","v":"standard material"},{"$f":"'Bill of Materials'!K950","v":"electronic"},0]
[{"$f":"'Bill of Materials'!E951+'Bill of Materials'!F951","v":0},{"$f":"'Bill of Materials'!M951","v":"EA"},{"$f":"'Bill of Materials'!G951","v":"CISCO 2 units of ACE 4710 Hardware-1Gbps-7500SSL-1GComp-20VC"},{"$f":"'Bill of Materials'!L951","v":"Cisco"},{"$f":"'Bill of Materials'!N951","v":22497.75},{"$f":"'Bill of Materials'!P951","v":"HP"},{"$f":"'Bill of Materials'!C951","v":"10496"},{"$f":"'Bill of Materials'!H951","v":"ACE-4710-2PAK"},null,null,null,0,{"$f":"'Bill of Materials'!J951","v":"standard material"},{"$f":"'Bill of Materials'!K951","v":"electronic"},0]
[{"$f":"'Bill of Materials'!E953+'Bill of Materials'!F953","v":0},{"$f":"'Bill of Materials'!M953","v":"EA"},{"$f":"'Bill of Materials'!G953","v":"ASA 5540 Appliance with SW, HA, 4GE+1FE, 3DES/AES"},{"$f":"'Bill of Materials'!L953","v":"Cisco"},{"$f":"'Bill of Materials'!N953","v":6798},{"$f":"'Bill of Materials'!P953","v":"HP"},{"$f":"'Bill of Materials'!C953","v":"10210"},{"$f":"'Bill of Materials'!H953","v":"ASA5540-BUN-K9"},null,null,null,0,{"$f":"'Bill of Materials'!J953","v":"standard material"},{"$f":"'Bill of Materials'!K953","v":"electronic"},0]
[{"$f":"'Bill of Materials'!E954+'Bill of Materials'!F954","v":0},{"$f":"'Bill of Materials'!M954","v":"EA"},{"$f":"'Bill of Materials'!G954","v":"ASA 5500 Advanced Endpoint Assessment License for SSL VPN"},{"$f":"'Bill of Materials'!L954","v":"Cisco"},{"$f":"'Bill of Materials'!N954","v":398},{"$f":"'Bill of Materials'!P954","v":"HP"},{"$f":"'Bill of Materials'!C954","v":"10211"},{"$f":"'Bill of Materials'!H954","v":"ASA-ADV-END-SEC"},null,null,null,0,{"$f":"'Bill of Materials'!J954","v":"standard material"},{"$f":"'Bill of Materials'!K954","v":"electronic"},0]
[{"$f":"'Bill of Materials'!E955+'Bill of Materials'!F955","v":0},{"$f":"'Bill of Materials'!M955","v":"EA"},{"$f":"'Bill of Materials'!G955","v":"ASA 5500 5 Security Contexts License"},{"$f":"'Bill of Materials'!L955","v":"Cisco"},{"$f":"'Bill of Materials'!N955","v":1500},{"$f":"'Bill of Materials'!P955","v":"HP"},{"$f":"'Bill of Materials'!C955","v":"10212"},{"$f":"'Bill of Materials'!H955","v":"ASA5500-SC-5"},null,null,null,0,{"$f":"'Bill of Materials'!J955","v":"standard material"},{"$f":"'Bill of Materials'!K955","v":"electronic"},0]
[{"$f":"'Bill of Materials'!E956+'Bill of Materials'!F956","v":0},{"$f":"'Bill of Materials'!M956","v":"EA"},{"$f":"'Bill of Materials'!G956","v":"ASA 5500 4-Port Gigabit Ethernet SSM (RJ-45+SFP)"},{"$f":"'Bill of Materials'!L956","v":"Cisco"},{"$f":"'Bill of Materials'!N956","v":2000},{"$f":"'Bill of Materials'!P956","v":"HP"},{"$f":"'Bill of Materials'!C956","v":"10213"},{"$f":"'Bill of Materials'!H956","v":"SSM-4GE"},null,null,null,0,{"$f":"'Bill of Materials'!J956","v":"standard material"},{"$f":"'Bill of Materials'!K956","v":"electronic"},0]
[{"$f":"'Bill of Materials'!E958+'Bill of Materials'!F958","v":0},{"$f":"'Bill of Materials'!M958","v":"EA"},{"$f":"'Bill of Materials'!G958","v":"Cisco IE 3000 Switch, 8 10/100 + 2 T/SFP"},{"$f":"'Bill of Materials'!L958","v":"Cisco"},{"$f":"'Bill of Materials'!N958","v":798},{"$f":"'Bill of Materials'!P958","v":"HP"},{"$f":"'Bill of Materials'!C958","v":"10288"},{"$f":"'Bill of Materials'!H958","v":"IE-3000-8TC"},null,null,null,0,{"$f":"'Bill of Materials'!J958","v":"standard material"},{"$f":"'Bill of Materials'!K958","v":"electronic"},0]
[{"$f":"'Bill of Materials'!E959+'Bill of Materials'!F959","v":0},{"$f":"'Bill of Materials'!M959","v":"EA"},{"$f":"'Bill of Materials'!G959","v":"Cisco IE 3000 LAN BASE W/O CRYPTO WITH WEB BASED DEV MGR"},{"$f":"'Bill of Materials'!L959","v":"Cisco"},{"$f":"'Bill of Materials'!N959","v":0},{"$f":"'Bill of Materials'!P959","v":"HP"},{"$f":"'Bill of Materials'!C959","v":"10289"},{"$f":"'Bill of Materials'!H959","v":"SIESLBT-12255SE"},null,null,null,0,{"$f":"'Bill of Materials'!J959","v":"standard material"},{"$f":"'Bill of Materials'!K959","v":"electronic"},0]
[{"$f":"'Bill of Materials'!E960+'Bill of Materials'!F960","v":0},{"$f":"'Bill of Materials'!M960","v":"EA"},{"$f":"'Bill of Materials'!G960","v":"Cisco IE 3000 8-Port Base Switch w/ Layer 3"},{"$f":"'Bill of Materials'!L960","v":"Cisco"},{"$f":"'Bill of Materials'!N960","v":3436},{"$f":"'Bill of Materials'!P960","v":"HP"},{"$f":"'Bill of Materials'!C960","v":"10290"},{"$f":"'Bill of Materials'!H960","v":"IE-3000-8TC-E"},null,null,null,0,{"$f":"'Bill of Materials'!J960","v":"standard material"},{"$f":"'Bill of Materials'!K960","v":"electronic"},0]
[{"$f":"'Bill of Materials'!E961+'Bill of Materials'!F961","v":0},{"$f":"'Bill of Materials'!M961","v":"EA"},{"$f":"'Bill of Materials'!G961","v":"Cisco IE 3000 IP SERVICES W/O CRYPTO WITH WEB BASED DEV MGR"},{"$f":"'Bill of Materials'!L961","v":"Cisco"},{"$f":"'Bill of Materials'!N961","v":0},{"$f":"'Bill of Materials'!P961","v":"HP"},{"$f":"'Bill of Materials'!C961","v":"10291"},{"$f":"'Bill of Materials'!H961","v":"SIESSPST-12255SE"},null,null,null,0,{"$f":"'Bill of Materials'!J961","v":"standard material"},{"$f":"'Bill of Materials'!K961","v":"electronic"},0]
[{"$f":"'Bill of Materials'!E962+'Bill of Materials'!F962","v":0},{"$f":"'Bill of Materials'!M962","v":"EA"},{"$f":"'Bill of Materials'!G962","v":"Cisco IE 3000 Expansion Module, 8 10/100"},{"$f":"'Bill of Materials'!L962","v":"Cisco"},{"$f":"'Bill of Materials'!N962","v":478},{"$f":"'Bill of Materials'!P962","v":"HP"},{"$f":"'Bill of Materials'!C962","v":"10292"},{"$f":"'Bill of Materials'!H962","v":"IEM-3000-8TM="},null,null,null,0,{"$f":"'Bill of Materials'!J962","v":"standard material"},{"$f":"'Bill of Materials'!K962","v":"electronic"},0]
[{"$f":"'Bill of Materials'!#REF!+'Bill of Materials'!#REF!","v":{"$error":"#REF!"}},{"$f":"'Bill of Materials'!#REF!","v":{"$error":"#REF!"}},{"$f":"'Bill of Materials'!#REF!","v":{"$error":"#REF!"}},{"$f":"'Bill of Materials'!#REF!","v":{"$error":"#REF!"}},{"$f":"'Bill of Materials'!#REF!","v":{"$error":"#REF!"}},{"$f":"'Bill of Materials'!#REF!","v":{"$error":"#REF!"}},{"$f":"'Bill of Materials'!#REF!","v":{"$error":"#REF!"}},{"$f":"'Bill of Materials'!#REF!","v":{"$error":"#REF!"}},null,null,null,{"$error":"#REF!"},{"$f":"'Bill of Materials'!#REF!","v":{"$error":"#REF!"}},{"$f":"'Bill of Materials'!#REF!","v":{"$error":"#REF!"}},{"$error":"#REF!"}]
[{"$f":"'Bill of Materials'!E963+'Bill of Materials'!F963","v":0},{"$f":"'Bill of Materials'!M963","v":"EA"},{"$f":"'Bill of Materials'!G963","v":"Cisco IE 3000 Expansion Module, 8 100FX"},{"$f":"'Bill of Materials'!L963","v":"Cisco"},{"$f":"'Bill of Materials'!N963","v":998},{"$f":"'Bill of Materials'!P963","v":"HP"},{"$f":"'Bill of Materials'!C963","v":"10293"},{"$f":"'Bill of Materials'!H963","v":"IEM-3000-8FM="},null,null,null,0,{"$f":"'Bill of Materials'!J963","v":"standard material"},{"$f":"'Bill of Materials'!K963","v":"electronic"},0]
[{"$f":"'Bill of Materials'!E964+'Bill of Materials'!F964","v":0},{"$f":"'Bill of Materials'!M964","v":"EA"},{"$f":"'Bill of Materials'!G964","v":"Cisco IE 3000 Power transformer"},{"$f":"'Bill of Materials'!L964","v":"Cisco"},{"$f":"'Bill of Materials'!N964","v":158},{"$f":"'Bill of Materials'!P964","v":"HP"},{"$f":"'Bill of Materials'!C964","v":"10294"},{"$f":"'Bill of Materials'!H964","v":"PWR-IE3000-AC="},null,null,null,0,{"$f":"'Bill of Materials'!J964","v":"standard material"},{"$f":"'Bill of Materials'!K964","v":"electronic"},0]
[{"$f":"'Bill of Materials'!E965+'Bill of Materials'!F965","v":0},{"$f":"'Bill of Materials'!M965","v":"EA"},{"$f":"'Bill of Materials'!G965","v":"Cisco IE 3000 Spare Connector Power Transformer"},{"$f":"'Bill of Materials'!L965","v":"Cisco"},{"$f":"'Bill of Materials'!N965","v":6},{"$f":"'Bill of Materials'!P965","v":"HP"},{"$f":"'Bill of Materials'!C965","v":"10295"},{"$f":"'Bill of Materials'!H965","v":"PWR-IE3000-CLP=\t"},null,null,null,0,{"$f":"'Bill of Materials'!J965","v":"standard material"},{"$f":"'Bill of Materials'!K965","v":"electronic"},0]
[{"$f":"'Bill of Materials'!E966+'Bill of Materials'!F966","v":0},{"$f":"'Bill of Materials'!M966","v":"EA"},{"$f":"'Bill of Materials'!G966","v":"Cisco IE 3000 Spare Power Connector"},{"$f":"'Bill of Materials'!L966","v":"Cisco"},{"$f":"'Bill of Materials'!N966","v":10},{"$f":"'Bill of Materials'!P966","v":"HP"},{"$f":"'Bill of Materials'!C966","v":"10296"},{"$f":"'Bill of Materials'!H966","v":"PWR-IE3000-CNCT="},null,null,null,0,{"$f":"'Bill of Materials'!J966","v":"standard material"},{"$f":"'Bill of Materials'!K966","v":"electronic"},0]
[{"$f":"'Bill of Materials'!E968+'Bill of Materials'!F968","v":0},{"$f":"'Bill of Materials'!M968","v":"EA"},{"$f":"'Bill of Materials'!G968","v":"10GBASE-SR SFP Module"},{"$f":"'Bill of Materials'!L968","v":"Cisco"},{"$f":"'Bill of Materials'!N968","v":672.75},{"$f":"'Bill of Materials'!P968","v":"HP"},{"$f":"'Bill of Materials'!C968","v":"10197"},{"$f":"'Bill of Materials'!H968","v":"SFP-10G-SR"},null,null,null,0,{"$f":"'Bill of Materials'!J968","v":"standard material"},{"$f":"'Bill of Materials'!K968","v":"electronic"},0]
[{"$f":"'Bill of Materials'!E969+'Bill of Materials'!F969","v":0},{"$f":"'Bill of Materials'!M969","v":"EA"},{"$f":"'Bill of Materials'!G969","v":"10GBASE-LR SFP Module"},{"$f":"'Bill of Materials'!L969","v":"Cisco"},{"$f":"'Bill of Materials'!N969","v":1598},{"$f":"'Bill of Materials'!P969","v":"HP"},{"$f":"'Bill of Materials'!C969","v":"10237"},{"$f":"'Bill of Materials'!H969","v":"SFP-10G-LR"},null,null,null,0,{"$f":"'Bill of Materials'!J969","v":"standard material"},{"$f":"'Bill of Materials'!K969","v":"electronic"},0]
[{"$f":"'Bill of Materials'!E970+'Bill of Materials'!F970","v":0},{"$f":"'Bill of Materials'!M970","v":"EA"},{"$f":"'Bill of Materials'!G970","v":"10GBASE-CU SFP+ Cable 1 Meter"},{"$f":"'Bill of Materials'!L970","v":"Cisco"},{"$f":"'Bill of Materials'!N970","v":60},{"$f":"'Bill of Materials'!P970","v":"HP"},{"$f":"'Bill of Materials'!C970","v":"10241"},{"$f":"'Bill of Materials'!H970","v":"SFP-H10GB-CU1M"},null,null,null,0,{"$f":"'Bill of Materials'!J970","v":"standard material"},{"$f":"'Bill of Materials'!K970","v":"electronic"},0]
[{"$f":"'Bill of Materials'!E971+'Bill of Materials'!F971","v":0},{"$f":"'Bill of Materials'!M971","v":"EA"},{"$f":"'Bill of Materials'!G971","v":"10GBASE-CU SFP+ Cable 3 Meter"},{"$f":"'Bill of Materials'!L971","v":"Cisco"},{"$f":"'Bill of Materials'!N971","v":84},{"$f":"'Bill of Materials'!P971","v":"HP"},{"$f":"'Bill of Materials'!C971","v":"10242"},{"$f":"'Bill of Materials'!H971","v":"SFP-H10GB-CU3M"},null,null,null,0,{"$f":"'Bill of Materials'!J971","v":"standard material"},{"$f":"'Bill of Materials'!K971","v":"electronic"},0]
[{"$f":"'Bill of Materials'!#REF!+'Bill of Materials'!#REF!","v":{"$error":"#REF!"}},{"$f":"'Bill of Materials'!#REF!","v":{"$error":"#REF!"}},{"$f":"'Bill of Materials'!#REF!","v":{"$error":"#REF!"}},{"$f":"'Bill of Materials'!#REF!","v":{"$error":"#REF!"}},{"$f":"'Bill of Materials'!#REF!","v":{"$error":"#REF!"}},{"$f":"'Bill of Materials'!#REF!","v":{"$error":"#REF!"}},{"$f":"'Bill of Materials'!#REF!","v":{"$error":"#REF!"}},{"$f":"'Bill of Materials'!#REF!","v":{"$error":"#REF!"}},null,null,null,{"$error":"#REF!"},{"$f":"'Bill of Materials'!#REF!","v":{"$error":"#REF!"}},{"$f":"'Bill of Materials'!#REF!","v":{"$error":"#REF!"}},{"$error":"#REF!"}]
[{"$f":"'Bill of Materials'!#REF!+'Bill of Materials'!#REF!","v":{"$error":"#REF!"}},{"$f":"'Bill of Materials'!#REF!","v":{"$error":"#REF!"}},{"$f":"'Bill of Materials'!#REF!","v":{"$error":"#REF!"}},{"$f":"'Bill of Materials'!#REF!","v":{"$error":"#REF!"}},{"$f":"'Bill of Materials'!#REF!","v":{"$error":"#REF!"}},{"$f":"'Bill of Materials'!#REF!","v":{"$error":"#REF!"}},{"$f":"'Bill of Materials'!#REF!","v":{"$error":"#REF!"}},{"$f":"'Bill of Materials'!#REF!","v":{"$error":"#REF!"}},null,null,null,{"$error":"#REF!"},{"$f":"'Bill of Materials'!#REF!","v":{"$error":"#REF!"}},{"$f":"'Bill of Materials'!#REF!","v":{"$error":"#REF!"}},{"$error":"#REF!"}]
[{"$f":"'Bill of Materials'!E972+'Bill of Materials'!F972","v":0},{"$f":"'Bill of Materials'!M972","v":"EA"},{"$f":"'Bill of Materials'!G972","v":"10GBASE-CU SFP+ Cable 5 Meter"},{"$f":"'Bill of Materials'!L972","v":"Cisco"},{"$f":"'Bill of Materials'!N972","v":104},{"$f":"'Bill of Materials'!P972","v":"HP"},{"$f":"'Bill of Materials'!C972","v":"10243"},{"$f":"'Bill of Materials'!H972","v":"SFP-H10GB-CU5M"},null,null,null,0,{"$f":"'Bill of Materials'!J972","v":"standard material"},{"$f":"'Bill of Materials'!K972","v":"electronic"},0]
[{"$f":"'Bill of Materials'!E973+'Bill of Materials'!F973","v":0},{"$f":"'Bill of Materials'!M973","v":"EA"},{"$f":"'Bill of Materials'!G973","v":"10GBASE-LRM SFP Module"},{"$f":"'Bill of Materials'!L973","v":"Cisco"},{"$f":"'Bill of Materials'!N973","v":518},{"$f":"'Bill of Materials'!P973","v":"HP"},{"$f":"'Bill of Materials'!C973","v":"10343"},{"$f":"'Bill of Materials'!H973","v":"SFP-10G-LRM="},null,null,null,0,{"$f":"'Bill of Materials'!J973","v":"standard material"},{"$f":"'Bill of Materials'!K973","v":"electronic"},0]
[{"$f":"'Bill of Materials'!#REF!+'Bill of Materials'!#REF!","v":{"$error":"#REF!"}},{"$f":"'Bill of Materials'!#REF!","v":{"$error":"#REF!"}},{"$f":"'Bill of Materials'!#REF!","v":{"$error":"#REF!"}},{"$f":"'Bill of Materials'!#REF!","v":{"$error":"#REF!"}},{"$f":"'Bill of Materials'!#REF!","v":{"$error":"#REF!"}},{"$f":"'Bill of Materials'!#REF!","v":{"$error":"#REF!"}},{"$f":"'Bill of Materials'!#REF!","v":{"$error":"#REF!"}},{"$f":"'Bill of Materials'!#REF!","v":{"$error":"#REF!"}},null,null,null,{"$error":"#REF!"},{"$f":"'Bill of Materials'!#REF!","v":{"$error":"#REF!"}},{"$f":"'Bill of Materials'!#REF!","v":{"$error":"#REF!"}},{"$error":"#REF!"}]
[{"$f":"'Bill of Materials'!#REF!+'Bill of Materials'!#REF!","v":{"$error":"#REF!"}},{"$f":"'Bill of Materials'!#REF!","v":{"$error":"#REF!"}},{"$f":"'Bill of Materials'!#REF!","v":{"$error":"#REF!"}},{"$f":"'Bill of Materials'!#REF!","v":{"$error":"#REF!"}},{"$f":"'Bill of Materials'!#REF!","v":{"$error":"#REF!"}},{"$f":"'Bill of Materials'!#REF!","v":{"$error":"#REF!"}},{"$f":"'Bill of Materials'!#REF!","v":{"$error":"#REF!"}},{"$f":"'Bill of Materials'!#REF!","v":{"$error":"#REF!"}},null,null,null,{"$error":"#REF!"},{"$f":"'Bill of Materials'!#REF!","v":{"$error":"#REF!"}},{"$f":"'Bill of Materials'!#REF!","v":{"$error":"#REF!"}},{"$error":"#REF!"}]
[{"$f":"'Bill of Materials'!#REF!+'Bill of Materials'!#REF!","v":{"$error":"#REF!"}},{"$f":"'Bill of Materials'!#REF!","v":{"$error":"#REF!"}},{"$f":"'Bill of Materials'!#REF!","v":{"$error":"#REF!"}},{"$f":"'Bill of Materials'!#REF!","v":{"$error":"#REF!"}},{"$f":"'Bill of Materials'!#REF!","v":{"$error":"#REF!"}},{"$f":"'Bill of Materials'!#REF!","v":{"$error":"#REF!"}},{"$f":"'Bill of Materials'!#REF!","v":{"$error":"#REF!"}},{"$f":"'Bill of Materials'!#REF!","v":{"$error":"#REF!"}},null,null,null,{"$error":"#REF!"},{"$f":"'Bill of Materials'!#REF!","v":{"$error":"#REF!"}},{"$f":"'Bill of Materials'!#REF!","v":{"$error":"#REF!"}},{"$error":"#REF!"}]
[{"$f":"'Bill of Materials'!#REF!+'Bill of Materials'!#REF!","v":{"$error":"#REF!"}},{"$f":"'Bill of Materials'!#REF!","v":{"$error":"#REF!"}},{"$f":"'Bill of Materials'!#REF!","v":{"$error":"#REF!"}},{"$f":"'Bill of Materials'!#REF!","v":{"$error":"#REF!"}},{"$f":"'Bill of Materials'!#REF!","v":{"$error":"#REF!"}},{"$f":"'Bill of Materials'!#REF!","v":{"$error":"#REF!"}},{"$f":"'Bill of Materials'!#REF!","v":{"$error":"#REF!"}},{"$f":"'Bill of Materials'!#REF!","v":{"$error":"#REF!"}},null,null,null,{"$error":"#REF!"},{"$f":"'Bill of Materials'!#REF!","v":{"$error":"#REF!"}},{"$f":"'Bill of Materials'!#REF!","v":{"$error":"#REF!"}},{"$error":"#REF!"}]
[{"$f":"'Bill of Materials'!#REF!+'Bill of Materials'!#REF!","v":{"$error":"#REF!"}},{"$f":"'Bill of Materials'!#REF!","v":{"$error":"#REF!"}},{"$f":"'Bill of Materials'!#REF!","v":{"$error":"#REF!"}},{"$f":"'Bill of Materials'!#REF!","v":{"$error":"#REF!"}},{"$f":"'Bill of Materials'!#REF!","v":{"$error":"#REF!"}},{"$f":"'Bill of Materials'!#REF!","v":{"$error":"#REF!"}},{"$f":"'Bill of Materials'!#REF!","v":{"$error":"#REF!"}},{"$f":"'Bill of Materials'!#REF!","v":{"$error":"#REF!"}},null,null,null,{"$error":"#REF!"},{"$f":"'Bill of Materials'!#REF!","v":{"$error":"#REF!"}},{"$f":"'Bill of Materials'!#REF!","v":{"$error":"#REF!"}},{"$error":"#REF!"}]
[{"$f":"'Bill of Materials'!#REF!+'Bill of Materials'!#REF!","v":{"$error":"#REF!"}},{"$f":"'Bill of Materials'!#REF!","v":{"$error":"#REF!"}},{"$f":"'Bill of Materials'!#REF!","v":{"$error":"#REF!"}},{"$f":"'Bill of Materials'!#REF!","v":{"$error":"#REF!"}},{"$f":"'Bill of Materials'!#REF!","v":{"$error":"#REF!"}},{"$f":"'Bill of Materials'!#REF!","v":{"$error":"#REF!"}},{"$f":"'Bill of Materials'!#REF!","v":{"$error":"#REF!"}},{"$f":"'Bill of Materials'!#REF!","v":{"$error":"#REF!"}},null,null,null,{"$error":"#REF!"},{"$f":"'Bill of Materials'!#REF!","v":{"$error":"#REF!"}},{"$f":"'Bill of Materials'!#REF!","v":{"$error":"#REF!"}},{"$error":"#REF!"}]
[{"$f":"'Bill of Materials'!#REF!+'Bill of Materials'!#REF!","v":{"$error":"#REF!"}},{"$f":"'Bill of Materials'!#REF!","v":{"$error":"#REF!"}},{"$f":"'Bill of Materials'!#REF!","v":{"$error":"#REF!"}},{"$f":"'Bill of Materials'!#REF!","v":{"$error":"#REF!"}},{"$f":"'Bill of Materials'!#REF!","v":{"$error":"#REF!"}},{"$f":"'Bill of Materials'!#REF!","v":{"$error":"#REF!"}},{"$f":"'Bill of Materials'!#REF!","v":{"$error":"#REF!"}},{"$f":"'Bill of Materials'!#REF!","v":{"$error":"#REF!"}},null,null,null,{"$error":"#REF!"},{"$f":"'Bill of Materials'!#REF!","v":{"$error":"#REF!"}},{"$f":"'Bill of Materials'!#REF!","v":{"$error":"#REF!"}},{"$error":"#REF!"}]
[{"$f":"'Bill of Materials'!E974+'Bill of Materials'!F974","v":0},{"$f":"'Bill of Materials'!M974","v":"EA"},{"$f":"'Bill of Materials'!G974","v":"CISCO 10G Line Extender for FEX"},{"$f":"'Bill of Materials'!L974","v":"Cisco"},{"$f":"'Bill of Materials'!N974","v":672.75},{"$f":"'Bill of Materials'!P974","v":"HP"},{"$f":"'Bill of Materials'!C974","v":"10474"},{"$f":"'Bill of Materials'!H974","v":"FET-10G"},null,null,null,0,{"$f":"'Bill of Materials'!J974","v":"standard material"},{"$f":"'Bill of Materials'!K974","v":"electronic"},0]
[{"$f":"'Bill of Materials'!#REF!+'Bill of Materials'!#REF!","v":{"$error":"#REF!"}},{"$f":"'Bill of Materials'!#REF!","v":{"$error":"#REF!"}},{"$f":"'Bill of Materials'!#REF!","v":{"$error":"#REF!"}},{"$f":"'Bill of Materials'!#REF!","v":{"$error":"#REF!"}},{"$f":"'Bill of Materials'!#REF!","v":{"$error":"#REF!"}},{"$f":"'Bill of Materials'!#REF!","v":{"$error":"#REF!"}},{"$f":"'Bill of Materials'!#REF!","v":{"$error":"#REF!"}},{"$f":"'Bill of Materials'!#REF!","v":{"$error":"#REF!"}},null,null,null,{"$error":"#REF!"},{"$f":"'Bill of Materials'!#REF!","v":{"$error":"#REF!"}},{"$f":"'Bill of Materials'!#REF!","v":{"$error":"#REF!"}},{"$error":"#REF!"}]
[{"$f":"'Bill of Materials'!E976+'Bill of Materials'!F976","v":0},{"$f":"'Bill of Materials'!M976","v":"EA"},{"$f":"'Bill of Materials'!G976","v":"CISCO Nexus 2248TP with 8 FET (2 AC PS, 1 Fan (Std Airflow))"},{"$f":"'Bill of Materials'!L976","v":"Cisco"},{"$f":"'Bill of Materials'!N976","v":4950},{"$f":"'Bill of Materials'!P976","v":"HP"},{"$f":"'Bill of Materials'!C976","v":"10473"},{"$f":"'Bill of Materials'!H976","v":"N2K-C2248TF-1GE"},null,null,null,0,{"$f":"'Bill of Materials'!J976","v":"standard material"},{"$f":"'Bill of Materials'!K976","v":"electronic"},0]
[{"$f":"'Bill of Materials'!#REF!+'Bill of Materials'!#REF!","v":{"$error":"#REF!"}},{"$f":"'Bill of Materials'!#REF!","v":{"$error":"#REF!"}},{"$f":"'Bill of Materials'!#REF!","v":{"$error":"#REF!"}},{"$f":"'Bill of Materials'!#REF!","v":{"$error":"#REF!"}},{"$f":"'Bill of Materials'!#REF!","v":{"$error":"#REF!"}},{"$f":"'Bill of Materials'!#REF!","v":{"$error":"#REF!"}},{"$f":"'Bill of Materials'!#REF!","v":{"$error":"#REF!"}},{"$f":"'Bill of Materials'!#REF!","v":{"$error":"#REF!"}},null,null,null,{"$error":"#REF!"},{"$f":"'Bill of Materials'!#REF!","v":{"$error":"#REF!"}},{"$f":"'Bill of Materials'!#REF!","v":{"$error":"#REF!"}},{"$error":"#REF!"}]
[{"$f":"'Bill of Materials'!#REF!+'Bill of Materials'!#REF!","v":{"$error":"#REF!"}},{"$f":"'Bill of Materials'!#REF!","v":{"$error":"#REF!"}},{"$f":"'Bill of Materials'!#REF!","v":{"$error":"#REF!"}},{"$f":"'Bill of Materials'!#REF!","v":{"$error":"#REF!"}},{"$f":"'Bill of Materials'!#REF!","v":{"$error":"#REF!"}},{"$f":"'Bill of Materials'!#REF!","v":{"$error":"#REF!"}},{"$f":"'Bill of Materials'!#REF!","v":{"$error":"#REF!"}},{"$f":"'Bill of Materials'!#REF!","v":{"$error":"#REF!"}},null,null,null,{"$error":"#REF!"},{"$f":"'Bill of Materials'!#REF!","v":{"$error":"#REF!"}},{"$f":"'Bill of Materials'!#REF!","v":{"$error":"#REF!"}},{"$error":"#REF!"}]
[{"$f":"'Bill of Materials'!#REF!+'Bill of Materials'!#REF!","v":{"$error":"#REF!"}},{"$f":"'Bill of Materials'!#REF!","v":{"$error":"#REF!"}},{"$f":"'Bill of Materials'!#REF!","v":{"$error":"#REF!"}},{"$f":"'Bill of Materials'!#REF!","v":{"$error":"#REF!"}},{"$f":"'Bill of Materials'!#REF!","v":{"$error":"#REF!"}},{"$f":"'Bill of Materials'!#REF!","v":{"$error":"#REF!"}},{"$f":"'Bill of Materials'!#REF!","v":{"$error":"#REF!"}},{"$f":"'Bill of Materials'!#REF!","v":{"$error":"#REF!"}},null,null,null,{"$error":"#REF!"},{"$f":"'Bill of Materials'!#REF!","v":{"$error":"#REF!"}},{"$f":"'Bill of Materials'!#REF!","v":{"$error":"#REF!"}},{"$error":"#REF!"}]
[{"$f":"'Bill of Materials'!#REF!+'Bill of Materials'!#REF!","v":{"$error":"#REF!"}},{"$f":"'Bill of Materials'!#REF!","v":{"$error":"#REF!"}},{"$f":"'Bill of Materials'!#REF!","v":{"$error":"#REF!"}},{"$f":"'Bill of Materials'!#REF!","v":{"$error":"#REF!"}},{"$f":"'Bill of Materials'!#REF!","v":{"$error":"#REF!"}},{"$f":"'Bill of Materials'!#REF!","v":{"$error":"#REF!"}},{"$f":"'Bill of Materials'!#REF!","v":{"$error":"#REF!"}},{"$f":"'Bill of Materials'!#REF!","v":{"$error":"#REF!"}},null,null,null,{"$error":"#REF!"},{"$f":"'Bill of Materials'!#REF!","v":{"$error":"#REF!"}},{"$f":"'Bill of Materials'!#REF!","v":{"$error":"#REF!"}},{"$error":"#REF!"}]
[{"$f":"'Bill of Materials'!#REF!+'Bill of Materials'!#REF!","v":{"$error":"#REF!"}},{"$f":"'Bill of Materials'!#REF!","v":{"$error":"#REF!"}},{"$f":"'Bill of Materials'!#REF!","v":{"$error":"#REF!"}},{"$f":"'Bill of Materials'!#REF!","v":{"$error":"#REF!"}},{"$f":"'Bill of Materials'!#REF!","v":{"$error":"#REF!"}},{"$f":"'Bill of Materials'!#REF!","v":{"$error":"#REF!"}},{"$f":"'Bill of Materials'!#REF!","v":{"$error":"#REF!"}},{"$f":"'Bill of Materials'!#REF!","v":{"$error":"#REF!"}},null,null,null,{"$error":"#REF!"},{"$f":"'Bill of Materials'!#REF!","v":{"$error":"#REF!"}},{"$f":"'Bill of Materials'!#REF!","v":{"$error":"#REF!"}},{"$error":"#REF!"}]
[{"$f":"'Bill of Materials'!#REF!+'Bill of Materials'!#REF!","v":{"$error":"#REF!"}},{"$f":"'Bill of Materials'!#REF!","v":{"$error":"#REF!"}},{"$f":"'Bill of Materials'!#REF!","v":{"$error":"#REF!"}},{"$f":"'Bill of Materials'!#REF!","v":{"$error":"#REF!"}},{"$f":"'Bill of Materials'!#REF!","v":{"$error":"#REF!"}},{"$f":"'Bill of Materials'!#REF!","v":{"$error":"#REF!"}},{"$f":"'Bill of Materials'!#REF!","v":{"$error":"#REF!"}},{"$f":"'Bill of Materials'!#REF!","v":{"$error":"#REF!"}},null,null,null,{"$error":"#REF!"},{"$f":"'Bill of Materials'!#REF!","v":{"$error":"#REF!"}},{"$f":"'Bill of Materials'!#REF!","v":{"$error":"#REF!"}},{"$error":"#REF!"}]
[{"$f":"'Bill of Materials'!#REF!+'Bill of Materials'!#REF!","v":{"$error":"#REF!"}},{"$f":"'Bill of Materials'!#REF!","v":{"$error":"#REF!"}},{"$f":"'Bill of Materials'!#REF!","v":{"$error":"#REF!"}},{"$f":"'Bill of Materials'!#REF!","v":{"$error":"#REF!"}},{"$f":"'Bill of Materials'!#REF!","v":{"$error":"#REF!"}},{"$f":"'Bill of Materials'!#REF!","v":{"$error":"#REF!"}},{"$f":"'Bill of Materials'!#REF!","v":{"$error":"#REF!"}},{"$f":"'Bill of Materials'!#REF!","v":{"$error":"#REF!"}},null,null,null,{"$error":"#REF!"},{"$f":"'Bill of Materials'!#REF!","v":{"$error":"#REF!"}},{"$f":"'Bill of Materials'!#REF!","v":{"$error":"#REF!"}},{"$error":"#REF!"}]
[{"$f":"'Bill of Materials'!#REF!+'Bill of Materials'!#REF!","v":{"$error":"#REF!"}},{"$f":"'Bill of Materials'!#REF!","v":{"$error":"#REF!"}},{"$f":"'Bill of Materials'!#REF!","v":{"$error":"#REF!"}},{"$f":"'Bill of Materials'!#REF!","v":{"$error":"#REF!"}},{"$f":"'Bill of Materials'!#REF!","v":{"$error":"#REF!"}},{"$f":"'Bill of Materials'!#REF!","v":{"$error":"#REF!"}},{"$f":"'Bill of Materials'!#REF!","v":{"$error":"#REF!"}},{"$f":"'Bill of Materials'!#REF!","v":{"$error":"#REF!"}},null,null,null,{"$error":"#REF!"},{"$f":"'Bill of Materials'!#REF!","v":{"$error":"#REF!"}},{"$f":"'Bill of Materials'!#REF!","v":{"$error":"#REF!"}},{"$error":"#REF!"}]
[{"$f":"'Bill of Materials'!#REF!+'Bill of Materials'!#REF!","v":{"$error":"#REF!"}},{"$f":"'Bill of Materials'!#REF!","v":{"$error":"#REF!"}},{"$f":"'Bill of Materials'!#REF!","v":{"$error":"#REF!"}},{"$f":"'Bill of Materials'!#REF!","v":{"$error":"#REF!"}},{"$f":"'Bill of Materials'!#REF!","v":{"$error":"#REF!"}},{"$f":"'Bill of Materials'!#REF!","v":{"$error":"#REF!"}},{"$f":"'Bill of Materials'!#REF!","v":{"$error":"#REF!"}},{"$f":"'Bill of Materials'!#REF!","v":{"$error":"#REF!"}},null,null,null,{"$error":"#REF!"},{"$f":"'Bill of Materials'!#REF!","v":{"$error":"#REF!"}},{"$f":"'Bill of Materials'!#REF!","v":{"$error":"#REF!"}},{"$error":"#REF!"}]
[{"$f":"'Bill of Materials'!E977+'Bill of Materials'!F977","v":0},{"$f":"'Bill of Materials'!M977","v":"EA"},{"$f":"'Bill of Materials'!G977","v":"CISCO N2K GE, 2 AC PS, 1 Fan (Std Air), 24x100/1000-T+2x10GE"},{"$f":"'Bill of Materials'!L977","v":"Cisco"},{"$f":"'Bill of Materials'!N977","v":3150},{"$f":"'Bill of Materials'!P977","v":"HP"},{"$f":"'Bill of Materials'!C977","v":"10475"},{"$f":"'Bill of Materials'!H977","v":"N2K-C2224TP-1GE"},null,null,null,0,{"$f":"'Bill of Materials'!J977","v":"standard material"},{"$f":"'Bill of Materials'!K977","v":"electronic"},0]
[{"$f":"'Bill of Materials'!E979+'Bill of Materials'!F979","v":0},{"$f":"'Bill of Materials'!M979","v":"EA"},{"$f":"'Bill of Materials'!G979","v":"Power Cord, 250V 6A North America, NEMA 6-15\r\n"},{"$f":"'Bill of Materials'!L979","v":"Cisco"},{"$f":"'Bill of Materials'!N979","v":24},{"$f":"'Bill of Materials'!P979","v":"HP"},{"$f":"'Bill of Materials'!C979","v":"10217"},{"$f":"'Bill of Materials'!H979","v":"CAB-N5K6A-NA"},null,null,null,0,{"$f":"'Bill of Materials'!J979","v":"standard material"},{"$f":"'Bill of Materials'!K979","v":"electronic"},0]
[{"$f":"'Bill of Materials'!E980+'Bill of Materials'!F980","v":0},{"$f":"'Bill of Materials'!M980","v":"EA"},{"$f":"'Bill of Materials'!G980","v":"Power Cord, 125VAC 13A North America,  NEMA 5-15 \r\n"},{"$f":"'Bill of Materials'!L980","v":"Cisco"},{"$f":"'Bill of Materials'!N980","v":12},{"$f":"'Bill of Materials'!P980","v":"HP"},{"$f":"'Bill of Materials'!C980","v":"10219"},{"$f":"'Bill of Materials'!H980","v":"CAB-9K12A-NA"},null,null,null,0,{"$f":"'Bill of Materials'!J980","v":"standard material"},{"$f":"'Bill of Materials'!K980","v":"electronic"},0]
[{"$f":"'Bill of Materials'!E981+'Bill of Materials'!F981","v":0},{"$f":"'Bill of Materials'!M981","v":"EA"},{"$f":"'Bill of Materials'!G981","v":"CISCO Nexus 5500 Platform Layer 3 License"},{"$f":"'Bill of Materials'!L981","v":"Cisco"},{"$f":"'Bill of Materials'!N981","v":4500},{"$f":"'Bill of Materials'!P981","v":"HP"},{"$f":"'Bill of Materials'!C981","v":"10477"},{"$f":"'Bill of Materials'!H981","v":"N55-LAN1K9"},null,null,null,0,{"$f":"'Bill of Materials'!J981","v":"standard material"},{"$f":"'Bill of Materials'!K981","v":"electronic"},0]
[{"$f":"'Bill of Materials'!E982+'Bill of Materials'!F982","v":0},{"$f":"'Bill of Materials'!M982","v":"EA"},{"$f":"'Bill of Materials'!G982","v":"CISCO Nexus 5500 Unified Mod 16p 10GE Eth/FCoE OR 16p 8/4/2/1GFC"},{"$f":"'Bill of Materials'!L982","v":"Cisco"},{"$f":"'Bill of Materials'!N982","v":5040},{"$f":"'Bill of Materials'!P982","v":"HP"},{"$f":"'Bill of Materials'!C982","v":"10478"},{"$f":"'Bill of Materials'!H982","v":"N55-M16UP"},null,null,null,0,{"$f":"'Bill of Materials'!J982","v":"standard material"},{"$f":"'Bill of Materials'!K982","v":"electronic"},0]
[{"$f":"'Bill of Materials'!E983+'Bill of Materials'!F983","v":0},{"$f":"'Bill of Materials'!M983","v":"EA"},{"$f":"'Bill of Materials'!G983","v":"CISCO Nexus 5548 UP Chassis, 32 10GbE Ports, 2 PS, 2 Fans"},{"$f":"'Bill of Materials'!L983","v":"Cisco"},{"$f":"'Bill of Materials'!N983","v":11520},{"$f":"'Bill of Materials'!P983","v":"HP"},{"$f":"'Bill of Materials'!C983","v":"10479"},{"$f":"'Bill of Materials'!H983","v":"N5K-C5548UP-FA"},null,null,null,0,{"$f":"'Bill of Materials'!J983","v":"standard material"},{"$f":"'Bill of Materials'!K983","v":"electronic"},0]
[{"$f":"'Bill of Materials'!E984+'Bill of Materials'!F984","v":0},{"$f":"'Bill of Materials'!M984","v":"EA"},{"$f":"'Bill of Materials'!G984","v":"CISCO Nexus 5596UP 2RU Chassis, 2PS, 4 Fans, 48 Fixed 10GE Ports"},{"$f":"'Bill of Materials'!L984","v":"Cisco"},{"$f":"'Bill of Materials'!N984","v":16560},{"$f":"'Bill of Materials'!P984","v":"HP"},{"$f":"'Bill of Materials'!C984","v":"10480"},{"$f":"'Bill of Materials'!H984","v":"N5K-C5596UP-FA"},null,null,null,0,{"$f":"'Bill of Materials'!J984","v":"standard material"},{"$f":"'Bill of Materials'!K984","v":"electronic"},0]
[{"$f":"'Bill of Materials'!E985+'Bill of Materials'!F985","v":0},{"$f":"'Bill of Materials'!M985","v":"EA"},{"$f":"'Bill of Materials'!G985","v":"CISCO Nexus 5596 Layer 3 Expansion Module"},{"$f":"'Bill of Materials'!L985","v":"Cisco"},{"$f":"'Bill of Materials'!N985","v":2250},{"$f":"'Bill of Materials'!P985","v":"HP"},{"$f":"'Bill of Materials'!C985","v":"10481"},{"$f":"'Bill of Materials'!H985","v":"N55-M160L3"},null,null,null,0,{"$f":"'Bill of Materials'!J985","v":"standard material"},{"$f":"'Bill of Materials'!K985","v":"electronic"},0]
[{"$f":"'Bill of Materials'!E987+'Bill of Materials'!F987","v":0},{"$f":"'Bill of Materials'!M987","v":"EA"},{"$f":"'Bill of Materials'!G987","v":"Nexus 7000 Advanced LAN Enterprise License (VDC, CTS ONLY)"},{"$f":"'Bill of Materials'!L987","v":"Cisco"},{"$f":"'Bill of Materials'!N987","v":9000},{"$f":"'Bill of Materials'!P987","v":"HP"},{"$f":"'Bill of Materials'!C987","v":"10187"},{"$f":"'Bill of Materials'!H987","v":"N7K-ADV1K9"},null,null,null,0,{"$f":"'Bill of Materials'!J987","v":"standard material"},{"$f":"'Bill of Materials'!K987","v":"electronic"},0]
[{"$f":"'Bill of Materials'!E988+'Bill of Materials'!F988","v":0},{"$f":"'Bill of Materials'!M988","v":"EA"},{"$f":"'Bill of Materials'!G988","v":"Nexus 7010 Air Filter"},{"$f":"'Bill of Materials'!L988","v":"Cisco"},{"$f":"'Bill of Materials'!N988","v":225},{"$f":"'Bill of Materials'!P988","v":"HP"},{"$f":"'Bill of Materials'!C988","v":"10188"},{"$f":"'Bill of Materials'!H988","v":"N7K-C7010-AFLT"},null,null,null,0,{"$f":"'Bill of Materials'!J988","v":"standard material"},{"$f":"'Bill of Materials'!K988","v":"electronic"},0]
[{"$f":"'Bill of Materials'!E989+'Bill of Materials'!F989","v":0},{"$f":"'Bill of Materials'!M989","v":"EA"},{"$f":"'Bill of Materials'!G989","v":"Nexus 7010 Bundle (Chassis, SUP1, (3) FAB1, (2) AC-6KW PSU)"},{"$f":"'Bill of Materials'!L989","v":"Cisco"},{"$f":"'Bill of Materials'!N989","v":21600},{"$f":"'Bill of Materials'!P989","v":"HP"},{"$f":"'Bill of Materials'!C989","v":"10189"},{"$f":"'Bill of Materials'!H989","v":"N7K-C7010-BUN"},null,null,null,0,{"$f":"'Bill of Materials'!J989","v":"standard material"},{"$f":"'Bill of Materials'!K989","v":"electronic"},0]
[{"$f":"'Bill of Materials'!E990+'Bill of Materials'!F990","v":0},{"$f":"'Bill of Materials'!M990","v":"EA"},{"$f":"'Bill of Materials'!G990","v":"Nexus 7010 Front Door Kit"},{"$f":"'Bill of Materials'!L990","v":"Cisco"},{"$f":"'Bill of Materials'!N990","v":675},{"$f":"'Bill of Materials'!P990","v":"HP"},{"$f":"'Bill of Materials'!C990","v":"10190"},{"$f":"'Bill of Materials'!H990","v":"N7K-C7010-FD-MB"},null,null,null,0,{"$f":"'Bill of Materials'!J990","v":"standard material"},{"$f":"'Bill of Materials'!K990","v":"electronic"},0]
[{"$f":"'Bill of Materials'!E991+'Bill of Materials'!F991","v":0},{"$f":"'Bill of Materials'!M991","v":"EA"},{"$f":"'Bill of Materials'!G991","v":"Nexus 7000 Compact Flash Memory 2GB (Expansion Flash - Slot 0)"},{"$f":"'Bill of Materials'!L991","v":"Cisco"},{"$f":"'Bill of Materials'!N991","v":540},{"$f":"'Bill of Materials'!P991","v":"HP"},{"$f":"'Bill of Materials'!C991","v":"10191"},{"$f":"'Bill of Materials'!H991","v":"N7K-CPF-2GB"},null,null,null,0,{"$f":"'Bill of Materials'!J991","v":"standard material"},{"$f":"'Bill of Materials'!K991","v":"electronic"},0]
[{"$f":"'Bill of Materials'!E992+'Bill of Materials'!F992","v":0},{"$f":"'Bill of Materials'!M992","v":"EA"},{"$f":"'Bill of Materials'!G992","v":"Nexus 7000 LAN Enterprise License (L3 Protocols)"},{"$f":"'Bill of Materials'!L992","v":"Cisco"},{"$f":"'Bill of Materials'!N992","v":6750},{"$f":"'Bill of Materials'!P992","v":"HP"},{"$f":"'Bill of Materials'!C992","v":"10192"},{"$f":"'Bill of Materials'!H992","v":"N7K-LAN1K9"},null,null,null,0,{"$f":"'Bill of Materials'!J992","v":"standard material"},{"$f":"'Bill of Materials'!K992","v":"electronic"},0]
[{"$f":"'Bill of Materials'!E993+'Bill of Materials'!F993","v":0},{"$f":"'Bill of Materials'!M993","v":"EA"},{"$f":"'Bill of Materials'!G993","v":"Nexus 7000 32 Port, 10GbE, 80G Fabric (req SFP+)"},{"$f":"'Bill of Materials'!L993","v":"Cisco"},{"$f":"'Bill of Materials'!N993","v":31500},{"$f":"'Bill of Materials'!P993","v":"HP"},{"$f":"'Bill of Materials'!C993","v":"10193"},{"$f":"'Bill of Materials'!H993","v":"N7K-M132XP-12L"},null,null,null,0,{"$f":"'Bill of Materials'!J993","v":"standard material"},{"$f":"'Bill of Materials'!K993","v":"electronic"},0]
[{"$f":"'Bill of Materials'!E994+'Bill of Materials'!F994","v":0},{"$f":"'Bill of Materials'!M994","v":"EA"},{"$f":"'Bill of Materials'!G994","v":"Nexus 7000 48 Port, 1G, SFP"},{"$f":"'Bill of Materials'!L994","v":"Cisco"},{"$f":"'Bill of Materials'!N994","v":12150},{"$f":"'Bill of Materials'!P994","v":"HP"},{"$f":"'Bill of Materials'!C994","v":"10194"},{"$f":"'Bill of Materials'!H994","v":"N7K-M148GS-11L"},null,null,null,0,{"$f":"'Bill of Materials'!J994","v":"standard material"},{"$f":"'Bill of Materials'!K994","v":"electronic"},0]
[{"$f":"'Bill of Materials'!E995+'Bill of Materials'!F995","v":0},{"$f":"'Bill of Materials'!M995","v":"EA"},{"$f":"'Bill of Materials'!G995","v":"Nexus 7000 48 Port, 10/100/1000, RJ-45"},{"$f":"'Bill of Materials'!L995","v":"Cisco"},{"$f":"'Bill of Materials'!N995","v":6750},{"$f":"'Bill of Materials'!P995","v":"HP"},{"$f":"'Bill of Materials'!C995","v":"10195"},{"$f":"'Bill of Materials'!H995","v":"N7K-M148GT-11L"},null,null,null,0,{"$f":"'Bill of Materials'!J995","v":"standard material"},{"$f":"'Bill of Materials'!K995","v":"electronic"},0]
[{"$f":"'Bill of Materials'!E996+'Bill of Materials'!F996","v":0},{"$f":"'Bill of Materials'!M996","v":"EA"},{"$f":"'Bill of Materials'!G996","v":"Nexus 7000 Supervisor, Includes External 8GB Log Flash"},{"$f":"'Bill of Materials'!L996","v":"Cisco"},{"$f":"'Bill of Materials'!N996","v":11250},{"$f":"'Bill of Materials'!P996","v":"HP"},{"$f":"'Bill of Materials'!C996","v":"10196"},{"$f":"'Bill of Materials'!H996","v":"N7K-SUP1"},null,null,null,0,{"$f":"'Bill of Materials'!J996","v":"standard material"},{"$f":"'Bill of Materials'!K996","v":"electronic"},0]
[{"$f":"'Bill of Materials'!E997+'Bill of Materials'!F997","v":0},{"$f":"'Bill of Materials'!M997","v":"EA"},{"$f":"'Bill of Materials'!G997","v":"Nexus 7000 7.5kW AC Power Supply Module US (Cable Included)"},{"$f":"'Bill of Materials'!L997","v":"Cisco"},{"$f":"'Bill of Materials'!N997","v":3375},{"$f":"'Bill of Materials'!P997","v":"HP"},{"$f":"'Bill of Materials'!C997","v":"10215"},{"$f":"'Bill of Materials'!H997","v":"N7K-AC-7.5KW-US"},null,null,null,{"$f":"E1036*A1036","v":0},{"$f":"'Bill of Materials'!J997","v":"standard material"},{"$f":"'Bill of Materials'!K997","v":"electronic"},{"$f":"IF(A1036>0,1,0)","v":0}]
[{"$f":"'Bill of Materials'!E998+'Bill of Materials'!F998","v":0},{"$f":"'Bill of Materials'!M998","v":"EA"},{"$f":"'Bill of Materials'!G998","v":"Nexus 7000 6.0kW AC Power Supply Module"},{"$f":"'Bill of Materials'!L998","v":"Cisco"},{"$f":"'Bill of Materials'!N998","v":2880},{"$f":"'Bill of Materials'!P998","v":"HP"},{"$f":"'Bill of Materials'!C998","v":"10216"},{"$f":"'Bill of Materials'!H998","v":"N7K-AC-6.0KW"},null,null,null,0,{"$f":"'Bill of Materials'!J998","v":"standard material"},{"$f":"'Bill of Materials'!K998","v":"electronic"},0]
[{"$f":"'Bill of Materials'!E999+'Bill of Materials'!F999","v":0},{"$f":"'Bill of Materials'!M999","v":"EA"},{"$f":"'Bill of Materials'!G999","v":"Nexus 7010 Base Chassis (No Power Supplies), Fans included"},{"$f":"'Bill of Materials'!L999","v":"Cisco"},{"$f":"'Bill of Materials'!N999","v":9000},{"$f":"'Bill of Materials'!P999","v":"HP"},{"$f":"'Bill of Materials'!C999","v":"10238"},{"$f":"'Bill of Materials'!H999","v":"N7K-C7010"},null,null,null,0,{"$f":"'Bill of Materials'!J999","v":"standard material"},{"$f":"'Bill of Materials'!K999","v":"electronic"},0]
[{"$f":"'Bill of Materials'!E1000+'Bill of Materials'!F1000","v":0},{"$f":"'Bill of Materials'!M1000","v":"EA"},{"$f":"'Bill of Materials'!G1000","v":"Nexus 7000 NX-OS Release 4.2"},{"$f":"'Bill of Materials'!L1000","v":"Cisco"},{"$f":"'Bill of Materials'!N1000","v":0},{"$f":"'Bill of Materials'!P1000","v":"HP"},{"$f":"'Bill of Materials'!C1000","v":"10239"},{"$f":"'Bill of Materials'!H1000","v":"N7KS1K9-42"},null,null,null,0,{"$f":"'Bill of Materials'!J1000","v":"standard material"},{"$f":"'Bill of Materials'!K1000","v":"electronic"},0]
[{"$f":"'Bill of Materials'!E1001+'Bill of Materials'!F1001","v":0},{"$f":"'Bill of Materials'!M1001","v":"EA"},{"$f":"'Bill of Materials'!G1001","v":"Nexus 7010 46Gbps / Slot Fabric Module"},{"$f":"'Bill of Materials'!L1001","v":"Cisco"},{"$f":"'Bill of Materials'!N1001","v":2700},{"$f":"'Bill of Materials'!P1001","v":"HP"},{"$f":"'Bill of Materials'!C1001","v":"10240"},{"$f":"'Bill of Materials'!H1001","v":"N7k-C7010-FAB-1"},null,null,null,0,{"$f":"'Bill of Materials'!J1001","v":"standard material"},{"$f":"'Bill of Materials'!K1001","v":"electronic"},0]
[{"$f":"'Bill of Materials'!E1003+'Bill of Materials'!F1003","v":0},{"$f":"'Bill of Materials'!M1003","v":"EA"},{"$f":"'Bill of Materials'!G1003","v":"1000 Mbps SM, Rugged SFP "},{"$f":"'Bill of Materials'!L1003","v":"Cisco"},{"$f":"'Bill of Materials'!N1003","v":438},{"$f":"'Bill of Materials'!P1003","v":"HP"},{"$f":"'Bill of Materials'!C1003","v":"10004"},{"$f":"'Bill of Materials'!H1003","v":"GLC-LX-SM-RGD="},null,null,null,0,{"$f":"'Bill of Materials'!J1003","v":"standard material"},{"$f":"'Bill of Materials'!K1003","v":"electronic"},0]
[{"$f":"'Bill of Materials'!E1004+'Bill of Materials'!F1004","v":0},{"$f":"'Bill of Materials'!M1004","v":"EA"},{"$f":"'Bill of Materials'!G1004","v":"1000 Mbps MM, Rugged SFP"},{"$f":"'Bill of Materials'!L1004","v":"Cisco"},{"$f":"'Bill of Materials'!N1004","v":220},{"$f":"'Bill of Materials'!P1004","v":"HP"},{"$f":"'Bill of Materials'!C1004","v":"10297"},{"$f":"'Bill of Materials'!H1004","v":"GLC-SX-MM-RGD="},null,null,null,0,{"$f":"'Bill of Materials'!J1004","v":"standard material"},{"$f":"'Bill of Materials'!K1004","v":"electronic"},0]
[{"$f":"'Bill of Materials'!E1005+'Bill of Materials'!F1005","v":0},{"$f":"'Bill of Materials'!M1005","v":"EA"},{"$f":"'Bill of Materials'!G1005","v":"100Base-FX MM, Rugged SFP"},{"$f":"'Bill of Materials'!L1005","v":"Cisco"},{"$f":"'Bill of Materials'!N1005","v":110},{"$f":"'Bill of Materials'!P1005","v":"HP"},{"$f":"'Bill of Materials'!C1005","v":"10298"},{"$f":"'Bill of Materials'!H1005","v":"GLC-FE-100FX-RGD="},null,null,null,0,{"$f":"'Bill of Materials'!J1005","v":"standard material"},{"$f":"'Bill of Materials'!K1005","v":"electronic"},0]
[{"$f":"'Bill of Materials'!E1006+'Bill of Materials'!F1006","v":0},{"$f":"'Bill of Materials'!M1006","v":"EA"},{"$f":"'Bill of Materials'!G1006","v":"100 Mbps SM,Rugged SFP"},{"$f":"'Bill of Materials'!L1006","v":"Cisco"},{"$f":"'Bill of Materials'!N1006","v":176},{"$f":"'Bill of Materials'!P1006","v":"HP"},{"$f":"'Bill of Materials'!C1006","v":"10299"},{"$f":"'Bill of Materials'!H1006","v":"GLC-FE-100LX-RGD="},null,null,null,0,{"$f":"'Bill of Materials'!J1006","v":"standard material"},{"$f":"'Bill of Materials'!K1006","v":"electronic"},0]
[{"$f":"'Bill of Materials'!E1007+'Bill of Materials'!F1007","v":0},{"$f":"'Bill of Materials'!M1007","v":"EA"},{"$f":"'Bill of Materials'!G1007","v":"1000Base LX/LH GBIC for GE Module Single or Multimode Fiber"},{"$f":"'Bill of Materials'!L1007","v":"Cisco"},{"$f":"'Bill of Materials'!N1007","v":447.75},{"$f":"'Bill of Materials'!P1007","v":"HP"},{"$f":"'Bill of Materials'!C1007","v":"8140"},{"$f":"'Bill of Materials'!H1007","v":"WS-G5486="},null,null,null,0,{"$f":"'Bill of Materials'!J1007","v":"standard material"},{"$f":"'Bill of Materials'!K1007","v":"electronic"},0]
[{"$f":"'Bill of Materials'!E1008+'Bill of Materials'!F1008","v":0},{"$f":"'Bill of Materials'!M1008","v":"EA"},{"$f":"'Bill of Materials'!G1008","v":"1000Base SX GBIC for GE Module Multimode Fiber"},{"$f":"'Bill of Materials'!L1008","v":"Cisco"},{"$f":"'Bill of Materials'!N1008","v":225},{"$f":"'Bill of Materials'!P1008","v":"HP"},{"$f":"'Bill of Materials'!C1008","v":"8141"},{"$f":"'Bill of Materials'!H1008","v":"WS-G5484="},null,null,null,0,{"$f":"'Bill of Materials'!J1008","v":"standard material"},{"$f":"'Bill of Materials'!K1008","v":"electronic"},0]
[{"$f":"'Bill of Materials'!E1009+'Bill of Materials'!F1009","v":0},{"$f":"'Bill of Materials'!M1009","v":"EA"},{"$f":"'Bill of Materials'!G1009","v":"1000Base ZX GBIC extended reach ( Single mode)"},{"$f":"'Bill of Materials'!L1009","v":"Cisco"},{"$f":"'Bill of Materials'!N1009","v":1797.75},{"$f":"'Bill of Materials'!P1009","v":"HP"},{"$f":"'Bill of Materials'!C1009","v":"8407"},{"$f":"'Bill of Materials'!H1009","v":"WS-G5487="},null,null,null,0,{"$f":"'Bill of Materials'!J1009","v":"standard material"},{"$f":"'Bill of Materials'!K1009","v":"electronic"},0]
[{"$f":"'Bill of Materials'!E1010+'Bill of Materials'!F1010","v":0},{"$f":"'Bill of Materials'!M1010","v":"EA"},{"$f":"'Bill of Materials'!G1010","v":"GE SFP, LC connector SX transceiver"},{"$f":"'Bill of Materials'!L1010","v":"Cisco"},{"$f":"'Bill of Materials'!N1010","v":200},{"$f":"'Bill of Materials'!P1010","v":"HP"},{"$f":"'Bill of Materials'!C1010","v":"8766"},{"$f":"'Bill of Materials'!H1010","v":"GLC-SX-MM="},null,null,null,0,{"$f":"'Bill of Materials'!J1010","v":"standard material"},{"$f":"'Bill of Materials'!K1010","v":"electronic"},0]
[{"$f":"'Bill of Materials'!E1011+'Bill of Materials'!F1011","v":0},{"$f":"'Bill of Materials'!M1011","v":"EA"},{"$f":"'Bill of Materials'!G1011","v":"GE SFP, LC connector LX/LH transceiver"},{"$f":"'Bill of Materials'!L1011","v":"Cisco"},{"$f":"'Bill of Materials'!N1011","v":398},{"$f":"'Bill of Materials'!P1011","v":"HP"},{"$f":"'Bill of Materials'!C1011","v":"8771"},{"$f":"'Bill of Materials'!H1011","v":"GLC-LH-SM="},null,null,null,0,{"$f":"'Bill of Materials'!J1011","v":"standard material"},{"$f":"'Bill of Materials'!K1011","v":"electronic"},0]
[{"$f":"'Bill of Materials'!E1012+'Bill of Materials'!F1012","v":0},{"$f":"'Bill of Materials'!M1012","v":"EA"},{"$f":"'Bill of Materials'!G1012","v":"1000BASE ZX SFP GLC-ZX-SM"},{"$f":"'Bill of Materials'!L1012","v":"Cisco"},{"$f":"'Bill of Materials'!N1012","v":1598},{"$f":"'Bill of Materials'!P1012","v":"HP"},{"$f":"'Bill of Materials'!C1012","v":"8813"},{"$f":"'Bill of Materials'!H1012","v":"GLC-ZX-SM="},null,null,null,0,{"$f":"'Bill of Materials'!J1012","v":"standard material"},{"$f":"'Bill of Materials'!K1012","v":"electronic"},0]
[{"$f":"'Bill of Materials'!E1013+'Bill of Materials'!F1013","v":0},{"$f":"'Bill of Materials'!M1013","v":"EA"},{"$f":"'Bill of Materials'!G1013","v":"100FX SFP on GE SFP ports on Catalyst 3750"},{"$f":"'Bill of Materials'!L1013","v":"Cisco"},{"$f":"'Bill of Materials'!N1013","v":100},{"$f":"'Bill of Materials'!P1013","v":"HP"},{"$f":"'Bill of Materials'!C1013","v":"8822"},{"$f":"'Bill of Materials'!H1013","v":"GLC-GE-100FX="},null,null,null,0,{"$f":"'Bill of Materials'!J1013","v":"standard material"},{"$f":"'Bill of Materials'!K1013","v":"electronic"},0]
[{"$f":"'Bill of Materials'!#REF!+'Bill of Materials'!#REF!","v":{"$error":"#REF!"}},{"$f":"'Bill of Materials'!#REF!","v":{"$error":"#REF!"}},{"$f":"'Bill of Materials'!#REF!","v":{"$error":"#REF!"}},{"$f":"'Bill of Materials'!#REF!","v":{"$error":"#REF!"}},{"$f":"'Bill of Materials'!#REF!","v":{"$error":"#REF!"}},{"$f":"'Bill of Materials'!#REF!","v":{"$error":"#REF!"}},{"$f":"'Bill of Materials'!#REF!","v":{"$error":"#REF!"}},{"$f":"'Bill of Materials'!#REF!","v":{"$error":"#REF!"}},null,null,null,{"$error":"#REF!"},{"$f":"'Bill of Materials'!#REF!","v":{"$error":"#REF!"}},{"$f":"'Bill of Materials'!#REF!","v":{"$error":"#REF!"}},{"$error":"#REF!"}]
[{"$f":"'Bill of Materials'!E1014+'Bill of Materials'!F1014","v":0},{"$f":"'Bill of Materials'!M1014","v":"EA"},{"$f":"'Bill of Materials'!G1014","v":"10GBASE-ER Xenpak module with DOM Support"},{"$f":"'Bill of Materials'!L1014","v":"Cisco"},{"$f":"'Bill of Materials'!N1014","v":4000},{"$f":"'Bill of Materials'!P1014","v":"HP"},{"$f":"'Bill of Materials'!C1014","v":"8895"},{"$f":"'Bill of Materials'!H1014","v":"XENPAK-10GB-ER+="},null,null,null,0,{"$f":"'Bill of Materials'!J1014","v":"standard material"},{"$f":"'Bill of Materials'!K1014","v":"electronic"},0]
[{"$f":"'Bill of Materials'!E1015+'Bill of Materials'!F1015","v":0},{"$f":"'Bill of Materials'!M1015","v":"EA"},{"$f":"'Bill of Materials'!G1015","v":"10GBASE-LR Xenpak module with DOM Support"},{"$f":"'Bill of Materials'!L1015","v":"Cisco"},{"$f":"'Bill of Materials'!N1015","v":1600},{"$f":"'Bill of Materials'!P1015","v":"HP"},{"$f":"'Bill of Materials'!C1015","v":"8896"},{"$f":"'Bill of Materials'!H1015","v":"XENPAK-10GB-LR+="},null,null,null,0,{"$f":"'Bill of Materials'!J1015","v":"standard material"},{"$f":"'Bill of Materials'!K1015","v":"electronic"},0]
[{"$f":"'Bill of Materials'!E1017+'Bill of Materials'!F1017","v":0},{"$f":"'Bill of Materials'!M1017","v":"EA"},{"$f":"'Bill of Materials'!G1017","v":"Catalyst 6504-E High-Speed Fan module"},{"$f":"'Bill of Materials'!L1017","v":"Cisco"},{"$f":"'Bill of Materials'!N1017","v":200},{"$f":"'Bill of Materials'!P1017","v":"HP"},{"$f":"'Bill of Materials'!C1017","v":"10104"},{"$f":"'Bill of Materials'!H1017","v":"FAN-MOD-4HS="},null,null,null,0,{"$f":"'Bill of Materials'!J1017","v":"standard material"},{"$f":"'Bill of Materials'!K1017","v":"electronic"},0]
[{"$f":"'Bill of Materials'!E1018+'Bill of Materials'!F1018","v":0},{"$f":"'Bill of Materials'!M1018","v":"EA"},{"$f":"'Bill of Materials'!G1018","v":"Catalyst 6504-E  AC Power Supply 2700W"},{"$f":"'Bill of Materials'!L1018","v":"Cisco"},{"$f":"'Bill of Materials'!N1018","v":1200},{"$f":"'Bill of Materials'!P1018","v":"HP"},{"$f":"'Bill of Materials'!C1018","v":"10144"},{"$f":"'Bill of Materials'!H1018","v":"PWR-2700-AC/4"},null,null,null,0,{"$f":"'Bill of Materials'!J1018","v":"standard material"},{"$f":"'Bill of Materials'!K1018","v":"electronic"},0]
[{"$f":"'Bill of Materials'!E1019+'Bill of Materials'!F1019","v":0},{"$f":"'Bill of Materials'!M1019","v":"EA"},{"$f":"'Bill of Materials'!G1019","v":"Change Plug on Power Cord - LABOR ONLY"},{"$f":"'Bill of Materials'!L1019","v":"DWC"},{"$f":"'Bill of Materials'!N1019","v":28.35},{"$f":"'Bill of Materials'!P1019","v":"DWC"},{"$f":"'Bill of Materials'!C1019","v":"10170"},{"$f":"'Bill of Materials'!H1019","v":"TLPC-L"},null,null,null,0,{"$f":"'Bill of Materials'!J1019","v":"standard material"},{"$f":"'Bill of Materials'!K1019","v":"physical"},0]
[{"$f":"'Bill of Materials'!E1020+'Bill of Materials'!F1020","v":0},{"$f":"'Bill of Materials'!M1020","v":"EA"},{"$f":"'Bill of Materials'!G1020","v":"Catalyst 6500 Enhanced A/C Power Supply 8700W "},{"$f":"'Bill of Materials'!L1020","v":"Cisco"},{"$f":"'Bill of Materials'!N1020","v":2800},{"$f":"'Bill of Materials'!P1020","v":"HP"},{"$f":"'Bill of Materials'!C1020","v":"10177"},{"$f":"'Bill of Materials'!H1020","v":"WS-CAC-8700W-E"},null,null,null,0,{"$f":"'Bill of Materials'!J1020","v":"standard material"},{"$f":"'Bill of Materials'!K1020","v":"electronic"},0]
[{"$f":"'Bill of Materials'!#REF!+'Bill of Materials'!#REF!","v":{"$error":"#REF!"}},{"$f":"'Bill of Materials'!#REF!","v":{"$error":"#REF!"}},{"$f":"'Bill of Materials'!#REF!","v":{"$error":"#REF!"}},{"$f":"'Bill of Materials'!#REF!","v":{"$error":"#REF!"}},{"$f":"'Bill of Materials'!#REF!","v":{"$error":"#REF!"}},{"$f":"'Bill of Materials'!#REF!","v":{"$error":"#REF!"}},{"$f":"'Bill of Materials'!#REF!","v":{"$error":"#REF!"}},{"$f":"'Bill of Materials'!#REF!","v":{"$error":"#REF!"}},null,null,null,{"$error":"#REF!"},{"$f":"'Bill of Materials'!#REF!","v":{"$error":"#REF!"}},{"$f":"'Bill of Materials'!#REF!","v":{"$error":"#REF!"}},{"$error":"#REF!"}]
[{"$f":"'Bill of Materials'!E1021+'Bill of Materials'!F1021","v":0},{"$f":"'Bill of Materials'!M1021","v":"EA"},{"$f":"'Bill of Materials'!G1021","v":"Catalyst 6500 Dist Fwd Card, 256k+Routes for WS-x67xx"},{"$f":"'Bill of Materials'!L1021","v":"Cisco"},{"$f":"'Bill of Materials'!N1021","v":3000},{"$f":"'Bill of Materials'!P1021","v":"HP"},{"$f":"'Bill of Materials'!C1021","v":"10178"},{"$f":"'Bill of Materials'!H1021","v":"WS-F6700-DFC38="},null,null,null,0,{"$f":"'Bill of Materials'!J1021","v":"standard material"},{"$f":"'Bill of Materials'!K1021","v":"electronic"},0]
[{"$f":"'Bill of Materials'!E1022+'Bill of Materials'!F1022","v":0},{"$f":"'Bill of Materials'!M1022","v":"EA"},{"$f":"'Bill of Materials'!G1022","v":"Catalyst 6500 Compact Flash Memory 1GB"},{"$f":"'Bill of Materials'!L1022","v":"Cisco"},{"$f":"'Bill of Materials'!N1022","v":438},{"$f":"'Bill of Materials'!P1022","v":"HP"},{"$f":"'Bill of Materials'!C1022","v":"10236"},{"$f":"'Bill of Materials'!H1022","v":"MEM-C6K-CPTFL1GB"},null,null,null,0,{"$f":"'Bill of Materials'!J1022","v":"standard material"},{"$f":"'Bill of Materials'!K1022","v":"electronic"},0]
[{"$f":"'Bill of Materials'!#REF!+'Bill of Materials'!#REF!","v":{"$error":"#REF!"}},{"$f":"'Bill of Materials'!#REF!","v":{"$error":"#REF!"}},{"$f":"'Bill of Materials'!#REF!","v":{"$error":"#REF!"}},{"$f":"'Bill of Materials'!#REF!","v":{"$error":"#REF!"}},{"$f":"'Bill of Materials'!#REF!","v":{"$error":"#REF!"}},{"$f":"'Bill of Materials'!#REF!","v":{"$error":"#REF!"}},{"$f":"'Bill of Materials'!#REF!","v":{"$error":"#REF!"}},{"$f":"'Bill of Materials'!#REF!","v":{"$error":"#REF!"}},null,null,null,{"$error":"#REF!"},{"$f":"'Bill of Materials'!#REF!","v":{"$error":"#REF!"}},{"$f":"'Bill of Materials'!#REF!","v":{"$error":"#REF!"}},{"$error":"#REF!"}]
[{"$f":"'Bill of Materials'!#REF!+'Bill of Materials'!#REF!","v":{"$error":"#REF!"}},{"$f":"'Bill of Materials'!#REF!","v":{"$error":"#REF!"}},{"$f":"'Bill of Materials'!#REF!","v":{"$error":"#REF!"}},{"$f":"'Bill of Materials'!#REF!","v":{"$error":"#REF!"}},{"$f":"'Bill of Materials'!#REF!","v":{"$error":"#REF!"}},{"$f":"'Bill of Materials'!#REF!","v":{"$error":"#REF!"}},{"$f":"'Bill of Materials'!#REF!","v":{"$error":"#REF!"}},{"$f":"'Bill of Materials'!#REF!","v":{"$error":"#REF!"}},null,null,null,{"$error":"#REF!"},{"$f":"'Bill of Materials'!#REF!","v":{"$error":"#REF!"}},{"$f":"'Bill of Materials'!#REF!","v":{"$error":"#REF!"}},{"$error":"#REF!"}]
[{"$f":"'Bill of Materials'!#REF!+'Bill of Materials'!#REF!","v":{"$error":"#REF!"}},{"$f":"'Bill of Materials'!#REF!","v":{"$error":"#REF!"}},{"$f":"'Bill of Materials'!#REF!","v":{"$error":"#REF!"}},{"$f":"'Bill of Materials'!#REF!","v":{"$error":"#REF!"}},{"$f":"'Bill of Materials'!#REF!","v":{"$error":"#REF!"}},{"$f":"'Bill of Materials'!#REF!","v":{"$error":"#REF!"}},{"$f":"'Bill of Materials'!#REF!","v":{"$error":"#REF!"}},{"$f":"'Bill of Materials'!#REF!","v":{"$error":"#REF!"}},null,null,null,{"$error":"#REF!"},{"$f":"'Bill of Materials'!#REF!","v":{"$error":"#REF!"}},{"$f":"'Bill of Materials'!#REF!","v":{"$error":"#REF!"}},{"$error":"#REF!"}]
[{"$f":"'Bill of Materials'!E1023+'Bill of Materials'!F1023","v":0},{"$f":"'Bill of Materials'!M1023","v":"EA"},{"$f":"'Bill of Materials'!G1023","v":"Cisco CAT6000-SUP720 IOS IP SERVICES SSH"},{"$f":"'Bill of Materials'!L1023","v":"Cisco"},{"$f":"'Bill of Materials'!N1023","v":0},{"$f":"'Bill of Materials'!P1023","v":"HP"},{"$f":"'Bill of Materials'!C1023","v":"10311"},{"$f":"'Bill of Materials'!H1023","v":"S733ISK9-12233SXI"},null,null,null,0,{"$f":"'Bill of Materials'!J1023","v":"standard material"},{"$f":"'Bill of Materials'!K1023","v":"electronic"},0]
[{"$f":"'Bill of Materials'!#REF!+'Bill of Materials'!#REF!","v":{"$error":"#REF!"}},{"$f":"'Bill of Materials'!#REF!","v":{"$error":"#REF!"}},{"$f":"'Bill of Materials'!#REF!","v":{"$error":"#REF!"}},{"$f":"'Bill of Materials'!#REF!","v":{"$error":"#REF!"}},{"$f":"'Bill of Materials'!#REF!","v":{"$error":"#REF!"}},{"$f":"'Bill of Materials'!#REF!","v":{"$error":"#REF!"}},{"$f":"'Bill of Materials'!#REF!","v":{"$error":"#REF!"}},{"$f":"'Bill of Materials'!#REF!","v":{"$error":"#REF!"}},null,null,null,{"$error":"#REF!"},{"$f":"'Bill of Materials'!#REF!","v":{"$error":"#REF!"}},{"$f":"'Bill of Materials'!#REF!","v":{"$error":"#REF!"}},{"$error":"#REF!"}]
[{"$f":"'Bill of Materials'!E1024+'Bill of Materials'!F1024","v":0},{"$f":"'Bill of Materials'!M1024","v":"EA"},{"$f":"'Bill of Materials'!G1024","v":"Catalyst 6500 48-port GigE module; Fabric enabled (Req. SFP)"},{"$f":"'Bill of Materials'!L1024","v":"Cisco"},{"$f":"'Bill of Materials'!N1024","v":10000},{"$f":"'Bill of Materials'!P1024","v":"HP"},{"$f":"'Bill of Materials'!C1024","v":"8005"},{"$f":"'Bill of Materials'!H1024","v":"WS-X6748-SFP"},null,null,null,0,{"$f":"'Bill of Materials'!J1024","v":"standard material"},{"$f":"'Bill of Materials'!K1024","v":"electronic"},0]
[{"$f":"'Bill of Materials'!E1025+'Bill of Materials'!F1025","v":0},{"$f":"'Bill of Materials'!M1025","v":"EA"},{"$f":"'Bill of Materials'!G1025","v":"Catalyst 6504-E 4-slot chassis 5RU's"},{"$f":"'Bill of Materials'!L1025","v":"Cisco"},{"$f":"'Bill of Materials'!N1025","v":1200},{"$f":"'Bill of Materials'!P1025","v":"HP"},{"$f":"'Bill of Materials'!C1025","v":"8014"},{"$f":"'Bill of Materials'!H1025","v":"WS-C6504-E"},null,null,null,0,{"$f":"'Bill of Materials'!J1025","v":"standard material"},{"$f":"'Bill of Materials'!K1025","v":"electronic"},0]
[{"$f":"'Bill of Materials'!E1026+'Bill of Materials'!F1026","v":0},{"$f":"'Bill of Materials'!M1026","v":"EA"},{"$f":"'Bill of Materials'!G1026","v":"Catalyst 6500 Firewall blade"},{"$f":"'Bill of Materials'!L1026","v":"Cisco"},{"$f":"'Bill of Materials'!N1026","v":13998},{"$f":"'Bill of Materials'!P1026","v":"HP"},{"$f":"'Bill of Materials'!C1026","v":"8211"},{"$f":"'Bill of Materials'!H1026","v":"WS-SVC-FWM-1-K9"},null,null,null,0,{"$f":"'Bill of Materials'!J1026","v":"standard material"},{"$f":"'Bill of Materials'!K1026","v":"electronic"},0]
[{"$f":"'Bill of Materials'!E1027+'Bill of Materials'!F1027","v":0},{"$f":"'Bill of Materials'!M1027","v":"EA"},{"$f":"'Bill of Materials'!G1027","v":"Catalyst 6513 Chassis"},{"$f":"'Bill of Materials'!L1027","v":"Cisco"},{"$f":"'Bill of Materials'!N1027","v":6100},{"$f":"'Bill of Materials'!P1027","v":"HP"},{"$f":"'Bill of Materials'!C1027","v":"8459"},{"$f":"'Bill of Materials'!H1027","v":"WS-C6513"},null,null,null,0,{"$f":"'Bill of Materials'!J1027","v":"standard material"},{"$f":"'Bill of Materials'!K1027","v":"electronic"},0]
[{"$f":"'Bill of Materials'!E1028+'Bill of Materials'!F1028","v":0},{"$f":"'Bill of Materials'!M1028","v":"EA"},{"$f":"'Bill of Materials'!G1028","v":"Catalyst 6500 AC power supply 4000W "},{"$f":"'Bill of Materials'!L1028","v":"Cisco"},{"$f":"'Bill of Materials'!N1028","v":2000},{"$f":"'Bill of Materials'!P1028","v":"HP"},{"$f":"'Bill of Materials'!C1028","v":"8471"},{"$f":"'Bill of Materials'!H1028","v":"WS-CAC-4000W-US"},null,null,null,0,{"$f":"'Bill of Materials'!J1028","v":"standard material"},{"$f":"'Bill of Materials'!K1028","v":"electronic"},0]
[{"$f":"'Bill of Materials'!E1029+'Bill of Materials'!F1029","v":0},{"$f":"'Bill of Materials'!M1029","v":"EA"},{"$f":"'Bill of Materials'!G1029","v":"Catalyst 6500 16-port GigE Mod, fabric-enabled (Req. GBICs)"},{"$f":"'Bill of Materials'!L1029","v":"Cisco"},{"$f":"'Bill of Materials'!N1029","v":6000},{"$f":"'Bill of Materials'!P1029","v":"HP"},{"$f":"'Bill of Materials'!C1029","v":"8777"},{"$f":"'Bill of Materials'!H1029","v":"WS-X6516A-GBIC"},null,null,null,0,{"$f":"'Bill of Materials'!J1029","v":"standard material"},{"$f":"'Bill of Materials'!K1029","v":"electronic"},0]
[{"$f":"'Bill of Materials'!E1030+'Bill of Materials'!F1030","v":0},{"$f":"'Bill of Materials'!M1030","v":"EA"},{"$f":"'Bill of Materials'!G1030","v":"Catalyst 6500 Supervisor 720 Fabric MSFC3 PFC3B"},{"$f":"'Bill of Materials'!L1030","v":"Cisco"},{"$f":"'Bill of Materials'!N1030","v":11200},{"$f":"'Bill of Materials'!P1030","v":"HP"},{"$f":"'Bill of Materials'!C1030","v":"8804"},{"$f":"'Bill of Materials'!H1030","v":"WS-SUP720-3B"},null,null,null,0,{"$f":"'Bill of Materials'!J1030","v":"standard material"},{"$f":"'Bill of Materials'!K1030","v":"electronic"},0]
[{"$f":"'Bill of Materials'!E1031+'Bill of Materials'!F1031","v":0},{"$f":"'Bill of Materials'!M1031","v":"EA"},{"$f":"'Bill of Materials'!G1031","v":"Catalyst 6513 High Speed Fan Tray"},{"$f":"'Bill of Materials'!L1031","v":"Cisco"},{"$f":"'Bill of Materials'!N1031","v":298},{"$f":"'Bill of Materials'!P1031","v":"HP"},{"$f":"'Bill of Materials'!C1031","v":"8806"},{"$f":"'Bill of Materials'!H1031","v":"WS-C6K-13SLT-FAN2"},null,null,null,0,{"$f":"'Bill of Materials'!J1031","v":"standard material"},{"$f":"'Bill of Materials'!K1031","v":"electronic"},0]
[{"$f":"'Bill of Materials'!E1032+'Bill of Materials'!F1032","v":0},{"$f":"'Bill of Materials'!M1032","v":"EA"},{"$f":"'Bill of Materials'!G1032","v":"Catalyst 6500 AC power supply 3000W "},{"$f":"'Bill of Materials'!L1032","v":"Cisco"},{"$f":"'Bill of Materials'!N1032","v":1200},{"$f":"'Bill of Materials'!P1032","v":"HP"},{"$f":"'Bill of Materials'!C1032","v":"8807"},{"$f":"'Bill of Materials'!H1032","v":"WS-CAC-3000-W"},null,null,null,0,{"$f":"'Bill of Materials'!J1032","v":"standard material"},{"$f":"'Bill of Materials'!K1032","v":"electronic"},0]
[{"$f":"'Bill of Materials'!E1033+'Bill of Materials'!F1033","v":0},{"$f":"'Bill of Materials'!M1033","v":"EA"},{"$f":"'Bill of Materials'!G1033","v":"Catalyst 6509 High Speed Fan Tray"},{"$f":"'Bill of Materials'!L1033","v":"Cisco"},{"$f":"'Bill of Materials'!N1033","v":198},{"$f":"'Bill of Materials'!P1033","v":"HP"},{"$f":"'Bill of Materials'!C1033","v":"8809"},{"$f":"'Bill of Materials'!H1033","v":"WS-C6509-E-FAN"},null,null,null,0,{"$f":"'Bill of Materials'!J1033","v":"standard material"},{"$f":"'Bill of Materials'!K1033","v":"electronic"},0]
[{"$f":"'Bill of Materials'!E1034+'Bill of Materials'!F1034","v":0},{"$f":"'Bill of Materials'!M1034","v":"EA"},{"$f":"'Bill of Materials'!G1034","v":"Catalyst 6509-E CHASSIS 9 SLOT 15 RU NO POWER SUPPLY NO FAN"},{"$f":"'Bill of Materials'!L1034","v":"Cisco"},{"$f":"'Bill of Materials'!N1034","v":3800},{"$f":"'Bill of Materials'!P1034","v":"HP"},{"$f":"'Bill of Materials'!C1034","v":"8810"},{"$f":"'Bill of Materials'!H1034","v":"WS-C6509-E"},null,null,null,0,{"$f":"'Bill of Materials'!J1034","v":"standard material"},{"$f":"'Bill of Materials'!K1034","v":"electronic"},0]
[{"$f":"'Bill of Materials'!E1035+'Bill of Materials'!F1035","v":0},{"$f":"'Bill of Materials'!M1035","v":"EA"},{"$f":"'Bill of Materials'!G1035","v":"Catalyst 6500 256mb ddr,xcef720 mem-xcef720"},{"$f":"'Bill of Materials'!L1035","v":"Cisco"},{"$f":"'Bill of Materials'!N1035","v":6000},{"$f":"'Bill of Materials'!P1035","v":"HP"},{"$f":"'Bill of Materials'!C1035","v":"8811"},{"$f":"'Bill of Materials'!H1035","v":"WS-X6748-GE-TX"},null,null,null,0,{"$f":"'Bill of Materials'!J1035","v":"standard material"},{"$f":"'Bill of Materials'!K1035","v":"electronic"},0]
[{"$f":"'Bill of Materials'!E1036+'Bill of Materials'!F1036","v":0},{"$f":"'Bill of Materials'!M1036","v":"EA"},{"$f":"'Bill of Materials'!G1036","v":"Catalyst 6500 24-port GigE Mod: fabric-enabled (Req. SFPs)"},{"$f":"'Bill of Materials'!L1036","v":"Cisco"},{"$f":"'Bill of Materials'!N1036","v":6000},{"$f":"'Bill of Materials'!P1036","v":"HP"},{"$f":"'Bill of Materials'!C1036","v":"8812"},{"$f":"'Bill of Materials'!H1036","v":"WS-X6724-SFP="},null,null,null,0,{"$f":"'Bill of Materials'!J1036","v":"standard material"},{"$f":"'Bill of Materials'!K1036","v":"electronic"},0]
[{"$f":"'Bill of Materials'!E1037+'Bill of Materials'!F1037","v":0},{"$f":"'Bill of Materials'!M1037","v":"EA"},{"$f":"'Bill of Materials'!G1037","v":"Catalyst 6506-E CHASSIS 6 SLOT 12 RU NO POWER SUPPLY NO FAN TRAY"},{"$f":"'Bill of Materials'!L1037","v":"Cisco"},{"$f":"'Bill of Materials'!N1037","v":2200},{"$f":"'Bill of Materials'!P1037","v":"HP"},{"$f":"'Bill of Materials'!C1037","v":"8818"},{"$f":"'Bill of Materials'!H1037","v":"WS-C6506-E"},null,null,null,0,{"$f":"'Bill of Materials'!J1037","v":"standard material"},{"$f":"'Bill of Materials'!K1037","v":"electronic"},0]
[{"$f":"'Bill of Materials'!E1038+'Bill of Materials'!F1038","v":0},{"$f":"'Bill of Materials'!M1038","v":"EA"},{"$f":"'Bill of Materials'!G1038","v":"Catalyst 6506-E CHASSIS FAN TRAY"},{"$f":"'Bill of Materials'!L1038","v":"Cisco"},{"$f":"'Bill of Materials'!N1038","v":198},{"$f":"'Bill of Materials'!P1038","v":"HP"},{"$f":"'Bill of Materials'!C1038","v":"8821"},{"$f":"'Bill of Materials'!H1038","v":"WS-C6506-E-FAN"},null,null,null,0,{"$f":"'Bill of Materials'!J1038","v":"standard material"},{"$f":"'Bill of Materials'!K1038","v":"electronic"},0]
[{"$f":"'Bill of Materials'!E1039+'Bill of Materials'!F1039","v":0},{"$f":"'Bill of Materials'!M1039","v":"EA"},{"$f":"'Bill of Materials'!G1039","v":"U.S. Power Cord, Non-Twist Lock, NEMA 6-20 Plug"},{"$f":"'Bill of Materials'!L1039","v":"Cisco"},{"$f":"'Bill of Materials'!N1039","v":0},{"$f":"'Bill of Materials'!P1039","v":"HP"},{"$f":"'Bill of Materials'!C1039","v":"8828"},{"$f":"'Bill of Materials'!H1039","v":"CAB-AC-2500W-US1"},null,null,null,0,{"$f":"'Bill of Materials'!J1039","v":"standard material"},{"$f":"'Bill of Materials'!K1039","v":"electronic"},0]
[{"$f":"'Bill of Materials'!E1040+'Bill of Materials'!F1040","v":0},{"$f":"'Bill of Materials'!M1040","v":"EA"},{"$f":"'Bill of Materials'!G1040","v":"Catalyst 6000-SUP720 IOS ENT W/IPV6/SSH/3DES"},{"$f":"'Bill of Materials'!L1040","v":"Cisco"},{"$f":"'Bill of Materials'!N1040","v":3840},{"$f":"'Bill of Materials'!P1040","v":"HP"},{"$f":"'Bill of Materials'!C1040","v":"8832"},{"$f":"'Bill of Materials'!H1040","v":"S733ESK9-12218SXF"},null,null,null,0,{"$f":"'Bill of Materials'!J1040","v":"standard material"},{"$f":"'Bill of Materials'!K1040","v":"electronic"},0]
[{"$f":"'Bill of Materials'!#REF!+'Bill of Materials'!#REF!","v":{"$error":"#REF!"}},{"$f":"'Bill of Materials'!#REF!","v":{"$error":"#REF!"}},{"$f":"'Bill of Materials'!#REF!","v":{"$error":"#REF!"}},{"$f":"'Bill of Materials'!#REF!","v":{"$error":"#REF!"}},{"$f":"'Bill of Materials'!#REF!","v":{"$error":"#REF!"}},{"$f":"'Bill of Materials'!#REF!","v":{"$error":"#REF!"}},{"$f":"'Bill of Materials'!#REF!","v":{"$error":"#REF!"}},{"$f":"'Bill of Materials'!#REF!","v":{"$error":"#REF!"}},null,null,null,{"$error":"#REF!"},{"$f":"'Bill of Materials'!#REF!","v":{"$error":"#REF!"}},{"$f":"'Bill of Materials'!#REF!","v":{"$error":"#REF!"}},{"$error":"#REF!"}]
[{"$f":"'Bill of Materials'!E1041+'Bill of Materials'!F1041","v":0},{"$f":"'Bill of Materials'!M1041","v":"EA"},{"$f":"'Bill of Materials'!G1041","v":"Catalyst 6500 Sup720 Compact Flash Mem 512mb"},{"$f":"'Bill of Materials'!L1041","v":"Cisco"},{"$f":"'Bill of Materials'!N1041","v":398},{"$f":"'Bill of Materials'!P1041","v":"HP"},{"$f":"'Bill of Materials'!C1041","v":"8834"},{"$f":"'Bill of Materials'!H1041","v":"MEM-C6K-CPTFL512M"},null,null,null,0,{"$f":"'Bill of Materials'!J1041","v":"standard material"},{"$f":"'Bill of Materials'!K1041","v":"electronic"},0]
[{"$f":"'Bill of Materials'!E1042+'Bill of Materials'!F1042","v":0},{"$f":"'Bill of Materials'!M1042","v":"EA"},{"$f":"'Bill of Materials'!G1042","v":"Catalyst 6500 AC power supply 6000W "},{"$f":"'Bill of Materials'!L1042","v":"Cisco"},{"$f":"'Bill of Materials'!N1042","v":2000},{"$f":"'Bill of Materials'!P1042","v":"HP"},{"$f":"'Bill of Materials'!C1042","v":"8870"},{"$f":"'Bill of Materials'!H1042","v":"WS-CAC-6000W"},null,null,null,0,{"$f":"'Bill of Materials'!J1042","v":"standard material"},{"$f":"'Bill of Materials'!K1042","v":"electronic"},0]
[{"$f":"'Bill of Materials'!E1043+'Bill of Materials'!F1043","v":0},{"$f":"'Bill of Materials'!M1043","v":"EA"},{"$f":"'Bill of Materials'!G1043","v":"Catalyst 6500 PoE 802.3af 10/100/1000 48-port(RJ45)CEF256 card"},{"$f":"'Bill of Materials'!L1043","v":"Cisco"},{"$f":"'Bill of Materials'!N1043","v":5600},{"$f":"'Bill of Materials'!P1043","v":"HP"},{"$f":"'Bill of Materials'!C1043","v":"8874"},{"$f":"'Bill of Materials'!H1043","v":"WS-X6548-GE-45AF"},null,null,null,0,{"$f":"'Bill of Materials'!J1043","v":"standard material"},{"$f":"'Bill of Materials'!K1043","v":"electronic"},0]
[{"$f":"'Bill of Materials'!E1044+'Bill of Materials'!F1044","v":0},{"$f":"'Bill of Materials'!M1044","v":"EA"},{"$f":"'Bill of Materials'!G1044","v":"Catalyst 6500 48-Port PoE 802.3af 10/100 card w/ TDR"},{"$f":"'Bill of Materials'!L1044","v":"Cisco"},{"$f":"'Bill of Materials'!N1044","v":3200},{"$f":"'Bill of Materials'!P1044","v":"HP"},{"$f":"'Bill of Materials'!C1044","v":"8891"},{"$f":"'Bill of Materials'!H1044","v":"WS-X6148A-45AF"},null,null,null,0,{"$f":"'Bill of Materials'!J1044","v":"standard material"},{"$f":"'Bill of Materials'!K1044","v":"electronic"},0]
[{"$f":"'Bill of Materials'!E1045+'Bill of Materials'!F1045","v":0},{"$f":"'Bill of Materials'!M1045","v":"EA"},{"$f":"'Bill of Materials'!G1045","v":"Catalyst 6500 4-port 10 Gigabit Ethernet Module (req xenpaks)"},{"$f":"'Bill of Materials'!L1045","v":"Cisco"},{"$f":"'Bill of Materials'!N1045","v":8000},{"$f":"'Bill of Materials'!P1045","v":"HP"},{"$f":"'Bill of Materials'!C1045","v":"8892"},{"$f":"'Bill of Materials'!H1045","v":"WS-X6704-10GE"},null,null,null,0,{"$f":"'Bill of Materials'!J1045","v":"standard material"},{"$f":"'Bill of Materials'!K1045","v":"electronic"},0]
[{"$f":"'Bill of Materials'!E1046+'Bill of Materials'!F1046","v":0},{"$f":"'Bill of Materials'!M1046","v":"EA"},{"$f":"'Bill of Materials'!G1046","v":"Catalyst 6500 8 port 10 Gigabit Ethernet module with DFC3C (req.x2) "},{"$f":"'Bill of Materials'!L1046","v":"Cisco"},{"$f":"'Bill of Materials'!N1046","v":15000},{"$f":"'Bill of Materials'!P1046","v":"HP"},{"$f":"'Bill of Materials'!C1046","v":"8893"},{"$f":"'Bill of Materials'!H1046","v":"WS-X6708-10G-3C"},null,null,null,0,{"$f":"'Bill of Materials'!J1046","v":"standard material"},{"$f":"'Bill of Materials'!K1046","v":"electronic"},0]
[{"$f":"'Bill of Materials'!E1047+'Bill of Materials'!F1047","v":0},{"$f":"'Bill of Materials'!M1047","v":"EA"},{"$f":"'Bill of Materials'!G1047","v":"Power cord, 250vac 16A,twist lock NEMA L6-20 plug, US"},{"$f":"'Bill of Materials'!L1047","v":"Cisco"},{"$f":"'Bill of Materials'!N1047","v":21.6},{"$f":"'Bill of Materials'!P1047","v":"HP"},{"$f":"'Bill of Materials'!C1047","v":"8894"},{"$f":"'Bill of Materials'!H1047","v":"CAB-AC-C6K-TWLK"},null,null,null,0,{"$f":"'Bill of Materials'!J1047","v":"standard material"},{"$f":"'Bill of Materials'!K1047","v":"electronic"},0]
[{"$f":"'Bill of Materials'!E1049+'Bill of Materials'!F1049","v":0},{"$f":"'Bill of Materials'!M1049","v":"EA"},{"$f":"'Bill of Materials'!G1049","v":"CISCO Power Cord Jumper, C13-C14 Connectors, 2 Meter Length\t"},{"$f":"'Bill of Materials'!L1049","v":"Cisco"},{"$f":"'Bill of Materials'!N1049","v":22.5},{"$f":"'Bill of Materials'!P1049","v":"HP"},{"$f":"'Bill of Materials'!C1049","v":"10476"},{"$f":"'Bill of Materials'!H1049","v":"CAB-C13-C14-2M"},null,null,null,0,{"$f":"'Bill of Materials'!J1049","v":"standard material"},{"$f":"'Bill of Materials'!K1049","v":"electronic"},0]
[{"$f":"'Bill of Materials'!E1051+'Bill of Materials'!F1051","v":0},{"$f":"'Bill of Materials'!M1051","v":"EA"},{"$f":"'Bill of Materials'!G1051","v":"BRACKET, DIN RAIL, 3 IN RECESSED"},{"$f":"'Bill of Materials'!L1051","v":"Hammond"},{"$f":"'Bill of Materials'!N1051","v":63.64},{"$f":"'Bill of Materials'!P1051","v":"DWC"},{"$f":"'Bill of Materials'!C1051","v":"0094-49HK"},{"$f":"'Bill of Materials'!H1051","v":"SR0600375"},null,null,null,0,{"$f":"'Bill of Materials'!J1051","v":"standard material"},{"$f":"'Bill of Materials'!K1051","v":"physical"},0]
[{"$f":"'Bill of Materials'!E1052+'Bill of Materials'!F1052","v":0},{"$f":"'Bill of Materials'!M1052","v":"EA"},{"$f":"'Bill of Materials'!G1052","v":"BRACKET, DIN RAIL, 5 IN RECESSED"},{"$f":"'Bill of Materials'!L1052","v":"Hammond"},{"$f":"'Bill of Materials'!N1052","v":57.12},{"$f":"'Bill of Materials'!P1052","v":"DWC"},{"$f":"'Bill of Materials'!C1052","v":"0094-49HL"},{"$f":"'Bill of Materials'!H1052","v":"SR0700191"},null,null,null,0,{"$f":"'Bill of Materials'!J1052","v":"standard material"},{"$f":"'Bill of Materials'!K1052","v":"physical"},0]
[{"$f":"'Bill of Materials'!E1053+'Bill of Materials'!F1053","v":0},{"$f":"'Bill of Materials'!M1053","v":"EA"},{"$f":"'Bill of Materials'!G1053","v":"BRACKET, DIN RAIL, 5 IN DEEP"},{"$f":"'Bill of Materials'!L1053","v":"DWC"},{"$f":"'Bill of Materials'!N1053","v":60.89},{"$f":"'Bill of Materials'!P1053","v":"DWC"},{"$f":"'Bill of Materials'!C1053","v":"0094-49R1"},{"$f":"'Bill of Materials'!H1053","v":"DDRB5"},null,null,null,0,{"$f":"'Bill of Materials'!J1053","v":"standard material"},{"$f":"'Bill of Materials'!K1053","v":"physical"},0]
[{"$f":"'Bill of Materials'!E1054+'Bill of Materials'!F1054","v":0},{"$f":"'Bill of Materials'!M1054","v":"EA"},{"$f":"'Bill of Materials'!G1054","v":"Catalyst 2955 Sola Power Supply Cable (2) Conductor, 18 AWG, 19 X 30 Strand, Sheilded, PVC, Twisted Pair Power Cable (UL,CSA)"},{"$f":"'Bill of Materials'!L1054","v":"Belden"},{"$f":"'Bill of Materials'!N1054","v":1.19},{"$f":"'Bill of Materials'!P1054","v":"DWC"},{"$f":"'Bill of Materials'!C1054","v":"0119-0932"},{"$f":"'Bill of Materials'!H1054","v":9318},null,null,null,0,{"$f":"'Bill of Materials'!J1054","v":"standard material"},{"$f":"'Bill of Materials'!K1054","v":"physical"},0]
[{"$f":"'Bill of Materials'!E1055+'Bill of Materials'!F1055","v":0},{"$f":"'Bill of Materials'!M1055","v":"EA"},{"$f":"'Bill of Materials'!G1055","v":"Sola Power Supply Cord with molded three prong plug on one end and stripped on the other end, (UL) SJT 16 AWG, 3 conductor 15A/120V, UL CSA approved, 6 ft long."},{"$f":"'Bill of Materials'!L1055","v":"Volex Interconnect"},{"$f":"'Bill of Materials'!N1055","v":14.6},{"$f":"'Bill of Materials'!P1055","v":"DWC"},{"$f":"'Bill of Materials'!C1055","v":"0217-1387"},{"$f":"'Bill of Materials'!H1055","v":17255},null,null,null,0,{"$f":"'Bill of Materials'!J1055","v":"standard material"},{"$f":"'Bill of Materials'!K1055","v":"physical"},0]
[{"$f":"'Bill of Materials'!E1056+'Bill of Materials'!F1056","v":0},{"$f":"'Bill of Materials'!M1056","v":"EA"},{"$f":"'Bill of Materials'!G1056","v":"Catalyst 2955 and Sola Power Supply DIN Rail Adapter Kit for 19\" Rack Mounted "},{"$f":"'Bill of Materials'!L1056","v":"Cisco"},{"$f":"'Bill of Materials'!N1056","v":56.25},{"$f":"'Bill of Materials'!P1056","v":"DWC"},{"$f":"'Bill of Materials'!C1056","v":"10162"},{"$f":"'Bill of Materials'!H1056","v":"STK-RACKMNT-2955="},null,null,null,0,{"$f":"'Bill of Materials'!J1056","v":"standard material"},{"$f":"'Bill of Materials'!K1056","v":"physical"},0]
[{"$f":"'Bill of Materials'!E1057+'Bill of Materials'!F1057","v":0},{"$f":"'Bill of Materials'!M1057","v":"EA"},{"$f":"'Bill of Materials'!G1057","v":"Catalyst 2955 and Sola Power Supply- Input voltage -115/230 AC, Max Output - 24V DC"},{"$f":"'Bill of Materials'!L1057","v":"Sola / HeviDuty"},{"$f":"'Bill of Materials'!N1057","v":162.16},{"$f":"'Bill of Materials'!P1057","v":"DWC"},{"$f":"'Bill of Materials'!C1057","v":"1018-1AJX"},{"$f":"'Bill of Materials'!H1057","v":"SDN 2.5-24-100P"},null,null,null,0,{"$f":"'Bill of Materials'!J1057","v":"standard material"},{"$f":"'Bill of Materials'!K1057","v":"physical"},0]
[{"$f":"'Bill of Materials'!#REF!+'Bill of Materials'!#REF!","v":{"$error":"#REF!"}},{"$f":"'Bill of Materials'!#REF!","v":{"$error":"#REF!"}},{"$f":"'Bill of Materials'!#REF!","v":{"$error":"#REF!"}},{"$f":"'Bill of Materials'!#REF!","v":{"$error":"#REF!"}},{"$f":"'Bill of Materials'!#REF!","v":{"$error":"#REF!"}},{"$f":"'Bill of Materials'!#REF!","v":{"$error":"#REF!"}},{"$f":"'Bill of Materials'!#REF!","v":{"$error":"#REF!"}},{"$f":"'Bill of Materials'!#REF!","v":{"$error":"#REF!"}},null,null,null,{"$f":"E1100*A1100","v":{"$error":"#REF!"}},{"$f":"'Bill of Materials'!#REF!","v":{"$error":"#REF!"}},{"$f":"'Bill of Materials'!#REF!","v":{"$error":"#REF!"}},{"$f":"IF(A1100>0,1,0)","v":{"$error":"#REF!"}}]
[{"$f":"'Bill of Materials'!E1058+'Bill of Materials'!F1058","v":0},{"$f":"'Bill of Materials'!M1058","v":"EA"},{"$f":"'Bill of Materials'!G1058","v":"Catalyst 2960 10/100 + 2 T/SFP LAN Base image"},{"$f":"'Bill of Materials'!L1058","v":"Cisco"},{"$f":"'Bill of Materials'!N1058","v":998},{"$f":"'Bill of Materials'!P1058","v":"HP"},{"$f":"'Bill of Materials'!C1058","v":"8013"},{"$f":"'Bill of Materials'!H1058","v":"WS-C2960-48TC-L"},null,null,null,0,{"$f":"'Bill of Materials'!J1058","v":"standard material"},{"$f":"'Bill of Materials'!K1058","v":"electronic"},0]
[{"$f":"'Bill of Materials'!E1059+'Bill of Materials'!F1059","v":0},{"$f":"'Bill of Materials'!M1059","v":"EA"},{"$f":"'Bill of Materials'!G1059","v":"Catalyst 2960 48 10/100/1000, 4 T/SFP LAN Base image"},{"$f":"'Bill of Materials'!L1059","v":"Cisco"},{"$f":"'Bill of Materials'!N1059","v":2398},{"$f":"'Bill of Materials'!P1059","v":"HP"},{"$f":"'Bill of Materials'!C1059","v":"8016"},{"$f":"'Bill of Materials'!H1059","v":"WS-C2960G-48TC-L"},null,null,null,0,{"$f":"'Bill of Materials'!J1059","v":"standard material"},{"$f":"'Bill of Materials'!K1059","v":"electronic"},0]
[{"$f":"'Bill of Materials'!E1060+'Bill of Materials'!F1060","v":0},{"$f":"'Bill of Materials'!M1060","v":"EA"},{"$f":"'Bill of Materials'!G1060","v":"Catalyst 2955 12 port 10/100 TX w/ (2) copper uplinks"},{"$f":"'Bill of Materials'!L1060","v":"Cisco"},{"$f":"'Bill of Materials'!N1060","v":672.75},{"$f":"'Bill of Materials'!P1060","v":"HP"},{"$f":"'Bill of Materials'!C1060","v":"8713"},{"$f":"'Bill of Materials'!H1060","v":"WS-C2955T-12"},null,null,null,0,{"$f":"'Bill of Materials'!J1060","v":"standard material"},{"$f":"'Bill of Materials'!K1060","v":"electronic"},0]
[{"$f":"'Bill of Materials'!E1061+'Bill of Materials'!F1061","v":0},{"$f":"'Bill of Materials'!M1061","v":"EA"},{"$f":"'Bill of Materials'!G1061","v":"Catalyst 2955 12 port 10/100 TX w/ (2) Fixed MMF UPLINK interfaces. (MTRJ)"},{"$f":"'Bill of Materials'!L1061","v":"Cisco"},{"$f":"'Bill of Materials'!N1061","v":897.75},{"$f":"'Bill of Materials'!P1061","v":"HP"},{"$f":"'Bill of Materials'!C1061","v":"8877"},{"$f":"'Bill of Materials'!H1061","v":"WS-C2955C-12"},null,null,null,0,{"$f":"'Bill of Materials'!J1061","v":"standard material"},{"$f":"'Bill of Materials'!K1061","v":"electronic"},0]
[{"$f":"'Bill of Materials'!E1062+'Bill of Materials'!F1062","v":0},{"$f":"'Bill of Materials'!M1062","v":"EA"},{"$f":"'Bill of Materials'!G1062","v":"Catalyst 2955 12 port 10/100 TX w/ (2) Fixed SMF UPLINK Interfaces (LC)"},{"$f":"'Bill of Materials'!L1062","v":"Cisco"},{"$f":"'Bill of Materials'!N1062","v":1101.5999999999999},{"$f":"'Bill of Materials'!P1062","v":"HP"},{"$f":"'Bill of Materials'!C1062","v":"8878"},{"$f":"'Bill of Materials'!H1062","v":"WS-C2955S-12"},null,null,null,0,{"$f":"'Bill of Materials'!J1062","v":"standard material"},{"$f":"'Bill of Materials'!K1062","v":"electronic"},0]
[{"$f":"'Bill of Materials'!E1064+'Bill of Materials'!F1064","v":0},{"$f":"'Bill of Materials'!M1064","v":"EA"},{"$f":"'Bill of Materials'!G1064","v":"Catalyst 3750V2 24 10/100 PoE + 2 SFP Enhanced Image"},{"$f":"'Bill of Materials'!L1064","v":"Cisco"},{"$f":"'Bill of Materials'!N1064","v":2716},{"$f":"'Bill of Materials'!P1064","v":"HP"},{"$f":"'Bill of Materials'!C1064","v":"10307\t"},{"$f":"'Bill of Materials'!H1064","v":"WS-C3750V2-24PS-E"},null,null,null,0,{"$f":"'Bill of Materials'!J1064","v":"standard material"},{"$f":"'Bill of Materials'!K1064","v":"electronic"},0]
[{"$f":"'Bill of Materials'!E1065+'Bill of Materials'!F1065","v":0},{"$f":"'Bill of Materials'!M1065","v":"EA"},{"$f":"'Bill of Materials'!G1065","v":"Catalyst 3750V2 24 10/100 + 2 SFP Enhanced Image"},{"$f":"'Bill of Materials'!L1065","v":"Cisco"},{"$f":"'Bill of Materials'!N1065","v":2396},{"$f":"'Bill of Materials'!P1065","v":"HP"},{"$f":"'Bill of Materials'!C1065","v":"10308"},{"$f":"'Bill of Materials'!H1065","v":"WS-C3750V2-24TS-E"},null,null,null,0,{"$f":"'Bill of Materials'!J1065","v":"standard material"},{"$f":"'Bill of Materials'!K1065","v":"electronic"},0]
[{"$f":"'Bill of Materials'!#REF!+'Bill of Materials'!#REF!","v":{"$error":"#REF!"}},{"$f":"'Bill of Materials'!#REF!","v":{"$error":"#REF!"}},{"$f":"'Bill of Materials'!#REF!","v":{"$error":"#REF!"}},{"$f":"'Bill of Materials'!#REF!","v":{"$error":"#REF!"}},{"$f":"'Bill of Materials'!#REF!","v":{"$error":"#REF!"}},{"$f":"'Bill of Materials'!#REF!","v":{"$error":"#REF!"}},{"$f":"'Bill of Materials'!#REF!","v":{"$error":"#REF!"}},{"$f":"'Bill of Materials'!#REF!","v":{"$error":"#REF!"}},null,null,null,{"$error":"#REF!"},{"$f":"'Bill of Materials'!#REF!","v":{"$error":"#REF!"}},{"$f":"'Bill of Materials'!#REF!","v":{"$error":"#REF!"}},{"$error":"#REF!"}]
[{"$f":"'Bill of Materials'!E1066+'Bill of Materials'!F1066","v":0},{"$f":"'Bill of Materials'!M1066","v":"EA"},{"$f":"'Bill of Materials'!G1066","v":"Catalyst 3750V2 48 10/100 PoE + 4 SFP Enhanced Image"},{"$f":"'Bill of Materials'!L1066","v":"Cisco"},{"$f":"'Bill of Materials'!N1066","v":4196},{"$f":"'Bill of Materials'!P1066","v":"HP"},{"$f":"'Bill of Materials'!C1066","v":"10309"},{"$f":"'Bill of Materials'!H1066","v":"WS-C3750V2-48PS-E"},null,null,null,0,{"$f":"'Bill of Materials'!J1066","v":"standard material"},{"$f":"'Bill of Materials'!K1066","v":"electronic"},0]
[{"$f":"'Bill of Materials'!E1067+'Bill of Materials'!F1067","v":0},{"$f":"'Bill of Materials'!M1067","v":"EA"},{"$f":"'Bill of Materials'!G1067","v":"Catalyst 3750V2 48 10/100 + 4 SFP Enhanced Image"},{"$f":"'Bill of Materials'!L1067","v":"Cisco"},{"$f":"'Bill of Materials'!N1067","v":3596},{"$f":"'Bill of Materials'!P1067","v":"HP"},{"$f":"'Bill of Materials'!C1067","v":"10310"},{"$f":"'Bill of Materials'!H1067","v":"WS-C3750V2-48TS-E"},null,null,null,0,{"$f":"'Bill of Materials'!J1067","v":"standard material"},{"$f":"'Bill of Materials'!K1067","v":"electronic"},0]
[{"$f":"'Bill of Materials'!E1068+'Bill of Materials'!F1068","v":0},{"$f":"'Bill of Materials'!M1068","v":"EA"},{"$f":"'Bill of Materials'!G1068","v":"Catalyst 3750X 24 Port PoE IP Base"},{"$f":"'Bill of Materials'!L1068","v":"Cisco"},{"$f":"'Bill of Materials'!N1068","v":2920},{"$f":"'Bill of Materials'!P1068","v":"HP"},{"$f":"'Bill of Materials'!C1068","v":"10328"},{"$f":"'Bill of Materials'!H1068","v":"WS-C3750X-24P-S"},null,null,null,0,{"$f":"'Bill of Materials'!J1068","v":"standard material"},{"$f":"'Bill of Materials'!K1068","v":"electronic"},0]
[{"$f":"'Bill of Materials'!E1069+'Bill of Materials'!F1069","v":0},{"$f":"'Bill of Materials'!M1069","v":"EA"},{"$f":"'Bill of Materials'!G1069","v":"C3750X-24 IP Base to IP Services factory IOS Upgrade"},{"$f":"'Bill of Materials'!L1069","v":"Cisco"},{"$f":"'Bill of Materials'!N1069","v":1400},{"$f":"'Bill of Materials'!P1069","v":"HP"},{"$f":"'Bill of Materials'!C1069","v":"10329"},{"$f":"'Bill of Materials'!H1069","v":"C3750X-24-IOS-S-E"},null,null,null,0,{"$f":"'Bill of Materials'!J1069","v":"standard material"},{"$f":"'Bill of Materials'!K1069","v":"electronic"},0]
[{"$f":"'Bill of Materials'!E1070+'Bill of Materials'!F1070","v":0},{"$f":"'Bill of Materials'!M1070","v":"EA"},{"$f":"'Bill of Materials'!G1070","v":"Catalyst 3750X 48 Port PoE IP Base"},{"$f":"'Bill of Materials'!L1070","v":"Cisco"},{"$f":"'Bill of Materials'!N1070","v":6240},{"$f":"'Bill of Materials'!P1070","v":"HP"},{"$f":"'Bill of Materials'!C1070","v":"10330"},{"$f":"'Bill of Materials'!H1070","v":"WS-C3750X-48P-S\t"},null,null,null,0,{"$f":"'Bill of Materials'!J1070","v":"standard material"},{"$f":"'Bill of Materials'!K1070","v":"electronic"},0]
[{"$f":"'Bill of Materials'!E1071+'Bill of Materials'!F1071","v":0},{"$f":"'Bill of Materials'!M1071","v":"EA"},{"$f":"'Bill of Materials'!G1071","v":"C3750X-48 IP Base to IP Services factory IOS Upgrade"},{"$f":"'Bill of Materials'!L1071","v":"Cisco"},{"$f":"'Bill of Materials'!N1071","v":3840},{"$f":"'Bill of Materials'!P1071","v":"HP"},{"$f":"'Bill of Materials'!C1071","v":"10331"},{"$f":"'Bill of Materials'!H1071","v":"C3750X-48-IOS-S-E"},null,null,null,0,{"$f":"'Bill of Materials'!J1071","v":"standard material"},{"$f":"'Bill of Materials'!K1071","v":"electronic"},0]
[{"$f":"'Bill of Materials'!E1072+'Bill of Materials'!F1072","v":0},{"$f":"'Bill of Materials'!M1072","v":"EA"},{"$f":"'Bill of Materials'!G1072","v":"Catalyst 3750X 48 Port Full PoE IP Base"},{"$f":"'Bill of Materials'!L1072","v":"Cisco"},{"$f":"'Bill of Materials'!N1072","v":5600},{"$f":"'Bill of Materials'!P1072","v":"HP"},{"$f":"'Bill of Materials'!C1072","v":"10332"},{"$f":"'Bill of Materials'!H1072","v":"WS-C3750X-48PF-S"},null,null,null,0,{"$f":"'Bill of Materials'!J1072","v":"standard material"},{"$f":"'Bill of Materials'!K1072","v":"electronic"},0]
[{"$f":"'Bill of Materials'!E1073+'Bill of Materials'!F1073","v":0},{"$f":"'Bill of Materials'!M1073","v":"EA"},{"$f":"'Bill of Materials'!G1073","v":"Catalyst 3K-X 1G Network Module\t"},{"$f":"'Bill of Materials'!L1073","v":"Cisco"},{"$f":"'Bill of Materials'!N1073","v":200},{"$f":"'Bill of Materials'!P1073","v":"HP"},{"$f":"'Bill of Materials'!C1073","v":"10333"},{"$f":"'Bill of Materials'!H1073","v":"C3KX-NM-1G="},null,null,null,0,{"$f":"'Bill of Materials'!J1073","v":"standard material"},{"$f":"'Bill of Materials'!K1073","v":"electronic"},0]
[{"$f":"'Bill of Materials'!E1074+'Bill of Materials'!F1074","v":0},{"$f":"'Bill of Materials'!M1074","v":"EA"},{"$f":"'Bill of Materials'!G1074","v":"Catalyst 3K-X 10G Network Module"},{"$f":"'Bill of Materials'!L1074","v":"Cisco"},{"$f":"'Bill of Materials'!N1074","v":1000},{"$f":"'Bill of Materials'!P1074","v":"HP"},{"$f":"'Bill of Materials'!C1074","v":"10334"},{"$f":"'Bill of Materials'!H1074","v":"C3KX-NM-10G="},null,null,null,0,{"$f":"'Bill of Materials'!J1074","v":"standard material"},{"$f":"'Bill of Materials'!K1074","v":"electronic"},0]
[{"$f":"'Bill of Materials'!E1075+'Bill of Materials'!F1075","v":0},{"$f":"'Bill of Materials'!M1075","v":"EA"},{"$f":"'Bill of Materials'!G1075","v":"Catalyst 3K-X 715W AC Power Supply"},{"$f":"'Bill of Materials'!L1075","v":"Cisco"},{"$f":"'Bill of Materials'!N1075","v":400},{"$f":"'Bill of Materials'!P1075","v":"HP"},{"$f":"'Bill of Materials'!C1075","v":"10335"},{"$f":"'Bill of Materials'!H1075","v":"C3KX-PWR-715WAC="},null,null,null,0,{"$f":"'Bill of Materials'!J1075","v":"standard material"},{"$f":"'Bill of Materials'!K1075","v":"electronic"},0]
[{"$f":"'Bill of Materials'!E1076+'Bill of Materials'!F1076","v":0},{"$f":"'Bill of Materials'!M1076","v":"EA"},{"$f":"'Bill of Materials'!G1076","v":"Catalyst 3K-X 1100W AC Power Supply"},{"$f":"'Bill of Materials'!L1076","v":"Cisco"},{"$f":"'Bill of Materials'!N1076","v":600},{"$f":"'Bill of Materials'!P1076","v":"HP"},{"$f":"'Bill of Materials'!C1076","v":"10336"},{"$f":"'Bill of Materials'!H1076","v":"C3KX-PWR-1100WAC="},null,null,null,0,{"$f":"'Bill of Materials'!J1076","v":"standard material"},{"$f":"'Bill of Materials'!K1076","v":"electronic"},0]
[{"$f":"'Bill of Materials'!E1077+'Bill of Materials'!F1077","v":0},{"$f":"'Bill of Materials'!M1077","v":"EA"},{"$f":"'Bill of Materials'!G1077","v":"Catalyst 3K-X Fan Module Spare"},{"$f":"'Bill of Materials'!L1077","v":"Cisco"},{"$f":"'Bill of Materials'!N1077","v":118},{"$f":"'Bill of Materials'!P1077","v":"HP"},{"$f":"'Bill of Materials'!C1077","v":"10337"},{"$f":"'Bill of Materials'!H1077","v":"C3KX-FAN-23CFM="},null,null,null,0,{"$f":"'Bill of Materials'!J1077","v":"standard material"},{"$f":"'Bill of Materials'!K1077","v":"electronic"},0]
[{"$f":"'Bill of Materials'!E1078+'Bill of Materials'!F1078","v":0},{"$f":"'Bill of Materials'!M1078","v":"EA"},{"$f":"'Bill of Materials'!G1078","v":"Cisco StackWise 50CM Non-Halogen Lead Free Stacking Cable"},{"$f":"'Bill of Materials'!L1078","v":"Cisco"},{"$f":"'Bill of Materials'!N1078","v":60},{"$f":"'Bill of Materials'!P1078","v":"HP"},{"$f":"'Bill of Materials'!C1078","v":"10338"},{"$f":"'Bill of Materials'!H1078","v":"CAB-STACK-50CM-NH="},null,null,null,0,{"$f":"'Bill of Materials'!J1078","v":"standard material"},{"$f":"'Bill of Materials'!K1078","v":"electronic"},0]
[{"$f":"'Bill of Materials'!E1079+'Bill of Materials'!F1079","v":0},{"$f":"'Bill of Materials'!M1079","v":"EA"},{"$f":"'Bill of Materials'!G1079","v":"Cisco StackWise 1M Non-Halogen Lead Free Stacking Cable\t"},{"$f":"'Bill of Materials'!L1079","v":"Cisco"},{"$f":"'Bill of Materials'!N1079","v":100},{"$f":"'Bill of Materials'!P1079","v":"HP"},{"$f":"'Bill of Materials'!C1079","v":"10339"},{"$f":"'Bill of Materials'!H1079","v":"CAB-STACK-1M-NH="},null,null,null,0,{"$f":"'Bill of Materials'!J1079","v":"standard material"},{"$f":"'Bill of Materials'!K1079","v":"electronic"},0]
[{"$f":"'Bill of Materials'!E1080+'Bill of Materials'!F1080","v":0},{"$f":"'Bill of Materials'!M1080","v":"EA"},{"$f":"'Bill of Materials'!G1080","v":"Cisco StackWise 3M Non-Halogen Lead Free Stacking Cable"},{"$f":"'Bill of Materials'!L1080","v":"Cisco"},{"$f":"'Bill of Materials'!N1080","v":140},{"$f":"'Bill of Materials'!P1080","v":"HP"},{"$f":"'Bill of Materials'!C1080","v":"10340"},{"$f":"'Bill of Materials'!H1080","v":"CAB-STACK-3M-NH="},null,null,null,0,{"$f":"'Bill of Materials'!J1080","v":"standard material"},{"$f":"'Bill of Materials'!K1080","v":"electronic"},0]
[{"$f":"'Bill of Materials'!E1081+'Bill of Materials'!F1081","v":0},{"$f":"'Bill of Materials'!M1081","v":"EA"},{"$f":"'Bill of Materials'!G1081","v":"Catalyst 3750X Stack Power Cable 30 CM Spare"},{"$f":"'Bill of Materials'!L1081","v":"Cisco"},{"$f":"'Bill of Materials'!N1081","v":38},{"$f":"'Bill of Materials'!P1081","v":"HP"},{"$f":"'Bill of Materials'!C1081","v":"10341"},{"$f":"'Bill of Materials'!H1081","v":"CAB-SPWR-30CM="},null,null,null,0,{"$f":"'Bill of Materials'!J1081","v":"standard material"},{"$f":"'Bill of Materials'!K1081","v":"electronic"},0]
[{"$f":"'Bill of Materials'!E1082+'Bill of Materials'!F1082","v":0},{"$f":"'Bill of Materials'!M1082","v":"EA"},{"$f":"'Bill of Materials'!G1082","v":"Catalyst 3750X Stack Power Cable 150 CM Spare"},{"$f":"'Bill of Materials'!L1082","v":"Cisco"},{"$f":"'Bill of Materials'!N1082","v":78},{"$f":"'Bill of Materials'!P1082","v":"HP"},{"$f":"'Bill of Materials'!C1082","v":"10342"},{"$f":"'Bill of Materials'!H1082","v":"CAB-SPWR-150CM="},null,null,null,0,{"$f":"'Bill of Materials'!J1082","v":"standard material"},{"$f":"'Bill of Materials'!K1082","v":"electronic"},0]
[{"$f":"'Bill of Materials'!E1083+'Bill of Materials'!F1083","v":0},{"$f":"'Bill of Materials'!M1083","v":"EA"},{"$f":"'Bill of Materials'!G1083","v":"Catalyst 3750X 12 Port Stackable GE SFP Ethernet ports, IP Services feature set"},{"$f":"'Bill of Materials'!L1083","v":"Cisco"},{"$f":"'Bill of Materials'!N1083","v":5600},{"$f":"'Bill of Materials'!P1083","v":"HP"},{"$f":"'Bill of Materials'!C1083","v":"10465"},{"$f":"'Bill of Materials'!H1083","v":"WS-C3750X-12S-E"},null,null,null,0,{"$f":"'Bill of Materials'!J1083","v":"standard material"},{"$f":"'Bill of Materials'!K1083","v":"electronic"},0]
[{"$f":"'Bill of Materials'!E1084+'Bill of Materials'!F1084","v":0},{"$f":"'Bill of Materials'!M1084","v":"EA"},{"$f":"'Bill of Materials'!G1084","v":"CISCO Catalyst 3750X 24 Port Stackable GE SFP Ethernet ports, IP Services feature set"},{"$f":"'Bill of Materials'!L1084","v":"Cisco"},{"$f":"'Bill of Materials'!N1084","v":12000},{"$f":"'Bill of Materials'!P1084","v":"HP"},{"$f":"'Bill of Materials'!C1084","v":"10516"},{"$f":"'Bill of Materials'!H1084","v":"WS-C3750X-24S-E  "},null,null,null,0,{"$f":"'Bill of Materials'!J1084","v":"standard material"},{"$f":"'Bill of Materials'!K1084","v":"electronic"},0]
[{"$f":"'Bill of Materials'!E1085+'Bill of Materials'!F1085","v":0},{"$f":"'Bill of Materials'!M1085","v":"EA"},{"$f":"'Bill of Materials'!G1085","v":"Cisco AC Power Cord (North America),110V Nema 5-15 amp"},{"$f":"'Bill of Materials'!L1085","v":"Cisco"},{"$f":"'Bill of Materials'!N1085","v":20},{"$f":"'Bill of Materials'!P1085","v":"HP"},{"$f":"'Bill of Materials'!C1085","v":"8199"},{"$f":"'Bill of Materials'!H1085","v":"CAB-AC"},null,null,null,0,{"$f":"'Bill of Materials'!J1085","v":"standard material"},{"$f":"'Bill of Materials'!K1085","v":"electronic"},0]
[{"$f":"'Bill of Materials'!E1086+'Bill of Materials'!F1086","v":0},{"$f":"'Bill of Materials'!M1086","v":"EA"},{"$f":"'Bill of Materials'!G1086","v":"Cisco StackWise 3M Stacking Cable"},{"$f":"'Bill of Materials'!L1086","v":"Cisco"},{"$f":"'Bill of Materials'!N1086","v":120},{"$f":"'Bill of Materials'!P1086","v":"HP"},{"$f":"'Bill of Materials'!C1086","v":"8660"},{"$f":"'Bill of Materials'!H1086","v":"CAB-STACK-3M"},null,null,null,0,{"$f":"'Bill of Materials'!J1086","v":"standard material"},{"$f":"'Bill of Materials'!K1086","v":"electronic"},0]
[{"$f":"'Bill of Materials'!E1087+'Bill of Materials'!F1087","v":0},{"$f":"'Bill of Materials'!M1087","v":"EA"},{"$f":"'Bill of Materials'!G1087","v":"Catalyst 3750 24 10/100 PoE + 2 SFP "},{"$f":"'Bill of Materials'!L1087","v":"Cisco"},{"$f":"'Bill of Materials'!N1087","v":2920},{"$f":"'Bill of Materials'!P1087","v":"HP"},{"$f":"'Bill of Materials'!C1087","v":"8730"},{"$f":"'Bill of Materials'!H1087","v":"WS-C3750-24PS-E"},null,null,null,0,{"$f":"'Bill of Materials'!J1087","v":"standard material"},{"$f":"'Bill of Materials'!K1087","v":"electronic"},0]
[{"$f":"'Bill of Materials'!E1088+'Bill of Materials'!F1088","v":0},{"$f":"'Bill of Materials'!M1088","v":"EA"},{"$f":"'Bill of Materials'!G1088","v":"Cisco StackWise 50CM Stacking Cable"},{"$f":"'Bill of Materials'!L1088","v":"Cisco"},{"$f":"'Bill of Materials'!N1088","v":0},{"$f":"'Bill of Materials'!P1088","v":"HP"},{"$f":"'Bill of Materials'!C1088","v":"8776"},{"$f":"'Bill of Materials'!H1088","v":"CAB-STACK-50CM"},null,null,null,0,{"$f":"'Bill of Materials'!J1088","v":"standard material"},{"$f":"'Bill of Materials'!K1088","v":"electronic"},0]
[{"$f":"'Bill of Materials'!E1089+'Bill of Materials'!F1089","v":0},{"$f":"'Bill of Materials'!M1089","v":"EA"},{"$f":"'Bill of Materials'!G1089","v":"Catalyst 3750 48 10/100 PoE + 4 SFP Enhanced Image"},{"$f":"'Bill of Materials'!L1089","v":"Cisco"},{"$f":"'Bill of Materials'!N1089","v":5035.2},{"$f":"'Bill of Materials'!P1089","v":"HP"},{"$f":"'Bill of Materials'!C1089","v":"8799"},{"$f":"'Bill of Materials'!H1089","v":"WS-C3750-48PS-E"},null,null,null,0,{"$f":"'Bill of Materials'!J1089","v":"standard material"},{"$f":"'Bill of Materials'!K1089","v":"electronic"},0]
[{"$f":"'Bill of Materials'!#REF!+'Bill of Materials'!#REF!","v":{"$error":"#REF!"}},{"$f":"'Bill of Materials'!#REF!","v":{"$error":"#REF!"}},{"$f":"'Bill of Materials'!#REF!","v":{"$error":"#REF!"}},{"$f":"'Bill of Materials'!#REF!","v":{"$error":"#REF!"}},{"$f":"'Bill of Materials'!#REF!","v":{"$error":"#REF!"}},{"$f":"'Bill of Materials'!#REF!","v":{"$error":"#REF!"}},{"$f":"'Bill of Materials'!#REF!","v":{"$error":"#REF!"}},{"$f":"'Bill of Materials'!#REF!","v":{"$error":"#REF!"}},null,null,null,{"$error":"#REF!"},{"$f":"'Bill of Materials'!#REF!","v":{"$error":"#REF!"}},{"$f":"'Bill of Materials'!#REF!","v":{"$error":"#REF!"}},{"$error":"#REF!"}]
[{"$f":"'Bill of Materials'!E1090+'Bill of Materials'!F1090","v":0},{"$f":"'Bill of Materials'!M1090","v":"EA"},{"$f":"'Bill of Materials'!G1090","v":"Catalyst 3750 12 SFP Enhanced Multilayer Image "},{"$f":"'Bill of Materials'!L1090","v":"Cisco"},{"$f":"'Bill of Materials'!N1090","v":4796},{"$f":"'Bill of Materials'!P1090","v":"HP"},{"$f":"'Bill of Materials'!C1090","v":"8803"},{"$f":"'Bill of Materials'!H1090","v":"WS-C3750G-12S-E"},null,null,null,0,{"$f":"'Bill of Materials'!J1090","v":"standard material"},{"$f":"'Bill of Materials'!K1090","v":"electronic"},0]
[{"$f":"'Bill of Materials'!E1091+'Bill of Materials'!F1091","v":0},{"$f":"'Bill of Materials'!M1091","v":"EA"},{"$f":"'Bill of Materials'!G1091","v":"Catalyst 3750 48 10/100/1000T PoE + 4 SFP Enhanced Image"},{"$f":"'Bill of Materials'!L1091","v":"Cisco"},{"$f":"'Bill of Materials'!N1091","v":9396},{"$f":"'Bill of Materials'!P1091","v":"HP"},{"$f":"'Bill of Materials'!C1091","v":"8819"},{"$f":"'Bill of Materials'!H1091","v":"WS-C3750G-48PS-E"},null,null,null,0,{"$f":"'Bill of Materials'!J1091","v":"standard material"},{"$f":"'Bill of Materials'!K1091","v":"electronic"},0]
[{"$f":"'Bill of Materials'!E1092+'Bill of Materials'!F1092","v":0},{"$f":"'Bill of Materials'!M1092","v":"EA"},{"$f":"'Bill of Materials'!G1092","v":"Redundant Power System 2300 and Blower, No Power Supply"},{"$f":"'Bill of Materials'!L1092","v":"Cisco"},{"$f":"'Bill of Materials'!N1092","v":480},{"$f":"'Bill of Materials'!P1092","v":"HP"},{"$f":"'Bill of Materials'!C1092","v":"8823"},{"$f":"'Bill of Materials'!H1092","v":"PWR-RPS2300"},null,null,null,0,{"$f":"'Bill of Materials'!J1092","v":"standard material"},{"$f":"'Bill of Materials'!K1092","v":"electronic"},0]
[{"$f":"'Bill of Materials'!E1093+'Bill of Materials'!F1093","v":0},{"$f":"'Bill of Materials'!M1093","v":"EA"},{"$f":"'Bill of Materials'!G1093","v":"Cisco StackWise 1M Stacking Cable"},{"$f":"'Bill of Materials'!L1093","v":"Cisco"},{"$f":"'Bill of Materials'!N1093","v":40},{"$f":"'Bill of Materials'!P1093","v":"HP"},{"$f":"'Bill of Materials'!C1093","v":"8824"},{"$f":"'Bill of Materials'!H1093","v":"CAB-STACK-1M"},null,null,null,0,{"$f":"'Bill of Materials'!J1093","v":"standard material"},{"$f":"'Bill of Materials'!K1093","v":"electronic"},0]
[{"$f":"'Bill of Materials'!E1094+'Bill of Materials'!F1094","v":0},{"$f":"'Bill of Materials'!M1094","v":"EA"},{"$f":"'Bill of Materials'!G1094","v":"Redundant Power System 2300 750WAC power supply"},{"$f":"'Bill of Materials'!L1094","v":"Cisco"},{"$f":"'Bill of Materials'!N1094","v":398},{"$f":"'Bill of Materials'!P1094","v":"HP"},{"$f":"'Bill of Materials'!C1094","v":"8825"},{"$f":"'Bill of Materials'!H1094","v":"C3K-PWR-750WAC"},null,null,null,0,{"$f":"'Bill of Materials'!J1094","v":"standard material"},{"$f":"'Bill of Materials'!K1094","v":"electronic"},0]
[{"$f":"'Bill of Materials'!E1095+'Bill of Materials'!F1095","v":0},{"$f":"'Bill of Materials'!M1095","v":"EA"},{"$f":"'Bill of Materials'!G1095","v":"Redundant Power System 2300 Spare Cable for Devices other than E-Series Switches"},{"$f":"'Bill of Materials'!L1095","v":"Cisco"},{"$f":"'Bill of Materials'!N1095","v":72},{"$f":"'Bill of Materials'!P1095","v":"HP"},{"$f":"'Bill of Materials'!C1095","v":"8826"},{"$f":"'Bill of Materials'!H1095","v":"CAB-RPS2300="},null,null,null,0,{"$f":"'Bill of Materials'!J1095","v":"standard material"},{"$f":"'Bill of Materials'!K1095","v":"electronic"},0]
[{"$f":"'Bill of Materials'!E1096+'Bill of Materials'!F1096","v":0},{"$f":"'Bill of Materials'!M1096","v":"EA"},{"$f":"'Bill of Materials'!G1096","v":"Catalyst 3750 24 10/100/1000T PoE + 4 SFP Enhanced Image"},{"$f":"'Bill of Materials'!L1096","v":"Cisco"},{"$f":"'Bill of Materials'!N1096","v":4716},{"$f":"'Bill of Materials'!P1096","v":"HP"},{"$f":"'Bill of Materials'!C1096","v":"8827"},{"$f":"'Bill of Materials'!H1096","v":"WS-C3750G-24PS-E"},null,null,null,0,{"$f":"'Bill of Materials'!J1096","v":"standard material"},{"$f":"'Bill of Materials'!K1096","v":"electronic"},0]
[{"$f":"'Bill of Materials'!E1097+'Bill of Materials'!F1097","v":0},{"$f":"'Bill of Materials'!M1097","v":"EA"},{"$f":"'Bill of Materials'!G1097","v":"Catalyst 3750 24 10/100 + 2 SFP Enhanced Image"},{"$f":"'Bill of Materials'!L1097","v":"Cisco"},{"$f":"'Bill of Materials'!N1097","v":2875.2},{"$f":"'Bill of Materials'!P1097","v":"HP"},{"$f":"'Bill of Materials'!C1097","v":"8886"},{"$f":"'Bill of Materials'!H1097","v":"WS-C3750-24TS-E"},null,null,null,0,{"$f":"'Bill of Materials'!J1097","v":"standard material"},{"$f":"'Bill of Materials'!K1097","v":"electronic"},0]
[{"$f":"'Bill of Materials'!E1098+'Bill of Materials'!F1098","v":0},{"$f":"'Bill of Materials'!M1098","v":"EA"},{"$f":"'Bill of Materials'!G1098","v":"Catalyst 3750 24 10/100/1000 + 4 SFP"},{"$f":"'Bill of Materials'!L1098","v":"Cisco"},{"$f":"'Bill of Materials'!N1098","v":4396},{"$f":"'Bill of Materials'!P1098","v":"HP"},{"$f":"'Bill of Materials'!C1098","v":"8897"},{"$f":"'Bill of Materials'!H1098","v":"WS-C3750G-24TS-E"},null,null,null,0,{"$f":"'Bill of Materials'!J1098","v":"standard material"},{"$f":"'Bill of Materials'!K1098","v":"electronic"},0]
[{"$f":"'Bill of Materials'!E1100+'Bill of Materials'!F1100","v":0},{"$f":"'Bill of Materials'!M1100","v":"EA"},{"$f":"'Bill of Materials'!G1100","v":"CISCO 7200 Network Processing Engine with 3 GE/FE/E ports"},{"$f":"'Bill of Materials'!L1100","v":"Cisco"},{"$f":"'Bill of Materials'!N1100","v":6750},{"$f":"'Bill of Materials'!P1100","v":"HP"},{"$f":"'Bill of Materials'!C1100","v":"10497"},{"$f":"'Bill of Materials'!H1100","v":"NPE-G1"},null,null,null,0,{"$f":"'Bill of Materials'!J1100","v":"standard material"},{"$f":"'Bill of Materials'!K1100","v":"electronic"},0]
[{"$f":"'Bill of Materials'!E1101+'Bill of Materials'!F1101","v":0},{"$f":"'Bill of Materials'!M1101","v":"EA"},{"$f":"'Bill of Materials'!G1101","v":"Cisco7204: Cisco 7200 4-slot Modular Router-AC with IP Software"},{"$f":"'Bill of Materials'!L1101","v":"Cisco"},{"$f":"'Bill of Materials'!N1101","v":2700},{"$f":"'Bill of Materials'!P1101","v":"HP"},{"$f":"'Bill of Materials'!C1101","v":"8419"},{"$f":"'Bill of Materials'!H1101","v":"CISCO7204VXR"},null,null,null,0,{"$f":"'Bill of Materials'!J1101","v":"standard material"},{"$f":"'Bill of Materials'!K1101","v":"electronic"},0]
[{"$f":"'Bill of Materials'!E1103+'Bill of Materials'!F1103","v":0},{"$f":"'Bill of Materials'!M1103","v":"EA"},{"$f":"'Bill of Materials'!G1103","v":"CISCO Catalyst 4500 6000W AC dual input Power Supply (Data + PoE)"},{"$f":"'Bill of Materials'!L1103","v":"Cisco"},{"$f":"'Bill of Materials'!N1103","v":1797.75},{"$f":"'Bill of Materials'!P1103","v":"HP"},{"$f":"'Bill of Materials'!C1103","v":"10484"},{"$f":"'Bill of Materials'!H1103","v":"PWR-C45-6000ACV\t"},null,null,null,0,{"$f":"'Bill of Materials'!J1103","v":"standard material"},{"$f":"'Bill of Materials'!K1103","v":"electronic"},0]
[{"$f":"'Bill of Materials'!E1104+'Bill of Materials'!F1104","v":0},{"$f":"'Bill of Materials'!M1104","v":"EA"},{"$f":"'Bill of Materials'!G1104","v":"CISCO Catalyst 4500 2GB SD Memory Card for Sup7-E"},{"$f":"'Bill of Materials'!L1104","v":"Cisco"},{"$f":"'Bill of Materials'!N1104","v":225},{"$f":"'Bill of Materials'!P1104","v":"HP"},{"$f":"'Bill of Materials'!C1104","v":"10485"},{"$f":"'Bill of Materials'!H1104","v":"SD-X45-2GB-E"},null,null,null,0,{"$f":"'Bill of Materials'!J1104","v":"standard material"},{"$f":"'Bill of Materials'!K1104","v":"electronic"},0]
[{"$f":"'Bill of Materials'!E1105+'Bill of Materials'!F1105","v":0},{"$f":"'Bill of Materials'!M1105","v":"EA"},{"$f":"'Bill of Materials'!G1105","v":"CISCO Catalyst 4500 40 SFP/80 C-SFP ports 1000BaseX(SFPs Optional)"},{"$f":"'Bill of Materials'!L1105","v":"Cisco"},{"$f":"'Bill of Materials'!N1105","v":8977.5},{"$f":"'Bill of Materials'!P1105","v":"HP"},{"$f":"'Bill of Materials'!C1105","v":"10486"},{"$f":"'Bill of Materials'!H1105","v":"WS-X4640-CSFP-E"},null,null,null,0,{"$f":"'Bill of Materials'!J1105","v":"standard material"},{"$f":"'Bill of Materials'!K1105","v":"electronic"},0]
[{"$f":"'Bill of Materials'!E1106+'Bill of Materials'!F1106","v":0},{"$f":"'Bill of Materials'!M1106","v":"EA"},{"$f":"'Bill of Materials'!G1106","v":"CISCO Catalyst 4500E Supervisor LE, 520Gbps"},{"$f":"'Bill of Materials'!L1106","v":"Cisco"},{"$f":"'Bill of Materials'!N1106","v":5397.75},{"$f":"'Bill of Materials'!P1106","v":"HP"},{"$f":"'Bill of Materials'!C1106","v":"10487"},{"$f":"'Bill of Materials'!H1106","v":"WS-X45-SUP7L-E"},null,null,null,0,{"$f":"'Bill of Materials'!J1106","v":"standard material"},{"$f":"'Bill of Materials'!K1106","v":"electronic"},0]
[{"$f":"'Bill of Materials'!E1107+'Bill of Materials'!F1107","v":0},{"$f":"'Bill of Materials'!M1107","v":"EA"},{"$f":"'Bill of Materials'!G1107","v":"CISCO Catalyst 4500E 48-Port PoE 802.3at 10/100/1000(RJ45)"},{"$f":"'Bill of Materials'!L1107","v":"Cisco"},{"$f":"'Bill of Materials'!N1107","v":4047.75},{"$f":"'Bill of Materials'!P1107","v":"HP"},{"$f":"'Bill of Materials'!C1107","v":"10488"},{"$f":"'Bill of Materials'!H1107","v":"WS-X4748-RJ45V+E"},null,null,null,0,{"$f":"'Bill of Materials'!J1107","v":"standard material"},{"$f":"'Bill of Materials'!K1107","v":"electronic"},0]
[{"$f":"'Bill of Materials'!E1108+'Bill of Materials'!F1108","v":0},{"$f":"'Bill of Materials'!M1108","v":"EA"},{"$f":"'Bill of Materials'!G1108","v":"CISCO Catalyst 4500E Paper IP to Ent Services License"},{"$f":"'Bill of Materials'!L1108","v":"Cisco"},{"$f":"'Bill of Materials'!N1108","v":4497.75},{"$f":"'Bill of Materials'!P1108","v":"HP"},{"$f":"'Bill of Materials'!C1108","v":"10489"},{"$f":"'Bill of Materials'!H1108","v":"C4500E-IP-ES"},null,null,null,0,{"$f":"'Bill of Materials'!J1108","v":"standard material"},{"$f":"'Bill of Materials'!K1108","v":"electronic"},0]
[{"$f":"'Bill of Materials'!E1109+'Bill of Materials'!F1109","v":0},{"$f":"'Bill of Materials'!M1109","v":"EA"},{"$f":"'Bill of Materials'!G1109","v":"CISCO Catalyst 4500E 48-Port UPOE 10/100/1000(RJ45)"},{"$f":"'Bill of Materials'!L1109","v":"Cisco"},{"$f":"'Bill of Materials'!N1109","v":4047.75},{"$f":"'Bill of Materials'!P1109","v":"HP"},{"$f":"'Bill of Materials'!C1109","v":"10490"},{"$f":"'Bill of Materials'!H1109","v":"WS-X4748-UPOE+E\t"},null,null,null,0,{"$f":"'Bill of Materials'!J1109","v":"standard material"},{"$f":"'Bill of Materials'!K1109","v":"electronic"},0]
[{"$f":"'Bill of Materials'!E1110+'Bill of Materials'!F1110","v":0},{"$f":"'Bill of Materials'!M1110","v":"EA"},{"$f":"'Bill of Materials'!G1110","v":"CISCO Catalyst 4500E 12-Port GE (SFP)"},{"$f":"'Bill of Materials'!L1110","v":"Cisco"},{"$f":"'Bill of Materials'!N1110","v":2697.75},{"$f":"'Bill of Materials'!P1110","v":"HP"},{"$f":"'Bill of Materials'!C1110","v":"10491"},{"$f":"'Bill of Materials'!H1110","v":"WS-X4612-SFP-E"},null,null,null,0,{"$f":"'Bill of Materials'!J1110","v":"standard material"},{"$f":"'Bill of Materials'!K1110","v":"electronic"},0]
[{"$f":"'Bill of Materials'!E1111+'Bill of Materials'!F1111","v":0},{"$f":"'Bill of Materials'!M1111","v":"EA"},{"$f":"'Bill of Materials'!G1111","v":"CISCO Catalyst 4500E 24-Port GE (SFP)"},{"$f":"'Bill of Materials'!L1111","v":"Cisco"},{"$f":"'Bill of Materials'!N1111","v":9000},{"$f":"'Bill of Materials'!P1111","v":"HP"},{"$f":"'Bill of Materials'!C1111","v":"10492"},{"$f":"'Bill of Materials'!H1111","v":"WS-X4624-SFP-E"},null,null,null,0,{"$f":"'Bill of Materials'!J1111","v":"standard material"},{"$f":"'Bill of Materials'!K1111","v":"electronic"},0]
[{"$f":"'Bill of Materials'!E1112+'Bill of Materials'!F1112","v":0},{"$f":"'Bill of Materials'!M1112","v":"EA"},{"$f":"'Bill of Materials'!G1112","v":"CISCO Catalyst 4500E 48-Port 10/100/1000"},{"$f":"'Bill of Materials'!L1112","v":"Cisco"},{"$f":"'Bill of Materials'!N1112","v":3147.75},{"$f":"'Bill of Materials'!P1112","v":"HP"},{"$f":"'Bill of Materials'!C1112","v":"10493"},{"$f":"'Bill of Materials'!H1112","v":"WS-X4748-RJ45-E"},null,null,null,0,{"$f":"'Bill of Materials'!J1112","v":"standard material"},{"$f":"'Bill of Materials'!K1112","v":"electronic"},0]
[{"$f":"'Bill of Materials'!E1113+'Bill of Materials'!F1113","v":0},{"$f":"'Bill of Materials'!M1113","v":"EA"},{"$f":"'Bill of Materials'!G1113","v":"CISCO Catalyst 4500E 10 slot chassis for 48Gbps/slot\t"},{"$f":"'Bill of Materials'!L1113","v":"Cisco"},{"$f":"'Bill of Materials'!N1113","v":4497.75},{"$f":"'Bill of Materials'!P1113","v":"HP"},{"$f":"'Bill of Materials'!C1113","v":"10494"},{"$f":"'Bill of Materials'!H1113","v":"WS-C4510R+E"},null,null,null,0,{"$f":"'Bill of Materials'!J1113","v":"standard material"},{"$f":"'Bill of Materials'!K1113","v":"electronic"},0]
[{"$f":"'Bill of Materials'!#REF!+'Bill of Materials'!#REF!","v":{"$error":"#REF!"}},{"$f":"'Bill of Materials'!#REF!","v":{"$error":"#REF!"}},{"$f":"'Bill of Materials'!#REF!","v":{"$error":"#REF!"}},{"$f":"'Bill of Materials'!#REF!","v":{"$error":"#REF!"}},{"$f":"'Bill of Materials'!#REF!","v":{"$error":"#REF!"}},{"$f":"'Bill of Materials'!#REF!","v":{"$error":"#REF!"}},{"$f":"'Bill of Materials'!#REF!","v":{"$error":"#REF!"}},{"$f":"'Bill of Materials'!#REF!","v":{"$error":"#REF!"}},null,null,null,{"$error":"#REF!"},{"$f":"'Bill of Materials'!#REF!","v":{"$error":"#REF!"}},{"$f":"'Bill of Materials'!#REF!","v":{"$error":"#REF!"}},{"$error":"#REF!"}]
[{"$f":"'Bill of Materials'!#REF!+'Bill of Materials'!#REF!","v":{"$error":"#REF!"}},{"$f":"'Bill of Materials'!#REF!","v":{"$error":"#REF!"}},{"$f":"'Bill of Materials'!#REF!","v":{"$error":"#REF!"}},{"$f":"'Bill of Materials'!#REF!","v":{"$error":"#REF!"}},{"$f":"'Bill of Materials'!#REF!","v":{"$error":"#REF!"}},{"$f":"'Bill of Materials'!#REF!","v":{"$error":"#REF!"}},{"$f":"'Bill of Materials'!#REF!","v":{"$error":"#REF!"}},{"$f":"'Bill of Materials'!#REF!","v":{"$error":"#REF!"}},null,null,null,{"$error":"#REF!"},{"$f":"'Bill of Materials'!#REF!","v":{"$error":"#REF!"}},{"$f":"'Bill of Materials'!#REF!","v":{"$error":"#REF!"}},{"$error":"#REF!"}]
[{"$f":"'Bill of Materials'!E1114+'Bill of Materials'!F1114","v":0},{"$f":"'Bill of Materials'!M1114","v":"EA"},{"$f":"'Bill of Materials'!G1114","v":"CISCO Catalyst 4500 E-Series Supervisor, 848Gbps\t"},{"$f":"'Bill of Materials'!L1114","v":"Cisco"},{"$f":"'Bill of Materials'!N1114","v":8997.75},{"$f":"'Bill of Materials'!P1114","v":"HP"},{"$f":"'Bill of Materials'!C1114","v":"10495"},{"$f":"'Bill of Materials'!H1114","v":"WS-X45-SUP7-E"},null,null,null,0,{"$f":"'Bill of Materials'!J1114","v":"standard material"},{"$f":"'Bill of Materials'!K1114","v":"electronic"},0]
[{"$f":"'Bill of Materials'!E1115+'Bill of Materials'!F1115","v":0},{"$f":"'Bill of Materials'!M1115","v":"EA"},{"$f":"'Bill of Materials'!G1115","v":"CISCO Catalyst WS-C4507R+E Chassis, two WS-X4648-RJ45V+E, Sup7L-E, LAN Base\t"},{"$f":"'Bill of Materials'!L1115","v":"Cisco"},{"$f":"'Bill of Materials'!N1115","v":12147.75},{"$f":"'Bill of Materials'!P1115","v":"HP"},{"$f":"'Bill of Materials'!C1115","v":"10514"},{"$f":"'Bill of Materials'!H1115","v":"WS-C4507RE+96V+"},null,null,null,0,{"$f":"'Bill of Materials'!J1115","v":"standard material"},{"$f":"'Bill of Materials'!K1115","v":"electronic"},0]
[{"$f":"'Bill of Materials'!E1116+'Bill of Materials'!F1116","v":0},{"$f":"'Bill of Materials'!M1116","v":"EA"},{"$f":"'Bill of Materials'!G1116","v":"CISCO Catalyst 4510R+E Chassis, Two WS-X4748-RJ45V+E, Sup7-E"},{"$f":"'Bill of Materials'!L1116","v":"Cisco"},{"$f":"'Bill of Materials'!N1116","v":24745.5},{"$f":"'Bill of Materials'!P1116","v":"HP"},{"$f":"'Bill of Materials'!C1116","v":"10515"},{"$f":"'Bill of Materials'!H1116","v":"WS-C4510RE-S7+96V+"},null,null,null,0,{"$f":"'Bill of Materials'!J1116","v":"standard material"},{"$f":"'Bill of Materials'!K1116","v":"electronic"},0]
[{"$f":"'Bill of Materials'!E1117+'Bill of Materials'!F1117","v":0},{"$f":"'Bill of Materials'!M1117","v":"EA"},{"$f":"'Bill of Materials'!G1117","v":"Catalyst 4500 Chassis (7-Slot), fan, No p/s,Red Sup Capable"},{"$f":"'Bill of Materials'!L1117","v":"Cisco"},{"$f":"'Bill of Materials'!N1117","v":3147.75},{"$f":"'Bill of Materials'!P1117","v":"HP"},{"$f":"'Bill of Materials'!C1117","v":"8619"},{"$f":"'Bill of Materials'!H1117","v":"WS-C4507R"},null,null,null,0,{"$f":"'Bill of Materials'!J1117","v":"standard material"},{"$f":"'Bill of Materials'!K1117","v":"electronic"},0]
[{"$f":"'Bill of Materials'!E1119+'Bill of Materials'!F1119","v":0},{"$f":"'Bill of Materials'!M1119","v":"EA"},{"$f":"'Bill of Materials'!G1119","v":"Cisco 5508 Series Wireless Controller for up to 12 APs"},{"$f":"'Bill of Materials'!L1119","v":"Cisco"},{"$f":"'Bill of Materials'!N1119","v":4398},{"$f":"'Bill of Materials'!P1119","v":"HP"},{"$f":"'Bill of Materials'!C1119","v":"10450"},{"$f":"'Bill of Materials'!H1119","v":"AIR-CT5508-12-K9"},null,null,null,0,{"$f":"'Bill of Materials'!J1119","v":"standard material"},{"$f":"'Bill of Materials'!K1119","v":"electronic"},0]
[{"$f":"'Bill of Materials'!E1120+'Bill of Materials'!F1120","v":0},{"$f":"'Bill of Materials'!M1120","v":"EA"},{"$f":"'Bill of Materials'!G1120","v":"Cisco 5508 Series Wireless Controller for up to 25 APs"},{"$f":"'Bill of Materials'!L1120","v":"Cisco"},{"$f":"'Bill of Materials'!N1120","v":6398},{"$f":"'Bill of Materials'!P1120","v":"HP"},{"$f":"'Bill of Materials'!C1120","v":"10451"},{"$f":"'Bill of Materials'!H1120","v":"AIR-CT5508-25-K9"},null,null,null,0,{"$f":"'Bill of Materials'!J1120","v":"standard material"},{"$f":"'Bill of Materials'!K1120","v":"electronic"},0]
[{"$f":"'Bill of Materials'!E1121+'Bill of Materials'!F1121","v":0},{"$f":"'Bill of Materials'!M1121","v":"EA"},{"$f":"'Bill of Materials'!G1121","v":"Cisco 5508 Series Wireless Controller for up to 50 APs"},{"$f":"'Bill of Materials'!L1121","v":"Cisco"},{"$f":"'Bill of Materials'!N1121","v":8998},{"$f":"'Bill of Materials'!P1121","v":"HP"},{"$f":"'Bill of Materials'!C1121","v":"10452"},{"$f":"'Bill of Materials'!H1121","v":"AIR-CT5508-50-K9"},null,null,null,{"$f":"E1164*A1164","v":0},{"$f":"'Bill of Materials'!J1121","v":"standard material"},{"$f":"'Bill of Materials'!K1121","v":"electronic"},{"$f":"IF(A1164>0,1,0)","v":0}]
[{"$f":"'Bill of Materials'!E1122+'Bill of Materials'!F1122","v":0},{"$f":"'Bill of Materials'!M1122","v":"EA"},{"$f":"'Bill of Materials'!G1122","v":"Cisco 5508 Series Wireless Controller for up to 100 APs"},{"$f":"'Bill of Materials'!L1122","v":"Cisco"},{"$f":"'Bill of Materials'!N1122","v":15998},{"$f":"'Bill of Materials'!P1122","v":"HP"},{"$f":"'Bill of Materials'!C1122","v":"10453"},{"$f":"'Bill of Materials'!H1122","v":"AIR-CT5508-100-K9"},null,null,null,0,{"$f":"'Bill of Materials'!J1122","v":"standard material"},{"$f":"'Bill of Materials'!K1122","v":"electronic"},0]
[{"$f":"'Bill of Materials'!E1123+'Bill of Materials'!F1123","v":0},{"$f":"'Bill of Materials'!M1123","v":"EA"},{"$f":"'Bill of Materials'!G1123","v":"Cisco 5508 Series Wireless Controller for up to 250 APs"},{"$f":"'Bill of Materials'!L1123","v":"Cisco"},{"$f":"'Bill of Materials'!N1123","v":25998},{"$f":"'Bill of Materials'!P1123","v":"HP"},{"$f":"'Bill of Materials'!C1123","v":"10454"},{"$f":"'Bill of Materials'!H1123","v":"AIR-CT5508-250-K9"},null,null,null,0,{"$f":"'Bill of Materials'!J1123","v":"standard material"},{"$f":"'Bill of Materials'!K1123","v":"electronic"},0]
[{"$f":"'Bill of Materials'!E1124+'Bill of Materials'!F1124","v":0},{"$f":"'Bill of Materials'!M1124","v":"EA"},{"$f":"'Bill of Materials'!G1124","v":"Cisco 5508 Series Wireless Controller for up to 500 APs"},{"$f":"'Bill of Materials'!L1124","v":"Cisco"},{"$f":"'Bill of Materials'!N1124","v":41998},{"$f":"'Bill of Materials'!P1124","v":"HP"},{"$f":"'Bill of Materials'!C1124","v":"10455"},{"$f":"'Bill of Materials'!H1124","v":"AIR-CT5508-500-K9"},null,null,null,0,{"$f":"'Bill of Materials'!J1124","v":"standard material"},{"$f":"'Bill of Materials'!K1124","v":"electronic"},0]
[{"$f":"'Bill of Materials'!E1125+'Bill of Materials'!F1125","v":0},{"$f":"'Bill of Materials'!M1125","v":"EA"},{"$f":"'Bill of Materials'!G1125","v":"Cisco 5500 Series Wireless Controller Redundant Power Supply"},{"$f":"'Bill of Materials'!L1125","v":"Cisco"},{"$f":"'Bill of Materials'!N1125","v":598},{"$f":"'Bill of Materials'!P1125","v":"HP"},{"$f":"'Bill of Materials'!C1125","v":"10456"},{"$f":"'Bill of Materials'!H1125","v":"AIR-PWR-5500-AC"},null,null,null,0,{"$f":"'Bill of Materials'!J1125","v":"standard material"},{"$f":"'Bill of Materials'!K1125","v":"electronic"},0]
[{"$f":"'Bill of Materials'!E1126+'Bill of Materials'!F1126","v":0},{"$f":"'Bill of Materials'!M1126","v":"EA"},{"$f":"'Bill of Materials'!G1126","v":"Cisco 5500 Series Field Replaceable Fan Tray"},{"$f":"'Bill of Materials'!L1126","v":"Cisco"},{"$f":"'Bill of Materials'!N1126","v":118},{"$f":"'Bill of Materials'!P1126","v":"HP"},{"$f":"'Bill of Materials'!C1126","v":"10457"},{"$f":"'Bill of Materials'!H1126","v":"AIR-FAN-5500="},null,null,null,0,{"$f":"'Bill of Materials'!J1126","v":"standard material"},{"$f":"'Bill of Materials'!K1126","v":"electronic"},0]
[{"$f":"'Bill of Materials'!E1127+'Bill of Materials'!F1127","v":0},{"$f":"'Bill of Materials'!M1127","v":"EA"},{"$f":"'Bill of Materials'!G1127","v":"Cisco 5508 Series Wireless Controller 25 AP Adder License"},{"$f":"'Bill of Materials'!L1127","v":"Cisco"},{"$f":"'Bill of Materials'!N1127","v":5997.6},{"$f":"'Bill of Materials'!P1127","v":"HP"},{"$f":"'Bill of Materials'!C1127","v":"10458"},{"$f":"'Bill of Materials'!H1127","v":"LIC-CT5508-25A"},null,null,null,0,{"$f":"'Bill of Materials'!J1127","v":"standard material"},{"$f":"'Bill of Materials'!K1127","v":"electronic"},0]
[{"$f":"'Bill of Materials'!E1128+'Bill of Materials'!F1128","v":0},{"$f":"'Bill of Materials'!M1128","v":"EA"},{"$f":"'Bill of Materials'!G1128","v":"Cisco 5508 Series Wireless Controller 50 AP Adder License"},{"$f":"'Bill of Materials'!L1128","v":"Cisco"},{"$f":"'Bill of Materials'!N1128","v":10317.6},{"$f":"'Bill of Materials'!P1128","v":"HP"},{"$f":"'Bill of Materials'!C1128","v":"10459"},{"$f":"'Bill of Materials'!H1128","v":"LIC-CT5508-50A"},null,null,null,0,{"$f":"'Bill of Materials'!J1128","v":"standard material"},{"$f":"'Bill of Materials'!K1128","v":"electronic"},0]
[{"$f":"'Bill of Materials'!E1129+'Bill of Materials'!F1129","v":0},{"$f":"'Bill of Materials'!M1129","v":"EA"},{"$f":"'Bill of Materials'!G1129","v":"Cisco 5508 Series Wireless Controller 100 AP Adder License"},{"$f":"'Bill of Materials'!L1129","v":"Cisco"},{"$f":"'Bill of Materials'!N1129","v":15597.6},{"$f":"'Bill of Materials'!P1129","v":"HP"},{"$f":"'Bill of Materials'!C1129","v":"10460"},{"$f":"'Bill of Materials'!H1129","v":"LIC-CT5508-100A"},null,null,null,0,{"$f":"'Bill of Materials'!J1129","v":"standard material"},{"$f":"'Bill of Materials'!K1129","v":"electronic"},0]
[{"$f":"'Bill of Materials'!E1130+'Bill of Materials'!F1130","v":0},{"$f":"'Bill of Materials'!M1130","v":"EA"},{"$f":"'Bill of Materials'!G1130","v":"Cisco 5508 Series Wireless Controller 250 AP Adder License"},{"$f":"'Bill of Materials'!L1130","v":"Cisco"},{"$f":"'Bill of Materials'!N1130","v":28077.599999999999},{"$f":"'Bill of Materials'!P1130","v":"HP"},{"$f":"'Bill of Materials'!C1130","v":"10461"},{"$f":"'Bill of Materials'!H1130","v":"LIC-CT5508-250A"},null,null,null,0,{"$f":"'Bill of Materials'!J1130","v":"standard material"},{"$f":"'Bill of Materials'!K1130","v":"electronic"},0]
[{"$f":"'Bill of Materials'!E1131+'Bill of Materials'!F1131","v":0},{"$f":"'Bill of Materials'!M1131","v":"EA"},{"$f":"'Bill of Materials'!G1131","v":"CISCO Wireless Services Module: WiSM-2"},{"$f":"'Bill of Materials'!L1131","v":"Cisco"},{"$f":"'Bill of Materials'!N1131","v":11998},{"$f":"'Bill of Materials'!P1131","v":"HP"},{"$f":"'Bill of Materials'!C1131","v":"10482"},{"$f":"'Bill of Materials'!H1131","v":"WS-SVC-WISM2-K9"},null,null,null,0,{"$f":"'Bill of Materials'!J1131","v":"standard material"},{"$f":"'Bill of Materials'!K1131","v":"electronic"},0]
[{"$f":"'Bill of Materials'!E1132+'Bill of Materials'!F1132","v":0},{"$f":"'Bill of Materials'!M1132","v":"EA"},{"$f":"'Bill of Materials'!G1132","v":"CISCO WIRELESS SERVICES MODULE (WISM)"},{"$f":"'Bill of Materials'!L1132","v":"Cisco"},{"$f":"'Bill of Materials'!N1132","v":18398},{"$f":"'Bill of Materials'!P1132","v":"HP"},{"$f":"'Bill of Materials'!C1132","v":"8006"},{"$f":"'Bill of Materials'!H1132","v":"WS-SVC-WISM-1-K9="},null,null,null,0,{"$f":"'Bill of Materials'!J1132","v":"standard material"},{"$f":"'Bill of Materials'!K1132","v":"electronic"},0]
[{"$f":"'Bill of Materials'!#REF!+'Bill of Materials'!#REF!","v":{"$error":"#REF!"}},{"$f":"'Bill of Materials'!#REF!","v":{"$error":"#REF!"}},{"$f":"'Bill of Materials'!#REF!","v":{"$error":"#REF!"}},{"$f":"'Bill of Materials'!#REF!","v":{"$error":"#REF!"}},{"$f":"'Bill of Materials'!#REF!","v":{"$error":"#REF!"}},{"$f":"'Bill of Materials'!#REF!","v":{"$error":"#REF!"}},{"$f":"'Bill of Materials'!#REF!","v":{"$error":"#REF!"}},{"$f":"'Bill of Materials'!#REF!","v":{"$error":"#REF!"}},null,null,null,{"$error":"#REF!"},{"$f":"'Bill of Materials'!#REF!","v":{"$error":"#REF!"}},{"$f":"'Bill of Materials'!#REF!","v":{"$error":"#REF!"}},{"$error":"#REF!"}]
[{"$f":"'Bill of Materials'!E1134+'Bill of Materials'!F1134","v":0},{"$f":"'Bill of Materials'!M1134","v":"EA"},{"$f":"'Bill of Materials'!G1134","v":"Catalyst 4900M Base system with 8 X2 ports and 2 half slots"},{"$f":"'Bill of Materials'!L1134","v":"Cisco"},{"$f":"'Bill of Materials'!N1134","v":7200},{"$f":"'Bill of Materials'!P1134","v":"HP"},{"$f":"'Bill of Materials'!C1134","v":"10199"},{"$f":"'Bill of Materials'!H1134","v":"WS-C4900M"},null,null,null,0,{"$f":"'Bill of Materials'!J1134","v":"standard material"},{"$f":"'Bill of Materials'!K1134","v":"electronic"},0]
[{"$f":"'Bill of Materials'!E1135+'Bill of Materials'!F1135","v":0},{"$f":"'Bill of Materials'!M1135","v":"EA"},{"$f":"'Bill of Materials'!G1135","v":"Catalyst 4900M IOS ENTERPRISE SERVICES SSH"},{"$f":"'Bill of Materials'!L1135","v":"Cisco"},{"$f":"'Bill of Materials'!N1135","v":5400},{"$f":"'Bill of Materials'!P1135","v":"HP"},{"$f":"'Bill of Materials'!C1135","v":"10200"},{"$f":"'Bill of Materials'!H1135","v":"S49MESK9-12254SG"},null,null,null,0,{"$f":"'Bill of Materials'!J1135","v":"standard material"},{"$f":"'Bill of Materials'!K1135","v":"electronic"},0]
[{"$f":"'Bill of Materials'!E1136+'Bill of Materials'!F1136","v":0},{"$f":"'Bill of Materials'!M1136","v":"EA"},{"$f":"'Bill of Materials'!G1136","v":"10GBASE-SR X2 Module"},{"$f":"'Bill of Materials'!L1136","v":"Cisco"},{"$f":"'Bill of Materials'!N1136","v":897.75},{"$f":"'Bill of Materials'!P1136","v":"HP"},{"$f":"'Bill of Materials'!C1136","v":"10201"},{"$f":"'Bill of Materials'!H1136","v":"X2-10GB-SR"},null,null,null,0,{"$f":"'Bill of Materials'!J1136","v":"standard material"},{"$f":"'Bill of Materials'!K1136","v":"electronic"},0]
[{"$f":"'Bill of Materials'!E1137+'Bill of Materials'!F1137","v":0},{"$f":"'Bill of Materials'!M1137","v":"EA"},{"$f":"'Bill of Materials'!G1137","v":"Catalyst 4900M 20 port, 10/100/1000 RJ45"},{"$f":"'Bill of Materials'!L1137","v":"Cisco"},{"$f":"'Bill of Materials'!N1137","v":1575},{"$f":"'Bill of Materials'!P1137","v":"HP"},{"$f":"'Bill of Materials'!C1137","v":"10202"},{"$f":"'Bill of Materials'!H1137","v":"WS-X4920-GB-RJ45"},null,null,null,0,{"$f":"'Bill of Materials'!J1137","v":"standard material"},{"$f":"'Bill of Materials'!K1137","v":"electronic"},0]
[{"$f":"'Bill of Materials'!E1138+'Bill of Materials'!F1138","v":0},{"$f":"'Bill of Materials'!M1138","v":"EA"},{"$f":"'Bill of Materials'!G1138","v":"Catalyst 4900M AC power supply, 1000 watts"},{"$f":"'Bill of Materials'!L1138","v":"Cisco"},{"$f":"'Bill of Materials'!N1138","v":450},{"$f":"'Bill of Materials'!P1138","v":"HP"},{"$f":"'Bill of Materials'!C1138","v":"10203"},{"$f":"'Bill of Materials'!H1138","v":"PWR-C49M-1000AC"},null,null,null,0,{"$f":"'Bill of Materials'!J1138","v":"standard material"},{"$f":"'Bill of Materials'!K1138","v":"electronic"},0]
[{"$f":"'Bill of Materials'!E1139+'Bill of Materials'!F1139","v":0},{"$f":"'Bill of Materials'!M1139","v":"EA"},{"$f":"'Bill of Materials'!G1139","v":"Catalyst 4900M Redundant AC PS"},{"$f":"'Bill of Materials'!L1139","v":"Cisco"},{"$f":"'Bill of Materials'!N1139","v":450},{"$f":"'Bill of Materials'!P1139","v":"HP"},{"$f":"'Bill of Materials'!C1139","v":"10204"},{"$f":"'Bill of Materials'!H1139","v":"PWR-C49M-1000AC/2"},null,null,null,0,{"$f":"'Bill of Materials'!J1139","v":"standard material"},{"$f":"'Bill of Materials'!K1139","v":"electronic"},0]
[{"$f":"'Bill of Materials'!E1140+'Bill of Materials'!F1140","v":0},{"$f":"'Bill of Materials'!M1140","v":"EA"},{"$f":"'Bill of Materials'!G1140","v":"Catalyst 4900M Compact Flash, 128MB Option"},{"$f":"'Bill of Materials'!L1140","v":"Cisco"},{"$f":"'Bill of Materials'!N1140","v":315},{"$f":"'Bill of Materials'!P1140","v":"HP"},{"$f":"'Bill of Materials'!C1140","v":"10205"},{"$f":"'Bill of Materials'!H1140","v":"MEM-C4K-FLD128M"},null,null,null,0,{"$f":"'Bill of Materials'!J1140","v":"standard material"},{"$f":"'Bill of Materials'!K1140","v":"electronic"},0]
[{"$f":"'Bill of Materials'!E1142+'Bill of Materials'!F1142","v":0},{"$f":"'Bill of Materials'!M1142","v":"EA"},{"$f":"'Bill of Materials'!G1142","v":"LABEL, LASER, WHITE, 1.900 IN WIDE, 0.750 IN LG, SELF ADHESIVE, 12/SHEET 84 SHEETS/PKG"},{"$f":"'Bill of Materials'!L1142","v":"Hellermann Tyton"},{"$f":"'Bill of Materials'!N1142","v":158.19999999999999},{"$f":"'Bill of Materials'!P1142","v":"DWC"},{"$f":"'Bill of Materials'!C1142","v":"0463-088M"},{"$f":"'Bill of Materials'!H1142","v":"TAG1L-105"},null,null,null,0,{"$f":"'Bill of Materials'!J1142","v":"standard material"},{"$f":"'Bill of Materials'!K1142","v":"physical"},0]
[{"$f":"'Bill of Materials'!E1143+'Bill of Materials'!F1143","v":0},{"$f":"'Bill of Materials'!M1143","v":"EA"},{"$f":"'Bill of Materials'!G1143","v":"Label-printing Software"},{"$f":"'Bill of Materials'!L1143","v":"Hellermann Tyton"},{"$f":"'Bill of Materials'!N1143","v":298.88},{"$f":"'Bill of Materials'!P1143","v":"DWC"},{"$f":"'Bill of Materials'!C1143","v":"10325"},{"$f":"'Bill of Materials'!H1143","v":"556-00022"},null,null,null,0,{"$f":"'Bill of Materials'!J1143","v":"standard material"},{"$f":"'Bill of Materials'!K1143","v":"physical"},0]
[{"$f":"'Bill of Materials'!E1144+'Bill of Materials'!F1144","v":0},{"$f":"'Bill of Materials'!M1144","v":"EA"},{"$f":"'Bill of Materials'!G1144","v":"Cable Lube F-100/ 5 Gallon Pail"},{"$f":"'Bill of Materials'!L1144","v":"Arnco"},{"$f":"'Bill of Materials'!N1144","v":29.55},{"$f":"'Bill of Materials'!P1144","v":"DWC"},{"$f":"'Bill of Materials'!C1144","v":"INFO-3176"},{"$f":"'Bill of Materials'!H1144","v":"1-400058"},null,null,null,0,{"$f":"'Bill of Materials'!J1144","v":"standard material"},{"$f":"'Bill of Materials'!K1144","v":"physical"},0]
[{"$f":"'Bill of Materials'!E1145+'Bill of Materials'!F1145","v":0},{"$f":"'Bill of Materials'!M1145","v":"EA"},{"$f":"'Bill of Materials'!G1145","v":"Cable Lube F-128 / 1 Gallon Pail"},{"$f":"'Bill of Materials'!L1145","v":"Polywater"},{"$f":"'Bill of Materials'!N1145","v":15.94},{"$f":"'Bill of Materials'!P1145","v":"DWC"},{"$f":"'Bill of Materials'!C1145","v":"INFO-3182"},{"$f":"'Bill of Materials'!H1145","v":"F-128"},null,null,null,0,{"$f":"'Bill of Materials'!J1145","v":"standard material"},{"$f":"'Bill of Materials'!K1145","v":"physical"},0]
[{"$f":"'Bill of Materials'!E1146+'Bill of Materials'!F1146","v":0},{"$f":"'Bill of Materials'!M1146","v":"EA"},{"$f":"'Bill of Materials'!G1146","v":"Tyton Labels for wire and patch cords 1.5\"x.38\" - 2500 /pack"},{"$f":"'Bill of Materials'!L1146","v":"Hellermann Tyton"},{"$f":"'Bill of Materials'!N1146","v":123.52},{"$f":"'Bill of Materials'!P1146","v":"DWC"},{"$f":"'Bill of Materials'!C1146","v":"INFO-9004"},{"$f":"'Bill of Materials'!H1146","v":"TAG63L-105"},null,null,null,0,{"$f":"'Bill of Materials'!J1146","v":"standard material"},{"$f":"'Bill of Materials'!K1146","v":"physical"},0]
[{"$f":"'Bill of Materials'!E1147+'Bill of Materials'!F1147","v":0},{"$f":"'Bill of Materials'!M1147","v":"EA"},{"$f":"'Bill of Materials'!G1147","v":"Tyton Labels for equipment - 1000 /pack (xx width)"},{"$f":"'Bill of Materials'!L1147","v":"Hellermann Tyton"},{"$f":"'Bill of Materials'!N1147","v":46.02},{"$f":"'Bill of Materials'!P1147","v":"DWC"},{"$f":"'Bill of Materials'!C1147","v":"INFO-9005"},{"$f":"'Bill of Materials'!H1147","v":"TAG62L-788"},null,null,null,0,{"$f":"'Bill of Materials'!J1147","v":"standard material"},{"$f":"'Bill of Materials'!K1147","v":"physical"},0]
[{"$f":"'Bill of Materials'!E1148+'Bill of Materials'!F1148","v":0},{"$f":"'Bill of Materials'!M1148","v":"EA"},{"$f":"'Bill of Materials'!G1148","v":"3M 1 x 1.5 Lettering Kit"},{"$f":"'Bill of Materials'!L1148","v":"3M"},{"$f":"'Bill of Materials'!N1148","v":113.6},{"$f":"'Bill of Materials'!P1148","v":"DWC"},{"$f":"'Bill of Materials'!C1148","v":"INFO-9006"},{"$f":"'Bill of Materials'!H1148","v":"5005"},null,null,null,0,{"$f":"'Bill of Materials'!J1148","v":"standard material"},{"$f":"'Bill of Materials'!K1148","v":"physical"},0]
[{"$f":"'Bill of Materials'!E1149+'Bill of Materials'!F1149","v":0},{"$f":"'Bill of Materials'!M1149","v":"EA"},{"$f":"'Bill of Materials'!G1149","v":"3M 1 x 3 Lettering Kit"},{"$f":"'Bill of Materials'!L1149","v":"3M"},{"$f":"'Bill of Materials'!N1149","v":359.32},{"$f":"'Bill of Materials'!P1149","v":"DWC"},{"$f":"'Bill of Materials'!C1149","v":"INFO-9007"},{"$f":"'Bill of Materials'!H1149","v":"5025"},null,null,null,0,{"$f":"'Bill of Materials'!J1149","v":"standard material"},{"$f":"'Bill of Materials'!K1149","v":"physical"},0]
[{"$f":"'Bill of Materials'!E1150+'Bill of Materials'!F1150","v":0},{"$f":"'Bill of Materials'!M1150","v":"EA"},{"$f":"'Bill of Materials'!G1150","v":"Firestop Putty - 1 bar"},{"$f":"'Bill of Materials'!L1150","v":"Nelson"},{"$f":"'Bill of Materials'!N1150","v":18.66},{"$f":"'Bill of Materials'!P1150","v":"DWC"},{"$f":"'Bill of Materials'!C1150","v":"INFO-9008"},{"$f":"'Bill of Materials'!H1150","v":"AA445"},null,null,null,0,{"$f":"'Bill of Materials'!J1150","v":"standard material"},{"$f":"'Bill of Materials'!K1150","v":"physical"},0]
[{"$f":"'Bill of Materials'!E1151+'Bill of Materials'!F1151","v":0},{"$f":"'Bill of Materials'!M1151","v":"EA"},{"$f":"'Bill of Materials'!G1151","v":"Strap cable marker"},{"$f":"'Bill of Materials'!L1151","v":"Panduit"},{"$f":"'Bill of Materials'!N1151","v":0.67},{"$f":"'Bill of Materials'!P1151","v":"DWC"},{"$f":"'Bill of Materials'!C1151","v":"INFO-9013"},{"$f":"'Bill of Materials'!H1151","v":"CM4S-L2"},null,null,null,0,{"$f":"'Bill of Materials'!J1151","v":"standard material"},{"$f":"'Bill of Materials'!K1151","v":"physical"},0]
[{"$f":"'Bill of Materials'!E1152+'Bill of Materials'!F1152","v":0},{"$f":"'Bill of Materials'!M1152","v":"EA"},{"$f":"'Bill of Materials'!G1152","v":"Tyton Labels for equipment - 1000 /pack (xx width)"},{"$f":"'Bill of Materials'!L1152","v":"Hellermann Tyton"},{"$f":"'Bill of Materials'!N1152","v":184.76},{"$f":"'Bill of Materials'!P1152","v":"DWC"},{"$f":"'Bill of Materials'!C1152","v":"INFO-9027"},{"$f":"'Bill of Materials'!H1152","v":"TAG57L-788"},null,null,null,0,{"$f":"'Bill of Materials'!J1152","v":"standard material"},{"$f":"'Bill of Materials'!K1152","v":"physical"},0]
[{"$f":"'Bill of Materials'!E1153+'Bill of Materials'!F1153","v":0},{"$f":"'Bill of Materials'!M1153","v":"EA"},{"$f":"'Bill of Materials'!G1153","v":"Brady stand alone label maker"},{"$f":"'Bill of Materials'!L1153","v":"Brady"},{"$f":"'Bill of Materials'!N1153","v":776.72},{"$f":"'Bill of Materials'!P1153","v":"DWC"},{"$f":"'Bill of Materials'!C1153","v":"INFO-9028"},{"$f":"'Bill of Materials'!H1153","v":"TLS 2200"},null,null,null,0,{"$f":"'Bill of Materials'!J1153","v":"standard material"},{"$f":"'Bill of Materials'!K1153","v":"physical"},0]
[{"$f":"'Bill of Materials'!E1154+'Bill of Materials'!F1154","v":0},{"$f":"'Bill of Materials'!M1154","v":"EA"},{"$f":"'Bill of Materials'!G1154","v":"Brady labels MAX/CT Facep;late for TLS2200"},{"$f":"'Bill of Materials'!L1154","v":"Brady"},{"$f":"'Bill of Materials'!N1154","v":52.47},{"$f":"'Bill of Materials'!P1154","v":"DWC"},{"$f":"'Bill of Materials'!C1154","v":"INFO-9029"},{"$f":"'Bill of Materials'!H1154","v":"PTL-40-412"},null,null,null,0,{"$f":"'Bill of Materials'!J1154","v":"standard material"},{"$f":"'Bill of Materials'!K1154","v":"physical"},0]
[{"$f":"'Bill of Materials'!E1155+'Bill of Materials'!F1155","v":0},{"$f":"'Bill of Materials'!M1155","v":"EA"},{"$f":"'Bill of Materials'!G1155","v":"Brady labels MAX/CT Facep;late for laser printer"},{"$f":"'Bill of Materials'!L1155","v":"Brady"},{"$f":"'Bill of Materials'!N1155","v":34.79},{"$f":"'Bill of Materials'!P1155","v":"DWC"},{"$f":"'Bill of Materials'!C1155","v":"INFO-9030"},{"$f":"'Bill of Materials'!H1155","v":"LAT-176-124"},null,null,null,0,{"$f":"'Bill of Materials'!J1155","v":"standard material"},{"$f":"'Bill of Materials'!K1155","v":"physical"},0]
[{"$f":"'Bill of Materials'!E1156+'Bill of Materials'!F1156","v":0},{"$f":"'Bill of Materials'!M1156","v":"EA"},{"$f":"'Bill of Materials'!G1156","v":"Brady label for HD-5 patch panel for TLS2200"},{"$f":"'Bill of Materials'!L1156","v":"Brady"},{"$f":"'Bill of Materials'!N1156","v":31.67},{"$f":"'Bill of Materials'!P1156","v":"DWC"},{"$f":"'Bill of Materials'!C1156","v":"INFO-9031"},{"$f":"'Bill of Materials'!H1156","v":"PTL-44-422"},null,null,null,0,{"$f":"'Bill of Materials'!J1156","v":"standard material"},{"$f":"'Bill of Materials'!K1156","v":"physical"},0]
[{"$f":"'Bill of Materials'!E1157+'Bill of Materials'!F1157","v":0},{"$f":"'Bill of Materials'!M1157","v":"EA"},{"$f":"'Bill of Materials'!G1157","v":"Brady label for HD-5 patch panel for laser printer"},{"$f":"'Bill of Materials'!L1157","v":"Brady"},{"$f":"'Bill of Materials'!N1157","v":147.4},{"$f":"'Bill of Materials'!P1157","v":"DWC"},{"$f":"'Bill of Materials'!C1157","v":"INFO-9032"},{"$f":"'Bill of Materials'!H1157","v":"LAT-45-707"},null,null,null,0,{"$f":"'Bill of Materials'!J1157","v":"standard material"},{"$f":"'Bill of Materials'!K1157","v":"physical"},0]
[{"$f":"'Bill of Materials'!E1158+'Bill of Materials'!F1158","v":0},{"$f":"'Bill of Materials'!M1158","v":"EA"},{"$f":"'Bill of Materials'!G1158","v":"Brady label for Cat-5e cable for TLS2200"},{"$f":"'Bill of Materials'!L1158","v":"Brady"},{"$f":"'Bill of Materials'!N1158","v":39.32},{"$f":"'Bill of Materials'!P1158","v":"DWC"},{"$f":"'Bill of Materials'!C1158","v":"INFO-9033"},{"$f":"'Bill of Materials'!H1158","v":"PTL-31-427"},null,null,null,0,{"$f":"'Bill of Materials'!J1158","v":"standard material"},{"$f":"'Bill of Materials'!K1158","v":"physical"},0]
[{"$f":"'Bill of Materials'!E1159+'Bill of Materials'!F1159","v":0},{"$f":"'Bill of Materials'!M1159","v":"EA"},{"$f":"'Bill of Materials'!G1159","v":"Brady label for Cat-5e cable for laser printer"},{"$f":"'Bill of Materials'!L1159","v":"Brady"},{"$f":"'Bill of Materials'!N1159","v":84.08},{"$f":"'Bill of Materials'!P1159","v":"DWC"},{"$f":"'Bill of Materials'!C1159","v":"INFO-9034"},{"$f":"'Bill of Materials'!H1159","v":"LAT-18-361"},null,null,null,0,{"$f":"'Bill of Materials'!J1159","v":"standard material"},{"$f":"'Bill of Materials'!K1159","v":"physical"},0]
[{"$f":"'Bill of Materials'!E1160+'Bill of Materials'!F1160","v":0},{"$f":"'Bill of Materials'!M1160","v":"EA"},{"$f":"'Bill of Materials'!G1160","v":"Brady label for 25 pair copper for TLS2200"},{"$f":"'Bill of Materials'!L1160","v":"Brady"},{"$f":"'Bill of Materials'!N1160","v":23.48},{"$f":"'Bill of Materials'!P1160","v":"DWC"},{"$f":"'Bill of Materials'!C1160","v":"INFO-9035"},{"$f":"'Bill of Materials'!H1160","v":"PTL-21-427"},null,null,null,0,{"$f":"'Bill of Materials'!J1160","v":"standard material"},{"$f":"'Bill of Materials'!K1160","v":"physical"},0]
[{"$f":"'Bill of Materials'!E1161+'Bill of Materials'!F1161","v":0},{"$f":"'Bill of Materials'!M1161","v":"EA"},{"$f":"'Bill of Materials'!G1161","v":"Brady label for 25 pair copper for laser printer"},{"$f":"'Bill of Materials'!L1161","v":"Brady"},{"$f":"'Bill of Materials'!N1161","v":155.83000000000001},{"$f":"'Bill of Materials'!P1161","v":"DWC"},{"$f":"'Bill of Materials'!C1161","v":"INFO-9036"},{"$f":"'Bill of Materials'!H1161","v":"LAT-19-361"},null,null,null,0,{"$f":"'Bill of Materials'!J1161","v":"standard material"},{"$f":"'Bill of Materials'!K1161","v":"physical"},0]
[{"$f":"'Bill of Materials'!E1162+'Bill of Materials'!F1162","v":0},{"$f":"'Bill of Materials'!M1162","v":"EA"},{"$f":"'Bill of Materials'!G1162","v":"Brady label for 2 pair fiber for TLS2200"},{"$f":"'Bill of Materials'!L1162","v":"Brady"},{"$f":"'Bill of Materials'!N1162","v":30.68},{"$f":"'Bill of Materials'!P1162","v":"DWC"},{"$f":"'Bill of Materials'!C1162","v":"INFO-9037"},{"$f":"'Bill of Materials'!H1162","v":"PTL-19-427"},null,null,null,0,{"$f":"'Bill of Materials'!J1162","v":"standard material"},{"$f":"'Bill of Materials'!K1162","v":"physical"},0]
[{"$f":"'Bill of Materials'!E1163+'Bill of Materials'!F1163","v":0},{"$f":"'Bill of Materials'!M1163","v":"EA"},{"$f":"'Bill of Materials'!G1163","v":"Brady label for 2 pair fiber for  laser printer"},{"$f":"'Bill of Materials'!L1163","v":"Brady"},{"$f":"'Bill of Materials'!N1163","v":72.95},{"$f":"'Bill of Materials'!P1163","v":"DWC"},{"$f":"'Bill of Materials'!C1163","v":"INFO-9038"},{"$f":"'Bill of Materials'!H1163","v":"LAT-17-361"},null,null,null,0,{"$f":"'Bill of Materials'!J1163","v":"standard material"},{"$f":"'Bill of Materials'!K1163","v":"physical"},0]
[{"$f":"'Bill of Materials'!E1164+'Bill of Materials'!F1164","v":0},{"$f":"'Bill of Materials'!M1164","v":"EA"},{"$f":"'Bill of Materials'!G1164","v":"2\" Bridle Ring"},{"$f":"'Bill of Materials'!L1164","v":"Garvin"},{"$f":"'Bill of Materials'!N1164","v":0.52},{"$f":"'Bill of Materials'!P1164","v":"DWC"},{"$f":"'Bill of Materials'!C1164","v":"INFO-9040"},{"$f":"'Bill of Materials'!H1164","v":"BR-200"},null,null,null,0,{"$f":"'Bill of Materials'!J1164","v":"standard material"},{"$f":"'Bill of Materials'!K1164","v":"physical"},0]
[{"$f":"'Bill of Materials'!E1165+'Bill of Materials'!F1165","v":0},{"$f":"'Bill of Materials'!M1165","v":"EA"},{"$f":"'Bill of Materials'!G1165","v":"4\" Bridle Ring"},{"$f":"'Bill of Materials'!L1165","v":"Garvin"},{"$f":"'Bill of Materials'!N1165","v":1.08},{"$f":"'Bill of Materials'!P1165","v":"DWC"},{"$f":"'Bill of Materials'!C1165","v":"INFO-9041"},{"$f":"'Bill of Materials'!H1165","v":"BR-400"},null,null,null,0,{"$f":"'Bill of Materials'!J1165","v":"standard material"},{"$f":"'Bill of Materials'!K1165","v":"physical"},0]
[{"$f":"'Bill of Materials'!E1167+'Bill of Materials'!F1167","v":0},{"$f":"'Bill of Materials'!M1167","v":"EA"},{"$f":"'Bill of Materials'!G1167","v":"2.4 GHz 802.11b/g/n 3.0 dBi Omnidirectional Ceiling Mount, 3 coax connection leads 3 integrated antennas in one unit)"},{"$f":"'Bill of Materials'!L1167","v":"Cisco"},{"$f":"'Bill of Materials'!N1167","v":99.6},{"$f":"'Bill of Materials'!P1167","v":"HP"},{"$f":"'Bill of Materials'!C1167","v":"10225"},{"$f":"'Bill of Materials'!H1167","v":"AIR-ANT2430V-R"},null,null,null,0,{"$f":"'Bill of Materials'!J1167","v":"standard material"},{"$f":"'Bill of Materials'!K1167","v":"electronic"},0]
[{"$f":"'Bill of Materials'!E1168+'Bill of Materials'!F1168","v":0},{"$f":"'Bill of Materials'!M1168","v":"EA"},{"$f":"'Bill of Materials'!G1168","v":"5.0 GHz 802.11a/n 4.0 dBi Omnidirectional Ceiling Mount, 3 coax connection leads (3 integrated antennas in one unit)"},{"$f":"'Bill of Materials'!L1168","v":"Cisco"},{"$f":"'Bill of Materials'!N1168","v":99.6},{"$f":"'Bill of Materials'!P1168","v":"HP"},{"$f":"'Bill of Materials'!C1168","v":"10226"},{"$f":"'Bill of Materials'!H1168","v":"AIR-ANT5140V-R"},null,null,null,0,{"$f":"'Bill of Materials'!J1168","v":"standard material"},{"$f":"'Bill of Materials'!K1168","v":"electronic"},0]
[{"$f":"'Bill of Materials'!E1169+'Bill of Materials'!F1169","v":0},{"$f":"'Bill of Materials'!M1169","v":"EA"},{"$f":"'Bill of Materials'!G1169","v":"2.4 GHz 5.2 dBi Mast Mount Omnidirectional RP-TNC connectors"},{"$f":"'Bill of Materials'!L1169","v":"Cisco"},{"$f":"'Bill of Materials'!N1169","v":63.6},{"$f":"'Bill of Materials'!P1169","v":"HP"},{"$f":"'Bill of Materials'!C1169","v":"10227"},{"$f":"'Bill of Materials'!H1169","v":"AIR-ANT2506"},null,null,null,0,{"$f":"'Bill of Materials'!J1169","v":"standard material"},{"$f":"'Bill of Materials'!K1169","v":"electronic"},0]
[{"$f":"'Bill of Materials'!E1170+'Bill of Materials'!F1170","v":0},{"$f":"'Bill of Materials'!M1170","v":"EA"},{"$f":"'Bill of Materials'!G1170","v":"2.4 GHz 5.2 dBi Dipole Ceiling mount Omnidirectional"},{"$f":"'Bill of Materials'!L1170","v":"Cisco"},{"$f":"'Bill of Materials'!N1170","v":63.6},{"$f":"'Bill of Materials'!P1170","v":"HP"},{"$f":"'Bill of Materials'!C1170","v":"10228"},{"$f":"'Bill of Materials'!H1170","v":"AIR-ANT1728"},null,null,null,0,{"$f":"'Bill of Materials'!J1170","v":"standard material"},{"$f":"'Bill of Materials'!K1170","v":"electronic"},0]
[{"$f":"'Bill of Materials'!#REF!+'Bill of Materials'!#REF!","v":{"$error":"#REF!"}},{"$f":"'Bill of Materials'!#REF!","v":{"$error":"#REF!"}},{"$f":"'Bill of Materials'!#REF!","v":{"$error":"#REF!"}},{"$f":"'Bill of Materials'!#REF!","v":{"$error":"#REF!"}},{"$f":"'Bill of Materials'!#REF!","v":{"$error":"#REF!"}},{"$f":"'Bill of Materials'!#REF!","v":{"$error":"#REF!"}},{"$f":"'Bill of Materials'!#REF!","v":{"$error":"#REF!"}},{"$f":"'Bill of Materials'!#REF!","v":{"$error":"#REF!"}},null,null,null,{"$error":"#REF!"},{"$f":"'Bill of Materials'!#REF!","v":{"$error":"#REF!"}},{"$f":"'Bill of Materials'!#REF!","v":{"$error":"#REF!"}},{"$error":"#REF!"}]
[{"$f":"'Bill of Materials'!E1171+'Bill of Materials'!F1171","v":0},{"$f":"'Bill of Materials'!M1171","v":"EA"},{"$f":"'Bill of Materials'!G1171","v":"5.0 GHz 9.0 dBi Single Non-Diversity Patch antenna (one coax lead)"},{"$f":"'Bill of Materials'!L1171","v":"Cisco"},{"$f":"'Bill of Materials'!N1171","v":95.6},{"$f":"'Bill of Materials'!P1171","v":"HP"},{"$f":"'Bill of Materials'!C1171","v":"10229"},{"$f":"'Bill of Materials'!H1171","v":"AIR-ANT5195P-R"},null,null,null,0,{"$f":"'Bill of Materials'!J1171","v":"standard material"},{"$f":"'Bill of Materials'!K1171","v":"electronic"},0]
[{"$f":"'Bill of Materials'!E1172+'Bill of Materials'!F1172","v":0},{"$f":"'Bill of Materials'!M1172","v":"EA"},{"$f":"'Bill of Materials'!G1172","v":"2.4 GHz 6.0 dBi Single Non-Diversity Patch antenna (one coax lead)"},{"$f":"'Bill of Materials'!L1172","v":"Cisco"},{"$f":"'Bill of Materials'!N1172","v":87.6},{"$f":"'Bill of Materials'!P1172","v":"HP"},{"$f":"'Bill of Materials'!C1172","v":"10230"},{"$f":"'Bill of Materials'!H1172","v":"AIR-ANT2460P-R"},null,null,null,0,{"$f":"'Bill of Materials'!J1172","v":"standard material"},{"$f":"'Bill of Materials'!K1172","v":"electronic"},0]
[{"$f":"'Bill of Materials'!E1173+'Bill of Materials'!F1173","v":0},{"$f":"'Bill of Materials'!M1173","v":"EA"},{"$f":"'Bill of Materials'!G1173","v":"2.4 GHz 6.0 dBi MIMO 802.11n directional antenna"},{"$f":"'Bill of Materials'!L1173","v":"Cisco"},{"$f":"'Bill of Materials'!N1173","v":140},{"$f":"'Bill of Materials'!P1173","v":"HP"},{"$f":"'Bill of Materials'!C1173","v":"10300"},{"$f":"'Bill of Materials'!H1173","v":"AIR-ANT2460NP-R"},null,null,null,0,{"$f":"'Bill of Materials'!J1173","v":"standard material"},{"$f":"'Bill of Materials'!K1173","v":"electronic"},0]
[{"$f":"'Bill of Materials'!E1174+'Bill of Materials'!F1174","v":0},{"$f":"'Bill of Materials'!M1174","v":"EA"},{"$f":"'Bill of Materials'!G1174","v":"5.0 GHz 6.0 dBi MIMO 802.11n directional antenna"},{"$f":"'Bill of Materials'!L1174","v":"Cisco"},{"$f":"'Bill of Materials'!N1174","v":140},{"$f":"'Bill of Materials'!P1174","v":"HP"},{"$f":"'Bill of Materials'!C1174","v":"10301"},{"$f":"'Bill of Materials'!H1174","v":"AIR-ANT5160NP-R"},null,null,null,0,{"$f":"'Bill of Materials'!J1174","v":"standard material"},{"$f":"'Bill of Materials'!K1174","v":"electronic"},0]
[{"$f":"'Bill of Materials'!E1175+'Bill of Materials'!F1175","v":0},{"$f":"'Bill of Materials'!M1175","v":"EA"},{"$f":"'Bill of Materials'!G1175","v":"2.4GHz Ceiling-Mount Diversity Indoor Antenna with RP-TNC Connectors 2dBI OMNIDIRECTIONAL. Antenna comes with a clip that permits it to be mounted to a drop-ceiling cross member."},{"$f":"'Bill of Materials'!L1175","v":"Cisco"},{"$f":"'Bill of Materials'!N1175","v":111.6},{"$f":"'Bill of Materials'!P1175","v":"HP"},{"$f":"'Bill of Materials'!C1175","v":"10304"},{"$f":"'Bill of Materials'!H1175","v":"AIR-ANT24020V-R="},null,null,null,0,{"$f":"'Bill of Materials'!J1175","v":"standard material"},{"$f":"'Bill of Materials'!K1175","v":"electronic"},0]
[{"$f":"'Bill of Materials'!E1176+'Bill of Materials'!F1176","v":0},{"$f":"'Bill of Materials'!M1176","v":"EA"},{"$f":"'Bill of Materials'!G1176","v":"5 GHz Indoor or outdoor use omnidirectional Antenna, 6dBi (Pipe Bombs). For Use with the 1200 Series. Can be Mast or Ceiling Mounted."},{"$f":"'Bill of Materials'!L1176","v":"Cisco"},{"$f":"'Bill of Materials'!N1176","v":83.6},{"$f":"'Bill of Materials'!P1176","v":"HP"},{"$f":"'Bill of Materials'!C1176","v":"1102-009G"},{"$f":"'Bill of Materials'!H1176","v":"AIR-ANT5160V-R"},null,null,null,0,{"$f":"'Bill of Materials'!J1176","v":"standard material"},{"$f":"'Bill of Materials'!K1176","v":"electronic"},0]
[{"$f":"'Bill of Materials'!E1177+'Bill of Materials'!F1177","v":0},{"$f":"'Bill of Materials'!M1177","v":"EA"},{"$f":"'Bill of Materials'!G1177","v":"5 GHz Indoor-only Diversity Omnidirectional Ceiling Mount 4.5 dBi Antenna. For use with the 1200 Series"},{"$f":"'Bill of Materials'!L1177","v":"Cisco"},{"$f":"'Bill of Materials'!N1177","v":111.6},{"$f":"'Bill of Materials'!P1177","v":"HP"},{"$f":"'Bill of Materials'!C1177","v":"1102-009H"},{"$f":"'Bill of Materials'!H1177","v":"AIR-ANT5145V-R"},null,null,null,0,{"$f":"'Bill of Materials'!J1177","v":"standard material"},{"$f":"'Bill of Materials'!K1177","v":"electronic"},0]
[{"$f":"'Bill of Materials'!E1178+'Bill of Materials'!F1178","v":0},{"$f":"'Bill of Materials'!M1178","v":"EA"},{"$f":"'Bill of Materials'!G1178","v":"5 GHz Single Black 3.5 dBi Dipole Antenna (Rubber Duck) with an RP-TNC Connector. Provides Indoor Omindirectional Area of Coverage."},{"$f":"'Bill of Materials'!L1178","v":"Cisco"},{"$f":"'Bill of Materials'!N1178","v":7.6},{"$f":"'Bill of Materials'!P1178","v":"HP"},{"$f":"'Bill of Materials'!C1178","v":"1102-009J"},{"$f":"'Bill of Materials'!H1178","v":"AIR-ANT5135D-R"},null,null,null,0,{"$f":"'Bill of Materials'!J1178","v":"standard material"},{"$f":"'Bill of Materials'!K1178","v":"electronic"},0]
[{"$f":"'Bill of Materials'!E1179+'Bill of Materials'!F1179","v":0},{"$f":"'Bill of Materials'!M1179","v":"EA"},{"$f":"'Bill of Materials'!G1179","v":"5 GHz Wall Mount Diversity Patch Antenna with RP-TNC Connectors-Designed for use in both Indoor and Outdoor Applications. Antenna Comes with Wall Mount Hardware, and has a Gain of 7 dBi. Plenum Rated Pigtail Cable of 36\""},{"$f":"'Bill of Materials'!L1179","v":"Cisco"},{"$f":"'Bill of Materials'!N1179","v":159.6},{"$f":"'Bill of Materials'!P1179","v":"HP"},{"$f":"'Bill of Materials'!C1179","v":"1102-009K"},{"$f":"'Bill of Materials'!H1179","v":"AIR-ANT5170P-R"},null,null,null,0,{"$f":"'Bill of Materials'!J1179","v":"standard material"},{"$f":"'Bill of Materials'!K1179","v":"electronic"},0]
[{"$f":"'Bill of Materials'!E1180+'Bill of Materials'!F1180","v":0},{"$f":"'Bill of Materials'!M1180","v":"EA"},{"$f":"'Bill of Materials'!G1180","v":"2.4 GHz Wall-mount Diversity Patch Antenna with RP-TNC connectors. Designed for Use in Both Indoor and Outdoor Applications. Antenna Comes with Wall Mount Hardware, and has a Gain of 6.5 dBi. Plenum Rated Pigtail Cable of 36\"."},{"$f":"'Bill of Materials'!L1180","v":"Cisco"},{"$f":"'Bill of Materials'!N1180","v":159.6},{"$f":"'Bill of Materials'!P1180","v":"HP"},{"$f":"'Bill of Materials'!C1180","v":"1102-009L"},{"$f":"'Bill of Materials'!H1180","v":"AIR-ANT2465P-R"},null,null,null,0,{"$f":"'Bill of Materials'!J1180","v":"standard material"},{"$f":"'Bill of Materials'!K1180","v":"electronic"},0]
[{"$f":"'Bill of Materials'!E1181+'Bill of Materials'!F1181","v":0},{"$f":"'Bill of Materials'!M1181","v":"EA"},{"$f":"'Bill of Materials'!G1181","v":"2.4 GHz Single Black 2.2 dBi Dipole Antenna (Rubber Duck) with an RP-TNC Connector. Provides Indoor Omindirectional Area of Coverage."},{"$f":"'Bill of Materials'!L1181","v":"Cisco"},{"$f":"'Bill of Materials'!N1181","v":7.6},{"$f":"'Bill of Materials'!P1181","v":"HP"},{"$f":"'Bill of Materials'!C1181","v":"INRF-0001"},{"$f":"'Bill of Materials'!H1181","v":"AIR-ANT4941"},null,null,null,0,{"$f":"'Bill of Materials'!J1181","v":"standard material"},{"$f":"'Bill of Materials'!K1181","v":"electronic"},0]
[{"$f":"'Bill of Materials'!#REF!+'Bill of Materials'!#REF!","v":{"$error":"#REF!"}},{"$f":"'Bill of Materials'!#REF!","v":{"$error":"#REF!"}},{"$f":"'Bill of Materials'!#REF!","v":{"$error":"#REF!"}},{"$f":"'Bill of Materials'!#REF!","v":{"$error":"#REF!"}},{"$f":"'Bill of Materials'!#REF!","v":{"$error":"#REF!"}},{"$f":"'Bill of Materials'!#REF!","v":{"$error":"#REF!"}},{"$f":"'Bill of Materials'!#REF!","v":{"$error":"#REF!"}},{"$f":"'Bill of Materials'!#REF!","v":{"$error":"#REF!"}},null,null,null,{"$error":"#REF!"},{"$f":"'Bill of Materials'!#REF!","v":{"$error":"#REF!"}},{"$f":"'Bill of Materials'!#REF!","v":{"$error":"#REF!"}},{"$error":"#REF!"}]
[{"$f":"'Bill of Materials'!E1182+'Bill of Materials'!F1182","v":0},{"$f":"'Bill of Materials'!M1182","v":"EA"},{"$f":"'Bill of Materials'!G1182","v":"2.4 GHz 13.5 dBi YAGI Mast Mount Antenna. High-gain outdoor directional antenna with a RP-TNC connector-antenna is a completely enclosed 16-element yagi. "},{"$f":"'Bill of Materials'!L1182","v":"Cisco"},{"$f":"'Bill of Materials'!N1182","v":147.6},{"$f":"'Bill of Materials'!P1182","v":"HP"},{"$f":"'Bill of Materials'!C1182","v":"INRF-0004"},{"$f":"'Bill of Materials'!H1182","v":"AIR-ANT1949"},null,null,null,0,{"$f":"'Bill of Materials'!J1182","v":"standard material"},{"$f":"'Bill of Materials'!K1182","v":"electronic"},0]
[{"$f":"'Bill of Materials'!E1183+'Bill of Materials'!F1183","v":0},{"$f":"'Bill of Materials'!M1183","v":"EA"},{"$f":"'Bill of Materials'!G1183","v":"YAGI Antenna Articulating Mount. "},{"$f":"'Bill of Materials'!L1183","v":"Cisco"},{"$f":"'Bill of Materials'!N1183","v":27.6},{"$f":"'Bill of Materials'!P1183","v":"DWC"},{"$f":"'Bill of Materials'!C1183","v":"INRF-0007"},{"$f":"'Bill of Materials'!H1183","v":"AIR-ACC2662"},null,null,null,0,{"$f":"'Bill of Materials'!J1183","v":"standard material"},{"$f":"'Bill of Materials'!K1183","v":"physical"},0]
[{"$f":"'Bill of Materials'!E1184+'Bill of Materials'!F1184","v":0},{"$f":"'Bill of Materials'!M1184","v":"EA"},{"$f":"'Bill of Materials'!G1184","v":"2.4GHz Indoor Pillar-mount Omni Directional 5.2 dBi antenna with two RP-TNC connectors."},{"$f":"'Bill of Materials'!L1184","v":"Cisco"},{"$f":"'Bill of Materials'!N1184","v":83.6},{"$f":"'Bill of Materials'!P1184","v":"HP"},{"$f":"'Bill of Materials'!C1184","v":"INRF-0037"},{"$f":"'Bill of Materials'!H1184","v":"AIR-ANT2452V-R="},null,null,null,0,{"$f":"'Bill of Materials'!J1184","v":"standard material"},{"$f":"'Bill of Materials'!K1184","v":"electronic"},0]
[{"$f":"'Bill of Materials'!E1185+'Bill of Materials'!F1185","v":0},{"$f":"'Bill of Materials'!M1185","v":"EA"},{"$f":"'Bill of Materials'!G1185","v":"2' ANTENNA EXTENSION CABLE"},{"$f":"'Bill of Materials'!L1185","v":"DWC"},{"$f":"'Bill of Materials'!N1185","v":30.89},{"$f":"'Bill of Materials'!P1185","v":"DWC"},{"$f":"'Bill of Materials'!C1185","v":"INRF-0210"},{"$f":"'Bill of Materials'!H1185","v":"DWC-121603-002"},null,null,null,{"$f":"E1228*A1228","v":0},{"$f":"'Bill of Materials'!J1185","v":"standard material"},{"$f":"'Bill of Materials'!K1185","v":"physical"},{"$f":"IF(A1228>0,1,0)","v":0}]
[{"$f":"'Bill of Materials'!E1186+'Bill of Materials'!F1186","v":0},{"$f":"'Bill of Materials'!M1186","v":"EA"},{"$f":"'Bill of Materials'!G1186","v":"5' ANTENNA EXTENSION CABLE - Low Loss"},{"$f":"'Bill of Materials'!L1186","v":"DWC"},{"$f":"'Bill of Materials'!N1186","v":36.880000000000003},{"$f":"'Bill of Materials'!P1186","v":"DWC"},{"$f":"'Bill of Materials'!C1186","v":"INRF-0211"},{"$f":"'Bill of Materials'!H1186","v":"DWC-121602-005"},null,null,null,0,{"$f":"'Bill of Materials'!J1186","v":"standard material"},{"$f":"'Bill of Materials'!K1186","v":"physical"},0]
[{"$f":"'Bill of Materials'!E1187+'Bill of Materials'!F1187","v":0},{"$f":"'Bill of Materials'!M1187","v":"EA"},{"$f":"'Bill of Materials'!G1187","v":"10' ANTENNA EXTENSION CABLE - Low Loss"},{"$f":"'Bill of Materials'!L1187","v":"DWC"},{"$f":"'Bill of Materials'!N1187","v":40.840000000000003},{"$f":"'Bill of Materials'!P1187","v":"DWC"},{"$f":"'Bill of Materials'!C1187","v":"INRF-0212"},{"$f":"'Bill of Materials'!H1187","v":"DWC-121602-010"},null,null,null,0,{"$f":"'Bill of Materials'!J1187","v":"standard material"},{"$f":"'Bill of Materials'!K1187","v":"physical"},0]
[{"$f":"'Bill of Materials'!E1188+'Bill of Materials'!F1188","v":0},{"$f":"'Bill of Materials'!M1188","v":"EA"},{"$f":"'Bill of Materials'!G1188","v":"20' ANTENNA EXTENSION CABLE - Low Loss"},{"$f":"'Bill of Materials'!L1188","v":"DWC"},{"$f":"'Bill of Materials'!N1188","v":48.81},{"$f":"'Bill of Materials'!P1188","v":"DWC"},{"$f":"'Bill of Materials'!C1188","v":"INRF-0213"},{"$f":"'Bill of Materials'!H1188","v":"DWC-121602-020"},null,null,null,0,{"$f":"'Bill of Materials'!J1188","v":"standard material"},{"$f":"'Bill of Materials'!K1188","v":"physical"},0]
[{"$f":"'Bill of Materials'!E1190+'Bill of Materials'!F1190","v":0},{"$f":"'Bill of Materials'!M1190","v":"EA"},{"$f":"'Bill of Materials'!G1190","v":"Cisco Media Convertor/Power Injector for 1200 Series Access Points."},{"$f":"'Bill of Materials'!L1190","v":"Cisco"},{"$f":"'Bill of Materials'!N1190","v":119.6},{"$f":"'Bill of Materials'!P1190","v":"DWC"},{"$f":"'Bill of Materials'!C1190","v":"10068"},{"$f":"'Bill of Materials'!H1190","v":"AIR-PWRINJ-FIB"},null,null,null,0,{"$f":"'Bill of Materials'!J1190","v":"standard material"},{"$f":"'Bill of Materials'!K1190","v":"physical"},0]
[{"$f":"'Bill of Materials'!#REF!+'Bill of Materials'!#REF!","v":{"$error":"#REF!"}},{"$f":"'Bill of Materials'!#REF!","v":{"$error":"#REF!"}},{"$f":"'Bill of Materials'!#REF!","v":{"$error":"#REF!"}},{"$f":"'Bill of Materials'!#REF!","v":{"$error":"#REF!"}},{"$f":"'Bill of Materials'!#REF!","v":{"$error":"#REF!"}},{"$f":"'Bill of Materials'!#REF!","v":{"$error":"#REF!"}},{"$f":"'Bill of Materials'!#REF!","v":{"$error":"#REF!"}},{"$f":"'Bill of Materials'!#REF!","v":{"$error":"#REF!"}},null,null,null,{"$error":"#REF!"},{"$f":"'Bill of Materials'!#REF!","v":{"$error":"#REF!"}},{"$f":"'Bill of Materials'!#REF!","v":{"$error":"#REF!"}},{"$error":"#REF!"}]
[{"$f":"'Bill of Materials'!E1191+'Bill of Materials'!F1191","v":0},{"$f":"'Bill of Materials'!M1191","v":"EA"},{"$f":"'Bill of Materials'!G1191","v":"Power Injector for 1140 and 1250 Series"},{"$f":"'Bill of Materials'!L1191","v":"Cisco"},{"$f":"'Bill of Materials'!N1191","v":59.6},{"$f":"'Bill of Materials'!P1191","v":"HP"},{"$f":"'Bill of Materials'!C1191","v":"10231"},{"$f":"'Bill of Materials'!H1191","v":"AIR-PWRINJ4"},null,null,null,0,{"$f":"'Bill of Materials'!J1191","v":"standard material"},{"$f":"'Bill of Materials'!K1191","v":"electronic"},0]
[{"$f":"'Bill of Materials'!E1192+'Bill of Materials'!F1192","v":0},{"$f":"'Bill of Materials'!M1192","v":"EA"},{"$f":"'Bill of Materials'!G1192","v":"Cisco 1140 - 802.11a/g/n Fixed Unified AP; Int Ant; A Reg Domain"},{"$f":"'Bill of Materials'!L1192","v":"Cisco"},{"$f":"'Bill of Materials'!N1192","v":398},{"$f":"'Bill of Materials'!P1192","v":"HP"},{"$f":"'Bill of Materials'!C1192","v":"10232"},{"$f":"'Bill of Materials'!H1192","v":"AIR-LAP1142N-A-K9"},null,null,null,0,{"$f":"'Bill of Materials'!J1192","v":"standard material"},{"$f":"'Bill of Materials'!K1192","v":"electronic"},0]
[{"$f":"'Bill of Materials'!E1193+'Bill of Materials'!F1193","v":0},{"$f":"'Bill of Materials'!M1193","v":"EA"},{"$f":"'Bill of Materials'!G1193","v":"Cisco 1252 - 802.11a/g/n-d2.0 2.4/5-GHz Mod Auto AP; 6 RP-TNC; FCC"},{"$f":"'Bill of Materials'!L1193","v":"Cisco"},{"$f":"'Bill of Materials'!N1193","v":519.6},{"$f":"'Bill of Materials'!P1193","v":"HP"},{"$f":"'Bill of Materials'!C1193","v":"10233"},{"$f":"'Bill of Materials'!H1193","v":"AIR-AP1252AG-A-K9"},null,null,null,0,{"$f":"'Bill of Materials'!J1193","v":"standard material"},{"$f":"'Bill of Materials'!K1193","v":"electronic"},0]
[{"$f":"'Bill of Materials'!E1194+'Bill of Materials'!F1194","v":0},{"$f":"'Bill of Materials'!M1194","v":"EA"},{"$f":"'Bill of Materials'!G1194","v":"Cisco 1140 Series IOS Wireless LAN LWAPP Recovery"},{"$f":"'Bill of Materials'!L1194","v":"Cisco"},{"$f":"'Bill of Materials'!N1194","v":0},{"$f":"'Bill of Materials'!P1194","v":"HP"},{"$f":"'Bill of Materials'!C1194","v":"10234"},{"$f":"'Bill of Materials'!H1194","v":"S114RK9W-12418JA"},null,null,null,0,{"$f":"'Bill of Materials'!J1194","v":"standard material"},{"$f":"'Bill of Materials'!K1194","v":"electronic"},0]
[{"$f":"'Bill of Materials'!E1195+'Bill of Materials'!F1195","v":0},{"$f":"'Bill of Materials'!M1195","v":"EA"},{"$f":"'Bill of Materials'!G1195","v":"Cisco 1250 Series IOS Wireless LAN LWAPP Recovery"},{"$f":"'Bill of Materials'!L1195","v":"Cisco"},{"$f":"'Bill of Materials'!N1195","v":0},{"$f":"'Bill of Materials'!P1195","v":"HP"},{"$f":"'Bill of Materials'!C1195","v":"10235"},{"$f":"'Bill of Materials'!H1195","v":"S125W7K9-12410JA"},null,null,null,0,{"$f":"'Bill of Materials'!J1195","v":"standard material"},{"$f":"'Bill of Materials'!K1195","v":"electronic"},0]
[{"$f":"'Bill of Materials'!E1196+'Bill of Materials'!F1196","v":0},{"$f":"'Bill of Materials'!M1196","v":"EA"},{"$f":"'Bill of Materials'!G1196","v":"Cisco 1252 - 802.11a/g/n-d2.0 2.4/5-GHz Unified AP; 6 RP-TNC; FCC"},{"$f":"'Bill of Materials'!L1196","v":"Cisco"},{"$f":"'Bill of Materials'!N1196","v":519.6},{"$f":"'Bill of Materials'!P1196","v":"HP"},{"$f":"'Bill of Materials'!C1196","v":"10327"},{"$f":"'Bill of Materials'!H1196","v":"AIR-LAP1252AG-A-K9"},null,null,null,0,{"$f":"'Bill of Materials'!J1196","v":"standard material"},{"$f":"'Bill of Materials'!K1196","v":"electronic"},0]
[{"$f":"'Bill of Materials'!#REF!+'Bill of Materials'!#REF!","v":{"$error":"#REF!"}},{"$f":"'Bill of Materials'!#REF!","v":{"$error":"#REF!"}},{"$f":"'Bill of Materials'!#REF!","v":{"$error":"#REF!"}},{"$f":"'Bill of Materials'!#REF!","v":{"$error":"#REF!"}},{"$f":"'Bill of Materials'!#REF!","v":{"$error":"#REF!"}},{"$f":"'Bill of Materials'!#REF!","v":{"$error":"#REF!"}},{"$f":"'Bill of Materials'!#REF!","v":{"$error":"#REF!"}},{"$f":"'Bill of Materials'!#REF!","v":{"$error":"#REF!"}},null,null,null,{"$error":"#REF!"},{"$f":"'Bill of Materials'!#REF!","v":{"$error":"#REF!"}},{"$f":"'Bill of Materials'!#REF!","v":{"$error":"#REF!"}},{"$error":"#REF!"}]
[{"$f":"'Bill of Materials'!#REF!+'Bill of Materials'!#REF!","v":{"$error":"#REF!"}},{"$f":"'Bill of Materials'!#REF!","v":{"$error":"#REF!"}},{"$f":"'Bill of Materials'!#REF!","v":{"$error":"#REF!"}},{"$f":"'Bill of Materials'!#REF!","v":{"$error":"#REF!"}},{"$f":"'Bill of Materials'!#REF!","v":{"$error":"#REF!"}},{"$f":"'Bill of Materials'!#REF!","v":{"$error":"#REF!"}},{"$f":"'Bill of Materials'!#REF!","v":{"$error":"#REF!"}},{"$f":"'Bill of Materials'!#REF!","v":{"$error":"#REF!"}},null,null,null,{"$error":"#REF!"},{"$f":"'Bill of Materials'!#REF!","v":{"$error":"#REF!"}},{"$f":"'Bill of Materials'!#REF!","v":{"$error":"#REF!"}},{"$error":"#REF!"}]
[{"$f":"'Bill of Materials'!#REF!+'Bill of Materials'!#REF!","v":{"$error":"#REF!"}},{"$f":"'Bill of Materials'!#REF!","v":{"$error":"#REF!"}},{"$f":"'Bill of Materials'!#REF!","v":{"$error":"#REF!"}},{"$f":"'Bill of Materials'!#REF!","v":{"$error":"#REF!"}},{"$f":"'Bill of Materials'!#REF!","v":{"$error":"#REF!"}},{"$f":"'Bill of Materials'!#REF!","v":{"$error":"#REF!"}},{"$f":"'Bill of Materials'!#REF!","v":{"$error":"#REF!"}},{"$f":"'Bill of Materials'!#REF!","v":{"$error":"#REF!"}},null,null,null,{"$error":"#REF!"},{"$f":"'Bill of Materials'!#REF!","v":{"$error":"#REF!"}},{"$f":"'Bill of Materials'!#REF!","v":{"$error":"#REF!"}},{"$error":"#REF!"}]
[{"$f":"'Bill of Materials'!#REF!+'Bill of Materials'!#REF!","v":{"$error":"#REF!"}},{"$f":"'Bill of Materials'!#REF!","v":{"$error":"#REF!"}},{"$f":"'Bill of Materials'!#REF!","v":{"$error":"#REF!"}},{"$f":"'Bill of Materials'!#REF!","v":{"$error":"#REF!"}},{"$f":"'Bill of Materials'!#REF!","v":{"$error":"#REF!"}},{"$f":"'Bill of Materials'!#REF!","v":{"$error":"#REF!"}},{"$f":"'Bill of Materials'!#REF!","v":{"$error":"#REF!"}},{"$f":"'Bill of Materials'!#REF!","v":{"$error":"#REF!"}},null,null,null,{"$error":"#REF!"},{"$f":"'Bill of Materials'!#REF!","v":{"$error":"#REF!"}},{"$f":"'Bill of Materials'!#REF!","v":{"$error":"#REF!"}},{"$error":"#REF!"}]
[{"$f":"'Bill of Materials'!#REF!+'Bill of Materials'!#REF!","v":{"$error":"#REF!"}},{"$f":"'Bill of Materials'!#REF!","v":{"$error":"#REF!"}},{"$f":"'Bill of Materials'!#REF!","v":{"$error":"#REF!"}},{"$f":"'Bill of Materials'!#REF!","v":{"$error":"#REF!"}},{"$f":"'Bill of Materials'!#REF!","v":{"$error":"#REF!"}},{"$f":"'Bill of Materials'!#REF!","v":{"$error":"#REF!"}},{"$f":"'Bill of Materials'!#REF!","v":{"$error":"#REF!"}},{"$f":"'Bill of Materials'!#REF!","v":{"$error":"#REF!"}},null,null,null,{"$error":"#REF!"},{"$f":"'Bill of Materials'!#REF!","v":{"$error":"#REF!"}},{"$f":"'Bill of Materials'!#REF!","v":{"$error":"#REF!"}},{"$error":"#REF!"}]
[{"$f":"'Bill of Materials'!E1197+'Bill of Materials'!F1197","v":0},{"$f":"'Bill of Materials'!M1197","v":"EA"},{"$f":"'Bill of Materials'!G1197","v":"Cisco 1262 - 802.11a/g/n-d2.0 2.4/5-GHz Unified AP; 6 RP-TNC; FCC"},{"$f":"'Bill of Materials'!L1197","v":"Cisco"},{"$f":"'Bill of Materials'!N1197","v":478},{"$f":"'Bill of Materials'!P1197","v":"HP"},{"$f":"'Bill of Materials'!C1197","v":"10464"},{"$f":"'Bill of Materials'!H1197","v":"AIR-LAP1262N-A-K9"},null,null,null,0,{"$f":"'Bill of Materials'!J1197","v":"standard material"},{"$f":"'Bill of Materials'!K1197","v":"electronic"},0]
[{"$f":"'Bill of Materials'!E1198+'Bill of Materials'!F1198","v":0},{"$f":"'Bill of Materials'!M1198","v":"EA"},{"$f":"'Bill of Materials'!G1198","v":"CISCO CAP 3502I 802.11a/g/n Ctrlr-based AP w/CleanAir; Int Ant; A Reg Domain"},{"$f":"'Bill of Materials'!L1198","v":"Cisco"},{"$f":"'Bill of Materials'!N1198","v":518},{"$f":"'Bill of Materials'!P1198","v":"HP"},{"$f":"'Bill of Materials'!C1198","v":"10483"},{"$f":"'Bill of Materials'!H1198","v":"AIR-CAP3502I-A-K9"},null,null,null,0,{"$f":"'Bill of Materials'!J1198","v":"standard material"},{"$f":"'Bill of Materials'!K1198","v":"electronic"},0]
[{"$f":"'Bill of Materials'!E1199+'Bill of Materials'!F1199","v":0},{"$f":"'Bill of Materials'!M1199","v":"EA"},{"$f":"'Bill of Materials'!G1199","v":"802.11a/g Non-modular IOS AP; RP-TNC; FCC Cnfg (Cisco 1242 Ap)"},{"$f":"'Bill of Materials'!L1199","v":"Cisco"},{"$f":"'Bill of Materials'!N1199","v":359.6},{"$f":"'Bill of Materials'!P1199","v":"HP"},{"$f":"'Bill of Materials'!C1199","v":"8835"},{"$f":"'Bill of Materials'!H1199","v":"AIR-AP1242AG-A-K9"},null,null,null,0,{"$f":"'Bill of Materials'!J1199","v":"standard material"},{"$f":"'Bill of Materials'!K1199","v":"electronic"},0]
[{"$f":"'Bill of Materials'!E1201+'Bill of Materials'!F1201","v":0},{"$f":"'Bill of Materials'!M1201","v":"EA"},{"$f":"'Bill of Materials'!G1201","v":"BRACKET, ANTENNA, A, B, G, OMNI, INCLUDES 2 BEAM CLAMPS"},{"$f":"'Bill of Materials'!L1201","v":"DWC"},{"$f":"'Bill of Materials'!N1201","v":23.76},{"$f":"'Bill of Materials'!P1201","v":"DWC"},{"$f":"'Bill of Materials'!C1201","v":"0094-49R2"},{"$f":"'Bill of Materials'!H1201","v":"DWC-ANT-BRKT"},null,null,null,0,{"$f":"'Bill of Materials'!J1201","v":"standard material"},{"$f":"'Bill of Materials'!K1201","v":"physical"},0]
[{"$f":"'Bill of Materials'!E1202+'Bill of Materials'!F1202","v":0},{"$f":"'Bill of Materials'!M1202","v":"EA"},{"$f":"'Bill of Materials'!G1202","v":"CABLE, ASSEMBLY, ANTENNA, 50 FT LG, EXTENSION, BELDEN 9913F NON-PLENUM, 1XM RP-TNC, 1XF RP-TNC CONNECTORS, 50 OHM RG8/U COAX"},{"$f":"'Bill of Materials'!L1202","v":"DWC"},{"$f":"'Bill of Materials'!N1202","v":102.86},{"$f":"'Bill of Materials'!P1202","v":"DWC"},{"$f":"'Bill of Materials'!C1202","v":"0119-C5L7"},{"$f":"'Bill of Materials'!H1202","v":"DWC-121602-050"},null,null,null,0,{"$f":"'Bill of Materials'!J1202","v":"standard material"},{"$f":"'Bill of Materials'!K1202","v":"physical"},0]
[{"$f":"'Bill of Materials'!E1203+'Bill of Materials'!F1203","v":0},{"$f":"'Bill of Materials'!M1203","v":"EA"},{"$f":"'Bill of Materials'!G1203","v":"CABLE, ASSEMBLY, ANTENNA, 75 FT LG, EXTENSION, BELDEN 9913F NON-PLENUM, 1XM RP-TNC, 1XF RP-TNC CONNECTORS, 50 OHM RG8/U COAX"},{"$f":"'Bill of Materials'!L1203","v":"DWC"},{"$f":"'Bill of Materials'!N1203","v":123.35},{"$f":"'Bill of Materials'!P1203","v":"DWC"},{"$f":"'Bill of Materials'!C1203","v":"0119-C5L8"},{"$f":"'Bill of Materials'!H1203","v":"DWC-121602-075"},null,null,null,0,{"$f":"'Bill of Materials'!J1203","v":"standard material"},{"$f":"'Bill of Materials'!K1203","v":"physical"},0]
[{"$f":"'Bill of Materials'!E1204+'Bill of Materials'!F1204","v":0},{"$f":"'Bill of Materials'!M1204","v":"EA"},{"$f":"'Bill of Materials'!G1204","v":"CABLE, ASSEMBLY, ANTENNA, 100 FT LG, EXTENSION, BELDEN 9913F NON-PLENUM, 1XM RP-TNC, 1XF RP-TNC CONNECTORS, 50 OHM RG8/U COAX"},{"$f":"'Bill of Materials'!L1204","v":"DWC"},{"$f":"'Bill of Materials'!N1204","v":146.62},{"$f":"'Bill of Materials'!P1204","v":"DWC"},{"$f":"'Bill of Materials'!C1204","v":"0119-C5L9"},{"$f":"'Bill of Materials'!H1204","v":"DWC-121602-100"},null,null,null,0,{"$f":"'Bill of Materials'!J1204","v":"standard material"},{"$f":"'Bill of Materials'!K1204","v":"physical"},0]
[{"$f":"'Bill of Materials'!E1205+'Bill of Materials'!F1205","v":0},{"$f":"'Bill of Materials'!M1205","v":"EA"},{"$f":"'Bill of Materials'!G1205","v":"Typical Administration or Office Space AP Installation Kit for Dipole or Clip on Ceiling Mounted Antennas. For Cisco 1242 and 1252 AP's. Kit includes Threaded Rod, J-Hooks, Beam Clamps, Mulberry Box, Face Plate w/(2) RJ-45 Jacks, 3 Foot Violet Patch Cord, Nuts and Bolts. NEC to Provide Cisco 1242 Mounting Bracket. "},{"$f":"'Bill of Materials'!L1205","v":"DWC"},{"$f":"'Bill of Materials'!N1205","v":84.94},{"$f":"'Bill of Materials'!P1205","v":"DWC"},{"$f":"'Bill of Materials'!C1205","v":"0456-0XT0"},{"$f":"'Bill of Materials'!H1205","v":"AP-OFF-TH"},null,null,null,0,{"$f":"'Bill of Materials'!J1205","v":"standard material"},{"$f":"'Bill of Materials'!K1205","v":"physical"},0]
[{"$f":"'Bill of Materials'!E1206+'Bill of Materials'!F1206","v":0},{"$f":"'Bill of Materials'!M1206","v":"EA"},{"$f":"'Bill of Materials'!G1206","v":"Typical Administration or Office Space Installation Kit for 2.4 and 5 GHz Patch Antennas. Threaded Rod, J-Hooks, Beam Clamps, Mulberry Box, Face Plate w/(2) RJ-45 Jacks, 3 Foot Violet Patch Cord, Patch2 Bracket, Nuts and Bolts. NEC to Provide Cisco 1242 Mounting Bracket."},{"$f":"'Bill of Materials'!L1206","v":"DWC"},{"$f":"'Bill of Materials'!N1206","v":92},{"$f":"'Bill of Materials'!P1206","v":"DWC"},{"$f":"'Bill of Materials'!C1206","v":"0456-0XT1"},{"$f":"'Bill of Materials'!H1206","v":"PATCH2-KIT"},null,null,null,0,{"$f":"'Bill of Materials'!J1206","v":"standard material"},{"$f":"'Bill of Materials'!K1206","v":"physical"},0]
[{"$f":"'Bill of Materials'!E1207+'Bill of Materials'!F1207","v":0},{"$f":"'Bill of Materials'!M1207","v":"EA"},{"$f":"'Bill of Materials'!G1207","v":"Inside/Outside 2.4 & 5.0 GHz Patch Antenna Articulating Mount Kit.  Kit Includes Cisco Articulating Mount (AIR-ACC2662), Patch2 Bracket, and Beam Clamps"},{"$f":"'Bill of Materials'!L1207","v":"DWC"},{"$f":"'Bill of Materials'!N1207","v":92},{"$f":"'Bill of Materials'!P1207","v":"DWC"},{"$f":"'Bill of Materials'!C1207","v":"10074"},{"$f":"'Bill of Materials'!H1207","v":"APAB"},null,null,null,0,{"$f":"'Bill of Materials'!J1207","v":"standard material"},{"$f":"'Bill of Materials'!K1207","v":"physical"},0]
[{"$f":"'Bill of Materials'!E1208+'Bill of Materials'!F1208","v":0},{"$f":"'Bill of Materials'!M1208","v":"EA"},{"$f":"'Bill of Materials'!G1208","v":"Articulating Mount AP Antenna Bracket- Build Labor"},{"$f":"'Bill of Materials'!L1208","v":"DWC"},{"$f":"'Bill of Materials'!N1208","v":40.5},{"$f":"'Bill of Materials'!P1208","v":"DWC"},{"$f":"'Bill of Materials'!C1208","v":"10075"},{"$f":"'Bill of Materials'!H1208","v":"APAB-L"},null,null,null,0,{"$f":"'Bill of Materials'!J1208","v":"standard material"},{"$f":"'Bill of Materials'!K1208","v":"physical"},0]
[{"$f":"'Bill of Materials'!E1209+'Bill of Materials'!F1209","v":0},{"$f":"'Bill of Materials'!M1209","v":"EA"},{"$f":"'Bill of Materials'!G1209","v":"Labor to Assemble AP-OFF-TH Kit"},{"$f":"'Bill of Materials'!L1209","v":"DWC"},{"$f":"'Bill of Materials'!N1209","v":14.2},{"$f":"'Bill of Materials'!P1209","v":"DWC"},{"$f":"'Bill of Materials'!C1209","v":"10076"},{"$f":"'Bill of Materials'!H1209","v":"AP-OFF-TH-L"},null,null,null,0,{"$f":"'Bill of Materials'!J1209","v":"standard material"},{"$f":"'Bill of Materials'!K1209","v":"physical"},0]
[{"$f":"'Bill of Materials'!E1210+'Bill of Materials'!F1210","v":0},{"$f":"'Bill of Materials'!M1210","v":"EA"},{"$f":"'Bill of Materials'!G1210","v":"Patch Antenna Mounting Bracket (1\" x 1\" x 21\") Predrilled and Tapped for 2.4 and 5.0 GHz Patch Antennas."},{"$f":"'Bill of Materials'!L1210","v":"DWC"},{"$f":"'Bill of Materials'!N1210","v":26.2},{"$f":"'Bill of Materials'!P1210","v":"DWC"},{"$f":"'Bill of Materials'!C1210","v":"10139"},{"$f":"'Bill of Materials'!H1210","v":"PATCH-2-BRKT"},null,null,null,0,{"$f":"'Bill of Materials'!J1210","v":"standard material"},{"$f":"'Bill of Materials'!K1210","v":"physical"},0]
[{"$f":"'Bill of Materials'!E1211+'Bill of Materials'!F1211","v":0},{"$f":"'Bill of Materials'!M1211","v":"EA"},{"$f":"'Bill of Materials'!G1211","v":"Labor to Assemble PATCH2-KIT"},{"$f":"'Bill of Materials'!L1211","v":"DWC"},{"$f":"'Bill of Materials'!N1211","v":17.010000000000002},{"$f":"'Bill of Materials'!P1211","v":"DWC"},{"$f":"'Bill of Materials'!C1211","v":"10140"},{"$f":"'Bill of Materials'!H1211","v":"PATCH2-KIT-L"},null,null,null,0,{"$f":"'Bill of Materials'!J1211","v":"standard material"},{"$f":"'Bill of Materials'!K1211","v":"physical"},0]
[{"$f":"'Bill of Materials'!E1212+'Bill of Materials'!F1212","v":0},{"$f":"'Bill of Materials'!M1212","v":"EA"},{"$f":"'Bill of Materials'!G1212","v":"Inside Plant/Administration/Office Space Cisco 1242 2RU Power Shelf With Terminal blocks. Kit Includes 2RU Shelf, Terminal Blocks, End Barrier, Mounting Channel, End Anchor and Cover Plate."},{"$f":"'Bill of Materials'!L1212","v":"DWC"},{"$f":"'Bill of Materials'!N1212","v":240.2},{"$f":"'Bill of Materials'!P1212","v":"DWC"},{"$f":"'Bill of Materials'!C1212","v":"10145"},{"$f":"'Bill of Materials'!H1212","v":"RFPW-SHELF"},null,null,null,0,{"$f":"'Bill of Materials'!J1212","v":"standard material"},{"$f":"'Bill of Materials'!K1212","v":"physical"},0]
[{"$f":"'Bill of Materials'!E1213+'Bill of Materials'!F1213","v":0},{"$f":"'Bill of Materials'!M1213","v":"EA"},{"$f":"'Bill of Materials'!G1213","v":"Inside Plant/Administration/Office Space Cisco 1242 2RU Power Shelf With Terminal blocks - Labor Only"},{"$f":"'Bill of Materials'!L1213","v":"DWC"},{"$f":"'Bill of Materials'!N1213","v":99},{"$f":"'Bill of Materials'!P1213","v":"DWC"},{"$f":"'Bill of Materials'!C1213","v":"10146"},{"$f":"'Bill of Materials'!H1213","v":"RFPW-SHELF-L"},null,null,null,0,{"$f":"'Bill of Materials'!J1213","v":"standard material"},{"$f":"'Bill of Materials'!K1213","v":"physical"},0]
[{"$f":"'Bill of Materials'!E1214+'Bill of Materials'!F1214","v":0},{"$f":"'Bill of Materials'!M1214","v":"EA"},{"$f":"'Bill of Materials'!G1214","v":"1242 / 1252 Access Point mounting plate. Kit includes (1)  G04-5ESM1-1IP – 1-port Surface Mount Box, (1)  3’ Violet Cat 5e Patch Cable, (1) Mount Plate with drilled holes for AP, (1) 14” Unistrut, 7/8”x1 5/8” Galvanized, (2) Unistrut Clamps, (2) 3/8” Spring Nuts."},{"$f":"'Bill of Materials'!L1214","v":"DWC"},{"$f":"'Bill of Materials'!N1214","v":55.75},{"$f":"'Bill of Materials'!P1214","v":"DWC"},{"$f":"'Bill of Materials'!C1214","v":"10302"},{"$f":"'Bill of Materials'!H1214","v":"NPAPP"},null,null,null,0,{"$f":"'Bill of Materials'!J1214","v":"standard material"},{"$f":"'Bill of Materials'!K1214","v":"physical"},0]
[{"$f":"'Bill of Materials'!E1215+'Bill of Materials'!F1215","v":0},{"$f":"'Bill of Materials'!M1215","v":"EA"},{"$f":"'Bill of Materials'!G1215","v":"1242 / 1252 Access Point mounting plate - LABOR ONLY"},{"$f":"'Bill of Materials'!L1215","v":"DWC"},{"$f":"'Bill of Materials'!N1215","v":58.5},{"$f":"'Bill of Materials'!P1215","v":"DWC"},{"$f":"'Bill of Materials'!C1215","v":"10303"},{"$f":"'Bill of Materials'!H1215","v":"NPAPP-L"},null,null,null,0,{"$f":"'Bill of Materials'!J1215","v":"standard material"},{"$f":"'Bill of Materials'!K1215","v":"physical"},0]
[{"$f":"'Bill of Materials'!E1216+'Bill of Materials'!F1216","v":0},{"$f":"'Bill of Materials'!M1216","v":"EA"},{"$f":"'Bill of Materials'!G1216","v":"AP Flange Mount Kit (For 1142's)"},{"$f":"'Bill of Materials'!L1216","v":"DWC"},{"$f":"'Bill of Materials'!N1216","v":41.2},{"$f":"'Bill of Materials'!P1216","v":"DWC"},{"$f":"'Bill of Materials'!C1216","v":"10305"},{"$f":"'Bill of Materials'!H1216","v":"AP-FM-KIT"},null,null,null,0,{"$f":"'Bill of Materials'!J1216","v":"standard material"},{"$f":"'Bill of Materials'!K1216","v":"physical"},0]
[{"$f":"'Bill of Materials'!E1217+'Bill of Materials'!F1217","v":0},{"$f":"'Bill of Materials'!M1217","v":"EA"},{"$f":"'Bill of Materials'!G1217","v":"AP Flange Mount Kit (For 1142's) - LABOR ONLY"},{"$f":"'Bill of Materials'!L1217","v":"DWC"},{"$f":"'Bill of Materials'!N1217","v":15.75},{"$f":"'Bill of Materials'!P1217","v":"DWC"},{"$f":"'Bill of Materials'!C1217","v":"10306"},{"$f":"'Bill of Materials'!H1217","v":"AP-FM-KIT-L"},null,null,null,0,{"$f":"'Bill of Materials'!J1217","v":"standard material"},{"$f":"'Bill of Materials'!K1217","v":"physical"},0]
[{"$f":"'Bill of Materials'!E1218+'Bill of Materials'!F1218","v":0},{"$f":"'Bill of Materials'!M1218","v":"EA"},{"$f":"'Bill of Materials'!G1218","v":"1142 T-Rail Channel Adapter for Mounting"},{"$f":"'Bill of Materials'!L1218","v":"Cisco"},{"$f":"'Bill of Materials'!N1218","v":2},{"$f":"'Bill of Materials'!P1218","v":"HP"},{"$f":"'Bill of Materials'!C1218","v":"10349"},{"$f":"'Bill of Materials'!H1218","v":"AIR-CHNL-ADAPTER "},null,null,null,0,{"$f":"'Bill of Materials'!J1218","v":"standard material"},{"$f":"'Bill of Materials'!K1218","v":"electronic"},0]
[{"$f":"'Bill of Materials'!E1219+'Bill of Materials'!F1219","v":0},{"$f":"'Bill of Materials'!M1219","v":"EA"},{"$f":"'Bill of Materials'!G1219","v":"Typical Administration or Office Space AP Installation Kit for Non T-Grid Drop Ceiling. For Cisco 1142 AP's. Kit includes Threaded Rod, J-Hooks, Beam Clamps, Mulberry Box, Face Plate w/(1) RJ-45 Jack, 3 Foot Violet Patch Cord, Steel Plates, 90 Degree Bracket, Coupler, Safety Cable, Nuts and Bolts. NEC to Provide Cisco 1142 Mounting Bracket."},{"$f":"'Bill of Materials'!L1219","v":"DWC"},{"$f":"'Bill of Materials'!N1219","v":99.1},{"$f":"'Bill of Materials'!P1219","v":"DWC"},{"$f":"'Bill of Materials'!C1219","v":"10430"},{"$f":"'Bill of Materials'!H1219","v":"AP-UNIKIT-TH"},null,null,null,0,{"$f":"'Bill of Materials'!J1219","v":"standard material"},{"$f":"'Bill of Materials'!K1219","v":"physical"},0]
[{"$f":"'Bill of Materials'!E1220+'Bill of Materials'!F1220","v":0},{"$f":"'Bill of Materials'!M1220","v":"EA"},{"$f":"'Bill of Materials'!G1220","v":"Labor to Assemble AP-UNIKIT-TH Kit"},{"$f":"'Bill of Materials'!L1220","v":"DWC"},{"$f":"'Bill of Materials'!N1220","v":47.2},{"$f":"'Bill of Materials'!P1220","v":"DWC"},{"$f":"'Bill of Materials'!C1220","v":"10431"},{"$f":"'Bill of Materials'!H1220","v":"AP-UNIKIT-TH-L"},null,null,null,0,{"$f":"'Bill of Materials'!J1220","v":"standard material"},{"$f":"'Bill of Materials'!K1220","v":"physical"},0]
[{"$f":"'Bill of Materials'!E1221+'Bill of Materials'!F1221","v":0},{"$f":"'Bill of Materials'!M1221","v":"EA"},{"$f":"'Bill of Materials'!G1221","v":"Typical Administration or Office Space AP Installation Kit for Mounting Cisco 1142 AP's on Wall or Column. Kit includes Steel Plates, 90 Degree Bracket, Quickport Surface Mount SM1 Box, Safety Cable, 3 Foot Violet Patch Cord, Nuts and Bolts. NEC to Provide Cisco 1142 Mounting Bracket."},{"$f":"'Bill of Materials'!L1221","v":"DWC"},{"$f":"'Bill of Materials'!N1221","v":85.5},{"$f":"'Bill of Materials'!P1221","v":"DWC"},{"$f":"'Bill of Materials'!C1221","v":"10432"},{"$f":"'Bill of Materials'!H1221","v":"AP-UNIKIT-WB"},null,null,null,0,{"$f":"'Bill of Materials'!J1221","v":"standard material"},{"$f":"'Bill of Materials'!K1221","v":"physical"},0]
[{"$f":"'Bill of Materials'!E1222+'Bill of Materials'!F1222","v":0},{"$f":"'Bill of Materials'!M1222","v":"EA"},{"$f":"'Bill of Materials'!G1222","v":"Labor to Assemble AP-UNIKIT-WB"},{"$f":"'Bill of Materials'!L1222","v":"DWC"},{"$f":"'Bill of Materials'!N1222","v":31.5},{"$f":"'Bill of Materials'!P1222","v":"DWC"},{"$f":"'Bill of Materials'!C1222","v":"10433"},{"$f":"'Bill of Materials'!H1222","v":"AP-UNIKIT-WB-L"},null,null,null,0,{"$f":"'Bill of Materials'!J1222","v":"standard material"},{"$f":"'Bill of Materials'!K1222","v":"physical"},0]
[{"$f":"'Bill of Materials'!E1223+'Bill of Materials'!F1223","v":0},{"$f":"'Bill of Materials'!M1223","v":"EA"},{"$f":"'Bill of Materials'!G1223","v":"Panduit Base Raceway, Off White, 10' Stick"},{"$f":"'Bill of Materials'!L1223","v":"Panduit"},{"$f":"'Bill of Materials'!N1223","v":25.7},{"$f":"'Bill of Materials'!P1223","v":"DWC"},{"$f":"'Bill of Materials'!C1223","v":"10434"},{"$f":"'Bill of Materials'!H1223","v":"T45BIW10-A"},null,null,null,0,{"$f":"'Bill of Materials'!J1223","v":"standard material"},{"$f":"'Bill of Materials'!K1223","v":"physical"},0]
[{"$f":"'Bill of Materials'!E1224+'Bill of Materials'!F1224","v":0},{"$f":"'Bill of Materials'!M1224","v":"EA"},{"$f":"'Bill of Materials'!G1224","v":"Panduit Cover Raceway, Off White, 10' Stick"},{"$f":"'Bill of Materials'!L1224","v":"Panduit"},{"$f":"'Bill of Materials'!N1224","v":11.4},{"$f":"'Bill of Materials'!P1224","v":"DWC"},{"$f":"'Bill of Materials'!C1224","v":"10435"},{"$f":"'Bill of Materials'!H1224","v":"T45CIW10"},null,null,null,0,{"$f":"'Bill of Materials'!J1224","v":"standard material"},{"$f":"'Bill of Materials'!K1224","v":"physical"},0]
[{"$f":"'Bill of Materials'!E1225+'Bill of Materials'!F1225","v":0},{"$f":"'Bill of Materials'!M1225","v":"EA"},{"$f":"'Bill of Materials'!G1225","v":"Panduit Entrance End Fitting, Off White, For UTP Cable Bend Radius Transition from Ceiling to Wall."},{"$f":"'Bill of Materials'!L1225","v":"Panduit"},{"$f":"'Bill of Materials'!N1225","v":10.35},{"$f":"'Bill of Materials'!P1225","v":"DWC"},{"$f":"'Bill of Materials'!C1225","v":"10436"},{"$f":"'Bill of Materials'!H1225","v":"T45EEIW\t"},null,null,null,0,{"$f":"'Bill of Materials'!J1225","v":"standard material"},{"$f":"'Bill of Materials'!K1225","v":"physical"},0]
[{"$f":"'Bill of Materials'!E1226+'Bill of Materials'!F1226","v":0},{"$f":"'Bill of Materials'!M1226","v":"EA"},{"$f":"'Bill of Materials'!G1226","v":"Typical Administration or Office Space AP Installation Kit for 1142 AP's Where an Existing Cisco 1252 AP-OFF-TH Kit Resides. Kit includes Steel Plates, 90 degree Bracket Threaded Rod Coupler, Safety Cable, Nuts and Bolts. NEC to Provide Cisco 1142 Mounting Bracket."},{"$f":"'Bill of Materials'!L1226","v":"DWC"},{"$f":"'Bill of Materials'!N1226","v":85.8},{"$f":"'Bill of Materials'!P1226","v":"DWC"},{"$f":"'Bill of Materials'!C1226","v":"10437"},{"$f":"'Bill of Materials'!H1226","v":"AP-UNIKIT-EXOFF"},null,null,null,0,{"$f":"'Bill of Materials'!J1226","v":"standard material"},{"$f":"'Bill of Materials'!K1226","v":"physical"},0]
[{"$f":"'Bill of Materials'!E1227+'Bill of Materials'!F1227","v":0},{"$f":"'Bill of Materials'!M1227","v":"EA"},{"$f":"'Bill of Materials'!G1227","v":"Labor to Assemble AP-UNIKIT-EXOFF Kit"},{"$f":"'Bill of Materials'!L1227","v":"DWC"},{"$f":"'Bill of Materials'!N1227","v":47.2},{"$f":"'Bill of Materials'!P1227","v":"DWC"},{"$f":"'Bill of Materials'!C1227","v":"10438"},{"$f":"'Bill of Materials'!H1227","v":"AP-UNIKIT-EXOFF-L"},null,null,null,0,{"$f":"'Bill of Materials'!J1227","v":"standard material"},{"$f":"'Bill of Materials'!K1227","v":"physical"},0]
[{"$f":"'Bill of Materials'!E1228+'Bill of Materials'!F1228","v":0},{"$f":"'Bill of Materials'!M1228","v":"EA"},{"$f":"'Bill of Materials'!G1228","v":"Speed Link Safety Cable, 2mm Wire Size, 5 Meters, with ring terminal"},{"$f":"'Bill of Materials'!L1228","v":"DWC"},{"$f":"'Bill of Materials'!N1228","v":10.1},{"$f":"'Bill of Materials'!P1228","v":"DWC"},{"$f":"'Bill of Materials'!C1228","v":"10439"},{"$f":"'Bill of Materials'!H1228","v":"16GASUPPORT"},null,null,null,0,{"$f":"'Bill of Materials'!J1228","v":"standard material"},{"$f":"'Bill of Materials'!K1228","v":"physical"},0]
[{"$f":"'Bill of Materials'!E1229+'Bill of Materials'!F1229","v":0},{"$f":"'Bill of Materials'!M1229","v":"EA"},{"$f":"'Bill of Materials'!G1229","v":"2.4GHz Indoor Pillar-mount Omni Directional 5.2 dBi antenna (AIR-ANT2452V-R=) Mounting Hardware Kit. Kit Includes W Bracket, Tubing, 6\" Eye Bolt, Washer, Hex Head Nut, Beam Clamps, and Sheet Metal Screws."},{"$f":"'Bill of Materials'!L1229","v":"DWC"},{"$f":"'Bill of Materials'!N1229","v":28.24},{"$f":"'Bill of Materials'!P1229","v":"DWC"},{"$f":"'Bill of Materials'!C1229","v":"INRF-0054"},{"$f":"'Bill of Materials'!H1229","v":"TC-MNT-3213"},null,null,null,0,{"$f":"'Bill of Materials'!J1229","v":"standard material"},{"$f":"'Bill of Materials'!K1229","v":"physical"},0]
[{"$f":"'Bill of Materials'!E1230+'Bill of Materials'!F1230","v":0},{"$f":"'Bill of Materials'!M1230","v":"BOX"},{"$f":"'Bill of Materials'!G1230","v":"Cat 5e UTP Station wire, 1000'  plenum in box 350 megahertz (Violet for RF)"},{"$f":"'Bill of Materials'!L1230","v":"CommScope"},{"$f":"'Bill of Materials'!N1230","v":211.2},{"$f":"'Bill of Materials'!P1230","v":"DWC"},{"$f":"'Bill of Materials'!C1230","v":"INRF-0095"},{"$f":"'Bill of Materials'!H1230","v":"5504M-VIOLET"},null,null,null,0,{"$f":"'Bill of Materials'!J1230","v":"standard material"},{"$f":"'Bill of Materials'!K1230","v":"horizontal"},0]
[{"$f":"'Bill of Materials'!E1231+'Bill of Materials'!F1231","v":0},{"$f":"'Bill of Materials'!M1231","v":"BOX"},{"$f":"'Bill of Materials'!G1231","v":"Cat.5e UTP station wire, 1000' non-plenum in box 350 MHz. (Violet for RF)"},{"$f":"'Bill of Materials'!L1231","v":"CommScope"},{"$f":"'Bill of Materials'!N1231","v":115.8},{"$f":"'Bill of Materials'!P1231","v":"DWC"},{"$f":"'Bill of Materials'!C1231","v":"INRF-0096"},{"$f":"'Bill of Materials'!H1231","v":"55N4R-VIOLET"},null,null,null,0,{"$f":"'Bill of Materials'!J1231","v":"standard material"},{"$f":"'Bill of Materials'!K1231","v":"horizontal"},0]
[{"$f":"'Bill of Materials'!E1232+'Bill of Materials'!F1232","v":0},{"$f":"'Bill of Materials'!M1232","v":"EA"},{"$f":"'Bill of Materials'!G1232","v":"Cat.5e RJ-45 Patch Cord - 3 ft. - Violet Jacket"},{"$f":"'Bill of Materials'!L1232","v":"Leviton"},{"$f":"'Bill of Materials'!N1232","v":2.67},{"$f":"'Bill of Materials'!P1232","v":"DWC"},{"$f":"'Bill of Materials'!C1232","v":"INRF-0104"},{"$f":"'Bill of Materials'!H1232","v":"G22-05EPC-03V"},null,null,null,0,{"$f":"'Bill of Materials'!J1232","v":"standard material"},{"$f":"'Bill of Materials'!K1232","v":"horizontal"},0]
[{"$f":"'Bill of Materials'!E1233+'Bill of Materials'!F1233","v":0},{"$f":"'Bill of Materials'!M1233","v":"EA"},{"$f":"'Bill of Materials'!G1233","v":"Cat.5e RJ-45 Patch Cord - 6 ft. - Violet Jacket"},{"$f":"'Bill of Materials'!L1233","v":"Leviton"},{"$f":"'Bill of Materials'!N1233","v":3.32},{"$f":"'Bill of Materials'!P1233","v":"DWC"},{"$f":"'Bill of Materials'!C1233","v":"INRF-0105"},{"$f":"'Bill of Materials'!H1233","v":"G23-05EPC-06V"},null,null,null,0,{"$f":"'Bill of Materials'!J1233","v":"standard material"},{"$f":"'Bill of Materials'!K1233","v":"horizontal"},0]
[{"$f":"'Bill of Materials'!E1234+'Bill of Materials'!F1234","v":0},{"$f":"'Bill of Materials'!M1234","v":"EA"},{"$f":"'Bill of Materials'!G1234","v":"Cat.5e RJ-45 Patch Cord - 10 ft. - Violet Jacket"},{"$f":"'Bill of Materials'!L1234","v":"Leviton"},{"$f":"'Bill of Materials'!N1234","v":4.34},{"$f":"'Bill of Materials'!P1234","v":"DWC"},{"$f":"'Bill of Materials'!C1234","v":"INRF-0106"},{"$f":"'Bill of Materials'!H1234","v":"G24-05EPC-10V"},null,null,null,0,{"$f":"'Bill of Materials'!J1234","v":"standard material"},{"$f":"'Bill of Materials'!K1234","v":"horizontal"},0]
[{"$f":"'Bill of Materials'!E1235+'Bill of Materials'!F1235","v":0},{"$f":"'Bill of Materials'!M1235","v":"EA"},{"$f":"'Bill of Materials'!G1235","v":"Cat.5e RJ-45 Patch Cord - 15 ft. - Violet Jacket"},{"$f":"'Bill of Materials'!L1235","v":"Leviton"},{"$f":"'Bill of Materials'!N1235","v":6.28},{"$f":"'Bill of Materials'!P1235","v":"DWC"},{"$f":"'Bill of Materials'!C1235","v":"INRF-0107"},{"$f":"'Bill of Materials'!H1235","v":"G25-05EPC-15V"},null,null,null,0,{"$f":"'Bill of Materials'!J1235","v":"standard material"},{"$f":"'Bill of Materials'!K1235","v":"horizontal"},0]
[{"$f":"'Bill of Materials'!E1237+'Bill of Materials'!F1237","v":0},{"$f":"'Bill of Materials'!M1237","v":"EA"},{"$f":"'Bill of Materials'!G1237","v":"Typical Inside Plant NON-POWERED Cisco 1242 AP Policarbonate Wireless Enclosure Kit (14\"h x 12\"w x 6\"d) See Ordering Guidelines. Kit Includes Box, Back Plate, 1 Port Surface Mount Box, Machine Screws, Cord Grip Connectors with Seal Rings and Lock Nut, Lamicoid Tags, (1) 3 Foot Violet Patch Cable, 2.4 and 5.0 GHz Bulkhead Extension and Velcro Straps"},{"$f":"'Bill of Materials'!L1237","v":"DWC"},{"$f":"'Bill of Materials'!N1237","v":187.21},{"$f":"'Bill of Materials'!P1237","v":"DWC"},{"$f":"'Bill of Materials'!C1237","v":"0092-1AWT"},{"$f":"'Bill of Materials'!H1237","v":"NPW14126-ISP"},null,null,null,0,{"$f":"'Bill of Materials'!J1237","v":"standard material"},{"$f":"'Bill of Materials'!K1237","v":"physical"},0]
[{"$f":"'Bill of Materials'!E1238+'Bill of Materials'!F1238","v":0},{"$f":"'Bill of Materials'!M1238","v":"EA"},{"$f":"'Bill of Materials'!G1238","v":"Inside Plant NON-POWERED Cisco 1242 AP Policarbonate Wireless Enclosure Kit (20\"h x 16\"w x 8\"d) See Ordering Guidelines. Kit Includes Box, Back Plate, 1 Port Surface Mount Box, Machine Screws, Lamicoid Tags, (1) 3 Foot Violet Patch Cable, and Velcro Straps. Knock Outs are Field Located by Contractor. Contractor Shall Provide 3/4\" and 2\" Insulated Grounding Bushing."},{"$f":"'Bill of Materials'!L1238","v":"DWC"},{"$f":"'Bill of Materials'!N1238","v":228.39},{"$f":"'Bill of Materials'!P1238","v":"DWC"},{"$f":"'Bill of Materials'!C1238","v":"0092-1AWW"},{"$f":"'Bill of Materials'!H1238","v":"NPW20168-ISP-C"},null,null,null,0,{"$f":"'Bill of Materials'!J1238","v":"standard material"},{"$f":"'Bill of Materials'!K1238","v":"physical"},0]
[{"$f":"'Bill of Materials'!E1239+'Bill of Materials'!F1239","v":0},{"$f":"'Bill of Materials'!M1239","v":"EA"},{"$f":"'Bill of Materials'!G1239","v":"Outside Plant NON-POWERED Cisco 1242 AP Policarbonate Wireless Enclosure Kit (20\"h x 16\"w x 8\"d) See Ordering Guidelines. Kit Includes Box, Back Plate, 1 Port Surface Mount Box, Machine Screws, Cord Grip Connectors with Seal Rings and Lock Nut, Lamicoid Tags, (1) 3 Foot Violet Patch Cable, 2.4 and 5.0 GHz Extension Cables, Lighting Surge Arrester, Velcro Straps, Ground straps and Ground Strip. "},{"$f":"'Bill of Materials'!L1239","v":"DWC"},{"$f":"'Bill of Materials'!N1239","v":419.56},{"$f":"'Bill of Materials'!P1239","v":"DWC"},{"$f":"'Bill of Materials'!C1239","v":"0092-1AWX"},{"$f":"'Bill of Materials'!H1239","v":"NPW20168-OSP"},null,null,null,0,{"$f":"'Bill of Materials'!J1239","v":"standard material"},{"$f":"'Bill of Materials'!K1239","v":"physical"},0]
[{"$f":"'Bill of Materials'!E1240+'Bill of Materials'!F1240","v":0},{"$f":"'Bill of Materials'!M1240","v":"EA"},{"$f":"'Bill of Materials'!G1240","v":"BEP Outside Plant NON-POWERED Cisco 1242 AP Policarbonate Wireless Enclosure Kit (20\"h x 16\"w x 8\"d) See Ordering Guidelines. Kit Includes Box, Back Plate, 1 Port Surface Mount Box, Machine Screws, Cord Grip Connectors with Seal Rings and Lock Nut, Lamicoid Tags, (1) 3 Foot Violet Patch Cable, 2.4 and 5.0 GHz Extension Cables, Lighting Surge Arrester, BLDG. Entrance Protector 65V, Velcro Straps, Ground straps and Ground Strip. "},{"$f":"'Bill of Materials'!L1240","v":"DWC"},{"$f":"'Bill of Materials'!N1240","v":497.92},{"$f":"'Bill of Materials'!P1240","v":"DWC"},{"$f":"'Bill of Materials'!C1240","v":"0092-1AWY"},{"$f":"'Bill of Materials'!H1240","v":"NPW20168-OSP-BEP"},null,null,null,0,{"$f":"'Bill of Materials'!J1240","v":"standard material"},{"$f":"'Bill of Materials'!K1240","v":"physical"},0]
[{"$f":"'Bill of Materials'!E1241+'Bill of Materials'!F1241","v":0},{"$f":"'Bill of Materials'!M1241","v":"EA"},{"$f":"'Bill of Materials'!G1241","v":"Outside Plant NON-POWERED Cisco 1242 AP Policarbonate Wireless Enclosure (20\"h x 16\"w x 8\"d) See Ordering Guidelines. Kit Includes Box, Back Plate, 1 Port Surface Mount Box, Machine Screws, Lamicoid Tags, (1) 3 Foot Violet Patch Cable, 2.4 and 5.0 GHz Extension Cables, Lighting Surge Arrester, Velcro Straps, Ground straps and Ground Strip. Knock Outs are Field Located by Contractor. Contractor Shall Provide 3/4\" and 2\" Insulated Grounding Bushing. "},{"$f":"'Bill of Materials'!L1241","v":"DWC"},{"$f":"'Bill of Materials'!N1241","v":437.78},{"$f":"'Bill of Materials'!P1241","v":"DWC"},{"$f":"'Bill of Materials'!C1241","v":"0092-1AX0"},{"$f":"'Bill of Materials'!H1241","v":"NPW20168-OSP-C"},null,null,null,0,{"$f":"'Bill of Materials'!J1241","v":"standard material"},{"$f":"'Bill of Materials'!K1241","v":"physical"},0]
[{"$f":"'Bill of Materials'!E1242+'Bill of Materials'!F1242","v":0},{"$f":"'Bill of Materials'!M1242","v":"EA"},{"$f":"'Bill of Materials'!G1242","v":"Inside Plant POWERED Cisco 1242 AP Policarbonate Fiber Optic Wireless Enclosure kit (24\"h x 20\"w x 8\"d) See Ordering Guidelines. Kit Includes Box, Back Plate, 4 Port Surface Mount Box, ST Fiber Adapters, Machine Screws, Cord Grip Connectors with Seal Rings and Lock Nut, Single Gang Box with 120VAC Duplex Recep., Lamicoid Tags, (1) 3 Foot Violet Patch Cable, 2.4 and 5.0 GHz Bulkhead Extension, Velcro Straps, Velcro Mounting Bracket, and 1 Meter ST to St Pacth Cable. "},{"$f":"'Bill of Materials'!L1242","v":"DWC"},{"$f":"'Bill of Materials'!N1242","v":451.39},{"$f":"'Bill of Materials'!P1242","v":"DWC"},{"$f":"'Bill of Materials'!C1242","v":"0092-1AX1"},{"$f":"'Bill of Materials'!H1242","v":"PW24208-ISP"},null,null,null,0,{"$f":"'Bill of Materials'!J1242","v":"standard material"},{"$f":"'Bill of Materials'!K1242","v":"physical"},0]
[{"$f":"'Bill of Materials'!E1243+'Bill of Materials'!F1243","v":0},{"$f":"'Bill of Materials'!M1243","v":"EA"},{"$f":"'Bill of Materials'!G1243","v":"Inside Plant POWERED Cisco 1242 AP Policarbonate Fiber Optic Wireless Enclosure (24\"h x 20\"w x 8\"d) See Ordering Guidelines. Kit Includes Box, Back Plate, 4 Port Surface Mount Box, ST Fiber Adapters, Machine Screws, Single Gang Box with 120VAC Duplex Recep., Lamicoid Tags, (1) 3 Foot Violet Patch Cable, Velcro Straps, Velcro Mounting Bracket, and 1 Meter ST to St Pacth Cable. Knock Outs are Field Located by Contractor. Contractor Shall Provide 3/4\" and 2\" Insulated Grounding Bushing. "},{"$f":"'Bill of Materials'!L1243","v":"DWC"},{"$f":"'Bill of Materials'!N1243","v":411.64},{"$f":"'Bill of Materials'!P1243","v":"DWC"},{"$f":"'Bill of Materials'!C1243","v":"0092-1AX2"},{"$f":"'Bill of Materials'!H1243","v":"PW24208-ISP-C"},null,null,null,0,{"$f":"'Bill of Materials'!J1243","v":"standard material"},{"$f":"'Bill of Materials'!K1243","v":"physical"},0]
[{"$f":"'Bill of Materials'!E1244+'Bill of Materials'!F1244","v":0},{"$f":"'Bill of Materials'!M1244","v":"EA"},{"$f":"'Bill of Materials'!G1244","v":"Inside/Outside Plant POWERED Cisco 1242 AP Policarbonate Fiber Optic Wireless Enclosure (24\"h x 20w x 8\"d) See Ordering Guidelines. Kit Includes Box, Back Plate, 4 Port Surface Mount Box, ST Fiber Adapters,  Machine Screws, Cord Grip Connectors with Seal Rings and Lock Nut, Lamicoid Tags, Single Gang Box with 120VAC Duplex Recep., (1) 3 Foot Violet Patch Cable, 1 Meter ST to St Pacth Cable, 2.4 and 5.0 GHz Extension Cables, Lighting Surge Arrester, Velcro Straps, Ground straps and Ground Strip. "},{"$f":"'Bill of Materials'!L1244","v":"DWC"},{"$f":"'Bill of Materials'!N1244","v":574.99},{"$f":"'Bill of Materials'!P1244","v":"DWC"},{"$f":"'Bill of Materials'!C1244","v":"0092-1AX3"},{"$f":"'Bill of Materials'!H1244","v":"PW24208-OSP"},null,null,null,0,{"$f":"'Bill of Materials'!J1244","v":"standard material"},{"$f":"'Bill of Materials'!K1244","v":"physical"},0]
[{"$f":"'Bill of Materials'!E1245+'Bill of Materials'!F1245","v":0},{"$f":"'Bill of Materials'!M1245","v":"EA"},{"$f":"'Bill of Materials'!G1245","v":"Inside/Outside Plant POWERED Cisco 1242 AP Policarbonate Fiber Optic Wireless Enclosure (24\"h x 20\"w x 8\"d) See Ordering Guidelines. Kit Includes Box, Back Plate, 4 Port Surface Mount Box, ST Fiber Adapters,  Machine Screws, Single Gang Box with 120VAC Duplex Recep., (1) 3 Foot Violet Patch Cable, 1 Meter ST to St Pacth Cable, 2.4 and 5.0 GHz Extension Cables, Lighting Surge Arrester, Velcro Straps, Ground straps and Ground Strip. Knock Outs are Field Located by Contractor. Contractor Shall Provide 3/4\" and 2\" Insulated Grounding Bushing. "},{"$f":"'Bill of Materials'!L1245","v":"DWC"},{"$f":"'Bill of Materials'!N1245","v":622.41},{"$f":"'Bill of Materials'!P1245","v":"DWC"},{"$f":"'Bill of Materials'!C1245","v":"0092-1AX4"},{"$f":"'Bill of Materials'!H1245","v":"PW24208-OSP-C"},null,null,null,0,{"$f":"'Bill of Materials'!J1245","v":"standard material"},{"$f":"'Bill of Materials'!K1245","v":"physical"},0]
[{"$f":"'Bill of Materials'!E1246+'Bill of Materials'!F1246","v":0},{"$f":"'Bill of Materials'!M1246","v":"EA"},{"$f":"'Bill of Materials'!G1246","v":"Media Converter 100BASE-TX TO 100BASE-FX  SC MM"},{"$f":"'Bill of Materials'!L1246","v":"Transition Networks"},{"$f":"'Bill of Materials'!N1246","v":260.2},{"$f":"'Bill of Materials'!P1246","v":"DWC"},{"$f":"'Bill of Materials'!C1246","v":"0211-03LL"},{"$f":"'Bill of Materials'!H1246","v":"E-100BTX-FX-05(SC)"},null,null,null,{"$f":"E1292*A1292","v":0},{"$f":"'Bill of Materials'!J1246","v":"standard material"},{"$f":"'Bill of Materials'!K1246","v":"physical"},{"$f":"IF(A1292>0,1,0)","v":0}]
[{"$f":"'Bill of Materials'!E1247+'Bill of Materials'!F1247","v":0},{"$f":"'Bill of Materials'!M1247","v":"EA"},{"$f":"'Bill of Materials'!G1247","v":"Media Converter 10/100 SC MM"},{"$f":"'Bill of Materials'!L1247","v":"Transition Networks"},{"$f":"'Bill of Materials'!N1247","v":274.10000000000002},{"$f":"'Bill of Materials'!P1247","v":"DWC"},{"$f":"'Bill of Materials'!C1247","v":"0211-03LM"},{"$f":"'Bill of Materials'!H1247","v":"SBFTF1013-100"},null,null,null,0,{"$f":"'Bill of Materials'!J1247","v":"standard material"},{"$f":"'Bill of Materials'!K1247","v":"physical"},0]
[{"$f":"'Bill of Materials'!E1248+'Bill of Materials'!F1248","v":0},{"$f":"'Bill of Materials'!M1248","v":"EA"},{"$f":"'Bill of Materials'!G1248","v":"Administration/Office Space Wiremold Enclosure Kit for Wireless Applications Where Access Point Must be Installed Below Drop Ceiling in Cosmetically Appealing Areas. Utilizing Dipole Antenna's. Kit Includes Wall Mount Box, 1 Port Surface Mount Box, 3 Foot Violet Patch Cord, Misc. Nuts and Screws, Bulkhead Brackets, Bulkhead Extension Cable, and Label. "},{"$f":"'Bill of Materials'!L1248","v":"DWC"},{"$f":"'Bill of Materials'!N1248","v":285},{"$f":"'Bill of Materials'!P1248","v":"DWC"},{"$f":"'Bill of Materials'!C1248","v":"10115"},{"$f":"'Bill of Materials'!H1248","v":"GM-NMAPME-DDA"},null,null,null,0,{"$f":"'Bill of Materials'!J1248","v":"standard material"},{"$f":"'Bill of Materials'!K1248","v":"physical"},0]
[{"$f":"'Bill of Materials'!E1249+'Bill of Materials'!F1249","v":0},{"$f":"'Bill of Materials'!M1249","v":"EA"},{"$f":"'Bill of Materials'!G1249","v":"Administration/Office Space Wiremold Enclosure Kit for Wireless Applications Where Access Point Must be Installed Below Drop Ceiling in Cosmetically Appealing Areas. Utilizing Diversity Patch Antenna's. . Kit Includes Wall Mount Box, 1 Port Surface Mount Box, 3 Foot Violet Patch Cord, and Label. "},{"$f":"'Bill of Materials'!L1249","v":"DWC"},{"$f":"'Bill of Materials'!N1249","v":255},{"$f":"'Bill of Materials'!P1249","v":"DWC"},{"$f":"'Bill of Materials'!C1249","v":"10116"},{"$f":"'Bill of Materials'!H1249","v":"GM-NMAPME-DPA"},null,null,null,0,{"$f":"'Bill of Materials'!J1249","v":"standard material"},{"$f":"'Bill of Materials'!K1249","v":"physical"},0]
[{"$f":"'Bill of Materials'!E1250+'Bill of Materials'!F1250","v":0},{"$f":"'Bill of Materials'!M1250","v":"EA"},{"$f":"'Bill of Materials'!G1250","v":"Labor for Assembling Administration/Office Space Wiremold Enclosure Kit"},{"$f":"'Bill of Materials'!L1250","v":"DWC"},{"$f":"'Bill of Materials'!N1250","v":99},{"$f":"'Bill of Materials'!P1250","v":"DWC"},{"$f":"'Bill of Materials'!C1250","v":"10117"},{"$f":"'Bill of Materials'!H1250","v":"GM-NMAPME-L"},null,null,null,0,{"$f":"'Bill of Materials'!J1250","v":"standard material"},{"$f":"'Bill of Materials'!K1250","v":"physical"},0]
[{"$f":"'Bill of Materials'!E1251+'Bill of Materials'!F1251","v":0},{"$f":"'Bill of Materials'!M1251","v":"EA"},{"$f":"'Bill of Materials'!G1251","v":"All AP Wireless Enclosures Build - Labor Only\r\n"},{"$f":"'Bill of Materials'!L1251","v":"DWC"},{"$f":"'Bill of Materials'!N1251","v":99},{"$f":"'Bill of Materials'!P1251","v":"DWC"},{"$f":"'Bill of Materials'!C1251","v":"10118"},{"$f":"'Bill of Materials'!H1251","v":"GM-POLYRF-L"},null,null,null,0,{"$f":"'Bill of Materials'!J1251","v":"standard material"},{"$f":"'Bill of Materials'!K1251","v":"physical"},0]
[{"$f":"'Bill of Materials'!E1252+'Bill of Materials'!F1252","v":0},{"$f":"'Bill of Materials'!M1252","v":"EA"},{"$f":"'Bill of Materials'!G1252","v":"Gas Fuse Replacement for Coaxial Antenna Cable Lighning Protector, Model #AL-RTPRTJB-9"},{"$f":"'Bill of Materials'!L1252","v":"HyperLink/L-Com"},{"$f":"'Bill of Materials'!N1252","v":7.1},{"$f":"'Bill of Materials'!P1252","v":"DWC"},{"$f":"'Bill of Materials'!C1252","v":"10128"},{"$f":"'Bill of Materials'!H1252","v":"LPX090"},null,null,null,0,{"$f":"'Bill of Materials'!J1252","v":"standard material"},{"$f":"'Bill of Materials'!K1252","v":"physical"},0]
[{"$f":"'Bill of Materials'!E1253+'Bill of Materials'!F1253","v":0},{"$f":"'Bill of Materials'!M1253","v":"EA"},{"$f":"'Bill of Materials'!G1253","v":"Inside Plant/Administration/Office Space Cisco 1242 AP Policarbonate Composite 14awg & Fiber Wireless Enclosure Kit (24\"h x 20\"w x 8\"d). Kit Includes Box, Back Plate, Machine Screws, 4 Port Surface Mount Box, ST Fiber Adapters, Lamicoid Tags, Terminal Blocks, End Barrier, Mounting Channel, End Anchor, Velcro, ST to MTRJ Patch Cord, (1) 3 Foot Violet Patch Cord, and Velcro Mounting Bracket. Knock Outs are Field Located by Contractor. Contractor Shall Provide 3/4\" and 2\" Insulated Grounding Bushing. "},{"$f":"'Bill of Materials'!L1253","v":"DWC"},{"$f":"'Bill of Materials'!N1253","v":560.20000000000005},{"$f":"'Bill of Materials'!P1253","v":"DWC"},{"$f":"'Bill of Materials'!C1253","v":"10142"},{"$f":"'Bill of Materials'!H1253","v":"PW24208-ISP-C-CF"},null,null,null,0,{"$f":"'Bill of Materials'!J1253","v":"standard material"},{"$f":"'Bill of Materials'!K1253","v":"physical"},0]
[{"$f":"'Bill of Materials'!E1254+'Bill of Materials'!F1254","v":0},{"$f":"'Bill of Materials'!M1254","v":"EA"},{"$f":"'Bill of Materials'!G1254","v":"Inside Plant/Administration/Office Space Cisco 1242 AP Policarbonate Composite 14awg & Fiber Wireless Enclosure Kit (24\"h x 20\"w x 8\"d). Kit Includes Box, Back Platupe, Machine Screws, 4 Port Surface Mount Box, ST Fiber Adapters, Cord Grip Connectors with Seal Rings and Lock Nut, Lamicoid Tags, Terminal Blocks, End Barrier, Mounting Channel, End Anchor, Velcro, 2.4 and 5.0 GHz Bulkhead Extension Cables, ST to MTRJ Patch Cord, (1) 3 Foot Violet Patch Cord, and Velcro Mounting Bracket. "},{"$f":"'Bill of Materials'!L1254","v":"DWC"},{"$f":"'Bill of Materials'!N1254","v":580.79999999999995},{"$f":"'Bill of Materials'!P1254","v":"DWC"},{"$f":"'Bill of Materials'!C1254","v":"10143"},{"$f":"'Bill of Materials'!H1254","v":"PW24208-ISP-CF"},null,null,null,0,{"$f":"'Bill of Materials'!J1254","v":"standard material"},{"$f":"'Bill of Materials'!K1254","v":"physical"},0]
[{"$f":"'Bill of Materials'!#REF!+'Bill of Materials'!#REF!","v":{"$error":"#REF!"}},{"$f":"'Bill of Materials'!#REF!","v":{"$error":"#REF!"}},{"$f":"'Bill of Materials'!#REF!","v":{"$error":"#REF!"}},{"$f":"'Bill of Materials'!#REF!","v":{"$error":"#REF!"}},{"$f":"'Bill of Materials'!#REF!","v":{"$error":"#REF!"}},{"$f":"'Bill of Materials'!#REF!","v":{"$error":"#REF!"}},{"$f":"'Bill of Materials'!#REF!","v":{"$error":"#REF!"}},{"$f":"'Bill of Materials'!#REF!","v":{"$error":"#REF!"}},null,null,null,{"$error":"#REF!"},{"$f":"'Bill of Materials'!#REF!","v":{"$error":"#REF!"}},{"$f":"'Bill of Materials'!#REF!","v":{"$error":"#REF!"}},{"$error":"#REF!"}]
[{"$f":"'Bill of Materials'!E1255+'Bill of Materials'!F1255","v":0},{"$f":"'Bill of Materials'!M1255","v":"EA"},{"$f":"'Bill of Materials'!G1255","v":"3M Rubber Mastic Sealing Tape, 2\"x3'"},{"$f":"'Bill of Materials'!L1255","v":"3M"},{"$f":"'Bill of Materials'!N1255","v":10.8},{"$f":"'Bill of Materials'!P1255","v":"DWC"},{"$f":"'Bill of Materials'!C1255","v":"10314"},{"$f":"'Bill of Materials'!H1255","v":"2228-2x3"},null,null,null,0,{"$f":"'Bill of Materials'!J1255","v":"standard material"},{"$f":"'Bill of Materials'!K1255","v":"physical"},0]
[{"$f":"'Bill of Materials'!E1256+'Bill of Materials'!F1256","v":0},{"$f":"'Bill of Materials'!M1256","v":"EA"},{"$f":"'Bill of Materials'!G1256","v":"0-6 GHz Lightning Protector with RPTNC Plug to RPTNC Bulkhead Jack Connectors. Includes L Shaped Mounting Bracket"},{"$f":"'Bill of Materials'!L1256","v":"Tessco"},{"$f":"'Bill of Materials'!N1256","v":25.4},{"$f":"'Bill of Materials'!P1256","v":"DWC"},{"$f":"'Bill of Materials'!C1256","v":"10315"},{"$f":"'Bill of Materials'!H1256","v":"TW-LP-RPTNC-P-BHJ"},null,null,null,0,{"$f":"'Bill of Materials'!J1256","v":"standard material"},{"$f":"'Bill of Materials'!K1256","v":"physical"},0]
[{"$f":"'Bill of Materials'!E1258+'Bill of Materials'!F1258","v":0},{"$f":"'Bill of Materials'!M1258","v":"EA"},{"$f":"'Bill of Materials'!G1258","v":"2.4 GHz ANTENNA , 5.2 dBi OMNIDIRECTIONAL MAST MOUNT ANTENNA"},{"$f":"'Bill of Materials'!L1258","v":"Cisco"},{"$f":"'Bill of Materials'!N1258","v":126.08},{"$f":"'Bill of Materials'!P1258","v":"DWC"},{"$f":"'Bill of Materials'!C1258","v":"0010"},{"$f":"'Bill of Materials'!H1258","v":"AIR-ANT 2506"},null,null,null,{"$f":"E1304*A1304","v":0},{"$f":"'Bill of Materials'!J1258","v":"standard material"},{"$f":"'Bill of Materials'!K1258","v":"electronic"},{"$f":"IF(A1304>0,1,0)","v":0}]
[{"$f":"'Bill of Materials'!E1259+'Bill of Materials'!F1259","v":0},{"$f":"'Bill of Materials'!M1259","v":"EA"},{"$f":"'Bill of Materials'!G1259","v":"Motorola 2 watt 2 channel radio"},{"$f":"'Bill of Materials'!L1259","v":"Motorola"},{"$f":"'Bill of Materials'!N1259","v":236.46},{"$f":"'Bill of Materials'!P1259","v":"HP"},{"$f":"'Bill of Materials'!C1259","v":"1120"},{"$f":"'Bill of Materials'!H1259","v":"XU2600"},null,null,null,0,{"$f":"'Bill of Materials'!J1259","v":"standard material"},{"$f":"'Bill of Materials'!K1259","v":"physical"},0]
[{"$f":"'Bill of Materials'!E1260+'Bill of Materials'!F1260","v":0},{"$f":"'Bill of Materials'!M1260","v":"EA"},{"$f":"'Bill of Materials'!G1260","v":"Motorola earpiece w/microphone for radio"},{"$f":"'Bill of Materials'!L1260","v":"Motorola"},{"$f":"'Bill of Materials'!N1260","v":53.12},{"$f":"'Bill of Materials'!P1260","v":"HP"},{"$f":"'Bill of Materials'!C1260","v":"1121"},{"$f":"'Bill of Materials'!H1260","v":"HMN9039"},null,null,null,0,{"$f":"'Bill of Materials'!J1260","v":"standard material"},{"$f":"'Bill of Materials'!K1260","v":"physical"},0]
[{"$f":"'Bill of Materials'!E1261+'Bill of Materials'!F1261","v":0},{"$f":"'Bill of Materials'!M1261","v":"EA"},{"$f":"'Bill of Materials'!G1261","v":"MSFC2 Memory Option 512 MB (Primary and Redundant MSFC's"},{"$f":"'Bill of Materials'!L1261","v":"Cisco"},{"$f":"'Bill of Materials'!N1261","v":0},{"$f":"'Bill of Materials'!P1261","v":"HP"},{"$f":"'Bill of Materials'!C1261","v":"8168"},{"$f":"'Bill of Materials'!H1261","v":"MEM-MSFC2-512MB"},null,null,null,0,{"$f":"'Bill of Materials'!J1261","v":"standard material"},{"$f":"'Bill of Materials'!K1261","v":"electronic"},0]
[{"$f":"'Bill of Materials'!E1262+'Bill of Materials'!F1262","v":0},{"$f":"'Bill of Materials'!M1262","v":"EA"},{"$f":"'Bill of Materials'!G1262","v":"Catalyst 6506 Rack Mount Kit and Cable Organizer, Spare"},{"$f":"'Bill of Materials'!L1262","v":"Cisco"},{"$f":"'Bill of Materials'!N1262","v":38},{"$f":"'Bill of Materials'!P1262","v":"HP"},{"$f":"'Bill of Materials'!C1262","v":"8175"},{"$f":"'Bill of Materials'!H1262","v":"WS-C6X06-RACK="},null,null,null,0,{"$f":"'Bill of Materials'!J1262","v":"standard material"},{"$f":"'Bill of Materials'!K1262","v":"electronic"},0]
[{"$f":"'Bill of Materials'!E1263+'Bill of Materials'!F1263","v":0},{"$f":"'Bill of Materials'!M1263","v":"EA"},{"$f":"'Bill of Materials'!G1263","v":"Catalyst 6509 Rack Mount Kit and Cable Organizer, Spare"},{"$f":"'Bill of Materials'!L1263","v":"Cisco"},{"$f":"'Bill of Materials'!N1263","v":50},{"$f":"'Bill of Materials'!P1263","v":"HP"},{"$f":"'Bill of Materials'!C1263","v":"8176"},{"$f":"'Bill of Materials'!H1263","v":"WS-C6X09-RACK="},null,null,null,0,{"$f":"'Bill of Materials'!J1263","v":"standard material"},{"$f":"'Bill of Materials'!K1263","v":"electronic"},0]
[{"$f":"'Bill of Materials'!E1264+'Bill of Materials'!F1264","v":0},{"$f":"'Bill of Materials'!M1264","v":"EA"},{"$f":"'Bill of Materials'!G1264","v":"North America (nonlocking) 200-240V AC operation"},{"$f":"'Bill of Materials'!L1264","v":"Cisco"},{"$f":"'Bill of Materials'!N1264","v":20.25},{"$f":"'Bill of Materials'!P1264","v":"HP"},{"$f":"'Bill of Materials'!C1264","v":"8490"},{"$f":"'Bill of Materials'!H1264","v":"CAB-AC-2500W-US1="},null,null,null,0,{"$f":"'Bill of Materials'!J1264","v":"standard material"},{"$f":"'Bill of Materials'!K1264","v":"electronic"},0]
[{"$f":"'Bill of Materials'!E1265+'Bill of Materials'!F1265","v":0},{"$f":"'Bill of Materials'!M1265","v":"EA"},{"$f":"'Bill of Materials'!G1265","v":"1 RPS 675 connector cable 16/14"},{"$f":"'Bill of Materials'!L1265","v":"Cisco"},{"$f":"'Bill of Materials'!N1265","v":33.75},{"$f":"'Bill of Materials'!P1265","v":"HP"},{"$f":"'Bill of Materials'!C1265","v":"8498"},{"$f":"'Bill of Materials'!H1265","v":"CAB-RPS-1614="},null,null,null,0,{"$f":"'Bill of Materials'!J1265","v":"standard material"},{"$f":"'Bill of Materials'!K1265","v":"electronic"},0]
[{"$f":"'Bill of Materials'!E1266+'Bill of Materials'!F1266","v":0},{"$f":"'Bill of Materials'!M1266","v":"EA"},{"$f":"'Bill of Materials'!G1266","v":"1 Year Smartnet for 6509 8x5x4"},{"$f":"'Bill of Materials'!L1266","v":"Cisco"},{"$f":"'Bill of Materials'!N1266","v":5937.6},{"$f":"'Bill of Materials'!P1266","v":"HP"},{"$f":"'Bill of Materials'!C1266","v":"8510"},{"$f":"'Bill of Materials'!H1266","v":"CON-SNTE-WS-C6509"},null,null,null,0,{"$f":"'Bill of Materials'!J1266","v":"standard material"},{"$f":"'Bill of Materials'!K1266","v":"electronic"},0]
[{"$f":"'Bill of Materials'!E1267+'Bill of Materials'!F1267","v":0},{"$f":"'Bill of Materials'!M1267","v":"EA"},{"$f":"'Bill of Materials'!G1267","v":"1 Year Smartnet for 6506 8x5x4"},{"$f":"'Bill of Materials'!L1267","v":"Cisco"},{"$f":"'Bill of Materials'!N1267","v":4796.3999999999996},{"$f":"'Bill of Materials'!P1267","v":"HP"},{"$f":"'Bill of Materials'!C1267","v":"8513"},{"$f":"'Bill of Materials'!H1267","v":"CON-SNTE-WS-C6506"},null,null,null,0,{"$f":"'Bill of Materials'!J1267","v":"standard material"},{"$f":"'Bill of Materials'!K1267","v":"electronic"},0]
[{"$f":"'Bill of Materials'!E1268+'Bill of Materials'!F1268","v":0},{"$f":"'Bill of Materials'!M1268","v":"EA"},{"$f":"'Bill of Materials'!G1268","v":"1 Year Smartnet for 6513 8x5x4"},{"$f":"'Bill of Materials'!L1268","v":"Cisco"},{"$f":"'Bill of Materials'!N1268","v":8788.7999999999993},{"$f":"'Bill of Materials'!P1268","v":"HP"},{"$f":"'Bill of Materials'!C1268","v":"8520"},{"$f":"'Bill of Materials'!H1268","v":"CON-SNTE-WS-C6513"},null,null,null,0,{"$f":"'Bill of Materials'!J1268","v":"standard material"},{"$f":"'Bill of Materials'!K1268","v":"electronic"},0]
[{"$f":"'Bill of Materials'!E1269+'Bill of Materials'!F1269","v":0},{"$f":"'Bill of Materials'!M1269","v":"EA"},{"$f":"'Bill of Materials'!G1269","v":"SMARTNET 8X5XNBD Catalyst 3750 48 10/"},{"$f":"'Bill of Materials'!L1269","v":"Cisco"},{"$f":"'Bill of Materials'!N1269","v":402.6},{"$f":"'Bill of Materials'!P1269","v":"HP"},{"$f":"'Bill of Materials'!C1269","v":"8521"},{"$f":"'Bill of Materials'!H1269","v":"CON-SNT-375048PE"},null,null,null,0,{"$f":"'Bill of Materials'!J1269","v":"standard material"},{"$f":"'Bill of Materials'!K1269","v":"electronic"},0]
[{"$f":"'Bill of Materials'!E1270+'Bill of Materials'!F1270","v":0},{"$f":"'Bill of Materials'!M1270","v":"EA"},{"$f":"'Bill of Materials'!G1270","v":"1 Year Smartnet for 4507 8x5x4"},{"$f":"'Bill of Materials'!L1270","v":"Cisco"},{"$f":"'Bill of Materials'!N1270","v":2410.1999999999998},{"$f":"'Bill of Materials'!P1270","v":"HP"},{"$f":"'Bill of Materials'!C1270","v":"8522"},{"$f":"'Bill of Materials'!H1270","v":"CON-SNTE-WS-C4507"},null,null,null,0,{"$f":"'Bill of Materials'!J1270","v":"standard material"},{"$f":"'Bill of Materials'!K1270","v":"electronic"},0]
[{"$f":"'Bill of Materials'!E1271+'Bill of Materials'!F1271","v":0},{"$f":"'Bill of Materials'!M1271","v":"EA"},{"$f":"'Bill of Materials'!G1271","v":"1 Year Warranty Extension For UPS 2200/1500MXL"},{"$f":"'Bill of Materials'!L1271","v":"APC"},{"$f":"'Bill of Materials'!N1271","v":95.8},{"$f":"'Bill of Materials'!P1271","v":"DWC"},{"$f":"'Bill of Materials'!C1271","v":"8647"},{"$f":"'Bill of Materials'!H1271","v":"WEXTWAR1YR-SB-13"},null,null,null,0,{"$f":"'Bill of Materials'!J1271","v":"standard material"},{"$f":"'Bill of Materials'!K1271","v":"electronic"},0]
[{"$f":"'Bill of Materials'!E1272+'Bill of Materials'!F1272","v":0},{"$f":"'Bill of Materials'!M1272","v":"EA"},{"$f":"'Bill of Materials'!G1272","v":"Catalyst 6500 16-Port GigE Mod (Req. GBIC's)"},{"$f":"'Bill of Materials'!L1272","v":"Cisco"},{"$f":"'Bill of Materials'!N1272","v":6768},{"$f":"'Bill of Materials'!P1272","v":"HP"},{"$f":"'Bill of Materials'!C1272","v":"8712"},{"$f":"'Bill of Materials'!H1272","v":"WS-X6516-GBIC"},null,null,null,0,{"$f":"'Bill of Materials'!J1272","v":"standard material"},{"$f":"'Bill of Materials'!K1272","v":"electronic"},0]
[{"$f":"'Bill of Materials'!E1273+'Bill of Materials'!F1273","v":0},{"$f":"'Bill of Materials'!M1273","v":"EA"},{"$f":"'Bill of Materials'!G1273","v":"Cat6500 Sup2, ATA Type1 Flash Mem Card, 64 MB Option"},{"$f":"'Bill of Materials'!L1273","v":"Cisco"},{"$f":"'Bill of Materials'!N1273","v":160},{"$f":"'Bill of Materials'!P1273","v":"HP"},{"$f":"'Bill of Materials'!C1273","v":"8778"},{"$f":"'Bill of Materials'!H1273","v":"MEM-C6K-ATA-1-64M"},null,null,null,0,{"$f":"'Bill of Materials'!J1273","v":"standard material"},{"$f":"'Bill of Materials'!K1273","v":"electronic"},0]
[{"$f":"'Bill of Materials'!E1274+'Bill of Materials'!F1274","v":0},{"$f":"'Bill of Materials'!M1274","v":"EA"},{"$f":"'Bill of Materials'!G1274","v":"SUP720 COMPACT FLASH MEM 256MB"},{"$f":"'Bill of Materials'!L1274","v":"Cisco"},{"$f":"'Bill of Materials'!N1274","v":360},{"$f":"'Bill of Materials'!P1274","v":"HP"},{"$f":"'Bill of Materials'!C1274","v":"8805"},{"$f":"'Bill of Materials'!H1274","v":"MEM-C6K-CPTFL256M"},null,null,null,0,{"$f":"'Bill of Materials'!J1274","v":"standard material"},{"$f":"'Bill of Materials'!K1274","v":"electronic"},0]
[{"$f":"'Bill of Materials'!E1275+'Bill of Materials'!F1275","v":0},{"$f":"'Bill of Materials'!M1275","v":"EA"},{"$f":"'Bill of Materials'!G1275","v":"DC POWER SUPPLY 2500 Watt"},{"$f":"'Bill of Materials'!L1275","v":"Cisco"},{"$f":"'Bill of Materials'!N1275","v":2000},{"$f":"'Bill of Materials'!P1275","v":"HP"},{"$f":"'Bill of Materials'!C1275","v":"8817"},{"$f":"'Bill of Materials'!H1275","v":"WS-CDC-2500W"},null,null,null,0,{"$f":"'Bill of Materials'!J1275","v":"standard material"},{"$f":"'Bill of Materials'!K1275","v":"electronic"},0]
[{"$f":"'Bill of Materials'!E1276+'Bill of Materials'!F1276","v":0},{"$f":"'Bill of Materials'!M1276","v":"EA"},{"$f":"'Bill of Materials'!G1276","v":"Checkpoint VPN-1 Pro Gateway Unlimited"},{"$f":"'Bill of Materials'!L1276","v":"Nokia"},{"$f":"'Bill of Materials'!N1276","v":6222.49},{"$f":"'Bill of Materials'!P1276","v":"HP"},{"$f":"'Bill of Materials'!C1276","v":"8845"},{"$f":"'Bill of Materials'!H1276","v":"CPMP-VPG-U-NG"},null,null,null,0,{"$f":"'Bill of Materials'!J1276","v":"standard material"},{"$f":"'Bill of Materials'!K1276","v":"electronic"},0]
[{"$f":"'Bill of Materials'!E1277+'Bill of Materials'!F1277","v":0},{"$f":"'Bill of Materials'!M1277","v":"EA"},{"$f":"'Bill of Materials'!G1277","v":"Nokia IP-380 Base Systems"},{"$f":"'Bill of Materials'!L1277","v":"Nokia"},{"$f":"'Bill of Materials'!N1277","v":5565.22},{"$f":"'Bill of Materials'!P1277","v":"HP"},{"$f":"'Bill of Materials'!C1277","v":"8848"},{"$f":"'Bill of Materials'!H1277","v":"NBB3880000"},null,null,null,0,{"$f":"'Bill of Materials'!J1277","v":"standard material"},{"$f":"'Bill of Materials'!K1277","v":"electronic"},0]
[{"$f":"'Bill of Materials'!E1278+'Bill of Materials'!F1278","v":0},{"$f":"'Bill of Materials'!M1278","v":"EA"},{"$f":"'Bill of Materials'!G1278","v":"4400 Series WLAN Controller for up to 12 Cisco lightweight APs"},{"$f":"'Bill of Materials'!L1278","v":"Cisco"},{"$f":"'Bill of Materials'!N1278","v":0},{"$f":"'Bill of Materials'!P1278","v":"HP"},{"$f":"'Bill of Materials'!C1278","v":"8865"},{"$f":"'Bill of Materials'!H1278","v":"AIR-WLC4402-12-K9"},null,null,null,0,{"$f":"'Bill of Materials'!J1278","v":"standard material"},{"$f":"'Bill of Materials'!K1278","v":"electronic"},0]
[{"$f":"'Bill of Materials'!E1279+'Bill of Materials'!F1279","v":0},{"$f":"'Bill of Materials'!M1279","v":"EA"},{"$f":"'Bill of Materials'!G1279","v":"4400 Series WLAN Controller for up to 100 Lightweight APs"},{"$f":"'Bill of Materials'!L1279","v":"Cisco"},{"$f":"'Bill of Materials'!N1279","v":0},{"$f":"'Bill of Materials'!P1279","v":"HP"},{"$f":"'Bill of Materials'!C1279","v":"8866"},{"$f":"'Bill of Materials'!H1279","v":"AIR-WLC4404-100-K9"},null,null,null,0,{"$f":"'Bill of Materials'!J1279","v":"standard material"},{"$f":"'Bill of Materials'!K1279","v":"electronic"},0]
[{"$f":"'Bill of Materials'!E1280+'Bill of Materials'!F1280","v":0},{"$f":"'Bill of Materials'!M1280","v":"EA"},{"$f":"'Bill of Materials'!G1280","v":"4400 Series WLAN Controller AC Power Supply (redundant)"},{"$f":"'Bill of Materials'!L1280","v":"Cisco"},{"$f":"'Bill of Materials'!N1280","v":0},{"$f":"'Bill of Materials'!P1280","v":"HP"},{"$f":"'Bill of Materials'!C1280","v":"8867"},{"$f":"'Bill of Materials'!H1280","v":"AIR-PWR-4400-AC="},null,null,null,0,{"$f":"'Bill of Materials'!J1280","v":"standard material"},{"$f":"'Bill of Materials'!K1280","v":"electronic"},0]
[{"$f":"'Bill of Materials'!E1281+'Bill of Materials'!F1281","v":0},{"$f":"'Bill of Materials'!M1281","v":"EA"},{"$f":"'Bill of Materials'!G1281","v":"4400 Series WLAN Controller for up to 50 Lightweight APs"},{"$f":"'Bill of Materials'!L1281","v":"Cisco"},{"$f":"'Bill of Materials'!N1281","v":0},{"$f":"'Bill of Materials'!P1281","v":"HP"},{"$f":"'Bill of Materials'!C1281","v":"8875"},{"$f":"'Bill of Materials'!H1281","v":"AIR-WLC4402-50-K9"},null,null,null,0,{"$f":"'Bill of Materials'!J1281","v":"standard material"},{"$f":"'Bill of Materials'!K1281","v":"electronic"},0]
[{"$f":"'Bill of Materials'!E1282+'Bill of Materials'!F1282","v":0},{"$f":"'Bill of Materials'!M1282","v":"EA"},{"$f":"'Bill of Materials'!G1282","v":"4400 Series WLAN Controller for up to 25 Lightweight APs"},{"$f":"'Bill of Materials'!L1282","v":"Cisco"},{"$f":"'Bill of Materials'!N1282","v":0},{"$f":"'Bill of Materials'!P1282","v":"HP"},{"$f":"'Bill of Materials'!C1282","v":"8876"},{"$f":"'Bill of Materials'!H1282","v":"AIR-WLC4402-25-K9"},null,null,null,0,{"$f":"'Bill of Materials'!J1282","v":"standard material"},{"$f":"'Bill of Materials'!K1282","v":"electronic"},0]
[{"$f":"'Bill of Materials'!E1283+'Bill of Materials'!F1283","v":0},{"$f":"'Bill of Materials'!M1283","v":"EA"},{"$f":"'Bill of Materials'!G1283","v":"19\" Cable Manager w/ D Rings on end - 2RMS"},{"$f":"'Bill of Materials'!L1283","v":"Homaco"},{"$f":"'Bill of Materials'!N1283","v":36.380000000000003},{"$f":"'Bill of Materials'!P1283","v":"DWC"},{"$f":"'Bill of Materials'!C1283","v":"INFO-2362"},{"$f":"'Bill of Materials'!H1283","v":"FCM-19-2DXL"},null,null,null,0,{"$f":"'Bill of Materials'!J1283","v":"standard material"},{"$f":"'Bill of Materials'!K1283","v":"horizontal"},0]
[{"$f":"'Bill of Materials'!#REF!+'Bill of Materials'!#REF!","v":{"$error":"#REF!"}},{"$f":"'Bill of Materials'!#REF!","v":{"$error":"#REF!"}},{"$f":"'Bill of Materials'!#REF!","v":{"$error":"#REF!"}},{"$f":"'Bill of Materials'!#REF!","v":{"$error":"#REF!"}},{"$f":"'Bill of Materials'!#REF!","v":{"$error":"#REF!"}},{"$f":"'Bill of Materials'!#REF!","v":{"$error":"#REF!"}},{"$f":"'Bill of Materials'!#REF!","v":{"$error":"#REF!"}},{"$f":"'Bill of Materials'!#REF!","v":{"$error":"#REF!"}},null,null,null,{"$error":"#REF!"},{"$f":"'Bill of Materials'!#REF!","v":{"$error":"#REF!"}},{"$f":"'Bill of Materials'!#REF!","v":{"$error":"#REF!"}},{"$error":"#REF!"}]
[{"$f":"'Bill of Materials'!E1288+'Bill of Materials'!F1288","v":0},{"$f":"'Bill of Materials'!M1288","v":0},{"$f":"'Bill of Materials'!G1288","v":0},{"$f":"'Bill of Materials'!L1288","v":0},{"$f":"'Bill of Materials'!N1288","v":0},{"$f":"'Bill of Materials'!P1288","v":0},{"$f":"'Bill of Materials'!C1288","v":0},{"$f":"'Bill of Materials'!H1288","v":0},null,null,null,0,{"$f":"'Bill of Materials'!J1288","v":0},{"$f":"'Bill of Materials'!K1288","v":0},0]
[{"$f":"'Bill of Materials'!E1289+'Bill of Materials'!F1289","v":0},{"$f":"'Bill of Materials'!M1289","v":0},{"$f":"'Bill of Materials'!G1289","v":0},{"$f":"'Bill of Materials'!L1289","v":0},{"$f":"'Bill of Materials'!N1289","v":0},{"$f":"'Bill of Materials'!P1289","v":0},{"$f":"'Bill of Materials'!C1289","v":0},{"$f":"'Bill of Materials'!H1289","v":0},null,null,null,0,{"$f":"'Bill of Materials'!J1289","v":0},{"$f":"'Bill of Materials'!K1289","v":0},0]
[{"$f":"'Bill of Materials'!E1290+'Bill of Materials'!F1290","v":0},{"$f":"'Bill of Materials'!M1290","v":0},{"$f":"'Bill of Materials'!G1290","v":0},{"$f":"'Bill of Materials'!L1290","v":0},{"$f":"'Bill of Materials'!N1290","v":0},{"$f":"'Bill of Materials'!P1290","v":0},{"$f":"'Bill of Materials'!C1290","v":0},{"$f":"'Bill of Materials'!H1290","v":0},null,null,null,0,{"$f":"'Bill of Materials'!J1290","v":0},{"$f":"'Bill of Materials'!K1290","v":0},0]
[{"$f":"'Bill of Materials'!E1291+'Bill of Materials'!F1291","v":0},{"$f":"'Bill of Materials'!M1291","v":0},{"$f":"'Bill of Materials'!G1291","v":0},{"$f":"'Bill of Materials'!L1291","v":0},{"$f":"'Bill of Materials'!N1291","v":0},{"$f":"'Bill of Materials'!P1291","v":0},{"$f":"'Bill of Materials'!C1291","v":0},{"$f":"'Bill of Materials'!H1291","v":0},null,null,null,0,{"$f":"'Bill of Materials'!J1291","v":0},{"$f":"'Bill of Materials'!K1291","v":0},0]
[{"$f":"'Bill of Materials'!E1292+'Bill of Materials'!F1292","v":0},{"$f":"'Bill of Materials'!M1292","v":0},{"$f":"'Bill of Materials'!G1292","v":0},{"$f":"'Bill of Materials'!L1292","v":0},{"$f":"'Bill of Materials'!N1292","v":0},{"$f":"'Bill of Materials'!P1292","v":0},{"$f":"'Bill of Materials'!C1292","v":0},{"$f":"'Bill of Materials'!H1292","v":0},null,null,null,0,{"$f":"'Bill of Materials'!J1292","v":0},{"$f":"'Bill of Materials'!K1292","v":0},0]
[{"$f":"'Bill of Materials'!E1293+'Bill of Materials'!F1293","v":0},{"$f":"'Bill of Materials'!M1293","v":0},{"$f":"'Bill of Materials'!G1293","v":0},{"$f":"'Bill of Materials'!L1293","v":0},{"$f":"'Bill of Materials'!N1293","v":0},{"$f":"'Bill of Materials'!P1293","v":0},{"$f":"'Bill of Materials'!C1293","v":0},{"$f":"'Bill of Materials'!H1293","v":0},null,null,null,0,{"$f":"'Bill of Materials'!J1293","v":0},{"$f":"'Bill of Materials'!K1293","v":0},0]
[{"$f":"'Bill of Materials'!E1294+'Bill of Materials'!F1294","v":0},{"$f":"'Bill of Materials'!M1294","v":0},{"$f":"'Bill of Materials'!G1294","v":0},{"$f":"'Bill of Materials'!L1294","v":0},{"$f":"'Bill of Materials'!N1294","v":0},{"$f":"'Bill of Materials'!P1294","v":0},{"$f":"'Bill of Materials'!C1294","v":0},{"$f":"'Bill of Materials'!H1294","v":0},null,null,null,0,{"$f":"'Bill of Materials'!J1294","v":0},{"$f":"'Bill of Materials'!K1294","v":0},0]
[{"$f":"'Bill of Materials'!E1295+'Bill of Materials'!F1295","v":0},{"$f":"'Bill of Materials'!M1295","v":0},{"$f":"'Bill of Materials'!G1295","v":0},{"$f":"'Bill of Materials'!L1295","v":0},{"$f":"'Bill of Materials'!N1295","v":0},{"$f":"'Bill of Materials'!P1295","v":0},{"$f":"'Bill of Materials'!C1295","v":0},{"$f":"'Bill of Materials'!H1295","v":0},null,null,null,0,{"$f":"'Bill of Materials'!J1295","v":0},{"$f":"'Bill of Materials'!K1295","v":0},0]
[{"$f":"'Bill of Materials'!E1296+'Bill of Materials'!F1296","v":0},{"$f":"'Bill of Materials'!M1296","v":0},{"$f":"'Bill of Materials'!G1296","v":0},{"$f":"'Bill of Materials'!L1296","v":0},{"$f":"'Bill of Materials'!N1296","v":0},{"$f":"'Bill of Materials'!P1296","v":0},{"$f":"'Bill of Materials'!C1296","v":0},{"$f":"'Bill of Materials'!H1296","v":0},null,null,null,0,{"$f":"'Bill of Materials'!J1296","v":0},{"$f":"'Bill of Materials'!K1296","v":0},0]
[{"$f":"'Bill of Materials'!E1297+'Bill of Materials'!F1297","v":0},{"$f":"'Bill of Materials'!M1297","v":0},{"$f":"'Bill of Materials'!G1297","v":0},{"$f":"'Bill of Materials'!L1297","v":0},{"$f":"'Bill of Materials'!N1297","v":0},{"$f":"'Bill of Materials'!P1297","v":0},{"$f":"'Bill of Materials'!C1297","v":0},{"$f":"'Bill of Materials'!H1297","v":0},null,null,null,0,{"$f":"'Bill of Materials'!J1297","v":0},{"$f":"'Bill of Materials'!K1297","v":0},0]
[{"$f":"'Bill of Materials'!E1298+'Bill of Materials'!F1298","v":0},{"$f":"'Bill of Materials'!M1298","v":0},{"$f":"'Bill of Materials'!G1298","v":0},{"$f":"'Bill of Materials'!L1298","v":0},{"$f":"'Bill of Materials'!N1298","v":0},{"$f":"'Bill of Materials'!P1298","v":0},{"$f":"'Bill of Materials'!C1298","v":0},{"$f":"'Bill of Materials'!H1298","v":0},null,null,null,0,{"$f":"'Bill of Materials'!J1298","v":0},{"$f":"'Bill of Materials'!K1298","v":0},0]
[{"$f":"'Bill of Materials'!E1299+'Bill of Materials'!F1299","v":0},{"$f":"'Bill of Materials'!M1299","v":0},{"$f":"'Bill of Materials'!G1299","v":0},{"$f":"'Bill of Materials'!L1299","v":0},{"$f":"'Bill of Materials'!N1299","v":0},{"$f":"'Bill of Materials'!P1299","v":0},{"$f":"'Bill of Materials'!C1299","v":0},{"$f":"'Bill of Materials'!H1299","v":0},null,null,null,0,{"$f":"'Bill of Materials'!J1299","v":0},{"$f":"'Bill of Materials'!K1299","v":0},0]
[{"$f":"'Bill of Materials'!E1300+'Bill of Materials'!F1300","v":0},{"$f":"'Bill of Materials'!M1300","v":0},{"$f":"'Bill of Materials'!G1300","v":0},{"$f":"'Bill of Materials'!L1300","v":0},{"$f":"'Bill of Materials'!N1300","v":0},{"$f":"'Bill of Materials'!P1300","v":0},{"$f":"'Bill of Materials'!C1300","v":0},{"$f":"'Bill of Materials'!H1300","v":0},null,null,null,0,{"$f":"'Bill of Materials'!J1300","v":0},{"$f":"'Bill of Materials'!K1300","v":0},0]
[{"$f":"'Bill of Materials'!E1301+'Bill of Materials'!F1301","v":0},{"$f":"'Bill of Materials'!M1301","v":0},{"$f":"'Bill of Materials'!G1301","v":0},{"$f":"'Bill of Materials'!L1301","v":0},{"$f":"'Bill of Materials'!N1301","v":0},{"$f":"'Bill of Materials'!P1301","v":0},{"$f":"'Bill of Materials'!C1301","v":0},{"$f":"'Bill of Materials'!H1301","v":0},null,null,null,0,{"$f":"'Bill of Materials'!J1301","v":0},{"$f":"'Bill of Materials'!K1301","v":0},0]
[{"$f":"'Bill of Materials'!E1302+'Bill of Materials'!F1302","v":0},{"$f":"'Bill of Materials'!M1302","v":0},{"$f":"'Bill of Materials'!G1302","v":0},{"$f":"'Bill of Materials'!L1302","v":0},{"$f":"'Bill of Materials'!N1302","v":0},{"$f":"'Bill of Materials'!P1302","v":0},{"$f":"'Bill of Materials'!C1302","v":0},{"$f":"'Bill of Materials'!H1302","v":0},null,null,null,0,{"$f":"'Bill of Materials'!J1302","v":0},{"$f":"'Bill of Materials'!K1302","v":0},0]
[{"$f":"'Bill of Materials'!E1303+'Bill of Materials'!F1303","v":0},{"$f":"'Bill of Materials'!M1303","v":0},{"$f":"'Bill of Materials'!G1303","v":0},{"$f":"'Bill of Materials'!L1303","v":0},{"$f":"'Bill of Materials'!N1303","v":0},{"$f":"'Bill of Materials'!P1303","v":0},{"$f":"'Bill of Materials'!C1303","v":0},{"$f":"'Bill of Materials'!H1303","v":0},null,null,null,0,{"$f":"'Bill of Materials'!J1303","v":0},{"$f":"'Bill of Materials'!K1303","v":0},0]
[{"$f":"'Bill of Materials'!E1304+'Bill of Materials'!F1304","v":0},{"$f":"'Bill of Materials'!M1304","v":0},{"$f":"'Bill of Materials'!G1304","v":0},{"$f":"'Bill of Materials'!L1304","v":0},{"$f":"'Bill of Materials'!N1304","v":0},{"$f":"'Bill of Materials'!P1304","v":0},{"$f":"'Bill of Materials'!C1304","v":0},{"$f":"'Bill of Materials'!H1304","v":0},null,null,null,0,{"$f":"'Bill of Materials'!J1304","v":0},{"$f":"'Bill of Materials'!K1304","v":0},0]
[{"$f":"'Bill of Materials'!E1305+'Bill of Materials'!F1305","v":0},{"$f":"'Bill of Materials'!M1305","v":0},{"$f":"'Bill of Materials'!G1305","v":0},{"$f":"'Bill of Materials'!L1305","v":0},{"$f":"'Bill of Materials'!N1305","v":0},{"$f":"'Bill of Materials'!P1305","v":0},{"$f":"'Bill of Materials'!C1305","v":0},{"$f":"'Bill of Materials'!H1305","v":0},null,null,null,0,{"$f":"'Bill of Materials'!J1305","v":0},{"$f":"'Bill of Materials'!K1305","v":0},0]
[{"$f":"'Bill of Materials'!E1306+'Bill of Materials'!F1306","v":0},{"$f":"'Bill of Materials'!M1306","v":0},{"$f":"'Bill of Materials'!G1306","v":0},{"$f":"'Bill of Materials'!L1306","v":0},{"$f":"'Bill of Materials'!N1306","v":0},{"$f":"'Bill of Materials'!P1306","v":0},{"$f":"'Bill of Materials'!C1306","v":0},{"$f":"'Bill of Materials'!H1306","v":0},null,null,null,0,{"$f":"'Bill of Materials'!J1306","v":0},{"$f":"'Bill of Materials'!K1306","v":0},0]
[{"$f":"'Bill of Materials'!E1307+'Bill of Materials'!F1307","v":0},{"$f":"'Bill of Materials'!M1307","v":0},{"$f":"'Bill of Materials'!G1307","v":0},{"$f":"'Bill of Materials'!L1307","v":0},{"$f":"'Bill of Materials'!N1307","v":0},{"$f":"'Bill of Materials'!P1307","v":0},{"$f":"'Bill of Materials'!C1307","v":0},{"$f":"'Bill of Materials'!H1307","v":0},null,null,null,0,{"$f":"'Bill of Materials'!J1307","v":0},{"$f":"'Bill of Materials'!K1307","v":0},0]
[{"$f":"'Bill of Materials'!E1308+'Bill of Materials'!F1308","v":0},{"$f":"'Bill of Materials'!M1308","v":0},{"$f":"'Bill of Materials'!G1308","v":0},{"$f":"'Bill of Materials'!L1308","v":0},{"$f":"'Bill of Materials'!N1308","v":0},{"$f":"'Bill of Materials'!P1308","v":0},{"$f":"'Bill of Materials'!C1308","v":0},{"$f":"'Bill of Materials'!H1308","v":0},null,null,null,0,{"$f":"'Bill of Materials'!J1308","v":0},{"$f":"'Bill of Materials'!K1308","v":0},0]
[{"$f":"'Bill of Materials'!E1309+'Bill of Materials'!F1309","v":0},{"$f":"'Bill of Materials'!M1309","v":0},{"$f":"'Bill of Materials'!G1309","v":0},{"$f":"'Bill of Materials'!L1309","v":0},{"$f":"'Bill of Materials'!N1309","v":0},{"$f":"'Bill of Materials'!P1309","v":0},{"$f":"'Bill of Materials'!C1309","v":0},{"$f":"'Bill of Materials'!H1309","v":0},null,null,null,0,{"$f":"'Bill of Materials'!J1309","v":0},{"$f":"'Bill of Materials'!K1309","v":0},0]
[{"$f":"'Bill of Materials'!E1310+'Bill of Materials'!F1310","v":0},{"$f":"'Bill of Materials'!M1310","v":0},{"$f":"'Bill of Materials'!G1310","v":0},{"$f":"'Bill of Materials'!L1310","v":0},{"$f":"'Bill of Materials'!N1310","v":0},{"$f":"'Bill of Materials'!P1310","v":0},{"$f":"'Bill of Materials'!C1310","v":0},{"$f":"'Bill of Materials'!H1310","v":0},null,null,null,0,{"$f":"'Bill of Materials'!J1310","v":0},{"$f":"'Bill of Materials'!K1310","v":0},0]
[{"$f":"'Bill of Materials'!E1311+'Bill of Materials'!F1311","v":0},{"$f":"'Bill of Materials'!M1311","v":0},{"$f":"'Bill of Materials'!G1311","v":0},{"$f":"'Bill of Materials'!L1311","v":0},{"$f":"'Bill of Materials'!N1311","v":0},{"$f":"'Bill of Materials'!P1311","v":0},{"$f":"'Bill of Materials'!C1311","v":0},{"$f":"'Bill of Materials'!H1311","v":0},null,null,null,0,{"$f":"'Bill of Materials'!J1311","v":0},{"$f":"'Bill of Materials'!K1311","v":0},0]
[{"$f":"'Bill of Materials'!E1312+'Bill of Materials'!F1312","v":0},{"$f":"'Bill of Materials'!M1312","v":0},{"$f":"'Bill of Materials'!G1312","v":0},{"$f":"'Bill of Materials'!L1312","v":0},{"$f":"'Bill of Materials'!N1312","v":0},{"$f":"'Bill of Materials'!P1312","v":0},{"$f":"'Bill of Materials'!C1312","v":0},{"$f":"'Bill of Materials'!H1312","v":0},null,null,null,0,{"$f":"'Bill of Materials'!J1312","v":0},{"$f":"'Bill of Materials'!K1312","v":0},0]
[{"$f":"'Bill of Materials'!E1313+'Bill of Materials'!F1313","v":0},{"$f":"'Bill of Materials'!M1313","v":0},{"$f":"'Bill of Materials'!G1313","v":0},{"$f":"'Bill of Materials'!L1313","v":0},{"$f":"'Bill of Materials'!N1313","v":0},{"$f":"'Bill of Materials'!P1313","v":0},{"$f":"'Bill of Materials'!C1313","v":0},{"$f":"'Bill of Materials'!H1313","v":0},null,null,null,0,{"$f":"'Bill of Materials'!J1313","v":0},{"$f":"'Bill of Materials'!K1313","v":0},0]
[{"$f":"'Bill of Materials'!E1314+'Bill of Materials'!F1314","v":0},{"$f":"'Bill of Materials'!M1314","v":0},{"$f":"'Bill of Materials'!G1314","v":0},{"$f":"'Bill of Materials'!L1314","v":0},{"$f":"'Bill of Materials'!N1314","v":0},{"$f":"'Bill of Materials'!P1314","v":0},{"$f":"'Bill of Materials'!C1314","v":0},{"$f":"'Bill of Materials'!H1314","v":0},null,null,null,0,{"$f":"'Bill of Materials'!J1314","v":0},{"$f":"'Bill of Materials'!K1314","v":0},0]
[{"$f":"'Bill of Materials'!E1315+'Bill of Materials'!F1315","v":0},{"$f":"'Bill of Materials'!M1315","v":0},{"$f":"'Bill of Materials'!G1315","v":0},{"$f":"'Bill of Materials'!L1315","v":0},{"$f":"'Bill of Materials'!N1315","v":0},{"$f":"'Bill of Materials'!P1315","v":0},{"$f":"'Bill of Materials'!C1315","v":0},{"$f":"'Bill of Materials'!H1315","v":0},null,null,null,0,{"$f":"'Bill of Materials'!J1315","v":0},{"$f":"'Bill of Materials'!K1315","v":0},0]
[{"$f":"'Bill of Materials'!E1316+'Bill of Materials'!F1316","v":0},{"$f":"'Bill of Materials'!M1316","v":0},{"$f":"'Bill of Materials'!G1316","v":0},{"$f":"'Bill of Materials'!L1316","v":0},{"$f":"'Bill of Materials'!N1316","v":0},{"$f":"'Bill of Materials'!P1316","v":0},{"$f":"'Bill of Materials'!C1316","v":0},{"$f":"'Bill of Materials'!H1316","v":0},null,null,null,0,{"$f":"'Bill of Materials'!J1316","v":0},{"$f":"'Bill of Materials'!K1316","v":0},0]
[{"$f":"'Bill of Materials'!E1317+'Bill of Materials'!F1317","v":0},{"$f":"'Bill of Materials'!M1317","v":0},{"$f":"'Bill of Materials'!G1317","v":0},{"$f":"'Bill of Materials'!L1317","v":0},{"$f":"'Bill of Materials'!N1317","v":0},{"$f":"'Bill of Materials'!P1317","v":0},{"$f":"'Bill of Materials'!C1317","v":0},{"$f":"'Bill of Materials'!H1317","v":0},null,null,null,0,{"$f":"'Bill of Materials'!J1317","v":0},{"$f":"'Bill of Materials'!K1317","v":0},0]
[{"$f":"'Bill of Materials'!E1318+'Bill of Materials'!F1318","v":0},{"$f":"'Bill of Materials'!M1318","v":0},{"$f":"'Bill of Materials'!G1318","v":0},{"$f":"'Bill of Materials'!L1318","v":0},{"$f":"'Bill of Materials'!N1318","v":0},{"$f":"'Bill of Materials'!P1318","v":0},{"$f":"'Bill of Materials'!C1318","v":0},{"$f":"'Bill of Materials'!H1318","v":0},null,null,null,0,{"$f":"'Bill of Materials'!J1318","v":0},{"$f":"'Bill of Materials'!K1318","v":0},0]
[{"$f":"'Bill of Materials'!E1319+'Bill of Materials'!F1319","v":0},{"$f":"'Bill of Materials'!M1319","v":0},{"$f":"'Bill of Materials'!G1319","v":0},{"$f":"'Bill of Materials'!L1319","v":0},{"$f":"'Bill of Materials'!N1319","v":0},{"$f":"'Bill of Materials'!P1319","v":0},{"$f":"'Bill of Materials'!C1319","v":0},{"$f":"'Bill of Materials'!H1319","v":0},null,null,null,0,{"$f":"'Bill of Materials'!J1319","v":0},{"$f":"'Bill of Materials'!K1319","v":0},0]
[{"$f":"'Bill of Materials'!E1320+'Bill of Materials'!F1320","v":0},{"$f":"'Bill of Materials'!M1320","v":0},{"$f":"'Bill of Materials'!G1320","v":0},{"$f":"'Bill of Materials'!L1320","v":0},{"$f":"'Bill of Materials'!N1320","v":0},{"$f":"'Bill of Materials'!P1320","v":0},{"$f":"'Bill of Materials'!C1320","v":0},{"$f":"'Bill of Materials'!H1320","v":0},null,null,null,0,{"$f":"'Bill of Materials'!J1320","v":0},{"$f":"'Bill of Materials'!K1320","v":0},0]
[{"$f":"'Bill of Materials'!E1321+'Bill of Materials'!F1321","v":0},{"$f":"'Bill of Materials'!M1321","v":0},{"$f":"'Bill of Materials'!G1321","v":0},{"$f":"'Bill of Materials'!L1321","v":0},{"$f":"'Bill of Materials'!N1321","v":0},{"$f":"'Bill of Materials'!P1321","v":0},{"$f":"'Bill of Materials'!C1321","v":0},{"$f":"'Bill of Materials'!H1321","v":0},null,null,null,0,{"$f":"'Bill of Materials'!J1321","v":0},{"$f":"'Bill of Materials'!K1321","v":0},0]
[{"$f":"'Bill of Materials'!E1322+'Bill of Materials'!F1322","v":0},{"$f":"'Bill of Materials'!M1322","v":0},{"$f":"'Bill of Materials'!G1322","v":0},{"$f":"'Bill of Materials'!L1322","v":0},{"$f":"'Bill of Materials'!N1322","v":0},{"$f":"'Bill of Materials'!P1322","v":0},{"$f":"'Bill of Materials'!C1322","v":0},{"$f":"'Bill of Materials'!H1322","v":0},null,null,null,0,{"$f":"'Bill of Materials'!J1322","v":0},{"$f":"'Bill of Materials'!K1322","v":0},0]
[{"$f":"'Bill of Materials'!E1323+'Bill of Materials'!F1323","v":0},{"$f":"'Bill of Materials'!M1323","v":0},{"$f":"'Bill of Materials'!G1323","v":0},{"$f":"'Bill of Materials'!L1323","v":0},{"$f":"'Bill of Materials'!N1323","v":0},{"$f":"'Bill of Materials'!P1323","v":0},{"$f":"'Bill of Materials'!C1323","v":0},{"$f":"'Bill of Materials'!H1323","v":0},null,null,null,0,{"$f":"'Bill of Materials'!J1323","v":0},{"$f":"'Bill of Materials'!K1323","v":0},0]
[{"$f":"'Bill of Materials'!E1324+'Bill of Materials'!F1324","v":0},{"$f":"'Bill of Materials'!M1324","v":0},{"$f":"'Bill of Materials'!G1324","v":0},{"$f":"'Bill of Materials'!L1324","v":0},{"$f":"'Bill of Materials'!N1324","v":0},{"$f":"'Bill of Materials'!P1324","v":0},{"$f":"'Bill of Materials'!C1324","v":0},{"$f":"'Bill of Materials'!H1324","v":0},null,null,null,0,{"$f":"'Bill of Materials'!J1324","v":0},{"$f":"'Bill of Materials'!K1324","v":0},0]
[{"$f":"'Bill of Materials'!E1325+'Bill of Materials'!F1325","v":0},{"$f":"'Bill of Materials'!M1325","v":0},{"$f":"'Bill of Materials'!G1325","v":0},{"$f":"'Bill of Materials'!L1325","v":0},{"$f":"'Bill of Materials'!N1325","v":0},{"$f":"'Bill of Materials'!P1325","v":0},{"$f":"'Bill of Materials'!C1325","v":0},{"$f":"'Bill of Materials'!H1325","v":0},null,null,null,{"$f":"E1368*A1368","v":0},{"$f":"'Bill of Materials'!J1325","v":0},{"$f":"'Bill of Materials'!K1325","v":0},{"$f":"IF(A1368>0,1,0)","v":0}]
[{"$f":"'Bill of Materials'!E1326+'Bill of Materials'!F1326","v":0},{"$f":"'Bill of Materials'!M1326","v":0},{"$f":"'Bill of Materials'!G1326","v":0},{"$f":"'Bill of Materials'!L1326","v":0},{"$f":"'Bill of Materials'!N1326","v":0},{"$f":"'Bill of Materials'!P1326","v":0},{"$f":"'Bill of Materials'!C1326","v":0},{"$f":"'Bill of Materials'!H1326","v":0},null,null,null,0,{"$f":"'Bill of Materials'!J1326","v":0},{"$f":"'Bill of Materials'!K1326","v":0},0]
[{"$f":"'Bill of Materials'!E1327+'Bill of Materials'!F1327","v":0},{"$f":"'Bill of Materials'!M1327","v":0},{"$f":"'Bill of Materials'!G1327","v":0},{"$f":"'Bill of Materials'!L1327","v":0},{"$f":"'Bill of Materials'!N1327","v":0},{"$f":"'Bill of Materials'!P1327","v":0},{"$f":"'Bill of Materials'!C1327","v":0},{"$f":"'Bill of Materials'!H1327","v":0},null,null,null,0,{"$f":"'Bill of Materials'!J1327","v":0},{"$f":"'Bill of Materials'!K1327","v":0},0]
[{"$f":"'Bill of Materials'!E1328+'Bill of Materials'!F1328","v":0},{"$f":"'Bill of Materials'!M1328","v":0},{"$f":"'Bill of Materials'!G1328","v":0},{"$f":"'Bill of Materials'!L1328","v":0},{"$f":"'Bill of Materials'!N1328","v":0},{"$f":"'Bill of Materials'!P1328","v":0},{"$f":"'Bill of Materials'!C1328","v":0},{"$f":"'Bill of Materials'!H1328","v":0},null,null,null,0,{"$f":"'Bill of Materials'!J1328","v":0},{"$f":"'Bill of Materials'!K1328","v":0},0]
[{"$f":"'Bill of Materials'!E1329+'Bill of Materials'!F1329","v":0},{"$f":"'Bill of Materials'!M1329","v":0},{"$f":"'Bill of Materials'!G1329","v":0},{"$f":"'Bill of Materials'!L1329","v":0},{"$f":"'Bill of Materials'!N1329","v":0},{"$f":"'Bill of Materials'!P1329","v":0},{"$f":"'Bill of Materials'!C1329","v":0},{"$f":"'Bill of Materials'!H1329","v":0},null,null,null,0,{"$f":"'Bill of Materials'!J1329","v":0},{"$f":"'Bill of Materials'!K1329","v":0},0]
[{"$f":"'Bill of Materials'!E1330+'Bill of Materials'!F1330","v":0},{"$f":"'Bill of Materials'!M1330","v":0},{"$f":"'Bill of Materials'!G1330","v":0},{"$f":"'Bill of Materials'!L1330","v":0},{"$f":"'Bill of Materials'!N1330","v":0},{"$f":"'Bill of Materials'!P1330","v":0},{"$f":"'Bill of Materials'!C1330","v":0},{"$f":"'Bill of Materials'!H1330","v":0},null,null,null,0,{"$f":"'Bill of Materials'!J1330","v":0},{"$f":"'Bill of Materials'!K1330","v":0},0]
[{"$f":"'Bill of Materials'!E1331+'Bill of Materials'!F1331","v":0},{"$f":"'Bill of Materials'!M1331","v":0},{"$f":"'Bill of Materials'!G1331","v":0},{"$f":"'Bill of Materials'!L1331","v":0},{"$f":"'Bill of Materials'!N1331","v":0},{"$f":"'Bill of Materials'!P1331","v":0},{"$f":"'Bill of Materials'!C1331","v":0},{"$f":"'Bill of Materials'!H1331","v":0},null,null,null,0,{"$f":"'Bill of Materials'!J1331","v":0},{"$f":"'Bill of Materials'!K1331","v":0},0]
[{"$f":"'Bill of Materials'!E1332+'Bill of Materials'!F1332","v":0},{"$f":"'Bill of Materials'!M1332","v":0},{"$f":"'Bill of Materials'!G1332","v":0},{"$f":"'Bill of Materials'!L1332","v":0},{"$f":"'Bill of Materials'!N1332","v":0},{"$f":"'Bill of Materials'!P1332","v":0},{"$f":"'Bill of Materials'!C1332","v":0},{"$f":"'Bill of Materials'!H1332","v":0},null,null,null,0,{"$f":"'Bill of Materials'!J1332","v":0},{"$f":"'Bill of Materials'!K1332","v":0},0]
[{"$f":"'Bill of Materials'!E1333+'Bill of Materials'!F1333","v":0},{"$f":"'Bill of Materials'!M1333","v":0},{"$f":"'Bill of Materials'!G1333","v":0},{"$f":"'Bill of Materials'!L1333","v":0},{"$f":"'Bill of Materials'!N1333","v":0},{"$f":"'Bill of Materials'!P1333","v":0},{"$f":"'Bill of Materials'!C1333","v":0},{"$f":"'Bill of Materials'!H1333","v":0},null,null,null,0,{"$f":"'Bill of Materials'!J1333","v":0},{"$f":"'Bill of Materials'!K1333","v":0},0]
[{"$f":"'Bill of Materials'!E1334+'Bill of Materials'!F1334","v":0},{"$f":"'Bill of Materials'!M1334","v":0},{"$f":"'Bill of Materials'!G1334","v":0},{"$f":"'Bill of Materials'!L1334","v":0},{"$f":"'Bill of Materials'!N1334","v":0},{"$f":"'Bill of Materials'!P1334","v":0},{"$f":"'Bill of Materials'!C1334","v":0},{"$f":"'Bill of Materials'!H1334","v":0},null,null,null,0,{"$f":"'Bill of Materials'!J1334","v":0},{"$f":"'Bill of Materials'!K1334","v":0},0]
[{"$f":"'Bill of Materials'!E1335+'Bill of Materials'!F1335","v":0},{"$f":"'Bill of Materials'!M1335","v":0},{"$f":"'Bill of Materials'!G1335","v":0},{"$f":"'Bill of Materials'!L1335","v":0},{"$f":"'Bill of Materials'!N1335","v":0},{"$f":"'Bill of Materials'!P1335","v":0},{"$f":"'Bill of Materials'!C1335","v":0},{"$f":"'Bill of Materials'!H1335","v":0},null,null,null,0,{"$f":"'Bill of Materials'!J1335","v":0},{"$f":"'Bill of Materials'!K1335","v":0},0]
[{"$f":"'Bill of Materials'!E1336+'Bill of Materials'!F1336","v":0},{"$f":"'Bill of Materials'!M1336","v":0},{"$f":"'Bill of Materials'!G1336","v":0},{"$f":"'Bill of Materials'!L1336","v":0},{"$f":"'Bill of Materials'!N1336","v":0},{"$f":"'Bill of Materials'!P1336","v":0},{"$f":"'Bill of Materials'!C1336","v":0},{"$f":"'Bill of Materials'!H1336","v":0},null,null,null,0,{"$f":"'Bill of Materials'!J1336","v":0},{"$f":"'Bill of Materials'!K1336","v":0},0]
[{"$f":"'Bill of Materials'!E1337+'Bill of Materials'!F1337","v":0},{"$f":"'Bill of Materials'!M1337","v":0},{"$f":"'Bill of Materials'!G1337","v":0},{"$f":"'Bill of Materials'!L1337","v":0},{"$f":"'Bill of Materials'!N1337","v":0},{"$f":"'Bill of Materials'!P1337","v":0},{"$f":"'Bill of Materials'!C1337","v":0},{"$f":"'Bill of Materials'!H1337","v":0},null,null,null,0,{"$f":"'Bill of Materials'!J1337","v":0},{"$f":"'Bill of Materials'!K1337","v":0},0]
[{"$f":"'Bill of Materials'!E1338+'Bill of Materials'!F1338","v":0},{"$f":"'Bill of Materials'!M1338","v":0},{"$f":"'Bill of Materials'!G1338","v":0},{"$f":"'Bill of Materials'!L1338","v":0},{"$f":"'Bill of Materials'!N1338","v":0},{"$f":"'Bill of Materials'!P1338","v":0},{"$f":"'Bill of Materials'!C1338","v":0},{"$f":"'Bill of Materials'!H1338","v":0},null,null,null,0,{"$f":"'Bill of Materials'!J1338","v":0},{"$f":"'Bill of Materials'!K1338","v":0},0]
[{"$f":"'Bill of Materials'!E1339+'Bill of Materials'!F1339","v":0},{"$f":"'Bill of Materials'!M1339","v":0},{"$f":"'Bill of Materials'!G1339","v":0},{"$f":"'Bill of Materials'!L1339","v":0},{"$f":"'Bill of Materials'!N1339","v":0},{"$f":"'Bill of Materials'!P1339","v":0},{"$f":"'Bill of Materials'!C1339","v":0},{"$f":"'Bill of Materials'!H1339","v":0},null,null,null,0,{"$f":"'Bill of Materials'!J1339","v":0},{"$f":"'Bill of Materials'!K1339","v":0},0]
[{"$f":"'Bill of Materials'!E1340+'Bill of Materials'!F1340","v":0},{"$f":"'Bill of Materials'!M1340","v":0},{"$f":"'Bill of Materials'!G1340","v":0},{"$f":"'Bill of Materials'!L1340","v":0},{"$f":"'Bill of Materials'!N1340","v":0},{"$f":"'Bill of Materials'!P1340","v":0},{"$f":"'Bill of Materials'!C1340","v":0},{"$f":"'Bill of Materials'!H1340","v":0},null,null,null,0,{"$f":"'Bill of Materials'!J1340","v":0},{"$f":"'Bill of Materials'!K1340","v":0},0]
[{"$f":"'Bill of Materials'!E1341+'Bill of Materials'!F1341","v":0},{"$f":"'Bill of Materials'!M1341","v":0},{"$f":"'Bill of Materials'!G1341","v":0},{"$f":"'Bill of Materials'!L1341","v":0},{"$f":"'Bill of Materials'!N1341","v":0},{"$f":"'Bill of Materials'!P1341","v":0},{"$f":"'Bill of Materials'!C1341","v":0},{"$f":"'Bill of Materials'!H1341","v":0},null,null,null,0,{"$f":"'Bill of Materials'!J1341","v":0},{"$f":"'Bill of Materials'!K1341","v":0},0]
[{"$f":"'Bill of Materials'!E1342+'Bill of Materials'!F1342","v":0},{"$f":"'Bill of Materials'!M1342","v":0},{"$f":"'Bill of Materials'!G1342","v":0},{"$f":"'Bill of Materials'!L1342","v":0},{"$f":"'Bill of Materials'!N1342","v":0},{"$f":"'Bill of Materials'!P1342","v":0},{"$f":"'Bill of Materials'!C1342","v":0},{"$f":"'Bill of Materials'!H1342","v":0},null,null,null,0,{"$f":"'Bill of Materials'!J1342","v":0},{"$f":"'Bill of Materials'!K1342","v":0},0]
[{"$f":"'Bill of Materials'!E1343+'Bill of Materials'!F1343","v":0},{"$f":"'Bill of Materials'!M1343","v":0},{"$f":"'Bill of Materials'!G1343","v":0},{"$f":"'Bill of Materials'!L1343","v":0},{"$f":"'Bill of Materials'!N1343","v":0},{"$f":"'Bill of Materials'!P1343","v":0},{"$f":"'Bill of Materials'!C1343","v":0},{"$f":"'Bill of Materials'!H1343","v":0},null,null,null,0,{"$f":"'Bill of Materials'!J1343","v":0},{"$f":"'Bill of Materials'!K1343","v":0},0]
[{"$f":"'Bill of Materials'!E1344+'Bill of Materials'!F1344","v":0},{"$f":"'Bill of Materials'!M1344","v":0},{"$f":"'Bill of Materials'!G1344","v":0},{"$f":"'Bill of Materials'!L1344","v":0},{"$f":"'Bill of Materials'!N1344","v":0},{"$f":"'Bill of Materials'!P1344","v":0},{"$f":"'Bill of Materials'!C1344","v":0},{"$f":"'Bill of Materials'!H1344","v":0},null,null,null,0,{"$f":"'Bill of Materials'!J1344","v":0},{"$f":"'Bill of Materials'!K1344","v":0},0]
[{"$f":"'Bill of Materials'!E1345+'Bill of Materials'!F1345","v":0},{"$f":"'Bill of Materials'!M1345","v":0},{"$f":"'Bill of Materials'!G1345","v":0},{"$f":"'Bill of Materials'!L1345","v":0},{"$f":"'Bill of Materials'!N1345","v":0},{"$f":"'Bill of Materials'!P1345","v":0},{"$f":"'Bill of Materials'!C1345","v":0},{"$f":"'Bill of Materials'!H1345","v":0},null,null,null,0,{"$f":"'Bill of Materials'!J1345","v":0},{"$f":"'Bill of Materials'!K1345","v":0},0]
[{"$f":"'Bill of Materials'!E1346+'Bill of Materials'!F1346","v":0},{"$f":"'Bill of Materials'!M1346","v":0},{"$f":"'Bill of Materials'!G1346","v":0},{"$f":"'Bill of Materials'!L1346","v":0},{"$f":"'Bill of Materials'!N1346","v":0},{"$f":"'Bill of Materials'!P1346","v":0},{"$f":"'Bill of Materials'!C1346","v":0},{"$f":"'Bill of Materials'!H1346","v":0},null,null,null,0,{"$f":"'Bill of Materials'!J1346","v":0},{"$f":"'Bill of Materials'!K1346","v":0},0]
[{"$f":"'Bill of Materials'!E1347+'Bill of Materials'!F1347","v":0},{"$f":"'Bill of Materials'!M1347","v":0},{"$f":"'Bill of Materials'!G1347","v":0},{"$f":"'Bill of Materials'!L1347","v":0},{"$f":"'Bill of Materials'!N1347","v":0},{"$f":"'Bill of Materials'!P1347","v":0},{"$f":"'Bill of Materials'!C1347","v":0},{"$f":"'Bill of Materials'!H1347","v":0},null,null,null,0,{"$f":"'Bill of Materials'!J1347","v":0},{"$f":"'Bill of Materials'!K1347","v":0},0]
[{"$f":"'Bill of Materials'!E1348+'Bill of Materials'!F1348","v":0},{"$f":"'Bill of Materials'!M1348","v":0},{"$f":"'Bill of Materials'!G1348","v":0},{"$f":"'Bill of Materials'!L1348","v":0},{"$f":"'Bill of Materials'!N1348","v":0},{"$f":"'Bill of Materials'!P1348","v":0},{"$f":"'Bill of Materials'!C1348","v":0},{"$f":"'Bill of Materials'!H1348","v":0},null,null,null,0,{"$f":"'Bill of Materials'!J1348","v":0},{"$f":"'Bill of Materials'!K1348","v":0},0]
[{"$f":"'Bill of Materials'!E1349+'Bill of Materials'!F1349","v":0},{"$f":"'Bill of Materials'!M1349","v":0},{"$f":"'Bill of Materials'!G1349","v":0},{"$f":"'Bill of Materials'!L1349","v":0},{"$f":"'Bill of Materials'!N1349","v":0},{"$f":"'Bill of Materials'!P1349","v":0},{"$f":"'Bill of Materials'!C1349","v":0},{"$f":"'Bill of Materials'!H1349","v":0},null,null,null,0,{"$f":"'Bill of Materials'!J1349","v":0},{"$f":"'Bill of Materials'!K1349","v":0},0]
[{"$f":"'Bill of Materials'!E1350+'Bill of Materials'!F1350","v":0},{"$f":"'Bill of Materials'!M1350","v":0},{"$f":"'Bill of Materials'!G1350","v":0},{"$f":"'Bill of Materials'!L1350","v":0},{"$f":"'Bill of Materials'!N1350","v":0},{"$f":"'Bill of Materials'!P1350","v":0},{"$f":"'Bill of Materials'!C1350","v":0},{"$f":"'Bill of Materials'!H1350","v":0},null,null,null,0,{"$f":"'Bill of Materials'!J1350","v":0},{"$f":"'Bill of Materials'!K1350","v":0},0]
[{"$f":"'Bill of Materials'!E1351+'Bill of Materials'!F1351","v":0},{"$f":"'Bill of Materials'!M1351","v":0},{"$f":"'Bill of Materials'!G1351","v":0},{"$f":"'Bill of Materials'!L1351","v":0},{"$f":"'Bill of Materials'!N1351","v":0},{"$f":"'Bill of Materials'!P1351","v":0},{"$f":"'Bill of Materials'!C1351","v":0},{"$f":"'Bill of Materials'!H1351","v":0},null,null,null,0,{"$f":"'Bill of Materials'!J1351","v":0},{"$f":"'Bill of Materials'!K1351","v":0},0]
[{"$f":"'Bill of Materials'!E1352+'Bill of Materials'!F1352","v":0},{"$f":"'Bill of Materials'!M1352","v":0},{"$f":"'Bill of Materials'!G1352","v":0},{"$f":"'Bill of Materials'!L1352","v":0},{"$f":"'Bill of Materials'!N1352","v":0},{"$f":"'Bill of Materials'!P1352","v":0},{"$f":"'Bill of Materials'!C1352","v":0},{"$f":"'Bill of Materials'!H1352","v":0},null,null,null,0,{"$f":"'Bill of Materials'!J1352","v":0},{"$f":"'Bill of Materials'!K1352","v":0},0]
[{"$f":"'Bill of Materials'!E1353+'Bill of Materials'!F1353","v":0},{"$f":"'Bill of Materials'!M1353","v":0},{"$f":"'Bill of Materials'!G1353","v":0},{"$f":"'Bill of Materials'!L1353","v":0},{"$f":"'Bill of Materials'!N1353","v":0},{"$f":"'Bill of Materials'!P1353","v":0},{"$f":"'Bill of Materials'!C1353","v":0},{"$f":"'Bill of Materials'!H1353","v":0},null,null,null,0,{"$f":"'Bill of Materials'!J1353","v":0},{"$f":"'Bill of Materials'!K1353","v":0},0]
[{"$f":"'Bill of Materials'!E1354+'Bill of Materials'!F1354","v":0},{"$f":"'Bill of Materials'!M1354","v":0},{"$f":"'Bill of Materials'!G1354","v":0},{"$f":"'Bill of Materials'!L1354","v":0},{"$f":"'Bill of Materials'!N1354","v":0},{"$f":"'Bill of Materials'!P1354","v":0},{"$f":"'Bill of Materials'!C1354","v":0},{"$f":"'Bill of Materials'!H1354","v":0},null,null,null,0,{"$f":"'Bill of Materials'!J1354","v":0},{"$f":"'Bill of Materials'!K1354","v":0},0]
[{"$f":"'Bill of Materials'!E1355+'Bill of Materials'!F1355","v":0},{"$f":"'Bill of Materials'!M1355","v":0},{"$f":"'Bill of Materials'!G1355","v":0},{"$f":"'Bill of Materials'!L1355","v":0},{"$f":"'Bill of Materials'!N1355","v":0},{"$f":"'Bill of Materials'!P1355","v":0},{"$f":"'Bill of Materials'!C1355","v":0},{"$f":"'Bill of Materials'!H1355","v":0},null,null,null,0,{"$f":"'Bill of Materials'!J1355","v":0},{"$f":"'Bill of Materials'!K1355","v":0},0]
[{"$f":"'Bill of Materials'!E1356+'Bill of Materials'!F1356","v":0},{"$f":"'Bill of Materials'!M1356","v":0},{"$f":"'Bill of Materials'!G1356","v":0},{"$f":"'Bill of Materials'!L1356","v":0},{"$f":"'Bill of Materials'!N1356","v":0},{"$f":"'Bill of Materials'!P1356","v":0},{"$f":"'Bill of Materials'!C1356","v":0},{"$f":"'Bill of Materials'!H1356","v":0},null,null,null,0,{"$f":"'Bill of Materials'!J1356","v":0},{"$f":"'Bill of Materials'!K1356","v":0},0]
[{"$f":"'Bill of Materials'!E1357+'Bill of Materials'!F1357","v":0},{"$f":"'Bill of Materials'!M1357","v":0},{"$f":"'Bill of Materials'!G1357","v":0},{"$f":"'Bill of Materials'!L1357","v":0},{"$f":"'Bill of Materials'!N1357","v":0},{"$f":"'Bill of Materials'!P1357","v":0},{"$f":"'Bill of Materials'!C1357","v":0},{"$f":"'Bill of Materials'!H1357","v":0},null,null,null,0,{"$f":"'Bill of Materials'!J1357","v":0},{"$f":"'Bill of Materials'!K1357","v":0},0]
[{"$f":"'Bill of Materials'!E1358+'Bill of Materials'!F1358","v":0},{"$f":"'Bill of Materials'!M1358","v":0},{"$f":"'Bill of Materials'!G1358","v":0},{"$f":"'Bill of Materials'!L1358","v":0},{"$f":"'Bill of Materials'!N1358","v":0},{"$f":"'Bill of Materials'!P1358","v":0},{"$f":"'Bill of Materials'!C1358","v":0},{"$f":"'Bill of Materials'!H1358","v":0},null,null,null,0,{"$f":"'Bill of Materials'!J1358","v":0},{"$f":"'Bill of Materials'!K1358","v":0},0]
[{"$f":"'Bill of Materials'!E1359+'Bill of Materials'!F1359","v":0},{"$f":"'Bill of Materials'!M1359","v":0},{"$f":"'Bill of Materials'!G1359","v":0},{"$f":"'Bill of Materials'!L1359","v":0},{"$f":"'Bill of Materials'!N1359","v":0},{"$f":"'Bill of Materials'!P1359","v":0},{"$f":"'Bill of Materials'!C1359","v":0},{"$f":"'Bill of Materials'!H1359","v":0},null,null,null,0,{"$f":"'Bill of Materials'!J1359","v":0},{"$f":"'Bill of Materials'!K1359","v":0},0]
[{"$f":"'Bill of Materials'!E1360+'Bill of Materials'!F1360","v":0},{"$f":"'Bill of Materials'!M1360","v":0},{"$f":"'Bill of Materials'!G1360","v":0},{"$f":"'Bill of Materials'!L1360","v":0},{"$f":"'Bill of Materials'!N1360","v":0},{"$f":"'Bill of Materials'!P1360","v":0},{"$f":"'Bill of Materials'!C1360","v":0},{"$f":"'Bill of Materials'!H1360","v":0},null,null,null,0,{"$f":"'Bill of Materials'!J1360","v":0},{"$f":"'Bill of Materials'!K1360","v":0},0]
[{"$f":"'Bill of Materials'!E1361+'Bill of Materials'!F1361","v":0},{"$f":"'Bill of Materials'!M1361","v":0},{"$f":"'Bill of Materials'!G1361","v":0},{"$f":"'Bill of Materials'!L1361","v":0},{"$f":"'Bill of Materials'!N1361","v":0},{"$f":"'Bill of Materials'!P1361","v":0},{"$f":"'Bill of Materials'!C1361","v":0},{"$f":"'Bill of Materials'!H1361","v":0},null,null,null,0,{"$f":"'Bill of Materials'!J1361","v":0},{"$f":"'Bill of Materials'!K1361","v":0},0]
[{"$f":"'Bill of Materials'!E1362+'Bill of Materials'!F1362","v":0},{"$f":"'Bill of Materials'!M1362","v":0},{"$f":"'Bill of Materials'!G1362","v":0},{"$f":"'Bill of Materials'!L1362","v":0},{"$f":"'Bill of Materials'!N1362","v":0},{"$f":"'Bill of Materials'!P1362","v":0},{"$f":"'Bill of Materials'!C1362","v":0},{"$f":"'Bill of Materials'!H1362","v":0},null,null,null,0,{"$f":"'Bill of Materials'!J1362","v":0},{"$f":"'Bill of Materials'!K1362","v":0},0]
[{"$f":"'Bill of Materials'!E1363+'Bill of Materials'!F1363","v":0},{"$f":"'Bill of Materials'!M1363","v":0},{"$f":"'Bill of Materials'!G1363","v":0},{"$f":"'Bill of Materials'!L1363","v":0},{"$f":"'Bill of Materials'!N1363","v":0},{"$f":"'Bill of Materials'!P1363","v":0},{"$f":"'Bill of Materials'!C1363","v":0},{"$f":"'Bill of Materials'!H1363","v":0},null,null,null,0,{"$f":"'Bill of Materials'!J1363","v":0},{"$f":"'Bill of Materials'!K1363","v":0},0]
[{"$f":"'Bill of Materials'!E1364+'Bill of Materials'!F1364","v":0},{"$f":"'Bill of Materials'!M1364","v":0},{"$f":"'Bill of Materials'!G1364","v":0},{"$f":"'Bill of Materials'!L1364","v":0},{"$f":"'Bill of Materials'!N1364","v":0},{"$f":"'Bill of Materials'!P1364","v":0},{"$f":"'Bill of Materials'!C1364","v":0},{"$f":"'Bill of Materials'!H1364","v":0},null,null,null,0,{"$f":"'Bill of Materials'!J1364","v":0},{"$f":"'Bill of Materials'!K1364","v":0},0]
[{"$f":"'Bill of Materials'!E1365+'Bill of Materials'!F1365","v":0},{"$f":"'Bill of Materials'!M1365","v":0},{"$f":"'Bill of Materials'!G1365","v":0},{"$f":"'Bill of Materials'!L1365","v":0},{"$f":"'Bill of Materials'!N1365","v":0},{"$f":"'Bill of Materials'!P1365","v":0},{"$f":"'Bill of Materials'!C1365","v":0},{"$f":"'Bill of Materials'!H1365","v":0},null,null,null,0,{"$f":"'Bill of Materials'!J1365","v":0},{"$f":"'Bill of Materials'!K1365","v":0},0]
[{"$f":"'Bill of Materials'!E1366+'Bill of Materials'!F1366","v":0},{"$f":"'Bill of Materials'!M1366","v":0},{"$f":"'Bill of Materials'!G1366","v":0},{"$f":"'Bill of Materials'!L1366","v":0},{"$f":"'Bill of Materials'!N1366","v":0},{"$f":"'Bill of Materials'!P1366","v":0},{"$f":"'Bill of Materials'!C1366","v":0},{"$f":"'Bill of Materials'!H1366","v":0},null,null,null,0,{"$f":"'Bill of Materials'!J1366","v":0},{"$f":"'Bill of Materials'!K1366","v":0},0]
[{"$f":"'Bill of Materials'!E1367+'Bill of Materials'!F1367","v":0},{"$f":"'Bill of Materials'!M1367","v":0},{"$f":"'Bill of Materials'!G1367","v":0},{"$f":"'Bill of Materials'!L1367","v":0},{"$f":"'Bill of Materials'!N1367","v":0},{"$f":"'Bill of Materials'!P1367","v":0},{"$f":"'Bill of Materials'!C1367","v":0},{"$f":"'Bill of Materials'!H1367","v":0},null,null,null,0,{"$f":"'Bill of Materials'!J1367","v":0},{"$f":"'Bill of Materials'!K1367","v":0},0]
[{"$f":"'Bill of Materials'!E1368+'Bill of Materials'!F1368","v":0},{"$f":"'Bill of Materials'!M1368","v":0},{"$f":"'Bill of Materials'!G1368","v":0},{"$f":"'Bill of Materials'!L1368","v":0},{"$f":"'Bill of Materials'!N1368","v":0},{"$f":"'Bill of Materials'!P1368","v":0},{"$f":"'Bill of Materials'!C1368","v":0},{"$f":"'Bill of Materials'!H1368","v":0},null,null,null,0,{"$f":"'Bill of Materials'!J1368","v":0},{"$f":"'Bill of Materials'!K1368","v":0},0]
[{"$f":"'Bill of Materials'!E1369+'Bill of Materials'!F1369","v":0},{"$f":"'Bill of Materials'!M1369","v":0},{"$f":"'Bill of Materials'!G1369","v":0},{"$f":"'Bill of Materials'!L1369","v":0},{"$f":"'Bill of Materials'!N1369","v":0},{"$f":"'Bill of Materials'!P1369","v":0},{"$f":"'Bill of Materials'!C1369","v":0},{"$f":"'Bill of Materials'!H1369","v":0},null,null,null,0,{"$f":"'Bill of Materials'!J1369","v":0},{"$f":"'Bill of Materials'!K1369","v":0},0]
[{"$f":"'Bill of Materials'!E1370+'Bill of Materials'!F1370","v":0},{"$f":"'Bill of Materials'!M1370","v":0},{"$f":"'Bill of Materials'!G1370","v":0},{"$f":"'Bill of Materials'!L1370","v":0},{"$f":"'Bill of Materials'!N1370","v":0},{"$f":"'Bill of Materials'!P1370","v":0},{"$f":"'Bill of Materials'!C1370","v":0},{"$f":"'Bill of Materials'!H1370","v":0},null,null,null,0,{"$f":"'Bill of Materials'!J1370","v":0},{"$f":"'Bill of Materials'!K1370","v":0},0]
[{"$f":"'Bill of Materials'!E1371+'Bill of Materials'!F1371","v":0},{"$f":"'Bill of Materials'!M1371","v":0},{"$f":"'Bill of Materials'!G1371","v":0},{"$f":"'Bill of Materials'!L1371","v":0},{"$f":"'Bill of Materials'!N1371","v":0},{"$f":"'Bill of Materials'!P1371","v":0},{"$f":"'Bill of Materials'!C1371","v":0},{"$f":"'Bill of Materials'!H1371","v":0},null,null,null,0,{"$f":"'Bill of Materials'!J1371","v":0},{"$f":"'Bill of Materials'!K1371","v":0},0]
[{"$f":"'Bill of Materials'!E1372+'Bill of Materials'!F1372","v":0},{"$f":"'Bill of Materials'!M1372","v":0},{"$f":"'Bill of Materials'!G1372","v":0},{"$f":"'Bill of Materials'!L1372","v":0},{"$f":"'Bill of Materials'!N1372","v":0},{"$f":"'Bill of Materials'!P1372","v":0},{"$f":"'Bill of Materials'!C1372","v":0},{"$f":"'Bill of Materials'!H1372","v":0},null,null,null,0,{"$f":"'Bill of Materials'!J1372","v":0},{"$f":"'Bill of Materials'!K1372","v":0},0]
[{"$f":"'Bill of Materials'!E1373+'Bill of Materials'!F1373","v":0},{"$f":"'Bill of Materials'!M1373","v":0},{"$f":"'Bill of Materials'!G1373","v":0},{"$f":"'Bill of Materials'!L1373","v":0},{"$f":"'Bill of Materials'!N1373","v":0},{"$f":"'Bill of Materials'!P1373","v":0},{"$f":"'Bill of Materials'!C1373","v":0},{"$f":"'Bill of Materials'!H1373","v":0},null,null,null,0,{"$f":"'Bill of Materials'!J1373","v":0},{"$f":"'Bill of Materials'!K1373","v":0},0]
[{"$f":"'Bill of Materials'!E1374+'Bill of Materials'!F1374","v":0},{"$f":"'Bill of Materials'!M1374","v":0},{"$f":"'Bill of Materials'!G1374","v":0},{"$f":"'Bill of Materials'!L1374","v":0},{"$f":"'Bill of Materials'!N1374","v":0},{"$f":"'Bill of Materials'!P1374","v":0},{"$f":"'Bill of Materials'!C1374","v":0},{"$f":"'Bill of Materials'!H1374","v":0},null,null,null,0,{"$f":"'Bill of Materials'!J1374","v":0},{"$f":"'Bill of Materials'!K1374","v":0},0]
[{"$f":"'Bill of Materials'!E1375+'Bill of Materials'!F1375","v":0},{"$f":"'Bill of Materials'!M1375","v":0},{"$f":"'Bill of Materials'!G1375","v":0},{"$f":"'Bill of Materials'!L1375","v":0},{"$f":"'Bill of Materials'!N1375","v":0},{"$f":"'Bill of Materials'!P1375","v":0},{"$f":"'Bill of Materials'!C1375","v":0},{"$f":"'Bill of Materials'!H1375","v":0},null,null,null,0,{"$f":"'Bill of Materials'!J1375","v":0},{"$f":"'Bill of Materials'!K1375","v":0},0]
[{"$f":"'Bill of Materials'!E1376+'Bill of Materials'!F1376","v":0},{"$f":"'Bill of Materials'!M1376","v":0},{"$f":"'Bill of Materials'!G1376","v":0},{"$f":"'Bill of Materials'!L1376","v":0},{"$f":"'Bill of Materials'!N1376","v":0},{"$f":"'Bill of Materials'!P1376","v":0},{"$f":"'Bill of Materials'!C1376","v":0},{"$f":"'Bill of Materials'!H1376","v":0},null,null,null,0,{"$f":"'Bill of Materials'!J1376","v":0},{"$f":"'Bill of Materials'!K1376","v":0},0]
[{"$f":"'Bill of Materials'!E1377+'Bill of Materials'!F1377","v":0},{"$f":"'Bill of Materials'!M1377","v":0},{"$f":"'Bill of Materials'!G1377","v":0},{"$f":"'Bill of Materials'!L1377","v":0},{"$f":"'Bill of Materials'!N1377","v":0},{"$f":"'Bill of Materials'!P1377","v":0},{"$f":"'Bill of Materials'!C1377","v":0},{"$f":"'Bill of Materials'!H1377","v":0},null,null,null,0,{"$f":"'Bill of Materials'!J1377","v":0},{"$f":"'Bill of Materials'!K1377","v":0},0]
[{"$f":"'Bill of Materials'!E1378+'Bill of Materials'!F1378","v":0},{"$f":"'Bill of Materials'!M1378","v":0},{"$f":"'Bill of Materials'!G1378","v":0},{"$f":"'Bill of Materials'!L1378","v":0},{"$f":"'Bill of Materials'!N1378","v":0},{"$f":"'Bill of Materials'!P1378","v":0},{"$f":"'Bill of Materials'!C1378","v":0},{"$f":"'Bill of Materials'!H1378","v":0},null,null,null,0,{"$f":"'Bill of Materials'!J1378","v":0},{"$f":"'Bill of Materials'!K1378","v":0},0]
[{"$f":"'Bill of Materials'!E1379+'Bill of Materials'!F1379","v":0},{"$f":"'Bill of Materials'!M1379","v":0},{"$f":"'Bill of Materials'!G1379","v":0},{"$f":"'Bill of Materials'!L1379","v":0},{"$f":"'Bill of Materials'!N1379","v":0},{"$f":"'Bill of Materials'!P1379","v":0},{"$f":"'Bill of Materials'!C1379","v":0},{"$f":"'Bill of Materials'!H1379","v":0},null,null,null,0,{"$f":"'Bill of Materials'!J1379","v":0},{"$f":"'Bill of Materials'!K1379","v":0},0]
[{"$f":"'Bill of Materials'!E1380+'Bill of Materials'!F1380","v":0},{"$f":"'Bill of Materials'!M1380","v":0},{"$f":"'Bill of Materials'!G1380","v":0},{"$f":"'Bill of Materials'!L1380","v":0},{"$f":"'Bill of Materials'!N1380","v":0},{"$f":"'Bill of Materials'!P1380","v":0},{"$f":"'Bill of Materials'!C1380","v":0},{"$f":"'Bill of Materials'!H1380","v":0},null,null,null,0,{"$f":"'Bill of Materials'!J1380","v":0},{"$f":"'Bill of Materials'!K1380","v":0},0]
[{"$f":"'Bill of Materials'!E1381+'Bill of Materials'!F1381","v":0},{"$f":"'Bill of Materials'!M1381","v":0},{"$f":"'Bill of Materials'!G1381","v":0},{"$f":"'Bill of Materials'!L1381","v":0},{"$f":"'Bill of Materials'!N1381","v":0},{"$f":"'Bill of Materials'!P1381","v":0},{"$f":"'Bill of Materials'!C1381","v":0},{"$f":"'Bill of Materials'!H1381","v":0},null,null,null,0,{"$f":"'Bill of Materials'!J1381","v":0},{"$f":"'Bill of Materials'!K1381","v":0},0]
[{"$f":"'Bill of Materials'!E1382+'Bill of Materials'!F1382","v":0},{"$f":"'Bill of Materials'!M1382","v":0},{"$f":"'Bill of Materials'!G1382","v":0},{"$f":"'Bill of Materials'!L1382","v":0},{"$f":"'Bill of Materials'!N1382","v":0},{"$f":"'Bill of Materials'!P1382","v":0},{"$f":"'Bill of Materials'!C1382","v":0},{"$f":"'Bill of Materials'!H1382","v":0},null,null,null,0,{"$f":"'Bill of Materials'!J1382","v":0},{"$f":"'Bill of Materials'!K1382","v":0},0]
[{"$f":"'Bill of Materials'!E1383+'Bill of Materials'!F1383","v":0},{"$f":"'Bill of Materials'!M1383","v":0},{"$f":"'Bill of Materials'!G1383","v":0},{"$f":"'Bill of Materials'!L1383","v":0},{"$f":"'Bill of Materials'!N1383","v":0},{"$f":"'Bill of Materials'!P1383","v":0},{"$f":"'Bill of Materials'!C1383","v":0},{"$f":"'Bill of Materials'!H1383","v":0},null,null,null,0,{"$f":"'Bill of Materials'!J1383","v":0},{"$f":"'Bill of Materials'!K1383","v":0},0]
[{"$f":"'Bill of Materials'!E1384+'Bill of Materials'!F1384","v":0},{"$f":"'Bill of Materials'!M1384","v":0},{"$f":"'Bill of Materials'!G1384","v":0},{"$f":"'Bill of Materials'!L1384","v":0},{"$f":"'Bill of Materials'!N1384","v":0},{"$f":"'Bill of Materials'!P1384","v":0},{"$f":"'Bill of Materials'!C1384","v":0},{"$f":"'Bill of Materials'!H1384","v":0},null,null,null,0,{"$f":"'Bill of Materials'!J1384","v":0},{"$f":"'Bill of Materials'!K1384","v":0},0]
[{"$f":"'Bill of Materials'!E1385+'Bill of Materials'!F1385","v":0},{"$f":"'Bill of Materials'!M1385","v":0},{"$f":"'Bill of Materials'!G1385","v":0},{"$f":"'Bill of Materials'!L1385","v":0},{"$f":"'Bill of Materials'!N1385","v":0},{"$f":"'Bill of Materials'!P1385","v":0},{"$f":"'Bill of Materials'!C1385","v":0},{"$f":"'Bill of Materials'!H1385","v":0},null,null,null,0,{"$f":"'Bill of Materials'!J1385","v":0},{"$f":"'Bill of Materials'!K1385","v":0},0]
[{"$f":"'Bill of Materials'!E1386+'Bill of Materials'!F1386","v":0},{"$f":"'Bill of Materials'!M1386","v":0},{"$f":"'Bill of Materials'!G1386","v":0},{"$f":"'Bill of Materials'!L1386","v":0},{"$f":"'Bill of Materials'!N1386","v":0},{"$f":"'Bill of Materials'!P1386","v":0},{"$f":"'Bill of Materials'!C1386","v":0},{"$f":"'Bill of Materials'!H1386","v":0},null,null,null,0,{"$f":"'Bill of Materials'!J1386","v":0},{"$f":"'Bill of Materials'!K1386","v":0},0]
[{"$f":"'Bill of Materials'!E1387+'Bill of Materials'!F1387","v":0},{"$f":"'Bill of Materials'!M1387","v":0},{"$f":"'Bill of Materials'!G1387","v":0},{"$f":"'Bill of Materials'!L1387","v":0},{"$f":"'Bill of Materials'!N1387","v":0},{"$f":"'Bill of Materials'!P1387","v":0},{"$f":"'Bill of Materials'!C1387","v":0},{"$f":"'Bill of Materials'!H1387","v":0},null,null,null,0,{"$f":"'Bill of Materials'!J1387","v":0},{"$f":"'Bill of Materials'!K1387","v":0},0]
[{"$f":"'Bill of Materials'!E1388+'Bill of Materials'!F1388","v":0},{"$f":"'Bill of Materials'!M1388","v":0},{"$f":"'Bill of Materials'!G1388","v":0},{"$f":"'Bill of Materials'!L1388","v":0},{"$f":"'Bill of Materials'!N1388","v":0},{"$f":"'Bill of Materials'!P1388","v":0},{"$f":"'Bill of Materials'!C1388","v":0},{"$f":"'Bill of Materials'!H1388","v":0},null,null,null,0,{"$f":"'Bill of Materials'!J1388","v":0},{"$f":"'Bill of Materials'!K1388","v":0},0]
[{"$f":"'Bill of Materials'!E1389+'Bill of Materials'!F1389","v":0},{"$f":"'Bill of Materials'!M1389","v":0},{"$f":"'Bill of Materials'!G1389","v":0},{"$f":"'Bill of Materials'!L1389","v":0},{"$f":"'Bill of Materials'!N1389","v":0},{"$f":"'Bill of Materials'!P1389","v":0},{"$f":"'Bill of Materials'!C1389","v":0},{"$f":"'Bill of Materials'!H1389","v":0},null,null,null,{"$f":"E1432*A1432","v":0},{"$f":"'Bill of Materials'!J1389","v":0},{"$f":"'Bill of Materials'!K1389","v":0},{"$f":"IF(A1432>0,1,0)","v":0}]
[{"$f":"'Bill of Materials'!E1390+'Bill of Materials'!F1390","v":0},{"$f":"'Bill of Materials'!M1390","v":0},{"$f":"'Bill of Materials'!G1390","v":0},{"$f":"'Bill of Materials'!L1390","v":0},{"$f":"'Bill of Materials'!N1390","v":0},{"$f":"'Bill of Materials'!P1390","v":0},{"$f":"'Bill of Materials'!C1390","v":0},{"$f":"'Bill of Materials'!H1390","v":0},null,null,null,0,{"$f":"'Bill of Materials'!J1390","v":0},{"$f":"'Bill of Materials'!K1390","v":0},0]
[{"$f":"'Bill of Materials'!E1391+'Bill of Materials'!F1391","v":0},{"$f":"'Bill of Materials'!M1391","v":0},{"$f":"'Bill of Materials'!G1391","v":0},{"$f":"'Bill of Materials'!L1391","v":0},{"$f":"'Bill of Materials'!N1391","v":0},{"$f":"'Bill of Materials'!P1391","v":0},{"$f":"'Bill of Materials'!C1391","v":0},{"$f":"'Bill of Materials'!H1391","v":0},null,null,null,0,{"$f":"'Bill of Materials'!J1391","v":0},{"$f":"'Bill of Materials'!K1391","v":0},0]
[{"$f":"'Bill of Materials'!E1392+'Bill of Materials'!F1392","v":0},{"$f":"'Bill of Materials'!M1392","v":0},{"$f":"'Bill of Materials'!G1392","v":0},{"$f":"'Bill of Materials'!L1392","v":0},{"$f":"'Bill of Materials'!N1392","v":0},{"$f":"'Bill of Materials'!P1392","v":0},{"$f":"'Bill of Materials'!C1392","v":0},{"$f":"'Bill of Materials'!H1392","v":0},null,null,null,0,{"$f":"'Bill of Materials'!J1392","v":0},{"$f":"'Bill of Materials'!K1392","v":0},0]
[{"$f":"'Bill of Materials'!E1393+'Bill of Materials'!F1393","v":0},{"$f":"'Bill of Materials'!M1393","v":0},{"$f":"'Bill of Materials'!G1393","v":0},{"$f":"'Bill of Materials'!L1393","v":0},{"$f":"'Bill of Materials'!N1393","v":0},{"$f":"'Bill of Materials'!P1393","v":0},{"$f":"'Bill of Materials'!C1393","v":0},{"$f":"'Bill of Materials'!H1393","v":0},null,null,null,0,{"$f":"'Bill of Materials'!J1393","v":0},{"$f":"'Bill of Materials'!K1393","v":0},0]
[{"$f":"'Bill of Materials'!E1394+'Bill of Materials'!F1394","v":0},{"$f":"'Bill of Materials'!M1394","v":0},{"$f":"'Bill of Materials'!G1394","v":0},{"$f":"'Bill of Materials'!L1394","v":0},{"$f":"'Bill of Materials'!N1394","v":0},{"$f":"'Bill of Materials'!P1394","v":0},{"$f":"'Bill of Materials'!C1394","v":0},{"$f":"'Bill of Materials'!H1394","v":0},null,null,null,0,{"$f":"'Bill of Materials'!J1394","v":0},{"$f":"'Bill of Materials'!K1394","v":0},0]
[{"$f":"'Bill of Materials'!E1395+'Bill of Materials'!F1395","v":0},{"$f":"'Bill of Materials'!M1395","v":0},{"$f":"'Bill of Materials'!G1395","v":0},{"$f":"'Bill of Materials'!L1395","v":0},{"$f":"'Bill of Materials'!N1395","v":0},{"$f":"'Bill of Materials'!P1395","v":0},{"$f":"'Bill of Materials'!C1395","v":0},{"$f":"'Bill of Materials'!H1395","v":0},null,null,null,0,{"$f":"'Bill of Materials'!J1395","v":0},{"$f":"'Bill of Materials'!K1395","v":0},0]
[{"$f":"'Bill of Materials'!E1396+'Bill of Materials'!F1396","v":0},{"$f":"'Bill of Materials'!M1396","v":0},{"$f":"'Bill of Materials'!G1396","v":0},{"$f":"'Bill of Materials'!L1396","v":0},{"$f":"'Bill of Materials'!N1396","v":0},{"$f":"'Bill of Materials'!P1396","v":0},{"$f":"'Bill of Materials'!C1396","v":0},{"$f":"'Bill of Materials'!H1396","v":0},null,null,null,0,{"$f":"'Bill of Materials'!J1396","v":0},{"$f":"'Bill of Materials'!K1396","v":0},0]
[{"$f":"'Bill of Materials'!E1397+'Bill of Materials'!F1397","v":0},{"$f":"'Bill of Materials'!M1397","v":0},{"$f":"'Bill of Materials'!G1397","v":0},{"$f":"'Bill of Materials'!L1397","v":0},{"$f":"'Bill of Materials'!N1397","v":0},{"$f":"'Bill of Materials'!P1397","v":0},{"$f":"'Bill of Materials'!C1397","v":0},{"$f":"'Bill of Materials'!H1397","v":0},null,null,null,0,{"$f":"'Bill of Materials'!J1397","v":0},{"$f":"'Bill of Materials'!K1397","v":0},0]
[{"$f":"'Bill of Materials'!E1398+'Bill of Materials'!F1398","v":0},{"$f":"'Bill of Materials'!M1398","v":0},{"$f":"'Bill of Materials'!G1398","v":0},{"$f":"'Bill of Materials'!L1398","v":0},{"$f":"'Bill of Materials'!N1398","v":0},{"$f":"'Bill of Materials'!P1398","v":0},{"$f":"'Bill of Materials'!C1398","v":0},{"$f":"'Bill of Materials'!H1398","v":0},null,null,null,0,{"$f":"'Bill of Materials'!J1398","v":0},{"$f":"'Bill of Materials'!K1398","v":0},0]
[{"$f":"'Bill of Materials'!E1399+'Bill of Materials'!F1399","v":0},{"$f":"'Bill of Materials'!M1399","v":0},{"$f":"'Bill of Materials'!G1399","v":0},{"$f":"'Bill of Materials'!L1399","v":0},{"$f":"'Bill of Materials'!N1399","v":0},{"$f":"'Bill of Materials'!P1399","v":0},{"$f":"'Bill of Materials'!C1399","v":0},{"$f":"'Bill of Materials'!H1399","v":0},null,null,null,0,{"$f":"'Bill of Materials'!J1399","v":0},{"$f":"'Bill of Materials'!K1399","v":0},0]
[{"$f":"'Bill of Materials'!E1400+'Bill of Materials'!F1400","v":0},{"$f":"'Bill of Materials'!M1400","v":0},{"$f":"'Bill of Materials'!G1400","v":0},{"$f":"'Bill of Materials'!L1400","v":0},{"$f":"'Bill of Materials'!N1400","v":0},{"$f":"'Bill of Materials'!P1400","v":0},{"$f":"'Bill of Materials'!C1400","v":0},{"$f":"'Bill of Materials'!H1400","v":0},null,null,null,0,{"$f":"'Bill of Materials'!J1400","v":0},{"$f":"'Bill of Materials'!K1400","v":0},0]
[{"$f":"'Bill of Materials'!E1401+'Bill of Materials'!F1401","v":0},{"$f":"'Bill of Materials'!M1401","v":0},{"$f":"'Bill of Materials'!G1401","v":0},{"$f":"'Bill of Materials'!L1401","v":0},{"$f":"'Bill of Materials'!N1401","v":0},{"$f":"'Bill of Materials'!P1401","v":0},{"$f":"'Bill of Materials'!C1401","v":0},{"$f":"'Bill of Materials'!H1401","v":0},null,null,null,0,{"$f":"'Bill of Materials'!J1401","v":0},{"$f":"'Bill of Materials'!K1401","v":0},0]
[{"$f":"'Bill of Materials'!E1402+'Bill of Materials'!F1402","v":0},{"$f":"'Bill of Materials'!M1402","v":0},{"$f":"'Bill of Materials'!G1402","v":0},{"$f":"'Bill of Materials'!L1402","v":0},{"$f":"'Bill of Materials'!N1402","v":0},{"$f":"'Bill of Materials'!P1402","v":0},{"$f":"'Bill of Materials'!C1402","v":0},{"$f":"'Bill of Materials'!H1402","v":0},null,null,null,0,{"$f":"'Bill of Materials'!J1402","v":0},{"$f":"'Bill of Materials'!K1402","v":0},0]
[{"$f":"'Bill of Materials'!E1403+'Bill of Materials'!F1403","v":0},{"$f":"'Bill of Materials'!M1403","v":0},{"$f":"'Bill of Materials'!G1403","v":0},{"$f":"'Bill of Materials'!L1403","v":0},{"$f":"'Bill of Materials'!N1403","v":0},{"$f":"'Bill of Materials'!P1403","v":0},{"$f":"'Bill of Materials'!C1403","v":0},{"$f":"'Bill of Materials'!H1403","v":0},null,null,null,0,{"$f":"'Bill of Materials'!J1403","v":0},{"$f":"'Bill of Materials'!K1403","v":0},0]
[{"$f":"'Bill of Materials'!E1404+'Bill of Materials'!F1404","v":0},{"$f":"'Bill of Materials'!M1404","v":0},{"$f":"'Bill of Materials'!G1404","v":0},{"$f":"'Bill of Materials'!L1404","v":0},{"$f":"'Bill of Materials'!N1404","v":0},{"$f":"'Bill of Materials'!P1404","v":0},{"$f":"'Bill of Materials'!C1404","v":0},{"$f":"'Bill of Materials'!H1404","v":0},null,null,null,0,{"$f":"'Bill of Materials'!J1404","v":0},{"$f":"'Bill of Materials'!K1404","v":0},0]
[{"$f":"'Bill of Materials'!E1405+'Bill of Materials'!F1405","v":0},{"$f":"'Bill of Materials'!M1405","v":0},{"$f":"'Bill of Materials'!G1405","v":0},{"$f":"'Bill of Materials'!L1405","v":0},{"$f":"'Bill of Materials'!N1405","v":0},{"$f":"'Bill of Materials'!P1405","v":0},{"$f":"'Bill of Materials'!C1405","v":0},{"$f":"'Bill of Materials'!H1405","v":0},null,null,null,0,{"$f":"'Bill of Materials'!J1405","v":0},{"$f":"'Bill of Materials'!K1405","v":0},0]
[{"$f":"'Bill of Materials'!E1406+'Bill of Materials'!F1406","v":0},{"$f":"'Bill of Materials'!M1406","v":0},{"$f":"'Bill of Materials'!G1406","v":0},{"$f":"'Bill of Materials'!L1406","v":0},{"$f":"'Bill of Materials'!N1406","v":0},{"$f":"'Bill of Materials'!P1406","v":0},{"$f":"'Bill of Materials'!C1406","v":0},{"$f":"'Bill of Materials'!H1406","v":0},null,null,null,0,{"$f":"'Bill of Materials'!J1406","v":0},{"$f":"'Bill of Materials'!K1406","v":0},0]
[{"$f":"'Bill of Materials'!E1407+'Bill of Materials'!F1407","v":0},{"$f":"'Bill of Materials'!M1407","v":0},{"$f":"'Bill of Materials'!G1407","v":0},{"$f":"'Bill of Materials'!L1407","v":0},{"$f":"'Bill of Materials'!N1407","v":0},{"$f":"'Bill of Materials'!P1407","v":0},{"$f":"'Bill of Materials'!C1407","v":0},{"$f":"'Bill of Materials'!H1407","v":0},null,null,null,0,{"$f":"'Bill of Materials'!J1407","v":0},{"$f":"'Bill of Materials'!K1407","v":0},0]
[{"$f":"'Bill of Materials'!E1408+'Bill of Materials'!F1408","v":0},{"$f":"'Bill of Materials'!M1408","v":0},{"$f":"'Bill of Materials'!G1408","v":0},{"$f":"'Bill of Materials'!L1408","v":0},{"$f":"'Bill of Materials'!N1408","v":0},{"$f":"'Bill of Materials'!P1408","v":0},{"$f":"'Bill of Materials'!C1408","v":0},{"$f":"'Bill of Materials'!H1408","v":0},null,null,null,0,{"$f":"'Bill of Materials'!J1408","v":0},{"$f":"'Bill of Materials'!K1408","v":0},0]
[{"$f":"'Bill of Materials'!E1409+'Bill of Materials'!F1409","v":0},{"$f":"'Bill of Materials'!M1409","v":0},{"$f":"'Bill of Materials'!G1409","v":0},{"$f":"'Bill of Materials'!L1409","v":0},{"$f":"'Bill of Materials'!N1409","v":0},{"$f":"'Bill of Materials'!P1409","v":0},{"$f":"'Bill of Materials'!C1409","v":0},{"$f":"'Bill of Materials'!H1409","v":0},null,null,null,0,{"$f":"'Bill of Materials'!J1409","v":0},{"$f":"'Bill of Materials'!K1409","v":0},0]
[{"$f":"'Bill of Materials'!E1410+'Bill of Materials'!F1410","v":0},{"$f":"'Bill of Materials'!M1410","v":0},{"$f":"'Bill of Materials'!G1410","v":0},{"$f":"'Bill of Materials'!L1410","v":0},{"$f":"'Bill of Materials'!N1410","v":0},{"$f":"'Bill of Materials'!P1410","v":0},{"$f":"'Bill of Materials'!C1410","v":0},{"$f":"'Bill of Materials'!H1410","v":0},null,null,null,0,{"$f":"'Bill of Materials'!J1410","v":0},{"$f":"'Bill of Materials'!K1410","v":0},0]
[{"$f":"'Bill of Materials'!E1411+'Bill of Materials'!F1411","v":0},{"$f":"'Bill of Materials'!M1411","v":0},{"$f":"'Bill of Materials'!G1411","v":0},{"$f":"'Bill of Materials'!L1411","v":0},{"$f":"'Bill of Materials'!N1411","v":0},{"$f":"'Bill of Materials'!P1411","v":0},{"$f":"'Bill of Materials'!C1411","v":0},{"$f":"'Bill of Materials'!H1411","v":0},null,null,null,0,{"$f":"'Bill of Materials'!J1411","v":0},{"$f":"'Bill of Materials'!K1411","v":0},0]
[{"$f":"'Bill of Materials'!E1412+'Bill of Materials'!F1412","v":0},{"$f":"'Bill of Materials'!M1412","v":0},{"$f":"'Bill of Materials'!G1412","v":0},{"$f":"'Bill of Materials'!L1412","v":0},{"$f":"'Bill of Materials'!N1412","v":0},{"$f":"'Bill of Materials'!P1412","v":0},{"$f":"'Bill of Materials'!C1412","v":0},{"$f":"'Bill of Materials'!H1412","v":0},null,null,null,0,{"$f":"'Bill of Materials'!J1412","v":0},{"$f":"'Bill of Materials'!K1412","v":0},0]
[{"$f":"'Bill of Materials'!E1413+'Bill of Materials'!F1413","v":0},{"$f":"'Bill of Materials'!M1413","v":0},{"$f":"'Bill of Materials'!G1413","v":0},{"$f":"'Bill of Materials'!L1413","v":0},{"$f":"'Bill of Materials'!N1413","v":0},{"$f":"'Bill of Materials'!P1413","v":0},{"$f":"'Bill of Materials'!C1413","v":0},{"$f":"'Bill of Materials'!H1413","v":0},null,null,null,0,{"$f":"'Bill of Materials'!J1413","v":0},{"$f":"'Bill of Materials'!K1413","v":0},0]
[{"$f":"'Bill of Materials'!E1414+'Bill of Materials'!F1414","v":0},{"$f":"'Bill of Materials'!M1414","v":0},{"$f":"'Bill of Materials'!G1414","v":0},{"$f":"'Bill of Materials'!L1414","v":0},{"$f":"'Bill of Materials'!N1414","v":0},{"$f":"'Bill of Materials'!P1414","v":0},{"$f":"'Bill of Materials'!C1414","v":0},{"$f":"'Bill of Materials'!H1414","v":0},null,null,null,0,{"$f":"'Bill of Materials'!J1414","v":0},{"$f":"'Bill of Materials'!K1414","v":0},0]
[{"$f":"'Bill of Materials'!E1415+'Bill of Materials'!F1415","v":0},{"$f":"'Bill of Materials'!M1415","v":0},{"$f":"'Bill of Materials'!G1415","v":0},{"$f":"'Bill of Materials'!L1415","v":0},{"$f":"'Bill of Materials'!N1415","v":0},{"$f":"'Bill of Materials'!P1415","v":0},{"$f":"'Bill of Materials'!C1415","v":0},{"$f":"'Bill of Materials'!H1415","v":0},null,null,null,0,{"$f":"'Bill of Materials'!J1415","v":0},{"$f":"'Bill of Materials'!K1415","v":0},0]
[{"$f":"'Bill of Materials'!E1416+'Bill of Materials'!F1416","v":0},{"$f":"'Bill of Materials'!M1416","v":0},{"$f":"'Bill of Materials'!G1416","v":0},{"$f":"'Bill of Materials'!L1416","v":0},{"$f":"'Bill of Materials'!N1416","v":0},{"$f":"'Bill of Materials'!P1416","v":0},{"$f":"'Bill of Materials'!C1416","v":0},{"$f":"'Bill of Materials'!H1416","v":0},null,null,null,0,{"$f":"'Bill of Materials'!J1416","v":0},{"$f":"'Bill of Materials'!K1416","v":0},0]
[{"$f":"'Bill of Materials'!E1417+'Bill of Materials'!F1417","v":0},{"$f":"'Bill of Materials'!M1417","v":0},{"$f":"'Bill of Materials'!G1417","v":0},{"$f":"'Bill of Materials'!L1417","v":0},{"$f":"'Bill of Materials'!N1417","v":0},{"$f":"'Bill of Materials'!P1417","v":0},{"$f":"'Bill of Materials'!C1417","v":0},{"$f":"'Bill of Materials'!H1417","v":0},null,null,null,0,{"$f":"'Bill of Materials'!J1417","v":0},{"$f":"'Bill of Materials'!K1417","v":0},0]
[{"$f":"'Bill of Materials'!E1418+'Bill of Materials'!F1418","v":0},{"$f":"'Bill of Materials'!M1418","v":0},{"$f":"'Bill of Materials'!G1418","v":0},{"$f":"'Bill of Materials'!L1418","v":0},{"$f":"'Bill of Materials'!N1418","v":0},{"$f":"'Bill of Materials'!P1418","v":0},{"$f":"'Bill of Materials'!C1418","v":0},{"$f":"'Bill of Materials'!H1418","v":0},null,null,null,0,{"$f":"'Bill of Materials'!J1418","v":0},{"$f":"'Bill of Materials'!K1418","v":0},0]
[{"$f":"'Bill of Materials'!E1419+'Bill of Materials'!F1419","v":0},{"$f":"'Bill of Materials'!M1419","v":0},{"$f":"'Bill of Materials'!G1419","v":0},{"$f":"'Bill of Materials'!L1419","v":0},{"$f":"'Bill of Materials'!N1419","v":0},{"$f":"'Bill of Materials'!P1419","v":0},{"$f":"'Bill of Materials'!C1419","v":0},{"$f":"'Bill of Materials'!H1419","v":0},null,null,null,0,{"$f":"'Bill of Materials'!J1419","v":0},{"$f":"'Bill of Materials'!K1419","v":0},0]
[{"$f":"'Bill of Materials'!E1420+'Bill of Materials'!F1420","v":0},{"$f":"'Bill of Materials'!M1420","v":0},{"$f":"'Bill of Materials'!G1420","v":0},{"$f":"'Bill of Materials'!L1420","v":0},{"$f":"'Bill of Materials'!N1420","v":0},{"$f":"'Bill of Materials'!P1420","v":0},{"$f":"'Bill of Materials'!C1420","v":0},{"$f":"'Bill of Materials'!H1420","v":0},null,null,null,0,{"$f":"'Bill of Materials'!J1420","v":0},{"$f":"'Bill of Materials'!K1420","v":0},0]
[{"$f":"'Bill of Materials'!E1421+'Bill of Materials'!F1421","v":0},{"$f":"'Bill of Materials'!M1421","v":0},{"$f":"'Bill of Materials'!G1421","v":0},{"$f":"'Bill of Materials'!L1421","v":0},{"$f":"'Bill of Materials'!N1421","v":0},{"$f":"'Bill of Materials'!P1421","v":0},{"$f":"'Bill of Materials'!C1421","v":0},{"$f":"'Bill of Materials'!H1421","v":0},null,null,null,0,{"$f":"'Bill of Materials'!J1421","v":0},{"$f":"'Bill of Materials'!K1421","v":0},0]
[{"$f":"'Bill of Materials'!E1422+'Bill of Materials'!F1422","v":0},{"$f":"'Bill of Materials'!M1422","v":0},{"$f":"'Bill of Materials'!G1422","v":0},{"$f":"'Bill of Materials'!L1422","v":0},{"$f":"'Bill of Materials'!N1422","v":0},{"$f":"'Bill of Materials'!P1422","v":0},{"$f":"'Bill of Materials'!C1422","v":0},{"$f":"'Bill of Materials'!H1422","v":0},null,null,null,0,{"$f":"'Bill of Materials'!J1422","v":0},{"$f":"'Bill of Materials'!K1422","v":0},0]
[{"$f":"'Bill of Materials'!E1423+'Bill of Materials'!F1423","v":0},{"$f":"'Bill of Materials'!M1423","v":0},{"$f":"'Bill of Materials'!G1423","v":0},{"$f":"'Bill of Materials'!L1423","v":0},{"$f":"'Bill of Materials'!N1423","v":0},{"$f":"'Bill of Materials'!P1423","v":0},{"$f":"'Bill of Materials'!C1423","v":0},{"$f":"'Bill of Materials'!H1423","v":0},null,null,null,0,{"$f":"'Bill of Materials'!J1423","v":0},{"$f":"'Bill of Materials'!K1423","v":0},0]
[{"$f":"'Bill of Materials'!E1424+'Bill of Materials'!F1424","v":0},{"$f":"'Bill of Materials'!M1424","v":0},{"$f":"'Bill of Materials'!G1424","v":0},{"$f":"'Bill of Materials'!L1424","v":0},{"$f":"'Bill of Materials'!N1424","v":0},{"$f":"'Bill of Materials'!P1424","v":0},{"$f":"'Bill of Materials'!C1424","v":0},{"$f":"'Bill of Materials'!H1424","v":0},null,null,null,0,{"$f":"'Bill of Materials'!J1424","v":0},{"$f":"'Bill of Materials'!K1424","v":0},0]
[{"$f":"'Bill of Materials'!E1425+'Bill of Materials'!F1425","v":0},{"$f":"'Bill of Materials'!M1425","v":0},{"$f":"'Bill of Materials'!G1425","v":0},{"$f":"'Bill of Materials'!L1425","v":0},{"$f":"'Bill of Materials'!N1425","v":0},{"$f":"'Bill of Materials'!P1425","v":0},{"$f":"'Bill of Materials'!C1425","v":0},{"$f":"'Bill of Materials'!H1425","v":0},null,null,null,0,{"$f":"'Bill of Materials'!J1425","v":0},{"$f":"'Bill of Materials'!K1425","v":0},0]
[{"$f":"'Bill of Materials'!E1426+'Bill of Materials'!F1426","v":0},{"$f":"'Bill of Materials'!M1426","v":0},{"$f":"'Bill of Materials'!G1426","v":0},{"$f":"'Bill of Materials'!L1426","v":0},{"$f":"'Bill of Materials'!N1426","v":0},{"$f":"'Bill of Materials'!P1426","v":0},{"$f":"'Bill of Materials'!C1426","v":0},{"$f":"'Bill of Materials'!H1426","v":0},null,null,null,0,{"$f":"'Bill of Materials'!J1426","v":0},{"$f":"'Bill of Materials'!K1426","v":0},0]
[{"$f":"'Bill of Materials'!E1427+'Bill of Materials'!F1427","v":0},{"$f":"'Bill of Materials'!M1427","v":0},{"$f":"'Bill of Materials'!G1427","v":0},{"$f":"'Bill of Materials'!L1427","v":0},{"$f":"'Bill of Materials'!N1427","v":0},{"$f":"'Bill of Materials'!P1427","v":0},{"$f":"'Bill of Materials'!C1427","v":0},{"$f":"'Bill of Materials'!H1427","v":0},null,null,null,0,{"$f":"'Bill of Materials'!J1427","v":0},{"$f":"'Bill of Materials'!K1427","v":0},0]
[{"$f":"'Bill of Materials'!E1428+'Bill of Materials'!F1428","v":0},{"$f":"'Bill of Materials'!M1428","v":0},{"$f":"'Bill of Materials'!G1428","v":0},{"$f":"'Bill of Materials'!L1428","v":0},{"$f":"'Bill of Materials'!N1428","v":0},{"$f":"'Bill of Materials'!P1428","v":0},{"$f":"'Bill of Materials'!C1428","v":0},{"$f":"'Bill of Materials'!H1428","v":0},null,null,null,0,{"$f":"'Bill of Materials'!J1428","v":0},{"$f":"'Bill of Materials'!K1428","v":0},0]
[{"$f":"'Bill of Materials'!E1429+'Bill of Materials'!F1429","v":0},{"$f":"'Bill of Materials'!M1429","v":0},{"$f":"'Bill of Materials'!G1429","v":0},{"$f":"'Bill of Materials'!L1429","v":0},{"$f":"'Bill of Materials'!N1429","v":0},{"$f":"'Bill of Materials'!P1429","v":0},{"$f":"'Bill of Materials'!C1429","v":0},{"$f":"'Bill of Materials'!H1429","v":0},null,null,null,0,{"$f":"'Bill of Materials'!J1429","v":0},{"$f":"'Bill of Materials'!K1429","v":0},0]
[{"$f":"'Bill of Materials'!E1430+'Bill of Materials'!F1430","v":0},{"$f":"'Bill of Materials'!M1430","v":0},{"$f":"'Bill of Materials'!G1430","v":0},{"$f":"'Bill of Materials'!L1430","v":0},{"$f":"'Bill of Materials'!N1430","v":0},{"$f":"'Bill of Materials'!P1430","v":0},{"$f":"'Bill of Materials'!C1430","v":0},{"$f":"'Bill of Materials'!H1430","v":0},null,null,null,0,{"$f":"'Bill of Materials'!J1430","v":0},{"$f":"'Bill of Materials'!K1430","v":0},0]
[{"$f":"'Bill of Materials'!E1431+'Bill of Materials'!F1431","v":0},{"$f":"'Bill of Materials'!M1431","v":0},{"$f":"'Bill of Materials'!G1431","v":0},{"$f":"'Bill of Materials'!L1431","v":0},{"$f":"'Bill of Materials'!N1431","v":0},{"$f":"'Bill of Materials'!P1431","v":0},{"$f":"'Bill of Materials'!C1431","v":0},{"$f":"'Bill of Materials'!H1431","v":0},null,null,null,0,{"$f":"'Bill of Materials'!J1431","v":0},{"$f":"'Bill of Materials'!K1431","v":0},0]
[{"$f":"'Bill of Materials'!E1432+'Bill of Materials'!F1432","v":0},{"$f":"'Bill of Materials'!M1432","v":0},{"$f":"'Bill of Materials'!G1432","v":0},{"$f":"'Bill of Materials'!L1432","v":0},{"$f":"'Bill of Materials'!N1432","v":0},{"$f":"'Bill of Materials'!P1432","v":0},{"$f":"'Bill of Materials'!C1432","v":0},{"$f":"'Bill of Materials'!H1432","v":0},null,null,null,0,{"$f":"'Bill of Materials'!J1432","v":0},{"$f":"'Bill of Materials'!K1432","v":0},0]
[{"$f":"'Bill of Materials'!E1433+'Bill of Materials'!F1433","v":0},{"$f":"'Bill of Materials'!M1433","v":0},{"$f":"'Bill of Materials'!G1433","v":0},{"$f":"'Bill of Materials'!L1433","v":0},{"$f":"'Bill of Materials'!N1433","v":0},{"$f":"'Bill of Materials'!P1433","v":0},{"$f":"'Bill of Materials'!C1433","v":0},{"$f":"'Bill of Materials'!H1433","v":0},null,null,null,0,{"$f":"'Bill of Materials'!J1433","v":0},{"$f":"'Bill of Materials'!K1433","v":0},0]
[{"$f":"'Bill of Materials'!E1434+'Bill of Materials'!F1434","v":0},{"$f":"'Bill of Materials'!M1434","v":0},{"$f":"'Bill of Materials'!G1434","v":0},{"$f":"'Bill of Materials'!L1434","v":0},{"$f":"'Bill of Materials'!N1434","v":0},{"$f":"'Bill of Materials'!P1434","v":0},{"$f":"'Bill of Materials'!C1434","v":0},{"$f":"'Bill of Materials'!H1434","v":0},null,null,null,0,{"$f":"'Bill of Materials'!J1434","v":0},{"$f":"'Bill of Materials'!K1434","v":0},0]
[{"$f":"'Bill of Materials'!E1435+'Bill of Materials'!F1435","v":0},{"$f":"'Bill of Materials'!M1435","v":0},{"$f":"'Bill of Materials'!G1435","v":0},{"$f":"'Bill of Materials'!L1435","v":0},{"$f":"'Bill of Materials'!N1435","v":0},{"$f":"'Bill of Materials'!P1435","v":0},{"$f":"'Bill of Materials'!C1435","v":0},{"$f":"'Bill of Materials'!H1435","v":0},null,null,null,0,{"$f":"'Bill of Materials'!J1435","v":0},{"$f":"'Bill of Materials'!K1435","v":0},0]
[{"$f":"'Bill of Materials'!E1436+'Bill of Materials'!F1436","v":0},{"$f":"'Bill of Materials'!M1436","v":0},{"$f":"'Bill of Materials'!G1436","v":0},{"$f":"'Bill of Materials'!L1436","v":0},{"$f":"'Bill of Materials'!N1436","v":0},{"$f":"'Bill of Materials'!P1436","v":0},{"$f":"'Bill of Materials'!C1436","v":0},{"$f":"'Bill of Materials'!H1436","v":0},null,null,null,0,{"$f":"'Bill of Materials'!J1436","v":0},{"$f":"'Bill of Materials'!K1436","v":0},0]
[{"$f":"'Bill of Materials'!E1437+'Bill of Materials'!F1437","v":0},{"$f":"'Bill of Materials'!M1437","v":0},{"$f":"'Bill of Materials'!G1437","v":0},{"$f":"'Bill of Materials'!L1437","v":0},{"$f":"'Bill of Materials'!N1437","v":0},{"$f":"'Bill of Materials'!P1437","v":0},{"$f":"'Bill of Materials'!C1437","v":0},{"$f":"'Bill of Materials'!H1437","v":0},null,null,null,0,{"$f":"'Bill of Materials'!J1437","v":0},{"$f":"'Bill of Materials'!K1437","v":0},0]
[{"$f":"'Bill of Materials'!E1438+'Bill of Materials'!F1438","v":0},{"$f":"'Bill of Materials'!M1438","v":0},{"$f":"'Bill of Materials'!G1438","v":0},{"$f":"'Bill of Materials'!L1438","v":0},{"$f":"'Bill of Materials'!N1438","v":0},{"$f":"'Bill of Materials'!P1438","v":0},{"$f":"'Bill of Materials'!C1438","v":0},{"$f":"'Bill of Materials'!H1438","v":0},null,null,null,0,{"$f":"'Bill of Materials'!J1438","v":0},{"$f":"'Bill of Materials'!K1438","v":0},0]
[{"$f":"'Bill of Materials'!E1439+'Bill of Materials'!F1439","v":0},{"$f":"'Bill of Materials'!M1439","v":0},{"$f":"'Bill of Materials'!G1439","v":0},{"$f":"'Bill of Materials'!L1439","v":0},{"$f":"'Bill of Materials'!N1439","v":0},{"$f":"'Bill of Materials'!P1439","v":0},{"$f":"'Bill of Materials'!C1439","v":0},{"$f":"'Bill of Materials'!H1439","v":0},null,null,null,0,{"$f":"'Bill of Materials'!J1439","v":0},{"$f":"'Bill of Materials'!K1439","v":0},0]
[{"$f":"'Bill of Materials'!E1440+'Bill of Materials'!F1440","v":0},{"$f":"'Bill of Materials'!M1440","v":0},{"$f":"'Bill of Materials'!G1440","v":0},{"$f":"'Bill of Materials'!L1440","v":0},{"$f":"'Bill of Materials'!N1440","v":0},{"$f":"'Bill of Materials'!P1440","v":0},{"$f":"'Bill of Materials'!C1440","v":0},{"$f":"'Bill of Materials'!H1440","v":0},null,null,null,0,{"$f":"'Bill of Materials'!J1440","v":0},{"$f":"'Bill of Materials'!K1440","v":0},0]
[{"$f":"'Bill of Materials'!E1441+'Bill of Materials'!F1441","v":0},{"$f":"'Bill of Materials'!M1441","v":0},{"$f":"'Bill of Materials'!G1441","v":0},{"$f":"'Bill of Materials'!L1441","v":0},{"$f":"'Bill of Materials'!N1441","v":0},{"$f":"'Bill of Materials'!P1441","v":0},{"$f":"'Bill of Materials'!C1441","v":0},{"$f":"'Bill of Materials'!H1441","v":0},null,null,null,0,{"$f":"'Bill of Materials'!J1441","v":0},{"$f":"'Bill of Materials'!K1441","v":0},0]
[{"$f":"'Bill of Materials'!E1442+'Bill of Materials'!F1442","v":0},{"$f":"'Bill of Materials'!M1442","v":0},{"$f":"'Bill of Materials'!G1442","v":0},{"$f":"'Bill of Materials'!L1442","v":0},{"$f":"'Bill of Materials'!N1442","v":0},{"$f":"'Bill of Materials'!P1442","v":0},{"$f":"'Bill of Materials'!C1442","v":0},{"$f":"'Bill of Materials'!H1442","v":0},null,null,null,0,{"$f":"'Bill of Materials'!J1442","v":0},{"$f":"'Bill of Materials'!K1442","v":0},0]
[{"$f":"'Bill of Materials'!E1443+'Bill of Materials'!F1443","v":0},{"$f":"'Bill of Materials'!M1443","v":0},{"$f":"'Bill of Materials'!G1443","v":0},{"$f":"'Bill of Materials'!L1443","v":0},{"$f":"'Bill of Materials'!N1443","v":0},{"$f":"'Bill of Materials'!P1443","v":0},{"$f":"'Bill of Materials'!C1443","v":0},{"$f":"'Bill of Materials'!H1443","v":0},null,null,null,0,{"$f":"'Bill of Materials'!J1443","v":0},{"$f":"'Bill of Materials'!K1443","v":0},0]
[{"$f":"'Bill of Materials'!E1444+'Bill of Materials'!F1444","v":0},{"$f":"'Bill of Materials'!M1444","v":0},{"$f":"'Bill of Materials'!G1444","v":0},{"$f":"'Bill of Materials'!L1444","v":0},{"$f":"'Bill of Materials'!N1444","v":0},{"$f":"'Bill of Materials'!P1444","v":0},{"$f":"'Bill of Materials'!C1444","v":0},{"$f":"'Bill of Materials'!H1444","v":0},null,null,null,0,{"$f":"'Bill of Materials'!J1444","v":0},{"$f":"'Bill of Materials'!K1444","v":0},0]
[{"$f":"'Bill of Materials'!E1445+'Bill of Materials'!F1445","v":0},{"$f":"'Bill of Materials'!M1445","v":0},{"$f":"'Bill of Materials'!G1445","v":0},{"$f":"'Bill of Materials'!L1445","v":0},{"$f":"'Bill of Materials'!N1445","v":0},{"$f":"'Bill of Materials'!P1445","v":0},{"$f":"'Bill of Materials'!C1445","v":0},{"$f":"'Bill of Materials'!H1445","v":0},null,null,null,0,{"$f":"'Bill of Materials'!J1445","v":0},{"$f":"'Bill of Materials'!K1445","v":0},0]
[{"$f":"'Bill of Materials'!E1446+'Bill of Materials'!F1446","v":0},{"$f":"'Bill of Materials'!M1446","v":0},{"$f":"'Bill of Materials'!G1446","v":0},{"$f":"'Bill of Materials'!L1446","v":0},{"$f":"'Bill of Materials'!N1446","v":0},{"$f":"'Bill of Materials'!P1446","v":0},{"$f":"'Bill of Materials'!C1446","v":0},{"$f":"'Bill of Materials'!H1446","v":0},null,null,null,0,{"$f":"'Bill of Materials'!J1446","v":0},{"$f":"'Bill of Materials'!K1446","v":0},0]
[{"$f":"'Bill of Materials'!E1447+'Bill of Materials'!F1447","v":0},{"$f":"'Bill of Materials'!M1447","v":0},{"$f":"'Bill of Materials'!G1447","v":0},{"$f":"'Bill of Materials'!L1447","v":0},{"$f":"'Bill of Materials'!N1447","v":0},{"$f":"'Bill of Materials'!P1447","v":0},{"$f":"'Bill of Materials'!C1447","v":0},{"$f":"'Bill of Materials'!H1447","v":0},null,null,null,0,{"$f":"'Bill of Materials'!J1447","v":0},{"$f":"'Bill of Materials'!K1447","v":0},0]
[{"$f":"'Bill of Materials'!E1448+'Bill of Materials'!F1448","v":0},{"$f":"'Bill of Materials'!M1448","v":0},{"$f":"'Bill of Materials'!G1448","v":0},{"$f":"'Bill of Materials'!L1448","v":0},{"$f":"'Bill of Materials'!N1448","v":0},{"$f":"'Bill of Materials'!P1448","v":0},{"$f":"'Bill of Materials'!C1448","v":0},{"$f":"'Bill of Materials'!H1448","v":0},null,null,null,0,{"$f":"'Bill of Materials'!J1448","v":0},{"$f":"'Bill of Materials'!K1448","v":0},0]
[{"$f":"'Bill of Materials'!E1449+'Bill of Materials'!F1449","v":0},{"$f":"'Bill of Materials'!M1449","v":0},{"$f":"'Bill of Materials'!G1449","v":0},{"$f":"'Bill of Materials'!L1449","v":0},{"$f":"'Bill of Materials'!N1449","v":0},{"$f":"'Bill of Materials'!P1449","v":0},{"$f":"'Bill of Materials'!C1449","v":0},{"$f":"'Bill of Materials'!H1449","v":0},null,null,null,0,{"$f":"'Bill of Materials'!J1449","v":0},{"$f":"'Bill of Materials'!K1449","v":0},0]
[{"$f":"'Bill of Materials'!E1450+'Bill of Materials'!F1450","v":0},{"$f":"'Bill of Materials'!M1450","v":0},{"$f":"'Bill of Materials'!G1450","v":0},{"$f":"'Bill of Materials'!L1450","v":0},{"$f":"'Bill of Materials'!N1450","v":0},{"$f":"'Bill of Materials'!P1450","v":0},{"$f":"'Bill of Materials'!C1450","v":0},{"$f":"'Bill of Materials'!H1450","v":0},null,null,null,0,{"$f":"'Bill of Materials'!J1450","v":0},{"$f":"'Bill of Materials'!K1450","v":0},0]
[{"$f":"'Bill of Materials'!E1451+'Bill of Materials'!F1451","v":0},{"$f":"'Bill of Materials'!M1451","v":0},{"$f":"'Bill of Materials'!G1451","v":0},{"$f":"'Bill of Materials'!L1451","v":0},{"$f":"'Bill of Materials'!N1451","v":0},{"$f":"'Bill of Materials'!P1451","v":0},{"$f":"'Bill of Materials'!C1451","v":0},{"$f":"'Bill of Materials'!H1451","v":0},null,null,null,0,{"$f":"'Bill of Materials'!J1451","v":0},{"$f":"'Bill of Materials'!K1451","v":0},0]
[{"$f":"'Bill of Materials'!E1452+'Bill of Materials'!F1452","v":0},{"$f":"'Bill of Materials'!M1452","v":0},{"$f":"'Bill of Materials'!G1452","v":0},{"$f":"'Bill of Materials'!L1452","v":0},{"$f":"'Bill of Materials'!N1452","v":0},{"$f":"'Bill of Materials'!P1452","v":0},{"$f":"'Bill of Materials'!C1452","v":0},{"$f":"'Bill of Materials'!H1452","v":0},null,null,null,0,{"$f":"'Bill of Materials'!J1452","v":0},{"$f":"'Bill of Materials'!K1452","v":0},0]
[{"$f":"'Bill of Materials'!E1453+'Bill of Materials'!F1453","v":0},{"$f":"'Bill of Materials'!M1453","v":0},{"$f":"'Bill of Materials'!G1453","v":0},{"$f":"'Bill of Materials'!L1453","v":0},{"$f":"'Bill of Materials'!N1453","v":0},{"$f":"'Bill of Materials'!P1453","v":0},{"$f":"'Bill of Materials'!C1453","v":0},{"$f":"'Bill of Materials'!H1453","v":0},null,null,null,{"$f":"E1496*A1496","v":0},{"$f":"'Bill of Materials'!J1453","v":0},{"$f":"'Bill of Materials'!K1453","v":0},{"$f":"IF(A1496>0,1,0)","v":0}]
[{"$f":"'Bill of Materials'!E1454+'Bill of Materials'!F1454","v":0},{"$f":"'Bill of Materials'!M1454","v":0},{"$f":"'Bill of Materials'!G1454","v":0},{"$f":"'Bill of Materials'!L1454","v":0},{"$f":"'Bill of Materials'!N1454","v":0},{"$f":"'Bill of Materials'!P1454","v":0},{"$f":"'Bill of Materials'!C1454","v":0},{"$f":"'Bill of Materials'!H1454","v":0},null,null,null,{"$f":"E1497*A1497","v":0},{"$f":"'Bill of Materials'!J1454","v":0},{"$f":"'Bill of Materials'!K1454","v":0},{"$f":"IF(A1497>0,1,0)","v":0}]
[{"$f":"'Bill of Materials'!E1455+'Bill of Materials'!F1455","v":0},{"$f":"'Bill of Materials'!M1455","v":0},{"$f":"'Bill of Materials'!G1455","v":0},{"$f":"'Bill of Materials'!L1455","v":0},{"$f":"'Bill of Materials'!N1455","v":0},{"$f":"'Bill of Materials'!P1455","v":0},{"$f":"'Bill of Materials'!C1455","v":0},{"$f":"'Bill of Materials'!H1455","v":0},null,null,null,{"$f":"E1498*A1498","v":0},{"$f":"'Bill of Materials'!J1455","v":0},{"$f":"'Bill of Materials'!K1455","v":0},{"$f":"IF(A1498>0,1,0)","v":0}]
[{"$f":"'Bill of Materials'!E1456+'Bill of Materials'!F1456","v":0},{"$f":"'Bill of Materials'!M1456","v":0},{"$f":"'Bill of Materials'!G1456","v":0},{"$f":"'Bill of Materials'!L1456","v":0},{"$f":"'Bill of Materials'!N1456","v":0},{"$f":"'Bill of Materials'!P1456","v":0},{"$f":"'Bill of Materials'!C1456","v":0},{"$f":"'Bill of Materials'!H1456","v":0},null,null,null,{"$f":"E1499*A1499","v":0},{"$f":"'Bill of Materials'!J1456","v":0},{"$f":"'Bill of Materials'!K1456","v":0},{"$f":"IF(A1499>0,1,0)","v":0}]
[{"$f":"'Bill of Materials'!E1457+'Bill of Materials'!F1457","v":0},{"$f":"'Bill of Materials'!M1457","v":0},{"$f":"'Bill of Materials'!G1457","v":0},{"$f":"'Bill of Materials'!L1457","v":0},{"$f":"'Bill of Materials'!N1457","v":0},{"$f":"'Bill of Materials'!P1457","v":0},{"$f":"'Bill of Materials'!C1457","v":0},{"$f":"'Bill of Materials'!H1457","v":0},null,null,null,{"$f":"E1500*A1500","v":0},{"$f":"'Bill of Materials'!J1457","v":0},{"$f":"'Bill of Materials'!K1457","v":0},{"$f":"IF(A1500>0,1,0)","v":0}]

{"sheet":"PR Verification","index":10,"n_rows":21,"n_cols":54,"rows_kept":21,"cut":false,"hidden":true,"merged":[[20,46,20,55],[20,0,20,45],[19,0,19,23],[19,24,19,34],[19,35,19,45],[19,46,19,55],[15,49,15,55],[16,31,16,32],[16,38,16,39],[16,54,16,55],[18,0,18,55],[17,31,17,32],[0,0,0,55],[17,33,17,36],[17,38,17,39],[17,40,17,42],[17,54,17,55],[13,24,13,29],[13,34,13,37],[13,38,14,44],[17,1,17,2],[17,4,17,7],[17,9,17,14],[17,16,17,20],[17,21,17,22],[17,23,17,26],[17,28,17,30],[10,6,10,14],[10,15,10,18],[10,19,10,23],[10,24,10,29],[10,30,10,42],[9,6,9,14],[9,15,9,19],[9,20,9,23],[9,24,9,42],[13,54,13,55],[9,43,11,55],[12,0,12,55],[13,0,13,11],[13,14,14,23],[11,0,11,3],[11,4,11,9],[11,10,11,11],[11,12,11,13],[11,15,11,17],[11,18,11,23],[11,24,11,29],[11,30,11,42],[13,46,14,53],[7,6,7,14],[7,15,7,23],[7,24,7,26],[7,27,7,42],[8,24,8,27],[8,28,8,42],[8,6,8,14],[8,15,8,23],[6,0,6,5],[6,6,6,14],[6,15,6,17],[6,18,6,23],[5,39,5,50],[6,24,6,42],[5,51,5,55],[5,0,5,5],[5,6,5,14],[5,15,5,16],[5,17,5,23],[5,24,5,31],[5,32,5,38],[4,32,4,38],[4,39,4,50],[4,51,4,55],[3,0,3,11],[3,12,3,20],[4,0,4,5],[4,6,4,14],[4,15,4,23],[4,24,4,31],[3,21,3,27],[3,28,3,35],[1,32,2,35],[1,36,2,38],[3,36,3,55],[1,39,2,49],[1,50,1,55],[2,50,2,55],[1,0,2,4],[1,5,1,11],[1,12,1,16],[1,17,1,31],[2,5,2,11],[2,12,2,17],[2,18,2,31]]}
["2207 Information"]
["General Motors Corporation \nPurchase Request",null,null,null,null,"Select PR Type:",null,null,null,null,null,null,"1.  Rel / PO # :",null,null,null,null," ",null,null,null,null,null,null,null,null,null,null,null,null,null,null,"2. PR #:",null,null,null,"PR",null,null,-1,null,null,null,null,null,null,null,null,null,null,"3. OLIMPIC Location Code:"]
[null,null,null,null,null,1,null,null,null,null,null,null,"4. Blanket/MBO # :",null,null,null,null,null,null,null,null,null,null,null,null,null,null,null,null,null,null,null,null,null,null,null,null,null,null,null,null,null,null,null,null,null,null,null,null,null,1]
["13. REQUESTED BY:",null,null,null,null,null,null,null,null,null,null,null,"7. Date Material Required:\n    (mm/dd/yy)",null,null,null,null,null,null,null,null,null,null,null,null,null,null,null,"30. Additional Description:\n       (Optional)"]
["First Name:",null,null,null,null,null,null,null,null,null,null,null,null,null,null,"8. Deliver To:",null,null,null,null,null,null,null,null,"9. Hazardous Material:",null,null,null,null,null,null,null," 10.  HMA #  /  FID#:",null,null,null,null,null,null," 11. Tax Code:",null,null,null,null,null,null,null,null,null,null,null," 12. Supplier's Duns #:"]
["Last Name:",null,null,null,null,null,null,null,null,null,null,null,null,null,null,"Name",null,null,null,null,null,null,null,null,1,null,null,null,null,null,null,null,null,null,null,null,null,null,null,6]
["Mail Code:",null,null,null,null,null,"480-510-001 : NEC",null,null,null,null,null,null,null,null,"Address",null,null,null,null,null,null,null,null," 14. Suggested Supplier:"]
["Outside Telephone:",null,null,null,null,null,"248-577-1662",null,null,null,null,null,null,null,null,null,null,null,null,null,null,null,null,null," Name:"]
["E-Mail Address:",null,null,null,null,null,"Jodi.kethe@gm.com",null,null,null,null,null,null,null,null," ",null,null,null,null,null,null,null,null," Address:"]
["Fax:",null,null,null,null,null,"248-616-3025",null,null,null,null,null,null,null,null,"Ship Codes:",null,null,null,null,9]
["Pager/Radio:",null,null,null,null,null,null,null,null,null,null,null,null,null,null,"Other Code:",null,null,null,null,null,null,null,null," Contact Person:"]
["16.    Capital?",null,null,null,1,null,null,null,null,null," ",null," ",null,null,"Contact",null,null,null,null,null,null,null,null," Telephone No.:"]
[]
["17a. Account Classification:",null,null,null,null,null,null,null,null,null,null,null,null,null,"17b. Multiple Accounts\n(See 22a. Account Classification):",null,null,null,null,null,null,null,null,null,null,null,null,null,null,null,null,null,null,null,null,null,null,null,"18. Work Order Information:",null,null,null,null,null,null,null,"Multiple Work Orders\n(See 18c. Additional WO Area):",null,null,null,null,null,null,1]
[]
[]
[]
[null,"Group",null,null,"General Ledger",null,null,null,null,"General Ledger Suffix",null,null,null,null,null,null,"Sub account",null,null,null,null,null,null,"Corporate",null,null,null,null,"Local",null,null,null,null,"Product",null,null,null,null,null,null,"Type",null,null,null,null,null,null,"Number"]
["Generated 2207 Form Collection"]
["Supplier, 2207 Order Type and Blanket Order",null,null,null,null,null,null,null,null,null,null,null,null,null,null,null,null,null,null,null,null,null,null,null,"# Materials",null,null,null,null,null,null,null,null,null,null,"Deliver To",null,null,null,null,null,null,null,null,null,null,"Total Amount"]
["2207 Collection Grand Total Amount:",null,null,null,null,null,null,null,null,null,null,null,null,null,null,null,null,null,null,null,null,null,null,null,null,null,null,null,null,null,null,null,null,null,null,null,null,null,null,null,null,null,null,null,null,null,{"$f":"SUM(AU0:AU0)","v":{"$error":"#NAME?"}}]

{"sheet":"Current X-Mark Kits","index":11,"n_rows":21,"n_cols":6,"rows_kept":21,"cut":false,"hidden":true,"merged":[]}
[]
[]
[]
[]
[]
[]
[]
[null,"Description","Part Number","Manufacturer","Quantity","Notes"]
["INFO-4728","78 inch NEMA 1 Enclosure Clean Room Cabinet Assembly Kit (see below for components) - Material Only","XGN1-782832-0001","X-Mark",1]
[null,"78 Inch NEMA 1 Cabinet Frame","XPL-433-5717","XMark",1]
[null,"Flush Mounted Plexiglass Door","XPL-433-5722","XMark",1]
[null,"Flush Mounted Louvered Door w/Stiffeners","XPL-433-5724","XMark",1]
[null,"Combination Mounting Rails EIA/TIA Spacing","XPL-433-5555","XMark",2]
[null,"19\" - 24\" Adapter Kit (6 ea for one pair rails)","XGA-RRK2419","XMark",2]
[null,"Solid Top Panel","XPL-433-5728","XMark",1]
[null,"Solid Bottom Panel","XPL-433-5729","XMark",1]
[null,"Solid Side Panel","XPL-433-5483-KIT","XMark",2]
[null,"Vertical Power Bar, 20 AMPS, 10 Outlet, Unswitched","XGA-PS-7210-0002","XMark",2]
[null,"Leveling Feet Kit (4 ea for one enclosure)","XPL-433-5795-KIT","XMark",1]
[null,"10/32 X 3/4 Oval Head Screws (Equip Mounting)",91292,"XMark",100]
[null,"#10 Black Nylon Washer (Equip Mounting)",93091,"XMark",100]

{"sheet":"Discontinued X-Mark Kits","index":12,"n_rows":265,"n_cols":7,"rows_kept":265,"cut":false,"hidden":true,"merged":[[259,3,259,5],[132,3,132,5],[140,3,140,5],[155,3,155,5],[172,3,172,5],[191,3,191,5],[210,3,210,5],[253,3,253,5],[104,3,104,5],[57,3,57,5],[65,3,65,5],[73,3,73,5],[87,3,87,5]]}
[]
[]
[]
[]
[]
[null," "]
[" ","Description","Part Number","Manufacturer","Quantity","Notes"," "]
["INFO-2335","CPTA Terminal Box Kit (See below for components) - Material Only","Term-T12-X","Diversified",1]
[null,"Terminal Box,  8\"X6\"X3.5\"","XPL-433-5661","X-Mark",1]
[null,"Terminal Block","1492-CA1","Allen Bradley",11]
[null,"Terminal Block End Barrier","1492-N16","Allen Bradley",1]
[null,"Terminal Block End Anchor","1492-N23","Allen Bradley",2]
[null,"Terminal Block Mounting Channel","1492-N22","Allen Bradley",0.3,"Use one per four Terminal Boxes"]
[null,"Terminal Jumper, 2-Pole","1492-N3","Allen Bradley",3]
[null,"Ground Lug","D167-12","ILSCO",1]
[null,"1/2 \" Conduit Locknut","BP101","DWC",3]
[null,"3/4 \" Conduit Locknut","BP102","DWC",3]
[null,"3/4 \" Cord Grip","CGB292","Steel City",3]
[null,"5 Pole Micro Recpt Pigtail 12\"","7R5006A17A120","Brad Harrison",2]
[null,"3 Pole Mini Female 90 deg. 6'","103001A01F060","Brad Harrison",1]
[null,"5 Pole Micro Female 6'","705000D02F060","Brad Harrison",2]
[null,"9 Pole Mini Female Recpt Pigtail 12\"","3R9004A20A120","Brad Harrison",1]
[null,"9 Pole Mini Male Recpt Pigtail 12\"","3R9006A20A120","Brad Harrison",1]
[null,"3 Pole Mini Male Recpt 12\" Pigtail","1R3006A20A120","Brad Harrison",1]
[null,"9-pole 90deg. M/F Traveler 3'","339023A01F030","Brad Harrison",1]
[null,"1/2\" Snap-in Blank ","BL-1111","Steel City",1]
[null,"Door Switch Bracket ","XPL-433-5680","X-Mark",2]
[null,"1\"x1\" Squares for door switch","XPL-433-5592","X-Mark",2]
[null,"Door Switch - Micro","DTE6-2RN","Honeywell",2]
[null,"8/32 Screws","N/A","DWC",2]
[null,"10/32 Screws","N/A","DWC",2]
[]
[]
[" ","Description","Part Number","Manufacturer","Quantity","Notes"]
["INFO-2337","CPTA Electrical Junction Box Kit (See below for components) - Material Only","EJB-1-X","Diversified",1]
[null,"Electrical Junction Box,  32\"X10\"X8\"","XGN12-321008-0001","X-Mark",1]
[null,"Terminal Block","1492-CA1","Allen Bradley",35]
[null,"Terminal Block End Barrier","1492-N16","Allen Bradley",1]
[null,"Terminal Block End Anchor","1492-N23","Allen Bradley",2]
[null,"Terminal Block Mounting Channel","1492-N22","Allen Bradley",1]
[null,"Terminal Strip Standoff Mount","4595-1032-S","RAF",4]
[null,"3/4\" Rubber Grommet","G3116","RPD",4]
[null,"Adhesive Hook & Loop Tie Wrap, 10 per package","41225-SAP","Leviton",12,"Use 12 pieces per EJB"]
[null,"9\"X30\" Plexiglass Cover for EJB","9X30LEXAN","DWC",1]
[null,"1/4-20 Threaded Rod (Standoff for Plexiglass Cover)","1/420TR","DWC",6]
[null,"Relay, 4 Pole, 35 AMP","700PH400A1","Allen Bradley",2]
[null,"Universal Mounting Strip","700-MP4","Allen Bradley",0.5]
[null,"Circuit Breaker, 1 Pole, 20 AMP","1492-CB1G200","Allen Bradley",4]
[null,"Din Rail, Hi Rise","1492-DR6","Allen Bradley",0.2]
[null,"3/4\" Flexible Conduit, 7' Section","3/4STGY","DWC",2]
[null,"3/4\" Straight Fitting","4Q75","DWC",2]
[null,"3/4\" 90deg. Fitting","4Q975","DWC",2]
[null,"9 Pole Mini Female 6' Cord","309001A01F060","Brad Harrison",1]
[null,"10/32 Screws","N/A","DWC",4]
[null,"Self-Tapping Screws - 10x3/4","N/A","DWC",6]
[]
[]
["INFO-4723","78  Inch NEMA 1 Enclosure Clean Room Cabinet Assembly w/Four Fans, includes X-Mark Cabinet (INFO-4731) and Accessories - Material Only","78N1CRC4F-X"," "]
[null,"Description","Part Number","Manufacturer","Quantity","Notes"]
[null,"78 inch NEMA 1 Enclosure Clean Room Cabinet Assembly (see kit for items included)","XGN1-782832-0003","X-Mark",1]
[null,"4 Inch Fan Kits, Includes 1 ea Fan, 1 ea Cord, 2 ea Fan Guards","XGN1-FAN-0001","X-Mark",4]
[null,"Daisy Chain Fan Cord w/90 Deg Adapter, 1 per 2 Fan Kits","XGN1-FH-0002","X-Mark",2]
[null,"Copper Rack Ground Bar 19\"","gb-19/ground bar","Homaco",1]
[]
[]
["INFO-4738","78 Inch NEMA 12 Cabinet Assembly, includes X-Mark Cabinet (INFO-4780), Terminal Box Kit (INFO-2335) and accessories - Material Only","78N12CC-X"," "]
[" ","Description","Part Number","Manufacturer","Quantity","Notes"]
[null,"78  Inch NEMA 12 Enclosure Common Cabinet Assembly Kit (see kit list for items included)","XGN12-782832-0001","X-Mark",1]
[null,"Terminal Box Kit (See kit list for items included)","Term-T12","DWC",1]
[null,"Copper Rack Ground Bar 19\"","gb-19/ground bar","Homaco",1]
[" ","4\" Conduit Hub, Compression Type","TC-610","OZ Gedney",2]
[]
[]
["INFO-4741","78 Inch NEMA 12 Enclosure Type 1 Cabinet Assembly, includes X-Mark Cabinet (INFO-4780), Terminal Box Kit (INFO-2335), Elec Junction Box Kit (INFO-2337), A/C Unit (INFO-4656) & Accessories (10Kva PDU must be ordered separately) - Material Only","78N12T1-X"," "]
[" ","Description","Part Number","Manufacturer","Quantity","Notes"]
[null,"78 Inch Cabinet Assembly Kit (see kit list for items included)","XGN12-782832-0001","X-Mark",1]
[null,"Terminal Box Kit (see kit list for items included)","Term-T12","DWC",1,"Use one per four Terminal Boxes"]
[null,"Electrical Junction Box (see kit list for items included)","EJB-1","DWC",1]
[null,"Side Mount Air Conditioner w/Active Evaporator - 4000BTU","M33-0416-G010E","McLean",1]
[null,"Standard Side Panel w/Tamper Resistant Screws, w/AC Cut Out","XPL-433-5806-KIT","X-Mark",1]
[null,"Power Receptacle Panel w/Twist Lock Receptacles","XGRP-190300","X-Mark",1]
[null,"Copper Rack Ground Bar 19\"","gb-19/ground bar","Homaco",1]
[null,"Horizontal Mounted Power Bar w/8 Outlets, 20AMP","XGA-PS1906-0002","X-Mark",1]
[null,"1\" Conduit Hub, Compression Type","TC-603","OZ Gedney",2]
[null,"1\" Conduit Plug","HP100","DWC",1]
[null,"4\" Conduit Hub, Compression Type","TC-610","OZ Gedney",2]
[]
["INFO-4744","78 Inch NEMA 12 Enclosure Type 2 Cabinet Assembly, includes X-Mark Cabinet (INFO-4780), Terminal Box Kit (INFO-2335), Elec Junction Box Kit (INFO-2337), A/C Unit (INFO-4656) & Accessories (10Kva PDU must be ordered separately) - Material Only","78N12T2-X"," "]
[" ","Description","Part Number","Manufacturer","Quantity","Notes"]
[null,"78 Inch Cabinet Frame Assembly Kit (see kit list for items included)","XGN12-782832-0001","X-Mark",2]
[null,"Terminal Box Kit (see Kit list for items included)","Term-T12","DWC",2,"Use one per four Terminal Boxes"]
[null,"Electrical Junction Box (see kit list for items included)","EJB-1","DWC",1]
[null,"Side Mount Air Conditioner w/Active Evaporator - 4000BTU","M33-0416-G010E","McLean",1]
[null,"Standard Side Panel w/Tamper Resistant Screws, w/AC Cut Out","XPL-433-5806-KIT","X-Mark",1]
[null,"Power Receptacle Panel w/Twist Lock Receptacles","XGRP-190300","X-Mark",1]
[null,"Fan Panel Kit, Includes Two Separate Panels","XGFP-1600","X-Mark",1]
[null,"Copper Rack Ground Bar 19\"","gb-19/ground bar","Homaco",2]
[null,"Horizontal Mounted Power Bar w/8 Outlets, 20AMP","XGA-PS1906-0002","X-Mark",1]
[null,"1\" Conduit Hub, Compression Type","TC-603","OZ Gedney",2]
[null,"1\" Conduit Plug","HP100","DWC",1]
[null,"4\" Conduit Hub, Compression Type","TC-610","OZ Gedney",4]
[" ","Joining Kit for NEMA 12 78\" Cabinet","XGN12-782832-CGK","X-Mark",1]
[]
[null,null,null,null," "]
["INFO-4750","78 Inch NEMA 12 Enclosure SPO Warehouse Assembly, includes X-Mark Cabinet (INFO-4780), 10KVA PDU and accessories - Material Only","78N12SPO-X"," "]
[" ","Description","Part Number","Manufacturer","Quantity","Notes"]
[null,"78  Inch NEMA 12 Cabinet Assembly Kit (items included listed below)","XGN12-782832-0001","X-Mark",1]
[null,"Copper Rack Ground Bar 19\"","gb-19/ground bar","Homaco",1]
[null,"PF3000 Filter Fan, 146.6CFM","XGN12-FFK-0001","X-Mark",1]
[null,"PF3000 Exhaust Filter, Upper Cabinet","XGN12-FFF-0001","X-Mark",1]
[null,"PF3000 Filter Fan Sealing Gasket","XGN12-FFG-0001","X-Mark",1]
[null,"70 Inch Vertical Power Bar, 10 Outlets, 20 Amps, N5-20P","XGA-PS7210-0002","X-Mark",2]
[null,"Oneac 10Kva Power Distribution Unit","CCI-PP-480-10K-0K","Oneac",1]
[null,"4\" Conduit Hub, Compression Type","TC-610","OZ Gedney",2]
[" ","Conduit, Fittings & Accessories"," ","Misc.",1]
[]
[]
[" ","Description","Part Number","Manufacturer","Quantity","Notes"]
["INFO-4780","78  Inch NEMA 12 Cabinet Assembly Kit (see below for components) - Material Only","XGN12-782832-0001","X-Mark",1]
[" ","78 Inch Cabinet Frame Complete w/Bottom Plate","XPL-433-5477","XMark",1]
[" ","Surface Solid Door C/W Ground Stud & W/O Print Pocket Studs","XPL-433-5480","XMark",1]
[" ","Surface Solid Door C/W Ground Stud & Print Pocket Studs","XPL-433-5699","XMark",1]
[" ","Standard Side Panel w/Tamper Resistant Screws","XPL-433-5483-KIT","XMark",2]
[" ","Combination Mounting Rails EIA/TIA Spacing","XPL-433-5555","XMark",2]
[" ","19\" - 24\" Adapter Kit (6 ea for one pair rails)","XGA-RRK2419","XMark",2,"Use one per four Terminal Boxes"]
[" ","24\" Light Kit w/Magnetic Mounts","XGA-FLK24","XMark",1]
[" ","Leveling Feet Kit (4 ea for one enclosure)","XPL-433-5795-KIT","XMark",1]
[" ","Print Pocket - 12\"X12\"X2.5\"","XPL-433-5670-KIT","XMark",1]
[" ","Ground Strap (included with Cabinet)"," ","XMark",2]
[null,"10/32 X 3/4 Oval Head Screws (Equip Mounting)",91292,"XMark",100]
[null,"#10 Black Nylon Washer (Equip Mounting)",93091,"XMark",100]
[]
["INFO-4796","60 Inch NEMA 12 Enclosure Common Cabinet Assembly, includes X-Mark Cabinet (INFO-4823), Terminal Box Kit (INFO-2335) and accessories - Material Only","60N12CC-X"," "]
[" ","Description","Part Number","Manufacturer","Quantity","Notes"]
[null,"60 Inch Common Cabinet Frame Assembly Kit (see kit list for items included)","XGN12-602832-0001","X-Mark",1]
[null,"Terminal Box Kit (See kit list for items included)","Term-T12","DWC",1]
[null,"Copper Rack Ground Bar 19\"","gb-19/ground bar","Homaco",1]
[null,"4\" Conduit Hub, Compression Type","TC-610","OZGedney",2]
[]
[]
["INFO-4799","60 Inch NEMA 12 Enclosure Type 1 Cabinet Assembly, includes X-Mark Cabinet (INFO-4823), Terminal Box Kit (INFO-2335), Elec Junction Box Kit (INFO-2337), A/C Unit (INFO-4656) & Accessories (10Kva PDU must be ordered separately)- Material Only","60N12T1-X"," "]
[null,"Description","Part Number","Manufacturer","Quantity","Notes"]
[null,"60 Inch Common Cabinet Frame Assembly Kit (see kit list for items included)","XGN12-602832-0001","X-Mark",1]
[null,"Terminal Box Kit (see Kit list for items included)","Term-T12","DWC",1,"Use one per four Terminal Boxes"]
[null,"Electrical Junction Box (see kit list for items included)","EJB-1","DWC",1]
[null,"Side Mount Air Conditioner w/Active Evaporator - 4000BTU","M33-0416-G010E","McLean",1]
[null,"Standard Side Panel w/Tamper Resistant Screws, w/AC Cut Out","XPL-433-5805-KIT","XMark",1]
[null,"Power Receptacle Panel w/Twist Lock Receptacles","XGRP-190300","XMark",1]
[null,"Copper Rack Ground Bar 19\"","gb-19/ground bar","Homaco",1]
[null,"Horizontal Mounted Power Bar w/8 Outlets, 20AMP","XGA-PS1906-0002","XMark",1]
[null,"1\" Conduit Hub, Compression Type","TC-603","OZ Gedney",2]
[null,"1\" Conduit Plug","HP100","DWC",1]
[null,"4\" Conduit Hub, Compression Type","TC610","OZ Gedney",2]
[]
[]
["INFO-4802","60 Inch NEMA 12 Enclosure Type 2 Cabinet Assembly, includes X-Mark Cabinet (INFO-4823), Terminal Box Kit (INFO-2335), Elec Junction Box Kit (INFO-2337), A/C Unit (INFO-4656) & Accessories (10Kva PDU must be ordered separately) - Material Only","60N12T2-X"," "]
[null,"Description","Part Number","Manufacturer","Quantity","Notes"]
[null,"60 Inch Common Cabinet Frame Assembly Kit (see kit list for items included)","XGN12-602832-0001","X-Mark",2]
[null,"Terminal Box Kit (see Kit list for items included)","Term-T12","DWC",2,"Use one per four Terminal Boxes"]
[null,"Electrical Junction Box (see kit list for items included)","EJB-1","DWC",1]
[null,"Side Mount Air Conditioner w/Active Evaporator - 4000BTU","M33-0416-G010E","McLean",1]
[null,"Standard Side Panel w/Tamper Resistant Screws, w/AC Cut Out","XPL-433-5805-KIT","XMark",1]
[null,"Power Receptacle Panel w/Twist Lock Receptacles","XGRP-190300","XMark",1]
[null,"Fan Panel Kit, Includes Two Separate Panels","XGFP-1600","XMark",1]
[null,"Copper Rack Ground Bar 19\"","gb-19/ground bar","Homaco",2]
[null,"Horizontal Mounted Power Bar w/8 Outlets, 20AMP","XGA-PS1906-0002","XMark",1]
[null,"1\" Conduit Hub, Compression Type","TC-603","OZ Gedney",2]
[null,"1\" Conduit Plug","HP100","DWC",1]
[null,"4\" Conduit Hub, Compression Type","TC-610","OZ Gedney",4]
[" ","Joining Kit for NEMA 12 60\" Cabinet","XGN12-602832-CGK","XMark",1]
[]
[]
["INFO-4805","60 Inch NEMA 12 Enclosure Type 3 Cabinet Assembly, includes X-Mark Cabinet (INFO-4823), Terminal Box Kit (INFO-2335), Elec Junction Box Kit (INFO-2337), A/C Unit (INFO-4656) & Accessories (10Kva PDU must be ordered separately) - Material Only","60N12T3-X"," "]
[null,"Description","Part Number","Manufacturer","Quantity","Notes"]
[null,"60 Inch Common Cabinet Frame Assembly Kit (see kit list for items included)","XGN12-602832-0001","X-Mark",3]
[null,"Terminal Box Kit (see Kit list for items included)","Term-T12","DWC",3,"Use one per four Terminal Boxes"]
[null,"Electrical Junction Box (see kit list for items included)","EJB-1","DWC",1]
[null,"Side Mount Air Conditioner w/Active Evaporator - 4000BTU","M33-0416-G010E","McLean",1]
[null,"Standard Side Panel w/Tamper Resistant Screws, w/AC Cut Out","XPL-433-5805-KIT","XMark",1]
[null,"Power Receptacle Panel w/Twist Lock Receptacles","XGRP-190300","XMark",1]
[null,"Fan Panel Kit, Includes Two Separate Panels","XGFP-1600","XMark",1]
[null,"Copper Rack Ground Bar 19\"","gb-19/ground bar","Homaco",3]
[null,"Horizontal Mounted Power Bar w/8 Outlets, 20AMP","XGA-PS1906-0002","XMark",2]
[null,"1\" Conduit Hub, Compression Type","TC-603","OZ Gedney",2]
[null,"1\" Conduit Plug","HP100","DWC",1]
[null,"4\" Conduit Hub, Compression Type","TC-610","OZ Gedney",6]
[" ","3\" Rubber Grommet","G3319","RPD",6]
[" ","2\" Rubber Grommet","G3288","RPD",1]
[" ","Joining Kit for NEMA 12 60\" Cabinet","XGN12-602832-CGK","XMark",1]
[]
[]
["INFO-4808","60 Inch NEMA 12 Enclosure Type 4 Cabinet Assembly, includes X-Mark Cabinet (INFO-4823), Terminal Box Kit (INFO-2335), Elec Junction Box Kit (INFO-2337), A/C Unit (INFO-4656) & Accessories (10Kva PDU must be ordered separately) - Material Only","60N12T4-X"," "]
[null,"Description","Part Number","Manufacturer","Quantity","Notes"]
[null,"60 Inch Common Cabinet Frame Assembly Kit (see kit list for items included)","XGN12-602832-0001","X-Mark",4]
[null,"Terminal Box Kit (see Kit list for items included)","Term-T12","DWC",4,"Use one per four Terminal Boxes"]
[null,"Electrical Junction Box (see kit list for items included)","EJB-1","DWC",1]
[null,"Side Mount Air Conditioner w/Active Evaporator - 4000BTU","M33-0416-G010E","McLean",1]
[null,"Standard Side Panel w/Tamper Resistant Screws, w/AC Cut Out","XPL-433-5805-KIT","XMark",1]
[null,"Power Receptacle Panel w/Twist Lock Receptacles","XGRP-190300","XMark",1]
[null,"Fan Panel Kit, Includes Two Separate Panels","XGFP-1600","XMark",1]
[null,"Copper Rack Ground Bar 19\"","gb-19/ground bar","Homaco",4]
[null,"Horizontal Mounted Power Bar w/8 Outlets, 20AMP","XGA-PS1906-0002","XMark",2]
[null,"1\" Conduit Hub, Compression Type","TC-603","OZ Gedney",2]
[null,"1\" Conduit Plug","HP100","DWC",1]
[null,"4\" Conduit Hub, Compression Type","TC-610","OZ Gedney",8]
[" ","3\" Rubber Grommet","G3319","RPD",6]
[" ","2\" Rubber Grommet","G3288","RPD",1]
[" ","Joining Kit for NEMA 12 60\" Cabinet","XGN12-602832-CGK","XMark",2]
[]
[]
["INFO-4811","60 Inch NEMA 12 Enclosure Type 5 Cabinet Assembly, includes X-Mark Cabinet (INFO-4823), Terminal Box Kit (INFO-2335), Elec Junction Box Kit (INFO-2337), A/C Unit (INFO-4656) & Accessories (10Kva PDU must be ordered separately) - Material Only","60N12T5-X"," "]
[null,"Description","Part Number","Manufacturer","Quantity","Notes"]
[null,"60 Inch Common Cabinet Frame Assembly Kit (see kit list for items included)","XGN12-602832-0001","X-Mark",5]
[null,"Terminal Box Kit (see Kit list for items included)","Term-T12","DWC",5,"Use one per four Terminal Boxes"]
[null,"Electrical Junction Box (see kit list for items included)","EJB-1","DWC",1]
[null,"Side Mount Air Conditioner w/Active Evaporator - 4000BTU","M33-0416-G010E","McLean",1]
[null,"Standard Side Panel w/Tamper Resistant Screws, w/AC Cut Out","XPL-433-5805-KIT","XMark",1]
[null,"Power Receptacle Panel w/Twist Lock Receptacles","XGRP-190300","XMark",1]
[null,"Fan Panel Kit, Includes Two Separate Panels","XGFP-1600","XMark",1]
[null,"Copper Rack Ground Bar 19\"","gb-19/ground bar","Homaco",5]
[null,"Horizontal Mounted Power Bar w/8 Outlets, 20AMP","XGA-PS1906-0002","XMark",2]
[null,"1\" Conduit Hub, Compression Type","TC-603","OZ Gedney",2]
[null,"1\" Conduit Plug","HP100","DWC",1]
[null,"4\" Conduit Hub, Compression Type","TC-610","OZ Gedney",10]
[" ","3\" Rubber Grommet","G3319","RPD",6]
[" ","2\" Rubber Grommet","G3288","RPD",1]
[" ","Joining Kit for NEMA 12 60\" Cabinet","XGN12-602832-CGK","XMark",3]
[]
[]
[" ","Description","Part Number","Manufacturer","Quantity","Notes"]
["INFO-4823","60 Inch NEMA 12 Cabinet Assembly (see below for components) - Material Only","XGN12-602832-0001","X-Mark",1]
[" ","60 Inch Cabinet Frame","XPL-433-5611","X-Mark",1]
[" ","Surface Solid Door C/W Ground Stud W/O Print Pocket Studs","XPL-433-5614","XMark",1]
[" ","Surface Solid Door C/W Ground Stud & Print Pocket Studs","XPL-433-5668","XMark",1]
[" ","Standard Side Panel w/Tamper Resistant Screws","XPL-433-5618-KIT","XMark",2]
[" ","Combination Mounting Rails EIA/TIA Spacing","XPL-433-5619","XMark",2]
[" ","19\" - 24\" Adapter Kit (6 ea for one pair rails)","XGA-RRK2419","XMark",2]
[" ","24\" Light Kit w/Magnetic Mounts","XGA-FLK24","XMark",1]
[" ","Leveling Feet Kit (4 ea for one enclosure)","XPL-433-5795-KIT","XMark",1]
[" ","Print Pocket - 12\"X12\"X2.5\"","XPL-433-5670-KIT","XMark",1]
[" ","Ground Strap (included with cabinet)"," ","XMark",2,"Use one per four Terminal Boxes"]
[null,"10/32 x 3/4 Oval Head Screws (Equip Mounting)",91292,"XMark",100]
[null,"#10 Black Nylon Washer (Equip Mounting)",93091,"XMark",100]
[]
[]
["INFO-4828","78 Inch NEMA 12 Legacy Enclosure Assembly, includes X-Mark Cabinet (INFO-4780) and accessories - Material Only","S87973-LE-X"," "]
[" ","Description","Part Number","Manufacturer","Quantity","Notes"]
[null,"78  Inch NEMA 12 Cabinet Assembly Kit (see kit list for items included)","XGN12-782832-0001","X-Mark",1]
[null,"Copper Rack Ground Bar 19\"","gb-19/ground bar","Homaco",1]
[null,"Conduit, Fittings & Accessories"," ","Misc.",1]
[null,"70 Inch Vertical Power Bar, 10 Outlets, 20 Amps, N5-20P","XGA-PS7210-0002","X-Mark",2]
[]
[]
["INFO-4830","78  Inch NEMA 1 Enclosure Clean Room Cabinet Assembly No Fans, includes X-Mark Cabinet (INFO-4731) and Accessories - Material Only","78N1CRCNF-X"," "]
[null,"Description","Part Number","Manufacturer","Quantity","Notes"]
[null,"78 inch NEMA 1 Enclosure Clean Room Cabinet Assembly (see kit for items included)","XGN1-782832-0003","X-Mark",1]
[null,"Copper Rack Ground Bar 19\"","gb-19/ground bar","Homaco",1]
[]
[]
["INFO-4833","78  Inch NEMA 1 Enclosure Clean Room Cabinet Assembly w/Two Fans, includes X-Mark Cabinet (INFO-4731) and Accessories - Material Only","78N1CRC2F-X"," "]
[null,"Description","Part Number","Manufacturer","Quantity","Notes"]
[null,"78 inch NEMA 1 Enclosure Clean Room Cabinet Assembly (see kit for items included)","XGN1-782832-0003","X-Mark",1]
[null,"4 Inch Fan Kits, Includes 1 ea Fan, 1 ea Cord, 2 ea Fan Guards","XGN1-FAN-0001","X-Mark",2]
[null,"Daisy Chain Fan Cord w/90 Deg Adapter, 1 per 2 Fan Kits","XGN1-FH-0002","X-Mark",1]
[null,"Copper Rack Ground Bar 19\"","gb-19/ground bar","Homaco",1]

{"sheet":"Homoco Relay Racks","index":13,"n_rows":26,"n_cols":5,"rows_kept":26,"cut":false,"hidden":true,"merged":[]}
[]
[]
[]
[]
[]
[null," "]
["INFO-4813","84 Inch Dual Rail Equipment Rack, 19\" EIA Spacing, 45RU - Material Only","1984DER","Diversified"]
[" ","Description","Part Number","Manufacturer","Quantity"]
[null,"84 Inch Equipment Rack","19-84-T4SD-A1520","Homaco",1]
[null,"Copper Rack Ground Bar 19\"","gb-19/ground bar","Homaco",1]
[]
["NIS","84 Inch Dual Rail Equipment Rack, 19\" EIA Spacing, 45RU - Labor Only","1984DER-L","Diversified"]
[]
[]
[]
[]
[]
[]
[]
[]
["INFO-4816","84 Inch Single Rail Equipment Rack, 19\" EIA Spacing, 45RU - Material Only","1984SER","Diversified"]
[" ","Description","Part Number","Manufacturer","Quantity"]
[null,"84 Inch Equipment Rack","19-84-T2SD*B","Homaco",1]
[null,"Copper Rack Ground Bar 19\"","gb-19/ground bar","Homaco",1]
[]
["NIS","84 Inch Single Rail Equipment Rack, 19\" EIA Spacing, 45RU - Labor Only","1984SER-L","Diversified"]

{"sheet":"X-Mark Misc Boxes","index":14,"n_rows":93,"n_cols":5,"rows_kept":93,"cut":false,"hidden":true,"merged":[]}
[]
[]
[]
[]
[]
[]
[]
[]
[]
["INFO-4849","NEMA 12 Non-Powered Cisco 1200 Wireless AP Enclosure (order parch cords separately) - Material Only","N12NPW1200-X","Diversified"]
[" ","Description","Part Number","Manufacturer","Quantity"]
[null,"NEMA 12 Enclosure 14\"HX12\"WX6\"d w/Mounting Panel","XGN12-14126-0001","X-Mark",1]
[null,"8/32\" X 1/2\" Machine Screws","N/A","DWC",4]
[null,"1 Port Surface Mount Box w/CAT5e Connector","G04-5ESM1-1IP","Leviton",1]
[null,"6/32\" X 1/2\" Machine Screws","N/A","DWC",2]
[null,"Cord Grip Connector","CG75-250","Crouse-Hinds",3]
[null,"3/4\" Seal Ring","STG-75","Appleton",3]
[null,"3/4\" Lock Ring","BL75","Appleton",3]
[null,"1/2\" X 1 3/4\" Lamacoid Tags","N/A","DWC",3]
[]
["NIS","NEMA 12 Non-Powered Cisco 1200 Wireless AP Enclosure - Labor Only","N12NPW1200-L","Diversified"]
[]
[]
[]
[]
[]
[]
["INFO-4851","NEMA 12 Powered Cisco 1200 Wireless AP Enclosure (order parch cords separately) - Material Only","N12PWE1200-X","Diversified"]
[" ","Description","Part Number","Manufacturer","Quantity"]
[null,"NEMA 12 Enclosure 16\"HX14\"WX6\"D w/Mounting Panel","XGN12-16146-0001","X-Mark",1]
[null,"8/32\" X 1/2\" Machine Screws","N/A","DWC",4]
[null,"4 Port Surface Mount Box","41089-4WP","Leviton",1]
[null,"ST Fiber Adapter for SM Box","41084-SWF","Leviton",4]
[null,"Cord Grip Connector","CG75-250","Crouse-Hinds",3]
[null,"3/4\" Seal Ring","STG-75","Appleton",3]
[null,"3/4\" Lock Ring","BL75","Appleton",3]
[null,"1/2\" X 1 3/4\" Lamacoid Tags","N/A","DWC",3]
[null,"Single Gang Box w/120 VAC Duplex Outlet and Cover Plate","N/A","DWC",1]
[null,"3/4\" EMT Conduit Compression Type Connector","N/A","DWC",1]
[null,"8/32\" X 1/2\" Tamper Proof Screws","N/A","DWC",2]
[null,"3/4\" Wide Velcro Straps (Hook & Loop)","N/A","DWC",2]
[]
["NIS","NEMA 12 Powered Cisco 1200 Wireless AP Enclosure - Labor Only","N12PWE1200-L","Diversified"]
[]
[]
[]
[]
[]
[]
["INFO-4793","NEMA 12 VTC Voice Termination Cabinet (Kit includes 300pr blocks, 100pr blocks & management must be ordered separately) - Material Only","N12VTC-X","Diversified"]
[" ","Description","Part Number","Manufacturer","Quantity"]
[null,"NEMA 12 Enclosure 48\"HX32\"WX12\"D w/Mounting Panel","XGN12-483212-0001","X-Mark",1]
[null,"300 Pair 110 Kit w/C4 Connector Blocks, Blue Desg. Strips","G12-110C4-300","Leviton",1]
[null,"300 Pair 110 Kit w/C5 Connector Blocks, White Desg. Strips","G13-110C5-300","Leviton",1]
[null,"188B2 Wire Management Backboard",104405113,null,1]
[null,"18A Cable Management 110 Block Rings",104049382,null,12]
[null,"#10X3/4\" Hex Head Self Tapping Screws","N/A","N/A",25]
[]
["NIS","NEMA 12 VTC Voice Termination Cabinet - Labor  Only","N12VTC-L","Diversified"]
[]
[]
[]
[]
[]
[]
[]
[]
[]
["INFO-4719","Large NEMA 1 MC/IC SSU Fiber Slack Storage Unit - Material Only","N1MCICSSU-X","Diversified"]
[" ","Description","Part Number","Manufacturer","Quantity"]
[null,"NEMA 1 Enclosure 48\"HX36\"WX12\"D w/Mounting Panel","XGN1-483612-0001","X-Mark",1]
[null,"4 Inch J-Hook","CAT-64","Caddy",8]
[null,"1.5 Inch Innerduct Cord Connector","SHC-150","OZ Gedney",8]
[null,"#10X3/4\" Hex Head Self Tapping Screws","N/A","N/A",16]
[]
["NIS","Large NEMA 1 MC/IC SSU Fiber Slack Storage Unit - Labor Only","N1MCICSSU-L","Diversified"]
[]
[]
[]
[]
[]
[]
[]
[]
[]
["INFO-4722","Medium NEMA 1 TC/TR SSU Fiber Slack Storage Unit - Material Only","N1TCTRSSU-X","Diversified"]
[" ","Description","Part Number","Manufacturer","Quantity"]
[null,"NEMA 1 Enclosure 36\"HX30\"WX9\"D w/Mounting Panel","XGN1-36309-0001","X-Mark",1]
[null,"4 Inch J-Hook","CAT-64","Caddy",4]
[null,"1.5 Inch Innerduct Cord Connector","SHC-150","OZ Gedney",4]
[null,"#10X3/4\" Hex Head Self Tapping Screws","N/A","N/A",8]
[]
["NIS","Medium NEMA 1 TC/TR SSU Fiber Slack Storage Unit - Labor Only","N1TCTRSSU-L","Diversified"]

{"sheet":"Addresses","index":15,"n_rows":6,"n_cols":6,"rows_kept":6,"cut":false,"hidden":true,"merged":[]}
["Name","Address 1","Address 2","Contact Name","Contact Phone","Contact Fax"]
["Diversified","6250 15 Mile Rd","Sterling Heights, MI 48312","Marnie Castile","586-264-6500","586-264-6501"]
["DWC","6250 15 Mile Rd","Sterling Heights, MI 48312","Marnie Castile","586-264-6500","586-264-6501"]
["Satelite Tracking","2160 S. M-15 Hwy.","Ortonville, MI 48462","Don Cargo","248-627-3334","248-627-9340"]
["EDS","32661 Edward Street","Madison Heights, MI 48071","Sandy Watters-Bevans","248-577-1636","248-577-1707"]
["NEC","32661 Edward Street","Madison Heights, MI 48071"]

{"sheet":"Material Groups","index":16,"n_rows":60,"n_cols":2,"rows_kept":60,"cut":false,"hidden":true,"merged":[]}
["Material Groups"]
["Key (MaterialGroupsKey)","Description (MaterialGroupsDescription)"]
[1,"Network Tools and Gateways "]
[2,"Copper and Fiber Cabling Test Equipment"]
[3,"Horizontal Wiring Outlets/Faceplates"]
[4,"Workstation Outlets / Consolidation Points"]
[5,"Copper Patch Panels and Punch Down Blocks"]
[6,"Copper Wire Management"]
[7,"Horizontal Cable and Patch Cords"]
[8,"Backbone Components"]
[9,"Fiber Termination"]
[10,"Fiber Patch Cords"]
[11,"Air Blown Fiber and Accessories"]
[12,"Conventional Fiber Cable"]
[13,"Shelving Units For Racks and Cabinets"]
[16,"Computer Room Cabinets"]
[17,"Plant Floor Cabinets"]
[17.100000000000001,"Wall Mount Cabinets"]
[18,"Relay Racks and Accessories"]
[19,"Runway / Ladder Rack and Accessories"]
[19.100000000000001,"Basket Cable Tray and Accessories"]
[20,"Grounding and Bonding Material"]
[21,"Environment Control and Powering"]
[21.1,"UPSs"]
[22,"Backbone Cabling and Components"]
[23,"Multi Pair Cables"]
[24,"Protectors and Accessories"]
[25,"Video Cabling and Connectors"]
[27,"Video Electronics and Accessories"]
[28,"HP 5500 Series"]
[28.1,"HP 7500 Series"]
[28.2,"HP GBIC's"]
[28.3,"HP Miscellaneous"]
[29,"Cisco Systems Enterprise Electronics"]
[30,"Cisco Firewalls"]
[30.1,"Cisco IE 3000 Series Switches"]
[31,"Cisco Nexus Miscellaneous Electronics"]
[32,"Cisco Nexus 20XX Electronics"]
[33,"Cisco Nexus 50XX Electronics"]
[34,"Cisco Nexus 70XX Electronics"]
[35,"Cisco GBIC's"]
[36,"Cisco Catalyst 65XX"]
[37,"Power Cords"]
[38,"Cisco Catalyst 29XX Series Switches"]
[39,"Not For USE"]
[40,"Cisco Catalyst 3750 Workgroup Switches"]
[41,"Cisco Routers"]
[42,"Cisco Catalyst 4500 Series Switches"]
[43,"Not For USE"]
[44,"Maintenance"]
[45,"Cisco Wireless Controllers and Wism Blades"]
[46,"Cisco Catalyst 4900 Series Switches"]
[47,"Miscellaneous"]
[48,"Wireless Antennas + Accessories"]
[49,"Wireless Bridges and Access Points"]
[50,"Wireless Physical Infrastructure"]
[52,"Wireless Enclosures"]
[300,"LEGACY PHYSICAL (Do NOT use without proper General Motors approval.)"]
[999,"DELETIONS FROM BOM"]
[998,"CISCO DELETIONS FROM BOM"]